{"text_format":"1","workbook":"xlsx","n_sheets":15,"sheets":["Dt","General","Justifica","Integrantes","PDI","Marco","Metodología","Objetivos","Productos","Impactos","Presupuesto","Cronograma","Bibliografía","Etica","Declaración"],"not_rendered":{"charts":0,"images":1,"macros":1,"external_links":0,"defined_names":68,"comments":8,"pivot_tables":0},"unopened":[],"bounds":{"document_bytes":16777216,"sheet_cells":100000,"rows_first":2000,"rows_last":500,"rows_between":2000,"halvings":0,"cell_chars":16384,"cell_head_chars":4096},"cells_cut":0,"cells_raw":0,"read":"whole","date_system":"1900"}

{"sheet":"Dt","index":0,"n_rows":2006,"n_cols":645,"rows_kept":2006,"cut":false,"hidden":true,"merged":[]}
[null,"No eliminar Hoja … :)))",null,null,null,null,null,"Cronograma",null,null,"Integrante",null,null,null,null,null,null,null,null,null,null,null,null,null,null,null,"No","Campo ","1_Opcion","2_Opcion",null,"Avaya1719",null,null,null,null,null,null,null,null,null,"2018-03-16","https://scienti.minciencias.gov.co/ciencia-war/busquedaGrupoXInstitucionGrupos.do?codInst=76&sglPais=&sgDepartamento=&maxRows=100&grupos_tr_=true&grupos_p_=1&grupos_mr_=100",null,null,null,null,null,null,null,null,null,null,null,null,null,null,null,null,null,null,null,null,null,null,null,null,null,null,null,null,null,null,null,null,null,null,null,null,null,null,null,null,null,null,null,null,null,null,null,null,null,null,null,null,null,null,null,null,null,null,{"$f":"Productos!H5","v":"MI"}]
[null,null,null,null,null,"Tipo","Objetivo","Actividad","Mes Inicio","Duracion","CC","Nombre","Apellidos","Nivel","Mes","Horas","Rol","Vin","NBC","Cvlac","Nombre Completo",null,null,null,null,null,1,"Sedes","Bogotá",null,null,null,"Orden de Grupos en Lista",null,null,null,null,null,null,null,null,null,null,null,null,"BB",null,{"$f":"MIN(BD3:BD289)","v":4},{"$f":"MAX(BD3:BD289)","v":289},null,null,null,null,null,null,null,null,null,null,null,null,null,null,null,null,null,null,null,null,null,null,null,null,null,null,null,null,null,null,"Variables aplicadas a la Hoja de impactos",null,null,null,null,null,null,null,null,null,null,"Id","IDFinal","Clase","Subclase","Producto","Indicador","MI","INV","IMP",null,null,null,"antes"]
[null,null,"Dato",null," ",{"$f":"ROW()-3","v":0},{"$f":"CLEAN(TRIM(Objetivos!C8))","v":""},"NA","NA","NA","NA","NA","NA","NA","NA","NA","NA","NA","NA","NA","NA",null,null,null,null,null,2,"Sedes","Campus Nueva Granada",null,null,null,"NN","No. Grupo",null,null,null,"v2","v1 ","Hoja","FAC","Grupo","COD","Clas","Link","Lineas","Fila Grupo","Min","Max","FAC",null,null,"COD","Linea","Cel","Fila","E:Gp","Fi1",null,"Hora","Agente","Agente",null,null,null,"Areas Grupos UMN",null,null,null,null,null,"No","Areas","Area1","Area2",null,null,null,null,"No","Tipo","Duración","Tipo","Alcance","Linea","SRL",null,null,null,null,{"$f":"ROW()-2","v":1},101,"Productos de Generación de Nuevo Conocimiento (GNC)","Artículos en Revistas Científicas no incluidas en las listas de revistas depredadoras (ejemplo Beall-list)","Artículo en revista en Cuartil 1 (Q1) del SJR (Scimago) o del JCR (Clarivate). ","Copia del sometimiento y copia del artículo enviado a la revista",40,0,0,null,null,null,"Artículo en Cuartil 1 (Q1) del SJR (Scopus) o del JCR (Web of Science)"]
[null,null,"Titulo",{"$f":"TRIM(CLEAN(General!B9))","v":""},null,{"$f":"ROW()-3","v":1},{"$f":"CLEAN(TRIM(Objetivos!C9))","v":""},{"$f":"CLEAN(TRIM(Cronograma!C9))","v":""},{"$f":"Cronograma!D9","v":0},{"$f":"Cronograma!E9","v":0},{"$f":"INDEX(Dt_Integ,2+($F4-1)*3,(COLUMN()-9))","v":0},0,0,0,12,0,{"$f":"INDEX(Dt_Integ,3+($F4-1)*3,(COLUMN()-14))","v":"Investigador Principal"},{"$f":"INDEX(Dt_Integ,3+($F4-1)*3,(COLUMN()-14))","v":0},{"$f":"INDEX(Dt_Integ,3+($F4-1)*3,(COLUMN()-14))","v":0},{"$f":"INDEX(Dt_Integ,4+($F4-1)*3,(COLUMN()-17))","v":0},{"$f":"(TRIM(L4&\" \"&M4))","v":"0 0"},null,null,null,null,null,3,"Sedes","Medicina","No habilitada 2018",null,null,44,{"$f":"VLOOKUP($AG4,$AN$3:$AR$80,3,0)","v":"ACCEDER"},null,null,null,{"$f":"COUNTIF($AG$3:$AG$78,AN4)","v":1},{"$f":"COUNTIF($AN$4:$AN$810,AL4)","v":1},1,"CIAS","Fitoplasmas y Virus","COL0028687","B","https://scienti.colciencias.gov.co/gruplac/jsp/visualiza/visualizagr.jsp?nro=00000000008436",{"$f":"$AT$2&AV4&\":\"&$AT$2&AW4","v":"BB307:BB308"},{"$f":"ROW()","v":4},{"$f":"MINA(IF(AQ4=$BA$4:$BA$411,$BD$4:$BD$411))","v":307},{"$f":"MAXA(IF(AQ4=$BA$4:$BA$411,$BD$4:$BD$411))","v":308},{"$f":"AO4","v":"CIAS"},null,null,"COL0002896","Modelos de simulación",{"$f":"COUNTIF(BA$4:BA4,BA4)","v":1},{"$f":"ROW()","v":4},{"$f":"COUNTIF($AQ$3:$AQ$90,BA4)","v":1},{"$f":"COUNTIF($BH$20:$BH$23,BA4)","v":0},null,"19:54:00","a","a",{"$f":"DMIN(BH3:BI12,\"hora\",BJ3:BJ4)","v":0.4548611111111111},"|",null,"Biotecnología",null,null,null,null,null,1,{"$f":"BV4&\"-\"&BW4","v":"Ciencias Naturales-Matemática"},"Ciencias Naturales","Matemática",{"$f":"BT4","v":1},null,null,null,1,"Fin de la pobreza","Corto (1 año)","Político","Regional","Transferencia e intercambio de conocimiento","SRL 0 – Identificación del problema.",null,null,null,null,{"$f":"ROW()-2","v":2},102,"Productos de Generación de Nuevo Conocimiento (GNC)","Artículos en Revistas Científicas no incluidas en las listas de revistas depredadoras (ejemplo Beall-list)","Artículo en revista en Cuartil 2 (Q2) del SJR (Scimago) o del JCR (Clarivate). ","Copia del sometimiento y copia del artículo enviado a la revista",30,0,0,null,null,null,"Artículo en Cuartil 2 (Q2) del SJR (Scopus) o del JCR (Web of Science) WoS "]
[null,null,"Lider",{"$f":"TRIM(CLEAN(General!C10))","v":""},null,{"$f":"ROW()-3","v":2},{"$f":"CLEAN(TRIM(Objetivos!C10))","v":""},{"$f":"CLEAN(TRIM(Cronograma!C10))","v":""},{"$f":"Cronograma!D10","v":0},{"$f":"Cronograma!E10","v":0},"Contribuciones",0,0,0,0,0,{"$f":"INDEX(Dt_Integ,3+($F5-1)*3,(COLUMN()-14))","v":0},0,null,0,{"$f":"TRIM(L5&\" \"&M5)","v":"0 0"},null,null,null,null,null,4,"Sedes","Otros","No habilitada 2018",null,null,45,"Agua y Energía - AyE",null,null,null,1,1,2,"CIAS","Grupo de investigación en Biodiversidad y ecología de abejas silvestres","COL0031959","B","https://scienti.colciencias.gov.co/gruplac/jsp/visualiza/visualizagr.jsp?nro=00000000001366",{"$f":"$AT$2&AV5&\":\"&$AT$2&AW5","v":"BB230:BB234"},{"$f":"ROW()","v":5},{"$f":"MINA(IF(AQ5=$BA$4:$BA$411,$BD$4:$BD$411))","v":230},{"$f":"MAXA(IF(AQ5=$BA$4:$BA$411,$BD$4:$BD$411))","v":234},{"$f":"AO5","v":"CIAS"},null,null,"COL0002896","Educación y Sociedad",{"$f":"COUNTIF(BA$4:BA5,BA5)","v":2},{"$f":"ROW()","v":5},1,{"$f":"COUNTIF($BH$20:$BH$23,BA5)","v":0},null,"09:54:00","b","B",null,null,null,null,null,null,null,null,null,2,{"$f":"BV5&\"-\"&BW5","v":"Ciencias Naturales-Ciencias Físicas"},"Ciencias Naturales","Ciencias Físicas",{"$f":"BT5","v":2},null,null,null,{"$f":"CB4+1","v":2},"Hambre Cero ","Medio (2 años)","Salud","Nacional","Gestión del conocimiento para la apropiación","SRL 1 – Identificación del problema y el grado de madurez social.",null,null,null,null,3,103,"Productos de Generación de Nuevo Conocimiento (GNC)","Artículos en Revistas Científicas no incluidas en las listas de revistas depredadoras (ejemplo Beall-list)","Artículo en revista en Cuartil 3 (Q3) del SJR (Scimago) o del JCR (Clarivate) o clasificada en B en Publindex. ","Copia del sometimiento y copia del artículo enviado a la revista",20,0,0,null,null,null,"Artículo en Cuartil 3 (Q3) del SJR (Scopus) o del JCR (Web of Science) y/o Homologada B Colciencias"]
[null,null,"Sede",{"$f":"General!H12","v":0},null,3,{"$f":"CLEAN(TRIM(Objetivos!C11))","v":""},{"$f":"CLEAN(TRIM(Cronograma!C11))","v":""},{"$f":"Cronograma!D11","v":0},{"$f":"Cronograma!E11","v":0},"CvLac:",0,0,0,0,0,0,0,null,0,"0 0",null,null,null,null,null,1,"Facultad","Ciencias Básicas y Aplicadas","CIAS",null,null,10,"Agrobiología de especies vegetales promisorias de clima frío",null,null,null,1,1,3,"CIAS","MATRIX","COL0039321","B","https://scienti.colciencias.gov.co/gruplac/jsp/visualiza/visualizagr.jsp?nro=00000000002208","BB147:BB151",{"$f":"ROW()","v":6},{"$f":"MINA(IF(AQ6=$BA$4:$BA$411,$BD$4:$BD$411))","v":147},{"$f":"MAXA(IF(AQ6=$BA$4:$BA$411,$BD$4:$BD$411))","v":151},"CIAS",null,null,"COL0002896","Educación y cultura",{"$f":"COUNTIF(BA$4:BA6,BA6)","v":3},{"$f":"ROW()","v":6},1,0,null,"17:54:00","c","c",null,null,null,null,null,null,null,null,null,3,"Ciencias Naturales-Ciencias Biológicas","Ciencias Naturales","Ciencias Biológicas",3,null,null,null,3,"Salud y bienestar","Largo (3 años)","Tecnológico","Internacional","Participación ciudadana en CTeI","SRL 2 – Formulación del problema, soluciones propuestas e impacto potencial, grado de madurez social esperado; identificación de partes interesadas relevantes para el proyecto",null,null,null,null,4,104,"Productos de Generación de Nuevo Conocimiento (GNC)","Artículos en Revistas Científicas no incluidas en las listas de revistas depredadoras (ejemplo Beall-list)","Artículo en revista en Cuartil 4 (Q4) del SJR (Scopus) o del JCR (Web of Science) o clasificada en C en Publindex. ","Copia del sometimiento y copia del artículo enviado a la revista",0,0,0,null,null,null,"Artículo en Cuartil 4 (Q4) del SJR (Scopus) o del JCR (Web of Science) y/o Homologada C Colciencias"]
[null,null,"Facultad",{"$f":"General!C13","v":0},null,4,{"$f":"CLEAN(TRIM(Objetivos!C12))","v":""},{"$f":"CLEAN(TRIM(Cronograma!C12))","v":""},{"$f":"Cronograma!D12","v":0},{"$f":"Cronograma!E12","v":0},"Funcion :",0,0,0,0,0,0,0,null,0,"0 0",null,null,null,null,null,2,"Facultad","Ciencias Económicas","ECO",null,null,34,"BioethicsGroup",null,null,null,1,1,4,"CIAS","Control Biológico UMNG","COL0032278","A","https://scienti.colciencias.gov.co/gruplac/jsp/visualiza/visualizagr.jsp?nro=00000000001399","BB227:BB229",{"$f":"ROW()","v":7},{"$f":"MINA(IF(AQ7=$BA$4:$BA$411,$BD$4:$BD$411))","v":227},{"$f":"MAXA(IF(AQ7=$BA$4:$BA$411,$BD$4:$BD$411))","v":229},"CIAS",null,null,"COL0065804","Desarrollos mecatrónicos",{"$f":"COUNTIF(BA$4:BA7,BA7)","v":1},{"$f":"ROW()","v":7},1,0,null,"10:55:00","a",null,null,null,null,null,null,null,null,null,null,4,"Ciencias Naturales-Computación y Ciencias de la Información","Ciencias Naturales","Computación y Ciencias de la Información",4,null,null,null,4,"Educación de calidad"," ","Económico",null,"Comunicación del conocimiento","SRL 3 – Pruebas iniciales de las soluciones propuestas junto con partes interesadas relevantes.",null,null,null,null,5,105,"Productos de Generación de Nuevo Conocimiento (GNC)","Artículos en Revistas Científicas no incluidas en las listas de revistas depredadoras (ejemplo Beall-list)","Artículo D de acuerdo con las especificaciones del Documento conceptual de la Convocatoria 833 de 2018 de Minciencias. ","Copia del sometimiento y copia del artículo enviado a la revista",0,0,0,null,null,null,"Revista colombiana indexada en Publindex en A1 (Sí no está en SJR o JCR)"," "]
[null,null,"Programa",{"$f":"CLEAN(General!H13)","v":""},null,5,{"$f":"CLEAN(TRIM(Objetivos!C13))","v":""},{"$f":"CLEAN(TRIM(Cronograma!C13))","v":""},{"$f":"Cronograma!D13","v":0},{"$f":"Cronograma!E13","v":0},0,0,0,0,0,0,0,0,null,0,"0 0",null,null,null,null,null,3,"Facultad","Derecho","DER",null,null,67,"BioGenEtica & BioDerecho",null,null,null,1,1,5,"CIAS","Grupo de Micología y Fitopatologia ","COL0013719","A1","https://scienti.colciencias.gov.co/gruplac/jsp/visualiza/visualizagr.jsp?nro=00000000001127","BB101:BB105",{"$f":"ROW()","v":8},{"$f":"MINA(IF(AQ8=$BA$4:$BA$411,$BD$4:$BD$411))","v":101},{"$f":"MAXA(IF(AQ8=$BA$4:$BA$411,$BD$4:$BD$411))","v":105},"CIAS",null,null,"COL0065804","Energías Renovables",{"$f":"COUNTIF(BA$4:BA8,BA8)","v":2},{"$f":"ROW()","v":8},1,null,null,"11:45:00","a",null,null,null,null,null,null,null,null,null,null,5,"Ciencias Naturales-Ciencias Químicas","Ciencias Naturales","Ciencias Químicas",5,null,null,null,5,"Igualdad de genero"," ","Legal",null,null,"SRL 4 – Problema validado por medio de pruebas piloto en un entorno relevantes para justificar el impacto propuesto y el grado de madurez social",null,null,null,null,6,109,"Productos de Generación de Nuevo Conocimiento (GNC)","Libro de Investigación","Libro resultado de investigación en colección indexada en Scopus Books o indizado en el Book Citation Index (Clarivate)","Copia del sometimiento  ante editorial y copia completa del proyecto del libro.",0,0,0,null,null,null,"Revista colombiana indexada en publindex en A2 (sino está en SJR o JCR)"," "]
[null,null,"Correo",{"$f":"TRIM(CLEAN(General!C11))","v":""},null,6,{"$f":"CLEAN(TRIM(Objetivos!C14))","v":""},{"$f":"CLEAN(TRIM(Cronograma!C14))","v":""},{"$f":"Cronograma!D14","v":0},{"$f":"Cronograma!E14","v":0},"Contribuciones",0,0,0,0,0,0,0,null,0,"0 0",null,null,null,null,null,4,"Facultad","Educación y Humanidades","HUM",null,null,53,"BONE",null,null,null,1,1,6,"CIAS","Fitopatologia molecular","COL0086179","C","https://scienti.colciencias.gov.co/gruplac/jsp/visualiza/visualizagr.jsp?nro=00000000007907","BB18:BB20",{"$f":"ROW()","v":9},{"$f":"MINA(IF(AQ9=$BA$4:$BA$411,$BD$4:$BD$411))","v":18},{"$f":"MAXA(IF(AQ9=$BA$4:$BA$411,$BD$4:$BD$411))","v":20},"CIAS",null,null,"COL0065804","Materiales y Procesos de Manufactura",{"$f":"COUNTIF(BA$4:BA9,BA9)","v":3},{"$f":"ROW()","v":9},1,0,null,"15:12:00","b",null,null,null,null,null,null,null,null,null,null,6,"Ciencias Naturales-Otras Ciencias Naturales","Ciencias Naturales","Otras Ciencias Naturales",6,null,null,null,6,"Agua limpia y saneamiento"," ","Cultural",null,null,"SRL 5 – Soluciones propuestas validadas, ahora por las partes interesadas importantes en el área.",null,null,null,null,7,110,"Productos de Generación de Nuevo Conocimiento (GNC)","Libro de Investigación","Libro resultado de investigación sometido por la Editorial Neogranadina o libro resultado de investigación que cumpla con lo especificado por Minciencias en el Documento Conceptual de la Convocatoria 833 de 2018.","Copia del sometimiento  ante editorial y copia completa del proyecto del libro.",0,0,0,null,null,null,"Revista colombiana indexada en publindex en B (sino está en SJR o JCR)"," "]
[null,null,"Fase",{"$f":"General!F12","v":"No"},null,7,{"$f":"CLEAN(TRIM(Objetivos!C15))","v":""},{"$f":"CLEAN(TRIM(Cronograma!C15))","v":""},{"$f":"Cronograma!D15","v":0},{"$f":"Cronograma!E15","v":0},"CvLac:",0,0,0,0,0,0,0,null,0,"0 0",null,null,null,null,null,5,"Facultad","Estudios a Distancia","DIS",null,null,52,"CATCH",null,null,null,1,1,7,"CIAS","Estadística, Control y Optimización","COL0136423","A","https://scienti.colciencias.gov.co/gruplac/jsp/visualiza/visualizagr.jsp?nro=00000000013845","BB178:BB182",{"$f":"ROW()","v":10},{"$f":"MINA(IF(AQ10=$BA$4:$BA$411,$BD$4:$BD$411))","v":178},{"$f":"MAXA(IF(AQ10=$BA$4:$BA$411,$BD$4:$BD$411))","v":182},"CIAS",null,null,"COL0036025","Biomecatronica",{"$f":"COUNTIF(BA$4:BA10,BA10)","v":1},{"$f":"ROW()","v":10},1,0,null,"23:12:00","b",null,null,null,null,null,null,null,null,null,null,7,"Ciencias Naturales-Ciencias de la Tierra y Medioambientales","Ciencias Naturales","Ciencias de la Tierra y Medioambientales",7,null,null,null,7,"Energía asequible y no contaminante"," ","Social ",null,null,"SRL 6 – Soluciones demostradas en un entorno relevante, en cooperación con las partes interasadas relevantes para obtener retroalimentación inicial subre impactos potenciales",null,null,null,null,8,111,"Productos de Generación de Nuevo Conocimiento (GNC)","Capítulo de Libro de Investigación","Capítulo incluido en libro resultado de investigación dentro de una colección indexada Scopus Books o indizado en el Book Citation Index (Clarivate)","Copia del sometimiento ante editorial Neogranadina o editorial externa (copia del proyecto editorial de libro en el que se incluiría el capítulo y del aval de la Editorial sobre ese proyecto) y copia del capítulo de libro enviado a la editorial",0,0,0,null,null,null,"Revista colombiana indexada en publindex en C (sino está en SJR o JCR)"," "]
[null,null,"Finan Antes",{"$f":"General!I12","v":"No"},null,8,{"$f":"CLEAN(TRIM(Objetivos!C16))","v":""},{"$f":"CLEAN(TRIM(Cronograma!C16))","v":""},{"$f":"Cronograma!D16","v":0},{"$f":"Cronograma!E16","v":0},"Funcion :",0,0,0,0,0,0,0,null,0,"0 0",null,null,null,null,null,6,"Facultad","Ingeniería","ING",null,null,59,"Grupo de Investigación en Cirugía pediátrica y especialidades CIPEMIL",null,null,null,1,1,8,"CIAS","Grupo de Ecotoxicología, Evolución, Medio ambiente y conservación (E = mc2)","COL0038084","C","https://scienti.colciencias.gov.co/gruplac/jsp/visualiza/visualizagr.jsp?nro=00000000002068","BB250:BB254",{"$f":"ROW()","v":11},{"$f":"MINA(IF(AQ11=$BA$4:$BA$411,$BD$4:$BD$411))","v":250},{"$f":"MAXA(IF(AQ11=$BA$4:$BA$411,$BD$4:$BD$411))","v":254},"CIAS",null,null,"COL0036025","Optimización y Control de sistemas dinámicos",{"$f":"COUNTIF(BA$4:BA11,BA11)","v":2},{"$f":"ROW()","v":11},1,0,null,"06:20:00","c",null,null,null,null,null,null,null,null,null,null,8,"Ciencias Médicas y de la Salud-Medicina Clínica","Ciencias Médicas y de la Salud","Medicina Clínica",8,null,null,null,8,"Trabajo decente y crecimiento económico"," ","Ambiental",null,null,"SRL 7 – Refinamiento del proyecto y/o solución y, de ser necesario, aplicación de nuevas pruebas en el entorno relevante, con partes interesadas relevantes.",null,null,null,null,9,112,"Productos de Generación de Nuevo Conocimiento (GNC)","Capítulo de Libro de Investigación","Capítulo en libro de la Editorial Neogranadina o un capítulo en libro resultado de investigación que cumpla con lo especificado por Minciencias en el Documento Conceptual de la Convocatoria 833 de 2018.","Copia del sometimiento ante editorial Neogranadina o editorial externa (copia del proyecto editorial de libro en el que se incluiría el capítulo y del aval de la Editorial sobre ese proyecto) y copia del capítulo de libro enviado a la editorial",0,0,0,null,null,null,"Libro de investigación en colección indexada en Scopus o indexado en el Book Citation Index BCI (WoS) "," "]
[null,null,"Resumen",{"$f":"CLEAN(TRIM(Justifica!C7&\" \"&Justifica!C8))","v":""},null,9,{"$f":"CLEAN(TRIM(Objetivos!C17))","v":""},{"$f":"CLEAN(TRIM(Cronograma!C17))","v":""},{"$f":"Cronograma!D17","v":0},{"$f":"Cronograma!E17","v":0},0,0,0,0,0,0,0,0,null,0,"0 0",null,null,null,null,null,7,"Facultad","Medicina y Ciencias de la Salud","MED",null,null,33,"Cultura y Desarrollo Humano",null,null,null,1,1,9,"CIAS","Grupo de Investigación en Hidrobiología Aplicada (HIDROBIA)","COL0048492","C","https://scienti.colciencias.gov.co/gruplac/jsp/visualiza/visualizagr.jsp?nro=00000000005664","BB124:BB128",{"$f":"ROW()","v":12},{"$f":"MINA(IF(AQ12=$BA$4:$BA$411,$BD$4:$BD$411))","v":124},{"$f":"MAXA(IF(AQ12=$BA$4:$BA$411,$BD$4:$BD$411))","v":128},"CIAS",null,null,"COL0036025","Robótica híbrida",{"$f":"COUNTIF(BA$4:BA12,BA12)","v":3},{"$f":"ROW()","v":12},1,0,null,"12:30:00","a",null,null,null,null,null,null,null,null,null,null,9,"Ciencias Médicas y de la Salud-Biotecnología en Salud","Ciencias Médicas y de la Salud","Biotecnología en Salud",9,null,null,null,9,"Industria, innovación e infraestructura"," ",null,null,null,"SRL 8 – Soluciones propuestas, así como un plan para la adaptación social completo y certificado.",null,null,null,null,10,113,"Productos de Generación de Nuevo Conocimiento (GNC)","Variedad vegetal o nueva raza animal","Publicación en gaceta de variedades vegetales protegidas o equivalente con estado de admisión respaldada por un concepto favorable de potencial de mercado o con valor real o potencial de contribución a la seguridad alimentaria.","Documento en el que se describa la variedad vegetal obtenida con nombre, tipo de ciclo (corto o largo), fecha, cód. de trazabilidad  y autores debidamente registrados según  Res. De vinculación vigente. Publicación en gaceta o equivalente, con estado de admisión de la solicitud de certificado de obtentor del ICA",0,0,0,null,null,null,"Libro de investigación  publicado por la Editorial Neogranadina o que cumple con los parámetros de Colciencias para que sea reconocido como producto de Generación de Nuevo Conocimiento"," "]
[null,null,"Total Vicen",{"$f":"General!G52","v":0},null,10,{"$f":"CLEAN(TRIM(Objetivos!C18))","v":""},{"$f":"CLEAN(TRIM(Cronograma!C18))","v":""},{"$f":"Cronograma!D18","v":0},{"$f":"Cronograma!E18","v":0},"Contribuciones",0,0,0,0,0,0,0,null,0,"0 0",null,null,null,null,null,8,"Facultad","Relaciones Internacionales, Estrategia y Seguridad","EES",null,null,41,"DAVINCI",null,null,null,1,1,10,"CIAS","Agrobiología de especies vegetales promisorias de clima frío","COL0077814","NR","https://scienti.colciencias.gov.co/gruplac/jsp/visualiza/visualizagr.jsp?nro=00000000006560","BB306:BB306",{"$f":"ROW()","v":13},{"$f":"MINA(IF(AQ13=$BA$4:$BA$411,$BD$4:$BD$411))","v":306},{"$f":"MAXA(IF(AQ13=$BA$4:$BA$411,$BD$4:$BD$411))","v":306},"CIAS",null,null,"COL0036025","Simulacion y Realidad Virtual",{"$f":"COUNTIF(BA$4:BA13,BA13)","v":4},{"$f":"ROW()","v":13},1,0,null,null,null,null,null,null,null,null,null,null,null,null,null,10,"Ciencias Médicas y de la Salud-Otras Ciencias Médicas","Ciencias Médicas y de la Salud","Otras Ciencias Médicas",10,null,null,null,10,"Reducción de las desigualdades"," ",null,null,null,"SRL 9 – Soluciones reales del proyecto, probadas en un entorno relevante",null,null,null,null,11,114,"Productos de Generación de Nuevo Conocimiento (GNC)","Nota científica","Nota Científica Impresa o electrónica sometida en revista indexada del SJR (Scimago) o del JCR (Clarivate) que cumpla con lo especificado por Minciencias en el Documento Conceptual de la Convocatoria 833 de 2018","Copia del sometimiento y copia de la nota científica enviada a la revista",0,0,0,null,null,null,"Capítulo incluido en libro dentro de una colección indexada en Scopus o libro indexado en el Book Citation Index (WoS) "," "]
[null,null,"Total Pts",{"$f":"General!D52","v":0},null,11,{"$f":"CLEAN(TRIM(Objetivos!C19))","v":""},{"$f":"CLEAN(TRIM(Cronograma!C19))","v":""},{"$f":"Cronograma!D19","v":0},{"$f":"Cronograma!E19","v":0},null,null,null,null,null,null,null,null,null,null,null,null,null,null,null,null,1,"Programa","CIAS","Biología Aplicada",2,null,4,"Control Biológico UMNG",null,null,null,1,1,11,"CIAS","Grupo Integrado de Investigaciones en Química Bioorgánica (InQuiBio)","COL0077707","A1","https://scienti.colciencias.gov.co/gruplac/jsp/visualiza/visualizagr.jsp?nro=00000000008358","BB260:BB268",{"$f":"ROW()","v":14},{"$f":"MINA(IF(AQ14=$BA$4:$BA$411,$BD$4:$BD$411))","v":260},{"$f":"MAXA(IF(AQ14=$BA$4:$BA$411,$BD$4:$BD$411))","v":268},"CIAS",null,null,"COL0031824","Bioética Global y Complejidad",{"$f":"COUNTIF(BA$4:BA14,BA14)","v":1},{"$f":"ROW()","v":14},1,0,null,null,null,null,null,null,null,null,null,null,null,null,null,11,"Ciencias Médicas y de la Salud-Medicina Básica","Ciencias Médicas y de la Salud","Medicina Básica",11,null,null,null,11,"Ciudades y comunidades sostenibles"," ",null,null,null,null,null,null,null,null,12,115,"Productos de Generación de Nuevo Conocimiento (GNC)","Patente Solitud Nacional Invencion","Publicación de la solicitud, por la Oficina Nacional Competente, de patente de invención vía fase nacional respaldada por un concepto favorable de vigilancia tecnológica efectuado por la División de Desarrollo Tecnológico e Innovación y soportada por un prototipo validado que se encuentre en un nivel igual o superior a TRL 4","Concepto favorable de vigilancia tecnológica de la DDTI, y publicación en la gaceta de la Superintendencia de Industria  Comercio.",0,0,0,null,null,null,"Capítulo en libro de la Editorial Neogranadina o en libro que cumple con los parámetros de Colciencias para que sea reconocido como producto de Generación de Nuevo Conocimiento"," "]
[null,null,null,null,null,12,{"$f":"CLEAN(TRIM(Objetivos!C20))","v":""},{"$f":"CLEAN(TRIM(Cronograma!C20))","v":""},{"$f":"Cronograma!D20","v":0},{"$f":"Cronograma!E20","v":0},null,"Datos de Grupos de  Investigación  Integrantes",null,null,null,null,null,null,null,null,null,null,null,null,null,null,2,"Programa","CIAS","Tecnologia en Gestion y Produccion horticola",3,null,71,"DIVERSITAS",null,null,null,1,1,12,"CIAS","Grupo de investigación en química ambiental y tecnologías limpias - QUATELI","COL0110436","C","https://scienti.colciencias.gov.co/gruplac/jsp/visualiza/visualizagr.jsp?nro=00000000011141","BB87:BB90",{"$f":"ROW()","v":15},{"$f":"MINA(IF(AQ15=$BA$4:$BA$411,$BD$4:$BD$411))","v":87},{"$f":"MAXA(IF(AQ15=$BA$4:$BA$411,$BD$4:$BD$411))","v":90},"CIAS",null,null,"COL0031824","Bioética Médica y salud pública",{"$f":"COUNTIF(BA$4:BA15,BA15)","v":2},{"$f":"ROW()","v":15},1,0,null,null,null,null,null,null,null,null,null,null,null,null,null,12,"Ciencias Médicas y de la Salud-Ciencias de la Salud","Ciencias Médicas y de la Salud","Ciencias de la Salud",12,null,null,null,12,"Producción y consumo responsables"," ",null,null,null,null,null,null,null,null,13,116,"Productos de Generación de Nuevo Conocimiento (GNC)","Patente Solitud PCT Invencion","Publicación de la solicitud, por la Oficina Nacional Competente, de patente de invención vía PCT respaldada por un concepto favorable de vigilancia tecnológica efectuado por la División de Desarrollo Tecnológico e Innovación y soportada por un prototipo validado que se encuentre en un nivel igual o superior a TRL 4","Concepto favorable de vigilancia tecnológica de la DDTI, y publicación en la gaceta de la Superintendencia de Industria  Comercio.",0,0,0,null,null,null,"Publicación en gaceta de variedades vegetales protegidas o equivalente con estado de admisión"," "]
[null,null,null,null,null,13,{"$f":"CLEAN(TRIM(Objetivos!C21))","v":""},{"$f":"CLEAN(TRIM(Cronograma!C21))","v":""},{"$f":"Cronograma!D21","v":0},{"$f":"Cronograma!E21","v":0},null,"Fila\\ Columna","D",null,null,null,null,null,null,null,null,null,null,null,null,null,3,"Programa","CIAS","Maestría en Biología Aplicada",33,null,13,"ECMU (Evaluacion en Competencias y Matemáticas Universitarias)",null,null,null,1,1,13,"CIAS","ECMU (Evaluacion en Competencias y Matemáticas Universitarias)","COL0110329","C","https://scienti.colciencias.gov.co/gruplac/jsp/visualiza/visualizagr.jsp?nro=00000000011130","BB247:BB249",{"$f":"ROW()","v":16},{"$f":"MINA(IF(AQ16=$BA$4:$BA$411,$BD$4:$BD$411))","v":247},{"$f":"MAXA(IF(AQ16=$BA$4:$BA$411,$BD$4:$BD$411))","v":249},"CIAS",null,null,"COL0031824","Bioética, Biopolítica y Biojurídica",{"$f":"COUNTIF(BA$4:BA16,BA16)","v":3},{"$f":"ROW()","v":16},1,0,null,null,null,null,null,null,null,null,null,null,null,null,null,13,"Ciencias Sociales-Otras Ciencias Sociales","Ciencias Sociales","Otras Ciencias Sociales",13,null,null,null,13,"Acción por el clima"," ",null,null,null,null,null,null,null,null,14,117,"Productos de Generación de Nuevo Conocimiento (GNC)","Patente Solitud Nacional Utilidad","Publicación de la solicitud, por la Oficina Nacional Competente, de modelo de utilidad vía fase nacional respaldada por un concepto favorable de vigilancia tecnológica efectuado por la División de Desarrollo Tecnológico e Innovación y soportada por un prototipo validado que se encuentre en un nivel igual o superior a TRL 4","Concepto favorable de vigilancia tecnológica de la DDTI, y publicación en la gaceta de la Superintendencia de Industria  Comercio.",0,0,0,null,null,null,"Nota Científica Impresa o electrónica sometida en revista indexada del SJR (Scopus) o del JCR (Web of Science) que cumpla con los parámetros de Colciencias para que sea reconocido como producto de Generación de Nuevo Conocimiento"," "]
[null,null,null,null,null,14,{"$f":"CLEAN(TRIM(Objetivos!C22))","v":""},{"$f":"CLEAN(TRIM(Cronograma!C22))","v":""},{"$f":"Cronograma!D22","v":0},{"$f":"Cronograma!E22","v":0},null,"General","Nombre","Cod","Clas","Fac","Linea","Cvlac","Ref",null,null,null,null,null,null,null,3,"Programa","CIAS","Departamento de Matemáticas",34,null,66,"EDUMECIS",null,null,null,1,1,14,"CIAS","Grupo de Docencia e Investigación en Física","COL0138796","NR","https://scienti.colciencias.gov.co/gruplac/jsp/visualiza/visualizagr.jsp?nro=00000000014082",{"$f":"$AT$2&AV17&\":\"&$AT$2&AW17","v":"BB222:BB226"},{"$f":"ROW()","v":17},{"$f":"MINA(IF(AQ17=$BA$4:$BA$411,$BD$4:$BD$411))","v":222},{"$f":"MAXA(IF(AQ17=$BA$4:$BA$411,$BD$4:$BD$411))","v":226},{"$f":"AO17","v":"CIAS"},null,null,"COL0031824","Bioética, educación y cultura",{"$f":"COUNTIF(BA$4:BA17,BA17)","v":4},{"$f":"ROW()","v":17},1,0,null,null,null,null,null,null,null,null,null,null,null,null,null,14,"Ciencias Sociales-Psicología","Ciencias Sociales","Psicología",14,null,null,null,14,"Vida submarina"," ",null,null,null,null,null,null,null,null,15,118,"Productos de Generación de Nuevo Conocimiento (GNC)","Patente Solitud PCT Utilidad","Publicación de la solicitud, por la Oficina Nacional Competente, de modelo de utilidad vía PCT respaldada por un concepto favorable de vigilancia tecnológica efectuado por la División de Desarrollo Tecnológico e Innovación y soportada por un prototipo validado que se encuentre en un nivel igual o superior a TRL 4","Concepto favorable de vigilancia tecnológica de la DDTI, y publicación en la gaceta de la Superintendencia de Industria  Comercio.",0,0,0,null,null,null,"Software aprobado para registro ante la DNDA, de acuerdo con procedimientos establecidos por la UMNG."," "]
[null,null,null,null,null,15,{"$f":"CLEAN(TRIM(Objetivos!C23))","v":""},{"$f":"CLEAN(TRIM(Cronograma!C23))","v":""},{"$f":"Cronograma!D23","v":0},{"$f":"Cronograma!E23","v":0},null,1,{"$f":"General!C18","v":0},{"$f":"General!L18","v":0},{"$f":"General!I19","v":""},null,{"$f":"General!C20","v":0},{"$f":"General!C19","v":0},{"$f":"General!L20","v":0},null,null,null,null,null,null,null,3,"Programa","CIAS","Departamento de Física",35,null,48,"Energia alternativa, Centro Multidisciplinario de Investigación",null,null,null,1,1,71,"CIAS","DIVERSITAS","COL0178619","C","https://scienti.colciencias.gov.co/gruplac/jsp/visualiza/visualizagr.jsp?nro=00000000018063",{"$f":"$AT$2&AV18&\":\"&$AT$2&AW18","v":"BB281:BB286"},{"$f":"ROW()","v":18},{"$f":"MINA(IF(AQ18=$BA$4:$BA$411,$BD$4:$BD$411))","v":281},{"$f":"MAXA(IF(AQ18=$BA$4:$BA$411,$BD$4:$BD$411))","v":286},{"$f":"AO18","v":"CIAS"},null,null,"COL0086179","Búsqueda de marcadores genéticos y estudio de genes ligados a la resistencia a Fusarium en clavel.",{"$f":"COUNTIF(BA$4:BA18,BA18)","v":1},{"$f":"ROW()","v":18},1,0,null,"F Gp",null,null,null,null,null,null,null,null,null,null,null,15,"Ciencias Sociales-Economía y Negocios","Ciencias Sociales","Economía y Negocios",15,null,null,null,15,"Vida de ecosistemas terrestres"," ",null,null,null,null,null,null,null,null,16,201,"Productos resultado de actividades de desarrollo tecnológico e innovación (DTI)","Software","Software aprobado para registro ante la DNDA, de acuerdo con procedimientos establecidos por la UMNG.","Soporte logico registre el aval para el software que incluya : Manual técnico,  Manual de usuario todos con la inclucion código  de trazabilidad, ",0,0,0,null,null,null,"Esquema de trazado de circuito integrado registrado ante la SIC a través de acto administrativo que resuelva la concesión favorable."," "]
[null,null,null,null,null,16,null,{"$f":"CLEAN(TRIM(Cronograma!C24))","v":""},{"$f":"Cronograma!D24","v":0},{"$f":"Cronograma!E24","v":0},null,2,{"$f":"General!D22","v":0},{"$f":"General!L22","v":0},{"$f":"General!I23","v":""},{"$f":"General!C22","v":0},{"$f":"General!C24","v":0},{"$f":"General!C23","v":""},{"$f":"General!L24","v":0},null,null,null,null,null,null,null,3,"Programa","CIAS","Departamento de Química",36,null,64,"Epidemiología molecular de enfermedades endocrinas",null,null,null,1,1,72,"CIAS","Nanofab","COL0179618","C","https://scienti.colciencias.gov.co/gruplac/jsp/visualiza/visualizagr.jsp?nro=00000000018163",{"$f":"$AT$2&AV19&\":\"&$AT$2&AW19","v":"BB118:BB123"},{"$f":"ROW()","v":19},{"$f":"MINA(IF(AQ19=$BA$4:$BA$411,$BD$4:$BD$411))","v":118},{"$f":"MAXA(IF(AQ19=$BA$4:$BA$411,$BD$4:$BD$411))","v":123},{"$f":"AO19","v":"CIAS"},null,null,"COL0086179","Producción de nuevas variedades de clavel resistentes a parasitos vasculares.",{"$f":"COUNTIF(BA$4:BA19,BA19)","v":2},{"$f":"ROW()","v":19},1,0,null,"ECO",null,null,null,null,null,null,null,null,null,null,null,16,"Ciencias Sociales-Derecho","Ciencias Sociales","Derecho",16,null,null,null,16,"Paz, justicia e instituciones sólidas"," ",null,null,null,null,null,null,null,null,17,202,"Productos resultado de actividades de desarrollo tecnológico e innovación (DTI)","Esquema trazado","Esquema de trazado de circuito integrado registrado ante la SIC a través de acto administrativo que resuelva la concesión favorable.","Documento en el que se describa el esquema de trazado de circuito integrado obtenido con nombre, autor, fecha, cód. de trazabilidad  y autores debidamente registrados según  Res. vigente, Acto administrativo de la Superintendencia de Industria y Comercio que resuelva la concesión favorable.",0,0,0,null,null,null,"Regulaciones, normas, reglamentos o legislaciones implementadas internacionalmente, acorde con parámetros de Colciencias"," "]
[null,null,null,null,null,17,null,{"$f":"CLEAN(TRIM(Cronograma!C25))","v":""},{"$f":"Cronograma!D25","v":0},{"$f":"Cronograma!E25","v":0},null,3,{"$f":"General!D26","v":0},{"$f":"General!L26","v":0},{"$f":"General!I27","v":""},{"$f":"General!C26","v":0},{"$f":"General!C28","v":0},{"$f":"General!C27","v":""},{"$f":"General!L28","v":0},null,null,null,null,null,null,null,3,"Programa","CIAS","Doctorado en Ciencias Aplicadas",33,null,70,"Epidemiología y Salud Colectiva ",null,null,null,1,1,77,"CIAS","ICAAO: Inteligencia Computacional, Aprendizaje Automático y Optimización","COL0169362","C","https://scienti.colciencias.gov.co/gruplac/jsp/visualiza/visualizagr.jsp?nro=00000000017140",{"$f":"$AT$2&AV20&\":\"&$AT$2&AW20","v":"BB329:BB332"},{"$f":"ROW()","v":20},{"$f":"MINA(IF(AQ20=$BA$4:$BA$411,$BD$4:$BD$411))","v":329},{"$f":"MAXA(IF(AQ20=$BA$4:$BA$411,$BD$4:$BD$411))","v":332},{"$f":"AO20","v":"CIAS"},null,null,"COL0086179","Taxonomia y filogenia molecular: desarrollo de intrumentos de analsis",{"$f":"COUNTIF(BA$4:BA20,BA20)","v":3},{"$f":"ROW()","v":20},1,0,null,"COL0050294",null,null,null,null,null,null,null,null,null,null,null,17,"Ciencias Sociales-Ciencias de la Educación","Ciencias Sociales","Ciencias de la Educación",17,null,null,null,17,"Alianzas para lograr los objetivos"," ",null,null,null,null,null,null,null,null,18,203,"Productos resultado de actividades de desarrollo tecnológico e innovación (DTI)","Normas Internacionales","Regulaciones, normas, reglamentos o legislaciones implementadas internacionalmente, acorde con parámetros de Minciencias. ","\"Documento en el que se describa la regulación, norma, reglamento o legislación+CR10 obtenido con nombre, autor, fecha, cód. de trazabilidad  y autores debidamente registrados según  Res. vigente\" ,\"Certificado de la entidad o institución que emitió el producto, indicando la participación en su construcción de todos o de alguno de los integrantes del proyecto, título, país, ciudad, fecha de  publicación / implementación, tipo de regulación, ámbito.",40,0,0,null,null,null,"Regulaciones, normas, reglamentos o legislaciones implementadas nacionalmente (no institucional), acorde con parámetros de Colciencias"," "]
[null,null,null,null,null,18,null,{"$f":"CLEAN(TRIM(Cronograma!C26))","v":""},{"$f":"Cronograma!D26","v":0},{"$f":"Cronograma!E26","v":0},null,null,null,null,null,null,null,null,null,null,null,null,null,null,null,null,4,"Programa","DER","Derecho",16,null,7,"Estadística, Control y Optimización",null,null,null,1,1,15,"DER","Grupo de derecho público ","COL0028918","B","https://scienti.colciencias.gov.co/gruplac/jsp/visualiza/visualizagr.jsp?nro=00000000001079","BB292:BB296",{"$f":"ROW()","v":21},{"$f":"MINA(IF(AQ21=$BA$4:$BA$411,$BD$4:$BD$411))","v":292},{"$f":"MAXA(IF(AQ21=$BA$4:$BA$411,$BD$4:$BD$411))","v":296},"DER",null,null,"COL0028767","Estrategia y control de gestión",{"$f":"COUNTIF(BA$4:BA21,BA21)","v":1},{"$f":"ROW()","v":21},1,1,null,"COL0027367",null,null,null,null,null,null,null,null,null,null,null,18,"Ciencias Sociales-Sociología","Ciencias Sociales","Sociología",18,null,null,null,null,null,null,null,null,null,null,null,null,null,null,19,204,"Productos resultado de actividades de desarrollo tecnológico e innovación (DTI)","Normas Nacionales","Regulaciones, normas, reglamentos o legislaciones implementadas nacionalmente (no institucional), acorde con parámetros de Minciencias.","\"Documento en el que se describa la regulación, norma, reglamento o legislación+CR10 obtenido con nombre, autor, fecha, cód. de trazabilidad  y autores debidamente registrados según  Res. vigente\" ,\"Certificado de la entidad o institución que emitió el producto, indicando la participación en su construcción de todos o de alguno de los integrantes del proyecto, título, país, ciudad, fecha de  publicación / implementación, tipo de regulación, ámbito.",40,0,0,null,null,null,"Prototipo en estado de desarrollo TRL4"," "]
[null,null,null,null,null,19,null,{"$f":"CLEAN(TRIM(Cronograma!C27))","v":""},{"$f":"Cronograma!D27","v":0},{"$f":"Cronograma!E27","v":0},null,null,null,null,null,null,null,null,null,null,null,null,null,null,null,null,5,"Programa","DER","Maestría en Derecho Procesal Penal",47,null,42,"Estructuras y sísmica",null,null,null,1,1,16,"DER","Grupo de Derecho Privado","COL0128047","C","https://scienti.colciencias.gov.co/gruplac/jsp/visualiza/visualizagr.jsp?nro=00000000012964","BB132:BB133",{"$f":"ROW()","v":22},{"$f":"MINA(IF(AQ22=$BA$4:$BA$411,$BD$4:$BD$411))","v":132},{"$f":"MAXA(IF(AQ22=$BA$4:$BA$411,$BD$4:$BD$411))","v":133},"DER",null,null,"COL0028767","Estudios Organizacionales (EO) y responsabilidad social (RS)",{"$f":"COUNTIF(BA$4:BA22,BA22)","v":2},{"$f":"ROW()","v":22},1,1,null,"COL0028767",null,null,null,null,null,null,null,null,null,null,null,19,"Ciencias Sociales-Ciencias Políticas","Ciencias Sociales","Ciencias Políticas",19,null,null,null,null,null,null,null,null,null,null,null,null,null,null,20,205,"Productos resultado de actividades de desarrollo tecnológico e innovación (DTI)","Nuevo registro cientifico","Nuevo registro científico - Incluido en sistemas de información científica con las especificaciones del Documento conceptual de la Convocatoria 833 de 2018 de Minciencias.","Copia de la Inclusión del nuevo registro científico en el sistema de información científico, matriz con la relación de conjunto de metadatos publicado, y URL de acceso.",0,0,0,null,null,null,"Nuevos-----------------"]
[null,null,null,null,null,20,null,{"$f":"CLEAN(TRIM(Cronograma!C28))","v":""},{"$f":"Cronograma!D28","v":0},{"$f":"Cronograma!E28","v":0},null,null,null,null,null,null,null,null,null,null,null,null,null,null,null,null,6,"Programa","DER","Maestría en Derecho Administrativo",48,null,29,"Estudios Internacionales y Políticos",null,null,null,1,1,17,"DER","Red de estudios sociojurídicos comparados y políticas públicas","COL0142449","B","https://scienti.colciencias.gov.co/gruplac/jsp/visualiza/visualizagr.jsp?nro=00000000014449","BB269:BB274",{"$f":"ROW()","v":23},{"$f":"MINA(IF(AQ23=$BA$4:$BA$411,$BD$4:$BD$411))","v":269},{"$f":"MAXA(IF(AQ23=$BA$4:$BA$411,$BD$4:$BD$411))","v":274},"DER",null,null,"COL0028767","Estudios en Ciencia, Tecnología, Innovación y Emprendimiento (desde la gestión, economía y política pública)",{"$f":"COUNTIF(BA$4:BA23,BA23)","v":3},{"$f":"ROW()","v":23},1,1,null,"COL0117722",null,null,null,null,null,null,null,null,null,null,null,20,"Ciencias Sociales-Geografía Social y Económica","Ciencias Sociales","Geografía Social y Económica",20,null,null,null,null,null,null,null,null,null,null,null,null,null,null,21,207,"Productos resultado de actividades de desarrollo tecnológico e innovación (DTI)","Prototipo TRL4","Productos o procesos tecnológicos usualmente no patentables (Prototipo) - Estado de desarrollo TRL4 - Validación a nivel de laboratorio.","Prototipo madurado en mínimo TRL 4 Validado por DDTI o Ente externo especializado y acompañado de: 1. Manual de funcionamiento según el formato establecido por VICEIN. 2.Registro fotográfico de los componentes del prototipo. 3.Registro fílmico sobre funcionamiento del prototipo.4.Soportes de pruebas y validación (según aplique)",0,0,0,null,null,null,"Nuevos-----------------"]
[null,null,null,null,null,"Col",1,{"$f":"G24+1","v":2},{"$f":"H24+1","v":3},4,5,6,7,8,9,10,11,12,13,14,15,16,null,null,null,null,7,"Programa","DER","Maestría en Instituciones Jurídicas de la Fuerza Pública",49,null,6,"Fitopatologia molecular",null,null,null,1,1,18,"DIS","PROPPIO: Procesos organizacionales, programaticos y políticos para la promoción del desarrollo","COL0062704","NR","https://scienti.colciencias.gov.co/gruplac/jsp/visualiza/visualizagr.jsp?nro=00000000006477","BB302:BB305",{"$f":"ROW()","v":24},{"$f":"MINA(IF(AQ24=$BA$4:$BA$411,$BD$4:$BD$411))","v":302},{"$f":"MAXA(IF(AQ24=$BA$4:$BA$411,$BD$4:$BD$411))","v":305},"DIS",null,null,"COL0045848","Epidemiología Clínica de Diabetes e Insulino resistencia",{"$f":"COUNTIF(BA$4:BA24,BA24)","v":1},{"$f":"ROW()","v":24},1,0,null,null,null,null,null,null,null,null,null,null,null,null,null,21,"Ciencias Sociales-Periodismo y Comunicaciones","Ciencias Sociales","Periodismo y Comunicaciones",21,null,null,null,null,null,null,null,null,null,null,null,null,null,null,22,208,"Productos resultado de actividades de desarrollo tecnológico e innovación (DTI)","Prototipo TRL5","Productos o procesos tecnológicos (Prototipo) - Estado de desarrollo TRL5 - validación de componentes en entorno relevante.","Prototipo madurado en mínimo un nivel en la escala TRL comprometida o esperada, Validado por DDTI o Ente externo especializado y acompañado de: 1. Manual de funcionamiento según el formato establecido por VICEIN. 2.Registro fotográfico de los componentes del prototipo. 3.Registro fílmico sobre funcionamiento del prototipo. 4.Soportes de pruebas y validación (según aplique).  ",0,0,0,null,null,null,"Nuevos-----------------"]
[null,null,null,null,null,null,null,null,null,null,null,null,null,null,null,null,null,null,null,null,null,null,null,null,null,null,8,"Programa","DER","Especialización en Derecho Administrativo",50,null,1,"Fitoplasmas y Virus",null,null,null,1,1,19,"DIS","INCONDIS","COL0127649","C","https://scienti.colciencias.gov.co/gruplac/jsp/visualiza/visualizagr.jsp?nro=00000000012918","BB314:BB314",{"$f":"ROW()","v":25},{"$f":"MINA(IF(AQ25=$BA$4:$BA$411,$BD$4:$BD$411))","v":314},{"$f":"MAXA(IF(AQ25=$BA$4:$BA$411,$BD$4:$BD$411))","v":314},"DIS",null,null,"COL0045848","Genética de diabetes mellitus e insulino resistencia",{"$f":"COUNTIF(BA$4:BA25,BA25)","v":2},{"$f":"ROW()","v":25},1,0,null,null,null,null,null,null,null,null,null,null,null,null,null,22,"Ingeniería y Tecnología-Ingeniería Mecánica","Ingeniería y Tecnología","Ingeniería Mecánica",22,null,null,null,null,null,null,null,null,null,null,null,null,null,null,23,209,"Productos resultado de actividades de desarrollo tecnológico e innovación (DTI)","Prototipo TRL6","Productos o procesos tecnológicos (Prototipo) - Estado de desarrollo TRL6 - Validación de sistema o subsistema en entorno relevante","Prototipo madurado en mínimo un nivel en la escala TRL comprometida o esperada, Validado por DDTI o Ente externo especializado y acompañado de: 1. Manual de funcionamiento según el formato establecido por VICEIN. 2.Registro fotográfico de los componentes del prototipo. 3.Registro fílmico sobre funcionamiento del prototipo. 4.Soportes de pruebas y validación (según aplique).  ",0,0,0,null,null,null,"Nuevos-----------------"]
[null,null,null,null,null,null,null,null,null,null,null,null,null,null,null,null,null,null,null,null,null,null,null,null,null,null,9,"Programa","DER","Especialización en Procedimiento Penal, Constitucional y Justicia Militar",51,null,68,"GAFRED",null,null,null,1,1,20,"DIS","\"PYDES\" Pedagogía y didáctica en la educación superior","COL0018448","C","https://scienti.colciencias.gov.co/gruplac/jsp/visualiza/visualizagr.jsp?nro=00000000000929","BB235:BB237",{"$f":"ROW()","v":26},{"$f":"MINA(IF(AQ26=$BA$4:$BA$411,$BD$4:$BD$411))","v":235},{"$f":"MAXA(IF(AQ26=$BA$4:$BA$411,$BD$4:$BD$411))","v":237},"DIS",null,null,"COL0045848","Prevención Cardiovascular",{"$f":"COUNTIF(BA$4:BA26,BA26)","v":3},{"$f":"ROW()","v":26},1,0,null,null,null,null,null,null,null,null,null,null,null,null,null,23,"Ingeniería y Tecnología-Otras Ingenierías y Tecnologías","Ingeniería y Tecnología","Otras Ingenierías y Tecnologías",23,null,null,null,null,null,null,null,null,null,null,null,null,null,null,24,210,"Productos resultado de actividades de desarrollo tecnológico e innovación (DTI)","Prototipo TRL7","Productos o procesos tecnológicos (Prototipo) - Estado de desarrollo TRL7 - Validación en entorno real.","Prototipo madurado en mínimo un nivel en la escala TRL comprometida o esperada, Validado por DDTI o Ente externo especializado y acompañado de: 1. Manual de funcionamiento según el formato establecido por VICEIN. 2.Registro fotográfico de los componentes del prototipo. 3.Registro fílmico sobre funcionamiento del prototipo. 4.Soportes de pruebas y validación (según aplique).  ",0,0,0,null,null,null,"Nuevos-----------------"]
[null,null,null,null,null,null,null,null,"Totales",null,{"$f":"SUM(K31:K52)","v":0},null,null,null,null,null,{"$f":"SUM(Q30:Q52)","v":0},null,null,null,null,{"$f":"SUM(V30:V52)","v":0},{"$f":"SUM(W30:W52)","v":0},{"$f":"SUM(X30:X52)","v":0},null,null,10,"Programa","DER","Especialización en Derecho Sancionatorio",52,null,47,"GAV",null,null,null,1,1,21,"DIS","PACMAN Prospectiva Académica y Ciencias Multidisciplinares Aplicadas a la Neotecnología","COL0067504","C","https://scienti.colciencias.gov.co/gruplac/jsp/visualiza/visualizagr.jsp?nro=00000000004308","BB183:BB188",{"$f":"ROW()","v":27},{"$f":"MINA(IF(AQ27=$BA$4:$BA$411,$BD$4:$BD$411))","v":183},{"$f":"MAXA(IF(AQ27=$BA$4:$BA$411,$BD$4:$BD$411))","v":188},"DIS",null,null,"COL0152319","Epidemiología Clínica",{"$f":"COUNTIF(BA$4:BA27,BA27)","v":1},{"$f":"ROW()","v":27},1,0,null,null,null,null,null,null,null,null,null,null,null,null,null,24,"Ingeniería y Tecnología-Ingeniería Química","Ingeniería y Tecnología","Ingeniería Química",24,null,null,null,null,null,null,null,null,null,null,null,null,null,null,25,211,"Productos resultado de actividades de desarrollo tecnológico e innovación (DTI)","Prototipo TRL8","Productos o procesos tecnológicos (Prototipo) - Estado de desarrollo TRL8 - Validación completa y certificacion en entorno real.","Prototipo madurado en mínimo un nivel en la escala TRL comprometida o esperada, Validado por DDTI o Ente externo especializado y acompañado de: 1. Manual de funcionamiento según el formato establecido por VICEIN. 2.Registro fotográfico de los componentes del prototipo. 3.Registro fílmico sobre funcionamiento del prototipo. 4.Soportes de pruebas y validación (según aplique).  ",0,0,0,null,null,null,"Ponencia en evento Internacional de acuerdo a los requisitos de la resolución de movilidad vigente."," "]
[null,null,null,null,null,"Valores Presupuestales",null,null,null,null,null,null,null,null,null,null,null,null,null,null,null,null,null,null,null,null,11,"Programa","DER","Especialización en Derechos Humanos y Sistemas de Protección",53,null,28,"GECS (Grupo de Estudios en Educación, Contabilidad y Sociedad)",null,null,null,1,1,22,"DIS","PIREO \"Procesos de Integración, Regionalización y Estructuras Organizacionales\"","COL0066229","B","https://scienti.colciencias.gov.co/gruplac/jsp/visualiza/visualizagr.jsp?nro=00000000004242","BB140:BB142",{"$f":"ROW()","v":28},{"$f":"MINA(IF(AQ28=$BA$4:$BA$411,$BD$4:$BD$411))","v":140},{"$f":"MAXA(IF(AQ28=$BA$4:$BA$411,$BD$4:$BD$411))","v":142},"DIS",null,null,"COL0152319","Epidemiología General.",{"$f":"COUNTIF(BA$4:BA28,BA28)","v":2},{"$f":"ROW()","v":28},1,0,null,null,null,null,null,null,null,null,null,null,null,null,null,25,"Ingeniería y Tecnología-Ingenierías Eléctrica, Electrónica e Informática","Ingeniería y Tecnología","Ingenierías Eléctrica, Electrónica e Informática",25,null,null,null,{"$f":"CB20+1","v":18},"Ciencias básicas "," ",null,null,null,null,null,null,null,null,26,212,"Productos resultado de actividades de desarrollo tecnológico e innovación (DTI)","Prototipo TRL9","Productos o procesos tecnológicos (Prototipo) - Estado de desarrollo TRL9 - Prueba exitosa en entorno real.","Prototipo madurado en mínimo un nivel en la escala TRL comprometida o esperada, Validado por DDTI o Ente externo especializado y acompañado de: 1. Manual de funcionamiento según el formato establecido por VICEIN. 2.Registro fotográfico de los componentes del prototipo. 3.Registro fílmico sobre funcionamiento del prototipo. 4.Soportes de pruebas y validación (según aplique).  ",0,0,0,null,null,null,"Ponencia  en evento nacional de acuerdo a los requisitos de la resolución de movilidad vigente."," "]
[null,null,null,null,null,null,"Datos de Contrapartida",null,null,null,null,"Datos OPS",null,null,null,null,null,null,null,null,null,null,null,null,null,null,12,"Programa","DIS","Administración de Empresas",17,null,36,"GEOTECNIA",null,null,null,1,1,23,"DIS","Modelos de simulación ICDIST","COL0069296","C","https://scienti.colciencias.gov.co/gruplac/jsp/visualiza/visualizagr.jsp?nro=00000000004423","BB170:BB170",{"$f":"ROW()","v":29},{"$f":"MINA(IF(AQ29=$BA$4:$BA$411,$BD$4:$BD$411))","v":170},{"$f":"MAXA(IF(AQ29=$BA$4:$BA$411,$BD$4:$BD$411))","v":170},"DIS",null,null,"COL0152319","Formación del Recurso Humano en Salud en Epidemiología y Salud Colectiva",{"$f":"COUNTIF(BA$4:BA29,BA29)","v":3},{"$f":"ROW()","v":29},1,0,null,null,null,null,null,null,null,null,null,null,null,null,null,26,"Ingeniería y Tecnología-Biotecnología Ambiental","Ingeniería y Tecnología","Biotecnología Ambiental",26,null,null,null,19,"Otros"," ",null,null,null,null,null,null,null,null,27,213,"Productos resultado de actividades de desarrollo tecnológico e innovación (DTI)","Secreto empresarial","Secreto empresarial","Secreto empresarial. Nombre del producto o proceso comercializado. Valor del contrato. Certificación de la institución firmada por el representante legal en la cual conste que se ha tomado las medidas necesarias para evitar que se divulgue o propague esta información entre sus competidores. Número del contrato de licenciamiento.",70,0,0,null,null,null,"Participación ciudadana en CTeI acorde con parámetros del modelo de medición de grupos de investigación- Colciencias"," "]
[null,null,null,null,null,"No","Identidad",{"$f":"Presupuesto!E13","v":"Tipo de Vinculo UMNG"},{"$f":"Presupuesto!F13","v":"Numero de meses "},{"$f":"Presupuesto!G13","v":"Número Horas / Semanal"},{"$f":"Presupuesto!H13","v":"Valor Final"},{"$f":"Presupuesto!C29","v":"Valor mensual"},{"$f":"Presupuesto!D29","v":"Factor Salarial"},{"$f":"Presupuesto!E29","v":"Tipo de vinculación"},"mes","Horas",{"$f":"Presupuesto!H29","v":"Valor total"},{"$f":"Presupuesto!C50","v":"Rubro / Destino"},{"$f":"Presupuesto!D50","v":"Año de Vigencia"},{"$f":"Presupuesto!E50","v":"Descripción (Entidad- "},{"$f":"Presupuesto!F50","v":0},{"$f":"Presupuesto!G50","v":"Finaciación Vicein $"},{"$f":"Presupuesto!H50","v":"$ Contrapartida Facultad"},{"$f":"Presupuesto!I50","v":"Contrapartida Otros $"},null,null,12,"Programa","DIS","Administración de seguridad y Salud Ocupacional ","X",null,40,"GIDAM",null,null,null,1,1,24,"DIS","INAMPE","COL0142331","C","https://scienti.colciencias.gov.co/gruplac/jsp/visualiza/visualizagr.jsp?nro=00000000014438","BB58:BB60",{"$f":"ROW()","v":30},{"$f":"MINA(IF(AQ30=$BA$4:$BA$411,$BD$4:$BD$411))","v":58},{"$f":"MAXA(IF(AQ30=$BA$4:$BA$411,$BD$4:$BD$411))","v":60},"DIS",null,null,"COL0152319","Las Tecnologías de la Información y de la comunicación en Epidemiología y Salud Colectiva",{"$f":"COUNTIF(BA$4:BA30,BA30)","v":4},{"$f":"ROW()","v":30},1,0,null,null,null,null,null,null,null,null,null,null,null,null,null,27,"Ingeniería y Tecnología-Nanotecnología","Ingeniería y Tecnología","Nanotecnología",27,null,null,null,null,null,null,null,null,null,null,null,null,null,null,28,214,"Productos resultado de actividades de desarrollo tecnológico e innovación (DTI)","Plan de negocio empresas de base tecnológica (spin-off y start-up)","Plan de negocio empresas de base tecnológica (spin-off y start-up)","Documento con el plan de negocios de la nueva empresa de base tecnológica (spin-off y start-up)",30,0,0,null,null,null,"Conjunto de información molecular que haya sido publicado en revista científica especializada y en una base de datos o repositorio de acceso público acorde con los parámetros del modelo de medición de grupos de investigación - Colciencias "," "]
[null,null,null,null,null,{"$f":"ROW()-30","v":1},{"$f":"Presupuesto!I14","v":0},{"$f":"Presupuesto!E14","v":0},{"$f":"Presupuesto!F14","v":12},{"$f":"Presupuesto!G14","v":0},{"$f":"Presupuesto!H14","v":0},{"$f":"Presupuesto!C30","v":0},{"$f":"Presupuesto!D30","v":0},{"$f":"Presupuesto!E30","v":0},{"$f":"Presupuesto!F30","v":10},{"$f":"Presupuesto!G30","v":"No Aplica"},{"$f":"Presupuesto!H30","v":0},{"$f":"Presupuesto!C51","v":"Personal"},{"$f":"Presupuesto!D51","v":1},{"$f":"Presupuesto!E51","v":"Contrapartida definida por VICEIN (No Habilitado)"},{"$f":"Presupuesto!F51","v":0},{"$f":"Presupuesto!G51","v":0},{"$f":"Presupuesto!H51","v":0},{"$f":"Presupuesto!I51","v":0},null,null,13,"Programa","DIS","Contaduría Pública",18,null,49,"GI-iTEC - Grupo de Investigación e innovación Tecnológica en Electrónica y Comunicaciones",null,null,null,1,1,25,"ECO","Grupo de Estudios en Ciencias Económicas - CIE","COL0050294","B","https://scienti.colciencias.gov.co/gruplac/jsp/visualiza/visualizagr.jsp?nro=00000000003322","BB32:BB33",{"$f":"ROW()","v":31},{"$f":"MINA(IF(AQ31=$BA$4:$BA$411,$BD$4:$BD$411))","v":32},{"$f":"MAXA(IF(AQ31=$BA$4:$BA$411,$BD$4:$BD$411))","v":33},"ECO",null,null,"COL0152319","Medicina tradicional complementaria.",{"$f":"COUNTIF(BA$4:BA31,BA31)","v":5},{"$f":"ROW()","v":31},1,0,null,null,null,null,null,null,null,null,null,null,null,null,null,28,"Ingeniería y Tecnología-Ingeniería Civil","Ingeniería y Tecnología","Ingeniería Civil",28,null,null,null,null,null,null,null,null,null,null,null,null,null,null,29,215,"Productos resultado de actividades de desarrollo tecnológico e innovación (DTI)","Plan de negocio empresas creativas y culturales","Plan de negocio empresas creativas y culturales","Documento con el plan de negocios de la nueva empresa creativa y cultural de acuerdo con los lineamientos de la cámara de  comercio de Bogotá",30,0,0,null,null,null,"Dirección o codirección de Tesis de estudiantes en programas de Doctorado de la UMNG, con temáticas asociadas a la línea de investigación a la que pertenece el proyecto"," "]
[null,null,null,null,null,{"$f":"ROW()-30","v":2},{"$f":"Presupuesto!I15","v":0},{"$f":"Presupuesto!E15","v":0},{"$f":"Presupuesto!F15","v":0},{"$f":"Presupuesto!G15","v":0},{"$f":"Presupuesto!H15","v":0},{"$f":"Presupuesto!C31","v":0},{"$f":"Presupuesto!D31","v":0},{"$f":"Presupuesto!E31","v":0},{"$f":"Presupuesto!F31","v":0},{"$f":"Presupuesto!G31","v":"No Aplica"},{"$f":"Presupuesto!H31","v":0},{"$f":"Presupuesto!C52","v":0},{"$f":"Presupuesto!D52","v":1},{"$f":"Presupuesto!E52","v":0},{"$f":"Presupuesto!F52","v":0},{"$f":"Presupuesto!G52","v":0},{"$f":"Presupuesto!H52","v":0},{"$f":"Presupuesto!I52","v":0},null,null,14,"Programa","DIS","Ingeniería Civil",19,null,46,"GISSIC: Grupo de Investigacion en Seguridad y Sistemas de Comunicaciones",null,null,null,1,1,26,"ECO","Grupo de estudios sobre desigualdades sociales","COL0027367","C","https://scienti.colciencias.gov.co/gruplac/jsp/visualiza/visualizagr.jsp?nro=00000000000855","BB287:BB289",{"$f":"ROW()","v":32},{"$f":"MINA(IF(AQ32=$BA$4:$BA$411,$BD$4:$BD$411))","v":287},{"$f":"MAXA(IF(AQ32=$BA$4:$BA$411,$BD$4:$BD$411))","v":289},"ECO",null,null,"COL0050294","Economía política del conflicto",{"$f":"COUNTIF(BA$4:BA32,BA32)","v":1},{"$f":"ROW()","v":32},1,1,null,null,null,null,null,null,null,null,null,null,null,null,null,29,"Ingeniería y Tecnología-Ingeniería de los Materiales","Ingeniería y Tecnología","Ingeniería de los Materiales",29,null,null,null,null,null,null,null,null,null,null,null,null,null,null,30,216,"Productos resultado de actividades de desarrollo tecnológico e innovación (DTI)","Innovaciones generadas en la gestión institucional o empresarial","Innovaciones generadas en la gestión institucional o empresarial","Nombre de la innovación, fecha, autor(es); Certificados de implementación de la innovación en la institución (el certificado lo expide el representante legal de la empresa); título del Proyecto. ",50,0,0,null,null,null,"Dirección o codirección de trabajos de grado de estudiantes en programas de Maestría de la UMNG, con temáticas asociadas a línea de investigación a la que pertenece el proyecto"," "]
[null,null,null,null,null,3,{"$f":"Presupuesto!I16","v":0},{"$f":"Presupuesto!E16","v":0},{"$f":"Presupuesto!F16","v":0},{"$f":"Presupuesto!G16","v":0},{"$f":"Presupuesto!H16","v":0},{"$f":"Presupuesto!C32","v":0},{"$f":"Presupuesto!D32","v":0},{"$f":"Presupuesto!E32","v":0},{"$f":"Presupuesto!F32","v":0},{"$f":"Presupuesto!G32","v":"No Aplica"},{"$f":"Presupuesto!H32","v":0},{"$f":"Presupuesto!C53","v":0},{"$f":"Presupuesto!D53","v":1},{"$f":"Presupuesto!E53","v":0},{"$f":"Presupuesto!F53","v":0},{"$f":"Presupuesto!G53","v":0},{"$f":"Presupuesto!H53","v":0},{"$f":"Presupuesto!I53","v":0},null,null,15,"Programa","DIS","Ingeniería Industrial",20,null,51,"GREST",null,null,null,1,1,27,"ECO","Grupo de Estudios Contemporáneos en Gestión y Organizaciones -GECGO-","COL0028767","A","https://scienti.colciencias.gov.co/gruplac/jsp/visualiza/visualizagr.jsp?nro=00000000001069","BB21:BB23",{"$f":"ROW()","v":33},{"$f":"MINA(IF(AQ33=$BA$4:$BA$411,$BD$4:$BD$411))","v":21},{"$f":"MAXA(IF(AQ33=$BA$4:$BA$411,$BD$4:$BD$411))","v":23},"ECO",null,null,"COL0050294","Economía, Gestión y Medio Ambiente",{"$f":"COUNTIF(BA$4:BA33,BA33)","v":2},{"$f":"ROW()","v":33},1,1,null,null,null,null,null,null,null,null,null,null,null,null,null,30,"Ingeniería y Tecnología-Ingeniería Ambiental","Ingeniería y Tecnología","Ingeniería Ambiental",30,null,null,null,null,null,null,null,null,null,null,null,null,null,null,31,217,"Productos resultado de actividades de desarrollo tecnológico e innovación (DTI)","Innovaciones en procesos, procedimientos y servicios.","Innovaciones en procesos, procedimientos y servicios.","Nombre de la innovación, fecha, autor(es), institución. Certificado de implementación de innovacion en procesos, procedimientos y servicios.",40,0,0,null,null,null,"Vinculación por mínimo ocho meses de un Joven investigador según los criterios de la Resolución institucional que actualiza la reglamentación sobre vinculación de personal a los proyectos de investigación financiados o cofinanciados por la UMNG en los programas de CTeI o la que se encuentre vigente para el momento de la ejecución del proyecto"," "]
[null,null,null,null,null,4,{"$f":"Presupuesto!I17","v":0},{"$f":"Presupuesto!E17","v":0},{"$f":"Presupuesto!F17","v":0},{"$f":"Presupuesto!G17","v":0},{"$f":"Presupuesto!H17","v":0},{"$f":"Presupuesto!C33","v":0},{"$f":"Presupuesto!D33","v":0},{"$f":"Presupuesto!E33","v":0},{"$f":"Presupuesto!F33","v":0},{"$f":"Presupuesto!G33","v":"No Aplica"},{"$f":"Presupuesto!H33","v":0},{"$f":"Presupuesto!C54","v":0},{"$f":"Presupuesto!D54","v":1},{"$f":"Presupuesto!E54","v":0},{"$f":"Presupuesto!F54","v":0},{"$f":"Presupuesto!G54","v":0},{"$f":"Presupuesto!H54","v":0},{"$f":"Presupuesto!I54","v":0},null,null,16,"Programa","DIS","Ingeniería Informática",21,null,16,"Grupo de Derecho Privado",null,null,null,1,1,28,"ECO","GECS (Grupo de Estudios en Educación, Contabilidad y Sociedad)","COL0117722","B","https://scienti.colciencias.gov.co/gruplac/jsp/visualiza/visualizagr.jsp?nro=00000000011887","BB129:BB131",{"$f":"ROW()","v":34},{"$f":"MINA(IF(AQ34=$BA$4:$BA$411,$BD$4:$BD$411))","v":129},{"$f":"MAXA(IF(AQ34=$BA$4:$BA$411,$BD$4:$BD$411))","v":131},"ECO",null,null,"COL0049659","Actividad física, promoción de la salud y prevención de la enfermedad.",{"$f":"COUNTIF(BA$4:BA34,BA34)","v":1},{"$f":"ROW()","v":34},1,0,null,null,null,null,null,null,null,null,null,null,null,null,null,31,"Ingeniería y Tecnología-Biotecnología Industrial","Ingeniería y Tecnología","Biotecnología Industrial",31,null,null,null,null,null,null,null,null,null,null,null,null,null,null,32,218,"Productos resultado de actividades de desarrollo tecnológico e innovación (DTI)","Conceptos técnicos","Conceptos técnicos","Título del concepto; Institución solicitante; Fecha de la solicitud del concepto; Lugar de elaboración; Fecha de envío del concepto; Soporte la solicitud del concepto; Número consecutivo del concepto; Nombre de los investigadores que participan en su elaboración; Soporte con concepto y copia del oficio remisorio con fecha y número consecutivo.",30,0,0,null,null,null,"Dirección o codirección de Trabajo de estudiantes en programas de pregrado de la UMNG, con temáticas asociadas a línea de investigación a la que pertenece el proyecto."," "]
[null,null,null,null,null,5,{"$f":"Presupuesto!I18","v":0},{"$f":"Presupuesto!E18","v":0},{"$f":"Presupuesto!F18","v":0},{"$f":"Presupuesto!G18","v":0},{"$f":"Presupuesto!H18","v":0},{"$f":"Presupuesto!C34","v":0},{"$f":"Presupuesto!D34","v":0},{"$f":"Presupuesto!E34","v":0},{"$f":"Presupuesto!F34","v":0},{"$f":"Presupuesto!G34","v":"No Aplica"},{"$f":"Presupuesto!H34","v":0},{"$f":"Presupuesto!C55","v":0},{"$f":"Presupuesto!D55","v":1},{"$f":"Presupuesto!E55","v":0},{"$f":"Presupuesto!F55","v":0},{"$f":"Presupuesto!G55","v":0},{"$f":"Presupuesto!H55","v":0},{"$f":"Presupuesto!I55","v":0},null,null,16,"Programa","DIS","Relaciones Internacionales y Estudios Políticos","X",null,15,"Grupo de derecho público ",null,null,null,1,1,29,"EES","Estudios Internacionales y Políticos","COL0066768","B","https://scienti.colciencias.gov.co/gruplac/jsp/visualiza/visualizagr.jsp?nro=00000000004270","BB68:BB73",{"$f":"ROW()","v":35},{"$f":"MINA(IF(AQ35=$BA$4:$BA$411,$BD$4:$BD$411))","v":68},{"$f":"MAXA(IF(AQ35=$BA$4:$BA$411,$BD$4:$BD$411))","v":73},"EES",null,null,"COL0049659","Medios de comunicación, educación y salud",{"$f":"COUNTIF(BA$4:BA35,BA35)","v":2},{"$f":"ROW()","v":35},1,0,null,null,null,null,null,null,null,null,null,null,null,null,null,32,"Ingeniería y Tecnología-Ingeniería Médica","Ingeniería y Tecnología","Ingeniería Médica",32,null,null,null,null,null,null,null,null,null,null,null,null,null,null,33,301,"Producción resultado de actividades de apropiación social del conocimiento (ASC)","Circulación de conocimiento especializado","Ponencia en evento Internacional de acuerdo con los requisitos de la resolución vigente de movilidad.","Certificado de ponente, trabajo presentado en el evento que será publicado en memorias con ISSN o ISBN, cód. de trazabilidad y autores debidamente registrados según  Res. De movilidad Vigente.",20,0,0,null,null,null,"Tutoría de un proyecto de iniciación científica de estudiantes de la UMNG, con temáticas asociadas a línea de investigación a la que pertenece el proyecto."," "]
[null,null,null,null,null,6,{"$f":"Presupuesto!I19","v":0},{"$f":"Presupuesto!E19","v":0},{"$f":"Presupuesto!F19","v":0},{"$f":"Presupuesto!G19","v":0},{"$f":"Presupuesto!H19","v":0},{"$f":"Presupuesto!C35","v":0},{"$f":"Presupuesto!D35","v":0},{"$f":"Presupuesto!E35","v":0},{"$f":"Presupuesto!F35","v":0},{"$f":"Presupuesto!G35","v":"No Aplica"},{"$f":"Presupuesto!H35","v":0},{"$f":"Presupuesto!C56","v":0},{"$f":"Presupuesto!D56","v":1},{"$f":"Presupuesto!E56","v":0},{"$f":"Presupuesto!F56","v":0},{"$f":"Presupuesto!G56","v":0},{"$f":"Presupuesto!H56","v":0},{"$f":"Presupuesto!I56","v":0},null,null,17,"Programa","DIS","Ingeniería Informática","X",null,14,{"$f":"VLOOKUP($AG36,$AN$3:$AR$80,3,0)","v":"Grupo de Docencia e Investigación en Física"},null,null,null,{"$f":"COUNTIF($AG$3:$AG$78,AN36)","v":1},{"$f":"COUNTIF($AN$4:$AN$810,AL36)","v":1},30,"EES","Sociedad, Estrategia y Seguridad","COL0066669","C","https://scienti.colciencias.gov.co/gruplac/jsp/visualiza/visualizagr.jsp?nro=00000000004263","BB74:BB78",{"$f":"ROW()","v":36},{"$f":"MINA(IF(AQ36=$BA$4:$BA$411,$BD$4:$BD$411))","v":74},{"$f":"MAXA(IF(AQ36=$BA$4:$BA$411,$BD$4:$BD$411))","v":78},"EES",null,null,"COL0049659","Salud Pública y Nutrición, Prevención de la Enfermedad y Promoción de la Salud",{"$f":"COUNTIF(BA$4:BA36,BA36)","v":3},{"$f":"ROW()","v":36},1,0,null,null,null,null,null,null,null,null,null,null,null,null,null,33,"Ciencias Agrícolas-Biotecnología Agrícola","Ciencias Agrícolas","Biotecnología Agrícola",33,null,null,null,null,null,null,null,null,null,null,null,null,null,null,34,302,"Producción resultado de actividades de apropiación social del conocimiento (ASC)","Circulación de conocimiento especializado","Ponencia en evento nacional de acuerdo con los requisitos de la resolución vigente de movilidad.","Certificado de ponente, trabajo presentado en el evento que será publicado en memorias con ISSN o ISBN, cód. de trazabilidad y autores debidamente registrados según  Res. De movilidad Vigente.",20,0,0,null,null,null,"Nueva propuesta conducente al ingreso de recursos externos en efectivo a la UMNG, superiores a la contrapartida en especie comprometida por la UMNG. Debe estar sometida a alguna convocatoria externa arbitrada por pares y acompañarse de carta de aval de la UMNG, previa realización del procedimiento de calidad o normatividad vigente para proyectos externos."," "]
[null,null,null,null,null,7,{"$f":"Presupuesto!I20","v":0},{"$f":"Presupuesto!E20","v":0},{"$f":"Presupuesto!F20","v":0},{"$f":"Presupuesto!G20","v":0},{"$f":"Presupuesto!H20","v":0},{"$f":"Presupuesto!C36","v":0},{"$f":"Presupuesto!D36","v":0},{"$f":"Presupuesto!E36","v":0},{"$f":"Presupuesto!F36","v":0},{"$f":"Presupuesto!G36","v":"No Aplica"},{"$f":"Presupuesto!H36","v":0},{"$f":"Presupuesto!C57","v":0},{"$f":"Presupuesto!D57","v":1},{"$f":"Presupuesto!E57","v":0},{"$f":"Presupuesto!F57","v":0},{"$f":"Presupuesto!G57","v":0},{"$f":"Presupuesto!H57","v":0},{"$f":"Presupuesto!I57","v":0},null,null,17,"Programa","DIS","Especialización en Alta Gerencia",54,null,8,"Grupo de Ecotoxicología, Evolución, Medio ambiente y conservación (E = mc2)",null,null,null,1,1,31,"HUM","LIDERAZGO","COL0015722","A1","https://scienti.colciencias.gov.co/gruplac/jsp/visualiza/visualizagr.jsp?nro=00000000000744","BB161:BB161",{"$f":"ROW()","v":37},{"$f":"MINA(IF(AQ37=$BA$4:$BA$411,$BD$4:$BD$411))","v":161},{"$f":"MAXA(IF(AQ37=$BA$4:$BA$411,$BD$4:$BD$411))","v":161},"HUM",null,null,"COL0036749","Accesibilidad",{"$f":"COUNTIF(BA$4:BA37,BA37)","v":1},{"$f":"ROW()","v":37},1,0,null,null,null,null,null,null,null,null,null,null,null,null,null,34,"Ciencias Agrícolas-Ciencias Veterinarias","Ciencias Agrícolas","Ciencias Veterinarias",34,null,null,null,null,null,null,null,null,null,null,null,null,null,null,35,303,"Producción resultado de actividades de apropiación social del conocimiento (ASC)","Participación ciudadana en CTeI","Participación ciudadana en CTeI acorde con parámetros del modelo de medición de grupos de investigación- Minciencias** (Tabla XIV ANEXO 1)","Constancia de participación emitida por la comunidad o comunidades indicando que fueron incluidos en el proyecto/espacio/evento de CTI, con título del proyecto o nombre del espacio/evento, fecha de inicio, investigadores participantes, cód. de trazabilidad, nombre de la comunidad o comunidades participantes y otras instituciones o entidades vinculadas al proyecto/ espacio/evento de CTI.",0,0,0,null,null,null,{"$f":"\"Nueva propuesta conducente a ingreso a la UMNG de recursos externos en efectivo, superiores a la contrapartida en especie comprometida por la UMNG por un valor mayor o igual a \"&$CV$59&\" SMMLV. Debe estar sometido a alguna convocatoria externa\"","v":"Nueva propuesta conducente a ingreso a la UMNG de recursos externos en efectivo, superiores a la contrapartida en especie comprometida por la UMNG por un valor mayor o igual a  SMMLV. Debe estar sometido a alguna convocatoria externa"}," "]
[null,null,null,null,null,8,{"$f":"Presupuesto!I21","v":0},{"$f":"Presupuesto!E21","v":0},{"$f":"Presupuesto!F21","v":0},{"$f":"Presupuesto!G21","v":0},{"$f":"Presupuesto!H21","v":0},{"$f":"Presupuesto!C37","v":0},{"$f":"Presupuesto!D37","v":0},{"$f":"Presupuesto!E37","v":0},{"$f":"Presupuesto!F37","v":0},{"$f":"Presupuesto!G37","v":"No Aplica"},{"$f":"Presupuesto!H37","v":0},{"$f":"Presupuesto!C58","v":0},{"$f":"Presupuesto!D58","v":1},{"$f":"Presupuesto!E58","v":0},{"$f":"Presupuesto!F58","v":0},{"$f":"Presupuesto!G58","v":0},{"$f":"Presupuesto!H58","v":0},{"$f":"Presupuesto!I58","v":0},null,null,18,"Programa","ECO","Administración de Empresas","X",null,27,"Grupo de Estudios Contemporáneos en Gestión y Organizaciones -GECGO-",null,null,null,1,1,32,"HUM","HUMANITAS","COL0101099","A","https://scienti.colciencias.gov.co/gruplac/jsp/visualiza/visualizagr.jsp?nro=00000000010165","BB39:BB42",{"$f":"ROW()","v":38},{"$f":"MINA(IF(AQ38=$BA$4:$BA$411,$BD$4:$BD$411))","v":39},{"$f":"MAXA(IF(AQ38=$BA$4:$BA$411,$BD$4:$BD$411))","v":42},"HUM",null,null,"COL0036749","Multimedia Analítica",{"$f":"COUNTIF(BA$4:BA38,BA38)","v":2},{"$f":"ROW()","v":38},1,0,null,null,null,null,null,null,null,null,null,null,null,null,null,35,"Ciencias Agrícolas-Ciencias Animales y Lechería","Ciencias Agrícolas","Ciencias Animales y Lechería",35,null,null,null,null,null,null,null,null,null,null,null,null,null,null,36,304,"Producción resultado de actividades de apropiación social del conocimiento (ASC)","Nueva secuencia genética","Conjunto de información molecular que haya sido publicado en revista científica especializada y en una base de datos o repositorio de acceso público acorde con los parámetros del modelo de medición de grupos de investigación - Minciencias** (Tabla XVII ANEXO 1)","Nombre de la secuencia genética, fecha, mes y lugar de obtención, base de datos científica en la cual está incluida la nueva secuencia genética (nombre y url), e institución certificadora de la nueva secuencia genética, código de trazabilidad y autores debidamente registrados según la resolución para vinculación de personal vigente.",0,0,0,null,null,null,{"$f":"\"Nueva propuesta conducente a ingreso a la UMNG de recursos externos en efectivo, superiores a la contrapartida en especie comprometida por la  UMNG por un valor mayor o igual a \"&DC33&\" SMMLV. Debe estar sometido a alguna convocatoria externa internacional\"","v":"Nueva propuesta conducente a ingreso a la UMNG de recursos externos en efectivo, superiores a la contrapartida en especie comprometida por la  UMNG por un valor mayor o igual a  SMMLV. Debe estar sometido a alguna convocatoria externa internacional"}," "]
[null,null,null,null,null,9,{"$f":"Presupuesto!I22","v":0},{"$f":"Presupuesto!E22","v":0},{"$f":"Presupuesto!F22","v":0},{"$f":"Presupuesto!G22","v":0},{"$f":"Presupuesto!H22","v":0},{"$f":"Presupuesto!C38","v":0},{"$f":"Presupuesto!D38","v":0},{"$f":"Presupuesto!E38","v":0},{"$f":"Presupuesto!F38","v":0},{"$f":"Presupuesto!G38","v":"No Aplica"},{"$f":"Presupuesto!H38","v":0},{"$f":"Presupuesto!C59","v":0},{"$f":"Presupuesto!D59","v":1},{"$f":"Presupuesto!E59","v":0},{"$f":"Presupuesto!F59","v":0},{"$f":"Presupuesto!G59","v":0},{"$f":"Presupuesto!H59","v":0},{"$f":"Presupuesto!I59","v":0},null,null,18,"Programa","ECO","Contaduría Pública","X",null,25,"Grupo de Estudios en Ciencias Económicas - CIE",null,null,null,1,1,33,"HUM","Cultura y Desarrollo Humano","COL0002896","A","https://scienti.colciencias.gov.co/gruplac/jsp/visualiza/visualizagr.jsp?nro=00000000000740","BB4:BB6",{"$f":"ROW()","v":39},{"$f":"MINA(IF(AQ39=$BA$4:$BA$411,$BD$4:$BD$411))","v":4},{"$f":"MAXA(IF(AQ39=$BA$4:$BA$411,$BD$4:$BD$411))","v":6},"HUM",null,null,"COL0101099","Educación y Sociedad",{"$f":"COUNTIF(BA$4:BA39,BA39)","v":1},{"$f":"ROW()","v":39},1,0,null,null,null,null,null,null,null,null,null,null,null,null,null,36,"Ciencias Agrícolas-Otras Ciencias Agrícolas","Ciencias Agrícolas","Otras Ciencias Agrícolas",36,null,null,null,null,null,null,null,null,null,null,null,null,null,null,37,305,"Producción resultado de actividades de apropiación social del conocimiento (ASC)","Participación en redes de conocimiento especializado","Participación en redes de conocimiento especializado","Nombre de la red, lugar, fecha de inicio, investigador principal o gestor, nombre de la comunidad o comunidades participantes, página Web, instituciones o entidades gestionadoras o patrocinadoras.",20,0,0,null,null,null,"Ejecución del proyecto, sometido a la presente convocatoria, en la modalidad de cooperación a través de convenio especial de cooperación o instrumento contractual equivalente, con instituciones de carácter nacional que cumplan con el criterio de evaluación de colaboración externa, enunciado en los presentes términos de referencia."," "]
[null,null,null,null,null,10,{"$f":"Presupuesto!I23","v":0},{"$f":"Presupuesto!E23","v":0},{"$f":"Presupuesto!F23","v":0},{"$f":"Presupuesto!G23","v":0},{"$f":"Presupuesto!H23","v":0},{"$f":"Presupuesto!C39","v":0},{"$f":"Presupuesto!D39","v":0},{"$f":"Presupuesto!E39","v":0},{"$f":"Presupuesto!F39","v":0},{"$f":"Presupuesto!G39","v":"No Aplica"},{"$f":"Presupuesto!H39","v":0},{"$f":"Presupuesto!C60","v":0},{"$f":"Presupuesto!D60","v":1},{"$f":"Presupuesto!E60","v":0},{"$f":"Presupuesto!F60","v":0},{"$f":"Presupuesto!G60","v":0},{"$f":"Presupuesto!H60","v":0},{"$f":"Presupuesto!I60","v":0},null,null,18,"Programa","ECO","Economía","X",null,26,"Grupo de estudios sobre desigualdades sociales",null,null,null,1,1,34,"HUM","BioethicsGroup","COL0031824","A","https://scienti.colciencias.gov.co/gruplac/jsp/visualiza/visualizagr.jsp?nro=00000000001353","BB14:BB17",{"$f":"ROW()","v":40},{"$f":"MINA(IF(AQ40=$BA$4:$BA$411,$BD$4:$BD$411))","v":14},{"$f":"MAXA(IF(AQ40=$BA$4:$BA$411,$BD$4:$BD$411))","v":17},"HUM",null,null,"COL0101099","FILOSOFIA POLITICA Y REPONSABILIDAD SOCIAL",{"$f":"COUNTIF(BA$4:BA40,BA40)","v":2},{"$f":"ROW()","v":40},1,0,null,null,null,null,null,null,null,null,null,null,null,null,null,37,"Ciencias Agrícolas-Agricultura, Silvicultura y Pesca","Ciencias Agrícolas","Agricultura, Silvicultura y Pesca",37,null,null,null,null,null,null,null,null,null,null,null,null,null,null,38,306,"Producción resultado de actividades de apropiación social del conocimiento (ASC)","Transferencia con prueba de validación SRL 5 ","Transferencia con prueba de validación SRL 5 ","Documentación de transferencia social SRL5: Validación de las soluciones propuestas por las partes interesadas que son relevantes en el\nárea/región/materia específica.",35,0,0,null,null,null,"Ejecución del proyecto, sometido a la presente convocatoria, en la modalidad de cooperación a través de convenio especial de cooperación o instrumento\ncontractual equivalente, con instituciones de carácter internacional en la que mínimo una de ellas tiene domicilio en el exterior y que cumplan con el criterio\nde evaluación de colaboración externa, enunciado en los presentes términos de referencia."," "]
[null,null,null,null,null,11," "," "," "," "," ",{"$f":"Presupuesto!C40","v":0},{"$f":"Presupuesto!D40","v":0},{"$f":"Presupuesto!E40","v":0},{"$f":"Presupuesto!F40","v":0},{"$f":"Presupuesto!G40","v":"No Aplica"},{"$f":"Presupuesto!H40","v":0},{"$f":"Presupuesto!C61","v":0},{"$f":"Presupuesto!D61","v":1},{"$f":"Presupuesto!E61","v":0},{"$f":"Presupuesto!F61","v":0},{"$f":"Presupuesto!G61","v":0},{"$f":"Presupuesto!H61","v":0},{"$f":"Presupuesto!I61","v":0},null,null,18,"Programa","ECO","Tecnología en Contabilidad y Tributaria","X",null,69,"Grupo de inmunología Clínica Aplicada (GICA)",null,null,null,1,1,35,"ING","Grupo de Investigación en Multimedia -GIM-","COL0044859","A","https://scienti.colciencias.gov.co/gruplac/jsp/visualiza/visualizagr.jsp?nro=00000000002706","BB255:BB259",{"$f":"ROW()","v":41},{"$f":"MINA(IF(AQ41=$BA$4:$BA$411,$BD$4:$BD$411))","v":255},{"$f":"MAXA(IF(AQ41=$BA$4:$BA$411,$BD$4:$BD$411))","v":259},"ING",null,null,"COL0101099","HUMANIDADES, CULTURA Y UNIVERSIDAD",{"$f":"COUNTIF(BA$4:BA41,BA41)","v":3},{"$f":"ROW()","v":41},1,0,null,null,null,null,null,null,null,null,null,null,null,null,null,38,"Humanidades-Arte","Humanidades","Arte",38,null,null,null,null,null,null,null,null,null,null,null,null,null,null,39,307,"Producción resultado de actividades de apropiación social del conocimiento (ASC)","Transferencia con prueba de validación SRL 6","Transferencia con prueba de validación SRL 6","Documentación de transferencia social SRL6: Soluciones demostradas en un entorno, relevante para el proyecto, en colaboración con las partes interesadas, relevantes para el proyecto, para obtener retroalimentación inicial sobre la repercusión potencial.",45,0,0,null,null,null,"Nuevos-----------------"," "]
[null,null,null,null,null,12," "," "," "," "," ",{"$f":"Presupuesto!C41","v":0},{"$f":"Presupuesto!D41","v":0},{"$f":"Presupuesto!E41","v":0},{"$f":"Presupuesto!F41","v":0},{"$f":"Presupuesto!G41","v":"No Aplica"},{"$f":"Presupuesto!H41","v":0},{"$f":"Presupuesto!C62","v":0},{"$f":"Presupuesto!D62","v":1},{"$f":"Presupuesto!E62","v":0},{"$f":"Presupuesto!F62","v":0},{"$f":"Presupuesto!G62","v":0},{"$f":"Presupuesto!H62","v":0},{"$f":"Presupuesto!I62","v":0},null,null,18,"Programa","ECO","Maestría en Gestión de Organizaciones ",24,null,2,"Grupo de investigación en Biodiversidad y ecología de abejas silvestres",null,null,null,1,1,36,"ING","GEOTECNIA","COL0005439","A","https://scienti.colciencias.gov.co/gruplac/jsp/visualiza/visualizagr.jsp?nro=00000000000739","BB162:BB166",{"$f":"ROW()","v":42},{"$f":"MINA(IF(AQ42=$BA$4:$BA$411,$BD$4:$BD$411))","v":162},{"$f":"MAXA(IF(AQ42=$BA$4:$BA$411,$BD$4:$BD$411))","v":166},"ING",null,null,"COL0101099","Liderazgo y gestión en educación.",{"$f":"COUNTIF(BA$4:BA42,BA42)","v":4},{"$f":"ROW()","v":42},1,0,null,null,null,null,null,null,null,null,null,null,null,null,null,39,"Humanidades-Otras Humanidades","Humanidades","Otras Humanidades",39,null,null,null,null,null,null,null,null,null,null,null,null,null,null,40,308,"Producción resultado de actividades de apropiación social del conocimiento (ASC)","Documentos de trabajo (working papers) ","Documentos de trabajo (working papers) ","Título del documento, autor(es), año en que elaboró el documento, instituciones vinculadas en la realización del documento, Página WEB (del working paper) o DOI en donde se encuentra publicado el documento (si la tiene)",15,0,0,null,null,null,"Nuevos-----------------"," "]
[null,null,null,null,null,13," "," "," "," "," ",{"$f":"Presupuesto!C42","v":0},{"$f":"Presupuesto!D42","v":0},{"$f":"Presupuesto!E42","v":0},{"$f":"Presupuesto!F42","v":0},{"$f":"Presupuesto!G42","v":"No Aplica"},{"$f":"Presupuesto!H42","v":0},{"$f":"Presupuesto!C63","v":0},{"$f":"Presupuesto!D63","v":1},{"$f":"Presupuesto!E63","v":0},{"$f":"Presupuesto!F63","v":0},{"$f":"Presupuesto!G63","v":0},{"$f":"Presupuesto!H63","v":0},{"$f":"Presupuesto!I63","v":0},null,null,19,"Programa","ECO","Especialización en Alta Gerencia",25,null,58,"Grupo de Investigacion en Dermatologia HMC",null,null,null,1,1,37,"ING","TIGUM: Grupo de Investigacion en Telemedicina Universidad Militar","COL0052181","A","https://scienti.colciencias.gov.co/gruplac/jsp/visualiza/visualizagr.jsp?nro=00000000003508","BB275:BB280",{"$f":"ROW()","v":43},{"$f":"MINA(IF(AQ43=$BA$4:$BA$411,$BD$4:$BD$411))","v":275},{"$f":"MAXA(IF(AQ43=$BA$4:$BA$411,$BD$4:$BD$411))","v":280},"ING",null,null,"COL0151789","Diseño de Producto",{"$f":"COUNTIF(BA$4:BA43,BA43)","v":1},{"$f":"ROW()","v":43},1,0,null,null,null,null,null,null,null,null,null,null,null,null,null,40,"Humanidades-Otras historias","Humanidades","Otras historias",40,null,null,null,null,null,null,null,null,null,null,null,null,null,null,41,309,"Producción resultado de actividades de apropiación social del conocimiento (ASC)","Informes técnicos","Informes técnicos","Título del informe; Proyecto de la investigación que da origen al informe técnico; Fecha en que se realizó el informe; Certificación de la entidad que tomó como base el informe para la toma de decisiones",20,0,0]
[null,null,null,null,null,14," "," "," "," "," ",{"$f":"Presupuesto!C43","v":0},{"$f":"Presupuesto!D43","v":0},{"$f":"Presupuesto!E43","v":0},{"$f":"Presupuesto!F43","v":0},{"$f":"Presupuesto!G43","v":"No Aplica"},{"$f":"Presupuesto!H43","v":0},{"$f":"Presupuesto!C64","v":0},{"$f":"Presupuesto!D64","v":1},{"$f":"Presupuesto!E64","v":0},{"$f":"Presupuesto!F64","v":0},{"$f":"Presupuesto!G64","v":0},{"$f":"Presupuesto!H64","v":0},{"$f":"Presupuesto!I64","v":0},null,null,20,"Programa","ECO","Especialización en Administración Aeronáutica y Aeroespacial",26,null,9,"Grupo de Investigación en Hidrobiología Aplicada (HIDROBIA)",null,null,null,0,0,38,"ING","VOLTA - Grupo de Materiales, Corrosión, Degradación y Protección (GMCDP) ","COL0065804","A1","https://scienti.colciencias.gov.co/gruplac/jsp/visualiza/visualizagr.jsp?nro=00000000004193","BB7:BB9",{"$f":"ROW()","v":44},{"$f":"MINA(IF(AQ44=$BA$4:$BA$411,$BD$4:$BD$411))","v":7},{"$f":"MAXA(IF(AQ44=$BA$4:$BA$411,$BD$4:$BD$411))","v":9},"ING",null,null,"COL0151789","Ergonomía y Tecnología Biomédica",{"$f":"COUNTIF(BA$4:BA44,BA44)","v":2},{"$f":"ROW()","v":44},1,0,null,null,null,null,null,null,null,null,null,null,null,null,null,41,"Humanidades-Historia y Arqueología","Humanidades","Historia y Arqueología",41,null,null,null,null,null,null,null,null,null,null,null,null,null,null,42,310,"Producción resultado de actividades de apropiación social del conocimiento (ASC)","Consultorías (científico tecnológicas y de investigación-creación)","Consultorías (científico tecnológicas y de investigación-creación)","Título de la consultoría; Número de Contrato o documento que soporta la realización de la consultoría; Fecha en que se prestó la consultoría; Certificación de la empresa o entidad sobre el objeto y la calidad de la consultoría prestada.",10,0,0]
[null,null,null,null,null,15," "," "," "," "," "," "," "," "," "," "," ",{"$f":"Presupuesto!C65","v":0},{"$f":"Presupuesto!D65","v":1},{"$f":"Presupuesto!E65","v":0},{"$f":"Presupuesto!F65","v":0},{"$f":"Presupuesto!G65","v":0},{"$f":"Presupuesto!H65","v":0},{"$f":"Presupuesto!I65","v":0},null,null,21,"Programa","ECO","Especialización en Control Interno",27,null,35,"Grupo de Investigación en Multimedia -GIM-",null,null,null,1,1,39,"ING","PRODUCCION, INNOVACION Y TECNOLOGIA","COL0049999","B","https://scienti.colciencias.gov.co/gruplac/jsp/visualiza/visualizagr.jsp?nro=00000000003290","BB189:BB194",{"$f":"ROW()","v":45},{"$f":"MINA(IF(AQ45=$BA$4:$BA$411,$BD$4:$BD$411))","v":189},{"$f":"MAXA(IF(AQ45=$BA$4:$BA$411,$BD$4:$BD$411))","v":194},"ING",null,null,"COL0151789","Gestión de Procesos de Planeación y de Construcción.",{"$f":"COUNTIF(BA$4:BA45,BA45)","v":3},{"$f":"ROW()","v":45},1,0,null,null,null,null,null,null,null,null,null,null,null,null,null,42,"Humanidades-Idiomas y Literatura","Humanidades","Idiomas y Literatura",42,null,null,null,null,null,null,null,null,null,null,null,null,null,null,43,311,"Producción resultado de actividades de apropiación social del conocimiento (ASC)","Publicaciones editoriales no especializadas","Publicaciones editoriales no especializadas","Nombre del Producto, descripción del público objetivo, conceptualización del formato y descripción del género en el que se enmarca, lineamientos conceptuales y referentes creativos, características técnicas, estructura narrativa (Desarrollo temático) y ruta de circulación propuesta (Evidencia de alianzas para la difusión del contenido).Ruta de Circulación, Público Objetivo, Medio de verificación. Acceso al contenido (enlace).",10,0,0]
[null,null,null,null,null,16," "," "," "," "," "," "," "," "," "," "," ",{"$f":"Presupuesto!C66","v":0},{"$f":"Presupuesto!D66","v":1},{"$f":"Presupuesto!E66","v":0},{"$f":"Presupuesto!F66","v":0},{"$f":"Presupuesto!G66","v":0},{"$f":"Presupuesto!H66","v":0},{"$f":"Presupuesto!I66","v":0},null,null,22,"Programa","ECO","Especialización en Gestión de Desarrollo Administrativo",28,null,12,"Grupo de investigación en química ambiental y tecnologías limpias - QUATELI",null,null,null,1,1,40,"ING","GIDAM","COL0116636","B","https://scienti.colciencias.gov.co/gruplac/jsp/visualiza/visualizagr.jsp?nro=00000000011773","BB91:BB95",{"$f":"ROW()","v":46},{"$f":"MINA(IF(AQ46=$BA$4:$BA$411,$BD$4:$BD$411))","v":91},{"$f":"MAXA(IF(AQ46=$BA$4:$BA$411,$BD$4:$BD$411))","v":95},"ING",null,null,"COL0151789","Gestión de Procesos, Proyectos, Seguridad y Medio Ambiente",{"$f":"COUNTIF(BA$4:BA46,BA46)","v":4},{"$f":"ROW()","v":46},1,0,null,null,null,null,null,null,null,null,null,null,null,null,null,null,null,null,null,null,null,null,null,null,null,null,null,null,null,null,null,null,null,null,44,312,"Producción resultado de actividades de apropiación social del conocimiento (ASC)","Producciones de contenido digital","Producciones de contenido digital","Nombre del Producto, descripción del público objetivo, conceptualización del formato y descripción del género en el que se enmarca, lineamientos conceptuales y referentes creativos, características técnicas, estructura narrativa (Desarrollo temático) y ruta de circulación propuesta (Evidencia de alianzas para la difusión del contenido).Ruta de Circulación, Público Objetivo, Medio de verificación, Duración. Acceso al  contenido (enlace).",10,0,0]
[null,null,null,null,null,17," "," "," "," "," "," "," "," "," "," "," ",{"$f":"Presupuesto!C67","v":0},{"$f":"Presupuesto!D67","v":1},{"$f":"Presupuesto!E67","v":0},{"$f":"Presupuesto!F67","v":0},{"$f":"Presupuesto!G67","v":0},{"$f":"Presupuesto!H67","v":0},{"$f":"Presupuesto!I67","v":0},null,null,23,"Programa","ECO","Especialización en Gerencia en Comercio Internacional",29,null,63,"Grupo de Investigacion en Urologia HMC",null,null,null,1,1,41,"ING","DAVINCI","COL0036025","A1","https://scienti.colciencias.gov.co/gruplac/jsp/visualiza/visualizagr.jsp?nro=00000000001843","BB10:BB13",{"$f":"ROW()","v":47},{"$f":"MINA(IF(AQ47=$BA$4:$BA$411,$BD$4:$BD$411))","v":10},{"$f":"MAXA(IF(AQ47=$BA$4:$BA$411,$BD$4:$BD$411))","v":13},"ING",null,null,"COL0151789","Procesos y Contaminación Ambiental",{"$f":"COUNTIF(BA$4:BA47,BA47)","v":5},{"$f":"ROW()","v":47},1,0,null,null,null,null,null,null,null,null,null,null,null,null,null,null,null,null,null,null,null,null,null,null,null,null,null,null,null,null,null,null,null,null,45,313,"Producción resultado de actividades de apropiación social del conocimiento (ASC)","Producción de estrategias y contenido transmedia, y desarrollos web","Producción de estrategias y contenido transmedia, y desarrollos web","Nombre del Producto. Registro Descripción del público objetivo, conceptualización del formato y descripción del género en el que se enmarca, descripción del componente transmediático (descripción convergencia de medios y plataformas propuesta, ¿cuáles y cómo se integran?, descripción del componente interactivo, ¿cómo se integra al usuario dentro de la experiencia?, lineamientos conceptuales y referentes creativos, características técnicas, estructura narrativa (Desarrollo temático) y ruta de circulación propuesta (Evidencia de alianzas para la difusión del contenido). Duración. Ruta de Circulación. Público Objetivo. Certificación de alianza estratégica para la producción o circulación del contenido. Medio de verificación. Productos publicados en repositorio institucional con los requerimientos de existencia definidos. ",10,0,0]
[null,null,null,null,null,18," "," "," "," "," "," "," "," "," "," "," ",{"$f":"Presupuesto!C68","v":0},{"$f":"Presupuesto!D68","v":1},{"$f":"Presupuesto!E68","v":0},{"$f":"Presupuesto!F68","v":0},{"$f":"Presupuesto!G68","v":0},{"$f":"Presupuesto!H68","v":0},{"$f":"Presupuesto!I68","v":0},null,null,24,"Programa","ECO","Especialización en Finanzas y Administración Pública",30,null,73,"Grupo de investigaciones sobre agentes radiológicos, biológicos y químicos",null,null,null,1,1,42,"ING","Estructuras y sísmica","COL0016999","A1","https://scienti.colciencias.gov.co/gruplac/jsp/visualiza/visualizagr.jsp?nro=00000000000737","BB113:BB117",{"$f":"ROW()","v":48},{"$f":"MINA(IF(AQ48=$BA$4:$BA$411,$BD$4:$BD$411))","v":113},{"$f":"MAXA(IF(AQ48=$BA$4:$BA$411,$BD$4:$BD$411))","v":117},"ING",null,null,"COL0151789","Sistemas Información e Interacción",{"$f":"COUNTIF(BA$4:BA48,BA48)","v":6},{"$f":"ROW()","v":48},1,0,null,null,null,null,null,null,null,null,null,null,null,null,null,null,null,null,null,null,null,null,null,null,null,null,null,null,null,null,null,null,null,null,46,401,"Formación de Recurso Humano (FRH)","Dirección o codirección de Tesis de doctorado","Dirección de tesis finalizada de Doctorado de estudiantes de programas de Doctorado de la UMNG, con temáticas asociadas a la línea de investigación a la que pertenece el proyecto.","Acta de designación, anteproyecto con código de trazabilidad y acta de acompañamiento final",0,0,0]
[null,null,null,null,null,19," "," "," "," "," "," "," "," "," "," "," ",{"$f":"Presupuesto!C69","v":0},{"$f":"Presupuesto!D69","v":1},{"$f":"Presupuesto!E69","v":0},{"$f":"Presupuesto!F69","v":0},{"$f":"Presupuesto!G69","v":0},{"$f":"Presupuesto!H69","v":0},{"$f":"Presupuesto!I69","v":0},null,null,25,"Programa","ECO","Especialización en Mercadeo de Servicios",31,null,5,"Grupo de Micología y Fitopatologia ",null,null,null,1,1,43,"ING","INGENIERÍA, GEOMÁTICA Y EDUCACIÓN (IGE)","COL0047566","B","https://scienti.colciencias.gov.co/gruplac/jsp/visualiza/visualizagr.jsp?nro=00000000003044","BB134:BB139",{"$f":"ROW()","v":49},{"$f":"MINA(IF(AQ49=$BA$4:$BA$411,$BD$4:$BD$411))","v":134},{"$f":"MAXA(IF(AQ49=$BA$4:$BA$411,$BD$4:$BD$411))","v":139},"ING",null,null,"COL0116538","Andrologia y Salud sexual",{"$f":"COUNTIF(BA$4:BA49,BA49)","v":1},{"$f":"ROW()","v":49},1,0,null,null,null,null,null,null,null,null,null,null,null,null,null,null,null,null,null,null,null,null,null,null,null,null,null,null,null,null,null,null,null,null,47,402,"Formación de Recurso Humano (FRH)","Dirección o codirección de Trabajo de maestría","Dirección de trabajo de grado finalizado de estudiantes de programas de Maestría de la UMNG, con temáticas asociadas a línea de investigación a la que pertenece el proyecto","Acta de designación, anteproyecto con código de trazabilidad y acta de acompañamiento final",0,0,0]
[null,null,null,null,null,20," "," "," "," "," "," "," "," "," "," "," ",{"$f":"Presupuesto!C70","v":0},{"$f":"Presupuesto!D70","v":1},{"$f":"Presupuesto!E70","v":0},{"$f":"Presupuesto!F70","v":0},{"$f":"Presupuesto!G70","v":0},{"$f":"Presupuesto!H70","v":0},{"$f":"Presupuesto!I70","v":0},null,null,26,"Programa","ECO","Especialización en Revisoría Fiscal y Auditoría Internacional",32,null,54,"Grupo de Psoriasis e Inmunodermatologia",null,null,null,1,1,44,"ING","ACCEDER","COL0036749","C","https://scienti.colciencias.gov.co/gruplac/jsp/visualiza/visualizagr.jsp?nro=00000000012996","BB37:BB38",{"$f":"ROW()","v":50},{"$f":"MINA(IF(AQ50=$BA$4:$BA$411,$BD$4:$BD$411))","v":37},{"$f":"MAXA(IF(AQ50=$BA$4:$BA$411,$BD$4:$BD$411))","v":38},"ING",null,null,"COL0116538","Hiperplasia Prostatica",{"$f":"COUNTIF(BA$4:BA50,BA50)","v":2},{"$f":"ROW()","v":50},1,0,null,null,null,null,null,null,null,null,null,null,null,null,null,null,null,null,null,null,null,null,null,null,null,null,null,null,null,null,null,null,null,null,48,403,"Formación de Recurso Humano (FRH)","Jóven Investigador","Joven investigador vinculado por mínimo ocho meses según los criterios de la Resolución vigente  sobre vinculación de personal a los proyectos de investigación financiados o cofinanciados por la UMNG en los programas de CTeI.","Contrato OPS , informe de actividades final.",0,0,0]
[null,null,null,null,null,21," "," "," "," "," "," "," "," "," "," "," ",{"$f":"Presupuesto!C86","v":0},{"$f":"Presupuesto!D86","v":0},{"$f":"Presupuesto!E86","v":0},{"$f":"Presupuesto!F86","v":0},{"$f":"Presupuesto!G86","v":0},{"$f":"Presupuesto!H86","v":0},{"$f":"Presupuesto!I86","v":0},null,null,27,"Programa","EES","Relaciones Internacionales y Estudios Políticos",12,null,62,"Grupo de Rehabilitacion HOMIC-UMNG",null,null,null,1,1,45,"ING","Agua y Energía - AyE","COL0026486","A","https://scienti.colciencias.gov.co/gruplac/jsp/visualiza/visualizagr.jsp?nro=00000000000767","BB79:BB83",{"$f":"ROW()","v":51},{"$f":"MINA(IF(AQ51=$BA$4:$BA$411,$BD$4:$BD$411))","v":79},{"$f":"MAXA(IF(AQ51=$BA$4:$BA$411,$BD$4:$BD$411))","v":83},"ING",null,null,"COL0116538","Incontinencia Urinaria",{"$f":"COUNTIF(BA$4:BA51,BA51)","v":3},{"$f":"ROW()","v":51},1,0,null,null,null,null,null,null,null,null,null,null,null,null,null,null,null,null,null,null,null,null,null,null,null,null,null,null,null,null,null,null,null,null,49,404,"Formación de Recurso Humano (FRH)","Dirección o codirección de Trabajo de pregrado","Dirección de Trabajo de grado de estudiantes en programas de pregrado de la UMNG, con temáticas asociadas a línea de investigación a la que pertenece el proyecto.","Copia del acta sustentación del proyecto de grado",0,0,0]
[null,null,null,null,null,22," "," "," "," "," "," "," "," "," "," "," ",null,null,null,null,null,null,null,null,null,28,"Programa","EES","Administración de la Seguridad y Salud Ocupacional",13,null,60,"Grupo de Salud Oral y Cirugia Maxilofacial",null,null,null,1,1,46,"ING","GISSIC: Grupo de Investigacion en Seguridad y Sistemas de Comunicaciones","COL0052163","A","https://scienti.colciencias.gov.co/gruplac/jsp/visualiza/visualizagr.jsp?nro=00000000003506","BB96:BB100",{"$f":"ROW()","v":52},{"$f":"MINA(IF(AQ52=$BA$4:$BA$411,$BD$4:$BD$411))","v":96},{"$f":"MAXA(IF(AQ52=$BA$4:$BA$411,$BD$4:$BD$411))","v":100},"ING",null,null,"COL0116538","Litiasis y endourologia",{"$f":"COUNTIF(BA$4:BA52,BA52)","v":4},{"$f":"ROW()","v":52},1,0,null,null,null,null,null,null,null,null,null,null,null,null,null,null,null,null,null,null,null,null,null,null,null,null,null,null,null,null,null,null,null,null,50,405,"Formación de Recurso Humano (FRH)","Tutoría de un proyecto de iniciación científica","Tutoría de un proyecto de iniciación científica de estudiantes de la UMNG, con temáticas asociadas a línea de investigación a la que pertenece el proyecto.","Informe final y acta del Comité de investigaciones con el aval del cierre del PIC",0,0,0]
[null,null,null,null,null,null,null,null,null,null,null,null,null,null,null,null,null,null,null,null,null,null,null,null,null,null,31,"Programa","EES","Maestría en Relaciones y Negocios Internacionales",44,null,11,"Grupo Integrado de Investigaciones en Química Bioorgánica (InQuiBio)",null,null,null,1,1,47,"ING","GAV","COL0068762","A","https://scienti.colciencias.gov.co/gruplac/jsp/visualiza/visualizagr.jsp?nro=00000000004391","BB238:BB240",{"$f":"ROW()","v":53},{"$f":"MINA(IF(AQ53=$BA$4:$BA$411,$BD$4:$BD$411))","v":238},{"$f":"MAXA(IF(AQ53=$BA$4:$BA$411,$BD$4:$BD$411))","v":240},"ING",null,null,"COL0116538","Oncologia Urologica",{"$f":"COUNTIF(BA$4:BA53,BA53)","v":5},{"$f":"ROW()","v":53},1,0,null,null,null,null,null,null,null,null,null,null,null,null,null,null,null,null,null,null,null,null,null,null,null,null,null,null,null,null,null,null,null,null,51,406,"Formación de Recurso Humano (FRH)","Apoyo a la creación de programas o cursos de doctorado y de maestría","Apoyo a la creación de programas o cursos de doctorado y de maestría","Nombre del programa o del curso y del programa donde se imparte, institución universitaria, facultad, departamento, identificación del acto administrativo, número del acto administrativo, fecha",40,0,0]
[null,null,null,null,null,null,null,null,null,null,null,null,"Recopilación deTextos",null,null,null,null,null,null,null,null,null,null,null,null,null,32,"Programa","EES","Especialización en Administración de la Seguridad",45,null,57,"GRUPO NEUROCIENCIAS HMC",null,null,null,1,1,48,"ING","Energia alternativa, Centro Multidisciplinario de Investigación","COL0117052","C","https://scienti.colciencias.gov.co/gruplac/jsp/visualiza/visualizagr.jsp?nro=00000000011817","BB309:BB313",{"$f":"ROW()","v":54},{"$f":"MINA(IF(AQ54=$BA$4:$BA$411,$BD$4:$BD$411))","v":309},{"$f":"MAXA(IF(AQ54=$BA$4:$BA$411,$BD$4:$BD$411))","v":313},"ING",null,null,"COL0116538","Urologia Pediatrica",{"$f":"COUNTIF(BA$4:BA54,BA54)","v":6},{"$f":"ROW()","v":54},1,0,null,null,null,null,null,null,null,null,null,null,null,null,null,null,null,null,null,null,null,null,null,null,null,null,null,null,null,null,null,null,null,null,52,407,"Formación de Recurso Humano (FRH)","Creación de un diplomado institucional o misional con aporte de un Joven\ninvestigador.","Creación de un diplomado institucional o misional con aporte de un Joven\ninvestigador.","Nombre del programa de diplomado, institución universitaria, facultad, departamento, identificación del acto administrativo, número del acto administrativo, fecha y documento con aporte del joven investigador.",10,0,0]
[null,null,null,null,null,"No","Impacto","Categoria","Plazo"," "," ","No","No. Hoja","Hoja","Letra","No","Texto","Diferencia",null,null,null,null,null,null,null,null,33,"Programa","EES","Especialización en Alta Gerencia de la Seguridad y Defensa",46,null,55,"ORTOPEDIA Y TRAUMATOLOGIA HMC UMNG",null,null,null,1,1,49,"ING","GI-iTEC - Grupo de Investigación e innovación Tecnológica en Electrónica y Comunicaciones","COL0143731","C","https://scienti.colciencias.gov.co/gruplac/jsp/visualiza/visualizagr.jsp?nro=00000000014576","BB84:BB86",{"$f":"ROW()","v":55},{"$f":"MINA(IF(AQ55=$BA$4:$BA$411,$BD$4:$BD$411))","v":84},{"$f":"MAXA(IF(AQ55=$BA$4:$BA$411,$BD$4:$BD$411))","v":86},"ING",null,null,"COL0149359","GESTION DE LA EDUCACION Y LA ACADEMIA",{"$f":"COUNTIF(BA$4:BA55,BA55)","v":1},{"$f":"ROW()","v":55},1,0,null,null,null,null,null,null,null,null,null,null,null,null,null,null,null,null,null,null,null,null,null,null,null,null,null,null,null,null,null,null,null,null,53,408,"Formación de Recurso Humano (FRH)","Capacitación","Capacitación a la Comunidad interesada en el desarrollo del proyecto","Acta de asistencia,Evidencia fotografica y/o Video y material de sustentación",10,0,0]
[null,null,null,null,null,{"$f":"ROW()-55","v":1},{"$f":"CLEAN(TRIM(Impactos!C8))","v":"Impacto principal"},{"$f":"Impactos!F8","v":0},{"$f":"Impactos!#REF!","v":{"$error":"#REF!"}}," "," ",{"$f":"COUNTIF(N$56:N56,N56)","v":1},3,{"$f":"NbHoja(M56)","v":"Justifica"},"C",1,{"$f":"CLEAN(TRIM(INDIRECT($N56&\"!\"&$O56&(P56+R56),1)))","v":""},6,null,null,null,null,null,null,null,null,34,"Programa","HUM","Especialización en Docencia Universitaria",55,null,32,"HUMANITAS",null,null,null,1,1,50,"ING","LA TRAMOYA","COL0126777","NR","https://scienti.colciencias.gov.co/gruplac/jsp/visualiza/visualizagr.jsp?nro=00000000012813","BB241:BB246",{"$f":"ROW()","v":56},{"$f":"MINA(IF(AQ56=$BA$4:$BA$411,$BD$4:$BD$411))","v":241},{"$f":"MAXA(IF(AQ56=$BA$4:$BA$411,$BD$4:$BD$411))","v":246},"ING",null,null,"COL0149359","GESTION DE LA SALUD PUBLICA",{"$f":"COUNTIF(BA$4:BA56,BA56)","v":2},{"$f":"ROW()","v":56},1,0,null,null,null,null,null,null,null,null,null,null,null,null,null,null,null,null,null,null,null,null,null,null,null,null,null,null,null,null,null,null,null,null,54,501,"Gestión de la Investigación (GI)","Presentación de nuevo proyecto Externo Nacional","Nueva propuesta conducente al ingreso de recursos externos en efectivo a la UMNG, superiores a la contrapartida en especie comprometida por la UMNG","Carta de aval institucional, registro de sometimiento a la convocatoria externa o a la entidad financiadora o coordinadora de la convocatoria y listado de elegibles en el que está incluida la propuesta.",0,0,0]
[null,null,null,null,null,{"$f":"ROW()-55","v":2},{"$f":"CLEAN(TRIM(Impactos!E9))","v":"Lineas de apropiación social"},{"$f":"Impactos!D9","v":0},{"$f":"Impactos!#REF!","v":{"$error":"#REF!"}}," "," ",{"$f":"COUNTIF(N$56:N57,N57)","v":2},3,{"$f":"NbHoja(M57)","v":"Justifica"},{"$f":"O56","v":"C"},{"$f":"P56+1","v":2},{"$f":"CLEAN(TRIM(INDIRECT($N57&\"!\"&$O57&(P57+R57),1)))","v":""},{"$f":"R56","v":6},null,null,null,null,null,null,null,null,34,"Programa","HUM","Maestría en Educación",55,null,77,"ICAAO: Inteligencia Computacional, Aprendizaje Automático y Optimización",null,null,null,1,1,51,"ING","GREST","COL0151789","A","https://scienti.colciencias.gov.co/gruplac/jsp/visualiza/visualizagr.jsp?nro=00000000015386","BB43:BB48",{"$f":"ROW()","v":57},{"$f":"MINA(IF(AQ57=$BA$4:$BA$411,$BD$4:$BD$411))","v":43},{"$f":"MAXA(IF(AQ57=$BA$4:$BA$411,$BD$4:$BD$411))","v":48},"ING",null,null,"COL0149359","GESTIÓN DE LA ÉTICA Y EL CONOCIMIENTO",{"$f":"COUNTIF(BA$4:BA57,BA57)","v":3},{"$f":"ROW()","v":57},1,0,null,null,null,null,null,null,null,null,null,null,null,null,null,null,null,null,null,null,null,null,null,null,null,null,null,null,null,null,null,null,null,null,55,502,"Gestión de la Investigación (GI)","Presentación de nuevo proyecto Externo Nacional 350","Nueva propuesta conducente a ingreso a la UMNG de recursos externos nacionales en efectivo, superiores a la contrapartida en especie comprometida por la UMNG por un valor mayor o igual a 350 SMMLV.","Carta de aval  institucional, registro de sometimiento a la convocatoria externa o a la entidad financiadora o coordinadora de la convocatoria y listado de elegibles en el que está incluida la propuesta.",0,0,0]
[null,null,null,null,null,3,{"$f":"CLEAN(TRIM(Impactos!#REF!))","v":{"$error":"#REF!"}},{"$f":"Impactos!#REF!","v":{"$error":"#REF!"}},{"$f":"Impactos!#REF!","v":{"$error":"#REF!"}}," "," ",{"$f":"COUNTIF(N$56:N58,N58)","v":3},3,"Justifica",{"$f":"O57","v":"C"},{"$f":"P57+1","v":3},"-",{"$f":"R57","v":6},null,null,null,null,null,null,null,null,35,"Programa","HUM","Doctorado de Bioética",55,null,24,"INAMPE",null,null,null,1,1,74,"ING","PROCESOS, OPERACIONES Y LOGISTICA (PROPYLOG)","COL0196753","C","https://scienti.minciencias.gov.co/gruplac/jsp/visualiza/visualizagr.jsp?nro=00000000019879",{"$f":"$AT$2&AV58&\":\"&$AT$2&AW58","v":"BB320:BB324"},{"$f":"ROW()","v":58},{"$f":"MINA(IF(AQ58=$BA$4:$BA$411,$BD$4:$BD$411))","v":320},{"$f":"MAXA(IF(AQ58=$BA$4:$BA$411,$BD$4:$BD$411))","v":324},{"$f":"AO58","v":"ING"},null,null,"COL0142331","Competitividad industrial",{"$f":"COUNTIF(BA$4:BA58,BA58)","v":1},{"$f":"ROW()","v":58},1,0,null,null,null,null,null,null,null,null,null,null,null,null,null,null,null,null,null,null,null,null,null,null,null,null,null,null,null,null,null,null,null,null,56,503,"Gestión de la Investigación (GI)","Presentación de nuevo proyecto Externo internacional 350","Nueva propuesta conducente a ingreso a la UMNG de recursos externos Internacionales en efectivo, superiores a la contrapartida en especie comprometida por la UMNG por un valor mayor o igual a 350 SMMLV.","Carta de aval Institucional, registro de sometimiento a la convocatoria externa o a la entidad financiadora o coordinadora de la convocatoria y listado de elegibles en el que está incluida la propuesta.",0,0,0]
[null,null,null,null,null,4,{"$f":"CLEAN(TRIM(Impactos!#REF!))","v":{"$error":"#REF!"}},{"$f":"Impactos!#REF!","v":{"$error":"#REF!"}},{"$f":"Impactos!#REF!","v":{"$error":"#REF!"}}," "," ",{"$f":"COUNTIF(N$56:N59,N59)","v":4},3,"Justifica","C",4,"Justificación y planteamiento de la propuesta.",6,null,null,null,null,null,null,null,null,36,"Programa","ING","Ingeniería Ambiental",4,null,19,"INCONDIS",null,null,null,1,1,75,"ING","Sistemas de Infraestructura de Ingeniería Civil","COL0196799","C","https://scienti.minciencias.gov.co/gruplac/jsp/visualiza/visualizagr.jsp?nro=00000000019883",{"$f":"$AT$2&AV59&\":\"&$AT$2&AW59","v":"BB325:BB328"},{"$f":"ROW()","v":59},{"$f":"MINA(IF(AQ59=$BA$4:$BA$411,$BD$4:$BD$411))","v":325},{"$f":"MAXA(IF(AQ59=$BA$4:$BA$411,$BD$4:$BD$411))","v":328},{"$f":"AO59","v":"ING"},null,null,"COL0142331","Innovación y educación en Ingenierìa",{"$f":"COUNTIF(BA$4:BA59,BA59)","v":2},{"$f":"ROW()","v":59},1,0,null,null,null,null,null,null,null,null,null,null,null,null,null,null,null,null,null,null,null,null,null,null,null,null,null,null,null,null,null,null,null,null,57,504,"Gestión de la Investigación (GI)","Proyecto ejecutado con cooperación nacional.","Ejecución del proyecto, sometido a la presente convocatoria, en la modalidad de cooperación a través de convenio especial de cooperación o instrumento contractual  equivalente, con instituciones de carácter nacional que cumplan con el criterio de evaluación de colaboración externa, enunciado en los presentes términos de referencia.","Convenio perfeccionado,  actas de inicio y presupuestal firmadas.",0,0,0]
[null,null,null,null,null,5,{"$f":"CLEAN(TRIM(Impactos!#REF!))","v":{"$error":"#REF!"}},{"$f":"Impactos!#REF!","v":{"$error":"#REF!"}},{"$f":"Impactos!#REF!","v":{"$error":"#REF!"}}," "," ",{"$f":"COUNTIF(N$56:N60,N60)","v":5},3,"Justifica","C",5,"",6,null,null,null,null,null,null,null,null,37,"Programa","ING","Ingeniería Biomédica",5,null,43,"INGENIERÍA, GEOMÁTICA Y EDUCACIÓN (IGE)",null,null,null,1,1,52,"MED","CATCH","COL0049659","NR","https://scienti.colciencias.gov.co/gruplac/jsp/visualiza/visualizagr.jsp?nro=00000000003253","BB34:BB36",{"$f":"ROW()","v":60},{"$f":"MINA(IF(AQ60=$BA$4:$BA$411,$BD$4:$BD$411))","v":34},{"$f":"MAXA(IF(AQ60=$BA$4:$BA$411,$BD$4:$BD$411))","v":36},"MED",null,null,"COL0142331","Productividad industrial",{"$f":"COUNTIF(BA$4:BA60,BA60)","v":3},{"$f":"ROW()","v":60},1,0,null,null,null,null,null,null,null,null,null,null,null,null,null,null,null,null,null,null,null,null,null,null,null,null,null,null,null,null,null,null,null,null,58,505,"Gestión de la Investigación (GI)","Proyecto ejecutado con cooperación internacional","Ejecución del proyecto, sometido a la presente convocatoria, en la modalidad de cooperación a través de convenio especial de cooperación o instrumento contractual equivalente, con instituciones de carácter internacional en la que mínimo una de ellas tiene domicilio en el exterior y que cumplan con el criterio de evaluación de colaboración externa, enunciado en los presentes términos de referencia.","Convenio perfeccionado con todas las instituciones participantes de la alianza,  actas de inicio y presupuestal firmadas.",0,0,0]
[null,null,null,null,null,6,{"$f":"CLEAN(TRIM(Impactos!#REF!))","v":{"$error":"#REF!"}},{"$f":"Impactos!#REF!","v":{"$error":"#REF!"}},{"$f":"Impactos!#REF!","v":{"$error":"#REF!"}}," "," ",{"$f":"COUNTIF(N$56:N61,N61)","v":6},3,"Justifica","C",6,"",6,null,null,null,null,null,null,null,null,38,"Programa","ING","Ingeniería Civil",6,null,65,"Ingeniería de Procesos y Tecnologías Sostenibles",null,null,null,1,1,53,"MED","BONE","COL0047762","NR","https://scienti.colciencias.gov.co/gruplac/jsp/visualiza/visualizagr.jsp?nro=00000000003064","BB300:BB301",{"$f":"ROW()","v":61},{"$f":"MINA(IF(AQ61=$BA$4:$BA$411,$BD$4:$BD$411))","v":300},{"$f":"MAXA(IF(AQ61=$BA$4:$BA$411,$BD$4:$BD$411))","v":301},"MED",null,null,"COL0134044","ORTOPEDIA INFANTIL",{"$f":"COUNTIF(BA$4:BA61,BA61)","v":1},{"$f":"ROW()","v":61},1,0,null,null,null,null,null,null,null,null,null,null,null,null,null,null,null,null,null,null,null,null,null,null,null,null,null,null,null,null,null,null,null,null,59,506,"Gestión de la Investigación (GI)","Nuevo Proyecto cooperación internacional","Nuevo proyecto financiado con recursos externos internacionales desembolsados al Fondo Especial de Investigaciones.","Convenio o  contrato perfeccionado,  actas de inicio y presupuestal firmadas.",0,0,0]
[null,null,null,null,null,7,{"$f":"CLEAN(TRIM(Impactos!C19))","v":"Descripción de los Beneficiario(s) del impacto del proyecto"},{"$f":"Impactos!F19","v":0},{"$f":"Impactos!G19","v":0}," "," ",{"$f":"COUNTIF(N$56:N62,N62)","v":7},3,"Justifica","C",7,"",6,null,null,null,null,null,null,null,null,39,"Programa","ING","Ingeniería Industrial",7,null,61,"Kokhlias.",null,null,null,1,1,54,"MED","Grupo de Psoriasis e Inmunodermatologia","COL0126015","C","https://scienti.colciencias.gov.co/gruplac/jsp/visualiza/visualizagr.jsp?nro=00000000012737","BB195:BB196",{"$f":"ROW()","v":62},{"$f":"MINA(IF(AQ62=$BA$4:$BA$411,$BD$4:$BD$411))","v":195},{"$f":"MAXA(IF(AQ62=$BA$4:$BA$411,$BD$4:$BD$411))","v":196},"MED",null,null,"COL0134044","PATOLOGIA DE CADERA",{"$f":"COUNTIF(BA$4:BA62,BA62)","v":2},{"$f":"ROW()","v":62},1,0,null,null,null,null,null,null,null,null,null,null,null,null,null,null,null,null,null,null,null,null,null,null,null,null,null,null,null,null,null,null,null,null,60,507,"Gestión de la Investigación (GI)","Nuevo Proyecto cooperación nacional","Nuevo proyecto financiado con recursos externos nacionales desembolsados al Fondo Especial de Investigaciones.","Convenio o  contrato perfeccionado,  actas de inicio y presupuestal firmadas.",0,0,0]
[null,null,null,null,null,8,{"$f":"CLEAN(TRIM(Impactos!C20))","v":""},{"$f":"Impactos!F20","v":0},{"$f":"Impactos!G20","v":0}," "," ",{"$f":"COUNTIF(N$56:N63,N63)","v":8},3,"Justifica","C",8,"",6,null,null,null,null,null,null,null,null,40,"Programa","ING","Ingeniería en Mecatrónica",8,null,50,"LA TRAMOYA",null,null,null,1,1,55,"MED","ORTOPEDIA Y TRAUMATOLOGIA HMC UMNG","COL0134044","C","https://scienti.colciencias.gov.co/gruplac/jsp/visualiza/visualizagr.jsp?nro=00000000013608","BB61:BB67",{"$f":"ROW()","v":63},{"$f":"MINA(IF(AQ63=$BA$4:$BA$411,$BD$4:$BD$411))","v":61},{"$f":"MAXA(IF(AQ63=$BA$4:$BA$411,$BD$4:$BD$411))","v":67},"MED",null,null,"COL0134044","PATOLOGIA DE COLUMNA, PELVIS Y ACETABULO",{"$f":"COUNTIF(BA$4:BA63,BA63)","v":3},{"$f":"ROW()","v":63},1,0,null,null,null,null,null,null,null,null,null,null,null,null,null,null,null,null,null,null,null,null,null,null,null,null,null,null,null,null,null,null,null,null,61,508,"Gestión de la Investigación (GI)","comercialización de propiedad Intelectual","Comercialización de activos de propiedad intelectual, generados en proyectos de Investigación, alto impacto, innovación o cofinanciados con recursos externos registrados en la Vicerrectoría de Investigaciones, mediante mecanismos de transferencia tecnológica conforme los parámetros establecidos por la Vicerrectoría de Investigaciones (licenciamiento, spin off, start up, joint venture).","Instrumento contractual perfeccionado tipo licenciamiento, joint Venture o denominación equivalente. Institución de spin off o startup de acuerdo previa validación de aspectos jurídicos, potencial y validación de mercado y propuesta de valor.",0,0,0]
[null,null,null,null,null,9,{"$f":"CLEAN(TRIM(Impactos!C21))","v":"Descripción del impacto esperado."},{"$f":"Impactos!F21","v":0},{"$f":"Impactos!G21","v":0}," "," ",{"$f":"COUNTIF(N$56:N64,N64)","v":9},3,"Justifica","C",9,"",6,null,null,null,null,null,null,null,null,41,"Programa","ING","Ingeniería en Multimedia",9,null,31,"LIDERAZGO",null,null,null,1,1,56,"MED","Salud y Comportamiento","COL0033239","NR","https://scienti.colciencias.gov.co/gruplac/jsp/visualiza/visualizagr.jsp?nro=00000000001536","BB297:BB299",{"$f":"ROW()","v":64},{"$f":"MINA(IF(AQ64=$BA$4:$BA$411,$BD$4:$BD$411))","v":297},{"$f":"MAXA(IF(AQ64=$BA$4:$BA$411,$BD$4:$BD$411))","v":299},"MED",null,null,"COL0134044","PATOLOGIA DE MANO Y MIEMBRO SUPERIOR",{"$f":"COUNTIF(BA$4:BA64,BA64)","v":4},{"$f":"ROW()","v":64},1,0,null,null,null,null,null,null,null,null,null,null,null,null,null,null,null,null,null,null,null,null,null,null,null,null,null,null,null,null,null,null,null,null,62,509,"Gestión de la Investigación (GI)","Mejoramiento TRL","Mejoramiento del nivel de madurez tecnológica identificada por la División de Desarrollo tecnológico asociado a la valoración de la tecnología (vigilancia tecnológica e inteligencia competitiva, diagnósticos de propiedad intelectual, modelos de negocio u otros)","prototipo madurado en mínimo un nivel en la escala TRL comprometida o esperada, acompañado de: 1. Manual de funcionamiento según el formato establecido por VICEIN. 2.Registro fotográfico de los componentes del prototipo. 3.Registro fílmico sobre funcionamiento del prototipo.4.Soportes de pruebas y validación (según aplique).Adicionalmente, acompañado de estudio de vigilancia tecnológica e inteligencia competitiva.",0,0,0]
[null,null,null,null,null,10,{"$f":"CLEAN(TRIM(Impactos!C22))","v":""},{"$f":"Impactos!F22","v":0},{"$f":"Impactos!G22","v":0}," "," ",{"$f":"COUNTIF(N$56:N65,N65)","v":10},3,"Justifica",{"$f":"O64","v":"C"},10,"",{"$f":"R64","v":6},null,null,null,null,null,null,null,null,42,"Programa","ING","Ingenieria en Telecomunicaciones",10,null,3,"MATRIX",null,null,null,1,1,57,"MED","GRUPO NEUROCIENCIAS HMC","COL0138698","C","https://scienti.colciencias.gov.co/gruplac/jsp/visualiza/visualizagr.jsp?nro=00000000014072","BB197:BB215",{"$f":"ROW()","v":65},{"$f":"MINA(IF(AQ65=$BA$4:$BA$411,$BD$4:$BD$411))","v":197},{"$f":"MAXA(IF(AQ65=$BA$4:$BA$411,$BD$4:$BD$411))","v":215},"MED",null,null,"COL0134044","PATOLOGIA DE PIE Y TOBILLO",{"$f":"COUNTIF(BA$4:BA65,BA65)","v":5},{"$f":"ROW()","v":65},1,0,null,null,null,null,null,null,null,null,null,null,null,null,null,null,null,null,null,null,null,null,null,null,null,null,null,null,null,null,null,null,null,null,63,510,"Gestión de la Investigación (GI)","Transferencia de conocimiento ","Transferencia de conocimiento científico especializado y  novedoso, no disponible en el estado del arte, a actores externos de la Universidad mediada por acuerdos cesión o licenciamiento, las cuales pueden tener por objeto la formación de personas para incrementar sus capacidades investigadoras, innovadoras o de producción; actividades de innovación, generación de resultados económicos o; valor social.","Contrato de licenciamiento o cesión perfeccionado, así como el acta de implementación u hoja de ruta de las actividades de transferencia.",0,0,0]
[null,null,null,null,null,11,{"$f":"CLEAN(TRIM(Impactos!#REF!))","v":{"$error":"#REF!"}},{"$f":"Impactos!#REF!","v":{"$error":"#REF!"}},{"$f":"Impactos!#REF!","v":{"$error":"#REF!"}}," "," ",{"$f":"COUNTIF(N$56:N66,N66)","v":11},3,"Justifica","C",11,"",6,null,null,null,null,null,null,null,null,43,"Programa","ING","Tecnología en Electrónica y Comunicaciones",11,null,21,"PACMAN Prospectiva Académica y Ciencias Multidisciplinares Aplicadas a la Neotecnología",null,null,null,1,1,58,"MED","Grupo de Investigacion en Dermatologia HMC","COL0116439","C","https://scienti.colciencias.gov.co/gruplac/jsp/visualiza/visualizagr.jsp?nro=00000000011753","BB143:BB146",{"$f":"ROW()","v":66},{"$f":"MINA(IF(AQ66=$BA$4:$BA$411,$BD$4:$BD$411))","v":143},{"$f":"MAXA(IF(AQ66=$BA$4:$BA$411,$BD$4:$BD$411))","v":146},"MED",null,null,"COL0134044","PATOLOGIA DE RODILLA",{"$f":"COUNTIF(BA$4:BA66,BA66)","v":6},{"$f":"ROW()","v":66},1,0,null,null,null,null,null,null,null,null,null,null,null,null,null,null,null,null,null,null,null,null,null,null,null,null,null,null,null,null,null,null,null,null,64]
[null,null,null,null,null,12,{"$f":"CLEAN(TRIM(Impactos!C10))","v":""},{"$f":"Impactos!F10","v":0},{"$f":"Impactos!G10","v":0}," "," ",{"$f":"COUNTIF(N$56:N67,N67)","v":12},3,"Justifica","C",12,"",6,null,null,null,null,null,null,null,null,44,"Programa","ING","Maestría en Ingeniería Mecatrónica",34,null,23,"Modelos de simulación ICDIST",null,null,null,1,1,59,"MED","Grupo de Investigación en Cirugía pediátrica y especialidades CIPEMIL","COL0194721","C","https://scienti.colciencias.gov.co/gruplac/jsp/visualiza/visualizagr.jsp?nro=00000000019676","BB155:BB160",{"$f":"ROW()","v":67},{"$f":"MINA(IF(AQ67=$BA$4:$BA$411,$BD$4:$BD$411))","v":155},{"$f":"MAXA(IF(AQ67=$BA$4:$BA$411,$BD$4:$BD$411))","v":160},"MED",null,null,"COL0134044","TRAUMA Y FIJACION EXTERNA",{"$f":"COUNTIF(BA$4:BA67,BA67)","v":7},{"$f":"ROW()","v":67},1,0,null,null,null,null,null,null,null,null,null,null,null,null,null,null,null,null,null,null,null,null,null,null,null,null,null,null,null,null,null,null,null,null,65]
[null,null,null,null,null,13,{"$f":"CLEAN(TRIM(Impactos!C23))","v":""},{"$f":"Impactos!F23","v":0},{"$f":"Impactos!G23","v":0}," "," ",{"$f":"COUNTIF(N$56:N68,N68)","v":13},3,"Justifica","C",13,"",6,null,null,null,null,null,null,null,null,45,"Programa","ING","Maestría en Ingeniería Civil",35,null,72,{"$f":"VLOOKUP($AG68,$AN$3:$AR$80,3,0)","v":"Nanofab"},null,null,null,{"$f":"COUNTIF($AG$3:$AG$78,AN68)","v":1},{"$f":"COUNTIF($AN$4:$AN$810,AL68)","v":1},60,"MED","Grupo de Salud Oral y Cirugia Maxilofacial","COL0129689","C","https://scienti.colciencias.gov.co/gruplac/jsp/visualiza/visualizagr.jsp?nro=00000000013172","BB152:BB154",{"$f":"ROW()","v":68},{"$f":"MINA(IF(AQ68=$BA$4:$BA$411,$BD$4:$BD$411))","v":152},{"$f":"MAXA(IF(AQ68=$BA$4:$BA$411,$BD$4:$BD$411))","v":154},"MED",null,null,"COL0066768","DERECHO DE LAS RELACIONES INTERNACIONALES",{"$f":"COUNTIF(BA$4:BA68,BA68)","v":1},{"$f":"ROW()","v":68},{"$f":"COUNTIF($AQ$3:$AQ$90,BA68)","v":1},0,null,null,null,null,null,null,null,null,null,null,null,null,null,null,null,null,null,null,null,null,null,null,null,null,null,null,null,null,null,null,null,null,66]
[null,null,null,null,null,14,{"$f":"CLEAN(TRIM(Impactos!C24))","v":""},{"$f":"Impactos!F24","v":0},{"$f":"Impactos!G24","v":0}," "," ",{"$f":"COUNTIF(N$56:N69,N69)","v":14},3,"Justifica","C",14,"",6,null,null,null,null,null,null,null,null,46,"Programa","ING","Maestría en Logística Integral",36,null,22,"PIREO \"Procesos de Integración, Regionalización y Estructuras Organizacionales\"",null,null,null,1,1,61,"MED","Kokhlias.","COL0125134","C","https://scienti.colciencias.gov.co/gruplac/jsp/visualiza/visualizagr.jsp?nro=00000000012649","BB106:BB112",{"$f":"ROW()","v":69},{"$f":"MINA(IF(AQ69=$BA$4:$BA$411,$BD$4:$BD$411))","v":106},{"$f":"MAXA(IF(AQ69=$BA$4:$BA$411,$BD$4:$BD$411))","v":112},"MED",null,null,"COL0066768","ECONOMIA Y NEGOCIOS INTERNACIONALES",{"$f":"COUNTIF(BA$4:BA69,BA69)","v":2},{"$f":"ROW()","v":69},1,0,null,null,null,null,null,null,null,null,null,null,null,null,null,null,null,null,null,null,null,null,null,null,null,null,null,null,null,null,null,null,null,null,67]
[null,null,null,null,null,15,{"$f":"CLEAN(TRIM(Impactos!C25))","v":""},{"$f":"Impactos!F25","v":0},{"$f":"Impactos!G25","v":0}," "," ",{"$f":"COUNTIF(N$56:N70,N70)","v":15},3,"Justifica","C",15,"",6,null,null,null,null,null,null,null,null,47,"Programa","ING","Maestría en Gerencia de Proyectos",37,null,74,"PROCESOS, OPERACIONES Y LOGISTICA (PROPYLOG)",null,null,null,1,1,62,"MED","Grupo de Rehabilitacion HOMIC-UMNG","COL0120281","C","https://scienti.colciencias.gov.co/gruplac/jsp/visualiza/visualizagr.jsp?nro=00000000012152","BB216:BB221",{"$f":"ROW()","v":70},{"$f":"MINA(IF(AQ70=$BA$4:$BA$411,$BD$4:$BD$411))","v":216},{"$f":"MAXA(IF(AQ70=$BA$4:$BA$411,$BD$4:$BD$411))","v":221},"MED",null,null,"COL0066768","ESTUDIOS POLÍTICOS",{"$f":"COUNTIF(BA$4:BA70,BA70)","v":3},{"$f":"ROW()","v":70},1,{"$f":"COUNTIF($BH$20:$BH$23,BA70)","v":0},null,null,null,null,null,null,null,null,null,null,null,null,null,null,null,null,null,null,null,null,null,null,null,null,null,null,null,null,null,null,null,null,50]
[null,null,null,null,null,16,{"$f":"CLEAN(TRIM(Impactos!C26))","v":""},{"$f":"Impactos!F26","v":0},{"$f":"Impactos!G26","v":0}," "," ",{"$f":"COUNTIF(N$56:N71,N71)","v":16},3,"Justifica","C",16,"",6,null,null,null,null,null,null,null,null,47,"Programa","ING","Maestría en Ingeniería Mecatrónica","x",null,39,"PRODUCCION, INNOVACION Y TECNOLOGIA",null,null,null,1,1,63,"MED","Grupo de Investigacion en Urologia HMC","COL0116538","C","https://scienti.colciencias.gov.co/gruplac/jsp/visualiza/visualizagr.jsp?nro=00000000011763","BB49:BB54",{"$f":"ROW()","v":71},{"$f":"MINA(IF(AQ71=$BA$4:$BA$411,$BD$4:$BD$411))","v":49},{"$f":"MAXA(IF(AQ71=$BA$4:$BA$411,$BD$4:$BD$411))","v":54},"MED",null,null,"COL0066768","ESTUDIOS REGIONALES",{"$f":"COUNTIF(BA$4:BA71,BA71)","v":4},{"$f":"ROW()","v":71},1,0]
[null,null,null,null,null,17,{"$f":"CLEAN(TRIM(Impactos!C27))","v":""},{"$f":"Impactos!F27","v":0},{"$f":"Impactos!G27","v":0}," "," ",{"$f":"COUNTIF(N$56:N72,N72)","v":17},3,"Justifica","C",17,"",6,null,null,null,null,null,null,null,null,48,"Programa","ING","Especialización en Geomática",38,null,18,"PROPPIO: Procesos organizacionales, programaticos y políticos para la promoción del desarrollo",null,null,null,1,1,64,"MED","Epidemiología molecular de enfermedades endocrinas","COL0045848","C","https://scienti.colciencias.gov.co/gruplac/jsp/visualiza/visualizagr.jsp?nro=00000000002874","BB24:BB26",{"$f":"ROW()","v":72},{"$f":"MINA(IF(AQ72=$BA$4:$BA$411,$BD$4:$BD$411))","v":24},{"$f":"MAXA(IF(AQ72=$BA$4:$BA$411,$BD$4:$BD$411))","v":26},"MED",null,null,"COL0066768","HISTORIA INTERNACIONAL",{"$f":"COUNTIF(BA$4:BA72,BA72)","v":5},{"$f":"ROW()","v":72},1,0]
[null,null,null,null,null,18,{"$f":"CLEAN(TRIM(Impactos!C28))","v":""},{"$f":"Impactos!F28","v":0},{"$f":"Impactos!G28","v":0}," "," ",{"$f":"COUNTIF(N$56:N73,N73)","v":18},3,"Justifica","C",18,"",6,null,null,null,null,null,null,null,null,49,"Programa","ING","Especialización en Gerencia de la Calidad",39,null,20,"\"PYDES\" Pedagogía y didáctica en la educación superior",null,null,null,1,1,65,"MED","Ingeniería de Procesos y Tecnologías Sostenibles","COL0194866","C","https://scienti.minciencias.gov.co/gruplac/jsp/visualiza/visualizagr.jsp?nro=00000000019690","BB317:BB319",{"$f":"ROW()","v":73},{"$f":"MINA(IF(AQ73=$BA$4:$BA$411,$BD$4:$BD$411))","v":317},{"$f":"MAXA(IF(AQ73=$BA$4:$BA$411,$BD$4:$BD$411))","v":319},"ING",null,null,"COL0066768","RELACIONES INTERNACIONALES",{"$f":"COUNTIF(BA$4:BA73,BA73)","v":6},{"$f":"ROW()","v":73},1,0]
[null,null,null,null,null,19,{"$f":"CLEAN(TRIM(Impactos!C29))","v":""},{"$f":"Impactos!F29","v":0},{"$f":"Impactos!G29","v":0}," "," ",{"$f":"COUNTIF(N$56:N74,N74)","v":19},3,"Justifica","C",19,"",6,null,null,null,null,null,null,null,null,50,"Programa","ING","Especialización en Gerencia en Logística Integral",40,null,17,"Red de estudios sociojurídicos comparados y políticas públicas",null,null,null,1,1,66,"MED","EDUMECIS","COL0152463","C","https://scienti.colciencias.gov.co/gruplac/jsp/visualiza/visualizagr.jsp?nro=00000000015421",{"$f":"$AT$2&AV74&\":\"&$AT$2&AW74","v":"BB171:BB174"},{"$f":"ROW()","v":74},{"$f":"MINA(IF(AQ74=$BA$4:$BA$411,$BD$4:$BD$411))","v":171},{"$f":"MAXA(IF(AQ74=$BA$4:$BA$411,$BD$4:$BD$411))","v":174},{"$f":"AO74","v":"MED"},null,null,"COL0066669","Estrategia y Seguridad",{"$f":"COUNTIF(BA$4:BA74,BA74)","v":1},{"$f":"ROW()","v":74},1,0]
[null,null,null,null,null,20,{"$f":"CLEAN(TRIM(Impactos!C30))","v":""},{"$f":"Impactos!F30","v":0},{"$f":"Impactos!G30","v":0}," "," ",{"$f":"COUNTIF(N$56:N75,N75)","v":20},3,"Justifica","C",20,"",6,null,null,null,null,null,null,null,null,51,"Programa","ING","Especialización en Gerencia Integral de Proyectos",41,null,56,"Salud y Comportamiento",null,null,null,1,1,67,"MED","BioGenEtica & BioDerecho","COL0096032","NR","https://scienti.colciencias.gov.co/gruplac/jsp/visualiza/visualizagr.jsp?nro=00000000009651","BB175:BB177",{"$f":"ROW()","v":75},{"$f":"MINA(IF(AQ75=$BA$4:$BA$411,$BD$4:$BD$411))","v":175},{"$f":"MAXA(IF(AQ75=$BA$4:$BA$411,$BD$4:$BD$411))","v":177},"MED",null,null,"COL0066669","Paz y Posconflicto",{"$f":"COUNTIF(BA$4:BA75,BA75)","v":2},{"$f":"ROW()","v":75},1,0]
[null,null,null,null,null,null,null,null,null,null,null,{"$f":"COUNTIF(N$56:N76,N76)","v":21},3,"Justifica","C",21,"",6,null,null,null,null,null,null,null,null,52,"Programa","ING","Especialización en Ingeniería de Pavimentos",42,null,75,"Sistemas de Infraestructura de Ingeniería Civil",null,null,null,1,1,68,"MED","GAFRED","COL0149359","NR","https://scienti.colciencias.gov.co/gruplac/jsp/visualiza/visualizagr.jsp?nro=00000000015141","BB55:BB57",{"$f":"ROW()","v":76},{"$f":"MINA(IF(AQ76=$BA$4:$BA$411,$BD$4:$BD$411))","v":55},{"$f":"MAXA(IF(AQ76=$BA$4:$BA$411,$BD$4:$BD$411))","v":57},"MED",null,null,"COL0066669","Seguridad Física",{"$f":"COUNTIF(BA$4:BA76,BA76)","v":3},{"$f":"ROW()","v":76},1,0]
[null,null,null,null,null,null,null,null,null,null,null,{"$f":"COUNTIF(N$56:N77,N77)","v":22},3,"Justifica","C",22,"",6,null,null,null,null,null,null,null,null,53,"Programa","ING","Especialización en Planeación Ambiental y Manejo Integral de los Recursos Naturales",43,null,30,"Sociedad, Estrategia y Seguridad",null,null,null,1,1,69,"MED","Grupo de inmunología Clínica Aplicada (GICA)","COL0152472","A1","https://scienti.colciencias.gov.co/gruplac/jsp/visualiza/visualizagr.jsp?nro=00000000015414","BB290:BB291",{"$f":"ROW()","v":77},{"$f":"MINA(IF(AQ77=$BA$4:$BA$411,$BD$4:$BD$411))","v":290},{"$f":"MAXA(IF(AQ77=$BA$4:$BA$411,$BD$4:$BD$411))","v":291},"MED",null,null,"COL0066669","Seguridad de Personas",{"$f":"COUNTIF(BA$4:BA77,BA77)","v":4},{"$f":"ROW()","v":77},1,0]
[null,null,"No","Nombre Inst","Grupo","Clasif","Investig","Presupuesto","Alcance","Link",null,{"$f":"COUNTIF(N$56:N78,N78)","v":23},3,"Justifica","C",23,"",6,null,null,null,null,null,null,null,null,53,"Programa","ING","Doctorado en Ciencias Aplicadas",43,null,37,"TIGUM: Grupo de Investigacion en Telemedicina Universidad Militar",null,null,null,1,1,70,"MED","Epidemiología y Salud Colectiva ","COL0152319","C","https://scienti.colciencias.gov.co/gruplac/jsp/visualiza/visualizagr.jsp?nro=00000000015438",{"$f":"$AT$2&AV78&\":\"&$AT$2&AW78","v":"BB27:BB31"},{"$f":"ROW()","v":78},{"$f":"MINA(IF(AQ78=$BA$4:$BA$411,$BD$4:$BD$411))","v":27},{"$f":"MAXA(IF(AQ78=$BA$4:$BA$411,$BD$4:$BD$411))","v":31},{"$f":"AO78","v":"MED"},null,null,"COL0066669","Seguridad y Salud en el Trabajo",{"$f":"COUNTIF(BA$4:BA78,BA78)","v":5},{"$f":"ROW()","v":78},1,0]
[null,null,1,{"$f":"General!C32","v":0},{"$f":"General!C33","v":0},{"$f":"General!I33","v":"NA"},{"$f":"General!C34","v":0},{"$f":"General!I34","v":0},{"$f":"General!G35","v":0},{"$f":"General!C36","v":0},null,{"$f":"COUNTIF(N$56:N79,N79)","v":24},3,"Justifica",{"$f":"O78","v":"C"},{"$f":"P78+1","v":24},"",{"$f":"R78","v":6},null,null,null,null,null,null,null,null,54,"Programa","MED","Medicina",14,null,38,"VOLTA - Grupo de Materiales, Corrosión, Degradación y Protección (GMCDP) ",null,null,null,{"$f":"COUNTIF($AG$3:$AG$78,AN79)","v":0},0,76,"MED","Grupo de Investigación en Enfermedades Infecciosas Hospital Militar Central ","COL0175225","A1","https://scienti.colciencias.gov.co/gruplac/jsp/visualiza/visualizagr.jsp?nro=00000000017724",{"$f":"$AT$2&AV79&\":\"&$AT$2&AW79","v":"BB167:BB169"},{"$f":"ROW()","v":79},{"$f":"MINA(IF(AQ79=$BA$4:$BA$411,$BD$4:$BD$411))","v":167},{"$f":"MAXA(IF(AQ79=$BA$4:$BA$411,$BD$4:$BD$411))","v":169},{"$f":"AO79","v":"MED"},null,null,"COL0026486","Biorefinerias",{"$f":"COUNTIF(BA$4:BA79,BA79)","v":1},{"$f":"ROW()","v":79},1,0]
[null,null,2,{"$f":"General!C38","v":0},{"$f":"General!C39","v":0},{"$f":"General!I39","v":"NA"},{"$f":"General!C40","v":0},{"$f":"General!I40","v":0},{"$f":"General!G41","v":0},{"$f":"General!C42","v":0},null,{"$f":"COUNTIF(N$56:N80,N80)","v":25},3,"Justifica","C",25,"",6,null,null,null,null,null,null,null,null,55,"Programa","MED","Tecnología en Atención Prehospitalaria",15,null,null,null,null,null,null,1,1,73,"MED","Grupo de investigaciones sobre agentes radiológicos, biológicos y químicos","COL0191078","C","https://scienti.colciencias.gov.co/gruplac/jsp/visualiza/visualizagr.jsp?nro=00000000019309",{"$f":"$AT$2&AV80&\":\"&$AT$2&AW80","v":"BB315:BB316"},{"$f":"ROW()","v":80},{"$f":"MINA(IF(AQ80=$BA$4:$BA$411,$BD$4:$BD$411))","v":315},{"$f":"MAXA(IF(AQ80=$BA$4:$BA$411,$BD$4:$BD$411))","v":316},{"$f":"AO80","v":"MED"},null,null,"COL0026486","Ciudades Sostenibles",{"$f":"COUNTIF(BA$4:BA80,BA80)","v":2},{"$f":"ROW()","v":80},1,0]
[null,null,3,{"$f":"General!C44","v":0},{"$f":"General!C45","v":0},{"$f":"General!I45","v":0},{"$f":"General!C46","v":0},{"$f":"General!I46","v":0},{"$f":"General!G47","v":0},{"$f":"General!C48","v":0},null,{"$f":"COUNTIF(N$56:N81,N81)","v":26},3,"Justifica","C",26,"",6,null,null,null,null,null,null,null,null,1,"Tipo Proyecto","INV","MISIONALES E INSTITUCIONALES","MI",null,null,null,null,null,null,null,null,null,null,null,null,null,null,null,null,null,null,null,null,null,"COL0026486","Ingeniería Offshore.",{"$f":"COUNTIF(BA$4:BA81,BA81)","v":3},{"$f":"ROW()","v":81},1,0]
[null,null,null,null,null,null,null,null,null,null,null,{"$f":"COUNTIF(N$56:N82,N82)","v":27},3,"Justifica","C",27,"",6,null,null,null,null,null,null,null,null,2,"Tipo Proyecto","IMP","Alto Impacto","IMP",null,null,null,null,null,null,null,null,null,null,null,null,null,null,null,null,null,null,null,null,null,"COL0026486","Ingeniería de recursos hídricos y energéticos.",{"$f":"COUNTIF(BA$4:BA82,BA82)","v":4},{"$f":"ROW()","v":82},1,0]
[null,null,null,null,null,null,null,null,null,null,null,{"$f":"COUNTIF(N$56:N83,N83)","v":28},3,"Justifica","C",28,"",6,null,null,null,null,null,null,null,null,1,"Función","Investigador Principal","Investigador Principal o lider del proyecto","IP",null,null,null,null,null,null,null,null,null,null,"Grupo","No",null,null,null,null,null,null,null,null,null,"COL0026486","Procesos físico-químicos y de oxidación avanzada",{"$f":"COUNTIF(BA$4:BA83,BA83)","v":5},{"$f":"ROW()","v":83},1,0]
[null,null,null,null,null,null,null,null,null,null,null,{"$f":"COUNTIF(N$56:N84,N84)","v":29},3,"Justifica","C",29,"",6,null,null,null,null,null,null,null,null,2,"Función","Coinvestigador","Investigador que apoya al lider del proyecto","CO",null,null,null,null,null,null,null,null,null,null,"Insight","COL0067371",null,null,null,null,null,null,null,null,null,"COL0143731","Electrónica y Telecomunicaciones en Salud",{"$f":"COUNTIF(BA$4:BA84,BA84)","v":1},{"$f":"ROW()","v":84},1,0]
[null,null,null,null,null,null,null,null,null,null,null,{"$f":"COUNTIF(N$56:N85,N85)","v":1},4,"Integrantes",{"$f":"O84","v":"C"},{"$f":"P84+1","v":30},"",-23,null,null,null,null,null,null,null,null,3,"Función","Asistente OPS","Asistente de Investigacion contratado OPS","OPS",null,null,null,null,null,null,null,null,null,null,"Estadística, Control y Optimización","COL0136423","NA",null,null,null,null,null,null,null,null,"COL0143731","Espectro Radioeléctrico",{"$f":"COUNTIF(BA$4:BA85,BA85)","v":2},{"$f":"ROW()","v":85},1,0]
[null,null,null,null,null,null,null,null,null,null,null,{"$f":"COUNTIF(N$56:N86,N86)","v":2},4,"Integrantes",{"$f":"O85","v":"C"},{"$f":"P85+1","v":31},"Identificacion",-23,null,null,null,null,null,null,null,null,4,"Función","Joven Investigador","Joven investigador UMNG o Colciencias","JV",null,null,null,null,null,null,null,null,null,null,null,null,null,null,null,null,null,null,null,null,null,"COL0143731","Sistemas virtuales de comunicación",{"$f":"COUNTIF(BA$4:BA86,BA86)","v":3},{"$f":"ROW()","v":86},1,0]
[null,null,null,null,null,null,null,null,null,null,null,{"$f":"COUNTIF(N$56:N87,N87)","v":3},4,"Integrantes","C",32,"",-23,null,null,null,null,null,null,null,null,5,"Función","Administrativo","Personal Administrativo de la UMNG","AD",null,null,null,null,null,null,null,null,null,null,"ACCEDER",44,null,null,null,null,null,null,null,null,null,"COL0110436","Bioquímica",{"$f":"COUNTIF(BA$4:BA87,BA87)","v":1},{"$f":"ROW()","v":87},1,0]
[null,null,null,null,null,null,null,null,null,null,null,{"$f":"COUNTIF(N$56:N88,N88)","v":4},4,"Integrantes","C",33,"Funcion :",-23,null,null,null,null,null,null,null,null,6,"Función","Directivo","Personal Directivo de la UMNG","DR",null,null,null,null,null,null,null,null,null,null,"Agrobiología de especies vegetales promisorias de clima frío",10,null,null,null,null,null,null,null,null,null,"COL0110436","Química Ambiental",{"$f":"COUNTIF(BA$4:BA88,BA88)","v":2},{"$f":"ROW()","v":88},1,0]
[null,null,null,null,null,null,null,null,null,null,null,{"$f":"COUNTIF(N$56:N89,N89)","v":5},4,"Integrantes","C",34,"CvLac:",-23,null,null,null,null,null,null,null,null,7,"Función","Egresado","Estudiante Egresado de la UMNG","EG",null,null,null,null,null,null,null,null,null,null,"BioethicsGroup",34,null,null,null,null,null,null,null,null,null,"COL0110436","Química Inorgánica y Bioinorgánica",{"$f":"COUNTIF(BA$4:BA89,BA89)","v":3},{"$f":"ROW()","v":89},1,0]
[null,null,null,null,null,null,null,null,null,null,null,{"$f":"COUNTIF(N$56:N90,N90)","v":6},4,"Integrantes","C",35,"Contribuciones",-23,null,null,null,null,null,null,null,null,8,"Función","Asesor","Asesor externo no vinculado a ninguna entidad","AR",null,null,null,null,null,null,null,null,null,null,"BioGenEtica & BioDerecho",67,null,null,null,null,null,null,null,null,null,"COL0110436","Química de coordinación y catálisis ambiental.",{"$f":"COUNTIF(BA$4:BA90,BA90)","v":4},{"$f":"ROW()","v":90},1,0]
[null,null,null,null,null,null,null,null,null,null,null,{"$f":"COUNTIF(N$56:N91,N91)","v":7},4,"Integrantes","C",36,"",-23,null,null,null,null,null,null,null,null,null,null,null,null,null,null,null,null,null,null,null,null,null,null,null,"BONE",53,null,null,null,null,null,null,null,null,null,"COL0116636","Desarrollo de software y hardware embarcable",{"$f":"COUNTIF(BA$4:BA91,BA91)","v":1},{"$f":"ROW()","v":91},1,0]
[null,null,null,null,null,null,null,null,null,null,null,{"$f":"COUNTIF(N$56:N92,N92)","v":8},4,"Integrantes","C",37,"Funcion :",-23,null,null,null,null,null,null,null,null,1,"Vinculo","Doc. Carrera TC","Docente de Carrera Tiempo Completo","DTC",null,null,null,null,null,null,null,null,null,null,"CATCH",52,null,null,null,null,null,null,null,null,null,"COL0116636","Procesamiento digital de señales e imágenes",{"$f":"COUNTIF(BA$4:BA92,BA92)","v":2},{"$f":"ROW()","v":92},1,0]
[null,null,null,null,null,null,null,null,null,null,null,{"$f":"COUNTIF(N$56:N93,N93)","v":9},4,"Integrantes","C",38,"CvLac:",-23,null,null,null,null,null,null,null,null,2,"Vinculo","Doc. Carrera MT","Docente de Carrera Medio Tiempo","DMT",null,null,null,null,null,null,null,null,null,null,"Células Stem Adultas",59,null,null,null,null,null,null,null,null,null,"COL0116636","Producción sostenible",{"$f":"COUNTIF(BA$4:BA93,BA93)","v":3},{"$f":"ROW()","v":93},1,0]
[null,null,null,null,null,null,null,null,null,null,null,{"$f":"COUNTIF(N$56:N94,N94)","v":10},4,"Integrantes",{"$f":"O93","v":"C"},{"$f":"P93+1","v":39},"Contribuciones",-23,null,null,null,null,null,null,null,null,3,"Vinculo","Doc. Ocasional","Docente de Ocasional","OCA",null,null,null,null,null,null,null,null,null,null,"Cultura y Desarrollo Humano",33,null,null,null,null,null,null,null,null,null,"COL0116636","Robótica móvil",{"$f":"COUNTIF(BA$4:BA94,BA94)","v":4},{"$f":"ROW()","v":94},1,0]
[null,null,null,null,null,null,null,null,null,null,null,{"$f":"COUNTIF(N$56:N95,N95)","v":11},4,"Integrantes","C",40,"",-23,null,null,null,null,null,null,null,null,4,"Vinculo","OPS - Prestación Servicios","Asistente de Investigacion contratado OPS","OPS",null,null,null,null,null,null,null,null,null,null,"DAVINCI",41,null,null,null,null,null,null,null,null,null,"COL0116636","Sistemas de interacción humano-máquina con actuación convencional y no convencional",{"$f":"COUNTIF(BA$4:BA95,BA95)","v":5},{"$f":"ROW()","v":95},1,0]
[null,null,null,null,null,null,null,null,null,null,null,{"$f":"COUNTIF(N$56:N96,N96)","v":12},4,"Integrantes","C",41,"Funcion :",-23,null,null,null,null,null,null,null,null,5,"Vinculo","Estudiante","Estudiante activo de pregrado o postgrado","EST",null,null,null,null,null,null,null,null,null,null,"Desarrollo e integración de estrategias alternativas para la protección de cultivos de importancia económica, con énfasis en control biológico.",4,null,null,null,null,null,null,null,null,null,"COL0052163","Internet de las Cosas",{"$f":"COUNTIF(BA$4:BA96,BA96)","v":1},{"$f":"ROW()","v":96},1,0]
[null,null,null,null,null,null,null,null,null,null,null,{"$f":"COUNTIF(N$56:N97,N97)","v":13},4,"Integrantes","C",42,"CvLac:",-23,null,null,null,null,null,null,null,null,6,"Vinculo","Externo a la UMNG","Docentes Investigadores externos sin vinculo lavoral al U.","EXT",null,null,null,null,null,null,null,null,null,null,"DIVERSITAS",71,null,null,null,null,null,null,null,null,null,"COL0052163","Procesamiento de Señales",{"$f":"COUNTIF(BA$4:BA97,BA97)","v":2},{"$f":"ROW()","v":97},1,0]
[null,null,null,null,null,null,null,null,null,null,null,{"$f":"COUNTIF(N$56:N98,N98)","v":14},4,"Integrantes","C",43,"Contribuciones",-23,null,null,null,null,null,null,null,null,1,"NBC",11,"Programas y certificaciones básicas",11,null,null,null,null,null,null,null,null,null,null,"ECMU (Evaluacion en Competencias y Matemáticas Universitarias)",13,null,null,null,null,null,null,null,null,null,"COL0052163","Seguridad Informática",{"$f":"COUNTIF(BA$4:BA98,BA98)","v":3},{"$f":"ROW()","v":98},1,0]
[null,null,null,null,null,null,null,null,null,null,null,{"$f":"COUNTIF(N$56:N99,N99)","v":15},4,"Integrantes","C",44,"",-23,null,null,null,null,null,null,null,null,2,"NBC",21,"Alfabetización y aritmética elemental",21,null,null,null,null,null,null,null,null,null,null,"EDUMECIS",66,null,null,null,null,null,null,null,null,null,"COL0052163","Sistemas bioinspirados",{"$f":"COUNTIF(BA$4:BA99,BA99)","v":4},{"$f":"ROW()","v":99},1,0]
[null,null,null,null,null,null,null,null,null,null,null,{"$f":"COUNTIF(N$56:N100,N100)","v":16},4,"Integrantes","C",45,"Funcion :",-23,null,null,null,null,null,null,null,null,3,"NBC",31,"Competencias personales y desarrollo",31,null,null,null,null,null,null,null,null,null,null,"Energia alternativa, Centro Multidisciplinario de Investigación",48,null,null,null,null,null,null,null,null,null,"COL0052163","Sistemas de comunicaciones",{"$f":"COUNTIF(BA$4:BA100,BA100)","v":5},{"$f":"ROW()","v":100},1,0]
[null,null,null,null,null,null,null,null,null,null,null,{"$f":"COUNTIF(N$56:N101,N101)","v":17},4,"Integrantes","C",46,"CvLac:",-23,null,null,null,null,null,null,null,null,4,"NBC",111,"Ciencias de la educación",111,null,null,null,null,null,null,null,null,null,null,"Epidemiología molecular de enfermedades endocrinas",64,null,null,null,null,null,null,null,null,null,"COL0013719","Biología y Epidemiología de hongos patógenos humanos.",{"$f":"COUNTIF(BA$4:BA101,BA101)","v":1},{"$f":"ROW()","v":101},1,0]
[null,null,null,null,null,null,null,null,null,null,null,{"$f":"COUNTIF(N$56:N102,N102)","v":18},4,"Integrantes","C",47,"Contribuciones",-23,null,null,null,null,null,null,null,null,5,"NBC",112,"Formación para docentes de educación pre-primaría",112,null,null,null,null,null,null,null,null,null,null,"Epidemiología y Salud Colectiva ",70,null,null,null,null,null,null,null,null,null,"COL0013719","Diversidad, Ecología y Bioprospección",{"$f":"COUNTIF(BA$4:BA102,BA102)","v":2},{"$f":"ROW()","v":102},1,0]
[null,null,null,null,null,null,null,null,null,null,null,{"$f":"COUNTIF(N$56:N103,N103)","v":19},4,"Integrantes","C",48,"",-23,null,null,null,null,null,null,null,null,6,"NBC",113,"Formación para docentes sin asignatura de especialización",113,null,null,null,null,null,null,null,null,null,null,"Estadística, Control y Optimización",7,null,null,null,null,null,null,null,null,null,"COL0013719","Fitopatología",{"$f":"COUNTIF(BA$4:BA103,BA103)","v":3},{"$f":"ROW()","v":103},1,0]
[null,null,null,null,null,null,null,null,null,null,null,{"$f":"COUNTIF(N$56:N104,N104)","v":20},4,"Integrantes","C",49,"Funcion :",-23,null,null,null,null,null,null,null,null,7,"NBC",114,"Formación para docentes con asignatura de especialización",114,null,null,null,null,null,null,null,null,null,null,"Estructuras y sísmica",42,null,null,null,null,null,null,null,null,null,"COL0013719","Genómica y bioinformática",{"$f":"COUNTIF(BA$4:BA104,BA104)","v":4},{"$f":"ROW()","v":104},1,0]
[null,null,null,null,null,null,null,null,null,null,null,{"$f":"COUNTIF(N$56:N105,N105)","v":21},4,"Integrantes","C",50,"CvLac:",-23,null,null,null,null,null,null,null,null,8,"NBC",211,"Técnicas audiovisuales y producción para medios de comunicación",211,null,null,null,null,null,null,null,null,null,null,"Estudios Internacionales y Políticos",29,null,null,null,null,null,null,null,null,null,"COL0013719","Susceptibilidad a Antifungícos",{"$f":"COUNTIF(BA$4:BA105,BA105)","v":5},{"$f":"ROW()","v":105},1,0]
[null,null,null,null,null,null,null,null,null,null,null,{"$f":"COUNTIF(N$56:N106,N106)","v":22},4,"Integrantes","C",51,"Contribuciones",-23,null,null,null,null,null,null,null,null,9,"NBC",212,"Diseño industrial, de modas e interiores",212,null,null,null,null,null,null,null,null,null,null,"Fitopatologia molecular",6,null,null,null,null,null,null,null,null,null,"COL0125134","Ayudas Auditivas Implantables",{"$f":"COUNTIF(BA$4:BA106,BA106)","v":1},{"$f":"ROW()","v":106},1,0]
[null,null,null,null,null,null,null,null,null,null,null,{"$f":"COUNTIF(N$56:N107,N107)","v":23},4,"Integrantes","C",52,"",-23,null,null,null,null,null,null,null,null,10,"NBC",213,"Bellas artes",213,null,null,null,null,null,null,null,null,null,null,"Fitoplasmas y Virus",1,null,null,null,null,null,null,null,null,null,"COL0125134","Base de cráneo",{"$f":"COUNTIF(BA$4:BA107,BA107)","v":2},{"$f":"ROW()","v":107},1,0]
[null,null,null,null,null,null,null,null,null,null,null,{"$f":"COUNTIF(N$56:N108,N108)","v":24},4,"Integrantes","C",53,"Funcion :",-23,null,null,null,null,null,null,null,null,11,"NBC",214,"Artesanías",214,null,null,null,null,null,null,null,null,null,null,"GAFRED",68,null,null,null,null,null,null,null,null,null,"COL0125134","Cáncer Laríngeo",{"$f":"COUNTIF(BA$4:BA108,BA108)","v":3},{"$f":"ROW()","v":108},1,0]
[null,null,null,null,null,null,null,null,null,null,null,{"$f":"COUNTIF(N$56:N109,N109)","v":25},4,"Integrantes","C",54,"CvLac:",-23,null,null,null,null,null,null,null,null,12,"NBC",215,"Música y artes escénicas",215,null,null,null,null,null,null,null,null,null,null,"GAV",47,null,null,null,null,null,null,null,null,null,"COL0125134","Enfermedad de Meniere",{"$f":"COUNTIF(BA$4:BA109,BA109)","v":4},{"$f":"ROW()","v":109},1,0]
[null,null,null,null,null,null,null,null,null,null,null,{"$f":"COUNTIF(N$56:N110,N110)","v":26},4,"Integrantes","C",55,"Contribuciones",-23,null,null,null,null,null,null,null,null,13,"NBC",221,"Religión y Teología",221,null,null,null,null,null,null,null,null,null,null,"GECS (Grupo de Investigación en Contabilidad y Sociedad)",28,null,null,null,null,null,null,null,null,null,"COL0125134","Oído Crónico",{"$f":"COUNTIF(BA$4:BA110,BA110)","v":5},{"$f":"ROW()","v":110},1,0]
[null,null,null,null,null,null,null,null,null,null,null,{"$f":"COUNTIF(N$56:N111,N111)","v":27},4,"Integrantes","C",56,"",-23,null,null,null,null,null,null,null,null,14,"NBC",222,"Historia y arqueología",222,null,null,null,null,null,null,null,null,null,null,"GEOTECNIA",36,null,null,null,null,null,null,null,null,null,"COL0125134","Rinosinusitis Crónica",{"$f":"COUNTIF(BA$4:BA111,BA111)","v":6},{"$f":"ROW()","v":111},1,0]
[null,null,null,null,null,null,null,null,null,null,null,{"$f":"COUNTIF(N$56:N112,N112)","v":28},4,"Integrantes","C",57,"Funcion :",-23,null,null,null,null,null,null,null,null,15,"NBC",223,"Filosofía y ética",223,null,null,null,null,null,null,null,null,null,null,"GIDAM",40,null,null,null,null,null,null,null,null,null,"COL0125134","Trauma de guerra en Otorrinolaringología",{"$f":"COUNTIF(BA$4:BA112,BA112)","v":7},{"$f":"ROW()","v":112},1,0]
[null,null,null,null,null,null,null,null,null,null,null,{"$f":"COUNTIF(N$56:N113,N113)","v":29},4,"Integrantes","C",58,"CvLac:",-23,null,null,null,null,null,null,null,null,16,"NBC",231,"Adquisición del lenguaje",231,null,null,null,null,null,null,null,null,null,null,"GI-iTEC - Grupo de Investigación e innovación Tecnológica en Electrónica y Comunicaciones",49,null,null,null,null,null,null,null,null,null,"COL0016999","Elementos de concreto y de mampostería",{"$f":"COUNTIF(BA$4:BA113,BA113)","v":1},{"$f":"ROW()","v":113},1,0]
[null,null,null,null,null,null,null,null,null,null,null,{"$f":"COUNTIF(N$56:N114,N114)","v":30},4,"Integrantes","C",59,"Contribuciones",-23,null,null,null,null,null,null,null,null,17,"NBC",232,"Literatura y lingüística",232,null,null,null,null,null,null,null,null,null,null,"GISSIC: Grupo de Investigacion en Seguridad y Sistemas de Comunicaciones",46,null,null,null,null,null,null,null,null,null,"COL0016999","Instrumentación estructural y sensórica",{"$f":"COUNTIF(BA$4:BA114,BA114)","v":2},{"$f":"ROW()","v":114},1,0]
[null,null,null,null,null,null,null,null,null,null,null,{"$f":"COUNTIF(N$56:N115,N115)","v":31},4,"Integrantes","C",60,"",-23,null,null,null,null,null,null,null,null,18,"NBC",311,"Economía",311,null,null,null,null,null,null,null,null,null,null,"GREST",51,null,null,null,null,null,null,null,null,null,"COL0016999","Materiales alternativos para construcción",{"$f":"COUNTIF(BA$4:BA115,BA115)","v":3},{"$f":"ROW()","v":115},1,0]
[null,null,null,null,null,null,null,null,null,null,null,{"$f":"COUNTIF(N$56:N116,N116)","v":32},4,"Integrantes","C",61,"Funcion :",-23,null,null,null,null,null,null,null,null,19,"NBC",312,"Ciencias políticas y educación cívica",312,null,null,null,null,null,null,null,null,null,null,"Grupo de Derecho Privado",16,null,null,null,null,null,null,null,null,null,"COL0016999","Modelación Matemática",{"$f":"COUNTIF(BA$4:BA116,BA116)","v":4},{"$f":"ROW()","v":116},1,0]
[null,null,null,null,null,null,null,null,null,null,null,{"$f":"COUNTIF(N$56:N117,N117)","v":1},6,"Marco",{"$f":"O116","v":"C"},{"$f":"P116+1","v":62},"",-55,null,null,null,null,null,null,null,null,20,"NBC",313,"Psicología",313,null,null,null,null,null,null,null,null,null,null,"Grupo de derecho público ",15,null,null,null,null,null,null,null,null,null,"COL0016999","Vulnerabilidad Sísmica",{"$f":"COUNTIF(BA$4:BA117,BA117)","v":5},{"$f":"ROW()","v":117},1,0]
[null,null,null,null,null,null,null,null,null,null,null,{"$f":"COUNTIF(N$56:N118,N118)","v":2},6,"Marco",{"$f":"O117","v":"C"},{"$f":"P117+1","v":63},"",-55,null,null,null,null,null,null,null,null,21,"NBC",314,"Sociología y estudios culturales",314,null,null,null,null,null,null,null,null,null,null,"Grupo de Docencia e Investigación en Física",14,null,null,null,null,null,null,null,null,null,"COL0179618","Biochips",{"$f":"COUNTIF(BA$4:BA118,BA118)","v":1},{"$f":"ROW()","v":118},1,0]
[null,null,null,null,null,null,null,null,null,null,null,{"$f":"COUNTIF(N$56:N119,N119)","v":3},6,"Marco","C",64,"",-55,null,null,null,null,null,null,null,null,22,"NBC",321,"Periodismo y reportajes",321,null,null,null,null,null,null,null,null,null,null,"Grupo de Ecotoxicología, Evolución, Medio ambiente y conservación (E = mc2)",8,null,null,null,null,null,null,null,null,null,"COL0179618","Diseño y fabricación de sistemas para producción de nanomateriales",{"$f":"COUNTIF(BA$4:BA119,BA119)","v":2},{"$f":"ROW()","v":119},1,0]
[null,null,null,null,null,null,null,null,null,null,null,{"$f":"COUNTIF(N$56:N120,N120)","v":4},6,"Marco","C",65,"",-55,null,null,null,null,null,null,null,null,23,"NBC",322,"Bibliotecología, información y archivología",322,null,null,null,null,null,null,null,null,null,null,"Grupo de estudios contemporáneos en contabilidad, gestión y organizaciones - GECCGO",27,null,null,null,null,null,null,null,null,null,"COL0179618","Holografía digital",{"$f":"COUNTIF(BA$4:BA120,BA120)","v":3},{"$f":"ROW()","v":120},1,0]
[null,null,null,null,null,null,null,null,null,null,null,{"$f":"COUNTIF(N$56:N121,N121)","v":5},6,{"$f":"NbHoja(M121)","v":"Marco"},"C",66,{"$f":"CLEAN(TRIM(INDIRECT($N121&\"!\"&$O121&(P121+R121),1)))","v":""},-55,null,null,null,null,null,null,null,null,24,"NBC",411,"Contabilidad e impuestos",411,null,null,null,null,null,null,null,null,null,null,"Grupo de Estudios en Ciencias Económicas - CIE",25,null,null,null,null,null,null,null,null,null,"COL0179618","Nanofotónica, sensórica y nanotecnología",{"$f":"COUNTIF(BA$4:BA121,BA121)","v":4},{"$f":"ROW()","v":121},1,0]
[null,null,null,null,null,null,null,null,null,null,null,{"$f":"COUNTIF(N$56:N122,N122)","v":6},6,"Marco","C",67,"Marco de referencia (teórico)",-55,null,null,null,null,null,null,null,null,25,"NBC",412,"Gestión financiera, administración bancaria y seguros",412,null,null,null,null,null,null,null,null,null,null,"Grupo de Estudios Macroeconómicos",26,null,null,null,null,null,null,null,null,null,"COL0179618","Termo-electrónica",{"$f":"COUNTIF(BA$4:BA122,BA122)","v":5},{"$f":"ROW()","v":122},1,0]
[null,null,null,null,null,null,null,null,null,null,null,{"$f":"COUNTIF(N$56:N123,N123)","v":7},6,"Marco","C",68,"",-55,null,null,null,null,null,null,null,null,26,"NBC",413,"Gestión y administración",413,null,null,null,null,null,null,null,null,null,null,"Grupo de inmunología Clínica Aplicada (GICA)",69,null,null,null,null,null,null,null,null,null,"COL0179618","Tomografia óptica coherente",{"$f":"COUNTIF(BA$4:BA123,BA123)","v":6},{"$f":"ROW()","v":123},1,0]
[null,null,null,null,null,null,null,null,null,null,null,{"$f":"COUNTIF(N$56:N124,N124)","v":8},6,"Marco","C",69,"",-55,null,null,null,null,null,null,null,null,27,"NBC",414,"Mercadotecnia y publicidad",414,null,null,null,null,null,null,null,null,null,null,"Grupo de investigación en Biodiversidad y ecología de abejas silvestres",2,null,null,null,null,null,null,null,null,null,"COL0048492","Biología Molecular de organismos acuáticos, con énfasis en especies de interés comercial y amenazadas.",{"$f":"COUNTIF(BA$4:BA124,BA124)","v":1},{"$f":"ROW()","v":124},1,0]
[null,null,null,null,null,null,null,null,null,null,null,{"$f":"COUNTIF(N$56:N125,N125)","v":9},6,"Marco","C",70,"",-55,null,null,null,null,null,null,null,null,28,"NBC",415,"Secretariado y trabajo de oficina",415,null,null,null,null,null,null,null,null,null,null,"Grupo de Investigacion en Dermatologia HMC",58,null,null,null,null,null,null,null,null,null,"COL0048492","DINÁMICA ECOLÓGICA DEL ZOOPLANCTON EN EL OCÉANO PACÍFICO COLOMBIANO. CRUCEROS 2007-2010 DE LA SERIE ERFEN (ESTUDIO REGIONAL DEL FENÓMENO EL NIÑO).",{"$f":"COUNTIF(BA$4:BA125,BA125)","v":2},{"$f":"ROW()","v":125},1,0]
[null,null,null,null,null,null,null,null,null,null,null,{"$f":"COUNTIF(N$56:N126,N126)","v":10},6,"Marco","C",71,"",-55,null,null,null,null,null,null,null,null,29,"NBC",416,"Ventas al por mayor y al por menor",416,null,null,null,null,null,null,null,null,null,null,"Grupo de Investigación en Hidrobiología Aplicada (HIDROBIA)",9,null,null,null,null,null,null,null,null,null,"COL0048492","Estudios Morfológicos, Tróficos, Ecológicos, Bióticos y Abióticos de Humedales Colombianos, con énfasis en la Sabana de Bogotá.",{"$f":"COUNTIF(BA$4:BA126,BA126)","v":3},{"$f":"ROW()","v":126},1,0]
[null,null,null,null,null,null,null,null,null,null,null,{"$f":"COUNTIF(N$56:N127,N127)","v":11},6,"Marco","C",72,"",-55,null,null,null,null,null,null,null,null,30,"NBC",417,"Competencias laborales",417,null,null,null,null,null,null,null,null,null,null,"Grupo de Investigación en Multimedia -GIM-",35,null,null,null,null,null,null,null,null,null,"COL0048492","Estudios moleculares, ecológicos, morfológicos, nutricionales, ontogénicos y de cultivo de organismos acuáticos.",{"$f":"COUNTIF(BA$4:BA127,BA127)","v":4},{"$f":"ROW()","v":127},1,0]
[null,null,null,null,null,null,null,null,null,null,null,{"$f":"COUNTIF(N$56:N128,N128)","v":12},6,"Marco",{"$f":"O127","v":"C"},{"$f":"P127+1","v":73},"Marco de referencia (jurídico)",-55,null,null,null,null,null,null,null,null,31,"NBC",421,"Derecho",421,null,null,null,null,null,null,null,null,null,null,"Grupo de investigación en química ambiental y tecnologías limpias - QUATELI",12,null,null,null,null,null,null,null,null,null,"COL0048492","Impacto antropogénico en ecosistemas acuáticos.",{"$f":"COUNTIF(BA$4:BA128,BA128)","v":5},{"$f":"ROW()","v":128},1,0]
[null,null,null,null,null,null,null,null,null,null,null,{"$f":"COUNTIF(N$56:N129,N129)","v":13},6,"Marco","C",74,"",-55,null,null,null,null,null,null,null,null,32,"NBC",511,"Biología",511,null,null,null,null,null,null,null,null,null,null,"Grupo de Investigacion en Urologia HMC",63,null,null,null,null,null,null,null,null,null,"COL0117722","Estudios disciplinares en contabilidad auditoria, contabilidad de gestión y tributación.",{"$f":"COUNTIF(BA$4:BA129,BA129)","v":1},{"$f":"ROW()","v":129},1,1]
[null,null,null,null,null,null,null,null,null,null,null,{"$f":"COUNTIF(N$56:N130,N130)","v":14},6,"Marco","C",75,"",-55,null,null,null,null,null,null,null,null,33,"NBC",512,"Bioquímica",512,null,null,null,null,null,null,null,null,null,null,"Grupo de investigaciones sobre agentes radiológicos, biológicos y químicos",73,null,null,null,null,null,null,null,null,null,"COL0117722","Estudios en educación en ciencias económicas",{"$f":"COUNTIF(BA$4:BA130,BA130)","v":2},{"$f":"ROW()","v":130},1,1]
[null,null,null,null,null,null,null,null,null,null,null,{"$f":"COUNTIF(N$56:N131,N131)","v":15},6,"Marco","C",76,"",-55,null,null,null,null,null,null,null,null,34,"NBC",521,"Ciencias del medio ambiente",521,null,null,null,null,null,null,null,null,null,null,"Grupo de Micología y Fitopatologia ",5,null,null,null,null,null,null,null,null,null,"COL0117722","Ética, transparencia y control social",{"$f":"COUNTIF(BA$4:BA131,BA131)","v":3},{"$f":"ROW()","v":131},1,1]
[null,null,null,null,null,null,null,null,null,null,null,{"$f":"COUNTIF(N$56:N132,N132)","v":16},6,"Marco","C",77,"",-55,null,null,null,null,null,null,null,null,35,"NBC",522,"Medio ambiente natural y vida silvestre",522,null,null,null,null,null,null,null,null,null,null,"Grupo de Psoriasis e Inmunodermatologia",54,null,null,null,null,null,null,null,null,null,"COL0128047","Derecho de la responsabilidad y de seguros",{"$f":"COUNTIF(BA$4:BA132,BA132)","v":1},{"$f":"ROW()","v":132},{"$f":"COUNTIF($AQ$3:$AQ$90,BA132)","v":1},0]
[null,null,null,null,null,null,null,null,null,null,null,{"$f":"COUNTIF(N$56:N133,N133)","v":17},6,"Marco","C",78,"Marco de referencia (histórico)",-55,null,null,null,null,null,null,null,null,36,"NBC",531,"Química",531,null,null,null,null,null,null,null,null,null,null,"Grupo de Rehabilitacion HOMIC-UMNG",62,null,null,null,null,null,null,null,null,null,"COL0128047","Derecho económico y de los negocios.",{"$f":"COUNTIF(BA$4:BA133,BA133)","v":2},{"$f":"ROW()","v":133},1,0]
[null,null,null,null,null,null,null,null,null,null,null,{"$f":"COUNTIF(N$56:N134,N134)","v":18},6,"Marco","C",79,"",-55,null,null,null,null,null,null,null,null,37,"NBC",532,"Ciencias de la tierra",532,null,null,null,null,null,null,null,null,null,null,"Grupo de Salud Oral y Cirugia Maxilofacial",60,null,null,null,null,null,null,null,null,null,"COL0047566","EDUCACIÓN EN INGENIERÍA",{"$f":"COUNTIF(BA$4:BA134,BA134)","v":1},{"$f":"ROW()","v":134},1,{"$f":"COUNTIF($BH$20:$BH$23,BA134)","v":0}]
[null,null,null,null,null,null,null,null,null,null,null,{"$f":"COUNTIF(N$56:N135,N135)","v":19},6,"Marco","C",80,"",-55,null,null,null,null,null,null,null,null,38,"NBC",533,"Física",533,null,null,null,null,null,null,null,null,null,null,"Grupo Integrado de Investigaciones en Química y Biología (InQuiBio)",11,null,null,null,null,null,null,null,null,null,"COL0047566","GEOMATICA",{"$f":"COUNTIF(BA$4:BA135,BA135)","v":2},{"$f":"ROW()","v":135},1,0]
[null,null,null,null,null,null,null,null,null,null,null,{"$f":"COUNTIF(N$56:N136,N136)","v":20},6,"Marco","C",81,"",-55,null,null,null,null,null,null,null,null,39,"NBC",541,"Matemáticas",541,null,null,null,null,null,null,null,null,null,null,"GRUPO NEUROCIENCIAS HMC",57,null,null,null,null,null,null,null,null,null,"COL0047566","GERENCIA DE PROYECTOS",{"$f":"COUNTIF(BA$4:BA136,BA136)","v":3},{"$f":"ROW()","v":136},1,0]
[null,null,null,null,null,null,null,null,null,null,null,{"$f":"COUNTIF(N$56:N137,N137)","v":21},6,"Marco","C",82,"",-55,null,null,null,null,null,null,null,null,40,"NBC",542,"Estadística",542,null,null,null,null,null,null,null,null,null,null,"Grupo para el estudio de enfermedades respiratorias en nińos. Respira",55,null,null,null,null,null,null,null,null,null,"COL0047566","HIDROLOGÍA",{"$f":"COUNTIF(BA$4:BA137,BA137)","v":4},{"$f":"ROW()","v":137},1,0]
[null,null,null,null,null,null,null,null,null,null,null,{"$f":"COUNTIF(N$56:N138,N138)","v":22},6,"Marco","C",83,"",-55,null,null,null,null,null,null,null,null,41,"NBC",611,"Uso de computadores",611,null,null,null,null,null,null,null,null,null,null,"HUMANITAS",32,null,null,null,null,null,null,null,null,null,"COL0047566","PROCESOS ESTOCÁSTICOS",{"$f":"COUNTIF(BA$4:BA138,BA138)","v":5},{"$f":"ROW()","v":138},1,0]
[null,null,null,null,null,null,null,null,null,null,null,{"$f":"COUNTIF(N$56:N139,N139)","v":23},6,"Marco","C",84,"",-55,null,null,null,null,null,null,null,null,42,"NBC",612,"Diseño y administración de redes y bases de datos",612,null,null,null,null,null,null,null,null,null,null,"INAMPE",24,null,null,null,null,null,null,null,null,null,"COL0047566","PRODUCTIVIDAD E IMPACTO AMBIENTAL EN PROYECTOS DE INGENIERIA CIVIL (CONSTRUCCIÓN SOSTENIBLE)",{"$f":"COUNTIF(BA$4:BA139,BA139)","v":6},{"$f":"ROW()","v":139},1,0]
[null,null,null,null,null,null,null,null,null,null,null,{"$f":"COUNTIF(N$56:N140,N140)","v":24},6,"Marco","C",85,"",-55,null,null,null,null,null,null,null,null,43,"NBC",613,"Desarrollo y análisis de software y aplicaciones",613,null,null,null,null,null,null,null,null,null,null,"INCONDIS",19,null,null,null,null,null,null,null,null,null,"COL0066229","(EO) Estructuras Organizacionales",{"$f":"COUNTIF(BA$4:BA140,BA140)","v":1},{"$f":"ROW()","v":140},1,0]
[null,null,null,null,null,null,null,null,null,null,null,{"$f":"COUNTIF(N$56:N141,N141)","v":25},6,"Marco","C",86,"",-55,null,null,null,null,null,null,null,null,44,"NBC",711,"Ingeniería y procesos químicos",711,null,null,null,null,null,null,null,null,null,null,"INGENIERÍA, GEOMÁTICA Y EDUCACIÓN (IGE)",43,null,null,null,null,null,null,null,null,null,"COL0066229","(PI) Procesos de Integración",{"$f":"COUNTIF(BA$4:BA141,BA141)","v":2},{"$f":"ROW()","v":141},1,0]
[null,null,null,null,null,null,null,null,null,null,null,{"$f":"COUNTIF(N$56:N142,N142)","v":26},6,"Marco","C",87,"",-55,null,null,null,null,null,null,null,null,45,"NBC",712,"Tecnología de protección del medio ambiente",712,null,null,null,null,null,null,null,null,null,null,"Insight",65,null,null,null,null,null,null,null,null,null,"COL0066229","(R) Regionalización",{"$f":"COUNTIF(BA$4:BA142,BA142)","v":3},{"$f":"ROW()","v":142},1,0]
[null,null,null,null,null,null,null,null,null,null,null,{"$f":"COUNTIF(N$56:N143,N143)","v":27},6,"Marco","C",88,"",-55,null,null,null,null,null,null,null,null,46,"NBC",713,"Electricidad y energía",713,null,null,null,null,null,null,null,null,null,null,"Kokhlias.",61,null,null,null,null,null,null,null,null,null,"COL0116439","Cirugía Dermatologica",{"$f":"COUNTIF(BA$4:BA143,BA143)","v":1},{"$f":"ROW()","v":143},1,0]
[null,null,null,null,null,null,null,null,null,null,null,{"$f":"COUNTIF(N$56:N144,N144)","v":28},6,"Marco","C",89,"",-55,null,null,null,null,null,null,null,null,47,"NBC",714,"Electrónica y automatización",714,null,null,null,null,null,null,null,null,null,null,"LA TRAMOYA",50,null,null,null,null,null,null,null,null,null,"COL0116439","Dermatologia Pediatrica",{"$f":"COUNTIF(BA$4:BA144,BA144)","v":2},{"$f":"ROW()","v":144},1,0]
[null,null,null,null,null,null,null,null,null,null,null,{"$f":"COUNTIF(N$56:N145,N145)","v":29},6,"Marco","C",90,"",-55,null,null,null,null,null,null,null,null,48,"NBC",715,"Mecánica y profesiones afines a la metalistería",715,null,null,null,null,null,null,null,null,null,null,"LIDERAZGO",31,null,null,null,null,null,null,null,null,null,"COL0116439","Fotobiologia y Fototerapia",{"$f":"COUNTIF(BA$4:BA145,BA145)","v":3},{"$f":"ROW()","v":145},1,0]
[null,null,null,null,null,null,null,null,null,null,null,{"$f":"COUNTIF(N$56:N146,N146)","v":30},6,"Marco","C",91,"",-55,null,null,null,null,null,null,null,null,49,"NBC",716,"Vehículos, barcos y aeronaves motorizadas",716,null,null,null,null,null,null,null,null,null,null,"MATRIX",3,null,null,null,null,null,null,null,null,null,"COL0116439","Leishmaniasis",{"$f":"COUNTIF(BA$4:BA146,BA146)","v":4},{"$f":"ROW()","v":146},1,0]
[null,null,null,null,null,null,null,null,null,null,null,{"$f":"COUNTIF(N$56:N147,N147)","v":31},6,"Marco","C",92,"",-55,null,null,null,null,null,null,null,null,50,"NBC",721,"Procesamiento de alimentos",721,null,null,null,null,null,null,null,null,null,null,"Medios, Mediaciones y Procesos en Educación a Distancia",21,null,null,null,null,null,null,null,null,null,"COL0039321","Analisis de Matrices",{"$f":"COUNTIF(BA$4:BA147,BA147)","v":1},{"$f":"ROW()","v":147},1,0]
[null,null,null,null,null,null,null,null,null,null,null,{"$f":"COUNTIF(N$56:N148,N148)","v":32},6,"Marco","C",93,"",-55,null,null,null,null,null,null,null,null,51,"NBC",722,"Materiales (vidrio, papel, plástico y madera)",722,null,null,null,null,null,null,null,null,null,null,"Modelos de simulación ICDIST",23,null,null,null,null,null,null,null,null,null,"COL0039321","Filosofía de la Ciencia: Filosofía de la Física",{"$f":"COUNTIF(BA$4:BA148,BA148)","v":2},{"$f":"ROW()","v":148},1,0]
[null,null,null,null,null,null,null,null,null,null,null,{"$f":"COUNTIF(N$56:N149,N149)","v":33},6,"Marco","C",94,"",-55,null,null,null,null,null,null,null,null,52,"NBC",723,"Producción textiles (ropa, calzado y artículos de cuero)",723,null,null,null,null,null,null,null,null,null,null,"Nanofab",72,null,null,null,null,null,null,null,null,null,"COL0039321","LEYES DE CONSERVACION HIPERBOLICA",{"$f":"COUNTIF(BA$4:BA149,BA149)","v":3},{"$f":"ROW()","v":149},1,0]
[null,null,null,null,null,null,null,null,null,null,null,{"$f":"COUNTIF(N$56:N150,N150)","v":34},6,"Marco","C",95,"",-55,null,null,null,null,null,null,null,null,53,"NBC",724,"Minería y extracción",724,null,null,null,null,null,null,null,null,null,null,"PIREO \"Procesos de Integración, Regionalización y Estructuras Organizacionales\"",22,null,null,null,null,null,null,null,null,null,"COL0039321","Matematicas aplicadas",{"$f":"COUNTIF(BA$4:BA150,BA150)","v":4},{"$f":"ROW()","v":150},1,0]
[null,null,null,null,null,null,null,null,null,null,null,{"$f":"COUNTIF(N$56:N151,N151)","v":1},12,"Cronograma",{"$f":"O150","v":"C"},{"$f":"P150+1","v":96},"",-89,null,null,null,null,null,null,null,null,54,"NBC",731,"Arquitectura y urbanismo",731,null,null,null,null,null,null,null,null,null,null,"PROCESOS, OPERACIONES Y LOGISTICA (PROPYLOG)",74,null,null,null,null,null,null,null,null,null,"COL0039321","Solución numérica de ecuaciones diferenciales parciales",{"$f":"COUNTIF(BA$4:BA151,BA151)","v":5},{"$f":"ROW()","v":151},1,0]
[null,null,null,null,null,null,null,null,null,null,null,{"$f":"COUNTIF(N$56:N152,N152)","v":2},12,"Cronograma",{"$f":"O151","v":"C"},{"$f":"P151+1","v":97},"Descripción básica de la actividad",-89,null,null,null,null,null,null,null,null,55,"NBC",732,"Construcción e ingeniería civil",732,null,null,null,null,null,null,null,null,null,null,"PRODUCCION, INNOVACION Y TECNOLOGIA",39,null,null,null,null,null,null,null,null,null,"COL0129689","Cirugía Ortognática y Distracción Osteogénica",{"$f":"COUNTIF(BA$4:BA152,BA152)","v":1},{"$f":"ROW()","v":152},1,0]
[null,null,null,null,null,null,null,null,null,null,null,{"$f":"COUNTIF(N$56:N153,N153)","v":3},12,"Cronograma","C",98,"",-89,null,null,null,null,null,null,null,null,56,"NBC",811,"Producción agrícola y ganadera",811,null,null,null,null,null,null,null,null,null,null,"PROPPIO: Procesos organizacionales, programaticos y políticos para la promoción del desarrollo",18,null,null,null,null,null,null,null,null,null,"COL0129689","Implantología y Cirugía Reconstructiva",{"$f":"COUNTIF(BA$4:BA153,BA153)","v":2},{"$f":"ROW()","v":153},1,0]
[null,null,null,null,null,null,null,null,null,null,null,{"$f":"COUNTIF(N$56:N154,N154)","v":4},12,"Cronograma","C",99,"",-89,null,null,null,null,null,null,null,null,57,"NBC",812,"Horticultura",812,null,null,null,null,null,null,null,null,null,null,"PYDES Pedagogía y didáctica en la educación superior",20,null,null,null,null,null,null,null,null,null,"COL0129689","Infecciones, Patología y Cirugía Dentoalveolar",{"$f":"COUNTIF(BA$4:BA154,BA154)","v":3},{"$f":"ROW()","v":154},1,0]
[null,null,null,null,null,null,null,null,null,null,null,{"$f":"COUNTIF(N$56:N155,N155)","v":5},12,"Cronograma","C",100,"",-89,null,null,null,null,null,null,null,null,58,"NBC",821,"Silvicultura",821,null,null,null,null,null,null,null,null,null,null,"Red de estudios sociojurídicos comparados y políticas públicas",17,null,null,null,null,null,null,null,null,null,"COL0194721","Cirugía Abdominal, Tórax y Mínimamente Invasiva",{"$f":"COUNTIF(BA$4:BA155,BA155)","v":1},{"$f":"ROW()","v":155},1,0]
[null,null,null,null,null,null,null,null,null,null,null,{"$f":"COUNTIF(N$56:N156,N156)","v":6},12,"Cronograma","C",101,"",-89,null,null,null,null,null,null,null,null,59,"NBC",831,"Pesca",831,null,null,null,null,null,null,null,null,null,null,"Salud y Comportamiento",56,null,null,null,null,null,null,null,null,null,"COL0194721","Cirugía Vascular",{"$f":"COUNTIF(BA$4:BA156,BA156)","v":2},{"$f":"ROW()","v":156},1,0]
[null,null,null,null,null,null,null,null,null,null,null,{"$f":"COUNTIF(N$56:N157,N157)","v":7},12,"Cronograma","C",102,"",-89,null,null,null,null,null,null,null,null,60,"NBC",841,"Veterinaria",841,null,null,null,null,null,null,null,null,null,null,"Sistemas de Infraestructura de Ingeniería Civil",75,null,null,null,null,null,null,null,null,null,"COL0194721","Congénitas",{"$f":"COUNTIF(BA$4:BA157,BA157)","v":3},{"$f":"ROW()","v":157},1,0]
[null,null,null,null,null,null,null,null,null,null,null,{"$f":"COUNTIF(N$56:N158,N158)","v":8},12,"Cronograma","C",103,"",-89,null,null,null,null,null,null,null,null,61,"NBC",911,"Odontología",911,null,null,null,null,null,null,null,null,null,null,"Sociedad, Estrategia y Seguridad",30,null,null,null,null,null,null,null,null,null,"COL0194721","Educación",{"$f":"COUNTIF(BA$4:BA158,BA158)","v":4},{"$f":"ROW()","v":158},1,0]
[null,null,null,null,null,null,null,null,null,null,null,{"$f":"COUNTIF(N$56:N159,N159)","v":9},12,"Cronograma","C",104,"",-89,null,null,null,null,null,null,null,null,62,"NBC",912,"Medicina",912,null,null,null,null,null,null,null,null,null,null,"TIGUM: Grupo de Investigacion en Telemedicina Universidad Militar",37,null,null,null,null,null,null,null,null,null,"COL0194721","Oncología",{"$f":"COUNTIF(BA$4:BA159,BA159)","v":5},{"$f":"ROW()","v":159},1,0]
[null,null,null,null,null,null,null,null,null,null,null,{"$f":"COUNTIF(N$56:N160,N160)","v":10},12,"Cronograma","C",105,"",-89,null,null,null,null,null,null,null,null,63,"NBC",913,"Enfermería y partería",913,null,null,null,null,null,null,null,null,null,null,"Tratamiento de agua",45,null,null,null,null,null,null,null,null,null,"COL0194721","Trauma",{"$f":"COUNTIF(BA$4:BA160,BA160)","v":6},{"$f":"ROW()","v":160},1,0]
[null,null,null,null,null,null,null,null,null,null,null,{"$f":"COUNTIF(N$56:N161,N161)","v":11},12,"Cronograma","C",106,"",-89,null,null,null,null,null,null,null,null,64,"NBC",914,"Tecnología de diagnóstico y tratamiento médico",914,null,null,null,null,null,null,null,null,null,null,"VOLTA - GMCDP",38,null,null,null,null,null,null,null,null,null,"COL0015722","Derecho",{"$f":"COUNTIF(BA$4:BA161,BA161)","v":1},{"$f":"ROW()","v":161},1,0]
[null,null,null,null,null,null,null,null,null,null,null,{"$f":"COUNTIF(N$56:N162,N162)","v":12},12,"Cronograma","C",107,"",-89,null,null,null,null,null,null,null,null,65,"NBC",915,"Terapia y rehabilitación",915,null,null,null,null,null,null,null,null,null,null,null,null,null,null,null,null,null,null,null,null,null,"COL0005439","MODELACIÓN NUMÉRICA",{"$f":"COUNTIF(BA$4:BA162,BA162)","v":1},{"$f":"ROW()","v":162},1,0]
[null,null,null,null,null,null,null,null,null,null,null,{"$f":"COUNTIF(N$56:N163,N163)","v":13},12,"Cronograma","C",108,"",-89,null,null,null,null,null,null,null,null,66,"NBC",916,"Farmacia",916,null,null,null,null,null,null,null,null,null,null,null,null,null,null,null,null,null,null,null,null,null,"COL0005439","ORDENACIÓN DEL TERRITORIO",{"$f":"COUNTIF(BA$4:BA163,BA163)","v":2},{"$f":"ROW()","v":163},1,0]
[null,null,null,null,null,null,null,null,null,null,null,{"$f":"COUNTIF(N$56:N164,N164)","v":14},12,"Cronograma","C",109,"",-89,null,null,null,null,null,null,null,null,67,"NBC",917,"Medicina y terapia tradicional y complementaria",917,null,null,null,null,null,null,null,null,null,null,null,null,null,null,null,null,null,null,null,null,null,"COL0005439","PAVIMENTOS",{"$f":"COUNTIF(BA$4:BA164,BA164)","v":3},{"$f":"ROW()","v":164},1,0]
[null,null,null,null,null,null,null,null,null,null,null,{"$f":"COUNTIF(N$56:N165,N165)","v":15},12,"Cronograma","C",110,"",-89,null,null,null,null,null,null,null,null,68,"NBC",921,"Asistencia a adultos mayores y discapacitados",921,null,null,null,null,null,null,null,null,null,null,null,null,null,null,null,null,null,null,null,null,null,"COL0005439","SUELOS",{"$f":"COUNTIF(BA$4:BA165,BA165)","v":4},{"$f":"ROW()","v":165},1,0]
[null,null,null,null,null,null,null,null,null,null,null,{"$f":"COUNTIF(N$56:N166,N166)","v":16},12,"Cronograma","C",111,"",-89,null,null,null,null,null,null,null,null,69,"NBC",922,"Asistencia a la infancia y servicios para jóvenes",922,null,null,null,null,null,null,null,null,null,null,null,null,null,null,null,null,null,null,null,null,null,"COL0005439","TRANSPORTES",{"$f":"COUNTIF(BA$4:BA166,BA166)","v":5},{"$f":"ROW()","v":166},1,0]
[null,null,null,null,null,null,null,null,null,null,null,{"$f":"COUNTIF(N$56:N167,N167)","v":17},12,"Cronograma","C",112,"",-89,null,null,null,null,null,null,null,null,70,"NBC",923,"Trabajo social y orientación",923,null,null,null,null,null,null,null,null,null,null,null,null,null,null,null,null,null,null,null,null,null,"COL0175225","Efermedades Tropicales",{"$f":"COUNTIF(BA$4:BA167,BA167)","v":1},{"$f":"ROW()","v":167},1,0]
[null,null,null,null,null,null,null,null,null,null,null,{"$f":"COUNTIF(N$56:N168,N168)","v":18},12,"Cronograma","C",113,"",-89,null,null,null,null,null,null,null,null,71,"NBC",1011,"Servicios domésticos",1011,null,null,null,null,null,null,null,null,null,null,null,null,null,null,null,null,null,null,null,null,null,"COL0175225","Enfermedades de Transmisión Sexual",{"$f":"COUNTIF(BA$4:BA168,BA168)","v":2},{"$f":"ROW()","v":168},1,0]
[null,null,null,null,null,null,null,null,null,null,null,{"$f":"COUNTIF(N$56:N169,N169)","v":19},12,"Cronograma","C",114,"",-89,null,null,null,null,null,null,null,null,72,"NBC",1012,"Peluquería y tratamientos de belleza",1012,null,null,null,null,null,null,null,null,null,null,null,null,null,null,null,null,null,null,null,null,null,"COL0175225","Infecciones Asociadas al Cuidado de la Salud",{"$f":"COUNTIF(BA$4:BA169,BA169)","v":3},{"$f":"ROW()","v":169},1,0]
[null,null,null,null,null,null,null,null,null,null,null,{"$f":"COUNTIF(N$56:N170,N170)","v":20},12,"Cronograma","C",115,"",-89,null,null,null,null,null,null,null,null,73,"NBC",1013,"Hotelería, restaurantes y servicios de banquetes",1013,null,null,null,null,null,null,null,null,null,null,null,null,null,null,null,null,null,null,null,null,null,"COL0069296","Modelos de simulación",{"$f":"COUNTIF(BA$4:BA170,BA170)","v":1},{"$f":"ROW()","v":170},1,0]
[null,null,null,null,null,null,null,null,null,null,null,{"$f":"COUNTIF(N$56:N171,N171)","v":21},12,"Cronograma","C",116,"",-89,null,null,null,null,null,null,null,null,74,"NBC",1014,"Deportes",1014,null,null,null,null,null,null,null,null,null,null,null,null,null,null,null,null,null,null,null,null,null,"COL0152463","CURRÍCULO Y EVALUACIÓN",{"$f":"COUNTIF(BA$4:BA171,BA171)","v":1},{"$f":"ROW()","v":171},1,0]
[null,null,null,null,null,null,null,null,null,null,null,{"$f":"COUNTIF(N$56:N172,N172)","v":22},12,"Cronograma","C",117,"",-89,null,null,null,null,null,null,null,null,75,"NBC",1015,"Viajes, turismo y actividades recreativas",1015,null,null,null,null,null,null,null,null,null,null,null,null,null,null,null,null,null,null,null,null,null,"COL0152463","DOCENCIA Y PEDAGOGÍA",{"$f":"COUNTIF(BA$4:BA172,BA172)","v":2},{"$f":"ROW()","v":172},1,0]
[null,null,null,null,null,null,null,null,null,null,null,{"$f":"COUNTIF(N$56:N173,N173)","v":23},12,"Cronograma","C",118,"",-89,null,null,null,null,null,null,null,null,76,"NBC",1021,"Saneamiento de la comunidad",1021,null,null,null,null,null,null,null,null,null,null,null,null,null,null,null,null,null,null,null,null,null,"COL0152463","INVESTIGACIÓN CLINICA",{"$f":"COUNTIF(BA$4:BA173,BA173)","v":3},{"$f":"ROW()","v":173},1,0]
[null,null,null,null,null,null,null,null,null,null,null,{"$f":"COUNTIF(N$56:N174,N174)","v":24},12,"Cronograma","C",119,".",-89,null,null,null,null,null,null,null,null,77,"NBC",1022,"Salud y protección laboral",1022,null,null,null,null,null,null,null,null,null,null,null,null,null,null,null,null,null,null,null,null,null,"COL0152463","Proyección Social y contexto de formación en Salud Pública",{"$f":"COUNTIF(BA$4:BA174,BA174)","v":4},{"$f":"ROW()","v":174},1,0]
[null,null,null,null,null,null,null,null,null,null,null,{"$f":"COUNTIF(N$56:N175,N175)","v":25},12,"Cronograma","C",120,"",-89,null,null,null,null,null,null,null,null,78,"NBC",1031,"Educación militar y de defensa",1031,null,null,null,null,null,null,null,null,null,null,null,null,null,null,null,null,null,null,null,null,null,"COL0096032","Bioetica, Bioderecho, Biomedicina y Biotecnologia",{"$f":"COUNTIF(BA$4:BA175,BA175)","v":1},{"$f":"ROW()","v":175},1,0]
[null,null,null,null,null,null,null,null,null,null,null,null,null,null,null,null,null,null,null,null,null,null,null,null,null,null,79,"NBC",1032,"Protección de las personas y de la propiedad",1032,null,null,null,null,null,null,null,null,null,null,null,null,null,null,null,null,null,null,null,null,null,"COL0096032","Células Madre & Medicina Regenerativa",{"$f":"COUNTIF(BA$4:BA176,BA176)","v":2},{"$f":"ROW()","v":176},1,0]
[null,null,null,null,null,null,null,null,null,null,null,null,null,null,null,null,null,null,null,null,null,null,null,null,null,null,80,"NBC",1041,"Servicios de transporte",1041,null,null,null,null,null,null,null,null,null,null,null,null,null,null,null,null,null,null,null,null,null,"COL0096032","Genética Humana",{"$f":"COUNTIF(BA$4:BA177,BA177)","v":3},{"$f":"ROW()","v":177},1,0]
[null,null,null,null,null,null,null,null,null,null,null,null,null,null,null,null,null,null,null,null,null,null,null,null,null,null,1,"Nivel",1,"Postdoctorado",{"$f":"AC178","v":1},null,null,null,null,null,null,null,null,null,null,null,null,null,null,null,null,null,null,null,null,null,"COL0136423","Control óptimo estocástico",{"$f":"COUNTIF(BA$4:BA178,BA178)","v":1},{"$f":"ROW()","v":178},2,0]
[null,null,null,null,null,null,null,null,null,null,null,null,null,null,null,null,null,null,null,null,null,null,null,null,null,null,2,"Nivel",2,"Doctorado",{"$f":"AC179","v":2},null,null,null,null,null,null,null,null,null,null,null,null,null,null,null,null,null,null,null,null,null,"COL0136423","Estadística Multivariada paramétrica y no paramétrica.",{"$f":"COUNTIF(BA$4:BA179,BA179)","v":2},{"$f":"ROW()","v":179},2,0]
[null,null,null,null,null,null,null,null,null,null,null,null,null,null,null,null,null,null,null,null,null,null,null,null,null,null,3,"Nivel",3,"Maestría",3,null,null,null,null,null,null,null,null,null,null,null,null,null,null,null,null,null,null,null,null,null,"COL0136423","Métodos estadísticos basados en grafos",{"$f":"COUNTIF(BA$4:BA180,BA180)","v":3},{"$f":"ROW()","v":180},2,0]
[null,null,null,null,null,null,null,null,null,null,null,null,null,null,null,null,null,null,null,null,null,null,null,null,null,null,4,"Nivel",4,"Esp. universitaria",4,null,null,null,null,null,null,null,null,null,null,null,null,null,null,null,null,null,null,null,null,null,"COL0136423","Optimizacion Semidefinida",{"$f":"COUNTIF(BA$4:BA181,BA181)","v":4},{"$f":"ROW()","v":181},2,0]
[null,null,null,null,null,null,null,null,null,null,null,null,null,null,null,null,null,null,null,null,null,null,null,null,null,null,5,"Nivel",5,"Esp. Técnica Profesional",5,null,null,null,null,null,null,null,null,null,null,null,null,null,null,null,null,null,null,null,null,null,"COL0136423","Optimización Numérica. Máquinas de Vectores de Soportes.",{"$f":"COUNTIF(BA$4:BA182,BA182)","v":5},{"$f":"ROW()","v":182},2,0]
[null,null,null,null,null,null,null,null,null,null,null,null,null,null,null,null,null,null,null,null,null,null,null,null,null,null,6,"Nivel",6,"Esp. Tecnológica",6,null,null,null,null,null,null,null,null,null,null,null,null,null,null,null,null,null,null,null,null,null,"COL0067504","Gestión Tecnológica",{"$f":"COUNTIF(BA$4:BA183,BA183)","v":1},{"$f":"ROW()","v":183},1,0]
[null,null,null,null,null,null,null,null,null,null,null,null,null,null,null,null,null,null,null,null,null,null,null,null,null,null,7,"Nivel",7,"Universitario",7,null,null,null,null,null,null,null,null,null,null,null,null,null,null,null,null,null,null,null,null,null,"COL0067504","Gestión del conocimiento",{"$f":"COUNTIF(BA$4:BA184,BA184)","v":2},{"$f":"ROW()","v":184},1,0]
[null,null,null,null,null,null,null,null,null,null,null,null,null,null,null,null,null,null,null,null,null,null,null,null,null,null,8,"Nivel",8,"Tecnológico",8,null,null,null,null,null,null,null,null,null,null,null,null,null,null,null,null,null,null,null,null,null,"COL0067504","Los Estilos de enseñanza y Aprendizaje",{"$f":"COUNTIF(BA$4:BA185,BA185)","v":3},{"$f":"ROW()","v":185},1,0]
[null,null,null,null,null,null,null,null,null,null,null,null,null,null,null,null,null,null,null,null,null,null,null,null,null,null,9,"Nivel",9,"Técnico profesional",9,null,null,null,null,null,null,null,null,null,null,null,null,null,null,null,null,null,null,null,null,null,"COL0067504","Mercadeo Cuántico",{"$f":"COUNTIF(BA$4:BA186,BA186)","v":4},{"$f":"ROW()","v":186},1,0]
[null,null,null,null,null,null,null,null,null,null,null,null,null,null,null,null,null,null,null,null,null,null,null,null,null,null,10,"Nivel",10,"Estudiante pregrado",10,null,null,null,null,null,null,null,null,null,null,null,null,null,null,null,null,null,null,null,null,null,"COL0067504","Mineria Web",{"$f":"COUNTIF(BA$4:BA187,BA187)","v":5},{"$f":"ROW()","v":187},1,0]
[null,null,null,null,null,null,null,null,null,null,null,null,null,null,null,null,null,null,null,null,null,null,null,null,null,null,1,"A",100,"Puede aplicar al maximo de presupuesto dependiendo los puntos comprometidos",null,null,null,null,null,null,null,null,null,null,null,null,null,null,null,null,null,null,null,null,null,null,"COL0067504","Salud Pública, Bioética e Ingeniería",{"$f":"COUNTIF(BA$4:BA188,BA188)","v":6},{"$f":"ROW()","v":188},1,0]
[null,null,null,null,null,null,null,null,null,null,null,null,null,null,null,null,null,null,null,null,null,null,null,null,null,null,8,"A1",100,"Puede aplicar al maximo de presupuesto dependiendo los puntos comprometidos",null,null,null,null,null,null,null,null,null,null,null,null,null,null,null,null,null,null,null,null,null,null,"COL0049999","Calidad y Gestión en la Educación",{"$f":"COUNTIF(BA$4:BA189,BA189)","v":1},{"$f":"ROW()","v":189},1,0]
[null,null,null,null,null,null,null,null,null,null,null,null,null,null,null,null,null,null,null,null,null,null,null,null,null,null,9,"B",100,"Puede aplicar al maximo de presupuesto dependiendo los puntos comprometidos",null,null,null,null,null,null,null,null,null,null,null,null,null,null,null,null,null,null,null,null,null,null,"COL0049999","Gestión y Proyectos",{"$f":"COUNTIF(BA$4:BA190,BA190)","v":2},{"$f":"ROW()","v":190},1,0]
[null,null,null,null,null,null,null,null,null,null,null,null,null,null,null,null,null,null,null,null,null,null,null,null,null,null,10,"C",100,"Puede aplicar al maximo de presupuesto dependiendo los puntos comprometidos",null,null,null,null,null,null,null,null,null,null,null,null,null,null,null,null,null,null,null,null,null,null,"COL0049999","Innovación",{"$f":"COUNTIF(BA$4:BA191,BA191)","v":3},{"$f":"ROW()","v":191},1,0]
[null,null,null,null,null,null,null,null,null,null,null,null,null,null,null,null,null,null,null,null,null,null,null,null,null,null,11,"D",50,"Puede aplicar hasta 50 millones de presupuesto dependiendo los puntos comprometidos",null,null,null,null,null,null,null,null,null,null,null,null,null,null,null,null,null,null,null,null,null,null,"COL0049999","Productividad",{"$f":"COUNTIF(BA$4:BA192,BA192)","v":4},{"$f":"ROW()","v":192},1,0]
[null,null,null,null,null,null,null,null,null,null,null,null,null,null,null,null,null,null,null,null,null,null,null,null,null,null,2,"R",25,"Puede aplicar hasta 25 millones de presupuesto dependiendo los puntos comprometidos",null,null,null,null,null,null,null,null,null,null,null,null,null,null,null,null,null,null,null,null,null,null,"COL0049999","Sostenibilidad y Medio Ambiente",{"$f":"COUNTIF(BA$4:BA193,BA193)","v":5},{"$f":"ROW()","v":193},1,0]
[null,null,null,null,null,null,null,null,null,null,null,null,null,null,null,null,null,null,null,null,null,null,null,null,null,null,2,"NR",25,"Puede aplicar hasta 25 millones de presupuesto dependiendo los puntos comprometidos",null,null,null,null,null,null,null,null,null,null,null,null,null,null,null,null,null,null,null,null,null,null,"COL0049999","Tecnología",{"$f":"COUNTIF(BA$4:BA194,BA194)","v":6},{"$f":"ROW()","v":194},1,0]
[null,null,null,null,null,null,null,null,null,null,null,null,null,null,null,null,null,null,null,null,null,null,null,null,null,null,12,"NA",25,"Puede aplicar hasta 25 millones de presupuesto dependiendo los puntos comprometidos",null,null,null,null,null,null,null,null,null,null,null,null,null,null,null,null,null,null,null,null,null,null,"COL0126015","INMUNODERMATOLOGIA",{"$f":"COUNTIF(BA$4:BA195,BA195)","v":1},{"$f":"ROW()","v":195},1,0]
[null,null,null,null,null,null,null,null,null,null,null,null,null,null,null,null,null,null,null,null,null,null,null,null,null,null,1,"Nivel_Inst",1,"Distrital",null,null,null,null,null,null,null,null,null,null,null,null,null,null,null,null,null,null,null,null,null,null,"COL0126015","PSORIASIS",{"$f":"COUNTIF(BA$4:BA196,BA196)","v":2},{"$f":"ROW()","v":196},{"$f":"COUNTIF($AQ$3:$AQ$90,BA196)","v":1},0]
[null,null,null,null,null,null,null,null,null,null,null,null,null,null,null,null,null,null,null,null,null,null,null,null,null,null,2,"Nivel_Inst",2,"Nacional",null,null,null,null,null,null,null,null,null,null,null,null,null,null,null,null,null,null,null,null,null,null,"COL0138698","BIOETICA",{"$f":"COUNTIF(BA$4:BA197,BA197)","v":1},{"$f":"ROW()","v":197},1,0]
[null,null,null,null,null,null,null,null,null,null,null,null,null,null,null,null,null,null,null,null,null,null,null,null,null,null,3,"Nivel_Inst",3,"Internacional",null,null,null,null,null,null,null,null,null,null,null,null,null,null,null,null,null,null,null,null,null,null,"COL0138698","CEREBROVASCULAR",{"$f":"COUNTIF(BA$4:BA198,BA198)","v":2},{"$f":"ROW()","v":198},1,{"$f":"COUNTIF($BH$20:$BH$23,BA198)","v":0}]
[null,null,null,null,null,null,null,null,null,null,null,null,null,null,null,null,null,null,null,null,null,null,null,null,null,null,null,null,null,null,null,null,null,null,null,null,null,null,null,null,null,null,null,null,null,null,null,null,null,null,null,null,"COL0138698","DEMENCIAS",{"$f":"COUNTIF(BA$4:BA199,BA199)","v":3},{"$f":"ROW()","v":199},1,0]
[null,null,null,null,null,null,null,null,null,null,null,null,null,null,null,null,null,null,null,null,null,null,null,null,null,null,null,null,null,null,null,null,null,null,null,null,null,null,null,null,null,null,null,null,null,null,null,null,null,null,null,null,"COL0138698","DISTONIAS",{"$f":"COUNTIF(BA$4:BA200,BA200)","v":4},{"$f":"ROW()","v":200},1,0]
[null,null,null,null,null,null,null,null,null,null,null,null,null,null,null,null,null,null,null,null,null,null,null,null,null,null,null,null,null,null,null,null,null,null,null,null,null,null,null,null,null,null,null,null,null,null,null,null,null,null,null,null,"COL0138698","ENFERMEDADES HUERFANAS",{"$f":"COUNTIF(BA$4:BA201,BA201)","v":5},{"$f":"ROW()","v":201},1,0]
[null,null,null,null,null,null,null,null,null,null,null,null,null,null,null,null,null,null,null,null,null,null,null,null,null,null,null,null,null,null,null,null,null,null,null,null,null,null,null,null,null,null,null,null,null,null,null,null,null,null,null,null,"COL0138698","EPILEPSIA",{"$f":"COUNTIF(BA$4:BA202,BA202)","v":6},{"$f":"ROW()","v":202},1,0]
[null,null,null,null,null,null,null,null,null,null,null,null,null,null,null,null,null,null,null,null,null,null,null,null,null,null,null,null,null,null,null,null,null,null,null,null,null,null,null,null,null,null,null,null,null,null,null,null,null,null,null,null,"COL0138698","ESCLEROSIS MULTIPLE",{"$f":"COUNTIF(BA$4:BA203,BA203)","v":7},{"$f":"ROW()","v":203},1,0]
[null,null,null,null,null,null,null,null,null,null,null,null,null,null,null,null,null,null,null,null,null,null,null,null,null,null,null,null,null,null,null,null,null,null,null,null,null,null,null,null,null,null,null,null,null,null,null,null,null,null,null,null,"COL0138698","MOVIMIENTOS ANORMALES",{"$f":"COUNTIF(BA$4:BA204,BA204)","v":8},{"$f":"ROW()","v":204},1,0]
[null,null,null,null,null,null,null,null,null,null,null,null,null,null,null,null,null,null,null,null,null,null,null,null,null,null,null,null,null,null,null,null,null,null,null,null,null,null,null,null,null,null,null,null,null,null,null,null,null,null,null,null,"COL0138698","NEUROCIRUGÍA DE COLUMNA",{"$f":"COUNTIF(BA$4:BA205,BA205)","v":9},{"$f":"ROW()","v":205},1,0]
[null,null,null,null,null,null,null,null,null,null,null,null,null,null,null,null,null,null,null,null,null,null,null,null,null,null,null,null,null,null,null,null,null,null,null,null,null,null,null,null,null,null,null,null,null,null,null,null,null,null,null,null,"COL0138698","NEUROCIRUGÍA FUNCIONAL",{"$f":"COUNTIF(BA$4:BA206,BA206)","v":10},{"$f":"ROW()","v":206},1,0]
[null,null,null,null,null,null,null,null,null,null,null,null,null,null,null,null,null,null,null,null,null,null,null,null,null,null,null,null,null,null,null,null,null,null,null,null,null,null,null,null,null,null,null,null,null,null,null,null,null,null,null,null,"COL0138698","NEUROINFECCIONES",{"$f":"COUNTIF(BA$4:BA207,BA207)","v":11},{"$f":"ROW()","v":207},1,0]
[null,null,null,null,null,null,null,null,null,null,null,null,null,null,null,null,null,null,null,null,null,null,null,null,null,null,null,null,null,null,null,null,null,null,null,null,null,null,null,null,null,null,null,null,null,null,null,null,null,null,null,null,"COL0138698","NEUROMUSCULAR",{"$f":"COUNTIF(BA$4:BA208,BA208)","v":12},{"$f":"ROW()","v":208},1,0]
[null,null,null,null,null,null,null,null,null,null,null,null,null,null,null,null,null,null,null,null,null,null,null,null,null,null,null,null,null,null,null,null,null,null,null,null,null,null,null,null,null,null,null,null,null,null,null,null,null,null,null,null,"COL0138698","NEUROONCOLOGIA",{"$f":"COUNTIF(BA$4:BA209,BA209)","v":13},{"$f":"ROW()","v":209},1,0]
[null,null,null,null,null,null,null,null,null,null,null,null,null,null,null,null,null,null,null,null,null,null,null,null,null,null,null,null,null,null,null,null,null,null,null,null,null,null,null,null,null,null,null,null,null,null,null,null,null,null,null,null,"COL0138698","PARALISIS CEREBRAL",{"$f":"COUNTIF(BA$4:BA210,BA210)","v":14},{"$f":"ROW()","v":210},1,0]
[null,null,null,null,null,null,null,null,null,null,null,null,null,null,null,null,null,null,null,null,null,null,null,null,null,null,null,null,null,null,null,null,null,null,null,null,null,null,null,null,null,null,null,null,null,null,null,null,null,null,null,null,"COL0138698","RETARDO MENTAL",{"$f":"COUNTIF(BA$4:BA211,BA211)","v":15},{"$f":"ROW()","v":211},1,0]
[null,null,null,null,null,null,null,null,null,null,null,null,null,null,null,null,null,null,null,null,null,null,null,null,null,null,null,null,null,null,null,null,null,null,null,null,null,null,null,null,null,null,null,null,null,null,null,null,null,null,null,null,"COL0138698","SALUD MENTAL",{"$f":"COUNTIF(BA$4:BA212,BA212)","v":16},{"$f":"ROW()","v":212},1,0]
[null,null,null,null,null,null,null,null,null,null,null,null,null,null,null,null,null,null,null,null,null,null,null,null,null,null,null,null,null,null,null,null,null,null,null,null,null,null,null,null,null,null,null,null,null,null,null,null,null,null,null,null,"COL0138698","SUEÑO",{"$f":"COUNTIF(BA$4:BA213,BA213)","v":17},{"$f":"ROW()","v":213},1,0]
[null,null,null,null,null,null,null,null,null,null,null,null,null,null,null,null,null,null,null,null,null,null,null,null,null,null,null,null,null,null,null,null,null,null,null,null,null,null,null,null,null,null,null,null,null,null,null,null,null,null,null,null,"COL0138698","TRASTORNOS DEL NEURODESARROLLO",{"$f":"COUNTIF(BA$4:BA214,BA214)","v":18},{"$f":"ROW()","v":214},1,0]
[null,null,null,null,null,null,null,null,null,null,null,null,null,null,null,null,null,null,null,null,null,null,null,null,null,null,null,null,null,null,null,null,null,null,null,null,null,null,null,null,null,null,null,null,null,null,null,null,null,null,null,null,"COL0138698","TRAUMA DE CRÁNEO Y COLUMNA",{"$f":"COUNTIF(BA$4:BA215,BA215)","v":19},{"$f":"ROW()","v":215},1,0]
[null,null,null,null,null,null,null,null,null,null,null,null,null,null,null,null,null,null,null,null,null,null,null,null,null,null,null,null,null,null,null,null,null,null,null,null,null,null,null,null,null,null,null,null,null,null,null,null,null,null,null,null,"COL0120281","Medicina Electrodiagnostica",{"$f":"COUNTIF(BA$4:BA216,BA216)","v":1},{"$f":"ROW()","v":216},1,0]
[null,null,null,null,null,null,null,null,null,null,null,null,null,null,null,null,null,null,null,null,null,null,null,null,null,null,null,null,null,null,null,null,null,null,null,null,null,null,null,null,null,null,null,null,null,null,null,null,null,null,null,null,"COL0120281","Rehabilitacion Neurologica",{"$f":"COUNTIF(BA$4:BA217,BA217)","v":2},{"$f":"ROW()","v":217},1,0]
[null,null,null,null,null,null,null,null,null,null,null,null,null,null,null,null,null,null,null,null,null,null,null,null,null,null,null,null,null,null,null,null,null,null,null,null,null,null,null,null,null,null,null,null,null,null,null,null,null,null,null,null,"COL0120281","Rehabilitacion cardio-pulmonar",{"$f":"COUNTIF(BA$4:BA218,BA218)","v":3},{"$f":"ROW()","v":218},1,0]
[null,null,null,null,null,null,null,null,null,null,null,null,null,null,null,null,null,null,null,null,null,null,null,null,null,null,null,null,null,null,null,null,null,null,null,null,null,null,null,null,null,null,null,null,null,null,null,null,null,null,null,null,"COL0120281","Rehabilitacion musculo esqueletica",{"$f":"COUNTIF(BA$4:BA219,BA219)","v":4},{"$f":"ROW()","v":219},1,0]
[null,null,null,null,null,null,null,null,null,null,null,null,null,null,null,null,null,null,null,null,null,null,null,null,null,null,null,null,null,null,null,null,null,null,null,null,null,null,null,null,null,null,null,null,null,null,null,null,null,null,null,null,"COL0120281","Rehabilitación Infantil",{"$f":"COUNTIF(BA$4:BA220,BA220)","v":5},{"$f":"ROW()","v":220},1,0]
[null,null,null,null,null,null,null,null,null,null,null,null,null,null,null,null,null,null,null,null,null,null,null,null,null,null,null,null,null,null,null,null,null,null,null,null,null,null,null,null,null,null,null,null,null,null,null,null,null,null,null,null,"COL0120281","Robotica en Rehabilitación",{"$f":"COUNTIF(BA$4:BA221,BA221)","v":6},{"$f":"ROW()","v":221},1,0]
[null,null,null,null,null,null,null,null,null,null,null,null,null,null,null,null,null,null,null,null,null,null,null,null,null,null,null,null,null,null,null,null,null,null,null,null,null,null,null,null,null,null,null,null,null,null,null,null,null,null,null,null,"COL0138796","Docencia y Didactica de la Física Universitaria",{"$f":"COUNTIF(BA$4:BA222,BA222)","v":1},{"$f":"ROW()","v":222},1,0]
[null,null,null,null,null,null,null,null,null,null,null,null,null,null,null,null,null,null,null,null,null,null,null,null,null,null,null,null,null,null,null,null,null,null,null,null,null,null,null,null,null,null,null,null,null,null,null,null,null,null,null,null,"COL0138796","Física Computacional",{"$f":"COUNTIF(BA$4:BA223,BA223)","v":2},{"$f":"ROW()","v":223},1,0]
[null,null,null,null,null,null,null,null,null,null,null,null,null,null,null,null,null,null,null,null,null,null,null,null,null,null,null,null,null,null,null,null,null,null,null,null,null,null,null,null,null,null,null,null,null,null,null,null,null,null,null,null,"COL0138796","Magnetismo y Aplicaciones",{"$f":"COUNTIF(BA$4:BA224,BA224)","v":3},{"$f":"ROW()","v":224},1,0]
[null,null,null,null,null,null,null,null,null,null,null,null,null,null,null,null,null,null,null,null,null,null,null,null,null,null,null,null,null,null,null,null,null,null,null,null,null,null,null,null,null,null,null,null,null,null,null,null,null,null,null,null,"COL0138796","Nanotecnología y Sensórica",{"$f":"COUNTIF(BA$4:BA225,BA225)","v":4},{"$f":"ROW()","v":225},1,0]
[null,null,null,null,null,null,null,null,null,null,null,null,null,null,null,null,null,null,null,null,null,null,null,null,null,null,null,null,null,null,null,null,null,null,null,null,null,null,null,null,null,null,null,null,null,null,null,null,null,null,null,null,"COL0138796","Uso de radiación ionizante para la producción de imágenes médicas",{"$f":"COUNTIF(BA$4:BA226,BA226)","v":5},{"$f":"ROW()","v":226},1,0]
[null,null,null,null,null,null,null,null,null,null,null,null,null,null,null,null,null,null,null,null,null,null,null,null,null,null,null,null,null,null,null,null,null,null,null,null,null,null,null,null,null,null,null,null,null,null,null,null,null,null,null,null,"COL0032278","Biología y Ecología de plagas y enemigos naturales de cultivos de importancia económica",{"$f":"COUNTIF(BA$4:BA227,BA227)","v":1},{"$f":"ROW()","v":227},1,0]
[null,null,null,null,null,null,null,null,null,null,null,null,null,null,null,null,null,null,null,null,null,null,null,null,null,null,null,null,null,null,null,null,null,null,null,null,null,null,null,null,null,null,null,null,null,null,null,null,null,null,null,null,"COL0032278","Ecología Química y Redes Tróficas",{"$f":"COUNTIF(BA$4:BA228,BA228)","v":2},{"$f":"ROW()","v":228},1,0]
[null,null,null,null,null,null,null,null,null,null,null,null,null,null,null,null,null,null,null,null,null,null,null,null,null,null,null,null,null,null,null,null,null,null,null,null,null,null,null,null,null,null,null,null,null,null,null,null,null,null,null,null,"COL0032278","Generación de recomendaciones para el manejo integrado de plagas, mediante el diseño de modelos de simulación de agroecosistemas",{"$f":"COUNTIF(BA$4:BA229,BA229)","v":3},{"$f":"ROW()","v":229},1,0]
[null,null,null,null,null,null,null,null,null,null,null,null,null,null,null,null,null,null,null,null,null,null,null,null,null,null,null,null,null,null,null,null,null,null,null,null,null,null,null,null,null,null,null,null,null,null,null,null,null,null,null,null,"COL0031959","Análisis de redes de interacción planta-polinizador a partir de técnicas palinológicas",{"$f":"COUNTIF(BA$4:BA230,BA230)","v":1},{"$f":"ROW()","v":230},1,0]
[null,null,null,null,null,null,null,null,null,null,null,null,null,null,null,null,null,null,null,null,null,null,null,null,null,null,null,null,null,null,null,null,null,null,null,null,null,null,null,null,null,null,null,null,null,null,null,null,null,null,null,null,"COL0031959","Cría de especies del género Bombus para su utilización como polinizadores en cultivos de la sabana Cundi-boyacense.",{"$f":"COUNTIF(BA$4:BA231,BA231)","v":2},{"$f":"ROW()","v":231},1,0]
[null,null,null,null,null,null,null,null,null,null,null,null,null,null,null,null,null,null,null,null,null,null,null,null,null,null,null,null,null,null,null,null,null,null,null,null,null,null,null,null,null,null,null,null,null,null,null,null,null,null,null,null,"COL0031959","Diversidad, biología y taxonomia de polinizadores colombianos",{"$f":"COUNTIF(BA$4:BA232,BA232)","v":3},{"$f":"ROW()","v":232},1,0]
[null,null,null,null,null,null,null,null,null,null,null,null,null,null,null,null,null,null,null,null,null,null,null,null,null,null,null,null,null,null,null,null,null,null,null,null,null,null,null,null,null,null,null,null,null,null,null,null,null,null,null,null,"COL0031959","Ecología de la polinización: estudios del uso sostenible de especies de abejas silvestres como polinizadores de hortalizas y frutales",{"$f":"COUNTIF(BA$4:BA233,BA233)","v":4},{"$f":"ROW()","v":233},1,0]
[null,null,null,null,null,null,null,null,null,null,null,null,null,null,null,null,null,null,null,null,null,null,null,null,null,null,null,null,null,null,null,null,null,null,null,null,null,null,null,null,null,null,null,null,null,null,null,null,null,null,null,null,"COL0031959","Modelos biológicos y ecológicos de insectos benéficos",{"$f":"COUNTIF(BA$4:BA234,BA234)","v":5},{"$f":"ROW()","v":234},1,0]
[null,null,null,null,null,null,null,null,null,null,null,null,null,null,null,null,null,null,null,null,null,null,null,null,null,null,null,null,null,null,null,null,null,null,null,null,null,null,null,null,null,null,null,null,null,null,null,null,null,null,null,null,"COL0018448","Ambiente Virtuales de Aprendizaje",{"$f":"COUNTIF(BA$4:BA235,BA235)","v":1},{"$f":"ROW()","v":235},1,0]
[null,null,null,null,null,null,null,null,null,null,null,null,null,null,null,null,null,null,null,null,null,null,null,null,null,null,null,null,null,null,null,null,null,null,null,null,null,null,null,null,null,null,null,null,null,null,null,null,null,null,null,null,"COL0018448","Formación pedagógica y didáctica del docente",{"$f":"COUNTIF(BA$4:BA236,BA236)","v":2},{"$f":"ROW()","v":236},1,0]
[null,null,null,null,null,null,null,null,null,null,null,null,null,null,null,null,null,null,null,null,null,null,null,null,null,null,null,null,null,null,null,null,null,null,null,null,null,null,null,null,null,null,null,null,null,null,null,null,null,null,null,null,"COL0018448","Gestión del conocimiento y calidad de la educación superior",{"$f":"COUNTIF(BA$4:BA237,BA237)","v":3},{"$f":"ROW()","v":237},1,0]
[null,null,null,null,null,null,null,null,null,null,null,null,null,null,null,null,null,null,null,null,null,null,null,null,null,null,null,null,null,null,null,null,null,null,null,null,null,null,null,null,null,null,null,null,null,null,null,null,null,null,null,null,"COL0068762","Ingeniería Sostenible",{"$f":"COUNTIF(BA$4:BA238,BA238)","v":1},{"$f":"ROW()","v":238},1,0]
[null,null,null,null,null,null,null,null,null,null,null,null,null,null,null,null,null,null,null,null,null,null,null,null,null,null,null,null,null,null,null,null,null,null,null,null,null,null,null,null,null,null,null,null,null,null,null,null,null,null,null,null,"COL0068762","Inteligencia artificial y procesamiento de señales",{"$f":"COUNTIF(BA$4:BA239,BA239)","v":2},{"$f":"ROW()","v":239},1,0]
[null,null,null,null,null,null,null,null,null,null,null,null,null,null,null,null,null,null,null,null,null,null,null,null,null,null,null,null,null,null,null,null,null,null,null,null,null,null,null,null,null,null,null,null,null,null,null,null,null,null,null,null,"COL0068762","Tecnologías de la información y las comunicaciones (TIC)",{"$f":"COUNTIF(BA$4:BA240,BA240)","v":3},{"$f":"ROW()","v":240},1,0]
[null,null,null,null,null,null,null,null,null,null,null,null,null,null,null,null,null,null,null,null,null,null,null,null,null,null,null,null,null,null,null,null,null,null,null,null,null,null,null,null,null,null,null,null,null,null,null,null,null,null,null,null,"COL0126777","Animación 2D y 3D",{"$f":"COUNTIF(BA$4:BA241,BA241)","v":1},{"$f":"ROW()","v":241},1,0]
[null,null,null,null,null,null,null,null,null,null,null,null,null,null,null,null,null,null,null,null,null,null,null,null,null,null,null,null,null,null,null,null,null,null,null,null,null,null,null,null,null,null,null,null,null,null,null,null,null,null,null,null,"COL0126777","Audio y video",{"$f":"COUNTIF(BA$4:BA242,BA242)","v":2},{"$f":"ROW()","v":242},1,0]
[null,null,null,null,null,null,null,null,null,null,null,null,null,null,null,null,null,null,null,null,null,null,null,null,null,null,null,null,null,null,null,null,null,null,null,null,null,null,null,null,null,null,null,null,null,null,null,null,null,null,null,null,"COL0126777","Desarrollo Multimedia",{"$f":"COUNTIF(BA$4:BA243,BA243)","v":3},{"$f":"ROW()","v":243},1,0]
[null,null,null,null,null,null,null,null,null,null,null,null,null,null,null,null,null,null,null,null,null,null,null,null,null,null,null,null,null,null,null,null,null,null,null,null,null,null,null,null,null,null,null,null,null,null,null,null,null,"MED",null,null,"COL0126777","Museografía y Museología",{"$f":"COUNTIF(BA$4:BA244,BA244)","v":4},{"$f":"ROW()","v":244},1,0]
[null,null,null,null,null,null,null,null,null,null,null,null,null,null,null,null,null,null,null,null,null,null,null,null,null,null,null,null,null,null,null,null,null,null,null,null,null,null,null,null,null,null,null,null,null,null,null,null,null,"MED",null,null,"COL0126777","Narrativas digitales",{"$f":"COUNTIF(BA$4:BA245,BA245)","v":5},{"$f":"ROW()","v":245},1,0]
[null,null,null,null,null,null,null,null,null,null,null,null,null,null,null,null,null,null,null,null,null,null,null,null,null,null,null,null,null,null,null,null,null,null,null,null,null,null,{"$f":"COUNTIF($AN$4:$AN$80,AL105)","v":0},"63n","MED",null,null,null,null,{"$f":"$AT$2&AV246&\":\"&$AT$2&AW246","v":"BB0:BB0"},{"$f":"ROW()","v":246},{"$f":"MINA(IF(AQ249=$BA$4:$BA$411,$BD$4:$BD$411))","v":0},{"$f":"MAXA(IF(AQ249=$BA$4:$BA$411,$BD$4:$BD$411))","v":0},null,null,null,"COL0126777","Patrimonio",{"$f":"COUNTIF(BA$4:BA246,BA246)","v":6},{"$f":"ROW()","v":246},1,0]
[null,null,null,null,null,null,null,null,null,null,null,null,null,null,null,null,null,null,null,null,null,null,null,null,null,null,null,null,null,null,null,null,null,null,null,null,null,null,{"$f":"COUNTIF($AN$4:$AN$80,AL106)","v":0},"65n","MED",null,null,null,null,{"$f":"$AT$2&AV247&\":\"&$AT$2&AW247","v":"BB0:BB0"},{"$f":"ROW()","v":247},{"$f":"MINA(IF(AQ250=$BA$4:$BA$411,$BD$4:$BD$411))","v":0},{"$f":"MAXA(IF(AQ250=$BA$4:$BA$411,$BD$4:$BD$411))","v":0},null,null,null,"COL0110329","Didáctica de las matemáticas universitarias",{"$f":"COUNTIF(BA$4:BA247,BA247)","v":1},{"$f":"ROW()","v":247},1,0]
[null,null,null,null,null,null,null,null,null,null,null,null,null,null,null,null,null,null,null,null,null,null,null,null,null,null,null,null,null,null,null,null,null,null,null,null,null,null,null,null,null,null,null,null,null,null,null,null,null,null,null,null,"COL0110329","Diseño curricular y evaluación en matemáticas universitarias",{"$f":"COUNTIF(BA$4:BA248,BA248)","v":2},{"$f":"ROW()","v":248},1,0]
[null,null,null,null,null,null,null,null,null,null,null,null,null,null,null,null,null,null,null,null,null,null,null,null,null,null,null,null,null,null,null,null,null,null,null,null,null,null,null,null,null,"Grupo de Investigación en Farmacología, Toxicología y Terapéutica-UMNG","COL0114201","NA","https://scienti.colciencias.gov.co/gruplac/jsp/visualiza/visualizagr.jsp?nro=00000000011524",null,null,null,null,null,null,null,"COL0110329","Herramientas virtuales y enseñanza de las matemáticas universitarias",{"$f":"COUNTIF(BA$4:BA249,BA249)","v":3},{"$f":"ROW()","v":249},1,0]
[null,null,null,null,null,null,null,null,null,null,null,null,null,null,null,null,null,null,null,null,null,null,null,null,null,null,null,null,null,null,null,null,null,null,null,null,null,null,null,null,null,"MEDICINA REGENERATIVA HMC UMNG","COL0125107","NA","https://scienti.colciencias.gov.co/gruplac/jsp/visualiza/visualizagr.jsp?nro=00000000012646",null,null,null,null,null,null,null,"COL0038084","Acuaponía, recirculación e hidroponía",{"$f":"COUNTIF(BA$4:BA250,BA250)","v":1},{"$f":"ROW()","v":250},1,0]
[null,null,null,null,null,null,null,null,null,null,null,null,null,null,null,null,null,null,null,null,null,null,null,null,null,null,null,null,null,null,null,null,null,null,null,null,null,null,null,null,null,null,null,null,null,null,null,null,null,null,null,null,"COL0038084","Biología evolutiva de animales",{"$f":"COUNTIF(BA$4:BA251,BA251)","v":2},{"$f":"ROW()","v":251},1,0]
[null,null,null,null,null,null,null,null,null,null,null,null,null,null,null,null,null,null,null,null,null,null,null,null,null,null,null,null,null,null,null,null,null,null,null,null,null,null,null,null,null,null,null,null,null,null,null,null,null,null,null,null,"COL0038084","Ecotoxicología",{"$f":"COUNTIF(BA$4:BA252,BA252)","v":3},{"$f":"ROW()","v":252},1,0]
[null,null,null,null,null,null,null,null,null,null,null,null,null,null,null,null,null,null,null,null,null,null,null,null,null,null,null,null,null,null,null,null,null,null,null,null,null,null,null,null,null,null,null,null,null,null,null,null,null,null,null,null,"COL0038084","Energías alternas y recursos ambientales",{"$f":"COUNTIF(BA$4:BA253,BA253)","v":4},{"$f":"ROW()","v":253},1,0]
[null,null,null,null,null,null,null,null,null,null,null,null,null,null,null,null,null,null,null,null,null,null,null,null,null,null,null,null,null,null,null,null,null,null,null,null,null,null,null,null,null,null,null,null,null,null,null,null,null,null,null,null,"COL0038084","modelamiento de especies bajo escenario de calentamiento global",{"$f":"COUNTIF(BA$4:BA254,BA254)","v":5},{"$f":"ROW()","v":254},1,0]
[null,null,null,null,null,null,null,null,null,null,null,null,null,null,null,null,null,null,null,null,null,null,null,null,null,null,null,null,null,null,null,null,null,null,null,null,null,null,null,null,null,null,null,null,null,null,null,null,null,null,null,null,"COL0044859","Interacción Humano Computador",{"$f":"COUNTIF(BA$4:BA255,BA255)","v":1},{"$f":"ROW()","v":255},1,0]
[null,null,null,null,null,null,null,null,null,null,null,null,null,null,null,null,null,null,null,null,null,null,null,null,null,null,null,null,null,null,null,null,null,null,null,null,null,null,null,null,null,null,null,null,null,null,null,null,null,null,null,null,"COL0044859","Multimedia Educativa",{"$f":"COUNTIF(BA$4:BA256,BA256)","v":2},{"$f":"ROW()","v":256},1,0]
[null,null,null,null,null,null,null,null,null,null,null,null,null,null,null,null,null,null,null,null,null,null,null,null,null,null,null,null,null,null,null,null,null,null,null,null,null,null,null,null,null,null,null,null,null,null,null,null,null,null,null,null,"COL0044859","Procesamiento digital de imágenes y Visión por computador",{"$f":"COUNTIF(BA$4:BA257,BA257)","v":3},{"$f":"ROW()","v":257},1,0]
[null,null,null,null,null,null,null,null,null,null,null,null,null,null,null,null,null,null,null,null,null,null,null,null,null,null,null,null,null,null,null,null,null,null,null,null,null,null,null,null,null,null,null,null,null,null,null,null,null,null,null,null,"COL0044859","Sistemas Multimedia",{"$f":"COUNTIF(BA$4:BA258,BA258)","v":4},{"$f":"ROW()","v":258},1,0]
[null,null,null,null,null,null,null,null,null,null,null,null,null,null,null,null,null,null,null,null,null,null,null,null,null,null,null,null,null,null,null,null,null,null,null,null,null,null,null,null,null,null,null,null,null,null,null,null,null,null,null,null,"COL0044859","Visualización y Computación Gráfica",{"$f":"COUNTIF(BA$4:BA259,BA259)","v":5},{"$f":"ROW()","v":259},1,0]
[null,null,null,null,null,null,null,null,null,null,null,null,null,null,null,null,null,null,null,null,null,null,null,null,null,null,null,null,null,null,null,null,null,null,null,null,null,null,null,null,null,null,null,null,null,null,null,null,null,null,null,null,"COL0077707","(Eco)fisiología vegetal",{"$f":"COUNTIF(BA$4:BA260,BA260)","v":1},{"$f":"ROW()","v":260},{"$f":"COUNTIF($AQ$3:$AQ$90,BA260)","v":1},0]
[null,null,null,null,null,null,null,null,null,null,null,null,null,null,null,null,null,null,null,null,null,null,null,null,null,null,null,null,null,null,null,null,null,null,null,null,null,null,null,null,null,null,null,null,null,null,null,null,null,null,null,null,"COL0077707","Bioprospección de Comunidades Vegetales",{"$f":"COUNTIF(BA$4:BA261,BA261)","v":2},{"$f":"ROW()","v":261},1,0]
[null,null,null,null,null,null,null,null,null,null,null,null,null,null,null,null,null,null,null,null,null,null,null,null,null,null,null,null,null,null,null,null,null,null,null,null,null,null,null,null,null,null,null,null,null,null,null,null,null,null,null,null,"COL0077707","Búsqueda Biodirigida y Síntesis de Sustancias Bioactivas",{"$f":"COUNTIF(BA$4:BA262,BA262)","v":3},{"$f":"ROW()","v":262},1,0]
[null,null,null,null,null,null,null,null,null,null,null,null,null,null,null,null,null,null,null,null,null,null,null,null,null,null,null,null,null,null,null,null,null,null,null,null,null,null,null,null,null,null,null,null,null,null,null,null,null,null,null,null,"COL0077707","Ecología Química y Redes Tróficas",{"$f":"COUNTIF(BA$4:BA263,BA263)","v":4},{"$f":"ROW()","v":263},1,{"$f":"COUNTIF($BH$20:$BH$23,BA263)","v":0}]
[null,null,null,null,null,null,null,null,null,null,null,null,null,null,null,null,null,null,null,null,null,null,null,null,null,null,null,null,null,null,null,null,null,null,null,null,null,null,null,null,null,null,null,null,null,null,null,null,null,null,null,null,"COL0077707","Fitoquímica Analítica",{"$f":"COUNTIF(BA$4:BA264,BA264)","v":5},{"$f":"ROW()","v":264},1,0]
[null,null,null,null,null,null,null,null,null,null,null,null,null,null,null,null,null,null,null,null,null,null,null,null,null,null,null,null,null,null,null,null,null,null,null,null,null,null,null,null,null,null,null,null,null,null,null,null,null,null,null,null,"COL0077707","Metabolómica | Fisiología Molecular | Ecología Metabólica | Respuestas Metabólicas",{"$f":"COUNTIF(BA$4:BA265,BA265)","v":6},{"$f":"ROW()","v":265},1,0]
[null,null,null,null,null,null,null,null,null,null,null,null,null,null,null,null,null,null,null,null,null,null,null,null,null,null,null,null,null,null,null,null,null,null,null,null,null,null,null,null,null,null,null,null,null,null,null,null,null,null,null,null,"COL0077707","Modelado Molecular, Bio- y Quimio-informática",{"$f":"COUNTIF(BA$4:BA266,BA266)","v":7},{"$f":"ROW()","v":266},1,0]
[null,null,null,null,null,null,null,null,null,null,null,null,null,null,null,null,null,null,null,null,null,null,null,null,null,null,null,null,null,null,null,null,null,null,null,null,null,null,null,null,null,null,null,null,null,null,null,null,null,null,null,null,"COL0077707","Química Ambiental",{"$f":"COUNTIF(BA$4:BA267,BA267)","v":8},{"$f":"ROW()","v":267},1,0]
[null,null,null,null,null,null,null,null,null,null,null,null,null,null,null,null,null,null,null,null,null,null,null,null,null,null,null,null,null,null,null,null,null,null,null,null,null,null,null,null,null,null,null,null,null,null,null,null,null,null,null,null,"COL0077707","Química Bioorgánica y Bioquímica",{"$f":"COUNTIF(BA$4:BA268,BA268)","v":9},{"$f":"ROW()","v":268},1,0]
[null,null,null,null,null,null,null,null,null,null,null,null,null,null,null,null,null,null,null,null,null,null,null,null,null,null,null,null,null,null,null,null,null,null,null,null,null,null,null,null,null,null,null,null,null,null,null,null,null,null,null,null,"COL0142449","CULTURA CONSTITUCIONAL, PAZ Y JUSTICIA TRANSICIONAL",{"$f":"COUNTIF(BA$4:BA269,BA269)","v":1},{"$f":"ROW()","v":269},1,0]
[null,null,null,null,null,null,null,null,null,null,null,null,null,null,null,null,null,null,null,null,null,null,null,null,null,null,null,null,null,null,null,null,null,null,null,null,null,null,null,null,null,null,null,null,null,null,null,null,null,null,null,null,"COL0142449","BIOÉTICA, DERECHOS HUMANOS Y EDUCACIÓN",{"$f":"COUNTIF(BA$4:BA270,BA270)","v":2},{"$f":"ROW()","v":270},1,0]
[null,null,null,null,null,null,null,null,null,null,null,null,null,null,null,null,null,null,null,null,null,null,null,null,null,null,null,null,null,null,null,null,null,null,null,null,null,null,null,null,null,null,null,null,null,null,null,null,null,null,null,null,"COL0142449","POLÍTICA CRIMINAL, DERECHO PENAL Y CRIMINOLOGÍA",{"$f":"COUNTIF(BA$4:BA271,BA271)","v":3},{"$f":"ROW()","v":271},1,0]
[null,null,null,null,null,null,null,null,null,null,null,null,null,null,null,null,null,null,null,null,null,null,null,null,null,null,null,null,null,null,null,null,null,null,null,null,null,null,null,null,null,null,null,null,null,null,null,null,null,null,null,null,"COL0142449","POLÍTICAS PÚBLICAS, DERECHO ADMINISTRATIVO Y DESARROLLO",{"$f":"COUNTIF(BA$4:BA272,BA272)","v":4},{"$f":"ROW()","v":272},1,0]
[null,null,null,null,null,null,null,null,null,null,null,null,null,null,null,null,null,null,null,null,null,null,null,null,null,null,null,null,null,null,null,null,null,null,null,null,null,null,null,null,null,null,null,null,null,null,null,null,null,null,null,null,"COL0142449","PROPIEDAD INTELECTUAL Y TRANSFERENCIA TECNOLÓGICA",{"$f":"COUNTIF(BA$4:BA273,BA273)","v":5},{"$f":"ROW()","v":273},1,0]
[null,null,null,null,null,null,null,null,null,null,null,null,null,null,null,null,null,null,null,null,null,null,null,null,null,null,null,null,null,null,null,null,null,null,null,null,null,null,null,null,null,null,null,null,null,null,null,null,null,null,null,null,"COL0142449","SOCIOLOGÍA JURÍDICA, DERECHO PÚBLICO Y TEORÍA JURÍDICA",{"$f":"COUNTIF(BA$4:BA274,BA274)","v":6},{"$f":"ROW()","v":274},1,0]
[null,null,null,null,null,null,null,null,null,null,null,null,null,null,null,null,null,null,null,null,null,null,null,null,null,null,null,null,null,null,null,null,null,null,null,null,null,null,null,null,null,null,null,null,null,null,null,null,null,null,null,null,"COL0052181","Big Data Analytics",{"$f":"COUNTIF(BA$4:BA275,BA275)","v":1},{"$f":"ROW()","v":275},1,0]
[null,null,null,null,null,null,null,null,null,null,null,null,null,null,null,null,null,null,null,null,null,null,null,null,null,null,null,null,null,null,null,null,null,null,null,null,null,null,null,null,null,null,null,null,null,null,null,null,null,null,null,null,"COL0052181","Biomecánica e Ingeniería de Rehabilitación",{"$f":"COUNTIF(BA$4:BA276,BA276)","v":2},{"$f":"ROW()","v":276},1,0]
[null,null,null,null,null,null,null,null,null,null,null,null,null,null,null,null,null,null,null,null,null,null,null,null,null,null,null,null,null,null,null,null,null,null,null,null,null,null,null,null,null,null,null,null,null,null,null,null,null,null,null,null,"COL0052181","Educación, Gestión y Ecosistemas",{"$f":"COUNTIF(BA$4:BA277,BA277)","v":3},{"$f":"ROW()","v":277},1,0]
[null,null,null,null,null,null,null,null,null,null,null,null,null,null,null,null,null,null,null,null,null,null,null,null,null,null,null,null,null,null,null,null,null,null,null,null,null,null,null,null,null,null,null,null,null,null,null,null,null,null,null,null,"COL0052181","Procesamiento de señales, datos, imagen y video",{"$f":"COUNTIF(BA$4:BA278,BA278)","v":4},{"$f":"ROW()","v":278},1,0]
[null,null,null,null,null,null,null,null,null,null,null,null,null,null,null,null,null,null,null,null,null,null,null,null,null,null,null,null,null,null,null,null,null,null,null,null,null,null,null,null,null,null,null,null,null,null,null,null,null,null,null,null,"COL0052181","Tele-cardiología y prevención",{"$f":"COUNTIF(BA$4:BA279,BA279)","v":5},{"$f":"ROW()","v":279},1,0]
[null,null,null,null,null,null,null,null,null,null,null,null,null,null,null,null,null,null,null,null,null,null,null,null,null,null,null,null,null,null,null,null,null,null,null,null,null,null,null,null,null,null,null,null,null,null,null,null,null,null,null,null,"COL0052181","Telemetría (IoT-Routing)",{"$f":"COUNTIF(BA$4:BA280,BA280)","v":6},{"$f":"ROW()","v":280},1,0]
[null,null,null,null,null,null,null,null,null,null,null,null,null,null,null,null,null,null,null,null,null,null,null,null,null,null,null,null,null,null,null,null,null,null,null,null,null,null,null,null,null,null,null,null,null,null,null,null,null,null,null,null,"COL0178619","Administración, conservación, y manejo de Recursos Naturales Renovables",{"$f":"COUNTIF(BA$4:BA281,BA281)","v":1},{"$f":"ROW()","v":281},1,0]
[null,null,null,null,null,null,null,null,null,null,null,null,null,null,null,null,null,null,null,null,null,null,null,null,null,null,null,null,null,null,null,null,null,null,null,null,null,null,null,null,null,null,null,null,null,null,null,null,null,null,null,null,"COL0178619","Bioinnovación y educación",{"$f":"COUNTIF(BA$4:BA282,BA282)","v":2},{"$f":"ROW()","v":282},1,0]
[null,null,null,null,null,null,null,null,null,null,null,null,null,null,null,null,null,null,null,null,null,null,null,null,null,null,null,null,null,null,null,null,null,null,null,null,null,null,null,null,null,null,null,null,null,null,null,null,null,null,null,null,"COL0178619","Biología de poblaciones y evolutiva de plantas, animales y microorganismos",{"$f":"COUNTIF(BA$4:BA283,BA283)","v":3},{"$f":"ROW()","v":283},1,0]
[null,null,null,null,null,null,null,null,null,null,null,null,null,null,null,null,null,null,null,null,null,null,null,null,null,null,null,null,null,null,null,null,null,null,null,null,null,null,null,null,null,null,null,null,null,null,null,null,null,null,null,null,"COL0178619","Ecofisiología vegetal, animal y microbiana",{"$f":"COUNTIF(BA$4:BA284,BA284)","v":4},{"$f":"ROW()","v":284},1,0]
[null,null,null,null,null,null,null,null,null,null,null,null,null,null,null,null,null,null,null,null,null,null,null,null,null,null,null,null,null,null,null,null,null,null,null,null,null,null,null,null,null,null,null,null,null,null,null,null,null,null,null,null,"COL0178619","Servicios ecosistèmicos",{"$f":"COUNTIF(BA$4:BA285,BA285)","v":5},{"$f":"ROW()","v":285},1,0]
[null,null,null,null,null,null,null,null,null,null,null,null,null,null,null,null,null,null,null,null,null,null,null,null,null,null,null,null,null,null,null,null,null,null,null,null,null,null,null,null,null,null,null,null,null,null,null,null,null,null,null,null,"COL0178619","Variabilidad y Cambio climático",{"$f":"COUNTIF(BA$4:BA286,BA286)","v":6},{"$f":"ROW()","v":286},1,0]
[null,null,null,null,null,null,null,null,null,null,null,null,null,null,null,null,null,null,null,null,null,null,null,null,null,null,null,null,null,null,null,null,null,null,null,null,null,null,null,null,null,null,null,null,null,null,null,null,null,null,null,null,"COL0027367","Estudios de migración y desigualdades poblacionales",{"$f":"COUNTIF(BA$4:BA287,BA287)","v":1},{"$f":"ROW()","v":287},1,1]
[null,null,null,null,null,null,null,null,null,null,null,null,null,null,null,null,null,null,null,null,null,null,null,null,null,null,null,null,null,null,null,null,null,null,null,null,null,null,null,null,null,null,null,null,null,null,null,null,null,null,null,null,"COL0027367","Estudios en desarrollo social y sostenibilidad",{"$f":"COUNTIF(BA$4:BA288,BA288)","v":2},{"$f":"ROW()","v":288},1,1]
[null,null,null,null,null,null,null,null,null,null,null,null,null,null,null,null,null,null,null,null,null,null,null,null,null,null,null,null,null,null,null,null,null,null,null,null,null,null,null,null,null,null,null,null,null,null,null,null,null,null,null,null,"COL0027367","Estudios sobre desigualdades educativas",{"$f":"COUNTIF(BA$4:BA289,BA289)","v":3},{"$f":"ROW()","v":289},1,1]
[null,null,null,null,null,null,null,null,null,null,null,null,null,null,null,null,null,null,null,null,null,null,null,null,null,null,null,null,null,null,null,null,null,null,null,null,null,null,null,null,null,null,null,null,null,null,null,null,null,null,null,null,"COL0152472","Autoinmunidad y Artritis Reumatoide",{"$f":"COUNTIF(BA$4:BA290,BA290)","v":1},{"$f":"ROW()","v":290},1,0]
[null,null,null,null,null,null,null,null,null,null,null,null,null,null,null,null,null,null,null,null,null,null,null,null,null,null,null,null,null,null,null,null,null,null,null,null,null,null,null,null,null,null,null,null,null,null,null,null,null,null,null,null,"COL0152472","Espondiloartritis Axial y Artritis Psoriásica",{"$f":"COUNTIF(BA$4:BA291,BA291)","v":2},{"$f":"ROW()","v":291},1,0]
[null,null,null,null,null,null,null,null,null,null,null,null,null,null,null,null,null,null,null,null,null,null,null,null,null,null,null,null,null,null,null,null,null,null,null,null,null,null,null,null,null,null,null,null,null,null,null,null,null,null,null,null,"COL0028918","Constitución, Derecho Público y Estado",{"$f":"COUNTIF(BA$4:BA292,BA292)","v":1},{"$f":"ROW()","v":292},1,0]
[null,null,null,null,null,null,null,null,null,null,null,null,null,null,null,null,null,null,null,null,null,null,null,null,null,null,null,null,null,null,null,null,null,null,null,null,null,null,null,null,null,null,null,null,null,null,null,null,null,null,null,null,"COL0028918","Derecho Historia y Filosofía",{"$f":"COUNTIF(BA$4:BA293,BA293)","v":2},{"$f":"ROW()","v":293},1,0]
[null,null,null,null,null,null,null,null,null,null,null,null,null,null,null,null,null,null,null,null,null,null,null,null,null,null,null,null,null,null,null,null,null,null,null,null,null,null,null,null,null,null,null,null,null,null,null,null,null,null,null,null,"COL0028918","Derecho Internacional, Derechos Humanos, Derecho Internacional Humanitario",{"$f":"COUNTIF(BA$4:BA294,BA294)","v":3},{"$f":"ROW()","v":294},1,0]
[null,null,null,null,null,null,null,null,null,null,null,null,null,null,null,null,null,null,null,null,null,null,null,null,null,null,null,null,null,null,null,null,null,null,null,null,null,null,null,null,null,null,null,null,null,null,null,null,null,null,null,null,"COL0028918","Derecho Penal y Justicia Militar",{"$f":"COUNTIF(BA$4:BA295,BA295)","v":4},{"$f":"ROW()","v":295},1,0]
[null,null,null,null,null,null,null,null,null,null,null,null,null,null,null,null,null,null,null,null,null,null,null,null,null,null,null,null,null,null,null,null,null,null,null,null,null,null,null,null,null,null,null,null,null,null,null,null,null,null,null,null,"COL0028918","Derecho, Educación y Sociedad",{"$f":"COUNTIF(BA$4:BA296,BA296)","v":5},{"$f":"ROW()","v":296},1,0]
[null,null,null,null,null,null,null,null,null,null,null,null,null,null,null,null,null,null,null,null,null,null,null,null,null,null,null,null,null,null,null,null,null,null,null,null,null,null,null,null,null,null,null,null,null,null,null,null,null,null,null,null,"COL0033239","Prevención de la enfermedad y promoción de la salud",{"$f":"COUNTIF(BA$4:BA297,BA297)","v":1},{"$f":"ROW()","v":297},1,0]
[null,null,null,null,null,null,null,null,null,null,null,null,null,null,null,null,null,null,null,null,null,null,null,null,null,null,null,null,null,null,null,null,null,null,null,null,null,null,null,null,null,null,null,null,null,null,null,null,null,null,null,null,"COL0033239","Salud Mental y Calidad de Vida",{"$f":"COUNTIF(BA$4:BA298,BA298)","v":2},{"$f":"ROW()","v":298},1,0]
[null,null,null,null,null,null,null,null,null,null,null,null,null,null,null,null,null,null,null,null,null,null,null,null,null,null,null,null,null,null,null,null,null,null,null,null,null,null,null,null,null,null,null,null,null,null,null,null,null,null,null,null,"COL0033239","Salud Sexual y Reproductiva",{"$f":"COUNTIF(BA$4:BA299,BA299)","v":3},{"$f":"ROW()","v":299},1,0]
[null,null,null,null,null,null,null,null,null,null,null,null,null,null,null,null,null,null,null,null,null,null,null,null,null,null,null,null,null,null,null,null,null,null,null,null,null,null,null,null,null,null,null,null,null,null,null,null,null,null,null,null,"COL0047762","Desarrollo de modelos de ingeniería de tejido humano",{"$f":"COUNTIF(BA$4:BA300,BA300)","v":1},{"$f":"ROW()","v":300},1,0]
[null,null,null,null,null,null,null,null,null,null,null,null,null,null,null,null,null,null,null,null,null,null,null,null,null,null,null,null,null,null,null,null,null,null,null,null,null,null,null,null,null,null,null,null,null,null,null,null,null,null,null,null,"COL0047762","Metabolismo Oseo - Bone Metabolism",{"$f":"COUNTIF(BA$4:BA301,BA301)","v":2},{"$f":"ROW()","v":301},1,0]
[null,null,null,null,null,null,null,null,null,null,null,null,null,null,null,null,null,null,null,null,null,null,null,null,null,null,null,null,null,null,null,null,null,null,null,null,null,null,null,null,null,null,null,null,null,null,null,null,null,null,null,null,"COL0062704","Procesos Organizacionales (Prospectiva de las Organizaciones), Programáticos y Políticos para la Promoción del Desarrollo.",{"$f":"COUNTIF(BA$4:BA302,BA302)","v":1},{"$f":"ROW()","v":302},1,0]
[null,null,null,null,null,null,null,null,null,null,null,null,null,null,null,null,null,null,null,null,null,null,null,null,null,null,null,null,null,null,null,null,null,null,null,null,null,null,null,null,null,null,null,null,null,null,null,null,null,null,null,null,"COL0062704","Prospectiva de las Organizaciones",{"$f":"COUNTIF(BA$4:BA303,BA303)","v":2},{"$f":"ROW()","v":303},1,0]
[null,null,null,null,null,null,null,null,null,null,null,null,null,null,null,null,null,null,null,null,null,null,null,null,null,null,null,null,null,null,null,null,null,null,null,null,null,null,null,null,null,null,null,null,null,null,null,null,null,null,null,null,"COL0062704","Responsabilidad Ambiental",{"$f":"COUNTIF(BA$4:BA304,BA304)","v":3},{"$f":"ROW()","v":304},1,0]
[null,null,null,null,null,null,null,null,null,null,null,null,null,null,null,null,null,null,null,null,null,null,null,null,null,null,null,null,null,null,null,null,null,null,null,null,null,null,null,null,null,null,null,null,null,null,null,null,null,null,null,null,"COL0062704","Responsabilidad Social Empresarial",{"$f":"COUNTIF(BA$4:BA305,BA305)","v":4},{"$f":"ROW()","v":305},1,0]
[null,null,null,null,null,null,null,null,null,null,null,null,null,null,null,null,null,null,null,null,null,null,null,null,null,null,null,null,null,null,null,null,null,null,null,null,null,null,null,null,null,null,null,null,null,null,null,null,null,null,null,null,"COL0077814","Producción Hortícola Limpia",{"$f":"COUNTIF(BA$4:BA306,BA306)","v":1},{"$f":"ROW()","v":306},1,0]
[null,null,null,null,null,null,null,null,null,null,null,null,null,null,null,null,null,null,null,null,null,null,null,null,null,null,null,null,null,null,null,null,null,null,null,null,null,null,null,null,null,null,null,null,null,null,null,null,null,null,null,null,"COL0028687","Fitoplasmas",{"$f":"COUNTIF(BA$4:BA307,BA307)","v":1},{"$f":"ROW()","v":307},1,0]
[null,null,null,null,null,null,null,null,null,null,null,null,null,null,null,null,null,null,null,null,null,null,null,null,null,null,null,null,null,null,null,null,null,null,null,null,null,null,null,null,null,null,null,null,null,null,null,null,null,null,null,null,"COL0028687","Virus",{"$f":"COUNTIF(BA$4:BA308,BA308)","v":2},{"$f":"ROW()","v":308},1,0]
[null,null,null,null,null,null,null,null,null,null,null,null,null,null,null,null,null,null,null,null,null,null,null,null,null,null,null,null,null,null,null,null,null,null,null,null,null,null,null,null,null,null,null,null,null,null,null,null,null,null,null,null,"COL0117052","Ambiental",{"$f":"COUNTIF(BA$4:BA309,BA309)","v":1},{"$f":"ROW()","v":309},1,0]
[null,null,null,null,null,null,null,null,null,null,null,null,null,null,null,null,null,null,null,null,null,null,null,null,null,null,null,null,null,null,null,null,null,null,null,null,null,null,null,null,null,null,null,null,null,null,null,null,null,null,null,null,"COL0117052","Arte y Tecnología",{"$f":"COUNTIF(BA$4:BA310,BA310)","v":2},{"$f":"ROW()","v":310},1,0]
[null,null,null,null,null,null,null,null,null,null,null,null,null,null,null,null,null,null,null,null,null,null,null,null,null,null,null,null,null,null,null,null,null,null,null,null,null,null,null,null,null,null,null,null,null,null,null,null,null,null,null,null,"COL0117052","Energía",{"$f":"COUNTIF(BA$4:BA311,BA311)","v":3},{"$f":"ROW()","v":311},1,0]
[null,null,null,null,null,null,null,null,null,null,null,null,null,null,null,null,null,null,null,null,null,null,null,null,null,null,null,null,null,null,null,null,null,null,null,null,null,null,null,null,null,null,null,null,null,null,null,null,null,null,null,null,"COL0117052","Gestión e Innovación",{"$f":"COUNTIF(BA$4:BA312,BA312)","v":4},{"$f":"ROW()","v":312},1,0]
[null,null,null,null,null,null,null,null,null,null,null,null,null,null,null,null,null,null,null,null,null,null,null,null,null,null,null,null,null,null,null,null,null,null,null,null,null,null,null,null,null,null,null,null,null,null,null,null,null,null,null,null,"COL0117052","Materiales",{"$f":"COUNTIF(BA$4:BA313,BA313)","v":5},{"$f":"ROW()","v":313},1,0]
[null,null,null,null,null,null,null,null,null,null,null,null,null,null,null,null,null,null,null,null,null,null,null,null,null,null,null,null,null,null,null,null,null,null,null,null,null,null,null,null,null,null,null,null,null,null,null,null,null,null,null,null,"COL0127649","Lìnea en Contabilidad Integral",{"$f":"COUNTIF(BA$4:BA314,BA314)","v":1},{"$f":"ROW()","v":314},1,0]
[null,null,null,null,null,null,null,null,null,null,null,null,null,null,null,null,null,null,null,null,null,null,null,null,null,null,null,null,null,null,null,null,null,null,null,null,null,null,null,null,null,null,null,null,null,null,null,null,null,null,null,null,"COL0191078","Enfermedades agudas y cronicas por exposición a agentes químicos y radiológicos",{"$f":"COUNTIF(BA$4:BA315,BA315)","v":1},{"$f":"ROW()","v":315},1,0]
[null,null,null,null,null,null,null,null,null,null,null,null,null,null,null,null,null,null,null,null,null,null,null,null,null,null,null,null,null,null,null,null,null,null,null,null,null,null,null,null,null,null,null,null,null,null,null,null,null,null,null,null,"COL0191078","TOXINOLOGÍA",{"$f":"COUNTIF(BA$4:BA316,BA316)","v":2},{"$f":"ROW()","v":316},1,0]
[null,null,null,null,null,null,null,null,null,null,null,null,null,null,null,null,null,null,null,null,null,null,null,null,null,null,null,null,null,null,null,null,null,null,null,null,null,null,null,null,null,null,null,null,null,null,null,null,null,null,null,null,"COL0194866","Bioprocesos",{"$f":"COUNTIF(BA$4:BA317,BA317)","v":1},{"$f":"ROW()","v":317},1,0]
[null,null,null,null,null,null,null,null,null,null,null,null,null,null,null,null,null,null,null,null,null,null,null,null,null,null,null,null,null,null,null,null,null,null,null,null,null,null,null,null,null,null,null,null,null,null,null,null,null,null,null,null,"COL0194866","Ingeniería de procesos, modelación y optimización de instalaciones para la recuperación de recursos del agua",{"$f":"COUNTIF(BA$4:BA318,BA318)","v":2},{"$f":"ROW()","v":318},1,0]
[null,null,null,null,null,null,null,null,null,null,null,null,null,null,null,null,null,null,null,null,null,null,null,null,null,null,null,null,null,null,null,null,null,null,null,null,null,null,null,null,null,null,null,null,null,null,null,null,null,null,null,null,"COL0194866","Química del agua, microcontaminantes emergentes y prioritarios",{"$f":"COUNTIF(BA$4:BA319,BA319)","v":3},{"$f":"ROW()","v":319},1,0]
[null,null,null,null,null,null,null,null,null,null,null,null,null,null,null,null,null,null,null,null,null,null,null,null,null,null,null,null,null,null,null,null,null,null,null,null,null,null,null,null,null,null,null,null,null,null,null,null,null,null,null,null,"COL0196753","Gerencia de proyectos en Ingeniería",{"$f":"COUNTIF(BA$4:BA320,BA320)","v":1},{"$f":"ROW()","v":320},1,0]
[null,null,null,null,null,null,null,null,null,null,null,null,null,null,null,null,null,null,null,null,null,null,null,null,null,null,null,null,null,null,null,null,null,null,null,null,null,null,null,null,null,null,null,null,null,null,null,null,null,null,null,null,"COL0196753","Gestión de organizaciones y creación de valor",{"$f":"COUNTIF(BA$4:BA321,BA321)","v":2},{"$f":"ROW()","v":321},1,0]
[null,null,null,null,null,null,null,null,null,null,null,null,null,null,null,null,null,null,null,null,null,null,null,null,null,null,null,null,null,null,null,null,null,null,null,null,null,null,null,null,null,null,null,null,null,null,null,null,null,null,null,null,"COL0196753","Logística en empresas y cadena de suministro",{"$f":"COUNTIF(BA$4:BA322,BA322)","v":3},{"$f":"ROW()","v":322},1,0]
[null,null,null,null,null,null,null,null,null,null,null,null,null,null,null,null,null,null,null,null,null,null,null,null,null,null,null,null,null,null,null,null,null,null,null,null,null,null,null,null,null,null,null,null,null,null,null,null,null,null,null,null,"COL0196753","Procesos empresariales sustentables",{"$f":"COUNTIF(BA$4:BA323,BA323)","v":4},{"$f":"ROW()","v":323},1,0]
[null,null,null,null,null,null,null,null,null,null,null,null,null,null,null,null,null,null,null,null,null,null,null,null,null,null,null,null,null,null,null,null,null,null,null,null,null,null,null,null,null,null,null,null,null,null,null,null,null,null,null,null,"COL0196753","Producción y mejoramiento de procesos",{"$f":"COUNTIF(BA$4:BA324,BA324)","v":5},{"$f":"ROW()","v":324},{"$f":"COUNTIF($AQ$3:$AQ$90,BA324)","v":1},0]
[null,null,null,null,null,null,null,null,null,null,null,null,null,null,null,null,null,null,null,null,null,null,null,null,null,null,null,null,null,null,null,null,null,null,null,null,null,null,null,null,null,null,null,null,null,null,null,null,null,null,null,null,"COL0196799","Desarrollo y renovación de infraestructura",{"$f":"COUNTIF(BA$4:BA325,BA325)","v":1},{"$f":"ROW()","v":325},1,0]
[null,null,null,null,null,null,null,null,null,null,null,null,null,null,null,null,null,null,null,null,null,null,null,null,null,null,null,null,null,null,null,null,null,null,null,null,null,null,null,null,null,null,null,null,null,null,null,null,null,null,null,null,"COL0196799","Geomecánica computacional",{"$f":"COUNTIF(BA$4:BA326,BA326)","v":2},{"$f":"ROW()","v":326},1,0]
[null,null,null,null,null,null,null,null,null,null,null,null,null,null,null,null,null,null,null,null,null,null,null,null,null,null,null,null,null,null,null,null,null,null,null,null,null,null,null,null,null,null,null,null,null,null,null,null,null,null,null,null,"COL0196799","Ingeniería estructural",{"$f":"COUNTIF(BA$4:BA327,BA327)","v":3},{"$f":"ROW()","v":327},1,{"$f":"COUNTIF($BH$20:$BH$23,BA327)","v":0}]
[null,null,null,null,null,null,null,null,null,null,null,null,null,null,null,null,null,null,null,null,null,null,null,null,null,null,null,null,null,null,null,null,null,null,null,null,null,null,null,null,null,null,null,null,null,null,null,null,null,null,null,null,"COL0196799","Materiales simples y compuestos",{"$f":"COUNTIF(BA$4:BA328,BA328)","v":4},{"$f":"ROW()","v":328},1,0]
[null,null,null,null,null,null,null,null,null,null,null,null,null,null,null,null,null,null,null,null,null,null,null,null,null,null,null,null,null,null,null,null,null,null,null,null,null,null,null,null,null,null,null,null,null,null,null,null,null,null,null,null,"COL0169362","Aprendizaje Automático",{"$f":"COUNTIF(BA$4:BA329,BA329)","v":1},{"$f":"ROW()","v":329},1,0]
[null,null,null,null,null,null,null,null,null,null,null,null,null,null,null,null,null,null,null,null,null,null,null,null,null,null,null,null,null,null,null,null,null,null,null,null,null,null,null,null,null,null,null,null,null,null,null,null,null,null,null,null,"COL0169362","Herramientas computacionales para el análisis de datos",{"$f":"COUNTIF(BA$4:BA330,BA330)","v":2},{"$f":"ROW()","v":330},1,0]
[null,null,null,null,null,null,null,null,null,null,null,null,null,null,null,null,null,null,null,null,null,null,null,null,null,null,null,null,null,null,null,null,null,null,null,null,null,null,null,null,null,null,null,null,null,null,null,null,null,null,null,null,"COL0169362","Inteligencia Computacional",{"$f":"COUNTIF(BA$4:BA331,BA331)","v":3},{"$f":"ROW()","v":331},1,0]
[null,null,null,null,null,null,null,null,null,null,null,null,null,null,null,null,null,null,null,null,null,null,null,null,null,null,null,null,null,null,null,null,null,null,null,null,null,null,null,null,null,null,null,null,null,null,null,null,null,null,null,null,"COL0169362","Optimización",{"$f":"COUNTIF(BA$4:BA332,BA332)","v":4},{"$f":"ROW()","v":332},1,0]
[]
[]
[]
[]
[]
[]
[]
[]
[]
[]
[]
[]
[]
[]
[]
[]
[]
[]
[]
[]
[]
[]
[]
[]
[]
[]
[]
[]
[]
[]
[]
[]
[]
[]
[]
[]
[]
[]
[]
[]
[]
[]
[]
[]
[]
[]
[]
[]
[]
[]
[]
[]
[]
[]
[]
[]
[]
[]
[]
[]
[]
[]
[]
[]
[]
[]
[]
[]
[]
[]
[]
[]
[]
[]
[]
[]
[]
[]
[]
[]
[]
[]
[]
[]
[]
[]
[]
[]
[]
[]
[]
[]
[]
[]
[]
[]
[]
[]
[]
[]
[]
[]
[]
[]
[]
[]
[]
[]
[]
[]
[]
[]
[]
[]
[]
[]
[]
[]
[]
[]
[]
[]
[]
[]
[]
[]
[]
[]
[]
[]
[]
[]
[]
[]
[]
[]
[]
[]
[]
[]
[]
[]
[]
[]
[]
[]
[]
[]
[]
[]
[]
[]
[]
[]
[]
[]
[]
[]
[]
[]
[]
[]
[]
[]
[]
[]
[]
[]
[]
[]
[]
[]
[]
[]
[]
[]
[]
[]
[]
[]
[]
[]
[]
[]
[]
[]
[]
[]
[]
[]
[]
[]
[]
[]
[]
[]
[]
[]
[]
[]
[]
[]
[]
[]
[]
[]
[]
[]
[]
[]
[]
[]
[]
[]
[]
[]
[]
[]
[]
[]
[]
[]
[]
[]
[]
[]
[]
[]
[]
[]
[]
[]
[]
[]
[]
[]
[]
[]
[]
[]
[]
[]
[]
[]
[]
[]
[]
[]
[]
[]
[]
[]
[]
[]
[]
[]
[]
[]
[]
[]
[]
[]
[]
[]
[]
[]
[]
[]
[]
[]
[]
[]
[]
[]
[]
[]
[]
[]
[]
[]
[]
[]
[]
[]
[]
[]
[]
[]
[]
[]
[]
[]
[]
[]
[]
[]
[]
[]
[]
[]
[]
[]
[]
[]
[]
[]
[]
[]
[]
[]
[]
[]
[]
[]
[]
[]
[]
[]
[]
[]
[]
[]
[]
[]
[]
[]
[]
[]
[]
[]
[]
[]
[]
[]
[]
[]
[]
[]
[]
[]
[]
[]
[]
[]
[]
[]
[]
[]
[]
[]
[]
[]
[]
[]
[]
[]
[]
[]
[]
[]
[]
[]
[]
[]
[]
[]
[]
[]
[]
[]
[]
[]
[]
[]
[]
[]
[]
[]
[]
[]
[]
[]
[]
[]
[]
[]
[]
[]
[]
[]
[]
[]
[]
[]
[]
[]
[]
[]
[]
[]
[]
[]
[]
[]
[]
[]
[]
[]
[]
[]
[]
[]
[]
[]
[]
[]
[]
[]
[]
[]
[]
[]
[]
[]
[]
[]
[]
[]
[]
[]
[]
[]
[]
[]
[]
[]
[]
[]
[]
[]
[]
[]
[]
[]
[]
[]
[]
[]
[]
[]
[]
[]
[]
[]
[]
[]
[]
[]
[]
[]
[]
[]
[]
[]
[]
[]
[]
[]
[]
[]
[]
[]
[]
[]
[]
[]
[]
[]
[]
[]
[]
[]
[]
[]
[]
[]
[]
[]
[]
[]
[]
[]
[]
[]
[]
[]
[]
[]
[]
[]
[]
[]
[]
[]
[]
[]
[]
[]
[]
[]
[]
[]
[]
[]
[]
[]
[]
[]
[]
[]
[]
[]
[]
[]
[]
[]
[]
[]
[]
[]
[]
[]
[]
[]
[]
[]
[]
[]
[]
[]
[]
[]
[]
[]
[]
[]
[]
[]
[]
[]
[]
[]
[]
[]
[]
[]
[]
[]
[]
[]
[]
[]
[]
[]
[]
[]
[]
[]
[]
[]
[]
[]
[]
[]
[]
[]
[]
[]
[]
[]
[]
[]
[]
[]
[]
[]
[]
[]
[]
[]
[]
[]
[]
[]
[]
[]
[]
[]
[]
[]
[]
[]
[]
[]
[]
[]
[]
[]
[]
[]
[]
[]
[]
[]
[]
[]
[]
[]
[]
[]
[]
[]
[]
[]
[]
[]
[]
[]
[]
[]
[]
[]
[]
[]
[]
[]
[]
[]
[]
[]
[]
[]
[]
[]
[]
[]
[]
[]
[]
[]
[]
[]
[]
[]
[]
[]
[]
[]
[]
[]
[]
[]
[]
[]
[]
[]
[]
[]
[]
[]
[]
[]
[]
[]
[]
[]
[]
[]
[]
[]
[]
[]
[]
[]
[]
[]
[]
[]
[]
[]
[]
[]
[]
[]
[]
[]
[]
[]
[]
[]
[]
[]
[]
[]
[]
[]
[]
[]
[]
[]
[]
[]
[]
[]
[]
[]
[]
[]
[]
[]
[]
[]
[]
[]
[]
[]
[]
[]
[]
[]
[]
[]
[]
[]
[]
[]
[]
[]
[]
[]
[]
[]
[]
[]
[]
[]
[]
[]
[]
[]
[]
[]
[]
[]
[]
[]
[]
[]
[]
[]
[]
[]
[]
[]
[]
[]
[]
[]
[]
[]
[]
[]
[]
[]
[]
[]
[]
[]
[]
[]
[]
[]
[]
[]
[]
[]
[]
[]
[]
[]
[]
[]
[]
[]
[]
[]
[]
[]
[]
[]
[]
[]
[]
[]
[]
[]
[]
[]
[]
[]
[]
[]
[]
[]
[]
[]
[]
[]
[]
[]
[]
[]
[]
[]
[]
[]
[]
[]
[]
[]
[]
[]
[]
[]
[]
[]
[]
[]
[]
[]
[]
[]
[]
[]
[]
[]
[]
[]
[]
[]
[]
[]
[]
[]
[]
[]
[]
[]
[]
[]
[]
[]
[]
[]
[]
[]
[]
[]
[]
[]
[]
[]
[]
[]
[]
[]
[]
[]
[]
[]
[]
[]
[]
[]
[]
[]
[]
[]
[]
[]
[]
[]
[]
[]
[]
[]
[]
[]
[]
[]
[]
[]
[]
[]
[]
[]
[]
[]
[]
[]
[]
[]
[]
[]
[]
[]
[]
[]
[]
[]
[]
[]
[]
[]
[]
[]
[]
[]
[]
[]
[]
[]
[]
[]
[]
[]
[]
[]
[]
[]
[]
[]
[]
[]
[]
[]
[]
[]
[]
[]
[]
[]
[]
[]
[]
[]
[]
[]
[]
[]
[]
[]
[]
[]
[]
[]
[]
[]
[]
[]
[]
[]
[]
[]
[]
[]
[]
[]
[]
[]
[]
[]
[]
[]
[]
[]
[]
[]
[]
[]
[]
[]
[]
[]
[]
[]
[]
[]
[]
[]
[]
[]
[]
[]
[]
[]
[]
[]
[]
[]
[]
[]
[]
[]
[]
[]
[]
[]
[]
[]
[]
[]
[]
[]
[]
[]
[]
[]
[]
[]
[]
[]
[]
[]
[]
[]
[]
[]
[]
[]
[]
[]
[]
[]
[]
[]
[]
[]
[]
[]
[]
[]
[]
[]
[]
[]
[]
[]
[]
[]
[]
[]
[]
[]
[]
[]
[]
[]
[]
[]
[]
[]
[]
[]
[]
[]
[]
[]
[]
[]
[]
[]
[]
[]
[]
[]
[]
[]
[]
[]
[]
[]
[]
[]
[]
[]
[]
[]
[]
[]
[]
[]
[]
[]
[]
[]
[]
[]
[]
[]
[]
[]
[]
[]
[]
[]
[]
[]
[]
[]
[]
[]
[]
[]
[]
[]
[]
[]
[]
[]
[]
[]
[]
[]
[]
[]
[]
[]
[]
[]
[]
[]
[]
[]
[]
[]
[]
[]
[]
[]
[]
[]
[]
[]
[]
[]
[]
[]
[]
[]
[]
[]
[]
[]
[]
[]
[]
[]
[]
[]
[]
[]
[]
[]
[]
[]
[]
[]
[]
[]
[]
[]
[]
[]
[]
[]
[]
[]
[]
[]
[]
[]
[]
[]
[]
[]
[]
[]
[]
[]
[]
[]
[]
[]
[]
[]
[]
[]
[]
[]
[]
[]
[]
[]
[]
[]
[]
[]
[]
[]
[]
[]
[]
[]
[]
[]
[]
[]
[]
[]
[]
[]
[]
[]
[]
[]
[]
[]
[]
[]
[]
[]
[]
[]
[]
[]
[]
[]
[]
[]
[]
[]
[]
[]
[]
[]
[]
[]
[]
[]
[]
[]
[]
[]
[]
[]
[]
[]
[]
[]
[]
[]
[]
[]
[]
[]
[]
[]
[]
[]
[]
[]
[]
[]
[]
[]
[]
[]
[]
[]
[]
[]
[]
[]
[]
[]
[]
[]
[]
[]
[]
[]
[]
[]
[]
[]
[]
[]
[]
[]
[]
[]
[]
[]
[]
[]
[]
[]
[]
[]
[]
[]
[]
[]
[]
[]
[]
[]
[]
[]
[]
[]
[]
[]
[]
[]
[]
[]
[]
[]
[]
[]
[]
[]
[]
[]
[]
[]
[]
[]
[]
[]
[]
[]
[]
[]
[]
[]
[]
[]
[]
[]
[]
[]
[]
[]
[]
[]
[]
[]
[]
[]
[]
[]
[]
[]
[]
[]
[]
[]
[]
[]
[]
[]
[]
[]
[]
[]
[]
[]
[]
[]
[]
[]
[]
[]
[]
[]
[]
[]
[]
[]
[]
[]
[]
[]
[]
[]
[]
[]
[]
[]
[]
[]
[]
[]
[]
[]
[]
[]
[]
[]
[]
[]
[]
[]
[]
[]
[]
[]
[]
[]
[]
[]
[]
[]
[]
[]
[]
[]
[]
[]
[]
[]
[]
[]
[]
[]
[]
[]
[]
[]
[]
[]
[]
[]
[]
[]
[]
[]
[]
[]
[]
[]
[]
[]
[]
[]
[]
[]
[]
[]
[]
[]
[]
[]
[]
[]
[]
[]
[]
[]
[]
[]
[]
[]
[]
[]
[]
[]
[]
[]
[]
[]
[]
[]
[]
[]
[]
[]
[]
[]
[]
[]
[]
[]
[]
[]
[]
[]
[]
[]
[]
[]
[]
[]
[]
[]
[]
[]
[]
[]
[]
[]
[]
[]
[]
[]
[]
[]
[]
[]
[]
[]
[]
[]
[]
[]
[]
[]
[]
[]
[]
[]
[]
[]
[]
[]
[]
[]
[]
[]
[]
[]
[]
[]
[]
[]
[]
[]
[]
[]
[]
[]
[]
[]
[]
[]
[]
[]
[]
[]
[]
[]
[]
[]
[]
[]
[]
[]
[]
[]
[]
[]
[]
[]
[]
[]
[]
[]
[]
[]
[]
[]
[]
[]
[]
[]
[]
[]
[]
[]
[]
[]
[]
[]
[]
[]
[]
[]
[]
[]
[]
[]
[]
[]
[]
[]
[]
[]
[]
[]
[]
[]
[]
[]
[]
[]
[]
[]
[]
[]
[]
[]
[]
[]
[]
[]
[]
[]
[]
[]
[]
[]
[]
[]
[]
[]
[]
[]
[]
[]
[]
[]
[]
[]
[]
[]
[]
[]
[]
[]
[]
[]
[]
[]
[]
[]
[]
[]
[]
[]
[null,null,null,null,null,null,null,null,null,null,null,null,null,null,null,null,null,null,null,null,null,null,null,null,null,null,null,null,null,null,null,null,null,null,null,null,null,null,null,null,null,null,null,null,null,null,null,null,null,null,null,null,null,null,null,null,null,null,null,null,null,null,null,null,null,null,null,null,null,null,null,null,null,null,null,null,null,null,null,null,null,null,null,null,null,null,null,null,null,null,null,null,null,null,null,null,null,null,null,null,null,null,null,null,null,null,null,null,null,null,null,null,null,null,null,null,null,null,null,null,null,null,null,null,null,null,null,null,null,null,null,null,null,null,null,null,null,null,null,null,null,null,null,null,null,null,null,null,null,null,null,null,null,null,null,null,null,null,null,null,null,null,null,null,null,null,null,null,null,null,null,null,null,null,null,null,null,null,null,null,null,null,null,null,null,null,null,null,null,null,null,null,null,null,null,null,null,null,null,null,null,null,null,null,null,null,null,null,null,null,null,null,null,null,null,null,null,null,null,null,null,null,null,null,null,null,null,null,null,null,null,null,null,null,null,null,null,null,null,null,null,null,null,null,null,null,null,null,null,null,null,null,null,null,null,null,null,null,null,null,null,null,null,null,null,null,null,null,null,null,null,null,null,null,null,null,null,null,null,null,null,null,null,null,null,null,null,null,null,null,null,null,null,null,null,null,null,null,null,null,null,null,null,null,null,null,null,null,null,null,null,null,null,null,null,null,null,null,null,null,null,null,null,null,null,null,null,null,null,null,null,null,null,null,null,null,null,null,null,null,null,null,null,null,null,null,null,null,null,null,null,null,null,null,null,null,null,null,null,null,null,null,null,null,null,null,null,null,null,null,null,null,null,null,null,null,null,null,null,null,null,null,null,null,null,null,null,null,null,null,null,null,null,null,null,null,null,null,null,null,null,null,null,null,null,null,null,null,null,null,null,null,null,null,null,null,null,null,null,null,null,null,null,null,null,null,null,null,null,null,null,null,null,null,null,null,null,null,null,null,null,null,null,null,null,null,null,null,null,null,null,null,null,null,null,null,null,null,null,null,null,null,null,null,null,null,null,null,null,null,null,null,null,null,null,null,null,null,null,null,null,null,null,null,null,null,null,null,null,null,null,null,null,null,null,null,null,null,null,null,null,null,null,null,null,null,null,null,null,null,null,null,null,null,null,null,null,null,null,null,null,null,null,null,null,null,null,null,null,null,null,null,null,null,null,null,null,null,null,null,null,null,null,null,null,null,null,null,null,null,null,null,null,null,null,null,null,null,null,null,null,null,null,null,null,null,null,null,null,null,null,null,null,null,null,null,null,null,null,null,null,null,null,null,null,null,null,null,null,null,null,null,null,null,null,null,null,null,null,null,null,null,null,null,null,null,null,null,null,null,null,null,null,null,null,null,null,null,null,null,null,null,null,null,null,null,null,null,null,null,null,null,null,null,null,null,null,null,null,null,null,null,null,null,"Luis.chirivi"]
[null,null,null,null,null,null,null,null,null,null,null,null,null,null,null,null,null,null,null,null,null,null,null,null,null,null,null,null,null,null,null,null,null,null,null,null,null,null,null,null,null,null,null,null,null,null,null,null,null,null,null,null,null,null,null,null,null,null,null,null,null,null,null,null,null,null,null,null,null,null,null,null,null,null,null,null,null,null,null,null,null,null,null,null,null,null,null,null,null,null,null,null,null,null,null,null,null,null,null,null,null,null,null,null,null,null,null,null,null,null,null,null,null,null,null,null,null,null,null,null,null,null,null,null,null,null,null,null,null,null,null,null,null,null,null,null,null,null,null,null,null,null,null,null,null,null,null,null,null,null,null,null,null,null,null,null,null,null,null,null,null,null,null,null,null,null,null,null,null,null,null,null,null,null,null,null,null,null,null,null,null,null,null,null,null,null,null,null,null,null,null,null,null,null,null,null,null,null,null,null,null,null,null,null,null,null,null,null,null,null,null,null,null,null,null,null,null,null,null,null,null,null,null,null,null,null,null,null,null,null,null,null,null,null,null,null,null,null,null,null,null,null,null,null,null,null,null,null,null,null,null,null,null,null,null,null,null,null,null,null,null,null,null,null,null,null,null,null,null,null,null,null,null,null,null,null,null,null,null,null,null,null,null,null,null,null,null,null,null,null,null,null,null,null,null,null,null,null,null,null,null,null,null,null,null,null,null,null,null,null,null,null,null,null,null,null,null,null,null,null,null,null,null,null,null,null,null,null,null,null,null,null,null,null,null,null,null,null,null,null,null,null,null,null,null,null,null,null,null,null,null,null,null,null,null,null,null,null,null,null,null,null,null,null,null,null,null,null,null,null,null,null,null,null,null,null,null,null,null,null,null,null,null,null,null,null,null,null,null,null,null,null,null,null,null,null,null,null,null,null,null,null,null,null,null,null,null,null,null,null,null,null,null,null,null,null,null,null,null,null,null,null,null,null,null,null,null,null,null,null,null,null,null,null,null,null,null,null,null,null,null,null,null,null,null,null,null,null,null,null,null,null,null,null,null,null,null,null,null,null,null,null,null,null,null,null,null,null,null,null,null,null,null,null,null,null,null,null,null,null,null,null,null,null,null,null,null,null,null,null,null,null,null,null,null,null,null,null,null,null,null,null,null,null,null,null,null,null,null,null,null,null,null,null,null,null,null,null,null,null,null,null,null,null,null,null,null,null,null,null,null,null,null,null,null,null,null,null,null,null,null,null,null,null,null,null,null,null,null,null,null,null,null,null,null,null,null,null,null,null,null,null,null,null,null,null,null,null,null,null,null,null,null,null,null,null,null,null,null,null,null,null,null,null,null,null,null,null,null,null,null,null,null,null,null,null,null,null,null,null,null,null,null,null,null,null,null,null,null,null,null,null,null,null,null,null,null,null,null,null,null,null,null,null,null,null,null,null,null,null,null,null,null,null,null,null,null,null,null,null,null,null,null,null,"Luis.chirivi"]

{"sheet":"General","index":1,"n_rows":84,"n_cols":24,"rows_kept":84,"cut":false,"hidden":false,"merged":[[41,2,41,8],[31,2,31,8],[32,2,32,6],[34,7,34,8],[1,1,2,6],[12,2,12,5],[12,7,12,8],[8,1,8,8],[9,2,9,5],[9,7,9,8],[6,2,6,5],[6,7,6,8],[10,2,10,5],[10,7,10,8],[17,2,17,8],[21,2,21,8],[56,1,56,8],[43,2,43,8],[47,2,47,8],[44,2,44,6],[45,2,45,6],[46,7,46,8],[40,7,40,8],[38,2,38,6],[39,2,39,6],[13,2,13,5],[13,7,13,8],[27,2,27,8],[33,2,33,6],[35,2,35,8],[37,2,37,8],[25,2,25,8],[19,2,19,8],[23,2,23,8]]}
[null,null,null,null,null,null,null,{"$f":"IFERROR(VLOOKUP($C$7,Dt!AD81:AE82,2,0),\"INV\")","v":"MI"},{"$f":"IFERROR(VLOOKUP($C$13,Dt!$AC$6:$AD$13,2,0),\"NT\")","v":"NT"},null,null,null,null,null,null,null,null,null,null,null,null,null,null,"Número de Paginas del documento final , se puede ajustar."]
[null,"PRESENTACIÓN DE PROYECTOS \nDE INVESTIGACIÓN",null,null,null,null,null,"Fecha de Emisión: 2019/03/18","IN-IV-F-14",null,null,null,null,null,null,null,null,null,".",null,null,null,null,11]
[null,null,null,null,null,null,null,"Revisión N°:\n4",{"$f":"\"Página \"&A1&\" de \"&Dt_TPG","v":"Página  de 11"},null,null,null,null,null,null,null,null,null,"Documento de Prueba 06 Marzo 2018"]
[]
["1.-","Información general del proyecto.",null,null,null,null,null,null,{"$f":"\"Vrs.- \"&TEXT(DAY($U$5),\"00\")&\".\"&(TEXT(MONTH($U$5),\"00\"))&U7","v":"Vrs.- 08.03"},null,null,null,null,null,null,null,null,null,"Fecha Actualización ",null,{"$f":"I61","v":"2023-03-08"},null,null,"Hoy es "]
[]
[null,"Convocatoria:","MISIONALES E INSTITUCIONALES",null,null,null,"Código o Radicado",null,null,null,null,null,null,null,null,null,null,null,null,null,"",null,null,{"$f":"NOW()","v":"2023-03-08T15:58:02.810"}]
[]
[null,null,null,null,null,null,null,null,null,null,null,null,null,null,null,null,null,null,{"$f":"Cel_Fac","v":"NT"}]
[null,"Líder: ",null,null,null,null,"Teléfonos :",null,null,null,null,null,null,null,null,null,null,null,null,null,null,null,null,"2019-03-18"]
[null,"Correo:",null,null,null,null," Sede:"]
[null,"Este proyecto es continuación de un proyecto anterior",null,null,null,"No","El proyecto tiene o ha tenido financiación",null,"No"]
[null,"Facultad del Líder investigador",null,null,null,null,"Programa del Líder investigador",null,null,null,null,"Clasificación Grupo Máximo"]
[null,"Palabras Clave",null,null,null,null,"Áreas OCDE - Minciencias",null,null,null,null,null,null,null,null,null,null,null,null,null,null,null,null,42796]
[null,null,null,null,null,null,null,null,null,null,null,null,null,null,null,null,null,null,2]
["2.-",{"$f":"Q70","v":"Información de Grupos de Investigación UMNG asociados al proyecto"}]
[]
[null,"Grupo Principal",null,null,null,null,null,null,null,null,null,{"$f":"IFERROR(VLOOKUP($C18,Dt!$AP$3:$AQ$80,2,0),0)","v":0}]
[null,"Enlace Minciencias:",null,null,null,null,null,null,{"$f":"IFERROR(VLOOKUP(L18,Dt!$AQ$3:$AS$80,2,0),\"\")","v":""},null,null,{"$f":"COUNTIF($O$7:$O$9,I19)","v":3}]
[null,"Líneas",null,null,null,null,null,null,null,null,null,{"$f":"IFERROR(\"DT!\"&VLOOKUP($C18,Dt!$AP$3:$AT$80,5,0),0)","v":0}]
[]
[{"$f":"IFERROR(VLOOKUP(D22,Dt!$AP$3:$AU$80,5,0),\"\")","v":""},"Grupo Aliado 1",null,null,null,null,null,null,null,null,null,{"$f":"IFERROR(VLOOKUP($C22,Dt!$AP$3:$AQ$80,2,0),0)","v":0}]
[null,{"$f":"B19","v":"Enlace Minciencias:"},{"$f":"IFERROR(VLOOKUP(L22,Dt!$AQ$3:$AS$80,3,0),\"\")","v":""},null,null,null,null,null,{"$f":"IFERROR(VLOOKUP(L22,Dt!$AQ$3:$AS$80,2,0),\"\")","v":""}]
[{"$f":"IFERROR(VLOOKUP($C24,Dt!$BB$3:$BD$289,3,0),\"\")","v":""},"Líneas",null,null,null,null,null,null,null,null,null,{"$f":"IFERROR(\"DT!\"&VLOOKUP($C22,Dt!$AP$3:$AT$80,5,0),0)","v":0}]
[]
[null,"Grupo Aliado 2",null,null,null,null,null,null,null,null,null,{"$f":"IFERROR(VLOOKUP($C26,Dt!$AP$3:$AQ$80,2,0),0)","v":0}]
[null,{"$f":"B23","v":"Enlace Minciencias:"},{"$f":"IFERROR(VLOOKUP(L26,Dt!$AQ$3:$AS$80,3,0),\"\")","v":""},null,null,null,null,null,{"$f":"IFERROR(VLOOKUP(L26,Dt!$AQ$3:$AS$80,2,0),\"\")","v":""}]
[null,"Líneas",null,null,null,null,null,null,null,null,null,{"$f":"IFERROR(\"DT!\"&VLOOKUP($C26,Dt!$AP$3:$AT$80,5,0),0)","v":0}]
[]
["3.-","Instituciones Externas participantes.",null,null,null,null,null,"No. de Instituciones: -->",0]
[null,null,"s"]
[null,"Nombre 1"]
[null,"Grupo 1",null,null,null,null,null,"Clasificación","NA"]
[null,"Investigadores",null,null,null,null,null,"Presupuesto en \nplan de compras:"]
[null," Nivel o alcance institucional de la entidad externa es :",null,null,null,null,null,{"$f":"$M$55","v":"."}]
[null,{"$f":"B19","v":"Enlace Minciencias:"},null,null,null,null,null,null,null,null,null,{"$f":"IFERROR(SEARCH(M36,C36,1),0)","v":0},"http://scienti.colciencias.gov.co:8085"]
[]
[null,"Nombre 2"]
[null,"Grupo 2",null,null,null,null,null,"Clasificación","NA"]
[null,"Investigadores",null,null,null,null,null,"Presupuesto en \nplan de compras:"]
[null," Nivel o alcance institucional de la entidad externa es :",null,null,null,null,null,{"$f":"IF(I40>0,$M$55,\".\")","v":"."}]
[null,{"$f":"B36","v":"Enlace Minciencias:"},null,null,null,null,null,null,null,null,null,{"$f":"IFERROR(SEARCH(M42,C42,1),0)","v":0},"http://scienti.colciencias.gov.co:8085"]
[]
[null,"Nombre3"]
[null,"Grupo 3",null,null,null,null,null,"Clasificación"]
[null,"Investigadores",null,null,null,null,null,"Presupuesto en \nplan de compras:"]
[null," Nivel o alcance institucional de la entidad externa es :",null,null,null,null,null,{"$f":"IF(I46>0,$M$55,\".\")","v":"."}]
[null,{"$f":"B42","v":"Enlace Minciencias:"},null,null,null,null,null,null,null,null,null,{"$f":"IFERROR(SEARCH(M48,C48,1),0)","v":0},"http://scienti.colciencias.gov.co:8085"]
[]
[null,"Datos comprometidos."]
[]
[null,"Productividad  comprometida",null,{"$f":"IF(K52>0,\"Error revice productos \",V_Max)","v":0},null,"$ Vicein:",{"$f":"IF(D52>0,Presupuesto!F141,0)","v":0},null,{"$f":"\"Limite en millones \"&Integrantes!T4","v":"Limite en millones 0"},null,{"$f":"IF(Productos!P54>0,1,0)","v":0}]
[null,"* Las áreas sombreadas de color azul no son editables ",null,null,null,null,null,null,null,null,null,{"$f":"SUM(I34,I40,I46)","v":0},"<-- Sumatoria Presupuesto de entidades externas en Pg. General"]
[null,null,null,null,null,null,null,null,null,null,null,{"$f":"Presupuesto!H141","v":0},"<-- Sumatoria Presupuesto de entidades externas en Pg. Presupuesto"]
[null,"Observaciones o recomendaciones (no valida para calificación de Propuesta):",null,null,null,null,null,null,null,null,null,{"$f":"L53-L54","v":0},{"$f":"IF(L55=0,\".\",\"   Pendiente validar dif. $\"&TEXT(L55,\"###.###.###\"))","v":"."}]
[]
[]
[]
[null,"Calificación del formato"]
[]
[null,"Observaciones : Ajustes y actualizaciones realizadas al formato.",null,null,null,null,null,null,{"$f":"MAX(I63:I202)","v":"2023-03-08"},null,null,"Pts. Prueba",10,null,{"$f":"IF(N65>2,O65,\"\") & IF(N66>2,\"; \"&O66,\"\")& IF(N64>2,\"; \"&O64,\"\")","v":""}]
[]
[null,"No","Actualización, ajustes y cambios.",null,null,null,null,null,"Fecha",null,null,null,{"$f":"I30","v":0}]
[null,{"$f":"ROW()-63","v":1},"Publicacion Base",null,null,null,null,null,"2023-03-08",null,null,null,3,{"$f":"LEN(O64)","v":0},{"$f":"CLEAN(C44)","v":""}]
[null,{"$f":"ROW()-63","v":2},0,null,null,null,null,null,null,null,null,null,2,{"$f":"LEN(O65)","v":0},{"$f":"CLEAN(C38)","v":""}]
[null,3,0,null,null,null,null,null,null,null,null,null,1,{"$f":"LEN(O66)","v":0},{"$f":"CLEAN(C32)","v":""}]
[null,4,0]
[null,5,0]
[null,6,0]
[null,7,0,null,null,null,null,null,null,null,null,null,null,{"$f":"$H$1","v":"MI"},null,null,{"$f":"IF(Q71=1,Q72,IF(N70=\"IMP\",Q73,Q72))","v":"Información de Grupos de Investigación UMNG asociados al proyecto"}]
[null,8,0,null,null,null,null,null,null,null,null,null,"A1",{"$f":"COUNTIF($I$19:$I$27,M71)","v":0},{"$f":"SUM(N71:N74)","v":0},null,{"$f":"IF(O71>0,1,0)","v":0}]
[null,9,0,null,null,null,null,null,null,null,null,null,"A",{"$f":"COUNTIF($I$19:$I$27,M72)","v":0},null,null,"Información de Grupos de Investigación UMNG asociados al proyecto"]
[null,10,0,null,null,null,null,null,null,null,null,null,"B",{"$f":"COUNTIF($I$19:$I$27,M73)","v":0},null,null,"Grupos de investigación, para IMP necesita un grupo clasificado en C por lo menos"]
[null,11,0,null,null,null,null,null,null,null,null,null,"C",{"$f":"COUNTIF($I$19:$I$27,M74)","v":0}]
[null,12,0,null,null,null,null,null,null,null,null,null,"R",0]
[null,13,0,null,null,null,null,null,null,null,null,null,"NR",0]
[null,14,0,null,null,null,null,null,null,null,null,null,"NA",0]
[null,15,0]
[null,16,0]
[null,17,0]
[null,18,0]
[null,19,0]
[null,{"$f":"ROW()-49","v":34}]
[null,{"$f":"ROW()-49","v":35}]

{"sheet":"Justifica","index":2,"n_rows":36,"n_cols":18,"rows_kept":36,"cut":false,"hidden":false,"merged":[[13,2,13,4],[12,2,12,4],[1,2,2,2],[6,2,6,4],[11,2,11,4],[7,2,7,4]]}
[2,null,null,null,null,null,"*Pueden  Ocultar las Filas que no se utilicen.",null,null,null,null,null,null,null,null,null,null,"https://www.ealde.es/niveles-riesgo-niveles-control/"]
[null,null,{"$f":"General!B2","v":"PRESENTACIÓN DE PROYECTOS \nDE INVESTIGACIÓN"},{"$f":"General!$H$2","v":"Fecha de Emisión: 2019/03/18"},{"$f":"General!$I$2","v":"IN-IV-F-14"},null,{"$f":"SUM(G7:G8)","v":0},"<=== N° palabras en total"]
[null,null,null,{"$f":"General!$H$3","v":"Revisión N°:\n4"},{"$f":"\"Página \"&A1&\" de \"&Dt_TPG","v":"Página 2 de 11"},null,"Palabras","Largo L"]
[]
["4.-","#","Resumen de la propuesta .",null,null,null,{"$f":"SUM(G6:G8)","v":0},{"$f":"SUM(H6:H8)","v":0}]
[]
[null,{"$f":"ROW()-6","v":1},null,null,null,null,{"$f":"IF(C7=\"\",0,LEN(TRIM(C7))-LEN(SUBSTITUTE(TRIM(C7),\" \",\"\"))+1)","v":0},{"$f":"LEN(C7)","v":0}]
[null,{"$f":"ROW()-6","v":2},null,null,null,null,{"$f":"IF(C8=\"\",0,LEN(TRIM(C8))-LEN(SUBSTITUTE(TRIM(C8),\" \",\"\"))+1)","v":0},{"$f":"LEN(C8)","v":0}]
[null,null,{"$f":"IF(G2>250,I9, \"-\")","v":"-"}]
["5.-","#","Justificación y planteamiento de la propuesta.",null,null,null,{"$f":"SUM(G11:G283)","v":13},"<=== Palabras en total"]
[null,null,null,null,null,null,{"$f":"IF(C11=\"\",0,LEN(TRIM(C11))-LEN(SUBSTITUTE(TRIM(C11),\" \",\"\"))+1)","v":0}]
[null,{"$f":"ROW()-19","v":-7},null,null,null,null,0]
[null,{"$f":"ROW()-19","v":-6},null,null,null,null,0]
[null,-5,null,null,null,null,0]
[null,-4,null,null,null,null,0]
[null,null,null,null,null,null,0]
["5.b-","#",null,null,null,null,0,"<=== Palabras en total"]
[null,null,null,null,null,null,0]
[null,null,null,null,null,null,0]
[null,null,null,null,null,null,0]
[null,null,null,null,null,null,0]
[null,null,null,null,null,null,0]
[null,null,null,null,null,null,{"$f":"IF(C23=\"\",0,LEN(TRIM(C23))-LEN(SUBSTITUTE(TRIM(C23),\" \",\"\"))+1)","v":0}]
[null,null,null,null,null,null,0]
[null,null,null,null,null,null,0]
[null,null,null,null,null,null,0]
[null,null,null,null,null,null,0]
[]
[]
[]
[]
[]
[null,null,null,null,null,null,{"$f":"IF(C33=\"\",0,LEN(TRIM(C33))-LEN(SUBSTITUTE(TRIM(C33),\" \",\"\"))+1)","v":0}]
[null,null,null,null,null,null,{"$f":"IF(C34=\"\",0,LEN(TRIM(C34))-LEN(SUBSTITUTE(TRIM(C34),\" \",\"\"))+1)","v":0}]
[null,null,null,null,null,null,{"$f":"IF(C35=\"\",0,LEN(TRIM(C35))-LEN(SUBSTITUTE(TRIM(C35),\" \",\"\"))+1)","v":0}]
[null,null,"*Pueden  Ocultar las Filas que no se utilicen ( Favor no eliminar filas).",null,null,null,{"$f":"IF(C36=\"\",0,LEN(TRIM(C36))-LEN(SUBSTITUTE(TRIM(C36),\" \",\"\"))+1)","v":13}]

{"sheet":"Integrantes","index":3,"n_rows":52,"n_cols":31,"rows_kept":52,"cut":false,"hidden":false,"merged":[[44,1,47,1],[46,3,46,7],[34,3,34,7],[36,1,39,1],[38,3,38,7],[40,1,43,1],[42,3,42,7],[41,5,41,7],[45,5,45,7],[37,5,37,7],[39,3,39,7],[43,3,43,7],[47,3,47,7],[2,1,3,4],[2,6,2,7],[3,6,3,7],[9,5,9,7],[10,3,10,7],[13,5,13,7],[21,5,21,7],[17,5,17,7],[8,1,11,1],[12,1,15,1],[14,3,14,7],[16,1,19,1],[18,3,18,7],[20,1,23,1],[22,3,22,7],[11,3,11,7],[15,3,15,7],[19,3,19,7],[23,3,23,7],[24,25,24,26],[25,5,25,7],[29,5,29,7],[33,5,33,7],[24,1,27,1],[26,3,26,7],[28,1,31,1],[30,3,30,7],[32,1,35,1],[27,3,27,7],[31,3,31,7],[35,3,35,7]]}
[8]
[]
[null,{"$f":"Productos!B2","v":"PRESENTACIÓN DE PROYECTOS \nDE INVESTIGACIÓN"},null,null,null,{"$f":"General!$H$2","v":"Fecha de Emisión: 2019/03/18"},"IN-IV-F-14",null,null,null,null,null,"Ok","Puntos","IP Max","IP Min","CO Max","CO Min","CR","Valor en Millones"]
[null,null,null,null,null,{"$f":"General!$H$3","v":"Revisión N°:\n4"},{"$f":"\"Página \"&A1&\" de \"&Dt_TPG","v":"Página 8 de 11"},{"$f":"\"Página \"&A2&\" de \"&Dt_TPG","v":"Página  de 11"},null,20,null,null,1,{"$f":"S8","v":0},{"$f":"VLOOKUP($M$4,$M$8:$T$23,3,0)","v":0},{"$f":"VLOOKUP($M$4,$M$8:$T$23,4,0)","v":0},{"$f":"VLOOKUP($M$4,$M$8:$T$23,5,0)","v":0},{"$f":"VLOOKUP($M$4,$M$8:$T$23,6,0)","v":0},{"$f":"VLOOKUP($M$4,$M$8:$T$23,2,0)","v":20},{"$f":"VLOOKUP($M$4,$M$8:$T$23,8,0)","v":0}]
[]
["11.-","Investigadores Integrantes del proyecto.",null,null,null,{"$f":"Cel_TP","v":"MI"},{"$f":"Cel_Fac","v":"NT"},{"$f":"V_Max","v":0},null,{"$f":"IF(F6=\"MI\",12,24)","v":12},null,null,null,null,null,null,null,null,null,null,null,null,"* Cuadro para tener relación entre Fincion y Tipo de Vinculo"]
[]
[null,"No","Identificacion","Nombres","Apellidos","Nivel Academico","Mes","Horas",null,"Max","Min",null,"Ok","Puntos","IP Max","IP Min","CO Max","CO Min",{"$f":"H6","v":0},"Valores",null,null,"Funcion ","y","Vinculo","Mes","Fila","N"]
[null,1,null,null,null,null,{"$f":"J6","v":12},null,null,{"$f":"O4","v":0},{"$f":"P4","v":0},{"$f":"IF(OR(H9>J9,H9<K9),1,0)","v":0},{"$f":"IF(SUM(M10:M23)=0,1,IF(N9=S9,1,0))","v":1},20,0,0,0,0,{"$f":"INT(S8/5)*5","v":0},{"$f":"Presupuesto!N2/1000000","v":0},null,null,"Investigador Principal",{"$f":"$X$8&\"9:\"&$X$8&\"10\"","v":"y9:y10"},"Doc. Carrera TC",{"$f":"G9","v":12},{"$f":"ROW()","v":9},{"$f":"COUNTIFS($D$9:$D$50,$W9,$E$9:$E$50,$Y9)","v":0}]
[null,null,"Funcion :","Investigador Principal",null,null,null,null,null,{"$f":"IFERROR(VLOOKUP($F10,V_IdNBC,2,0),0)","v":0},null,"Doc. Carrera MT",{"$f":"IF(N10=S10,1,0)","v":0},100,10,8,5,4,{"$f":"INT(S9/5)*5","v":0},{"$f":"T9","v":0},null,null,"Investigador Principal",{"$f":"$X$8&\"9:\"&$X$8&\"10\"","v":"y9:y10"},"Doc. Carrera MT",{"$f":"Z9","v":12},{"$f":"ROW()","v":10},{"$f":"COUNTIFS($D$9:$D$50,$W10,$E$9:$E$50,$Y10)","v":0}]
[null,null,"CvLac:",null,null,null,null,null,null,{"$f":"IF($D10=$W$23,20,IFERROR(VLOOKUP($E10,$Y$8:$Z$24,2,0),$G$9))","v":12},{"$f":"IF($D10=$W$11,IF($E10=$Y$13,10,12),0)","v":0},null,0,{"$f":"N10+5","v":105},{"$f":"O10","v":10},8,5,4,0,{"$f":"T10","v":0},null,null,"Coinvestigador",{"$f":"$X$8&\"11:\"&$X$8&\"18\"","v":"y11:y18"},"Doc. Carrera TC",{"$f":"Z10","v":12},{"$f":"ROW()","v":11},0]
[null,null,"Contribuciones",null,null,null,null,null,null,null,null,null,0,{"$f":"N11+5","v":110},10,8,5,4,0,0,null,null,"Coinvestigador",{"$f":"$X$8&\"11:\"&$X$8&\"18\"","v":"y11:y18"},"Doc. Carrera MT",{"$f":"Z11","v":12},{"$f":"ROW()","v":12},0]
[null,2,null,null,null,null,null,null,null,{"$f":"IF($E14=$Y$19,IF($D14=$W$19,0,40),IF($D14=\"Coinvestigador\",J$9/2,40))","v":40},{"$f":"IF(E14=$Y$18,0,IF($D14=\"Coinvestigador\",$R$4,0))","v":0},{"$f":"IF(OR(H13>J13,H13<K13),1,0)","v":0},0,115,10,8,5,4,0,0,null,null,"Coinvestigador","y11:y18","Doc. Ocasional",10,{"$f":"ROW()","v":13},0]
[null,{"$f":"+B13","v":2},"Funcion :",null,null,null,null,null,null,{"$f":"IFERROR(VLOOKUP($F14,V_IdNBC,2,0),0)","v":0},{"$f":"IF($D14=$K$10,\"Ok\",\"\")","v":"Ok"},null,0,120,10,8,5,4,0,0,null,null,"Coinvestigador","y11:y18","Estudiante",10,{"$f":"ROW()","v":14},0]
[null,{"$f":"+B14","v":2},"CvLac:",null,null,null,null,null,null,{"$f":"IF($D14=$W$23,20,IFERROR(VLOOKUP($E14,$Y$8:$Z$24,2,0),$G$9))","v":12},{"$f":"IF($D14=$W$11,IF($E14=$Y$13,10,12),0)","v":0},null,0,125,14,10,7,5,0,0,null,null,"Coinvestigador","y11:y18","Egresado",12,{"$f":"ROW()","v":15},0]
[null,null,{"$f":"C12","v":"Contribuciones"},null,null,null,null,null,null,null,null,null,0,130,14,10,7,5,0,0,null,null,"Coinvestigador","y11:y18","Administrativo",12,{"$f":"ROW()","v":16},0]
[null,{"$f":"B13+1","v":3},null,null,null,null,null,null,null,{"$f":"IF($E18=$Y$19,IF($D18=$W$19,0,40),IF($D18=\"Coinvestigador\",J$9/2,40))","v":40},{"$f":"IF(E18=$Y$18,0,IF($D18=\"Coinvestigador\",$R$4,0))","v":0},{"$f":"IF(OR(H17>J17,H17<K17),1,0)","v":0},0,135,14,10,7,5,0,0,null,null,"Coinvestigador","y11:y18","Directivo",12,{"$f":"ROW()","v":17},0]
[null,{"$f":"+B17","v":3},"Funcion :",null,null,null,null,null,null,{"$f":"IFERROR(VLOOKUP($F18,V_IdNBC,2,0),0)","v":0},{"$f":"IF($D18=$K$10,\"Ok\",\"\")","v":"Ok"},null,0,140,14,10,7,5,0,0,null,null,"Coinvestigador","y11:y18","Externo a la UMNG",12,{"$f":"ROW()","v":18},0]
[null,{"$f":"+B18","v":3},"CvLac:",null,null,null,null,null,null,{"$f":"IF($D18=$W$23,20,IFERROR(VLOOKUP($E18,$Y$8:$Z$24,2,0),$G$9))","v":12},{"$f":"IF($D18=$W$11,IF($E18=$Y$13,10,12),0)","v":0},null,0,145,14,10,7,5,0,0,null,null,"Asesor",{"$f":"$X$8&AA19&\":\"&$X$8&AA19","v":"y19:y19"},"Externo a la UMNG",12,{"$f":"ROW()","v":19},0]
[null,null,{"$f":"C16","v":"Contribuciones"},null,null,null,null,null,null,null,null,null,0,150,14,10,7,5,0,0,null,null,"Asistente OPS","y20:y20","OPS - Prestación Servicios",10,{"$f":"ROW()","v":20},0]
[null,{"$f":"B17+1","v":4},null,null,null,null,null,null,null,{"$f":"IF($E22=$Y$19,IF($D22=$W$19,0,40),IF($D22=\"Coinvestigador\",J$9/2,40))","v":40},{"$f":"IF(E22=$Y$18,0,IF($D22=\"Coinvestigador\",$R$4,0))","v":0},{"$f":"IF(OR(H21>J21,H21<K21),1,0)","v":0},0,155,14,10,7,5,0,0,null,null,"Auxiliar de Investigación.","y21:y21","Estímulo a estudiante",10,{"$f":"ROW()","v":21},0]
[null,{"$f":"+B21","v":4},"Funcion :",null,null,null,null,null,null,{"$f":"IFERROR(VLOOKUP($F22,V_IdNBC,2,0),0)","v":0},{"$f":"IF($D22=$K$10,\"Ok\",\"\")","v":"Ok"},null,0,160,14,10,7,5,0,0,null,null,"Joven Investigador","y22:y22","OPS - Prestación Servicios",10,{"$f":"ROW()","v":22},0]
[null,{"$f":"+B22","v":4},"CvLac:",null,null,null,null,null,null,{"$f":"IF($D22=$W$23,20,IFERROR(VLOOKUP($E22,$Y$8:$Z$24,2,0),$G$9))","v":12},{"$f":"IF($D22=$W$11,IF($E22=$Y$13,10,12),0)","v":0},null,{"$f":"IF(OR(N23=S23,S23>N23),1,0)","v":0},165,14,10,7,5,0,0,null,null,"Asistente Graduado","y23:y23","Estímulo a estudiante",10,{"$f":"ROW()","v":23},0]
[null,null,{"$f":"C20","v":"Contribuciones"},null,null,null,null,null,null,null,null,null,null,null,null,null,null,null,null,null,null,null,"Estudiante","y24:y24","Auxiliar  de Investigación",10,{"$f":"ROW()","v":24},0]
[null,{"$f":"B21+1","v":5},null,null,null,null,null,null,null,{"$f":"IF($E26=$Y$19,IF($D26=$W$19,0,40),IF($D26=\"Coinvestigador\",J$9/2,40))","v":40},{"$f":"IF(E26=$Y$18,0,IF($D26=\"Coinvestigador\",$R$4,0))","v":0},{"$f":"IF(OR(H25>J25,H25<K25),1,0)","v":0},"N","Tipos",1,2,3,"No",null,null,null,null,"Clasificación de grupo máximo asociado a la propuesta ",null,null,{"$f":"Gp_Max","v":0}]
[null,{"$f":"+B25","v":5},"Funcion :",null,null,null,null,null,null,{"$f":"IFERROR(VLOOKUP($F26,V_IdNBC,2,0),0)","v":0},{"$f":"IF($D26=$K$10,\"Ok\",\"\")","v":"Ok"},null,1,"Investigador Principal",null,null,null,{"$f":"COUNTIF($D$10:$D$49,$N26)","v":1},null,null,null,null,null,null,null,"Inv IP"]
[null,{"$f":"+B26","v":5},"CvLac:",null,null,null,null,null,null,{"$f":"IF($D26=$W$23,20,IFERROR(VLOOKUP($E26,$Y$8:$Z$24,2,0),$G$9))","v":12},{"$f":"IF($D26=$W$11,IF($E26=$Y$13,10,12),0)","v":0},null,2,"Coinvestigador",null,null,null,0,null,null,null,null,"Grupos","Millon","Entre","Max","Min"]
[null,null,{"$f":"C24","v":"Contribuciones"},null,null,null,null,null,null,null,null,null,3,"Asistente OPS",null,null,null,0,null,null,null,null,"Avalados ",25,"20-39",null,null,null,null,8,4]
[null,{"$f":"B25+1","v":6},null,null,null,null,null,null,null,{"$f":"IF($E30=$Y$19,IF($D30=$W$19,0,40),IF($D30=\"Coinvestigador\",J$9/2,40))","v":40},{"$f":"IF(E30=$Y$18,0,IF($D30=\"Coinvestigador\",$R$4,0))","v":0},{"$f":"IF(OR(H29>J29,H29<K29),1,0)","v":0},4,"Joven Investigador",null,null,null,0,null,null,null,null,"No reconicido",25,"20-39",null,null,null,null,12,8]
[null,{"$f":"+B29","v":6},"Funcion :",null,null,null,null,null,null,{"$f":"IFERROR(VLOOKUP($F30,V_IdNBC,2,0),0)","v":0},{"$f":"IF($D30=$K$10,\"Ok\",\"\")","v":"Ok"},null,5,"Asistente Graduado",null,null,null,0,null,null,null,null,"Reconocidos",50,"40-59",null,null,null,null,16,12]
[null,{"$f":"+B30","v":6},"CvLac:",null,null,null,null,null,null,{"$f":"IF($D30=$W$23,20,IFERROR(VLOOKUP($E30,$Y$8:$Z$24,2,0),$G$9))","v":12},{"$f":"IF($D30=$W$11,IF($E30=$Y$13,10,12),0)","v":0},null,6,"Asesor",null,null,null,0,null,null,null,null,"Mayores de Cat. C",75,"60-79",null,null,null,null,20,16]
[null,null,{"$f":"C28","v":"Contribuciones"},null,null,null,null,null,null,null,null,null,7,"Estudiante",null,null,null,0,null,null,null,null,"Mayores de Cat. C",100,"80-199",null,null,null,null,24,10]
[null,{"$f":"B29+1","v":7},null,null,null,null,null,null,null,{"$f":"IF($E34=$Y$19,IF($D34=$W$19,0,40),IF($D34=\"Coinvestigador\",J$9/2,40))","v":40},{"$f":"IF(E34=$Y$18,0,IF($D34=\"Coinvestigador\",$R$4,0))","v":0},{"$f":"IF(OR(H33>J33,H33<K33),1,0)","v":0},null,null,null,null,null,null,null,null,null,null,"IMP",250,"200-300"]
[null,{"$f":"+B33","v":7},"Funcion :",null,null,null,null,null,null,{"$f":"IFERROR(VLOOKUP($F34,V_IdNBC,2,0),0)","v":0},{"$f":"IF($D34=$K$10,\"Ok\",\"\")","v":"Ok"},null,"N","Nivel",null,null,null,"No"]
[null,{"$f":"+B34","v":7},"CvLac:",null,null,null,null,null,null,{"$f":"IF($D34=$W$23,20,IFERROR(VLOOKUP($E34,$Y$8:$Z$24,2,0),$G$9))","v":12},{"$f":"IF($D34=$W$11,IF($E34=$Y$13,10,12),0)","v":0},null,null,"Postdoctorado",null,null,null,{"$f":"IF($F$9=N35,1,0)","v":0},null,null,null,"No","Mensaje de Error "]
[null,null,{"$f":"C32","v":"Contribuciones"},null,null,null,null,null,null,null,null,null,null,"Doctorado",null,null,null,{"$f":"IF($F$9=N36,1,0)","v":0},null,null,null,0," "]
[null,{"$f":"B33+1","v":8},null,null,null,null,null,null,null,{"$f":"IF($E38=$Y$19,IF($D38=$W$19,0,40),IF($D38=\"Coinvestigador\",J$9/2,40))","v":40},{"$f":"IF(E38=$Y$18,0,IF($D38=\"Coinvestigador\",$R$4,0))","v":0},{"$f":"IF(OR(H37>J37,H37<K37),1,0)","v":0},null,"Maestría",null,null,null,{"$f":"IF($F$9=N37,1,0)","v":0},null,null,null,1,"Error: El lider del proyecto debe tener titulación doctoral."]
[null,{"$f":"+B37","v":8},"Funcion :",null,null,null,null,null,null,{"$f":"IFERROR(VLOOKUP($F38,V_IdNBC,2,0),0)","v":0},{"$f":"IF($D38=$K$10,\"Ok\",\"\")","v":"Ok"},null,null,null,null,null,null,null,null,null,null,2]
[null,{"$f":"+B38","v":8},"CvLac:",null,null,null,null,null,null,{"$f":"IF($D38=$W$23,20,IFERROR(VLOOKUP($E38,$Y$8:$Z$24,2,0),$G$9))","v":12},{"$f":"IF($D38=$W$11,IF($E38=$Y$13,10,12),0)","v":0}]
[null,null,{"$f":"C36","v":"Contribuciones"},null,null,null,null,null,null,null,null,null,"ERR",{"$f":"VLOOKUP(Y40,M41:O50,2,0)","v":"Tener en cuenta: Se deben diligenciar productos antes de diligenciar las horas semanales "},null,null,null,null,null,"Validaciones",null,null,null,null,{"$f":"MAX(Y41:Y48)","v":4},null,null,null,{"$f":"Presupuesto!H24","v":0}]
[null,{"$f":"B37+1","v":9},null,null,null,null,null,null,null,{"$f":"IF($E42=$Y$19,IF($D42=$W$19,0,40),IF($D42=\"Coinvestigador\",J$9/2,40))","v":40},{"$f":"IF(E42=$Y$18,0,IF($D42=\"Coinvestigador\",$R$4,0))","v":0},{"$f":"IF(OR(H41>J41,H41<K41),1,0)","v":0},0," ",null,null,null,null,null,1,null,null,null,null,null,null,null,null,{"$f":"Presupuesto!G141","v":0}]
[null,{"$f":"+B41","v":9},"Funcion :",null,null,null,null,null,null,{"$f":"IFERROR(VLOOKUP($F42,V_IdNBC,2,0),0)","v":0},{"$f":"IF($D42=$K$10,\"Ok\",\"\")","v":"Ok"},null,1,"Error :  hasta el momento no tiene integrantes con horas ",null,null,null,null,null,2,"No hay integrantes",null,null,null,{"$f":"IF(Z42=0,1,0)","v":1}]
[null,{"$f":"+B42","v":9},"CvLac:",null,null,null,null,null,null,{"$f":"IF($D42=$W$23,20,IFERROR(VLOOKUP($E42,$Y$8:$Z$24,2,0),$G$9))","v":12},{"$f":"IF($D42=$W$11,IF($E42=$Y$13,10,12),0)","v":0},null,2,"Error:  no se debe incluir más de un (1) joven investigador.",null,null,null,null,null,3,"Jovenes en integrantes",null,null,null,{"$f":"IF(Z43>1,2,0)","v":0},{"$f":"COUNTIF(D13:D49,N29)","v":0}]
[null,null,{"$f":"C40","v":"Contribuciones"},null,null,null,null,null,null,null,null,null,3,"Error:  No se debe incluir más de un (1) coinvestigador de la UMNG",null,null,null,null,null,4,"coinvestigador Institucional Max 1",null,null,null,{"$f":"IF(Z44>1,3,0)","v":0},{"$f":"SUM(AB11:AB13)","v":0}]
[null,{"$f":"B41+1","v":10},null,null,null,null,null,null,null,{"$f":"IF($E46=$Y$19,IF($D46=$W$19,0,40),IF($D46=\"Coinvestigador\",J$9/2,40))","v":40},{"$f":"IF(E46=$Y$18,0,IF($D46=\"Coinvestigador\",$R$4,0))","v":0},{"$f":"IF(OR(H45>J45,H45<K45),1,0)","v":0},4,"Tener en cuenta: Se deben diligenciar productos antes de diligenciar las horas semanales ",null,null,null,null,null,5,"recomendar diligenciar productos antes. Para validar horas",null,null,null,{"$f":"IF(Z45<100,4,0)","v":4},{"$f":"H6","v":0}]
[null,{"$f":"+B45","v":10},"Funcion :",null,null,null,null,null,null,{"$f":"IFERROR(VLOOKUP($F46,V_IdNBC,2,0),0)","v":0},{"$f":"IF($D46=$K$10,\"Ok\",\"\")","v":"Ok"},null,5,null,null,null,null,null,null,6]
[null,{"$f":"+B46","v":10},"CvLac:",null,null,null,null,null,null,{"$f":"IF($D46=$W$23,20,IFERROR(VLOOKUP($E46,$Y$8:$Z$24,2,0),$G$9))","v":12},{"$f":"IF($D46=$W$11,IF($E46=$Y$13,10,12),0)","v":0},null,6,null,null,null,null,null,null,7]
[null,null,{"$f":"C44","v":"Contribuciones"},null,null,null,null,null,null,null,null,null,7,null,null,null,null,null,null,8]
[null,null,null,null,null,null,null,null,null,null,null,null,8,null,null,null,null,null,null,9]
[null,null,null,null,null,null,null,null,null,null,null,null,9,null,null,null,null,null,null,10]
[]
[null,null,"Su termino de participacion  en el proyecto sera interrumpido en razón de su vinculación contractual  ver numeral No3 de la convocatoria;  con la limitante de 10 meses maximo por vigencia"]

{"sheet":"PDI","index":4,"n_rows":48,"n_cols":16383,"rows_kept":15,"cut":true,"hidden":false,"merged":[[23,58,23,60],[23,66,23,68],[23,74,23,76],[23,82,23,84],[23,90,23,92],[23,98,23,100],[23,10,23,12],[23,18,23,20],[23,26,23,28],[23,34,23,36],[23,42,23,44],[23,50,23,52],[42,2,42,4],[43,2,43,4],[44,2,44,4],[36,2,36,4],[37,2,37,4],[39,2,39,4],[40,2,40,4],[41,2,41,4],[30,2,30,4],[31,2,31,4],[23,2,23,4],[24,2,24,4],[29,2,29,4],[28,2,28,4],[15,2,15,4],[16,2,16,4],[17,2,17,4],[18,2,18,4],[19,2,19,4],[1,2,2,2],[6,2,6,4],[7,2,7,4],[8,2,8,4],[12,2,12,4],[13,2,13,4],[39,82,39,84],[39,90,39,92],[39,98,39,100],[40,58,40,60],[40,66,40,68],[40,74,40,76],[40,82,40,84],[40,90,40,92],[40,98,40,100],[23,346,23,348],[23,354,23,356],[23,362,23,364],[23,370,23,372],[23,378,23,380],[23,386,23,388],[23,298,23,300],[23,306,23,308],[23,314,23,316],[23,322,23,324],[23,330,23,332],[23,338,23,340],[23,250,23,252],[23,258,23,260],[23,266,23,268],[23,274,23,276],[23,282,23,284],[23,290,23,292],[23,202,23,204],[23,210,23,212],[23,218,23,220],[23,226,23,228],[23,234,23,236],[23,242,23,244],[23,154,23,156],[23,162,23,164],[23,170,23,172],[23,178,23,180],[23,186,23,188],[23,194,23,196],[23,106,23,108],[23,114,23,116],[23,122,23,124],[23,130,23,132],[23,138,23,140],[23,146,23,148],[23,634,23,636],[23,642,23,644],[23,650,23,652],[23,658,23,660],[23,666,23,668],[23,674,23,676],[23,586,23,588],[23,594,23,596],[23,602,23,604],[23,610,23,612],[23,618,23,620],[23,626,23,628],[23,538,23,540],[23,546,23,548],[23,554,23,556],[23,562,23,564],[23,570,23,572],[23,578,23,580],[23,490,23,492],[23,498,23,500],[23,506,23,508],[23,514,23,516],[23,522,23,524],[23,530,23,532],[23,442,23,444],[23,450,23,452],[23,458,23,460],[23,466,23,468],[23,474,23,476],[23,482,23,484],[23,394,23,396],[23,402,23,404],[23,410,23,412],[23,418,23,420],[23,426,23,428],[23,434,23,436],[23,922,23,924],[23,930,23,932],[23,938,23,940],[23,946,23,948],[23,954,23,956],[23,962,23,964],[23,874,23,876],[23,882,23,884],[23,890,23,892],[23,898,23,900],[23,906,23,908],[23,914,23,916],[23,826,23,828],[23,834,23,836],[23,842,23,844],[23,850,23,852],[23,858,23,860],[23,866,23,868],[23,778,23,780],[23,786,23,788],[23,794,23,796],[23,802,23,804],[23,810,23,812],[23,818,23,820],[23,730,23,732],[23,738,23,740],[23,746,23,748],[23,754,23,756],[23,762,23,764],[23,770,23,772],[23,682,23,684],[23,690,23,692],[23,698,23,700],[23,706,23,708],[23,714,23,716],[23,722,23,724],[23,1210,23,1212],[23,1218,23,1220],[23,1226,23,1228],[23,1234,23,1236],[23,1242,23,1244],[23,1250,23,1252],[23,1162,23,1164],[23,1170,23,1172],[23,1178,23,1180],[23,1186,23,1188],[23,1194,23,1196],[23,1202,23,1204],[23,1114,23,1116],[23,1122,23,1124],[23,1130,23,1132],[23,1138,23,1140],[23,1146,23,1148],[23,1154,23,1156],[23,1066,23,1068],[23,1074,23,1076],[23,1082,23,1084],[23,1090,23,1092],[23,1098,23,1100],[23,1106,23,1108],[23,1018,23,1020],[23,1026,23,1028],[23,1034,23,1036],[23,1042,23,1044],[23,1050,23,1052],[23,1058,23,1060],[23,970,23,972],[23,978,23,980],[23,986,23,988],[23,994,23,996],[23,1002,23,1004],[23,1010,23,1012],[23,1498,23,1500],[23,1506,23,1508],[23,1514,23,1516],[23,1522,23,1524],[23,1530,23,1532],[23,1538,23,1540],[23,1450,23,1452],[23,1458,23,1460],[23,1466,23,1468],[23,1474,23,1476],[23,1482,23,1484],[23,1490,23,1492],[23,1402,23,1404],[23,1410,23,1412],[23,1418,23,1420],[23,1426,23,1428],[23,1434,23,1436],[23,1442,23,1444],[23,1354,23,1356],[23,1362,23,1364],[23,1370,23,1372],[23,1378,23,1380],[23,1386,23,1388],[23,1394,23,1396],[23,1306,23,1308],[23,1314,23,1316],[23,1322,23,1324],[23,1330,23,1332],[23,1338,23,1340],[23,1346,23,1348],[23,1258,23,1260],[23,1266,23,1268],[23,1274,23,1276],[23,1282,23,1284],[23,1290,23,1292],[23,1298,23,1300],[23,1786,23,1788],[23,1794,23,1796],[23,1802,23,1804],[23,1810,23,1812],[23,1818,23,1820],[23,1826,23,1828],[23,1738,23,1740],[23,1746,23,1748],[23,1754,23,1756],[23,1762,23,1764],[23,1770,23,1772],[23,1778,23,1780],[23,1690,23,1692],[23,1698,23,1700],[23,1706,23,1708],[23,1714,23,1716],[23,1722,23,1724],[23,1730,23,1732],[23,1642,23,1644],[23,1650,23,1652],[23,1658,23,1660],[23,1666,23,1668],[23,1674,23,1676],[23,1682,23,1684],[23,1594,23,1596],[23,1602,23,1604],[23,1610,23,1612],[23,1618,23,1620],[23,1626,23,1628],[23,1634,23,1636],[23,1546,23,1548],[23,1554,23,1556],[23,1562,23,1564],[23,1570,23,1572],[23,1578,23,1580],[23,1586,23,1588],[23,2074,23,2076],[23,2082,23,2084],[23,2090,23,2092],[23,2098,23,2100],[23,2106,23,2108],[23,2114,23,2116],[23,2026,23,2028],[23,2034,23,2036],[23,2042,23,2044],[23,2050,23,2052],[23,2058,23,2060],[23,2066,23,2068],[23,1978,23,1980],[23,1986,23,1988],[23,1994,23,1996],[23,2002,23,2004],[23,2010,23,2012],[23,2018,23,2020],[23,1930,23,1932],[23,1938,23,1940],[23,1946,23,1948],[23,1954,23,1956],[23,1962,23,1964],[23,1970,23,1972],[23,1882,23,1884],[23,1890,23,1892],[23,1898,23,1900],[23,1906,23,1908],[23,1914,23,1916],[23,1922,23,1924],[23,1834,23,1836],[23,1842,23,1844],[23,1850,23,1852],[23,1858,23,1860],[23,1866,23,1868],[23,1874,23,1876],[23,2362,23,2364],[23,2370,23,2372],[23,2378,23,2380],[23,2386,23,2388],[23,2394,23,2396],[23,2402,23,2404],[23,2314,23,2316],[23,2322,23,2324],[23,2330,23,2332],[23,2338,23,2340],[23,2346,23,2348],[23,2354,23,2356],[23,2266,23,2268],[23,2274,23,2276],[23,2282,23,2284],[23,2290,23,2292],[23,2298,23,2300],[23,2306,23,2308],[23,2218,23,2220],[23,2226,23,2228],[23,2234,23,2236],[23,2242,23,2244],[23,2250,23,2252],[23,2258,23,2260],[23,2170,23,2172],[23,2178,23,2180],[23,2186,23,2188],[23,2194,23,2196],[23,2202,23,2204],[23,2210,23,2212],[23,2122,23,2124],[23,2130,23,2132],[23,2138,23,2140],[23,2146,23,2148],[23,2154,23,2156],[23,2162,23,2164],[23,2650,23,2652],[23,2658,23,2660],[23,2666,23,2668],[23,2674,23,2676],[23,2682,23,2684],[23,2690,23,2692],[23,2602,23,2604],[23,2610,23,2612],[23,2618,23,2620],[23,2626,23,2628],[23,2634,23,2636],[23,2642,23,2644],[23,2554,23,2556],[23,2562,23,2564],[23,2570,23,2572],[23,2578,23,2580],[23,2586,23,2588],[23,2594,23,2596],[23,2506,23,2508],[23,2514,23,2516],[23,2522,23,2524],[23,2530,23,2532],[23,2538,23,2540],[23,2546,23,2548],[23,2458,23,2460],[23,2466,23,2468],[23,2474,23,2476],[23,2482,23,2484],[23,2490,23,2492],[23,2498,23,2500],[23,2410,23,2412],[23,2418,23,2420],[23,2426,23,2428],[23,2434,23,2436],[23,2442,23,2444],[23,2450,23,2452],[23,2938,23,2940],[23,2946,23,2948],[23,2954,23,2956],[23,2962,23,2964],[23,2970,23,2972],[23,2978,23,2980],[23,2890,23,2892],[23,2898,23,2900],[23,2906,23,2908],[23,2914,23,2916],[23,2922,23,2924],[23,2930,23,2932],[23,2842,23,2844],[23,2850,23,2852],[23,2858,23,2860],[23,2866,23,2868],[23,2874,23,2876],[23,2882,23,2884],[23,2794,23,2796],[23,2802,23,2804],[23,2810,23,2812],[23,2818,23,2820],[23,2826,23,2828],[23,2834,23,2836],[23,2746,23,2748],[23,2754,23,2756],[23,2762,23,2764],[23,2770,23,2772],[23,2778,23,2780],[23,2786,23,2788],[23,2698,23,2700],[23,2706,23,2708],[23,2714,23,2716],[23,2722,23,2724],[23,2730,23,2732],[23,2738,23,2740],[23,3226,23,3228],[23,3234,23,3236],[23,3242,23,3244],[23,3250,23,3252],[23,3258,23,3260],[23,3266,23,3268],[23,3178,23,3180],[23,3186,23,3188],[23,3194,23,3196],[23,3202,23,3204],[23,3210,23,3212],[23,3218,23,3220],[23,3130,23,3132],[23,3138,23,3140],[23,3146,23,3148],[23,3154,23,3156],[23,3162,23,3164],[23,3170,23,3172],[23,3082,23,3084],[23,3090,23,3092],[23,3098,23,3100],[23,3106,23,3108],[23,3114,23,3116],[23,3122,23,3124],[23,3034,23,3036],[23,3042,23,3044],[23,3050,23,3052],[23,3058,23,3060],[23,3066,23,3068],[23,3074,23,3076],[23,2986,23,2988],[23,2994,23,2996],[23,3002,23,3004],[23,3010,23,3012],[23,3018,23,3020],[23,3026,23,3028],[23,3514,23,3516],[23,3522,23,3524],[23,3530,23,3532],[23,3538,23,3540],[23,3546,23,3548],[23,3554,23,3556],[23,3466,23,3468],[23,3474,23,3476],[23,3482,23,3484],[23,3490,23,3492],[23,3498,23,3500],[23,3506,23,3508],[23,3418,23,3420],[23,3426,23,3428],[23,3434,23,3436],[23,3442,23,3444],[23,3450,23,3452],[23,3458,23,3460],[23,3370,23,3372],[23,3378,23,3380],[23,3386,23,3388],[23,3394,23,3396],[23,3402,23,3404],[23,3410,23,3412],[23,3322,23,3324],[23,3330,23,3332],[23,3338,23,3340],[23,3346,23,3348],[23,3354,23,3356],[23,3362,23,3364],[23,3274,23,3276],[23,3282,23,3284],[23,3290,23,3292],[23,3298,23,3300],[23,3306,23,3308],[23,3314,23,3316],[23,3802,23,3804],[23,3810,23,3812],[23,3818,23,3820],[23,3826,23,3828],[23,3834,23,3836],[23,3842,23,3844],[23,3754,23,3756],[23,3762,23,3764],[23,3770,23,3772],[23,3778,23,3780],[23,3786,23,3788],[23,3794,23,3796],[23,3706,23,3708],[23,3714,23,3716],[23,3722,23,3724],[23,3730,23,3732],[23,3738,23,3740],[23,3746,23,3748],[23,3658,23,3660],[23,3666,23,3668],[23,3674,23,3676],[23,3682,23,3684],[23,3690,23,3692],[23,3698,23,3700],[23,3610,23,3612],[23,3618,23,3620],[23,3626,23,3628],[23,3634,23,3636],[23,3642,23,3644],[23,3650,23,3652],[23,3562,23,3564],[23,3570,23,3572],[23,3578,23,3580],[23,3586,23,3588],[23,3594,23,3596],[23,3602,23,3604],[23,4090,23,4092],[23,4098,23,4100],[23,4106,23,4108],[23,4114,23,4116],[23,4122,23,4124],[23,4130,23,4132],[23,4042,23,4044],[23,4050,23,4052],[23,4058,23,4060],[23,4066,23,4068],[23,4074,23,4076],[23,4082,23,4084],[23,3994,23,3996],[23,4002,23,4004],[23,4010,23,4012],[23,4018,23,4020],[23,4026,23,4028],[23,4034,23,4036],[23,3946,23,3948],[23,3954,23,3956],[23,3962,23,3964],[23,3970,23,3972],[23,3978,23,3980],[23,3986,23,3988],[23,3898,23,3900],[23,3906,23,3908],[23,3914,23,3916],[23,3922,23,3924],[23,3930,23,3932],[23,3938,23,3940],[23,3850,23,3852],[23,3858,23,3860],[23,3866,23,3868],[23,3874,23,3876],[23,3882,23,3884],[23,3890,23,3892],[23,4378,23,4380],[23,4386,23,4388],[23,4394,23,4396],[23,4402,23,4404],[23,4410,23,4412],[23,4418,23,4420],[23,4330,23,4332],[23,4338,23,4340],[23,4346,23,4348],[23,4354,23,4356],[23,4362,23,4364],[23,4370,23,4372],[23,4282,23,4284],[23,4290,23,4292],[23,4298,23,4300],[23,4306,23,4308],[23,4314,23,4316],[23,4322,23,4324],[23,4234,23,4236],[23,4242,23,4244],[23,4250,23,4252],[23,4258,23,4260],[23,4266,23,4268],[23,4274,23,4276],[23,4186,23,4188],[23,4194,23,4196],[23,4202,23,4204],[23,4210,23,4212],[23,4218,23,4220],[23,4226,23,4228],[23,4138,23,4140],[23,4146,23,4148],[23,4154,23,4156],[23,4162,23,4164],[23,4170,23,4172],[23,4178,23,4180],[23,4666,23,4668],[23,4674,23,4676],[23,4682,23,4684],[23,4690,23,4692],[23,4698,23,4700],[23,4706,23,4708],[23,4618,23,4620],[23,4626,23,4628],[23,4634,23,4636],[23,4642,23,4644],[23,4650,23,4652],[23,4658,23,4660],[23,4570,23,4572],[23,4578,23,4580],[23,4586,23,4588],[23,4594,23,4596],[23,4602,23,4604],[23,4610,23,4612],[23,4522,23,4524],[23,4530,23,4532],[23,4538,23,4540],[23,4546,23,4548],[23,4554,23,4556],[23,4562,23,4564],[23,4474,23,4476],[23,4482,23,4484],[23,4490,23,4492],[23,4498,23,4500],[23,4506,23,4508],[23,4514,23,4516],[23,4426,23,4428],[23,4434,23,4436],[23,4442,23,4444],[23,4450,23,4452],[23,4458,23,4460],[23,4466,23,4468],[23,4954,23,4956],[23,4962,23,4964],[23,4970,23,4972],[23,4978,23,4980],[23,4986,23,4988],[23,4994,23,4996],[23,4906,23,4908],[23,4914,23,4916],[23,4922,23,4924],[23,4930,23,4932],[23,4938,23,4940],[23,4946,23,4948],[23,4858,23,4860],[23,4866,23,4868],[23,4874,23,4876],[23,4882,23,4884],[23,4890,23,4892],[23,4898,23,4900],[23,4810,23,4812],[23,4818,23,4820],[23,4826,23,4828],[23,4834,23,4836],[23,4842,23,4844],[23,4850,23,4852],[23,4762,23,4764],[23,4770,23,4772],[23,4778,23,4780],[23,4786,23,4788],[23,4794,23,4796],[23,4802,23,4804],[23,4714,23,4716],[23,4722,23,4724],[23,4730,23,4732],[23,4738,23,4740],[23,4746,23,4748],[23,4754,23,4756],[23,5242,23,5244],[23,5250,23,5252],[23,5258,23,5260],[23,5266,23,5268],[23,5274,23,5276],[23,5282,23,5284],[23,5194,23,5196],[23,5202,23,5204],[23,5210,23,5212],[23,5218,23,5220],[23,5226,23,5228],[23,5234,23,5236],[23,5146,23,5148],[23,5154,23,5156],[23,5162,23,5164],[23,5170,23,5172],[23,5178,23,5180],[23,5186,23,5188],[23,5098,23,5100],[23,5106,23,5108],[23,5114,23,5116],[23,5122,23,5124],[23,5130,23,5132],[23,5138,23,5140],[23,5050,23,5052],[23,5058,23,5060],[23,5066,23,5068],[23,5074,23,5076],[23,5082,23,5084],[23,5090,23,5092],[23,5002,23,5004],[23,5010,23,5012],[23,5018,23,5020],[23,5026,23,5028],[23,5034,23,5036],[23,5042,23,5044],[23,5530,23,5532],[23,5538,23,5540],[23,5546,23,5548],[23,5554,23,5556],[23,5562,23,5564],[23,5570,23,5572],[23,5482,23,5484],[23,5490,23,5492],[23,5498,23,5500],[23,5506,23,5508],[23,5514,23,5516],[23,5522,23,5524],[23,5434,23,5436],[23,5442,23,5444],[23,5450,23,5452],[23,5458,23,5460],[23,5466,23,5468],[23,5474,23,5476],[23,5386,23,5388],[23,5394,23,5396],[23,5402,23,5404],[23,5410,23,5412],[23,5418,23,5420],[23,5426,23,5428],[23,5338,23,5340],[23,5346,23,5348],[23,5354,23,5356],[23,5362,23,5364],[23,5370,23,5372],[23,5378,23,5380],[23,5290,23,5292],[23,5298,23,5300],[23,5306,23,5308],[23,5314,23,5316],[23,5322,23,5324],[23,5330,23,5332],[23,5818,23,5820],[23,5826,23,5828],[23,5834,23,5836],[23,5842,23,5844],[23,5850,23,5852],[23,5858,23,5860],[23,5770,23,5772],[23,5778,23,5780],[23,5786,23,5788],[23,5794,23,5796],[23,5802,23,5804],[23,5810,23,5812],[23,5722,23,5724],[23,5730,23,5732],[23,5738,23,5740],[23,5746,23,5748],[23,5754,23,5756],[23,5762,23,5764],[23,5674,23,5676],[23,5682,23,5684],[23,5690,23,5692],[23,5698,23,5700],[23,5706,23,5708],[23,5714,23,5716],[23,5626,23,5628],[23,5634,23,5636],[23,5642,23,5644],[23,5650,23,5652],[23,5658,23,5660],[23,5666,23,5668],[23,5578,23,5580],[23,5586,23,5588],[23,5594,23,5596],[23,5602,23,5604],[23,5610,23,5612],[23,5618,23,5620],[23,6106,23,6108],[23,6114,23,6116],[23,6122,23,6124],[23,6130,23,6132],[23,6138,23,6140],[23,6146,23,6148],[23,6058,23,6060],[23,6066,23,6068],[23,6074,23,6076],[23,6082,23,6084],[23,6090,23,6092],[23,6098,23,6100],[23,6010,23,6012],[23,6018,23,6020],[23,6026,23,6028],[23,6034,23,6036],[23,6042,23,6044],[23,6050,23,6052],[23,5962,23,5964],[23,5970,23,5972],[23,5978,23,5980],[23,5986,23,5988],[23,5994,23,5996],[23,6002,23,6004],[23,5914,23,5916],[23,5922,23,5924],[23,5930,23,5932],[23,5938,23,5940],[23,5946,23,5948],[23,5954,23,5956],[23,5866,23,5868],[23,5874,23,5876],[23,5882,23,5884],[23,5890,23,5892],[23,5898,23,5900],[23,5906,23,5908],[23,6394,23,6396],[23,6402,23,6404],[23,6410,23,6412],[23,6418,23,6420],[23,6426,23,6428],[23,6434,23,6436],[23,6346,23,6348],[23,6354,23,6356],[23,6362,23,6364],[23,6370,23,6372],[23,6378,23,6380],[23,6386,23,6388],[23,6298,23,6300],[23,6306,23,6308],[23,6314,23,6316],[23,6322,23,6324],[23,6330,23,6332],[23,6338,23,6340],[23,6250,23,6252],[23,6258,23,6260],[23,6266,23,6268],[23,6274,23,6276],[23,6282,23,6284],[23,6290,23,6292],[23,6202,23,6204],[23,6210,23,6212],[23,6218,23,6220],[23,6226,23,6228],[23,6234,23,6236],[23,6242,23,6244],[23,6154,23,6156],[23,6162,23,6164],[23,6170,23,6172],[23,6178,23,6180],[23,6186,23,6188],[23,6194,23,6196],[23,6682,23,6684],[23,6690,23,6692],[23,6698,23,6700],[23,6706,23,6708],[23,6714,23,6716],[23,6722,23,6724],[23,6634,23,6636],[23,6642,23,6644],[23,6650,23,6652],[23,6658,23,6660],[23,6666,23,6668],[23,6674,23,6676],[23,6586,23,6588],[23,6594,23,6596],[23,6602,23,6604],[23,6610,23,6612],[23,6618,23,6620],[23,6626,23,6628],[23,6538,23,6540],[23,6546,23,6548],[23,6554,23,6556],[23,6562,23,6564],[23,6570,23,6572],[23,6578,23,6580],[23,6490,23,6492],[23,6498,23,6500],[23,6506,23,6508],[23,6514,23,6516],[23,6522,23,6524],[23,6530,23,6532],[23,6442,23,6444],[23,6450,23,6452],[23,6458,23,6460],[23,6466,23,6468],[23,6474,23,6476],[23,6482,23,6484],[23,6970,23,6972],[23,6978,23,6980],[23,6986,23,6988],[23,6994,23,6996],[23,7002,23,7004],[23,7010,23,7012],[23,6922,23,6924],[23,6930,23,6932],[23,6938,23,6940],[23,6946,23,6948],[23,6954,23,6956],[23,6962,23,6964],[23,6874,23,6876],[23,6882,23,6884],[23,6890,23,6892],[23,6898,23,6900],[23,6906,23,6908],[23,6914,23,6916],[23,6826,23,6828],[23,6834,23,6836],[23,6842,23,6844],[23,6850,23,6852],[23,6858,23,6860],[23,6866,23,6868],[23,6778,23,6780],[23,6786,23,6788],[23,6794,23,6796],[23,6802,23,6804],[23,6810,23,6812],[23,6818,23,6820],[23,6730,23,6732],[23,6738,23,6740],[23,6746,23,6748],[23,6754,23,6756],[23,6762,23,6764],[23,6770,23,6772],[23,7258,23,7260],[23,7266,23,7268],[23,7274,23,7276],[23,7282,23,7284],[23,7290,23,7292],[23,7298,23,7300],[23,7210,23,7212],[23,7218,23,7220],[23,7226,23,7228],[23,7234,23,7236],[23,7242,23,7244],[23,7250,23,7252],[23,7162,23,7164],[23,7170,23,7172],[23,7178,23,7180],[23,7186,23,7188],[23,7194,23,7196],[23,7202,23,7204],[23,7114,23,7116],[23,7122,23,7124],[23,7130,23,7132],[23,7138,23,7140],[23,7146,23,7148],[23,7154,23,7156],[23,7066,23,7068],[23,7074,23,7076],[23,7082,23,7084],[23,7090,23,7092],[23,7098,23,7100],[23,7106,23,7108],[23,7018,23,7020],[23,7026,23,7028],[23,7034,23,7036],[23,7042,23,7044],[23,7050,23,7052],[23,7058,23,7060],[23,7546,23,7548],[23,7554,23,7556],[23,7562,23,7564],[23,7570,23,7572],[23,7578,23,7580],[23,7586,23,7588],[23,7498,23,7500],[23,7506,23,7508],[23,7514,23,7516],[23,7522,23,7524],[23,7530,23,7532],[23,7538,23,7540],[23,7450,23,7452],[23,7458,23,7460],[23,7466,23,7468],[23,7474,23,7476],[23,7482,23,7484],[23,7490,23,7492],[23,7402,23,7404],[23,7410,23,7412],[23,7418,23,7420],[23,7426,23,7428],[23,7434,23,7436],[23,7442,23,7444],[23,7354,23,7356],[23,7362,23,7364],[23,7370,23,7372],[23,7378,23,7380],[23,7386,23,7388],[23,7394,23,7396],[23,7306,23,7308],[23,7314,23,7316],[23,7322,23,7324],[23,7330,23,7332],[23,7338,23,7340],[23,7346,23,7348],[23,7834,23,7836],[23,7842,23,7844],[23,7850,23,7852],[23,7858,23,7860],[23,7866,23,7868],[23,7874,23,7876],[23,7786,23,7788],[23,7794,23,7796],[23,7802,23,7804],[23,7810,23,7812],[23,7818,23,7820],[23,7826,23,7828],[23,7738,23,7740],[23,7746,23,7748],[23,7754,23,7756],[23,7762,23,7764],[23,7770,23,7772],[23,7778,23,7780]],"bounds":{"rows_first":7,"rows_last":1,"rows_between":7,"halvings":8},"merged_total":28685,"flags":["merged_cut"]}
[3,null,null,null,null,null,"*Pueden  Ocultar las Filas que no se utilicen."]
[null,null,{"$f":"General!B2","v":"PRESENTACIÓN DE PROYECTOS \nDE INVESTIGACIÓN"},{"$f":"General!$H$2","v":"Fecha de Emisión: 2019/03/18"},{"$f":"General!$I$2","v":"IN-IV-F-14"}]
[null,null,null,{"$f":"General!$H$3","v":"Revisión N°:\n4"},{"$f":"\"Página \"&A1&\" de \"&Dt_TPG","v":"Página 3 de 11"},null,{"$f":"SUM(G7:G3508)","v":0},"<== Total de palabras"]
[]
["6.-","#","Eje estratégico Plan de Desarrollo Institucional (PDI)",null,null,null,"Largo"]
[]
[null,{"$f":"ROW()-6","v":1},null,null,null,null,{"$f":"IF(C7=\"\",0,LEN(TRIM(C7))-LEN(SUBSTITUTE(TRIM(C7),\" \",\"\"))+1)","v":0}]
[null,{"$f":"ROW()-6","v":2},null,null,null,null,0]
[null,11,null,null,null,null,0]
[null,14,null,null,null,null,0]
[null,21,null,null,null,null,0,null,null,21,null,null,null,null,0,null,null,21,null,null,null,null,0,null,null,21,null,null,null,null,0,null,null,21,null,null,null,null,0,null,null,21,null,null,null,null,0,null,null,21,null,null,null,null,0,null,null,21,null,null,null,null,0,null,null,21,null,null,null,null,0,null,null,21,null,null,null,null,0,null,null,21,null,null,null,null,0,null,null,21,null,null,null,null,0,null,null,21,null,null,null,null,0,null,null,21,null,null,null,null,0,null,null,21,null,null,null,null,0,null,null,21,null,null,null,null,0,null,null,21,null,null,null,null,0,null,null,21,null,null,null,null,0,null,null,21,null,null,null,null,0,null,null,21,null,null,null,null,0,null,null,21,null,null,null,null,0,null,null,21,null,null,null,null,0,null,null,21,null,null,null,null,0,null,null,21,null,null,null,null,0,null,null,21,null,null,null,null,0,null,null,21,null,null,null,null,0,null,null,21,null,null,null,null,0,null,null,21,null,null,null,null,0,null,null,21,null,null,null,null,0,null,null,21,null,null,null,null,0,null,null,21,null,null,null,null,0,null,null,21,null,null,null,null,0,null,null,21,null,null,null,null,0,null,null,21,null,null,null,null,0,null,null,21,null,null,null,null,0,null,null,21,null,null,null,null,0,null,null,21,null,null,null,null,0,null,null,21,null,null,null,null,0,null,null,21,null,null,null,null,0,null,null,21,null,null,null,null,0,null,null,21,null,null,null,null,0,null,null,21,null,null,null,null,0,null,null,21,null,null,null,null,0,null,null,21,null,null,null,null,0,null,null,21,null,null,null,null,0,null,null,21,null,null,null,null,0,null,null,21,null,null,null,null,0,null,null,21,null,null,null,null,0,null,null,21,null,null,null,null,0,null,null,21,null,null,null,null,0,null,null,21,null,null,null,null,0,null,null,21,null,null,null,null,0,null,null,21,null,null,null,null,0,null,null,21,null,null,null,null,0,null,null,21,null,null,null,null,0,null,null,21,null,null,null,null,0,null,null,21,null,null,null,null,0,null,null,21,null,null,null,null,0,null,null,21,null,null,null,null,0,null,null,21,null,null,null,null,0,null,null,21,null,null,null,null,0,null,null,21,null,null,null,null,0,null,null,21,null,null,null,null,0,null,null,21,null,null,null,null,0,null,null,21,null,null,null,null,0,null,null,21,null,null,null,null,0,null,null,21,null,null,null,null,0,null,null,21,null,null,null,null,0,null,null,21,null,null,null,null,0,null,null,21,null,null,null,null,0,null,null,21,null,null,null,null,0,null,null,21,null,null,null,null,0,null,null,21,null,null,null,null,0,null,null,21,null,null,null,null,0,null,null,21,null,null,null,null,0,null,null,21,null,null,null,null,0,null,null,21,null,null,null,null,0,null,null,21,null,null,null,null,0,null,null,21,null,null,null,null,0,null,null,21,null,null,null,null,0,null,null,21,null,null,null,null,0,null,null,21,null,null,null,null,0,null,null,21,null,null,null,null,0,null,null,21,null,null,null,null,0,null,null,21,null,null,null,null,0,null,null,21,null,null,null,null,0,null,null,21,null,null,null,null,0,null,null,21,null,null,null,null,0,null,null,21,null,null,null,null,0,null,null,21,null,null,null,null,0,null,null,21,null,null,null,null,0,null,null,21,null,null,null,null,0,null,null,21,null,null,null,null,0,null,null,21,null,null,null,null,0,null,null,21,null,null,null,null,0,null,null,21,null,null,null,null,0,null,null,21,null,null,null,null,0,null,null,21,null,null,null,null,0,null,null,21,null,null,null,null,0,null,null,21,null,null,null,null,0,null,null,21,null,null,null,null,0,null,null,21,null,null,null,null,0,null,null,21,null,null,null,null,0,null,null,21,null,null,null,null,0,null,null,21,null,null,null,null,0,null,null,21,null,null,null,null,0,null,null,21,null,null,null,null,0,null,null,21,null,null,null,null,0,null,null,21,null,null,null,null,0,null,null,21,null,null,null,null,0,null,null,21,null,null,null,null,0,null,null,21,null,null,null,null,0,null,null,21,null,null,null,null,0,null,null,21,null,null,null,null,0,null,null,21,null,null,null,null,0,null,null,21,null,null,null,null,0,null,null,21,null,null,null,null,0,null,null,21,null,null,null,null,0,null,null,21,null,null,null,null,0,null,null,21,null,null,null,null,0,null,null,21,null,null,null,null,0,null,null,21,null,null,null,null,0,null,null,21,null,null,null,null,0,null,null,21,null,null,null,null,0,null,null,21,null,null,null,null,0,null,null,21,null,null,null,null,0,null,null,21,null,null,null,null,0,null,null,21,null,null,null,null,0,null,null,21,null,null,null,null,0,null,null,21,null,null,null,null,0,null,null,21,null,null,null,null,0,null,null,21,null,null,null,null,0,null,null,21,null,null,null,null,0,null,null,21,null,null,null,null,0,null,null,21,null,null,null,null,0,null,null,21,null,null,null,null,0,null,null,21,null,null,null,null,0,null,null,21,null,null,null,null,0,null,null,21,null,null,null,null,0,null,null,21,null,null,null,null,0,null,null,21,null,null,null,null,0,null,null,21,null,null,null,null,0,null,null,21,null,null,null,null,0,null,null,21,null,null,null,null,0,null,null,21,null,null,null,null,0,null,null,21,null,null,null,null,0,null,null,21,null,null,null,null,0,null,null,21,null,null,null,null,0,null,null,21,null,null,null,null,0,null,null,21,null,null,null,null,0,null,null,21,null,null,null,null,0,null,null,21,null,null,null,null,0,null,null,21,null,null,null,null,0,null,null,21,null,null,null,null,0,null,null,21,null,null,null,null,0,null,null,21,null,null,null,null,0,null,null,21,null,null,null,null,0,null,null,21,null,null,null,null,0,null,null,21,null,null,null,null,0,null,null,21,null,null,null,null,0,null,null,21,null,null,null,null,0,null,null,21,null,null,null,null,0,null,null,21,null,null,null,null,0,null,null,21,null,null,null,null,0,null,null,21,null,null,null,null,0,null,null,21,null,null,null,null,0,null,null,21,null,null,null,null,0,null,null,21,null,null,null,null,0,null,null,21,null,null,null,null,0,null,null,21,null,null,null,null,0,null,null,21,null,null,null,null,0,null,null,21,null,null,null,null,0,null,null,21,null,null,null,null,0,null,null,21,null,null,null,null,0,null,null,21,null,null,null,null,0,null,null,21,null,null,null,null,0,null,null,21,null,null,null,null,0,null,null,21,null,null,null,null,0,null,null,21,null,null,null,null,0,null,null,21,null,null,null,null,0,null,null,21,null,null,null,null,0,null,null,21,null,null,null,null,0,null,null,21,null,null,null,null,0,null,null,21,null,null,null,null,0,null,null,21,null,null,null,null,0,null,null,21,null,null,null,null,0,null,null,21,null,null,null,null,0,null,null,21,null,null,null,null,0,null,null,21,null,null,null,null,0,null,null,21,null,null,null,null,0,null,null,21,null,null,null,null,0,null,null,21,null,null,null,null,0,null,null,21,null,null,null,null,0,null,null,21,null,null,null,null,0,null,null,21,null,null,null,null,0,null,null,21,null,null,null,null,0,null,null,21,null,null,null,null,0,null,null,21,null,null,null,null,0,null,null,21,null,null,null,null,0,null,null,21,null,null,null,null,0,null,null,21,null,null,null,null,0,null,null,21,null,null,null,null,0,null,null,21,null,null,null,null,0,null,null,21,null,null,null,null,0,null,null,21,null,null,null,null,0,null,null,21,null,null,null,null,0,null,null,21,null,null,null,null,0,null,null,21,null,null,null,null,0,null,null,21,null,null,null,null,0,null,null,21,null,null,null,null,0,null,null,21,null,null,null,null,0,null,null,21,null,null,null,null,0,null,null,21,null,null,null,null,0,null,null,21,null,null,null,null,0,null,null,21,null,null,null,null,0,null,null,21,null,null,null,null,0,null,null,21,null,null,null,null,0,null,null,21,null,null,null,null,0,null,null,21,null,null,null,null,0,null,null,21,null,null,null,null,0,null,null,21,null,null,null,null,0,null,null,21,null,null,null,null,0,null,null,21,null,null,null,null,0,null,null,21,null,null,null,null,0,null,null,21,null,null,null,null,0,null,null,21,null,null,null,null,0,null,null,21,null,null,null,null,0,null,null,21,null,null,null,null,0,null,null,21,null,null,null,null,0,null,null,21,null,null,null,null,0,null,null,21,null,null,null,null,0,null,null,21,null,null,null,null,0,null,null,21,null,null,null,null,0,null,null,21,null,null,null,null,0,null,null,21,null,null,null,null,0,null,null,21,null,null,null,null,0,null,null,21,null,null,null,null,0,null,null,21,null,null,null,null,0,null,null,21,null,null,null,null,0,null,null,21,null,null,null,null,0,null,null,21,null,null,null,null,0,null,null,21,null,null,null,null,0,null,null,21,null,null,null,null,0,null,null,21,null,null,null,null,0,null,null,21,null,null,null,null,0,null,null,21,null,null,null,null,0,null,null,21,null,null,null,null,0,null,null,21,null,null,null,null,0,null,null,21,null,null,null,null,0,null,null,21,null,null,null,null,0,null,null,21,null,null,null,null,0,null,null,21,null,null,null,null,0,null,null,21,null,null,null,null,0,null,null,21,null,null,null,null,0,null,null,21,null,null,null,null,0,null,null,21,null,null,null,null,0,null,null,21,null,null,null,null,0,null,null,21,null,null,null,null,0,null,null,21,null,null,null,null,0,null,null,21,null,null,null,null,0,null,null,21,null,null,null,null,0,null,null,21,null,null,null,null,0,null,null,21,null,null,null,null,0,null,null,21,null,null,null,null,0,null,null,21,null,null,null,null,0,null,null,21,null,null,null,null,0,null,null,21,null,null,null,null,0,null,null,21,null,null,null,null,0,null,null,21,null,null,null,null,0,null,null,21,null,null,null,null,0,null,null,21,null,null,null,null,0,null,null,21,null,null,null,null,0,null,null,21,null,null,null,null,0,null,null,21,null,null,null,null,0,null,null,21,null,null,null,null,0,null,null,21,null,null,null,null,0,null,null,21,null,null,null,null,0,null,null,21,null,null,null,null,0,null,null,21,null,null,null,null,0,null,null,21,null,null,null,null,0,null,null,21,null,null,null,null,0,null,null,21,null,null,null,null,0,null,null,21,null,null,null,null,0,null,null,21,null,null,null,null,0,null,null,21,null,null,null,null,0,null,null,21,null,null,null,null,0,null,null,21,null,null,null,null,0,null,null,21,null,null,null,null,0,null,null,21,null,null,null,null,0,null,null,21,null,null,null,null,0,null,null,21,null,null,null,null,0,null,null,21,null,null,null,null,0,null,null,21,null,null,null,null,0,null,null,21,null,null,null,null,0,null,null,21,null,null,null,null,0,null,null,21,null,null,null,null,0,null,null,21,null,null,null,null,0,null,null,21,null,null,null,null,0,null,null,21,null,null,null,null,0,null,null,21,null,null,null,null,0,null,null,21,null,null,null,null,0,null,null,21,null,null,null,null,0,null,null,21,null,null,null,null,0,null,null,21,null,null,null,null,0,null,null,21,null,null,null,null,0,null,null,21,null,null,null,null,0,null,null,21,null,null,null,null,0,null,null,21,null,null,null,null,0,null,null,21,null,null,null,null,0,null,null,21,null,null,null,null,0,null,null,21,null,null,null,null,0,null,null,21,null,null,null,null,0,null,null,21,null,null,null,null,0,null,null,21,null,null,null,null,0,null,null,21,null,null,null,null,0,null,null,21,null,null,null,null,0,null,null,21,null,null,null,null,0,null,null,21,null,null,null,null,0,null,null,21,null,null,null,null,0,null,null,21,null,null,null,null,0,null,null,21,null,null,null,null,0,null,null,21,null,null,null,null,0,null,null,21,null,null,null,null,0,null,null,21,null,null,null,null,0,null,null,21,null,null,null,null,0,null,null,21,null,null,null,null,0,null,null,21,null,null,null,null,0,null,null,21,null,null,null,null,0,null,null,21,null,null,null,null,0,null,null,21,null,null,null,null,0,null,null,21,null,null,null,null,0,null,null,21,null,null,null,null,0,null,null,21,null,null,null,null,0,null,null,21,null,null,null,null,0,null,null,21,null,null,null,null,0,null,null,21,null,null,null,null,0,null,null,21,null,null,null,null,0,null,null,21,null,null,null,null,0,null,null,21,null,null,null,null,0,null,null,21,null,null,null,null,0,null,null,21,null,null,null,null,0,null,null,21,null,null,null,null,0,null,null,21,null,null,null,null,0,null,null,21,null,null,null,null,0,null,null,21,null,null,null,null,0,null,null,21,null,null,null,null,0,null,null,21,null,null,null,null,0,null,null,21,null,null,null,null,0,null,null,21,null,null,null,null,0,null,null,21,null,null,null,null,0,null,null,21,null,null,null,null,0,null,null,21,null,null,null,null,0,null,null,21,null,null,null,null,0,null,null,21,null,null,null,null,0,null,null,21,null,null,null,null,0,null,null,21,null,null,null,null,0,null,null,21,null,null,null,null,0,null,null,21,null,null,null,null,0,null,null,21,null,null,null,null,0,null,null,21,null,null,null,null,0,null,null,21,null,null,null,null,0,null,null,21,null,null,null,null,0,null,null,21,null,null,null,null,0,null,null,21,null,null,null,null,0,null,null,21,null,null,null,null,0,null,null,21,null,null,null,null,0,null,null,21,null,null,null,null,0,null,null,21,null,null,null,null,0,null,null,21,null,null,null,null,0,null,null,21,null,null,null,null,0,null,null,21,null,null,null,null,0,null,null,21,null,null,null,null,0,null,null,21,null,null,null,null,0,null,null,21,null,null,null,null,0,null,null,21,null,null,null,null,0,null,null,21,null,null,null,null,0,null,null,21,null,null,null,null,0,null,null,21,null,null,null,null,0,null,null,21,null,null,null,null,0,null,null,21,null,null,null,null,0,null,null,21,null,null,null,null,0,null,null,21,null,null,null,null,0,null,null,21,null,null,null,null,0,null,null,21,null,null,null,null,0,null,null,21,null,null,null,null,0,null,null,21,null,null,null,null,0,null,null,21,null,null,null,null,0,null,null,21,null,null,null,null,0,null,null,21,null,null,null,null,0,null,null,21,null,null,null,null,0,null,null,21,null,null,null,null,0,null,null,21,null,null,null,null,0,null,null,21,null,null,null,null,0,null,null,21,null,null,null,null,0,null,null,21,null,null,null,null,0,null,null,21,null,null,null,null,0,null,null,21,null,null,null,null,0,null,null,21,null,null,null,null,0,null,null,21,null,null,null,null,0,null,null,21,null,null,null,null,0,null,null,21,null,null,null,null,0,null,null,21,null,null,null,null,0,null,null,21,null,null,null,null,0,null,null,21,null,null,null,null,0,null,null,21,null,null,null,null,0,null,null,21,null,null,null,null,0,null,null,21,null,null,null,null,0,null,null,21,null,null,null,null,0,null,null,21,null,null,null,null,0,null,null,21,null,null,null,null,0,null,null,21,null,null,null,null,0,null,null,21,null,null,null,null,0,null,null,21,null,null,null,null,0,null,null,21,null,null,null,null,0,null,null,21,null,null,null,null,0,null,null,21,null,null,null,null,0,null,null,21,null,null,null,null,0,null,null,21,null,null,null,null,0,null,null,21,null,null,null,null,0,null,null,21,null,null,null,null,0,null,null,21,null,null,null,null,0,null,null,21,null,null,null,null,0,null,null,21,null,null,null,null,0,null,null,21,null,null,null,null,0,null,null,21,null,null,null,null,0,null,null,21,null,null,null,null,0,null,null,21,null,null,null,null,0,null,null,21,null,null,null,null,0,null,null,21,null,null,null,null,0,null,null,21,null,null,null,null,0,null,null,21,null,null,null,null,0,null,null,21,null,null,null,null,0,null,null,21,null,null,null,null,0,null,null,21,null,null,null,null,0,null,null,21,null,null,null,null,0,null,null,21,null,null,null,null,0,null,null,21,null,null,null,null,0,null,null,21,null,null,null,null,0,null,null,21,null,null,null,null,0,null,null,21,null,null,null,null,0,null,null,21,null,null,null,null,0,null,null,21,null,null,null,null,0,null,null,21,null,null,null,null,0,null,null,21,null,null,null,null,0,null,null,21,null,null,null,null,0,null,null,21,null,null,null,null,0,null,null,21,null,null,null,null,0,null,null,21,null,null,null,null,0,null,null,21,null,null,null,null,0,null,null,21,null,null,null,null,0,null,null,21,null,null,null,null,0,null,null,21,null,null,null,null,0,null,null,21,null,null,null,null,0,null,null,21,null,null,null,null,0,null,null,21,null,null,null,null,0,null,null,21,null,null,null,null,0,null,null,21,null,null,null,null,0,null,null,21,null,null,null,null,0,null,null,21,null,null,null,null,0,null,null,21,null,null,null,null,0,null,null,21,null,null,null,null,0,null,null,21,null,null,null,null,0,null,null,21,null,null,null,null,0,null,null,21,null,null,null,null,0,null,null,21,null,null,null,null,0,null,null,21,null,null,null,null,0,null,null,21,null,null,null,null,0,null,null,21,null,null,null,null,0,null,null,21,null,null,null,null,0,null,null,21,null,null,null,null,0,null,null,21,null,null,null,null,0,null,null,21,null,null,null,null,0,null,null,21,null,null,null,null,0,null,null,21,null,null,null,null,0,null,null,21,null,null,null,null,0,null,null,21,null,null,null,null,0,null,null,21,null,null,null,null,0,null,null,21,null,null,null,null,0,null,null,21,null,null,null,null,0,null,null,21,null,null,null,null,0,null,null,21,null,null,null,null,0,null,null,21,null,null,null,null,0,null,null,21,null,null,null,null,0,null,null,21,null,null,null,null,0,null,null,21,null,null,null,null,0,null,null,21,null,null,null,null,0,null,null,21,null,null,null,null,0,null,null,21,null,null,null,null,0,null,null,21,null,null,null,null,0,null,null,21,null,null,null,null,0,null,null,21,null,null,null,null,0,null,null,21,null,null,null,null,0,null,null,21,null,null,null,null,0,null,null,21,null,null,null,null,0,null,null,21,null,null,null,null,0,null,null,21,null,null,null,null,0,null,null,21,null,null,null,null,0,null,null,21,null,null,null,null,0,null,null,21,null,null,null,null,0,null,null,21,null,null,null,null,0,null,null,21,null,null,null,null,0,null,null,21,null,null,null,null,0,null,null,21,null,null,null,null,0,null,null,21,null,null,null,null,0,null,null,21,null,null,null,null,0,null,null,21,null,null,null,null,0,null,null,21,null,null,null,null,0,null,null,21,null,null,null,null,0,null,null,21,null,null,null,null,0,null,null,21,null,null,null,null,0,null,null,21,null,null,null,null,0,null,null,21,null,null,null,null,0,null,null,21,null,null,null,null,0,null,null,21,null,null,null,null,0,null,null,21,null,null,null,null,0,null,null,21,null,null,null,null,0,null,null,21,null,null,null,null,0,null,null,21,null,null,null,null,0,null,null,21,null,null,null,null,0,null,null,21,null,null,null,null,0,null,null,21,null,null,null,null,0,null,null,21,null,null,null,null,0,null,null,21,null,null,null,null,0,null,null,21,null,null,null,null,0,null,null,21,null,null,null,null,0,null,null,21,null,null,null,null,0,null,null,21,null,null,null,null,0,null,null,21,null,null,null,null,0,null,null,21,null,null,null,null,0,null,null,21,null,null,null,null,0,null,null,21,null,null,null,null,0,null,null,21,null,null,null,null,0,null,null,21,null,null,null,null,0,null,null,21,null,null,null,null,0,null,null,21,null,null,null,null,0,null,null,21,null,null,null,null,0,null,null,21,null,null,null,null,0,null,null,21,null,null,null,null,0,null,null,21,null,null,null,null,0,null,null,21,null,null,null,null,0,null,null,21,null,null,null,null,0,null,null,21,null,null,null,null,0,null,null,21,null,null,null,null,0,null,null,21,null,null,null,null,0,null,null,21,null,null,null,null,0,null,null,21,null,null,null,null,0,null,null,21,null,null,null,null,0,null,null,21,null,null,null,null,0,null,null,21,null,null,null,null,0,null,null,21,null,null,null,null,0,null,null,21,null,null,null,null,0,null,null,21,null,null,null,null,0,null,null,21,null,null,null,null,0,null,null,21,null,null,null,null,0,null,null,21,null,null,null,null,0,null,null,21,null,null,null,null,0,null,null,21,null,null,null,null,0,null,null,21,null,null,null,null,0,null,null,21,null,null,null,null,0,null,null,21,null,null,null,null,0,null,null,21,null,null,null,null,0,null,null,21,null,null,null,null,0,null,null,21,null,null,null,null,0,null,null,21,null,null,null,null,0,null,null,21,null,null,null,null,0,null,null,21,null,null,null,null,0,null,null,21,null,null,null,null,0,null,null,21,null,null,null,null,0,null,null,21,null,null,null,null,0,null,null,21,null,null,null,null,0,null,null,21,null,null,null,null,0,null,null,21,null,null,null,null,0,null,null,21,null,null,null,null,0,null,null,21,null,null,null,null,0,null,null,21,null,null,null,null,0,null,null,21,null,null,null,null,0,null,null,21,null,null,null,null,0,null,null,21,null,null,null,null,0,null,null,21,null,null,null,null,0,null,null,21,null,null,null,null,0,null,null,21,null,null,null,null,0,null,null,21,null,null,null,null,0,null,null,21,null,null,null,null,0,null,null,21,null,null,null,null,0,null,null,21,null,null,null,null,0,null,null,21,null,null,null,null,0,null,null,21,null,null,null,null,0,null,null,21,null,null,null,null,0,null,null,21,null,null,null,null,0,null,null,21,null,null,null,null,0,null,null,21,null,null,null,null,0,null,null,21,null,null,null,null,0,null,null,21,null,null,null,null,0,null,null,21,null,null,null,null,0,null,null,21,null,null,null,null,0,null,null,21,null,null,null,null,0,null,null,21,null,null,null,null,0,null,null,21,null,null,null,null,0,null,null,21,null,null,null,null,0,null,null,21,null,null,null,null,0,null,null,21,null,null,null,null,0,null,null,21,null,null,null,null,0,null,null,21,null,null,null,null,0,null,null,21,null,null,null,null,0,null,null,21,null,null,null,null,0,null,null,21,null,null,null,null,0,null,null,21,null,null,null,null,0,null,null,21,null,null,null,null,0,null,null,21,null,null,null,null,0,null,null,21,null,null,null,null,0,null,null,21,null,null,null,null,0,null,null,21,null,null,null,null,0,null,null,21,null,null,null,null,0,null,null,21,null,null,null,null,0,null,null,21,null,null,null,null,0,null,null,21,null,null,null,null,0,null,null,21,null,null,null,null,0,null,null,21,null,null,null,null,0,null,null,21,null,null,null,null,0,null,null,21,null,null,null,null,0,null,null,21,null,null,null,null,0,null,null,21,null,null,null,null,0,null,null,21,null,null,null,null,0,null,null,21,null,null,null,null,0,null,null,21,null,null,null,null,0,null,null,21,null,null,null,null,0,null,null,21,null,null,null,null,0,null,null,21,null,null,null,null,0,null,null,21,null,null,null,null,0,null,null,21,null,null,null,null,0,null,null,21,null,null,null,null,0,null,null,21,null,null,null,null,0,null,null,21,null,null,null,null,0,null,null,21,null,null,null,null,0,null,null,21,null,null,null,null,0,null,null,21,null,null,null,null,0,null,null,21,null,null,null,null,0,null,null,21,null,null,null,null,0,null,null,21,null,null,null,null,0,null,null,21,null,null,null,null,0,null,null,21,null,null,null,null,0,null,null,21,null,null,null,null,0,null,null,21,null,null,null,null,0,null,null,21,null,null,null,null,0,null,null,21,null,null,null,null,0,null,null,21,null,null,null,null,0,null,null,21,null,null,null,null,0,null,null,21,null,null,null,null,0,null,null,21,null,null,null,null,0,null,null,21,null,null,null,null,0,null,null,21,null,null,null,null,0,null,null,21,null,null,null,null,0,null,null,21,null,null,null,null,0,null,null,21,null,null,null,null,0,null,null,21,null,null,null,null,0,null,null,21,null,null,null,null,0,null,null,21,null,null,null,null,0,null,null,21,null,null,null,null,0,null,null,21,null,null,null,null,0,null,null,21,null,null,null,null,0,null,null,21,null,null,null,null,0,null,null,21,null,null,null,null,0,null,null,21,null,null,null,null,0,null,null,21,null,null,null,null,0,null,null,21,null,null,null,null,0,null,null,21,null,null,null,null,0,null,null,21,null,null,null,null,0,null,null,21,null,null,null,null,0,null,null,21,null,null,null,null,0,null,null,21,null,null,null,null,0,null,null,21,null,null,null,null,0,null,null,21,null,null,null,null,0,null,null,21,null,null,null,null,0,null,null,21,null,null,null,null,0,null,null,21,null,null,null,null,0,null,null,21,null,null,null,null,0,null,null,21,null,null,null,null,0,null,null,21,null,null,null,null,0,null,null,21,null,null,null,null,0,null,null,21,null,null,null,null,0,null,null,21,null,null,null,null,0,null,null,21,null,null,null,null,0,null,null,21,null,null,null,null,0,null,null,21,null,null,null,null,0,null,null,21,null,null,null,null,0,null,null,21,null,null,null,null,0,null,null,21,null,null,null,null,0,null,null,21,null,null,null,null,0,null,null,21,null,null,null,null,0,null,null,21,null,null,null,null,0,null,null,21,null,null,null,null,0,null,null,21,null,null,null,null,0,null,null,21,null,null,null,null,0,null,null,21,null,null,null,null,0,null,null,21,null,null,null,null,0,null,null,21,null,null,null,null,0,null,null,21,null,null,null,null,0,null,null,21,null,null,null,null,0,null,null,21,null,null,null,null,0,null,null,21,null,null,null,null,0,null,null,21,null,null,null,null,0,null,null,21,null,null,null,null,0,null,null,21,null,null,null,null,0,null,null,21,null,null,null,null,0,null,null,21,null,null,null,null,0,null,null,21,null,null,null,null,0,null,null,21,null,null,null,null,0,null,null,21,null,null,null,null,0,null,null,21,null,null,null,null,0,null,null,21,null,null,null,null,0,null,null,21,null,null,null,null,0,null,null,21,null,null,null,null,0,null,null,21,null,null,null,null,0,null,null,21,null,null,null,null,0,null,null,21,null,null,null,null,0,null,null,21,null,null,null,null,0,null,null,21,null,null,null,null,0,null,null,21,null,null,null,null,0,null,null,21,null,null,null,null,0,null,null,21,null,null,null,null,0,null,null,21,null,null,null,null,0,null,null,21,null,null,null,null,0,null,null,21,null,null,null,null,0,null,null,21,null,null,null,null,0,null,null,21,null,null,null,null,0,null,null,21,null,null,null,null,0,null,null,21,null,null,null,null,0,null,null,21,null,null,null,null,0,null,null,21,null,null,null,null,0,null,null,21,null,null,null,null,0,null,null,21,null,null,null,null,0,null,null,21,null,null,null,null,0,null,null,21,null,null,null,null,0,null,null,21,null,null,null,null,0,null,null,21,null,null,null,null,0,null,null,21,null,null,null,null,0,null,null,21,null,null,null,null,0,null,null,21,null,null,null,null,0,null,null,21,null,null,null,null,0,null,null,21,null,null,null,null,0,null,null,21,null,null,null,null,0,null,null,21,null,null,null,null,0,null,null,21,null,null,null,null,0,null,null,21,null,null,null,null,0,null,null,21,null,null,null,null,0,null,null,21,null,null,null,null,0,null,null,21,null,null,null,null,0,null,null,21,null,null,null,null,0,null,null,21,null,null,null,null,0,null,null,21,null,null,null,null,0,null,null,21,null,null,null,null,0,null,null,21,null,null,null,null,0,null,null,21,null,null,null,null,0,null,null,21,null,null,null,null,0,null,null,21,null,null,null,null,0,null,null,21,null,null,null,null,0,null,null,21,null,null,null,null,0,null,null,21,null,null,null,null,0,null,null,21,null,null,null,null,0,null,null,21,null,null,null,null,0,null,null,21,null,null,null,null,0,null,null,21,null,null,null,null,0,null,null,21,null,null,null,null,0,null,null,21,null,null,null,null,0,null,null,21,null,null,null,null,0,null,null,21,null,null,null,null,0,null,null,21,null,null,null,null,0,null,null,21,null,null,null,null,0,null,null,21,null,null,null,null,0,null,null,21,null,null,null,null,0,null,null,21,null,null,null,null,0,null,null,21,null,null,null,null,0,null,null,21,null,null,null,null,0,null,null,21,null,null,null,null,0,null,null,21,null,null,null,null,0,null,null,21,null,null,null,null,0,null,null,21,null,null,null,null,0,null,null,21,null,null,null,null,0,null,null,21,null,null,null,null,0,null,null,21,null,null,null,null,0,null,null,21,null,null,null,null,0,null,null,21,null,null,null,null,0,null,null,21,null,null,null,null,0,null,null,21,null,null,null,null,0,null,null,21,null,null,null,null,0,null,null,21,null,null,null,null,0,null,null,21,null,null,null,null,0,null,null,21,null,null,null,null,0,null,null,21,null,null,null,null,0,null,null,21,null,null,null,null,0,null,null,21,null,null,null,null,0,null,null,21,null,null,null,null,0,null,null,21,null,null,null,null,0,null,null,21,null,null,null,null,0,null,null,21,null,null,null,null,0,null,null,21,null,null,null,null,0,null,null,21,null,null,null,null,0,null,null,21,null,null,null,null,0,null,null,21,null,null,null,null,0,null,null,21,null,null,null,null,0,null,null,21,null,null,null,null,0,null,null,21,null,null,null,null,0,null,null,21,null,null,null,null,0,null,null,21,null,null,null,null,0,null,null,21,null,null,null,null,0,null,null,21,null,null,null,null,0,null,null,21,null,null,null,null,0,null,null,21,null,null,null,null,0,null,null,21,null,null,null,null,0,null,null,21,null,null,null,null,0,null,null,21,null,null,null,null,0,null,null,21,null,null,null,null,0,null,null,21,null,null,null,null,0,null,null,21,null,null,null,null,0,null,null,21,null,null,null,null,0,null,null,21,null,null,null,null,0,null,null,21,null,null,null,null,0,null,null,21,null,null,null,null,0,null,null,21,null,null,null,null,0,null,null,21,null,null,null,null,0,null,null,21,null,null,null,null,0,null,null,21,null,null,null,null,0,null,null,21,null,null,null,null,0,null,null,21,null,null,null,null,0,null,null,21,null,null,null,null,0,null,null,21,null,null,null,null,0,null,null,21,null,null,null,null,0,null,null,21,null,null,null,null,0,null,null,21,null,null,null,null,0,null,null,21,null,null,null,null,0,null,null,21,null,null,null,null,0,null,null,21,null,null,null,null,0,null,null,21,null,null,null,null,0,null,null,21,null,null,null,null,0,null,null,21,null,null,null,null,0,null,null,21,null,null,null,null,0,null,null,21,null,null,null,null,0,null,null,21,null,null,null,null,0,null,null,21,null,null,null,null,0,null,null,21,null,null,null,null,0,null,null,21,null,null,null,null,0,null,null,21,null,null,null,null,0,null,null,21,null,null,null,null,0,null,null,21,null,null,null,null,0,null,null,21,null,null,null,null,0,null,null,21,null,null,null,null,0,null,null,21,null,null,null,null,0,null,null,21,null,null,null,null,0,null,null,21,null,null,null,null,0,null,null,21,null,null,null,null,0,null,null,21,null,null,null,null,0,null,null,21,null,null,null,null,0,null,null,21,null,null,null,null,0,null,null,21,null,null,null,null,0,null,null,21,null,null,null,null,0,null,null,21,null,null,null,null,0,null,null,21,null,null,null,null,0,null,null,21,null,null,null,null,0,null,null,21,null,null,null,null,0,null,null,21,null,null,null,null,0,null,null,21,null,null,null,null,0,null,null,21,null,null,null,null,0,null,null,21,null,null,null,null,0,null,null,21,null,null,null,null,0,null,null,21,null,null,null,null,0,null,null,21,null,null,null,null,0,null,null,21,null,null,null,null,0,null,null,21,null,null,null,null,0,null,null,21,null,null,null,null,0,null,null,21,null,null,null,null,0,null,null,21,null,null,null,null,0,null,null,21,null,null,null,null,0,null,null,21,null,null,null,null,0,null,null,21,null,null,null,null,0,null,null,21,null,null,null,null,0,null,null,21,null,null,null,null,0,null,null,21,null,null,null,null,0,null,null,21,null,null,null,null,0,null,null,21,null,null,null,null,0,null,null,21,null,null,null,null,0,null,null,21,null,null,null,null,0,null,null,21,null,null,null,null,0,null,null,21,null,null,null,null,0,null,null,21,null,null,null,null,0,null,null,21,null,null,null,null,0,null,null,21,null,null,null,null,0,null,null,21,null,null,null,null,0,null,null,21,null,null,null,null,0,null,null,21,null,null,null,null,0,null,null,21,null,null,null,null,0,null,null,21,null,null,null,null,0,null,null,21,null,null,null,null,0,null,null,21,null,null,null,null,0,null,null,21,null,null,null,null,0,null,null,21,null,null,null,null,0,null,null,21,null,null,null,null,0,null,null,21,null,null,null,null,0,null,null,21,null,null,null,null,0,null,null,21,null,null,null,null,0,null,null,21,null,null,null,null,0,null,null,21,null,null,null,null,0,null,null,21,null,null,null,null,0,null,null,21,null,null,null,null,0,null,null,21,null,null,null,null,0,null,null,21,null,null,null,null,0,null,null,21,null,null,null,null,0,null,null,21,null,null,null,null,0,null,null,21,null,null,null,null,0,null,null,21,null,null,null,null,0,null,null,21,null,null,null,null,0,null,null,21,null,null,null,null,0,null,null,21,null,null,null,null,0,null,null,21,null,null,null,null,0,null,null,21,null,null,null,null,0,null,null,21,null,null,null,null,0,null,null,21,null,null,null,null,0,null,null,21,null,null,null,null,0,null,null,21,null,null,null,null,0,null,null,21,null,null,null,null,0,null,null,21,null,null,null,null,0,null,null,21,null,null,null,null,0,null,null,21,null,null,null,null,0,null,null,21,null,null,null,null,0,null,null,21,null,null,null,null,0,null,null,21,null,null,null,null,0,null,null,21,null,null,null,null,0,null,null,21,null,null,null,null,0,null,null,21,null,null,null,null,0,null,null,21,null,null,null,null,0,null,null,21,null,null,null,null,0,null,null,21,null,null,null,null,0,null,null,21,null,null,null,null,0,null,null,21,null,null,null,null,0,null,null,21,null,null,null,null,0,null,null,21,null,null,null,null,0,null,null,21,null,null,null,null,0,null,null,21,null,null,null,null,0,null,null,21,null,null,null,null,0,null,null,21,null,null,null,null,0,null,null,21,null,null,null,null,0,null,null,21,null,null,null,null,0,null,null,21,null,null,null,null,0,null,null,21,null,null,null,null,0,null,null,21,null,null,null,null,0,null,null,21,null,null,null,null,0,null,null,21,null,null,null,null,0,null,null,21,null,null,null,null,0,null,null,21,null,null,null,null,0,null,null,21,null,null,null,null,0,null,null,21,null,null,null,null,0,null,null,21,null,null,null,null,0,null,null,21,null,null,null,null,0,null,null,21,null,null,null,null,0,null,null,21,null,null,null,null,0,null,null,21,null,null,null,null,0,null,null,21,null,null,null,null,0,null,null,21,null,null,null,null,0,null,null,21,null,null,null,null,0,null,null,21,null,null,null,null,0,null,null,21,null,null,null,null,0,null,null,21,null,null,null,null,0,null,null,21,null,null,null,null,0,null,null,21,null,null,null,null,0,null,null,21,null,null,null,null,0,null,null,21,null,null,null,null,0,null,null,21,null,null,null,null,0,null,null,21,null,null,null,null,0,null,null,21,null,null,null,null,0,null,null,21,null,null,null,null,0,null,null,21,null,null,null,null,0,null,null,21,null,null,null,null,0,null,null,21,null,null,null,null,0,null,null,21,null,null,null,null,0,null,null,21,null,null,null,null,0,null,null,21,null,null,null,null,0,null,null,21,null,null,null,null,0,null,null,21,null,null,null,null,0,null,null,21,null,null,null,null,0,null,null,21,null,null,null,null,0,null,null,21,null,null,null,null,0,null,null,21,null,null,null,null,0,null,null,21,null,null,null,null,0,null,null,21,null,null,null,null,0,null,null,21,null,null,null,null,0,null,null,21,null,null,null,null,0,null,null,21,null,null,null,null,0,null,null,21,null,null,null,null,0,null,null,21,null,null,null,null,0,null,null,21,null,null,null,null,0,null,null,21,null,null,null,null,0,null,null,21,null,null,null,null,0,null,null,21,null,null,null,null,0,null,null,21,null,null,null,null,0,null,null,21,null,null,null,null,0,null,null,21,null,null,null,null,0,null,null,21,null,null,null,null,0,null,null,21,null,null,null,null,0,null,null,21,null,null,null,null,0,null,null,21,null,null,null,null,0,null,null,21,null,null,null,null,0,null,null,21,null,null,null,null,0,null,null,21,null,null,null,null,0,null,null,21,null,null,null,null,0,null,null,21,null,null,null,null,0,null,null,21,null,null,null,null,0,null,null,21,null,null,null,null,0,null,null,21,null,null,null,null,0,null,null,21,null,null,null,null,0,null,null,21,null,null,null,null,0,null,null,21,null,null,null,null,0,null,null,21,null,null,null,null,0,null,null,21,null,null,null,null,0,null,null,21,null,null,null,null,0,null,null,21,null,null,null,null,0,null,null,21,null,null,null,null,0,null,null,21,null,null,null,null,0,null,null,21,null,null,null,null,0,null,null,21,null,null,null,null,0,null,null,21,null,null,null,null,0,null,null,21,null,null,null,null,0,null,null,21,null,null,null,null,0,null,null,21,null,null,null,null,0,null,null,21,null,null,null,null,0,null,null,21,null,null,null,null,0,null,null,21,null,null,null,null,0,null,null,21,null,null,null,null,0,null,null,21,null,null,null,null,0,null,null,21,null,null,null,null,0,null,null,21,null,null,null,null,0,null,null,21,null,null,null,null,0,null,null,21,null,null,null,null,0,null,null,21,null,null,null,null,0,null,null,21,null,null,null,null,0,null,null,21,null,null,null,null,0,null,null,21,null,null,null,null,0,null,null,21,null,null,null,null,0,null,null,21,null,null,null,null,0,null,null,21,null,null,null,null,0,null,null,21,null,null,null,null,0,null,null,21,null,null,null,null,0,null,null,21,null,null,null,null,0,null,null,21,null,null,null,null,0,null,null,21,null,null,null,null,0,null,null,21,null,null,null,null,0,null,null,21,null,null,null,null,0,null,null,21,null,null,null,null,0,null,null,21,null,null,null,null,0,null,null,21,null,null,null,null,0,null,null,21,null,null,null,null,0,null,null,21,null,null,null,null,0,null,null,21,null,null,null,null,0,null,null,21,null,null,null,null,0,null,null,21,null,null,null,null,0,null,null,21,null,null,null,null,0,null,null,21,null,null,null,null,0,null,null,21,null,null,null,null,0,null,null,21,null,null,null,null,0,null,null,21,null,null,null,null,0,null,null,21,null,null,null,null,0,null,null,21,null,null,null,null,0,null,null,21,null,null,null,null,0,null,null,21,null,null,null,null,0,null,null,21,null,null,null,null,0,null,null,21,null,null,null,null,0,null,null,21,null,null,null,null,0,null,null,21,null,null,null,null,0,null,null,21,null,null,null,null,0,null,null,21,null,null,null,null,0,null,null,21,null,null,null,null,0,null,null,21,null,null,null,null,0,null,null,21,null,null,null,null,0,null,null,21,null,null,null,null,0,null,null,21,null,null,null,null,0,null,null,21,null,null,null,null,0,null,null,21,null,null,null,null,0,null,null,21,null,null,null,null,0,null,null,21,null,null,null,null,0,null,null,21,null,null,null,null,0,null,null,21,null,null,null,null,0,null,null,21,null,null,null,null,0,null,null,21,null,null,null,null,0,null,null,21,null,null,null,null,0,null,null,21,null,null,null,null,0,null,null,21,null,null,null,null,0,null,null,21,null,null,null,null,0,null,null,21,null,null,null,null,0,null,null,21,null,null,null,null,0,null,null,21,null,null,null,null,0,null,null,21,null,null,null,null,0,null,null,21,null,null,null,null,0,null,null,21,null,null,null,null,0,null,null,21,null,null,null,null,0,null,null,21,null,null,null,null,0,null,null,21,null,null,null,null,0,null,null,21,null,null,null,null,0,null,null,21,null,null,null,null,0,null,null,21,null,null,null,null,0,null,null,21,null,null,null,null,0,null,null,21,null,null,null,null,0,null,null,21,null,null,null,null,0,null,null,21,null,null,null,null,0,null,null,21,null,null,null,null,0,null,null,21,null,null,null,null,0,null,null,21,null,null,null,null,0,null,null,21,null,null,null,null,0,null,null,21,null,null,null,null,0,null,null,21,null,null,null,null,0,null,null,21,null,null,null,null,0,null,null,21,null,null,null,null,0,null,null,21,null,null,null,null,0,null,null,21,null,null,null,null,0,null,null,21,null,null,null,null,0,null,null,21,null,null,null,null,0,null,null,21,null,null,null,null,0,null,null,21,null,null,null,null,0,null,null,21,null,null,null,null,0,null,null,21,null,null,null,null,0,null,null,21,null,null,null,null,0,null,null,21,null,null,null,null,0,null,null,21,null,null,null,null,0,null,null,21,null,null,null,null,0,null,null,21,null,null,null,null,0,null,null,21,null,null,null,null,0,null,null,21,null,null,null,null,0,null,null,21,null,null,null,null,0,null,null,21,null,null,null,null,0,null,null,21,null,null,null,null,0,null,null,21,null,null,null,null,0,null,null,21,null,null,null,null,0,null,null,21,null,null,null,null,0,null,null,21,null,null,null,null,0,null,null,21,null,null,null,null,0,null,null,21,null,null,null,null,0,null,null,21,null,null,null,null,0,null,null,21,null,null,null,null,0,null,null,21,null,null,null,null,0,null,null,21,null,null,null,null,0,null,null,21,null,null,null,null,0,null,null,21,null,null,null,null,0,null,null,21,null,null,null,null,0,null,null,21,null,null,null,null,0,null,null,21,null,null,null,null,0,null,null,21,null,null,null,null,0,null,null,21,null,null,null,null,0,null,null,21,null,null,null,null,0,null,null,21,null,null,null,null,0,null,null,21,null,null,null,null,0,null,null,21,null,null,null,null,0,null,null,21,null,null,null,null,0,null,null,21,null,null,null,null,0,null,null,21,null,null,null,null,0,null,null,21,null,null,null,null,0,null,null,21,null,null,null,null,0,null,null,21,null,null,null,null,0,null,null,21,null,null,null,null,0,null,null,21,null,null,null,null,0,null,null,21,null,null,null,null,0,null,null,21,null,null,null,null,0,null,null,21,null,null,null,null,0,null,null,21,null,null,null,null,0,null,null,21,null,null,null,null,0,null,null,21,null,null,null,null,0,null,null,21,null,null,null,null,0,null,null,21,null,null,null,null,0,null,null,21,null,null,null,null,0,null,null,21,null,null,null,null,0,null,null,21,null,null,null,null,0,null,null,21,null,null,null,null,0,null,null,21,null,null,null,null,0,null,null,21,null,null,null,null,0,null,null,21,null,null,null,null,0,null,null,21,null,null,null,null,0,null,null,21,null,null,null,null,0,null,null,21,null,null,null,null,0,null,null,21,null,null,null,null,0,null,null,21,null,null,null,null,0,null,null,21,null,null,null,null,0,null,null,21,null,null,null,null,0,null,null,21,null,null,null,null,0,null,null,21,null,null,null,null,0,null,null,21,null,null,null,null,0,null,null,21,null,null,null,null,0,null,null,21,null,null,null,null,0,null,null,21,null,null,null,null,0,null,null,21,null,null,null,null,0,null,null,21,null,null,null,null,0,null,null,21,null,null,null,null,0,null,null,21,null,null,null,null,0,null,null,21,null,null,null,null,0,null,null,21,null,null,null,null,0,null,null,21,null,null,null,null,0,null,null,21,null,null,null,null,0,null,null,21,null,null,null,null,0,null,null,21,null,null,null,null,0,null,null,21,null,null,null,null,0,null,null,21,null,null,null,null,0,null,null,21,null,null,null,null,0,null,null,21,null,null,null,null,0,null,null,21,null,null,null,null,0,null,null,21,null,null,null,null,0,null,null,21,null,null,null,null,0,null,null,21,null,null,null,null,0,null,null,21,null,null,null,null,0,null,null,21,null,null,null,null,0,null,null,21,null,null,null,null,0,null,null,21,null,null,null,null,0,null,null,21,null,null,null,null,0,null,null,21,null,null,null,null,0,null,null,21,null,null,null,null,0,null,null,21,null,null,null,null,0,null,null,21,null,null,null,null,0,null,null,21,null,null,null,null,0,null,null,21,null,null,null,null,0,null,null,21,null,null,null,null,0,null,null,21,null,null,null,null,0,null,null,21,null,null,null,null,0,null,null,21,null,null,null,null,0,null,null,21,null,null,null,null,0,null,null,21,null,null,null,null,0,null,null,21,null,null,null,null,0,null,null,21,null,null,null,null,0,null,null,21,null,null,null,null,0,null,null,21,null,null,null,null,0,null,null,21,null,null,null,null,0,null,null,21,null,null,null,null,0,null,null,21,null,null,null,null,0,null,null,21,null,null,null,null,0,null,null,21,null,null,null,null,0,null,null,21,null,null,null,null,0,null,null,21,null,null,null,null,0,null,null,21,null,null,null,null,0,null,null,21,null,null,null,null,0,null,null,21,null,null,null,null,0,null,null,21,null,null,null,null,0,null,null,21,null,null,null,null,0,null,null,21,null,null,null,null,0,null,null,21,null,null,null,null,0,null,null,21,null,null,null,null,0,null,null,21,null,null,null,null,0,null,null,21,null,null,null,null,0,null,null,21,null,null,null,null,0,null,null,21,null,null,null,null,0,null,null,21,null,null,null,null,0,null,null,21,null,null,null,null,0,null,null,21,null,null,null,null,0,null,null,21,null,null,null,null,0,null,null,21,null,null,null,null,0,null,null,21,null,null,null,null,0,null,null,21,null,null,null,null,0,null,null,21,null,null,null,null,0,null,null,21,null,null,null,null,0,null,null,21,null,null,null,null,0,null,null,21,null,null,null,null,0,null,null,21,null,null,null,null,0,null,null,21,null,null,null,null,0,null,null,21,null,null,null,null,0,null,null,21,null,null,null,null,0,null,null,21,null,null,null,null,0,null,null,21,null,null,null,null,0,null,null,21,null,null,null,null,0,null,null,21,null,null,null,null,0,null,null,21,null,null,null,null,0,null,null,21,null,null,null,null,0,null,null,21,null,null,null,null,0,null,null,21,null,null,null,null,0,null,null,21,null,null,null,null,0,null,null,21,null,null,null,null,0,null,null,21,null,null,null,null,0,null,null,21,null,null,null,null,0,null,null,21,null,null,null,null,0,null,null,21,null,null,null,null,0,null,null,21,null,null,null,null,0,null,null,21,null,null,null,null,0,null,null,21,null,null,null,null,0,null,null,21,null,null,null,null,0,null,null,21,null,null,null,null,0,null,null,21,null,null,null,null,0,null,null,21,null,null,null,null,0,null,null,21,null,null,null,null,0,null,null,21,null,null,null,null,0,null,null,21,null,null,null,null,0,null,null,21,null,null,null,null,0,null,null,21,null,null,null,null,0,null,null,21,null,null,null,null,0,null,null,21,null,null,null,null,0,null,null,21,null,null,null,null,0,null,null,21,null,null,null,null,0,null,null,21,null,null,null,null,0,null,null,21,null,null,null,null,0,null,null,21,null,null,null,null,0,null,null,21,null,null,null,null,0,null,null,21,null,null,null,null,0,null,null,21,null,null,null,null,0,null,null,21,null,null,null,null,0,null,null,21,null,null,null,null,0,null,null,21,null,null,null,null,0,null,null,21,null,null,null,null,0,null,null,21,null,null,null,null,0,null,null,21,null,null,null,null,0,null,null,21,null,null,null,null,0,null,null,21,null,null,null,null,0,null,null,21,null,null,null,null,0,null,null,21,null,null,null,null,0,null,null,21,null,null,null,null,0,null,null,21,null,null,null,null,0,null,null,21,null,null,null,null,0,null,null,21,null,null,null,null,0,null,null,21,null,null,null,null,0,null,null,21,null,null,null,null,0,null,null,21,null,null,null,null,0,null,null,21,null,null,null,null,0,null,null,21,null,null,null,null,0,null,null,21,null,null,null,null,0,null,null,21,null,null,null,null,0,null,null,21,null,null,null,null,0,null,null,21,null,null,null,null,0,null,null,21,null,null,null,null,0,null,null,21,null,null,null,null,0,null,null,21,null,null,null,null,0,null,null,21,null,null,null,null,0,null,null,21,null,null,null,null,0,null,null,21,null,null,null,null,0,null,null,21,null,null,null,null,0,null,null,21,null,null,null,null,0,null,null,21,null,null,null,null,0,null,null,21,null,null,null,null,0,null,null,21,null,null,null,null,0,null,null,21,null,null,null,null,0,null,null,21,null,null,null,null,0,null,null,21,null,null,null,null,0,null,null,21,null,null,null,null,0,null,null,21,null,null,null,null,0,null,null,21,null,null,null,null,0,null,null,21,null,null,null,null,0,null,null,21,null,null,null,null,0,null,null,21,null,null,null,null,0,null,null,21,null,null,null,null,0,null,null,21,null,null,null,null,0,null,null,21,null,null,null,null,0,null,null,21,null,null,null,null,0,null,null,21,null,null,null,null,0,null,null,21,null,null,null,null,0,null,null,21,null,null,null,null,0,null,null,21,null,null,null,null,0,null,null,21,null,null,null,null,0,null,null,21,null,null,null,null,0,null,null,21,null,null,null,null,0,null,null,21,null,null,null,null,0,null,null,21,null,null,null,null,0,null,null,21,null,null,null,null,0,null,null,21,null,null,null,null,0,null,null,21,null,null,null,null,0,null,null,21,null,null,null,null,0,null,null,21,null,null,null,null,0,null,null,21,null,null,null,null,0,null,null,21,null,null,null,null,0,null,null,21,null,null,null,null,0,null,null,21,null,null,null,null,0,null,null,21,null,null,null,null,0,null,null,21,null,null,null,null,0,null,null,21,null,null,null,null,0,null,null,21,null,null,null,null,0,null,null,21,null,null,null,null,0,null,null,21,null,null,null,null,0,null,null,21,null,null,null,null,0,null,null,21,null,null,null,null,0,null,null,21,null,null,null,null,0,null,null,21,null,null,null,null,0,null,null,21,null,null,null,null,0,null,null,21,null,null,null,null,0,null,null,21,null,null,null,null,0,null,null,21,null,null,null,null,0,null,null,21,null,null,null,null,0,null,null,21,null,null,null,null,0,null,null,21,null,null,null,null,0,null,null,21,null,null,null,null,0,null,null,21,null,null,null,null,0,null,null,21,null,null,null,null,0,null,null,21,null,null,null,null,0,null,null,21,null,null,null,null,0,null,null,21,null,null,null,null,0,null,null,21,null,null,null,null,0,null,null,21,null,null,null,null,0,null,null,21,null,null,null,null,0,null,null,21,null,null,null,null,0,null,null,21,null,null,null,null,0,null,null,21,null,null,null,null,0,null,null,21,null,null,null,null,0,null,null,21,null,null,null,null,0,null,null,21,null,null,null,null,0,null,null,21,null,null,null,null,0,null,null,21,null,null,null,null,0,null,null,21,null,null,null,null,0,null,null,21,null,null,null,null,0,null,null,21,null,null,null,null,0,null,null,21,null,null,null,null,0,null,null,21,null,null,null,null,0,null,null,21,null,null,null,null,0,null,null,21,null,null,null,null,0,null,null,21,null,null,null,null,0,null,null,21,null,null,null,null,0,null,null,21,null,null,null,null,0,null,null,21,null,null,null,null,0,null,null,21,null,null,null,null,0,null,null,21,null,null,null,null,0,null,null,21,null,null,null,null,0,null,null,21,null,null,null,null,0,null,null,21,null,null,null,null,0,null,null,21,null,null,null,null,0,null,null,21,null,null,null,null,0,null,null,21,null,null,null,null,0,null,null,21,null,null,null,null,0,null,null,21,null,null,null,null,0,null,null,21,null,null,null,null,0,null,null,21,null,null,null,null,0,null,null,21,null,null,null,null,0,null,null,21,null,null,null,null,0,null,null,21,null,null,null,null,0,null,null,21,null,null,null,null,0,null,null,21,null,null,null,null,0,null,null,21,null,null,null,null,0,null,null,21,null,null,null,null,0,null,null,21,null,null,null,null,0,null,null,21,null,null,null,null,0,null,null,21,null,null,null,null,0,null,null,21,null,null,null,null,0,null,null,21,null,null,null,null,0,null,null,21,null,null,null,null,0,null,null,21,null,null,null,null,0,null,null,21,null,null,null,null,0,null,null,21,null,null,null,null,0,null,null,21,null,null,null,null,0,null,null,21,null,null,null,null,0,null,null,21,null,null,null,null,0,null,null,21,null,null,null,null,0,null,null,21,null,null,null,null,0,null,null,21,null,null,null,null,0,null,null,21,null,null,null,null,0,null,null,21,null,null,null,null,0,null,null,21,null,null,null,null,0,null,null,21,null,null,null,null,0,null,null,21,null,null,null,null,0,null,null,21,null,null,null,null,0,null,null,21,null,null,null,null,0,null,null,21,null,null,null,null,0,null,null,21,null,null,null,null,0,null,null,21,null,null,null,null,0,null,null,21,null,null,null,null,0,null,null,21,null,null,null,null,0,null,null,21,null,null,null,null,0,null,null,21,null,null,null,null,0,null,null,21,null,null,null,null,0,null,null,21,null,null,null,null,0,null,null,21,null,null,null,null,0,null,null,21,null,null,null,null,0,null,null,21,null,null,null,null,0,null,null,21,null,null,null,null,0,null,null,21,null,null,null,null,0,null,null,21,null,null,null,null,0,null,null,21,null,null,null,null,0,null,null,21,null,null,null,null,0,null,null,21,null,null,null,null,0,null,null,21,null,null,null,null,0,null,null,21,null,null,null,null,0,null,null,21,null,null,null,null,0,null,null,21,null,null,null,null,0,null,null,21,null,null,null,null,0,null,null,21,null,null,null,null,0,null,null,21,null,null,null,null,0,null,null,21,null,null,null,null,0,null,null,21,null,null,null,null,0,null,null,21,null,null,null,null,0,null,null,21,null,null,null,null,0,null,null,21,null,null,null,null,0,null,null,21,null,null,null,null,0,null,null,21,null,null,null,null,0,null,null,21,null,null,null,null,0,null,null,21,null,null,null,null,0,null,null,21,null,null,null,null,0,null,null,21,null,null,null,null,0,null,null,21,null,null,null,null,0,null,null,21,null,null,null,null,0,null,null,21,null,null,null,null,0,null,null,21,null,null,null,null,0,null,null,21,null,null,null,null,0,null,null,21,null,null,null,null,0,null,null,21,null,null,null,null,0,null,null,21,null,null,null,null,0,null,null,21,null,null,null,null,0,null,null,21,null,null,null,null,0,null,null,21,null,null,null,null,0,null,null,21,null,null,null,null,0,null,null,21,null,null,null,null,0,null,null,21,null,null,null,null,0,null,null,21,null,null,null,null,0,null,null,21,null,null,null,null,0,null,null,21,null,null,null,null,0,null,null,21,null,null,null,null,0,null,null,21,null,null,null,null,0,null,null,21,null,null,null,null,0,null,null,21,null,null,null,null,0,null,null,21,null,null,null,null,0,null,null,21,null,null,null,null,0,null,null,21,null,null,null,null,0,null,null,21,null,null,null,null,0,null,null,21,null,null,null,null,0,null,null,21,null,null,null,null,0,null,null,21,null,null,null,null,0,null,null,21,null,null,null,null,0,null,null,21,null,null,null,null,0,null,null,21,null,null,null,null,0,null,null,21,null,null,null,null,0,null,null,21,null,null,null,null,0,null,null,21,null,null,null,null,0,null,null,21,null,null,null,null,0,null,null,21,null,null,null,null,0,null,null,21,null,null,null,null,0,null,null,21,null,null,null,null,0,null,null,21,null,null,null,null,0,null,null,21,null,null,null,null,0,null,null,21,null,null,null,null,0,null,null,21,null,null,null,null,0,null,null,21,null,null,null,null,0,null,null,21,null,null,null,null,0,null,null,21,null,null,null,null,0,null,null,21,null,null,null,null,0,null,null,21,null,null,null,null,0,null,null,21,null,null,null,null,0,null,null,21,null,null,null,null,0,null,null,21,null,null,null,null,0,null,null,21,null,null,null,null,0,null,null,21,null,null,null,null,0,null,null,21,null,null,null,null,0,null,null,21,null,null,null,null,0,null,null,21,null,null,null,null,0,null,null,21,null,null,null,null,0,null,null,21,null,null,null,null,0,null,null,21,null,null,null,null,0,null,null,21,null,null,null,null,0,null,null,21,null,null,null,null,0,null,null,21,null,null,null,null,0,null,null,21,null,null,null,null,0,null,null,21,null,null,null,null,0,null,null,21,null,null,null,null,0,null,null,21,null,null,null,null,0,null,null,21,null,null,null,null,0,null,null,21,null,null,null,null,0,null,null,21,null,null,null,null,0,null,null,21,null,null,null,null,0,null,null,21,null,null,null,null,0,null,null,21,null,null,null,null,0,null,null,21,null,null,null,null,0,null,null,21,null,null,null,null,0,null,null,21,null,null,null,null,0,null,null,21,null,null,null,null,0,null,null,21,null,null,null,null,0,null,null,21,null,null,null,null,0,null,null,21,null,null,null,null,0,null,null,21,null,null,null,null,0,null,null,21,null,null,null,null,0,null,null,21,null,null,null,null,0,null,null,21,null,null,null,null,0,null,null,21,null,null,null,null,0,null,null,21,null,null,null,null,0,null,null,21,null,null,null,null,0,null,null,21,null,null,null,null,0,null,null,21,null,null,null,null,0,null,null,21,null,null,null,null,0,null,null,21,null,null,null,null,0,null,null,21,null,null,null,null,0,null,null,21,null,null,null,null,0,null,null,21,null,null,null,null,0,null,null,21,null,null,null,null,0,null,null,21,null,null,null,null,0,null,null,21,null,null,null,null,0,null,null,21,null,null,null,null,0,null,null,21,null,null,null,null,0,null,null,21,null,null,null,null,0,null,null,21,null,null,null,null,0,null,null,21,null,null,null,null,0,null,null,21,null,null,null,null,0,null,null,21,null,null,null,null,0,null,null,21,null,null,null,null,0,null,null,21,null,null,null,null,0,null,null,21,null,null,null,null,0,null,null,21,null,null,null,null,0,null,null,21,null,null,null,null,0,null,null,21,null,null,null,null,0,null,null,21,null,null,null,null,0,null,null,21,null,null,null,null,0,null,null,21,null,null,null,null,0,null,null,21,null,null,null,null,0,null,null,21,null,null,null,null,0,null,null,21,null,null,null,null,0,null,null,21,null,null,null,null,0,null,null,21,null,null,null,null,0,null,null,21,null,null,null,null,0,null,null,21,null,null,null,null,0,null,null,21,null,null,null,null,0,null,null,21,null,null,null,null,0,null,null,21,null,null,null,null,0,null,null,21,null,null,null,null,0,null,null,21,null,null,null,null,0,null,null,21,null,null,null,null,0,null,null,21,null,null,null,null,0,null,null,21,null,null,null,null,0,null,null,21,null,null,null,null,0,null,null,21,null,null,null,null,0,null,null,21,null,null,null,null,0,null,null,21,null,null,null,null,0,null,null,21,null,null,null,null,0,null,null,21,null,null,null,null,0,null,null,21,null,null,null,null,0,null,null,21,null,null,null,null,0,null,null,21,null,null,null,null,0,null,null,21,null,null,null,null,0,null,null,21,null,null,null,null,0,null,null,21,null,null,null,null,0,null,null,21,null,null,null,null,0,null,null,21,null,null,null,null,0,null,null,21,null,null,null,null,0,null,null,21,null,null,null,null,0,null,null,21,null,null,null,null,0,null,null,21,null,null,null,null,0,null,null,21,null,null,null,null,0,null,null,21,null,null,null,null,0,null,null,21,null,null,null,null,0,null,null,21,null,null,null,null,0,null,null,21,null,null,null,null,0,null,null,21,null,null,null,null,0,null,null,21,null,null,null,null,0,null,null,21,null,null,null,null,0,null,null,21,null,null,null,null,0,null,null,21,null,null,null,null,0,null,null,21,null,null,null,null,0,null,null,21,null,null,null,null,0,null,null,21,null,null,null,null,0,null,null,21,null,null,null,null,0,null,null,21,null,null,null,null,0,null,null,21,null,null,null,null,0,null,null,21,null,null,null,null,0,null,null,21,null,null,null,null,0,null,null,21,null,null,null,null,0,null,null,21,null,null,null,null,0,null,null,21,null,null,null,null,0,null,null,21,null,null,null,null,0,null,null,21,null,null,null,null,0,null,null,21,null,null,null,null,0,null,null,21,null,null,null,null,0,null,null,21,null,null,null,null,0,null,null,21,null,null,null,null,0,null,null,21,null,null,null,null,0,null,null,21,null,null,null,null,0,null,null,21,null,null,null,null,0,null,null,21,null,null,null,null,0,null,null,21,null,null,null,null,0,null,null,21,null,null,null,null,0,null,null,21,null,null,null,null,0,null,null,21,null,null,null,null,0,null,null,21,null,null,null,null,0,null,null,21,null,null,null,null,0,null,null,21,null,null,null,null,0,null,null,21,null,null,null,null,0,null,null,21,null,null,null,null,0,null,null,21,null,null,null,null,0,null,null,21,null,null,null,null,0,null,null,21,null,null,null,null,0,null,null,21,null,null,null,null,0,null,null,21,null,null,null,null,0,null,null,21,null,null,null,null,0,null,null,21,null,null,null,null,0,null,null,21,null,null,null,null,0,null,null,21,null,null,null,null,0,null,null,21,null,null,null,null,0,null,null,21,null,null,null,null,0,null,null,21,null,null,null,null,0,null,null,21,null,null,null,null,0,null,null,21,null,null,null,null,0,null,null,21,null,null,null,null,0,null,null,21,null,null,null,null,0,null,null,21,null,null,null,null,0,null,null,21,null,null,null,null,0,null,null,21,null,null,null,null,0,null,null,21,null,null,null,null,0,null,null,21,null,null,null,null,0,null,null,21,null,null,null,null,0,null,null,21,null,null,null,null,0,null,null,21,null,null,null,null,0,null,null,21,null,null,null,null,0,null,null,21,null,null,null,null,0,null,null,21,null,null,null,null,0,null,null,21,null,null,null,null,0,null,null,21,null,null,null,null,0,null,null,21,null,null,null,null,0,null,null,21,null,null,null,null,0,null,null,21,null,null,null,null,0,null,null,21,null,null,null,null,0,null,null,21,null,null,null,null,0,null,null,21,null,null,null,null,0,null,null,21,null,null,null,null,0,null,null,21,null,null,null,null,0,null,null,21,null,null,null,null,0,null,null,21,null,null,null,null,0,null,null,21,null,null,null,null,0,null,null,21,null,null,null,null,0,null,null,21,null,null,null,null,0,null,null,21,null,null,null,null,0,null,null,21,null,null,null,null,0,null,null,21,null,null,null,null,0,null,null,21,null,null,null,null,0,null,null,21,null,null,null,null,0,null,null,21,null,null,null,null,0,null,null,21,null,null,null,null,0,null,null,21,null,null,null,null,0,null,null,21,null,null,null,null,0,null,null,21,null,null,null,null,0,null,null,21,null,null,null,null,0,null,null,21,null,null,null,null,0,null,null,21,null,null,null,null,0,null,null,21,null,null,null,null,0,null,null,21,null,null,null,null,0,null,null,21,null,null,null,null,0,null,null,21,null,null,null,null,0,null,null,21,null,null,null,null,0,null,null,21,null,null,null,null,0,null,null,21,null,null,null,null,0,null,null,21,null,null,null,null,0,null,null,21,null,null,null,null,0,null,null,21,null,null,null,null,0,null,null,21,null,null,null,null,0,null,null,21,null,null,null,null,0,null,null,21,null,null,null,null,0,null,null,21,null,null,null,null,0,null,null,21,null,null,null,null,0,null,null,21,null,null,null,null,0,null,null,21,null,null,null,null,0,null,null,21,null,null,null,null,0,null,null,21,null,null,null,null,0,null,null,21,null,null,null,null,0,null,null,21,null,null,null,null,0,null,null,21,null,null,null,null,0,null,null,21,null,null,null,null,0,null,null,21,null,null,null,null,0,null,null,21,null,null,null,null,0,null,null,21,null,null,null,null,0,null,null,21,null,null,null,null,0,null,null,21,null,null,null,null,0,null,null,21,null,null,null,null,0,null,null,21,null,null,null,null,0,null,null,21,null,null,null,null,0,null,null,21,null,null,null,null,0,null,null,21,null,null,null,null,0,null,null,21,null,null,null,null,0,null,null,21,null,null,null,null,0,null,null,21,null,null,null,null,0,null,null,21,null,null,null,null,0,null,null,21,null,null,null,null,0,null,null,21,null,null,null,null,0,null,null,21,null,null,null,null,0,null,null,21,null,null,null,null,0,null,null,21,null,null,null,null,0,null,null,21,null,null,null,null,0,null,null,21,null,null,null,null,0,null,null,21,null,null,null,null,0,null,null,21,null,null,null,null,0,null,null,21,null,null,null,null,0,null,null,21,null,null,null,null,0,null,null,21,null,null,null,null,0,null,null,21,null,null,null,null,0,null,null,21,null,null,null,null,0,null,null,21,null,null,null,null,0,null,null,21,null,null,null,null,0,null,null,21,null,null,null,null,0,null,null,21,null,null,null,null,0,null,null,21,null,null,null,null,0,null,null,21,null,null,null,null,0,null,null,21,null,null,null,null,0,null,null,21,null,null,null,null,0,null,null,21,null,null,null,null,0,null,null,21,null,null,null,null,0,null,null,21,null,null,null,null,0,null,null,21,null,null,null,null,0,null,null,21,null,null,null,null,0,null,null,21,null,null,null,null,0,null,null,21,null,null,null,null,0,null,null,21,null,null,null,null,0,null,null,21,null,null,null,null,0,null,null,21,null,null,null,null,0,null,null,21,null,null,null,null,0,null,null,21,null,null,null,null,0,null,null,21,null,null,null,null,0,null,null,21,null,null,null,null,0,null,null,21,null,null,null,null,0,null,null,21,null,null,null,null,0,null,null,21,null,null,null,null,0,null,null,21,null,null,null,null,0,null,null,21,null,null,null,null,0,null,null,21,null,null,null,null,0,null,null,21,null,null,null,null,0,null,null,21,null,null,null,null,0,null,null,21,null,null,null,null,0,null,null,21,null,null,null,null,0,null,null,21,null,null,null,null,0,null,null,21,null,null,null,null,0,null,null,21,null,null,null,null,0,null,null,21,null,null,null,null,0,null,null,21,null,null,null,null,0,null,null,21,null,null,null,null,0,null,null,21,null,null,null,null,0,null,null,21,null,null,null,null,0,null,null,21,null,null,null,null,0,null,null,21,null,null,null,null,0,null,null,21,null,null,null,null,0,null,null,21,null,null,null,null,0,null,null,21,null,null,null,null,0,null,null,21,null,null,null,null,0,null,null,21,null,null,null,null,0,null,null,21,null,null,null,null,0,null,null,21,null,null,null,null,0,null,null,21,null,null,null,null,0,null,null,21,null,null,null,null,0,null,null,21,null,null,null,null,0,null,null,21,null,null,null,null,0,null,null,21,null,null,null,null,0,null,null,21,null,null,null,null,0,null,null,21,null,null,null,null,0,null,null,21,null,null,null,null,0,null,null,21,null,null,null,null,0,null,null,21,null,null,null,null,0,null,null,21,null,null,null,null,0,null,null,21,null,null,null,null,0,null,null,21,null,null,null,null,0,null,null,21,null,null,null,null,0,null,null,21,null,null,null,null,0,null,null,21,null,null,null,null,0,null,null,21,null,null,null,null,0,null,null,21,null,null,null,null,0,null,null,21,null,null,null,null,0,null,null,21,null,null,null,null,0,null,null,21,null,null,null,null,0,null,null,21,null,null,null,null,0,null,null,21,null,null,null,null,0,null,null,21,null,null,null,null,0,null,null,21,null,null,null,null,0,null,null,21,null,null,null,null,0,null,null,21,null,null,null,null,0,null,null,21,null,null,null,null,0,null,null,21,null,null,null,null,0,null,null,21,null,null,null,null,0,null,null,21,null,null,null,null,0,null,null,21,null,null,null,null,0,null,null,21,null,null,null,null,0,null,null,21,null,null,null,null,0,null,null,21,null,null,null,null,0,null,null,21,null,null,null,null,0,null,null,21,null,null,null,null,0,null,null,21,null,null,null,null,0,null,null,21,null,null,null,null,0,null,null,21,null,null,null,null,0,null,null,21,null,null,null,null,0,null,null,21,null,null,null,null,0,null,null,21,null,null,null,null,0,null,null,21,null,null,null,null,0,null,null,21,null,null,null,null,0,null,null,21,null,null,null,null,0,null,null,21,null,null,null,null,0,null,null,21,null,null,null,null,0,null,null,21,null,null,null,null,0,null,null,21,null,null,null,null,0,null,null,21,null,null,null,null,0,null,null,21,null,null,null,null,0,null,null,21,null,null,null,null,0,null,null,21,null,null,null,null,0,null,null,21,null,null,null,null,0,null,null,21,null,null,null,null,0,null,null,21,null,null,null,null,0,null,null,21,null,null,null,null,0,null,null,21,null,null,null,null,0,null,null,21,null,null,null,null,0,null,null,21,null,null,null,null,0,null,null,21,null,null,null,null,0,null,null,21,null,null,null,null,0,null,null,21,null,null,null,null,0,null,null,21,null,null,null,null,0,null,null,21,null,null,null,null,0,null,null,21,null,null,null,null,0,null,null,21,null,null,null,null,0,null,null,21,null,null,null,null,0,null,null,21,null,null,null,null,0,null,null,21,null,null,null,null,0,null,null,21,null,null,null,null,0,null,null,21,null,null,null,null,0,null,null,21,null,null,null,null,0,null,null,21,null,null,null,null,0,null,null,21,null,null,null,null,0,null,null,21,null,null,null,null,0,null,null,21,null,null,null,null,0,null,null,21,null,null,null,null,0,null,null,21,null,null,null,null,0,null,null,21,null,null,null,null,0,null,null,21,null,null,null,null,0,null,null,21,null,null,null,null,0,null,null,21,null,null,null,null,0,null,null,21,null,null,null,null,0,null,null,21,null,null,null,null,0,null,null,21,null,null,null,null,0,null,null,21,null,null,null,null,0,null,null,21,null,null,null,null,0,null,null,21,null,null,null,null,0,null,null,21,null,null,null,null,0,null,null,21,null,null,null,null,0,null,null,21,null,null,null,null,0,null,null,21,null,null,null,null,0,null,null,21,null,null,null,null,0,null,null,21,null,null,null,null,0,null,null,21,null,null,null,null,0,null,null,21,null,null,null,null,0,null,null,21,null,null,null,null,0,null,null,21,null,null,null,null,0,null,null,21,null,null,null,null,0,null,null,21,null,null,null,null,0,null,null,21,null,null,null,null,0,null,null,21,null,null,null,null,0,null,null,21,null,null,null,null,0,null,null,21,null,null,null,null,0,null,null,21,null,null,null,null,0,null,null,21,null,null,null,null,0,null,null,21,null,null,null,null,0,null,null,21,null,null,null,null,0,null,null,21,null,null,null,null,0,null,null,21,null,null,null,null,0,null,null,21,null,null,null,null,0,null,null,21,null,null,null,null,0,null,null,21,null,null,null,null,0,null,null,21,null,null,null,null,0,null,null,21,null,null,null,null,0,null,null,21,null,null,null,null,0,null,null,21,null,null,null,null,0,null,null,21,null,null,null,null,0,null,null,21,null,null,null,null,0,null,null,21,null,null,null,null,0,null,null,21,null,null,null,null,0,null,null,21,null,null,null,null,0,null,null,21,null,null,null,null,0,null,null,21,null,null,null,null,0,null,null,21,null,null,null,null,0,null,null,21,null,null,null,null,0,null,null,21,null,null,null,null,0,null,null,21,null,null,null,null,0,null,null,21,null,null,null,null,0,null,null,21,null,null,null,null,0,null,null,21,null,null,null,null,0,null,null,21,null,null,null,null,0,null,null,21,null,null,null,null,0,null,null,21,null,null,null,null,0,null,null,21,null,null,null,null,0,null,null,21,null,null,null,null,0,null,null,21,null,null,null,null,0,null,null,21,null,null,null,null,0,null,null,21,null,null,null,null,0,null,null,21,null,null,null,null,0,null,null,21,null,null,null,null,0,null,null,21,null,null,null,null,0,null,null,21,null,null,null,null,0,null,null,21,null,null,null,null,0,null,null,21,null,null,null,null,0,null,null,21,null,null,null,null,0,null,null,21,null,null,null,null,0,null,null,21,null,null,null,null,0,null,null,21,null,null,null,null,0,null,null,21,null,null,null,null,0,null,null,21,null,null,null,null,0,null,null,21,null,null,null,null,0,null,null,21,null,null,null,null,0,null,null,21,null,null,null,null,0,null,null,21,null,null,null,null,0,null,null,21,null,null,null,null,0,null,null,21,null,null,null,null,0,null,null,21,null,null,null,null,0,null,null,21,null,null,null,null,0,null,null,21,null,null,null,null,0,null,null,21,null,null,null,null,0,null,null,21,null,null,null,null,0,null,null,21,null,null,null,null,0,null,null,21,null,null,null,null,0,null,null,21,null,null,null,null,0,null,null,21,null,null,null,null,0,null,null,21,null,null,null,null,0,null,null,21,null,null,null,null,0,null,null,21,null,null,null,null,0,null,null,21,null,null,null,null,0,null,null,21,null,null,null,null,0,null,null,21,null,null,null,null,0,null,null,21,null,null,null,null,0,null,null,21,null,null,null,null,0,null,null,21,null,null,null,null,0,null,null,21,null,null,null,null,0,null,null,21,null,null,null,null,0,null,null,21,null,null,null,null,0,null,null,21,null,null,null,null,0,null,null,21,null,null,null,null,0,null,null,21,null,null,null,null,0,null,null,21,null,null,null,null,0,null,null,21,null,null,null,null,0,null,null,21,null,null,null,null,0,null,null,21,null,null,null,null,0,null,null,21,null,null,null,null,0,null,null,21,null,null,null,null,0,null,null,21,null,null,null,null,0,null,null,21,null,null,null,null,0,null,null,21,null,null,null,null,0,null,null,21,null,null,null,null,0,null,null,21,null,null,null,null,0,null,null,21,null,null,null,null,0,null,null,21,null,null,null,null,0,null,null,21,null,null,null,null,0,null,null,21,null,null,null,null,0,null,null,21,null,null,null,null,0,null,null,21,null,null,null,null,0,null,null,21,null,null,null,null,0,null,null,21,null,null,null,null,0,null,null,21,null,null,null,null,0,null,null,21,null,null,null,null,0,null,null,21,null,null,null,null,0,null,null,21,null,null,null,null,0,null,null,21,null,null,null,null,0,null,null,21,null,null,null,null,0,null,null,21,null,null,null,null,0,null,null,21,null,null,null,null,0,null,null,21,null,null,null,null,0,null,null,21,null,null,null,null,0,null,null,21,null,null,null,null,0,null,null,21,null,null,null,null,0,null,null,21,null,null,null,null,0,null,null,21,null,null,null,null,0,null,null,21,null,null,null,null,0,null,null,21,null,null,null,null,0,null,null,21,null,null,null,null,0,null,null,21,null,null,null,null,0,null,null,21,null,null,null,null,0,null,null,21,null,null,null,null,0,null,null,21,null,null,null,null,0,null,null,21,null,null,null,null,0,null,null,21,null,null,null,null,0,null,null,21,null,null,null,null,0,null,null,21,null,null,null,null,0,null,null,21,null,null,null,null,0,null,null,21,null,null,null,null,0]
["6.c-","#","Necesidad sectorial o institucional a resolver",null,null,null,"Largo",null,"6.b-","#","Macroproyecto Plan de Desarrollo Institucional (PDI)",null,null,null,"Largo",null,"6.b-","#","Macroproyecto Plan de Desarrollo Institucional (PDI)",null,null,null,"Largo",null,"6.b-","#","Macroproyecto Plan de Desarrollo Institucional (PDI)",null,null,null,"Largo",null,"6.b-","#","Macroproyecto Plan de Desarrollo Institucional (PDI)",null,null,null,"Largo",null,"6.b-","#","Macroproyecto Plan de Desarrollo Institucional (PDI)",null,null,null,"Largo",null,"6.b-","#","Macroproyecto Plan de Desarrollo Institucional (PDI)",null,null,null,"Largo",null,"6.b-","#","Macroproyecto Plan de Desarrollo Institucional (PDI)",null,null,null,"Largo",null,"6.b-","#","Macroproyecto Plan de Desarrollo Institucional (PDI)",null,null,null,"Largo",null,"6.b-","#","Macroproyecto Plan de Desarrollo Institucional (PDI)",null,null,null,"Largo",null,"6.b-","#","Macroproyecto Plan de Desarrollo Institucional (PDI)",null,null,null,"Largo",null,"6.b-","#","Macroproyecto Plan de Desarrollo Institucional (PDI)",null,null,null,"Largo",null,"6.b-","#","Macroproyecto Plan de Desarrollo Institucional (PDI)",null,null,null,"Largo",null,"6.b-","#","Macroproyecto Plan de Desarrollo Institucional (PDI)",null,null,null,"Largo",null,"6.b-","#","Macroproyecto Plan de Desarrollo Institucional (PDI)",null,null,null,"Largo",null,"6.b-","#","Macroproyecto Plan de Desarrollo Institucional (PDI)",null,null,null,"Largo",null,"6.b-","#","Macroproyecto Plan de Desarrollo Institucional (PDI)",null,null,null,"Largo",null,"6.b-","#","Macroproyecto Plan de Desarrollo Institucional (PDI)",null,null,null,"Largo",null,"6.b-","#","Macroproyecto Plan de Desarrollo Institucional (PDI)",null,null,null,"Largo",null,"6.b-","#","Macroproyecto Plan de Desarrollo Institucional (PDI)",null,null,null,"Largo",null,"6.b-","#","Macroproyecto Plan de Desarrollo Institucional (PDI)",null,null,null,"Largo",null,"6.b-","#","Macroproyecto Plan de Desarrollo Institucional (PDI)",null,null,null,"Largo",null,"6.b-","#","Macroproyecto Plan de Desarrollo Institucional (PDI)",null,null,null,"Largo",null,"6.b-","#","Macroproyecto Plan de Desarrollo Institucional (PDI)",null,null,null,"Largo",null,"6.b-","#","Macroproyecto Plan de Desarrollo Institucional (PDI)",null,null,null,"Largo",null,"6.b-","#","Macroproyecto Plan de Desarrollo Institucional (PDI)",null,null,null,"Largo",null,"6.b-","#","Macroproyecto Plan de Desarrollo Institucional (PDI)",null,null,null,"Largo",null,"6.b-","#","Macroproyecto Plan de Desarrollo Institucional (PDI)",null,null,null,"Largo",null,"6.b-","#","Macroproyecto Plan de Desarrollo Institucional (PDI)",null,null,null,"Largo",null,"6.b-","#","Macroproyecto Plan de Desarrollo Institucional (PDI)",null,null,null,"Largo",null,"6.b-","#","Macroproyecto Plan de Desarrollo Institucional (PDI)",null,null,null,"Largo",null,"6.b-","#","Macroproyecto Plan de Desarrollo Institucional (PDI)",null,null,null,"Largo",null,"6.b-","#","Macroproyecto Plan de Desarrollo Institucional (PDI)",null,null,null,"Largo",null,"6.b-","#","Macroproyecto Plan de Desarrollo Institucional (PDI)",null,null,null,"Largo",null,"6.b-","#","Macroproyecto Plan de Desarrollo Institucional (PDI)",null,null,null,"Largo",null,"6.b-","#","Macroproyecto Plan de Desarrollo Institucional (PDI)",null,null,null,"Largo",null,"6.b-","#","Macroproyecto Plan de Desarrollo Institucional (PDI)",null,null,null,"Largo",null,"6.b-","#","Macroproyecto Plan de Desarrollo Institucional (PDI)",null,null,null,"Largo",null,"6.b-","#","Macroproyecto Plan de Desarrollo Institucional (PDI)",null,null,null,"Largo",null,"6.b-","#","Macroproyecto Plan de Desarrollo Institucional (PDI)",null,null,null,"Largo",null,"6.b-","#","Macroproyecto Plan de Desarrollo Institucional (PDI)",null,null,null,"Largo",null,"6.b-","#","Macroproyecto Plan de Desarrollo Institucional (PDI)",null,null,null,"Largo",null,"6.b-","#","Macroproyecto Plan de Desarrollo Institucional (PDI)",null,null,null,"Largo",null,"6.b-","#","Macroproyecto Plan de Desarrollo Institucional (PDI)",null,null,null,"Largo",null,"6.b-","#","Macroproyecto Plan de Desarrollo Institucional (PDI)",null,null,null,"Largo",null,"6.b-","#","Macroproyecto Plan de Desarrollo Institucional (PDI)",null,null,null,"Largo",null,"6.b-","#","Macroproyecto Plan de Desarrollo Institucional (PDI)",null,null,null,"Largo",null,"6.b-","#","Macroproyecto Plan de Desarrollo Institucional (PDI)",null,null,null,"Largo",null,"6.b-","#","Macroproyecto Plan de Desarrollo Institucional (PDI)",null,null,null,"Largo",null,"6.b-","#","Macroproyecto Plan de Desarrollo Institucional (PDI)",null,null,null,"Largo",null,"6.b-","#","Macroproyecto Plan de Desarrollo Institucional (PDI)",null,null,null,"Largo",null,"6.b-","#","Macroproyecto Plan de Desarrollo Institucional (PDI)",null,null,null,"Largo",null,"6.b-","#","Macroproyecto Plan de Desarrollo Institucional (PDI)",null,null,null,"Largo",null,"6.b-","#","Macroproyecto Plan de Desarrollo Institucional (PDI)",null,null,null,"Largo",null,"6.b-","#","Macroproyecto Plan de Desarrollo Institucional (PDI)",null,null,null,"Largo",null,"6.b-","#","Macroproyecto Plan de Desarrollo Institucional (PDI)",null,null,null,"Largo",null,"6.b-","#","Macroproyecto Plan de Desarrollo Institucional (PDI)",null,null,null,"Largo",null,"6.b-","#","Macroproyecto Plan de Desarrollo Institucional (PDI)",null,null,null,"Largo",null,"6.b-","#","Macroproyecto Plan de Desarrollo Institucional (PDI)",null,null,null,"Largo",null,"6.b-","#","Macroproyecto Plan de Desarrollo Institucional (PDI)",null,null,null,"Largo",null,"6.b-","#","Macroproyecto Plan de Desarrollo Institucional (PDI)",null,null,null,"Largo",null,"6.b-","#","Macroproyecto Plan de Desarrollo Institucional (PDI)",null,null,null,"Largo",null,"6.b-","#","Macroproyecto Plan de Desarrollo Institucional (PDI)",null,null,null,"Largo",null,"6.b-","#","Macroproyecto Plan de Desarrollo Institucional (PDI)",null,null,null,"Largo",null,"6.b-","#","Macroproyecto Plan de Desarrollo Institucional (PDI)",null,null,null,"Largo",null,"6.b-","#","Macroproyecto Plan de Desarrollo Institucional (PDI)",null,null,null,"Largo",null,"6.b-","#","Macroproyecto Plan de Desarrollo Institucional (PDI)",null,null,null,"Largo",null,"6.b-","#","Macroproyecto Plan de Desarrollo Institucional (PDI)",null,null,null,"Largo",null,"6.b-","#","Macroproyecto Plan de Desarrollo Institucional (PDI)",null,null,null,"Largo",null,"6.b-","#","Macroproyecto Plan de Desarrollo Institucional (PDI)",null,null,null,"Largo",null,"6.b-","#","Macroproyecto Plan de Desarrollo Institucional (PDI)",null,null,null,"Largo",null,"6.b-","#","Macroproyecto Plan de Desarrollo Institucional (PDI)",null,null,null,"Largo",null,"6.b-","#","Macroproyecto Plan de Desarrollo Institucional (PDI)",null,null,null,"Largo",null,"6.b-","#","Macroproyecto Plan de Desarrollo Institucional (PDI)",null,null,null,"Largo",null,"6.b-","#","Macroproyecto Plan de Desarrollo Institucional (PDI)",null,null,null,"Largo",null,"6.b-","#","Macroproyecto Plan de Desarrollo Institucional (PDI)",null,null,null,"Largo",null,"6.b-","#","Macroproyecto Plan de Desarrollo Institucional (PDI)",null,null,null,"Largo",null,"6.b-","#","Macroproyecto Plan de Desarrollo Institucional (PDI)",null,null,null,"Largo",null,"6.b-","#","Macroproyecto Plan de Desarrollo Institucional (PDI)",null,null,null,"Largo",null,"6.b-","#","Macroproyecto Plan de Desarrollo Institucional (PDI)",null,null,null,"Largo",null,"6.b-","#","Macroproyecto Plan de Desarrollo Institucional (PDI)",null,null,null,"Largo",null,"6.b-","#","Macroproyecto Plan de Desarrollo Institucional (PDI)",null,null,null,"Largo",null,"6.b-","#","Macroproyecto Plan de Desarrollo Institucional (PDI)",null,null,null,"Largo",null,"6.b-","#","Macroproyecto Plan de Desarrollo Institucional (PDI)",null,null,null,"Largo",null,"6.b-","#","Macroproyecto Plan de Desarrollo Institucional (PDI)",null,null,null,"Largo",null,"6.b-","#","Macroproyecto Plan de Desarrollo Institucional (PDI)",null,null,null,"Largo",null,"6.b-","#","Macroproyecto Plan de Desarrollo Institucional (PDI)",null,null,null,"Largo",null,"6.b-","#","Macroproyecto Plan de Desarrollo Institucional (PDI)",null,null,null,"Largo",null,"6.b-","#","Macroproyecto Plan de Desarrollo Institucional (PDI)",null,null,null,"Largo",null,"6.b-","#","Macroproyecto Plan de Desarrollo Institucional (PDI)",null,null,null,"Largo",null,"6.b-","#","Macroproyecto Plan de Desarrollo Institucional (PDI)",null,null,null,"Largo",null,"6.b-","#","Macroproyecto Plan de Desarrollo Institucional (PDI)",null,null,null,"Largo",null,"6.b-","#","Macroproyecto Plan de Desarrollo Institucional (PDI)",null,null,null,"Largo",null,"6.b-","#","Macroproyecto Plan de Desarrollo Institucional (PDI)",null,null,null,"Largo",null,"6.b-","#","Macroproyecto Plan de Desarrollo Institucional (PDI)",null,null,null,"Largo",null,"6.b-","#","Macroproyecto Plan de Desarrollo Institucional (PDI)",null,null,null,"Largo",null,"6.b-","#","Macroproyecto Plan de Desarrollo Institucional (PDI)",null,null,null,"Largo",null,"6.b-","#","Macroproyecto Plan de Desarrollo Institucional (PDI)",null,null,null,"Largo",null,"6.b-","#","Macroproyecto Plan de Desarrollo Institucional (PDI)",null,null,null,"Largo",null,"6.b-","#","Macroproyecto Plan de Desarrollo Institucional (PDI)",null,null,null,"Largo",null,"6.b-","#","Macroproyecto Plan de Desarrollo Institucional (PDI)",null,null,null,"Largo",null,"6.b-","#","Macroproyecto Plan de Desarrollo Institucional (PDI)",null,null,null,"Largo",null,"6.b-","#","Macroproyecto Plan de Desarrollo Institucional (PDI)",null,null,null,"Largo",null,"6.b-","#","Macroproyecto Plan de Desarrollo Institucional (PDI)",null,null,null,"Largo",null,"6.b-","#","Macroproyecto Plan de Desarrollo Institucional (PDI)",null,null,null,"Largo",null,"6.b-","#","Macroproyecto Plan de Desarrollo Institucional (PDI)",null,null,null,"Largo",null,"6.b-","#","Macroproyecto Plan de Desarrollo Institucional (PDI)",null,null,null,"Largo",null,"6.b-","#","Macroproyecto Plan de Desarrollo Institucional (PDI)",null,null,null,"Largo",null,"6.b-","#","Macroproyecto Plan de Desarrollo Institucional (PDI)",null,null,null,"Largo",null,"6.b-","#","Macroproyecto Plan de Desarrollo Institucional (PDI)",null,null,null,"Largo",null,"6.b-","#","Macroproyecto Plan de Desarrollo Institucional (PDI)",null,null,null,"Largo",null,"6.b-","#","Macroproyecto Plan de Desarrollo Institucional (PDI)",null,null,null,"Largo",null,"6.b-","#","Macroproyecto Plan de Desarrollo Institucional (PDI)",null,null,null,"Largo",null,"6.b-","#","Macroproyecto Plan de Desarrollo Institucional (PDI)",null,null,null,"Largo",null,"6.b-","#","Macroproyecto Plan de Desarrollo Institucional (PDI)",null,null,null,"Largo",null,"6.b-","#","Macroproyecto Plan de Desarrollo Institucional (PDI)",null,null,null,"Largo",null,"6.b-","#","Macroproyecto Plan de Desarrollo Institucional (PDI)",null,null,null,"Largo",null,"6.b-","#","Macroproyecto Plan de Desarrollo Institucional (PDI)",null,null,null,"Largo",null,"6.b-","#","Macroproyecto Plan de Desarrollo Institucional (PDI)",null,null,null,"Largo",null,"6.b-","#","Macroproyecto Plan de Desarrollo Institucional (PDI)",null,null,null,"Largo",null,"6.b-","#","Macroproyecto Plan de Desarrollo Institucional (PDI)",null,null,null,"Largo",null,"6.b-","#","Macroproyecto Plan de Desarrollo Institucional (PDI)",null,null,null,"Largo",null,"6.b-","#","Macroproyecto Plan de Desarrollo Institucional (PDI)",null,null,null,"Largo",null,"6.b-","#","Macroproyecto Plan de Desarrollo Institucional (PDI)",null,null,null,"Largo",null,"6.b-","#","Macroproyecto Plan de Desarrollo Institucional (PDI)",null,null,null,"Largo",null,"6.b-","#","Macroproyecto Plan de Desarrollo Institucional (PDI)",null,null,null,"Largo",null,"6.b-","#","Macroproyecto Plan de Desarrollo Institucional (PDI)",null,null,null,"Largo",null,"6.b-","#","Macroproyecto Plan de Desarrollo Institucional (PDI)",null,null,null,"Largo",null,"6.b-","#","Macroproyecto Plan de Desarrollo Institucional (PDI)",null,null,null,"Largo",null,"6.b-","#","Macroproyecto Plan de Desarrollo Institucional (PDI)",null,null,null,"Largo",null,"6.b-","#","Macroproyecto Plan de Desarrollo Institucional (PDI)",null,null,null,"Largo",null,"6.b-","#","Macroproyecto Plan de Desarrollo Institucional (PDI)",null,null,null,"Largo",null,"6.b-","#","Macroproyecto Plan de Desarrollo Institucional (PDI)",null,null,null,"Largo",null,"6.b-","#","Macroproyecto Plan de Desarrollo Institucional (PDI)",null,null,null,"Largo",null,"6.b-","#","Macroproyecto Plan de Desarrollo Institucional (PDI)",null,null,null,"Largo",null,"6.b-","#","Macroproyecto Plan de Desarrollo Institucional (PDI)",null,null,null,"Largo",null,"6.b-","#","Macroproyecto Plan de Desarrollo Institucional (PDI)",null,null,null,"Largo",null,"6.b-","#","Macroproyecto Plan de Desarrollo Institucional (PDI)",null,null,null,"Largo",null,"6.b-","#","Macroproyecto Plan de Desarrollo Institucional (PDI)",null,null,null,"Largo",null,"6.b-","#","Macroproyecto Plan de Desarrollo Institucional (PDI)",null,null,null,"Largo",null,"6.b-","#","Macroproyecto Plan de Desarrollo Institucional (PDI)",null,null,null,"Largo",null,"6.b-","#","Macroproyecto Plan de Desarrollo Institucional (PDI)",null,null,null,"Largo",null,"6.b-","#","Macroproyecto Plan de Desarrollo Institucional (PDI)",null,null,null,"Largo",null,"6.b-","#","Macroproyecto Plan de Desarrollo Institucional (PDI)",null,null,null,"Largo",null,"6.b-","#","Macroproyecto Plan de Desarrollo Institucional (PDI)",null,null,null,"Largo",null,"6.b-","#","Macroproyecto Plan de Desarrollo Institucional (PDI)",null,null,null,"Largo",null,"6.b-","#","Macroproyecto Plan de Desarrollo Institucional (PDI)",null,null,null,"Largo",null,"6.b-","#","Macroproyecto Plan de Desarrollo Institucional (PDI)",null,null,null,"Largo",null,"6.b-","#","Macroproyecto Plan de Desarrollo Institucional (PDI)",null,null,null,"Largo",null,"6.b-","#","Macroproyecto Plan de Desarrollo Institucional (PDI)",null,null,null,"Largo",null,"6.b-","#","Macroproyecto Plan de Desarrollo Institucional (PDI)",null,null,null,"Largo",null,"6.b-","#","Macroproyecto Plan de Desarrollo Institucional (PDI)",null,null,null,"Largo",null,"6.b-","#","Macroproyecto Plan de Desarrollo Institucional (PDI)",null,null,null,"Largo",null,"6.b-","#","Macroproyecto Plan de Desarrollo Institucional (PDI)",null,null,null,"Largo",null,"6.b-","#","Macroproyecto Plan de Desarrollo Institucional (PDI)",null,null,null,"Largo",null,"6.b-","#","Macroproyecto Plan de Desarrollo Institucional (PDI)",null,null,null,"Largo",null,"6.b-","#","Macroproyecto Plan de Desarrollo Institucional (PDI)",null,null,null,"Largo",null,"6.b-","#","Macroproyecto Plan de Desarrollo Institucional (PDI)",null,null,null,"Largo",null,"6.b-","#","Macroproyecto Plan de Desarrollo Institucional (PDI)",null,null,null,"Largo",null,"6.b-","#","Macroproyecto Plan de Desarrollo Institucional (PDI)",null,null,null,"Largo",null,"6.b-","#","Macroproyecto Plan de Desarrollo Institucional (PDI)",null,null,null,"Largo",null,"6.b-","#","Macroproyecto Plan de Desarrollo Institucional (PDI)",null,null,null,"Largo",null,"6.b-","#","Macroproyecto Plan de Desarrollo Institucional (PDI)",null,null,null,"Largo",null,"6.b-","#","Macroproyecto Plan de Desarrollo Institucional (PDI)",null,null,null,"Largo",null,"6.b-","#","Macroproyecto Plan de Desarrollo Institucional (PDI)",null,null,null,"Largo",null,"6.b-","#","Macroproyecto Plan de Desarrollo Institucional (PDI)",null,null,null,"Largo",null,"6.b-","#","Macroproyecto Plan de Desarrollo Institucional (PDI)",null,null,null,"Largo",null,"6.b-","#","Macroproyecto Plan de Desarrollo Institucional (PDI)",null,null,null,"Largo",null,"6.b-","#","Macroproyecto Plan de Desarrollo Institucional (PDI)",null,null,null,"Largo",null,"6.b-","#","Macroproyecto Plan de Desarrollo Institucional (PDI)",null,null,null,"Largo",null,"6.b-","#","Macroproyecto Plan de Desarrollo Institucional (PDI)",null,null,null,"Largo",null,"6.b-","#","Macroproyecto Plan de Desarrollo Institucional (PDI)",null,null,null,"Largo",null,"6.b-","#","Macroproyecto Plan de Desarrollo Institucional (PDI)",null,null,null,"Largo",null,"6.b-","#","Macroproyecto Plan de Desarrollo Institucional (PDI)",null,null,null,"Largo",null,"6.b-","#","Macroproyecto Plan de Desarrollo Institucional (PDI)",null,null,null,"Largo",null,"6.b-","#","Macroproyecto Plan de Desarrollo Institucional (PDI)",null,null,null,"Largo",null,"6.b-","#","Macroproyecto Plan de Desarrollo Institucional (PDI)",null,null,null,"Largo",null,"6.b-","#","Macroproyecto Plan de Desarrollo Institucional (PDI)",null,null,null,"Largo",null,"6.b-","#","Macroproyecto Plan de Desarrollo Institucional (PDI)",null,null,null,"Largo",null,"6.b-","#","Macroproyecto Plan de Desarrollo Institucional (PDI)",null,null,null,"Largo",null,"6.b-","#","Macroproyecto Plan de Desarrollo Institucional (PDI)",null,null,null,"Largo",null,"6.b-","#","Macroproyecto Plan de Desarrollo Institucional (PDI)",null,null,null,"Largo",null,"6.b-","#","Macroproyecto Plan de Desarrollo Institucional (PDI)",null,null,null,"Largo",null,"6.b-","#","Macroproyecto Plan de Desarrollo Institucional (PDI)",null,null,null,"Largo",null,"6.b-","#","Macroproyecto Plan de Desarrollo Institucional (PDI)",null,null,null,"Largo",null,"6.b-","#","Macroproyecto Plan de Desarrollo Institucional (PDI)",null,null,null,"Largo",null,"6.b-","#","Macroproyecto Plan de Desarrollo Institucional (PDI)",null,null,null,"Largo",null,"6.b-","#","Macroproyecto Plan de Desarrollo Institucional (PDI)",null,null,null,"Largo",null,"6.b-","#","Macroproyecto Plan de Desarrollo Institucional (PDI)",null,null,null,"Largo",null,"6.b-","#","Macroproyecto Plan de Desarrollo Institucional (PDI)",null,null,null,"Largo",null,"6.b-","#","Macroproyecto Plan de Desarrollo Institucional (PDI)",null,null,null,"Largo",null,"6.b-","#","Macroproyecto Plan de Desarrollo Institucional (PDI)",null,null,null,"Largo",null,"6.b-","#","Macroproyecto Plan de Desarrollo Institucional (PDI)",null,null,null,"Largo",null,"6.b-","#","Macroproyecto Plan de Desarrollo Institucional (PDI)",null,null,null,"Largo",null,"6.b-","#","Macroproyecto Plan de Desarrollo Institucional (PDI)",null,null,null,"Largo",null,"6.b-","#","Macroproyecto Plan de Desarrollo Institucional (PDI)",null,null,null,"Largo",null,"6.b-","#","Macroproyecto Plan de Desarrollo Institucional (PDI)",null,null,null,"Largo",null,"6.b-","#","Macroproyecto Plan de Desarrollo Institucional (PDI)",null,null,null,"Largo",null,"6.b-","#","Macroproyecto Plan de Desarrollo Institucional (PDI)",null,null,null,"Largo",null,"6.b-","#","Macroproyecto Plan de Desarrollo Institucional (PDI)",null,null,null,"Largo",null,"6.b-","#","Macroproyecto Plan de Desarrollo Institucional (PDI)",null,null,null,"Largo",null,"6.b-","#","Macroproyecto Plan de Desarrollo Institucional (PDI)",null,null,null,"Largo",null,"6.b-","#","Macroproyecto Plan de Desarrollo Institucional (PDI)",null,null,null,"Largo",null,"6.b-","#","Macroproyecto Plan de Desarrollo Institucional (PDI)",null,null,null,"Largo",null,"6.b-","#","Macroproyecto Plan de Desarrollo Institucional (PDI)",null,null,null,"Largo",null,"6.b-","#","Macroproyecto Plan de Desarrollo Institucional (PDI)",null,null,null,"Largo",null,"6.b-","#","Macroproyecto Plan de Desarrollo Institucional (PDI)",null,null,null,"Largo",null,"6.b-","#","Macroproyecto Plan de Desarrollo Institucional (PDI)",null,null,null,"Largo",null,"6.b-","#","Macroproyecto Plan de Desarrollo Institucional (PDI)",null,null,null,"Largo",null,"6.b-","#","Macroproyecto Plan de Desarrollo Institucional (PDI)",null,null,null,"Largo",null,"6.b-","#","Macroproyecto Plan de Desarrollo Institucional (PDI)",null,null,null,"Largo",null,"6.b-","#","Macroproyecto Plan de Desarrollo Institucional (PDI)",null,null,null,"Largo",null,"6.b-","#","Macroproyecto Plan de Desarrollo Institucional (PDI)",null,null,null,"Largo",null,"6.b-","#","Macroproyecto Plan de Desarrollo Institucional (PDI)",null,null,null,"Largo",null,"6.b-","#","Macroproyecto Plan de Desarrollo Institucional (PDI)",null,null,null,"Largo",null,"6.b-","#","Macroproyecto Plan de Desarrollo Institucional (PDI)",null,null,null,"Largo",null,"6.b-","#","Macroproyecto Plan de Desarrollo Institucional (PDI)",null,null,null,"Largo",null,"6.b-","#","Macroproyecto Plan de Desarrollo Institucional (PDI)",null,null,null,"Largo",null,"6.b-","#","Macroproyecto Plan de Desarrollo Institucional (PDI)",null,null,null,"Largo",null,"6.b-","#","Macroproyecto Plan de Desarrollo Institucional (PDI)",null,null,null,"Largo",null,"6.b-","#","Macroproyecto Plan de Desarrollo Institucional (PDI)",null,null,null,"Largo",null,"6.b-","#","Macroproyecto Plan de Desarrollo Institucional (PDI)",null,null,null,"Largo",null,"6.b-","#","Macroproyecto Plan de Desarrollo Institucional (PDI)",null,null,null,"Largo",null,"6.b-","#","Macroproyecto Plan de Desarrollo Institucional (PDI)",null,null,null,"Largo",null,"6.b-","#","Macroproyecto Plan de Desarrollo Institucional (PDI)",null,null,null,"Largo",null,"6.b-","#","Macroproyecto Plan de Desarrollo Institucional (PDI)",null,null,null,"Largo",null,"6.b-","#","Macroproyecto Plan de Desarrollo Institucional (PDI)",null,null,null,"Largo",null,"6.b-","#","Macroproyecto Plan de Desarrollo Institucional (PDI)",null,null,null,"Largo",null,"6.b-","#","Macroproyecto Plan de Desarrollo Institucional (PDI)",null,null,null,"Largo",null,"6.b-","#","Macroproyecto Plan de Desarrollo Institucional (PDI)",null,null,null,"Largo",null,"6.b-","#","Macroproyecto Plan de Desarrollo Institucional (PDI)",null,null,null,"Largo",null,"6.b-","#","Macroproyecto Plan de Desarrollo Institucional (PDI)",null,null,null,"Largo",null,"6.b-","#","Macroproyecto Plan de Desarrollo Institucional (PDI)",null,null,null,"Largo",null,"6.b-","#","Macroproyecto Plan de Desarrollo Institucional (PDI)",null,null,null,"Largo",null,"6.b-","#","Macroproyecto Plan de Desarrollo Institucional (PDI)",null,null,null,"Largo",null,"6.b-","#","Macroproyecto Plan de Desarrollo Institucional (PDI)",null,null,null,"Largo",null,"6.b-","#","Macroproyecto Plan de Desarrollo Institucional (PDI)",null,null,null,"Largo",null,"6.b-","#","Macroproyecto Plan de Desarrollo Institucional (PDI)",null,null,null,"Largo",null,"6.b-","#","Macroproyecto Plan de Desarrollo Institucional (PDI)",null,null,null,"Largo",null,"6.b-","#","Macroproyecto Plan de Desarrollo Institucional (PDI)",null,null,null,"Largo",null,"6.b-","#","Macroproyecto Plan de Desarrollo Institucional (PDI)",null,null,null,"Largo",null,"6.b-","#","Macroproyecto Plan de Desarrollo Institucional (PDI)",null,null,null,"Largo",null,"6.b-","#","Macroproyecto Plan de Desarrollo Institucional (PDI)",null,null,null,"Largo",null,"6.b-","#","Macroproyecto Plan de Desarrollo Institucional (PDI)",null,null,null,"Largo",null,"6.b-","#","Macroproyecto Plan de Desarrollo Institucional (PDI)",null,null,null,"Largo",null,"6.b-","#","Macroproyecto Plan de Desarrollo Institucional (PDI)",null,null,null,"Largo",null,"6.b-","#","Macroproyecto Plan de Desarrollo Institucional (PDI)",null,null,null,"Largo",null,"6.b-","#","Macroproyecto Plan de Desarrollo Institucional (PDI)",null,null,null,"Largo",null,"6.b-","#","Macroproyecto Plan de Desarrollo Institucional (PDI)",null,null,null,"Largo",null,"6.b-","#","Macroproyecto Plan de Desarrollo Institucional (PDI)",null,null,null,"Largo",null,"6.b-","#","Macroproyecto Plan de Desarrollo Institucional (PDI)",null,null,null,"Largo",null,"6.b-","#","Macroproyecto Plan de Desarrollo Institucional (PDI)",null,null,null,"Largo",null,"6.b-","#","Macroproyecto Plan de Desarrollo Institucional (PDI)",null,null,null,"Largo",null,"6.b-","#","Macroproyecto Plan de Desarrollo Institucional (PDI)",null,null,null,"Largo",null,"6.b-","#","Macroproyecto Plan de Desarrollo Institucional (PDI)",null,null,null,"Largo",null,"6.b-","#","Macroproyecto Plan de Desarrollo Institucional (PDI)",null,null,null,"Largo",null,"6.b-","#","Macroproyecto Plan de Desarrollo Institucional (PDI)",null,null,null,"Largo",null,"6.b-","#","Macroproyecto Plan de Desarrollo Institucional (PDI)",null,null,null,"Largo",null,"6.b-","#","Macroproyecto Plan de Desarrollo Institucional (PDI)",null,null,null,"Largo",null,"6.b-","#","Macroproyecto Plan de Desarrollo Institucional (PDI)",null,null,null,"Largo",null,"6.b-","#","Macroproyecto Plan de Desarrollo Institucional (PDI)",null,null,null,"Largo",null,"6.b-","#","Macroproyecto Plan de Desarrollo Institucional (PDI)",null,null,null,"Largo",null,"6.b-","#","Macroproyecto Plan de Desarrollo Institucional (PDI)",null,null,null,"Largo",null,"6.b-","#","Macroproyecto Plan de Desarrollo Institucional (PDI)",null,null,null,"Largo",null,"6.b-","#","Macroproyecto Plan de Desarrollo Institucional (PDI)",null,null,null,"Largo",null,"6.b-","#","Macroproyecto Plan de Desarrollo Institucional (PDI)",null,null,null,"Largo",null,"6.b-","#","Macroproyecto Plan de Desarrollo Institucional (PDI)",null,null,null,"Largo",null,"6.b-","#","Macroproyecto Plan de Desarrollo Institucional (PDI)",null,null,null,"Largo",null,"6.b-","#","Macroproyecto Plan de Desarrollo Institucional (PDI)",null,null,null,"Largo",null,"6.b-","#","Macroproyecto Plan de Desarrollo Institucional (PDI)",null,null,null,"Largo",null,"6.b-","#","Macroproyecto Plan de Desarrollo Institucional (PDI)",null,null,null,"Largo",null,"6.b-","#","Macroproyecto Plan de Desarrollo Institucional (PDI)",null,null,null,"Largo",null,"6.b-","#","Macroproyecto Plan de Desarrollo Institucional (PDI)",null,null,null,"Largo",null,"6.b-","#","Macroproyecto Plan de Desarrollo Institucional (PDI)",null,null,null,"Largo",null,"6.b-","#","Macroproyecto Plan de Desarrollo Institucional (PDI)",null,null,null,"Largo",null,"6.b-","#","Macroproyecto Plan de Desarrollo Institucional (PDI)",null,null,null,"Largo",null,"6.b-","#","Macroproyecto Plan de Desarrollo Institucional (PDI)",null,null,null,"Largo",null,"6.b-","#","Macroproyecto Plan de Desarrollo Institucional (PDI)",null,null,null,"Largo",null,"6.b-","#","Macroproyecto Plan de Desarrollo Institucional (PDI)",null,null,null,"Largo",null,"6.b-","#","Macroproyecto Plan de Desarrollo Institucional (PDI)",null,null,null,"Largo",null,"6.b-","#","Macroproyecto Plan de Desarrollo Institucional (PDI)",null,null,null,"Largo",null,"6.b-","#","Macroproyecto Plan de Desarrollo Institucional (PDI)",null,null,null,"Largo",null,"6.b-","#","Macroproyecto Plan de Desarrollo Institucional (PDI)",null,null,null,"Largo",null,"6.b-","#","Macroproyecto Plan de Desarrollo Institucional (PDI)",null,null,null,"Largo",null,"6.b-","#","Macroproyecto Plan de Desarrollo Institucional (PDI)",null,null,null,"Largo",null,"6.b-","#","Macroproyecto Plan de Desarrollo Institucional (PDI)",null,null,null,"Largo",null,"6.b-","#","Macroproyecto Plan de Desarrollo Institucional (PDI)",null,null,null,"Largo",null,"6.b-","#","Macroproyecto Plan de Desarrollo Institucional (PDI)",null,null,null,"Largo",null,"6.b-","#","Macroproyecto Plan de Desarrollo Institucional (PDI)",null,null,null,"Largo",null,"6.b-","#","Macroproyecto Plan de Desarrollo Institucional (PDI)",null,null,null,"Largo",null,"6.b-","#","Macroproyecto Plan de Desarrollo Institucional (PDI)",null,null,null,"Largo",null,"6.b-","#","Macroproyecto Plan de Desarrollo Institucional (PDI)",null,null,null,"Largo",null,"6.b-","#","Macroproyecto Plan de Desarrollo Institucional (PDI)",null,null,null,"Largo",null,"6.b-","#","Macroproyecto Plan de Desarrollo Institucional (PDI)",null,null,null,"Largo",null,"6.b-","#","Macroproyecto Plan de Desarrollo Institucional (PDI)",null,null,null,"Largo",null,"6.b-","#","Macroproyecto Plan de Desarrollo Institucional (PDI)",null,null,null,"Largo",null,"6.b-","#","Macroproyecto Plan de Desarrollo Institucional (PDI)",null,null,null,"Largo",null,"6.b-","#","Macroproyecto Plan de Desarrollo Institucional (PDI)",null,null,null,"Largo",null,"6.b-","#","Macroproyecto Plan de Desarrollo Institucional (PDI)",null,null,null,"Largo",null,"6.b-","#","Macroproyecto Plan de Desarrollo Institucional (PDI)",null,null,null,"Largo",null,"6.b-","#","Macroproyecto Plan de Desarrollo Institucional (PDI)",null,null,null,"Largo",null,"6.b-","#","Macroproyecto Plan de Desarrollo Institucional (PDI)",null,null,null,"Largo",null,"6.b-","#","Macroproyecto Plan de Desarrollo Institucional (PDI)",null,null,null,"Largo",null,"6.b-","#","Macroproyecto Plan de Desarrollo Institucional (PDI)",null,null,null,"Largo",null,"6.b-","#","Macroproyecto Plan de Desarrollo Institucional (PDI)",null,null,null,"Largo",null,"6.b-","#","Macroproyecto Plan de Desarrollo Institucional (PDI)",null,null,null,"Largo",null,"6.b-","#","Macroproyecto Plan de Desarrollo Institucional (PDI)",null,null,null,"Largo",null,"6.b-","#","Macroproyecto Plan de Desarrollo Institucional (PDI)",null,null,null,"Largo",null,"6.b-","#","Macroproyecto Plan de Desarrollo Institucional (PDI)",null,null,null,"Largo",null,"6.b-","#","Macroproyecto Plan de Desarrollo Institucional (PDI)",null,null,null,"Largo",null,"6.b-","#","Macroproyecto Plan de Desarrollo Institucional (PDI)",null,null,null,"Largo",null,"6.b-","#","Macroproyecto Plan de Desarrollo Institucional (PDI)",null,null,null,"Largo",null,"6.b-","#","Macroproyecto Plan de Desarrollo Institucional (PDI)",null,null,null,"Largo",null,"6.b-","#","Macroproyecto Plan de Desarrollo Institucional (PDI)",null,null,null,"Largo",null,"6.b-","#","Macroproyecto Plan de Desarrollo Institucional (PDI)",null,null,null,"Largo",null,"6.b-","#","Macroproyecto Plan de Desarrollo Institucional (PDI)",null,null,null,"Largo",null,"6.b-","#","Macroproyecto Plan de Desarrollo Institucional (PDI)",null,null,null,"Largo",null,"6.b-","#","Macroproyecto Plan de Desarrollo Institucional (PDI)",null,null,null,"Largo",null,"6.b-","#","Macroproyecto Plan de Desarrollo Institucional (PDI)",null,null,null,"Largo",null,"6.b-","#","Macroproyecto Plan de Desarrollo Institucional (PDI)",null,null,null,"Largo",null,"6.b-","#","Macroproyecto Plan de Desarrollo Institucional (PDI)",null,null,null,"Largo",null,"6.b-","#","Macroproyecto Plan de Desarrollo Institucional (PDI)",null,null,null,"Largo",null,"6.b-","#","Macroproyecto Plan de Desarrollo Institucional (PDI)",null,null,null,"Largo",null,"6.b-","#","Macroproyecto Plan de Desarrollo Institucional (PDI)",null,null,null,"Largo",null,"6.b-","#","Macroproyecto Plan de Desarrollo Institucional (PDI)",null,null,null,"Largo",null,"6.b-","#","Macroproyecto Plan de Desarrollo Institucional (PDI)",null,null,null,"Largo",null,"6.b-","#","Macroproyecto Plan de Desarrollo Institucional (PDI)",null,null,null,"Largo",null,"6.b-","#","Macroproyecto Plan de Desarrollo Institucional (PDI)",null,null,null,"Largo",null,"6.b-","#","Macroproyecto Plan de Desarrollo Institucional (PDI)",null,null,null,"Largo",null,"6.b-","#","Macroproyecto Plan de Desarrollo Institucional (PDI)",null,null,null,"Largo",null,"6.b-","#","Macroproyecto Plan de Desarrollo Institucional (PDI)",null,null,null,"Largo",null,"6.b-","#","Macroproyecto Plan de Desarrollo Institucional (PDI)",null,null,null,"Largo",null,"6.b-","#","Macroproyecto Plan de Desarrollo Institucional (PDI)",null,null,null,"Largo",null,"6.b-","#","Macroproyecto Plan de Desarrollo Institucional (PDI)",null,null,null,"Largo",null,"6.b-","#","Macroproyecto Plan de Desarrollo Institucional (PDI)",null,null,null,"Largo",null,"6.b-","#","Macroproyecto Plan de Desarrollo Institucional (PDI)",null,null,null,"Largo",null,"6.b-","#","Macroproyecto Plan de Desarrollo Institucional (PDI)",null,null,null,"Largo",null,"6.b-","#","Macroproyecto Plan de Desarrollo Institucional (PDI)",null,null,null,"Largo",null,"6.b-","#","Macroproyecto Plan de Desarrollo Institucional (PDI)",null,null,null,"Largo",null,"6.b-","#","Macroproyecto Plan de Desarrollo Institucional (PDI)",null,null,null,"Largo",null,"6.b-","#","Macroproyecto Plan de Desarrollo Institucional (PDI)",null,null,null,"Largo",null,"6.b-","#","Macroproyecto Plan de Desarrollo Institucional (PDI)",null,null,null,"Largo",null,"6.b-","#","Macroproyecto Plan de Desarrollo Institucional (PDI)",null,null,null,"Largo",null,"6.b-","#","Macroproyecto Plan de Desarrollo Institucional (PDI)",null,null,null,"Largo",null,"6.b-","#","Macroproyecto Plan de Desarrollo Institucional (PDI)",null,null,null,"Largo",null,"6.b-","#","Macroproyecto Plan de Desarrollo Institucional (PDI)",null,null,null,"Largo",null,"6.b-","#","Macroproyecto Plan de Desarrollo Institucional (PDI)",null,null,null,"Largo",null,"6.b-","#","Macroproyecto Plan de Desarrollo Institucional (PDI)",null,null,null,"Largo",null,"6.b-","#","Macroproyecto Plan de Desarrollo Institucional (PDI)",null,null,null,"Largo",null,"6.b-","#","Macroproyecto Plan de Desarrollo Institucional (PDI)",null,null,null,"Largo",null,"6.b-","#","Macroproyecto Plan de Desarrollo Institucional (PDI)",null,null,null,"Largo",null,"6.b-","#","Macroproyecto Plan de Desarrollo Institucional (PDI)",null,null,null,"Largo",null,"6.b-","#","Macroproyecto Plan de Desarrollo Institucional (PDI)",null,null,null,"Largo",null,"6.b-","#","Macroproyecto Plan de Desarrollo Institucional (PDI)",null,null,null,"Largo",null,"6.b-","#","Macroproyecto Plan de Desarrollo Institucional (PDI)",null,null,null,"Largo",null,"6.b-","#","Macroproyecto Plan de Desarrollo Institucional (PDI)",null,null,null,"Largo",null,"6.b-","#","Macroproyecto Plan de Desarrollo Institucional (PDI)",null,null,null,"Largo",null,"6.b-","#","Macroproyecto Plan de Desarrollo Institucional (PDI)",null,null,null,"Largo",null,"6.b-","#","Macroproyecto Plan de Desarrollo Institucional (PDI)",null,null,null,"Largo",null,"6.b-","#","Macroproyecto Plan de Desarrollo Institucional (PDI)",null,null,null,"Largo",null,"6.b-","#","Macroproyecto Plan de Desarrollo Institucional (PDI)",null,null,null,"Largo",null,"6.b-","#","Macroproyecto Plan de Desarrollo Institucional (PDI)",null,null,null,"Largo",null,"6.b-","#","Macroproyecto Plan de Desarrollo Institucional (PDI)",null,null,null,"Largo",null,"6.b-","#","Macroproyecto Plan de Desarrollo Institucional (PDI)",null,null,null,"Largo",null,"6.b-","#","Macroproyecto Plan de Desarrollo Institucional (PDI)",null,null,null,"Largo",null,"6.b-","#","Macroproyecto Plan de Desarrollo Institucional (PDI)",null,null,null,"Largo",null,"6.b-","#","Macroproyecto Plan de Desarrollo Institucional (PDI)",null,null,null,"Largo",null,"6.b-","#","Macroproyecto Plan de Desarrollo Institucional (PDI)",null,null,null,"Largo",null,"6.b-","#","Macroproyecto Plan de Desarrollo Institucional (PDI)",null,null,null,"Largo",null,"6.b-","#","Macroproyecto Plan de Desarrollo Institucional (PDI)",null,null,null,"Largo",null,"6.b-","#","Macroproyecto Plan de Desarrollo Institucional (PDI)",null,null,null,"Largo",null,"6.b-","#","Macroproyecto Plan de Desarrollo Institucional (PDI)",null,null,null,"Largo",null,"6.b-","#","Macroproyecto Plan de Desarrollo Institucional (PDI)",null,null,null,"Largo",null,"6.b-","#","Macroproyecto Plan de Desarrollo Institucional (PDI)",null,null,null,"Largo",null,"6.b-","#","Macroproyecto Plan de Desarrollo Institucional (PDI)",null,null,null,"Largo",null,"6.b-","#","Macroproyecto Plan de Desarrollo Institucional (PDI)",null,null,null,"Largo",null,"6.b-","#","Macroproyecto Plan de Desarrollo Institucional (PDI)",null,null,null,"Largo",null,"6.b-","#","Macroproyecto Plan de Desarrollo Institucional (PDI)",null,null,null,"Largo",null,"6.b-","#","Macroproyecto Plan de Desarrollo Institucional (PDI)",null,null,null,"Largo",null,"6.b-","#","Macroproyecto Plan de Desarrollo Institucional (PDI)",null,null,null,"Largo",null,"6.b-","#","Macroproyecto Plan de Desarrollo Institucional (PDI)",null,null,null,"Largo",null,"6.b-","#","Macroproyecto Plan de Desarrollo Institucional (PDI)",null,null,null,"Largo",null,"6.b-","#","Macroproyecto Plan de Desarrollo Institucional (PDI)",null,null,null,"Largo",null,"6.b-","#","Macroproyecto Plan de Desarrollo Institucional (PDI)",null,null,null,"Largo",null,"6.b-","#","Macroproyecto Plan de Desarrollo Institucional (PDI)",null,null,null,"Largo",null,"6.b-","#","Macroproyecto Plan de Desarrollo Institucional (PDI)",null,null,null,"Largo",null,"6.b-","#","Macroproyecto Plan de Desarrollo Institucional (PDI)",null,null,null,"Largo",null,"6.b-","#","Macroproyecto Plan de Desarrollo Institucional (PDI)",null,null,null,"Largo",null,"6.b-","#","Macroproyecto Plan de Desarrollo Institucional (PDI)",null,null,null,"Largo",null,"6.b-","#","Macroproyecto Plan de Desarrollo Institucional (PDI)",null,null,null,"Largo",null,"6.b-","#","Macroproyecto Plan de Desarrollo Institucional (PDI)",null,null,null,"Largo",null,"6.b-","#","Macroproyecto Plan de Desarrollo Institucional (PDI)",null,null,null,"Largo",null,"6.b-","#","Macroproyecto Plan de Desarrollo Institucional (PDI)",null,null,null,"Largo",null,"6.b-","#","Macroproyecto Plan de Desarrollo Institucional (PDI)",null,null,null,"Largo",null,"6.b-","#","Macroproyecto Plan de Desarrollo Institucional (PDI)",null,null,null,"Largo",null,"6.b-","#","Macroproyecto Plan de Desarrollo Institucional (PDI)",null,null,null,"Largo",null,"6.b-","#","Macroproyecto Plan de Desarrollo Institucional (PDI)",null,null,null,"Largo",null,"6.b-","#","Macroproyecto Plan de Desarrollo Institucional (PDI)",null,null,null,"Largo",null,"6.b-","#","Macroproyecto Plan de Desarrollo Institucional (PDI)",null,null,null,"Largo",null,"6.b-","#","Macroproyecto Plan de Desarrollo Institucional (PDI)",null,null,null,"Largo",null,"6.b-","#","Macroproyecto Plan de Desarrollo Institucional (PDI)",null,null,null,"Largo",null,"6.b-","#","Macroproyecto Plan de Desarrollo Institucional (PDI)",null,null,null,"Largo",null,"6.b-","#","Macroproyecto Plan de Desarrollo Institucional (PDI)",null,null,null,"Largo",null,"6.b-","#","Macroproyecto Plan de Desarrollo Institucional (PDI)",null,null,null,"Largo",null,"6.b-","#","Macroproyecto Plan de Desarrollo Institucional (PDI)",null,null,null,"Largo",null,"6.b-","#","Macroproyecto Plan de Desarrollo Institucional (PDI)",null,null,null,"Largo",null,"6.b-","#","Macroproyecto Plan de Desarrollo Institucional (PDI)",null,null,null,"Largo",null,"6.b-","#","Macroproyecto Plan de Desarrollo Institucional (PDI)",null,null,null,"Largo",null,"6.b-","#","Macroproyecto Plan de Desarrollo Institucional (PDI)",null,null,null,"Largo",null,"6.b-","#","Macroproyecto Plan de Desarrollo Institucional (PDI)",null,null,null,"Largo",null,"6.b-","#","Macroproyecto Plan de Desarrollo Institucional (PDI)",null,null,null,"Largo",null,"6.b-","#","Macroproyecto Plan de Desarrollo Institucional (PDI)",null,null,null,"Largo",null,"6.b-","#","Macroproyecto Plan de Desarrollo Institucional (PDI)",null,null,null,"Largo",null,"6.b-","#","Macroproyecto Plan de Desarrollo Institucional (PDI)",null,null,null,"Largo",null,"6.b-","#","Macroproyecto Plan de Desarrollo Institucional (PDI)",null,null,null,"Largo",null,"6.b-","#","Macroproyecto Plan de Desarrollo Institucional (PDI)",null,null,null,"Largo",null,"6.b-","#","Macroproyecto Plan de Desarrollo Institucional (PDI)",null,null,null,"Largo",null,"6.b-","#","Macroproyecto Plan de Desarrollo Institucional (PDI)",null,null,null,"Largo",null,"6.b-","#","Macroproyecto Plan de Desarrollo Institucional (PDI)",null,null,null,"Largo",null,"6.b-","#","Macroproyecto Plan de Desarrollo Institucional (PDI)",null,null,null,"Largo",null,"6.b-","#","Macroproyecto Plan de Desarrollo Institucional (PDI)",null,null,null,"Largo",null,"6.b-","#","Macroproyecto Plan de Desarrollo Institucional (PDI)",null,null,null,"Largo",null,"6.b-","#","Macroproyecto Plan de Desarrollo Institucional (PDI)",null,null,null,"Largo",null,"6.b-","#","Macroproyecto Plan de Desarrollo Institucional (PDI)",null,null,null,"Largo",null,"6.b-","#","Macroproyecto Plan de Desarrollo Institucional (PDI)",null,null,null,"Largo",null,"6.b-","#","Macroproyecto Plan de Desarrollo Institucional (PDI)",null,null,null,"Largo",null,"6.b-","#","Macroproyecto Plan de Desarrollo Institucional (PDI)",null,null,null,"Largo",null,"6.b-","#","Macroproyecto Plan de Desarrollo Institucional (PDI)",null,null,null,"Largo",null,"6.b-","#","Macroproyecto Plan de Desarrollo Institucional (PDI)",null,null,null,"Largo",null,"6.b-","#","Macroproyecto Plan de Desarrollo Institucional (PDI)",null,null,null,"Largo",null,"6.b-","#","Macroproyecto Plan de Desarrollo Institucional (PDI)",null,null,null,"Largo",null,"6.b-","#","Macroproyecto Plan de Desarrollo Institucional (PDI)",null,null,null,"Largo",null,"6.b-","#","Macroproyecto Plan de Desarrollo Institucional (PDI)",null,null,null,"Largo",null,"6.b-","#","Macroproyecto Plan de Desarrollo Institucional (PDI)",null,null,null,"Largo",null,"6.b-","#","Macroproyecto Plan de Desarrollo Institucional (PDI)",null,null,null,"Largo",null,"6.b-","#","Macroproyecto Plan de Desarrollo Institucional (PDI)",null,null,null,"Largo",null,"6.b-","#","Macroproyecto Plan de Desarrollo Institucional (PDI)",null,null,null,"Largo",null,"6.b-","#","Macroproyecto Plan de Desarrollo Institucional (PDI)",null,null,null,"Largo",null,"6.b-","#","Macroproyecto Plan de Desarrollo Institucional (PDI)",null,null,null,"Largo",null,"6.b-","#","Macroproyecto Plan de Desarrollo Institucional (PDI)",null,null,null,"Largo",null,"6.b-","#","Macroproyecto Plan de Desarrollo Institucional (PDI)",null,null,null,"Largo",null,"6.b-","#","Macroproyecto Plan de Desarrollo Institucional (PDI)",null,null,null,"Largo",null,"6.b-","#","Macroproyecto Plan de Desarrollo Institucional (PDI)",null,null,null,"Largo",null,"6.b-","#","Macroproyecto Plan de Desarrollo Institucional (PDI)",null,null,null,"Largo",null,"6.b-","#","Macroproyecto Plan de Desarrollo Institucional (PDI)",null,null,null,"Largo",null,"6.b-","#","Macroproyecto Plan de Desarrollo Institucional (PDI)",null,null,null,"Largo",null,"6.b-","#","Macroproyecto Plan de Desarrollo Institucional (PDI)",null,null,null,"Largo",null,"6.b-","#","Macroproyecto Plan de Desarrollo Institucional (PDI)",null,null,null,"Largo",null,"6.b-","#","Macroproyecto Plan de Desarrollo Institucional (PDI)",null,null,null,"Largo",null,"6.b-","#","Macroproyecto Plan de Desarrollo Institucional (PDI)",null,null,null,"Largo",null,"6.b-","#","Macroproyecto Plan de Desarrollo Institucional (PDI)",null,null,null,"Largo",null,"6.b-","#","Macroproyecto Plan de Desarrollo Institucional (PDI)",null,null,null,"Largo",null,"6.b-","#","Macroproyecto Plan de Desarrollo Institucional (PDI)",null,null,null,"Largo",null,"6.b-","#","Macroproyecto Plan de Desarrollo Institucional (PDI)",null,null,null,"Largo",null,"6.b-","#","Macroproyecto Plan de Desarrollo Institucional (PDI)",null,null,null,"Largo",null,"6.b-","#","Macroproyecto Plan de Desarrollo Institucional (PDI)",null,null,null,"Largo",null,"6.b-","#","Macroproyecto Plan de Desarrollo Institucional (PDI)",null,null,null,"Largo",null,"6.b-","#","Macroproyecto Plan de Desarrollo Institucional (PDI)",null,null,null,"Largo",null,"6.b-","#","Macroproyecto Plan de Desarrollo Institucional (PDI)",null,null,null,"Largo",null,"6.b-","#","Macroproyecto Plan de Desarrollo Institucional (PDI)",null,null,null,"Largo",null,"6.b-","#","Macroproyecto Plan de Desarrollo Institucional (PDI)",null,null,null,"Largo",null,"6.b-","#","Macroproyecto Plan de Desarrollo Institucional (PDI)",null,null,null,"Largo",null,"6.b-","#","Macroproyecto Plan de Desarrollo Institucional (PDI)",null,null,null,"Largo",null,"6.b-","#","Macroproyecto Plan de Desarrollo Institucional (PDI)",null,null,null,"Largo",null,"6.b-","#","Macroproyecto Plan de Desarrollo Institucional (PDI)",null,null,null,"Largo",null,"6.b-","#","Macroproyecto Plan de Desarrollo Institucional (PDI)",null,null,null,"Largo",null,"6.b-","#","Macroproyecto Plan de Desarrollo Institucional (PDI)",null,null,null,"Largo",null,"6.b-","#","Macroproyecto Plan de Desarrollo Institucional (PDI)",null,null,null,"Largo",null,"6.b-","#","Macroproyecto Plan de Desarrollo Institucional (PDI)",null,null,null,"Largo",null,"6.b-","#","Macroproyecto Plan de Desarrollo Institucional (PDI)",null,null,null,"Largo",null,"6.b-","#","Macroproyecto Plan de Desarrollo Institucional (PDI)",null,null,null,"Largo",null,"6.b-","#","Macroproyecto Plan de Desarrollo Institucional (PDI)",null,null,null,"Largo",null,"6.b-","#","Macroproyecto Plan de Desarrollo Institucional (PDI)",null,null,null,"Largo",null,"6.b-","#","Macroproyecto Plan de Desarrollo Institucional (PDI)",null,null,null,"Largo",null,"6.b-","#","Macroproyecto Plan de Desarrollo Institucional (PDI)",null,null,null,"Largo",null,"6.b-","#","Macroproyecto Plan de Desarrollo Institucional (PDI)",null,null,null,"Largo",null,"6.b-","#","Macroproyecto Plan de Desarrollo Institucional (PDI)",null,null,null,"Largo",null,"6.b-","#","Macroproyecto Plan de Desarrollo Institucional (PDI)",null,null,null,"Largo",null,"6.b-","#","Macroproyecto Plan de Desarrollo Institucional (PDI)",null,null,null,"Largo",null,"6.b-","#","Macroproyecto Plan de Desarrollo Institucional (PDI)",null,null,null,"Largo",null,"6.b-","#","Macroproyecto Plan de Desarrollo Institucional (PDI)",null,null,null,"Largo",null,"6.b-","#","Macroproyecto Plan de Desarrollo Institucional (PDI)",null,null,null,"Largo",null,"6.b-","#","Macroproyecto Plan de Desarrollo Institucional (PDI)",null,null,null,"Largo",null,"6.b-","#","Macroproyecto Plan de Desarrollo Institucional (PDI)",null,null,null,"Largo",null,"6.b-","#","Macroproyecto Plan de Desarrollo Institucional (PDI)",null,null,null,"Largo",null,"6.b-","#","Macroproyecto Plan de Desarrollo Institucional (PDI)",null,null,null,"Largo",null,"6.b-","#","Macroproyecto Plan de Desarrollo Institucional (PDI)",null,null,null,"Largo",null,"6.b-","#","Macroproyecto Plan de Desarrollo Institucional (PDI)",null,null,null,"Largo",null,"6.b-","#","Macroproyecto Plan de Desarrollo Institucional (PDI)",null,null,null,"Largo",null,"6.b-","#","Macroproyecto Plan de Desarrollo Institucional (PDI)",null,null,null,"Largo",null,"6.b-","#","Macroproyecto Plan de Desarrollo Institucional (PDI)",null,null,null,"Largo",null,"6.b-","#","Macroproyecto Plan de Desarrollo Institucional (PDI)",null,null,null,"Largo",null,"6.b-","#","Macroproyecto Plan de Desarrollo Institucional (PDI)",null,null,null,"Largo",null,"6.b-","#","Macroproyecto Plan de Desarrollo Institucional (PDI)",null,null,null,"Largo",null,"6.b-","#","Macroproyecto Plan de Desarrollo Institucional (PDI)",null,null,null,"Largo",null,"6.b-","#","Macroproyecto Plan de Desarrollo Institucional (PDI)",null,null,null,"Largo",null,"6.b-","#","Macroproyecto Plan de Desarrollo Institucional (PDI)",null,null,null,"Largo",null,"6.b-","#","Macroproyecto Plan de Desarrollo Institucional (PDI)",null,null,null,"Largo",null,"6.b-","#","Macroproyecto Plan de Desarrollo Institucional (PDI)",null,null,null,"Largo",null,"6.b-","#","Macroproyecto Plan de Desarrollo Institucional (PDI)",null,null,null,"Largo",null,"6.b-","#","Macroproyecto Plan de Desarrollo Institucional (PDI)",null,null,null,"Largo",null,"6.b-","#","Macroproyecto Plan de Desarrollo Institucional (PDI)",null,null,null,"Largo",null,"6.b-","#","Macroproyecto Plan de Desarrollo Institucional (PDI)",null,null,null,"Largo",null,"6.b-","#","Macroproyecto Plan de Desarrollo Institucional (PDI)",null,null,null,"Largo",null,"6.b-","#","Macroproyecto Plan de Desarrollo Institucional (PDI)",null,null,null,"Largo",null,"6.b-","#","Macroproyecto Plan de Desarrollo Institucional (PDI)",null,null,null,"Largo",null,"6.b-","#","Macroproyecto Plan de Desarrollo Institucional (PDI)",null,null,null,"Largo",null,"6.b-","#","Macroproyecto Plan de Desarrollo Institucional (PDI)",null,null,null,"Largo",null,"6.b-","#","Macroproyecto Plan de Desarrollo Institucional (PDI)",null,null,null,"Largo",null,"6.b-","#","Macroproyecto Plan de Desarrollo Institucional (PDI)",null,null,null,"Largo",null,"6.b-","#","Macroproyecto Plan de Desarrollo Institucional (PDI)",null,null,null,"Largo",null,"6.b-","#","Macroproyecto Plan de Desarrollo Institucional (PDI)",null,null,null,"Largo",null,"6.b-","#","Macroproyecto Plan de Desarrollo Institucional (PDI)",null,null,null,"Largo",null,"6.b-","#","Macroproyecto Plan de Desarrollo Institucional (PDI)",null,null,null,"Largo",null,"6.b-","#","Macroproyecto Plan de Desarrollo Institucional (PDI)",null,null,null,"Largo",null,"6.b-","#","Macroproyecto Plan de Desarrollo Institucional (PDI)",null,null,null,"Largo",null,"6.b-","#","Macroproyecto Plan de Desarrollo Institucional (PDI)",null,null,null,"Largo",null,"6.b-","#","Macroproyecto Plan de Desarrollo Institucional (PDI)",null,null,null,"Largo",null,"6.b-","#","Macroproyecto Plan de Desarrollo Institucional (PDI)",null,null,null,"Largo",null,"6.b-","#","Macroproyecto Plan de Desarrollo Institucional (PDI)",null,null,null,"Largo",null,"6.b-","#","Macroproyecto Plan de Desarrollo Institucional (PDI)",null,null,null,"Largo",null,"6.b-","#","Macroproyecto Plan de Desarrollo Institucional (PDI)",null,null,null,"Largo",null,"6.b-","#","Macroproyecto Plan de Desarrollo Institucional (PDI)",null,null,null,"Largo",null,"6.b-","#","Macroproyecto Plan de Desarrollo Institucional (PDI)",null,null,null,"Largo",null,"6.b-","#","Macroproyecto Plan de Desarrollo Institucional (PDI)",null,null,null,"Largo",null,"6.b-","#","Macroproyecto Plan de Desarrollo Institucional (PDI)",null,null,null,"Largo",null,"6.b-","#","Macroproyecto Plan de Desarrollo Institucional (PDI)",null,null,null,"Largo",null,"6.b-","#","Macroproyecto Plan de Desarrollo Institucional (PDI)",null,null,null,"Largo",null,"6.b-","#","Macroproyecto Plan de Desarrollo Institucional (PDI)",null,null,null,"Largo",null,"6.b-","#","Macroproyecto Plan de Desarrollo Institucional (PDI)",null,null,null,"Largo",null,"6.b-","#","Macroproyecto Plan de Desarrollo Institucional (PDI)",null,null,null,"Largo",null,"6.b-","#","Macroproyecto Plan de Desarrollo Institucional (PDI)",null,null,null,"Largo",null,"6.b-","#","Macroproyecto Plan de Desarrollo Institucional (PDI)",null,null,null,"Largo",null,"6.b-","#","Macroproyecto Plan de Desarrollo Institucional (PDI)",null,null,null,"Largo",null,"6.b-","#","Macroproyecto Plan de Desarrollo Institucional (PDI)",null,null,null,"Largo",null,"6.b-","#","Macroproyecto Plan de Desarrollo Institucional (PDI)",null,null,null,"Largo",null,"6.b-","#","Macroproyecto Plan de Desarrollo Institucional (PDI)",null,null,null,"Largo",null,"6.b-","#","Macroproyecto Plan de Desarrollo Institucional (PDI)",null,null,null,"Largo",null,"6.b-","#","Macroproyecto Plan de Desarrollo Institucional (PDI)",null,null,null,"Largo",null,"6.b-","#","Macroproyecto Plan de Desarrollo Institucional (PDI)",null,null,null,"Largo",null,"6.b-","#","Macroproyecto Plan de Desarrollo Institucional (PDI)",null,null,null,"Largo",null,"6.b-","#","Macroproyecto Plan de Desarrollo Institucional (PDI)",null,null,null,"Largo",null,"6.b-","#","Macroproyecto Plan de Desarrollo Institucional (PDI)",null,null,null,"Largo",null,"6.b-","#","Macroproyecto Plan de Desarrollo Institucional (PDI)",null,null,null,"Largo",null,"6.b-","#","Macroproyecto Plan de Desarrollo Institucional (PDI)",null,null,null,"Largo",null,"6.b-","#","Macroproyecto Plan de Desarrollo Institucional (PDI)",null,null,null,"Largo",null,"6.b-","#","Macroproyecto Plan de Desarrollo Institucional (PDI)",null,null,null,"Largo",null,"6.b-","#","Macroproyecto Plan de Desarrollo Institucional (PDI)",null,null,null,"Largo",null,"6.b-","#","Macroproyecto Plan de Desarrollo Institucional (PDI)",null,null,null,"Largo",null,"6.b-","#","Macroproyecto Plan de Desarrollo Institucional (PDI)",null,null,null,"Largo",null,"6.b-","#","Macroproyecto Plan de Desarrollo Institucional (PDI)",null,null,null,"Largo",null,"6.b-","#","Macroproyecto Plan de Desarrollo Institucional (PDI)",null,null,null,"Largo",null,"6.b-","#","Macroproyecto Plan de Desarrollo Institucional (PDI)",null,null,null,"Largo",null,"6.b-","#","Macroproyecto Plan de Desarrollo Institucional (PDI)",null,null,null,"Largo",null,"6.b-","#","Macroproyecto Plan de Desarrollo Institucional (PDI)",null,null,null,"Largo",null,"6.b-","#","Macroproyecto Plan de Desarrollo Institucional (PDI)",null,null,null,"Largo",null,"6.b-","#","Macroproyecto Plan de Desarrollo Institucional (PDI)",null,null,null,"Largo",null,"6.b-","#","Macroproyecto Plan de Desarrollo Institucional (PDI)",null,null,null,"Largo",null,"6.b-","#","Macroproyecto Plan de Desarrollo Institucional (PDI)",null,null,null,"Largo",null,"6.b-","#","Macroproyecto Plan de Desarrollo Institucional (PDI)",null,null,null,"Largo",null,"6.b-","#","Macroproyecto Plan de Desarrollo Institucional (PDI)",null,null,null,"Largo",null,"6.b-","#","Macroproyecto Plan de Desarrollo Institucional (PDI)",null,null,null,"Largo",null,"6.b-","#","Macroproyecto Plan de Desarrollo Institucional (PDI)",null,null,null,"Largo",null,"6.b-","#","Macroproyecto Plan de Desarrollo Institucional (PDI)",null,null,null,"Largo",null,"6.b-","#","Macroproyecto Plan de Desarrollo Institucional (PDI)",null,null,null,"Largo",null,"6.b-","#","Macroproyecto Plan de Desarrollo Institucional (PDI)",null,null,null,"Largo",null,"6.b-","#","Macroproyecto Plan de Desarrollo Institucional (PDI)",null,null,null,"Largo",null,"6.b-","#","Macroproyecto Plan de Desarrollo Institucional (PDI)",null,null,null,"Largo",null,"6.b-","#","Macroproyecto Plan de Desarrollo Institucional (PDI)",null,null,null,"Largo",null,"6.b-","#","Macroproyecto Plan de Desarrollo Institucional (PDI)",null,null,null,"Largo",null,"6.b-","#","Macroproyecto Plan de Desarrollo Institucional (PDI)",null,null,null,"Largo",null,"6.b-","#","Macroproyecto Plan de Desarrollo Institucional (PDI)",null,null,null,"Largo",null,"6.b-","#","Macroproyecto Plan de Desarrollo Institucional (PDI)",null,null,null,"Largo",null,"6.b-","#","Macroproyecto Plan de Desarrollo Institucional (PDI)",null,null,null,"Largo",null,"6.b-","#","Macroproyecto Plan de Desarrollo Institucional (PDI)",null,null,null,"Largo",null,"6.b-","#","Macroproyecto Plan de Desarrollo Institucional (PDI)",null,null,null,"Largo",null,"6.b-","#","Macroproyecto Plan de Desarrollo Institucional (PDI)",null,null,null,"Largo",null,"6.b-","#","Macroproyecto Plan de Desarrollo Institucional (PDI)",null,null,null,"Largo",null,"6.b-","#","Macroproyecto Plan de Desarrollo Institucional (PDI)",null,null,null,"Largo",null,"6.b-","#","Macroproyecto Plan de Desarrollo Institucional (PDI)",null,null,null,"Largo",null,"6.b-","#","Macroproyecto Plan de Desarrollo Institucional (PDI)",null,null,null,"Largo",null,"6.b-","#","Macroproyecto Plan de Desarrollo Institucional (PDI)",null,null,null,"Largo",null,"6.b-","#","Macroproyecto Plan de Desarrollo Institucional (PDI)",null,null,null,"Largo",null,"6.b-","#","Macroproyecto Plan de Desarrollo Institucional (PDI)",null,null,null,"Largo",null,"6.b-","#","Macroproyecto Plan de Desarrollo Institucional (PDI)",null,null,null,"Largo",null,"6.b-","#","Macroproyecto Plan de Desarrollo Institucional (PDI)",null,null,null,"Largo",null,"6.b-","#","Macroproyecto Plan de Desarrollo Institucional (PDI)",null,null,null,"Largo",null,"6.b-","#","Macroproyecto Plan de Desarrollo Institucional (PDI)",null,null,null,"Largo",null,"6.b-","#","Macroproyecto Plan de Desarrollo Institucional (PDI)",null,null,null,"Largo",null,"6.b-","#","Macroproyecto Plan de Desarrollo Institucional (PDI)",null,null,null,"Largo",null,"6.b-","#","Macroproyecto Plan de Desarrollo Institucional (PDI)",null,null,null,"Largo",null,"6.b-","#","Macroproyecto Plan de Desarrollo Institucional (PDI)",null,null,null,"Largo",null,"6.b-","#","Macroproyecto Plan de Desarrollo Institucional (PDI)",null,null,null,"Largo",null,"6.b-","#","Macroproyecto Plan de Desarrollo Institucional (PDI)",null,null,null,"Largo",null,"6.b-","#","Macroproyecto Plan de Desarrollo Institucional (PDI)",null,null,null,"Largo",null,"6.b-","#","Macroproyecto Plan de Desarrollo Institucional (PDI)",null,null,null,"Largo",null,"6.b-","#","Macroproyecto Plan de Desarrollo Institucional (PDI)",null,null,null,"Largo",null,"6.b-","#","Macroproyecto Plan de Desarrollo Institucional (PDI)",null,null,null,"Largo",null,"6.b-","#","Macroproyecto Plan de Desarrollo Institucional (PDI)",null,null,null,"Largo",null,"6.b-","#","Macroproyecto Plan de Desarrollo Institucional (PDI)",null,null,null,"Largo",null,"6.b-","#","Macroproyecto Plan de Desarrollo Institucional (PDI)",null,null,null,"Largo",null,"6.b-","#","Macroproyecto Plan de Desarrollo Institucional (PDI)",null,null,null,"Largo",null,"6.b-","#","Macroproyecto Plan de Desarrollo Institucional (PDI)",null,null,null,"Largo",null,"6.b-","#","Macroproyecto Plan de Desarrollo Institucional (PDI)",null,null,null,"Largo",null,"6.b-","#","Macroproyecto Plan de Desarrollo Institucional (PDI)",null,null,null,"Largo",null,"6.b-","#","Macroproyecto Plan de Desarrollo Institucional (PDI)",null,null,null,"Largo",null,"6.b-","#","Macroproyecto Plan de Desarrollo Institucional (PDI)",null,null,null,"Largo",null,"6.b-","#","Macroproyecto Plan de Desarrollo Institucional (PDI)",null,null,null,"Largo",null,"6.b-","#","Macroproyecto Plan de Desarrollo Institucional (PDI)",null,null,null,"Largo",null,"6.b-","#","Macroproyecto Plan de Desarrollo Institucional (PDI)",null,null,null,"Largo",null,"6.b-","#","Macroproyecto Plan de Desarrollo Institucional (PDI)",null,null,null,"Largo",null,"6.b-","#","Macroproyecto Plan de Desarrollo Institucional (PDI)",null,null,null,"Largo",null,"6.b-","#","Macroproyecto Plan de Desarrollo Institucional (PDI)",null,null,null,"Largo",null,"6.b-","#","Macroproyecto Plan de Desarrollo Institucional (PDI)",null,null,null,"Largo",null,"6.b-","#","Macroproyecto Plan de Desarrollo Institucional (PDI)",null,null,null,"Largo",null,"6.b-","#","Macroproyecto Plan de Desarrollo Institucional (PDI)",null,null,null,"Largo",null,"6.b-","#","Macroproyecto Plan de Desarrollo Institucional (PDI)",null,null,null,"Largo",null,"6.b-","#","Macroproyecto Plan de Desarrollo Institucional (PDI)",null,null,null,"Largo",null,"6.b-","#","Macroproyecto Plan de Desarrollo Institucional (PDI)",null,null,null,"Largo",null,"6.b-","#","Macroproyecto Plan de Desarrollo Institucional (PDI)",null,null,null,"Largo",null,"6.b-","#","Macroproyecto Plan de Desarrollo Institucional (PDI)",null,null,null,"Largo",null,"6.b-","#","Macroproyecto Plan de Desarrollo Institucional (PDI)",null,null,null,"Largo",null,"6.b-","#","Macroproyecto Plan de Desarrollo Institucional (PDI)",null,null,null,"Largo",null,"6.b-","#","Macroproyecto Plan de Desarrollo Institucional (PDI)",null,null,null,"Largo",null,"6.b-","#","Macroproyecto Plan de Desarrollo Institucional (PDI)",null,null,null,"Largo",null,"6.b-","#","Macroproyecto Plan de Desarrollo Institucional (PDI)",null,null,null,"Largo",null,"6.b-","#","Macroproyecto Plan de Desarrollo Institucional (PDI)",null,null,null,"Largo",null,"6.b-","#","Macroproyecto Plan de Desarrollo Institucional (PDI)",null,null,null,"Largo",null,"6.b-","#","Macroproyecto Plan de Desarrollo Institucional (PDI)",null,null,null,"Largo",null,"6.b-","#","Macroproyecto Plan de Desarrollo Institucional (PDI)",null,null,null,"Largo",null,"6.b-","#","Macroproyecto Plan de Desarrollo Institucional (PDI)",null,null,null,"Largo",null,"6.b-","#","Macroproyecto Plan de Desarrollo Institucional (PDI)",null,null,null,"Largo",null,"6.b-","#","Macroproyecto Plan de Desarrollo Institucional (PDI)",null,null,null,"Largo",null,"6.b-","#","Macroproyecto Plan de Desarrollo Institucional (PDI)",null,null,null,"Largo",null,"6.b-","#","Macroproyecto Plan de Desarrollo Institucional (PDI)",null,null,null,"Largo",null,"6.b-","#","Macroproyecto Plan de Desarrollo Institucional (PDI)",null,null,null,"Largo",null,"6.b-","#","Macroproyecto Plan de Desarrollo Institucional (PDI)",null,null,null,"Largo",null,"6.b-","#","Macroproyecto Plan de Desarrollo Institucional (PDI)",null,null,null,"Largo",null,"6.b-","#","Macroproyecto Plan de Desarrollo Institucional (PDI)",null,null,null,"Largo",null,"6.b-","#","Macroproyecto Plan de Desarrollo Institucional (PDI)",null,null,null,"Largo",null,"6.b-","#","Macroproyecto Plan de Desarrollo Institucional (PDI)",null,null,null,"Largo",null,"6.b-","#","Macroproyecto Plan de Desarrollo Institucional (PDI)",null,null,null,"Largo",null,"6.b-","#","Macroproyecto Plan de Desarrollo Institucional (PDI)",null,null,null,"Largo",null,"6.b-","#","Macroproyecto Plan de Desarrollo Institucional (PDI)",null,null,null,"Largo",null,"6.b-","#","Macroproyecto Plan de Desarrollo Institucional (PDI)",null,null,null,"Largo",null,"6.b-","#","Macroproyecto Plan de Desarrollo Institucional (PDI)",null,null,null,"Largo",null,"6.b-","#","Macroproyecto Plan de Desarrollo Institucional (PDI)",null,null,null,"Largo",null,"6.b-","#","Macroproyecto Plan de Desarrollo Institucional (PDI)",null,null,null,"Largo",null,"6.b-","#","Macroproyecto Plan de Desarrollo Institucional (PDI)",null,null,null,"Largo",null,"6.b-","#","Macroproyecto Plan de Desarrollo Institucional (PDI)",null,null,null,"Largo",null,"6.b-","#","Macroproyecto Plan de Desarrollo Institucional (PDI)",null,null,null,"Largo",null,"6.b-","#","Macroproyecto Plan de Desarrollo Institucional (PDI)",null,null,null,"Largo",null,"6.b-","#","Macroproyecto Plan de Desarrollo Institucional (PDI)",null,null,null,"Largo",null,"6.b-","#","Macroproyecto Plan de Desarrollo Institucional (PDI)",null,null,null,"Largo",null,"6.b-","#","Macroproyecto Plan de Desarrollo Institucional (PDI)",null,null,null,"Largo",null,"6.b-","#","Macroproyecto Plan de Desarrollo Institucional (PDI)",null,null,null,"Largo",null,"6.b-","#","Macroproyecto Plan de Desarrollo Institucional (PDI)",null,null,null,"Largo",null,"6.b-","#","Macroproyecto Plan de Desarrollo Institucional (PDI)",null,null,null,"Largo",null,"6.b-","#","Macroproyecto Plan de Desarrollo Institucional (PDI)",null,null,null,"Largo",null,"6.b-","#","Macroproyecto Plan de Desarrollo Institucional (PDI)",null,null,null,"Largo",null,"6.b-","#","Macroproyecto Plan de Desarrollo Institucional (PDI)",null,null,null,"Largo",null,"6.b-","#","Macroproyecto Plan de Desarrollo Institucional (PDI)",null,null,null,"Largo",null,"6.b-","#","Macroproyecto Plan de Desarrollo Institucional (PDI)",null,null,null,"Largo",null,"6.b-","#","Macroproyecto Plan de Desarrollo Institucional (PDI)",null,null,null,"Largo",null,"6.b-","#","Macroproyecto Plan de Desarrollo Institucional (PDI)",null,null,null,"Largo",null,"6.b-","#","Macroproyecto Plan de Desarrollo Institucional (PDI)",null,null,null,"Largo",null,"6.b-","#","Macroproyecto Plan de Desarrollo Institucional (PDI)",null,null,null,"Largo",null,"6.b-","#","Macroproyecto Plan de Desarrollo Institucional (PDI)",null,null,null,"Largo",null,"6.b-","#","Macroproyecto Plan de Desarrollo Institucional (PDI)",null,null,null,"Largo",null,"6.b-","#","Macroproyecto Plan de Desarrollo Institucional (PDI)",null,null,null,"Largo",null,"6.b-","#","Macroproyecto Plan de Desarrollo Institucional (PDI)",null,null,null,"Largo",null,"6.b-","#","Macroproyecto Plan de Desarrollo Institucional (PDI)",null,null,null,"Largo",null,"6.b-","#","Macroproyecto Plan de Desarrollo Institucional (PDI)",null,null,null,"Largo",null,"6.b-","#","Macroproyecto Plan de Desarrollo Institucional (PDI)",null,null,null,"Largo",null,"6.b-","#","Macroproyecto Plan de Desarrollo Institucional (PDI)",null,null,null,"Largo",null,"6.b-","#","Macroproyecto Plan de Desarrollo Institucional (PDI)",null,null,null,"Largo",null,"6.b-","#","Macroproyecto Plan de Desarrollo Institucional (PDI)",null,null,null,"Largo",null,"6.b-","#","Macroproyecto Plan de Desarrollo Institucional (PDI)",null,null,null,"Largo",null,"6.b-","#","Macroproyecto Plan de Desarrollo Institucional (PDI)",null,null,null,"Largo",null,"6.b-","#","Macroproyecto Plan de Desarrollo Institucional (PDI)",null,null,null,"Largo",null,"6.b-","#","Macroproyecto Plan de Desarrollo Institucional (PDI)",null,null,null,"Largo",null,"6.b-","#","Macroproyecto Plan de Desarrollo Institucional (PDI)",null,null,null,"Largo",null,"6.b-","#","Macroproyecto Plan de Desarrollo Institucional (PDI)",null,null,null,"Largo",null,"6.b-","#","Macroproyecto Plan de Desarrollo Institucional (PDI)",null,null,null,"Largo",null,"6.b-","#","Macroproyecto Plan de Desarrollo Institucional (PDI)",null,null,null,"Largo",null,"6.b-","#","Macroproyecto Plan de Desarrollo Institucional (PDI)",null,null,null,"Largo",null,"6.b-","#","Macroproyecto Plan de Desarrollo Institucional (PDI)",null,null,null,"Largo",null,"6.b-","#","Macroproyecto Plan de Desarrollo Institucional (PDI)",null,null,null,"Largo",null,"6.b-","#","Macroproyecto Plan de Desarrollo Institucional (PDI)",null,null,null,"Largo",null,"6.b-","#","Macroproyecto Plan de Desarrollo Institucional (PDI)",null,null,null,"Largo",null,"6.b-","#","Macroproyecto Plan de Desarrollo Institucional (PDI)",null,null,null,"Largo",null,"6.b-","#","Macroproyecto Plan de Desarrollo Institucional (PDI)",null,null,null,"Largo",null,"6.b-","#","Macroproyecto Plan de Desarrollo Institucional (PDI)",null,null,null,"Largo",null,"6.b-","#","Macroproyecto Plan de Desarrollo Institucional (PDI)",null,null,null,"Largo",null,"6.b-","#","Macroproyecto Plan de Desarrollo Institucional (PDI)",null,null,null,"Largo",null,"6.b-","#","Macroproyecto Plan de Desarrollo Institucional (PDI)",null,null,null,"Largo",null,"6.b-","#","Macroproyecto Plan de Desarrollo Institucional (PDI)",null,null,null,"Largo",null,"6.b-","#","Macroproyecto Plan de Desarrollo Institucional (PDI)",null,null,null,"Largo",null,"6.b-","#","Macroproyecto Plan de Desarrollo Institucional (PDI)",null,null,null,"Largo",null,"6.b-","#","Macroproyecto Plan de Desarrollo Institucional (PDI)",null,null,null,"Largo",null,"6.b-","#","Macroproyecto Plan de Desarrollo Institucional (PDI)",null,null,null,"Largo",null,"6.b-","#","Macroproyecto Plan de Desarrollo Institucional (PDI)",null,null,null,"Largo",null,"6.b-","#","Macroproyecto Plan de Desarrollo Institucional (PDI)",null,null,null,"Largo",null,"6.b-","#","Macroproyecto Plan de Desarrollo Institucional (PDI)",null,null,null,"Largo",null,"6.b-","#","Macroproyecto Plan de Desarrollo Institucional (PDI)",null,null,null,"Largo",null,"6.b-","#","Macroproyecto Plan de Desarrollo Institucional (PDI)",null,null,null,"Largo",null,"6.b-","#","Macroproyecto Plan de Desarrollo Institucional (PDI)",null,null,null,"Largo",null,"6.b-","#","Macroproyecto Plan de Desarrollo Institucional (PDI)",null,null,null,"Largo",null,"6.b-","#","Macroproyecto Plan de Desarrollo Institucional (PDI)",null,null,null,"Largo",null,"6.b-","#","Macroproyecto Plan de Desarrollo Institucional (PDI)",null,null,null,"Largo",null,"6.b-","#","Macroproyecto Plan de Desarrollo Institucional (PDI)",null,null,null,"Largo",null,"6.b-","#","Macroproyecto Plan de Desarrollo Institucional (PDI)",null,null,null,"Largo",null,"6.b-","#","Macroproyecto Plan de Desarrollo Institucional (PDI)",null,null,null,"Largo",null,"6.b-","#","Macroproyecto Plan de Desarrollo Institucional (PDI)",null,null,null,"Largo",null,"6.b-","#","Macroproyecto Plan de Desarrollo Institucional (PDI)",null,null,null,"Largo",null,"6.b-","#","Macroproyecto Plan de Desarrollo Institucional (PDI)",null,null,null,"Largo",null,"6.b-","#","Macroproyecto Plan de Desarrollo Institucional (PDI)",null,null,null,"Largo",null,"6.b-","#","Macroproyecto Plan de Desarrollo Institucional (PDI)",null,null,null,"Largo",null,"6.b-","#","Macroproyecto Plan de Desarrollo Institucional (PDI)",null,null,null,"Largo",null,"6.b-","#","Macroproyecto Plan de Desarrollo Institucional (PDI)",null,null,null,"Largo",null,"6.b-","#","Macroproyecto Plan de Desarrollo Institucional (PDI)",null,null,null,"Largo",null,"6.b-","#","Macroproyecto Plan de Desarrollo Institucional (PDI)",null,null,null,"Largo",null,"6.b-","#","Macroproyecto Plan de Desarrollo Institucional (PDI)",null,null,null,"Largo",null,"6.b-","#","Macroproyecto Plan de Desarrollo Institucional (PDI)",null,null,null,"Largo",null,"6.b-","#","Macroproyecto Plan de Desarrollo Institucional (PDI)",null,null,null,"Largo",null,"6.b-","#","Macroproyecto Plan de Desarrollo Institucional (PDI)",null,null,null,"Largo",null,"6.b-","#","Macroproyecto Plan de Desarrollo Institucional (PDI)",null,null,null,"Largo",null,"6.b-","#","Macroproyecto Plan de Desarrollo Institucional (PDI)",null,null,null,"Largo",null,"6.b-","#","Macroproyecto Plan de Desarrollo Institucional (PDI)",null,null,null,"Largo",null,"6.b-","#","Macroproyecto Plan de Desarrollo Institucional (PDI)",null,null,null,"Largo",null,"6.b-","#","Macroproyecto Plan de Desarrollo Institucional (PDI)",null,null,null,"Largo",null,"6.b-","#","Macroproyecto Plan de Desarrollo Institucional (PDI)",null,null,null,"Largo",null,"6.b-","#","Macroproyecto Plan de Desarrollo Institucional (PDI)",null,null,null,"Largo",null,"6.b-","#","Macroproyecto Plan de Desarrollo Institucional (PDI)",null,null,null,"Largo",null,"6.b-","#","Macroproyecto Plan de Desarrollo Institucional (PDI)",null,null,null,"Largo",null,"6.b-","#","Macroproyecto Plan de Desarrollo Institucional (PDI)",null,null,null,"Largo",null,"6.b-","#","Macroproyecto Plan de Desarrollo Institucional (PDI)",null,null,null,"Largo",null,"6.b-","#","Macroproyecto Plan de Desarrollo Institucional (PDI)",null,null,null,"Largo",null,"6.b-","#","Macroproyecto Plan de Desarrollo Institucional (PDI)",null,null,null,"Largo",null,"6.b-","#","Macroproyecto Plan de Desarrollo Institucional (PDI)",null,null,null,"Largo",null,"6.b-","#","Macroproyecto Plan de Desarrollo Institucional (PDI)",null,null,null,"Largo",null,"6.b-","#","Macroproyecto Plan de Desarrollo Institucional (PDI)",null,null,null,"Largo",null,"6.b-","#","Macroproyecto Plan de Desarrollo Institucional (PDI)",null,null,null,"Largo",null,"6.b-","#","Macroproyecto Plan de Desarrollo Institucional (PDI)",null,null,null,"Largo",null,"6.b-","#","Macroproyecto Plan de Desarrollo Institucional (PDI)",null,null,null,"Largo",null,"6.b-","#","Macroproyecto Plan de Desarrollo Institucional (PDI)",null,null,null,"Largo",null,"6.b-","#","Macroproyecto Plan de Desarrollo Institucional (PDI)",null,null,null,"Largo",null,"6.b-","#","Macroproyecto Plan de Desarrollo Institucional (PDI)",null,null,null,"Largo",null,"6.b-","#","Macroproyecto Plan de Desarrollo Institucional (PDI)",null,null,null,"Largo",null,"6.b-","#","Macroproyecto Plan de Desarrollo Institucional (PDI)",null,null,null,"Largo",null,"6.b-","#","Macroproyecto Plan de Desarrollo Institucional (PDI)",null,null,null,"Largo",null,"6.b-","#","Macroproyecto Plan de Desarrollo Institucional (PDI)",null,null,null,"Largo",null,"6.b-","#","Macroproyecto Plan de Desarrollo Institucional (PDI)",null,null,null,"Largo",null,"6.b-","#","Macroproyecto Plan de Desarrollo Institucional (PDI)",null,null,null,"Largo",null,"6.b-","#","Macroproyecto Plan de Desarrollo Institucional (PDI)",null,null,null,"Largo",null,"6.b-","#","Macroproyecto Plan de Desarrollo Institucional (PDI)",null,null,null,"Largo",null,"6.b-","#","Macroproyecto Plan de Desarrollo Institucional (PDI)",null,null,null,"Largo",null,"6.b-","#","Macroproyecto Plan de Desarrollo Institucional (PDI)",null,null,null,"Largo",null,"6.b-","#","Macroproyecto Plan de Desarrollo Institucional (PDI)",null,null,null,"Largo",null,"6.b-","#","Macroproyecto Plan de Desarrollo Institucional (PDI)",null,null,null,"Largo",null,"6.b-","#","Macroproyecto Plan de Desarrollo Institucional (PDI)",null,null,null,"Largo",null,"6.b-","#","Macroproyecto Plan de Desarrollo Institucional (PDI)",null,null,null,"Largo",null,"6.b-","#","Macroproyecto Plan de Desarrollo Institucional (PDI)",null,null,null,"Largo",null,"6.b-","#","Macroproyecto Plan de Desarrollo Institucional (PDI)",null,null,null,"Largo",null,"6.b-","#","Macroproyecto Plan de Desarrollo Institucional (PDI)",null,null,null,"Largo",null,"6.b-","#","Macroproyecto Plan de Desarrollo Institucional (PDI)",null,null,null,"Largo",null,"6.b-","#","Macroproyecto Plan de Desarrollo Institucional (PDI)",null,null,null,"Largo",null,"6.b-","#","Macroproyecto Plan de Desarrollo Institucional (PDI)",null,null,null,"Largo",null,"6.b-","#","Macroproyecto Plan de Desarrollo Institucional (PDI)",null,null,null,"Largo",null,"6.b-","#","Macroproyecto Plan de Desarrollo Institucional (PDI)",null,null,null,"Largo",null,"6.b-","#","Macroproyecto Plan de Desarrollo Institucional (PDI)",null,null,null,"Largo",null,"6.b-","#","Macroproyecto Plan de Desarrollo Institucional (PDI)",null,null,null,"Largo",null,"6.b-","#","Macroproyecto Plan de Desarrollo Institucional (PDI)",null,null,null,"Largo",null,"6.b-","#","Macroproyecto Plan de Desarrollo Institucional (PDI)",null,null,null,"Largo",null,"6.b-","#","Macroproyecto Plan de Desarrollo Institucional (PDI)",null,null,null,"Largo",null,"6.b-","#","Macroproyecto Plan de Desarrollo Institucional (PDI)",null,null,null,"Largo",null,"6.b-","#","Macroproyecto Plan de Desarrollo Institucional (PDI)",null,null,null,"Largo",null,"6.b-","#","Macroproyecto Plan de Desarrollo Institucional (PDI)",null,null,null,"Largo",null,"6.b-","#","Macroproyecto Plan de Desarrollo Institucional (PDI)",null,null,null,"Largo",null,"6.b-","#","Macroproyecto Plan de Desarrollo Institucional (PDI)",null,null,null,"Largo",null,"6.b-","#","Macroproyecto Plan de Desarrollo Institucional (PDI)",null,null,null,"Largo",null,"6.b-","#","Macroproyecto Plan de Desarrollo Institucional (PDI)",null,null,null,"Largo",null,"6.b-","#","Macroproyecto Plan de Desarrollo Institucional (PDI)",null,null,null,"Largo",null,"6.b-","#","Macroproyecto Plan de Desarrollo Institucional (PDI)",null,null,null,"Largo",null,"6.b-","#","Macroproyecto Plan de Desarrollo Institucional (PDI)",null,null,null,"Largo",null,"6.b-","#","Macroproyecto Plan de Desarrollo Institucional (PDI)",null,null,null,"Largo",null,"6.b-","#","Macroproyecto Plan de Desarrollo Institucional (PDI)",null,null,null,"Largo",null,"6.b-","#","Macroproyecto Plan de Desarrollo Institucional (PDI)",null,null,null,"Largo",null,"6.b-","#","Macroproyecto Plan de Desarrollo Institucional (PDI)",null,null,null,"Largo",null,"6.b-","#","Macroproyecto Plan de Desarrollo Institucional (PDI)",null,null,null,"Largo",null,"6.b-","#","Macroproyecto Plan de Desarrollo Institucional (PDI)",null,null,null,"Largo",null,"6.b-","#","Macroproyecto Plan de Desarrollo Institucional (PDI)",null,null,null,"Largo",null,"6.b-","#","Macroproyecto Plan de Desarrollo Institucional (PDI)",null,null,null,"Largo",null,"6.b-","#","Macroproyecto Plan de Desarrollo Institucional (PDI)",null,null,null,"Largo",null,"6.b-","#","Macroproyecto Plan de Desarrollo Institucional (PDI)",null,null,null,"Largo",null,"6.b-","#","Macroproyecto Plan de Desarrollo Institucional (PDI)",null,null,null,"Largo",null,"6.b-","#","Macroproyecto Plan de Desarrollo Institucional (PDI)",null,null,null,"Largo",null,"6.b-","#","Macroproyecto Plan de Desarrollo Institucional (PDI)",null,null,null,"Largo",null,"6.b-","#","Macroproyecto Plan de Desarrollo Institucional (PDI)",null,null,null,"Largo",null,"6.b-","#","Macroproyecto Plan de Desarrollo Institucional (PDI)",null,null,null,"Largo",null,"6.b-","#","Macroproyecto Plan de Desarrollo Institucional (PDI)",null,null,null,"Largo",null,"6.b-","#","Macroproyecto Plan de Desarrollo Institucional (PDI)",null,null,null,"Largo",null,"6.b-","#","Macroproyecto Plan de Desarrollo Institucional (PDI)",null,null,null,"Largo",null,"6.b-","#","Macroproyecto Plan de Desarrollo Institucional (PDI)",null,null,null,"Largo",null,"6.b-","#","Macroproyecto Plan de Desarrollo Institucional (PDI)",null,null,null,"Largo",null,"6.b-","#","Macroproyecto Plan de Desarrollo Institucional (PDI)",null,null,null,"Largo",null,"6.b-","#","Macroproyecto Plan de Desarrollo Institucional (PDI)",null,null,null,"Largo",null,"6.b-","#","Macroproyecto Plan de Desarrollo Institucional (PDI)",null,null,null,"Largo",null,"6.b-","#","Macroproyecto Plan de Desarrollo Institucional (PDI)",null,null,null,"Largo",null,"6.b-","#","Macroproyecto Plan de Desarrollo Institucional (PDI)",null,null,null,"Largo",null,"6.b-","#","Macroproyecto Plan de Desarrollo Institucional (PDI)",null,null,null,"Largo",null,"6.b-","#","Macroproyecto Plan de Desarrollo Institucional (PDI)",null,null,null,"Largo",null,"6.b-","#","Macroproyecto Plan de Desarrollo Institucional (PDI)",null,null,null,"Largo",null,"6.b-","#","Macroproyecto Plan de Desarrollo Institucional (PDI)",null,null,null,"Largo",null,"6.b-","#","Macroproyecto Plan de Desarrollo Institucional (PDI)",null,null,null,"Largo",null,"6.b-","#","Macroproyecto Plan de Desarrollo Institucional (PDI)",null,null,null,"Largo",null,"6.b-","#","Macroproyecto Plan de Desarrollo Institucional (PDI)",null,null,null,"Largo",null,"6.b-","#","Macroproyecto Plan de Desarrollo Institucional (PDI)",null,null,null,"Largo",null,"6.b-","#","Macroproyecto Plan de Desarrollo Institucional (PDI)",null,null,null,"Largo",null,"6.b-","#","Macroproyecto Plan de Desarrollo Institucional (PDI)",null,null,null,"Largo",null,"6.b-","#","Macroproyecto Plan de Desarrollo Institucional (PDI)",null,null,null,"Largo",null,"6.b-","#","Macroproyecto Plan de Desarrollo Institucional (PDI)",null,null,null,"Largo",null,"6.b-","#","Macroproyecto Plan de Desarrollo Institucional (PDI)",null,null,null,"Largo",null,"6.b-","#","Macroproyecto Plan de Desarrollo Institucional (PDI)",null,null,null,"Largo",null,"6.b-","#","Macroproyecto Plan de Desarrollo Institucional (PDI)",null,null,null,"Largo",null,"6.b-","#","Macroproyecto Plan de Desarrollo Institucional (PDI)",null,null,null,"Largo",null,"6.b-","#","Macroproyecto Plan de Desarrollo Institucional (PDI)",null,null,null,"Largo",null,"6.b-","#","Macroproyecto Plan de Desarrollo Institucional (PDI)",null,null,null,"Largo",null,"6.b-","#","Macroproyecto Plan de Desarrollo Institucional (PDI)",null,null,null,"Largo",null,"6.b-","#","Macroproyecto Plan de Desarrollo Institucional (PDI)",null,null,null,"Largo",null,"6.b-","#","Macroproyecto Plan de Desarrollo Institucional (PDI)",null,null,null,"Largo",null,"6.b-","#","Macroproyecto Plan de Desarrollo Institucional (PDI)",null,null,null,"Largo",null,"6.b-","#","Macroproyecto Plan de Desarrollo Institucional (PDI)",null,null,null,"Largo",null,"6.b-","#","Macroproyecto Plan de Desarrollo Institucional (PDI)",null,null,null,"Largo",null,"6.b-","#","Macroproyecto Plan de Desarrollo Institucional (PDI)",null,null,null,"Largo",null,"6.b-","#","Macroproyecto Plan de Desarrollo Institucional (PDI)",null,null,null,"Largo",null,"6.b-","#","Macroproyecto Plan de Desarrollo Institucional (PDI)",null,null,null,"Largo",null,"6.b-","#","Macroproyecto Plan de Desarrollo Institucional (PDI)",null,null,null,"Largo",null,"6.b-","#","Macroproyecto Plan de Desarrollo Institucional (PDI)",null,null,null,"Largo",null,"6.b-","#","Macroproyecto Plan de Desarrollo Institucional (PDI)",null,null,null,"Largo",null,"6.b-","#","Macroproyecto Plan de Desarrollo Institucional (PDI)",null,null,null,"Largo",null,"6.b-","#","Macroproyecto Plan de Desarrollo Institucional (PDI)",null,null,null,"Largo",null,"6.b-","#","Macroproyecto Plan de Desarrollo Institucional (PDI)",null,null,null,"Largo",null,"6.b-","#","Macroproyecto Plan de Desarrollo Institucional (PDI)",null,null,null,"Largo",null,"6.b-","#","Macroproyecto Plan de Desarrollo Institucional (PDI)",null,null,null,"Largo",null,"6.b-","#","Macroproyecto Plan de Desarrollo Institucional (PDI)",null,null,null,"Largo",null,"6.b-","#","Macroproyecto Plan de Desarrollo Institucional (PDI)",null,null,null,"Largo",null,"6.b-","#","Macroproyecto Plan de Desarrollo Institucional (PDI)",null,null,null,"Largo",null,"6.b-","#","Macroproyecto Plan de Desarrollo Institucional (PDI)",null,null,null,"Largo",null,"6.b-","#","Macroproyecto Plan de Desarrollo Institucional (PDI)",null,null,null,"Largo",null,"6.b-","#","Macroproyecto Plan de Desarrollo Institucional (PDI)",null,null,null,"Largo",null,"6.b-","#","Macroproyecto Plan de Desarrollo Institucional (PDI)",null,null,null,"Largo",null,"6.b-","#","Macroproyecto Plan de Desarrollo Institucional (PDI)",null,null,null,"Largo",null,"6.b-","#","Macroproyecto Plan de Desarrollo Institucional (PDI)",null,null,null,"Largo",null,"6.b-","#","Macroproyecto Plan de Desarrollo Institucional (PDI)",null,null,null,"Largo",null,"6.b-","#","Macroproyecto Plan de Desarrollo Institucional (PDI)",null,null,null,"Largo",null,"6.b-","#","Macroproyecto Plan de Desarrollo Institucional (PDI)",null,null,null,"Largo",null,"6.b-","#","Macroproyecto Plan de Desarrollo Institucional (PDI)",null,null,null,"Largo",null,"6.b-","#","Macroproyecto Plan de Desarrollo Institucional (PDI)",null,null,null,"Largo",null,"6.b-","#","Macroproyecto Plan de Desarrollo Institucional (PDI)",null,null,null,"Largo",null,"6.b-","#","Macroproyecto Plan de Desarrollo Institucional (PDI)",null,null,null,"Largo",null,"6.b-","#","Macroproyecto Plan de Desarrollo Institucional (PDI)",null,null,null,"Largo",null,"6.b-","#","Macroproyecto Plan de Desarrollo Institucional (PDI)",null,null,null,"Largo",null,"6.b-","#","Macroproyecto Plan de Desarrollo Institucional (PDI)",null,null,null,"Largo",null,"6.b-","#","Macroproyecto Plan de Desarrollo Institucional (PDI)",null,null,null,"Largo",null,"6.b-","#","Macroproyecto Plan de Desarrollo Institucional (PDI)",null,null,null,"Largo",null,"6.b-","#","Macroproyecto Plan de Desarrollo Institucional (PDI)",null,null,null,"Largo",null,"6.b-","#","Macroproyecto Plan de Desarrollo Institucional (PDI)",null,null,null,"Largo",null,"6.b-","#","Macroproyecto Plan de Desarrollo Institucional (PDI)",null,null,null,"Largo",null,"6.b-","#","Macroproyecto Plan de Desarrollo Institucional (PDI)",null,null,null,"Largo",null,"6.b-","#","Macroproyecto Plan de Desarrollo Institucional (PDI)",null,null,null,"Largo",null,"6.b-","#","Macroproyecto Plan de Desarrollo Institucional (PDI)",null,null,null,"Largo",null,"6.b-","#","Macroproyecto Plan de Desarrollo Institucional (PDI)",null,null,null,"Largo",null,"6.b-","#","Macroproyecto Plan de Desarrollo Institucional (PDI)",null,null,null,"Largo",null,"6.b-","#","Macroproyecto Plan de Desarrollo Institucional (PDI)",null,null,null,"Largo",null,"6.b-","#","Macroproyecto Plan de Desarrollo Institucional (PDI)",null,null,null,"Largo",null,"6.b-","#","Macroproyecto Plan de Desarrollo Institucional (PDI)",null,null,null,"Largo",null,"6.b-","#","Macroproyecto Plan de Desarrollo Institucional (PDI)",null,null,null,"Largo",null,"6.b-","#","Macroproyecto Plan de Desarrollo Institucional (PDI)",null,null,null,"Largo",null,"6.b-","#","Macroproyecto Plan de Desarrollo Institucional (PDI)",null,null,null,"Largo",null,"6.b-","#","Macroproyecto Plan de Desarrollo Institucional (PDI)",null,null,null,"Largo",null,"6.b-","#","Macroproyecto Plan de Desarrollo Institucional (PDI)",null,null,null,"Largo",null,"6.b-","#","Macroproyecto Plan de Desarrollo Institucional (PDI)",null,null,null,"Largo",null,"6.b-","#","Macroproyecto Plan de Desarrollo Institucional (PDI)",null,null,null,"Largo",null,"6.b-","#","Macroproyecto Plan de Desarrollo Institucional (PDI)",null,null,null,"Largo",null,"6.b-","#","Macroproyecto Plan de Desarrollo Institucional (PDI)",null,null,null,"Largo",null,"6.b-","#","Macroproyecto Plan de Desarrollo Institucional (PDI)",null,null,null,"Largo",null,"6.b-","#","Macroproyecto Plan de Desarrollo Institucional (PDI)",null,null,null,"Largo",null,"6.b-","#","Macroproyecto Plan de Desarrollo Institucional (PDI)",null,null,null,"Largo",null,"6.b-","#","Macroproyecto Plan de Desarrollo Institucional (PDI)",null,null,null,"Largo",null,"6.b-","#","Macroproyecto Plan de Desarrollo Institucional (PDI)",null,null,null,"Largo",null,"6.b-","#","Macroproyecto Plan de Desarrollo Institucional (PDI)",null,null,null,"Largo",null,"6.b-","#","Macroproyecto Plan de Desarrollo Institucional (PDI)",null,null,null,"Largo",null,"6.b-","#","Macroproyecto Plan de Desarrollo Institucional (PDI)",null,null,null,"Largo",null,"6.b-","#","Macroproyecto Plan de Desarrollo Institucional (PDI)",null,null,null,"Largo",null,"6.b-","#","Macroproyecto Plan de Desarrollo Institucional (PDI)",null,null,null,"Largo",null,"6.b-","#","Macroproyecto Plan de Desarrollo Institucional (PDI)",null,null,null,"Largo",null,"6.b-","#","Macroproyecto Plan de Desarrollo Institucional (PDI)",null,null,null,"Largo",null,"6.b-","#","Macroproyecto Plan de Desarrollo Institucional (PDI)",null,null,null,"Largo",null,"6.b-","#","Macroproyecto Plan de Desarrollo Institucional (PDI)",null,null,null,"Largo",null,"6.b-","#","Macroproyecto Plan de Desarrollo Institucional (PDI)",null,null,null,"Largo",null,"6.b-","#","Macroproyecto Plan de Desarrollo Institucional (PDI)",null,null,null,"Largo",null,"6.b-","#","Macroproyecto Plan de Desarrollo Institucional (PDI)",null,null,null,"Largo",null,"6.b-","#","Macroproyecto Plan de Desarrollo Institucional (PDI)",null,null,null,"Largo",null,"6.b-","#","Macroproyecto Plan de Desarrollo Institucional (PDI)",null,null,null,"Largo",null,"6.b-","#","Macroproyecto Plan de Desarrollo Institucional (PDI)",null,null,null,"Largo",null,"6.b-","#","Macroproyecto Plan de Desarrollo Institucional (PDI)",null,null,null,"Largo",null,"6.b-","#","Macroproyecto Plan de Desarrollo Institucional (PDI)",null,null,null,"Largo",null,"6.b-","#","Macroproyecto Plan de Desarrollo Institucional (PDI)",null,null,null,"Largo",null,"6.b-","#","Macroproyecto Plan de Desarrollo Institucional (PDI)",null,null,null,"Largo",null,"6.b-","#","Macroproyecto Plan de Desarrollo Institucional (PDI)",null,null,null,"Largo",null,"6.b-","#","Macroproyecto Plan de Desarrollo Institucional (PDI)",null,null,null,"Largo",null,"6.b-","#","Macroproyecto Plan de Desarrollo Institucional (PDI)",null,null,null,"Largo",null,"6.b-","#","Macroproyecto Plan de Desarrollo Institucional (PDI)",null,null,null,"Largo",null,"6.b-","#","Macroproyecto Plan de Desarrollo Institucional (PDI)",null,null,null,"Largo",null,"6.b-","#","Macroproyecto Plan de Desarrollo Institucional (PDI)",null,null,null,"Largo",null,"6.b-","#","Macroproyecto Plan de Desarrollo Institucional (PDI)",null,null,null,"Largo",null,"6.b-","#","Macroproyecto Plan de Desarrollo Institucional (PDI)",null,null,null,"Largo",null,"6.b-","#","Macroproyecto Plan de Desarrollo Institucional (PDI)",null,null,null,"Largo",null,"6.b-","#","Macroproyecto Plan de Desarrollo Institucional (PDI)",null,null,null,"Largo",null,"6.b-","#","Macroproyecto Plan de Desarrollo Institucional (PDI)",null,null,null,"Largo",null,"6.b-","#","Macroproyecto Plan de Desarrollo Institucional (PDI)",null,null,null,"Largo",null,"6.b-","#","Macroproyecto Plan de Desarrollo Institucional (PDI)",null,null,null,"Largo",null,"6.b-","#","Macroproyecto Plan de Desarrollo Institucional (PDI)",null,null,null,"Largo",null,"6.b-","#","Macroproyecto Plan de Desarrollo Institucional (PDI)",null,null,null,"Largo",null,"6.b-","#","Macroproyecto Plan de Desarrollo Institucional (PDI)",null,null,null,"Largo",null,"6.b-","#","Macroproyecto Plan de Desarrollo Institucional (PDI)",null,null,null,"Largo",null,"6.b-","#","Macroproyecto Plan de Desarrollo Institucional (PDI)",null,null,null,"Largo",null,"6.b-","#","Macroproyecto Plan de Desarrollo Institucional (PDI)",null,null,null,"Largo",null,"6.b-","#","Macroproyecto Plan de Desarrollo Institucional (PDI)",null,null,null,"Largo",null,"6.b-","#","Macroproyecto Plan de Desarrollo Institucional (PDI)",null,null,null,"Largo",null,"6.b-","#","Macroproyecto Plan de Desarrollo Institucional (PDI)",null,null,null,"Largo",null,"6.b-","#","Macroproyecto Plan de Desarrollo Institucional (PDI)",null,null,null,"Largo",null,"6.b-","#","Macroproyecto Plan de Desarrollo Institucional (PDI)",null,null,null,"Largo",null,"6.b-","#","Macroproyecto Plan de Desarrollo Institucional (PDI)",null,null,null,"Largo",null,"6.b-","#","Macroproyecto Plan de Desarrollo Institucional (PDI)",null,null,null,"Largo",null,"6.b-","#","Macroproyecto Plan de Desarrollo Institucional (PDI)",null,null,null,"Largo",null,"6.b-","#","Macroproyecto Plan de Desarrollo Institucional (PDI)",null,null,null,"Largo",null,"6.b-","#","Macroproyecto Plan de Desarrollo Institucional (PDI)",null,null,null,"Largo",null,"6.b-","#","Macroproyecto Plan de Desarrollo Institucional (PDI)",null,null,null,"Largo",null,"6.b-","#","Macroproyecto Plan de Desarrollo Institucional (PDI)",null,null,null,"Largo",null,"6.b-","#","Macroproyecto Plan de Desarrollo Institucional (PDI)",null,null,null,"Largo",null,"6.b-","#","Macroproyecto Plan de Desarrollo Institucional (PDI)",null,null,null,"Largo",null,"6.b-","#","Macroproyecto Plan de Desarrollo Institucional (PDI)",null,null,null,"Largo",null,"6.b-","#","Macroproyecto Plan de Desarrollo Institucional (PDI)",null,null,null,"Largo",null,"6.b-","#","Macroproyecto Plan de Desarrollo Institucional (PDI)",null,null,null,"Largo",null,"6.b-","#","Macroproyecto Plan de Desarrollo Institucional (PDI)",null,null,null,"Largo",null,"6.b-","#","Macroproyecto Plan de Desarrollo Institucional (PDI)",null,null,null,"Largo",null,"6.b-","#","Macroproyecto Plan de Desarrollo Institucional (PDI)",null,null,null,"Largo",null,"6.b-","#","Macroproyecto Plan de Desarrollo Institucional (PDI)",null,null,null,"Largo",null,"6.b-","#","Macroproyecto Plan de Desarrollo Institucional (PDI)",null,null,null,"Largo",null,"6.b-","#","Macroproyecto Plan de Desarrollo Institucional (PDI)",null,null,null,"Largo",null,"6.b-","#","Macroproyecto Plan de Desarrollo Institucional (PDI)",null,null,null,"Largo",null,"6.b-","#","Macroproyecto Plan de Desarrollo Institucional (PDI)",null,null,null,"Largo",null,"6.b-","#","Macroproyecto Plan de Desarrollo Institucional (PDI)",null,null,null,"Largo",null,"6.b-","#","Macroproyecto Plan de Desarrollo Institucional (PDI)",null,null,null,"Largo",null,"6.b-","#","Macroproyecto Plan de Desarrollo Institucional (PDI)",null,null,null,"Largo",null,"6.b-","#","Macroproyecto Plan de Desarrollo Institucional (PDI)",null,null,null,"Largo",null,"6.b-","#","Macroproyecto Plan de Desarrollo Institucional (PDI)",null,null,null,"Largo",null,"6.b-","#","Macroproyecto Plan de Desarrollo Institucional (PDI)",null,null,null,"Largo",null,"6.b-","#","Macroproyecto Plan de Desarrollo Institucional (PDI)",null,null,null,"Largo",null,"6.b-","#","Macroproyecto Plan de Desarrollo Institucional (PDI)",null,null,null,"Largo",null,"6.b-","#","Macroproyecto Plan de Desarrollo Institucional (PDI)",null,null,null,"Largo",null,"6.b-","#","Macroproyecto Plan de Desarrollo Institucional (PDI)",null,null,null,"Largo",null,"6.b-","#","Macroproyecto Plan de Desarrollo Institucional (PDI)",null,null,null,"Largo",null,"6.b-","#","Macroproyecto Plan de Desarrollo Institucional (PDI)",null,null,null,"Largo",null,"6.b-","#","Macroproyecto Plan de Desarrollo Institucional (PDI)",null,null,null,"Largo",null,"6.b-","#","Macroproyecto Plan de Desarrollo Institucional (PDI)",null,null,null,"Largo",null,"6.b-","#","Macroproyecto Plan de Desarrollo Institucional (PDI)",null,null,null,"Largo",null,"6.b-","#","Macroproyecto Plan de Desarrollo Institucional (PDI)",null,null,null,"Largo",null,"6.b-","#","Macroproyecto Plan de Desarrollo Institucional (PDI)",null,null,null,"Largo",null,"6.b-","#","Macroproyecto Plan de Desarrollo Institucional (PDI)",null,null,null,"Largo",null,"6.b-","#","Macroproyecto Plan de Desarrollo Institucional (PDI)",null,null,null,"Largo",null,"6.b-","#","Macroproyecto Plan de Desarrollo Institucional (PDI)",null,null,null,"Largo",null,"6.b-","#","Macroproyecto Plan de Desarrollo Institucional (PDI)",null,null,null,"Largo",null,"6.b-","#","Macroproyecto Plan de Desarrollo Institucional (PDI)",null,null,null,"Largo",null,"6.b-","#","Macroproyecto Plan de Desarrollo Institucional (PDI)",null,null,null,"Largo",null,"6.b-","#","Macroproyecto Plan de Desarrollo Institucional (PDI)",null,null,null,"Largo",null,"6.b-","#","Macroproyecto Plan de Desarrollo Institucional (PDI)",null,null,null,"Largo",null,"6.b-","#","Macroproyecto Plan de Desarrollo Institucional (PDI)",null,null,null,"Largo",null,"6.b-","#","Macroproyecto Plan de Desarrollo Institucional (PDI)",null,null,null,"Largo",null,"6.b-","#","Macroproyecto Plan de Desarrollo Institucional (PDI)",null,null,null,"Largo",null,"6.b-","#","Macroproyecto Plan de Desarrollo Institucional (PDI)",null,null,null,"Largo",null,"6.b-","#","Macroproyecto Plan de Desarrollo Institucional (PDI)",null,null,null,"Largo",null,"6.b-","#","Macroproyecto Plan de Desarrollo Institucional (PDI)",null,null,null,"Largo",null,"6.b-","#","Macroproyecto Plan de Desarrollo Institucional (PDI)",null,null,null,"Largo",null,"6.b-","#","Macroproyecto Plan de Desarrollo Institucional (PDI)",null,null,null,"Largo",null,"6.b-","#","Macroproyecto Plan de Desarrollo Institucional (PDI)",null,null,null,"Largo",null,"6.b-","#","Macroproyecto Plan de Desarrollo Institucional (PDI)",null,null,null,"Largo",null,"6.b-","#","Macroproyecto Plan de Desarrollo Institucional (PDI)",null,null,null,"Largo",null,"6.b-","#","Macroproyecto Plan de Desarrollo Institucional (PDI)",null,null,null,"Largo",null,"6.b-","#","Macroproyecto Plan de Desarrollo Institucional (PDI)",null,null,null,"Largo",null,"6.b-","#","Macroproyecto Plan de Desarrollo Institucional (PDI)",null,null,null,"Largo",null,"6.b-","#","Macroproyecto Plan de Desarrollo Institucional (PDI)",null,null,null,"Largo",null,"6.b-","#","Macroproyecto Plan de Desarrollo Institucional (PDI)",null,null,null,"Largo",null,"6.b-","#","Macroproyecto Plan de Desarrollo Institucional (PDI)",null,null,null,"Largo",null,"6.b-","#","Macroproyecto Plan de Desarrollo Institucional (PDI)",null,null,null,"Largo",null,"6.b-","#","Macroproyecto Plan de Desarrollo Institucional (PDI)",null,null,null,"Largo",null,"6.b-","#","Macroproyecto Plan de Desarrollo Institucional (PDI)",null,null,null,"Largo",null,"6.b-","#","Macroproyecto Plan de Desarrollo Institucional (PDI)",null,null,null,"Largo",null,"6.b-","#","Macroproyecto Plan de Desarrollo Institucional (PDI)",null,null,null,"Largo",null,"6.b-","#","Macroproyecto Plan de Desarrollo Institucional (PDI)",null,null,null,"Largo",null,"6.b-","#","Macroproyecto Plan de Desarrollo Institucional (PDI)",null,null,null,"Largo",null,"6.b-","#","Macroproyecto Plan de Desarrollo Institucional (PDI)",null,null,null,"Largo",null,"6.b-","#","Macroproyecto Plan de Desarrollo Institucional (PDI)",null,null,null,"Largo",null,"6.b-","#","Macroproyecto Plan de Desarrollo Institucional (PDI)",null,null,null,"Largo",null,"6.b-","#","Macroproyecto Plan de Desarrollo Institucional (PDI)",null,null,null,"Largo",null,"6.b-","#","Macroproyecto Plan de Desarrollo Institucional (PDI)",null,null,null,"Largo",null,"6.b-","#","Macroproyecto Plan de Desarrollo Institucional (PDI)",null,null,null,"Largo",null,"6.b-","#","Macroproyecto Plan de Desarrollo Institucional (PDI)",null,null,null,"Largo",null,"6.b-","#","Macroproyecto Plan de Desarrollo Institucional (PDI)",null,null,null,"Largo",null,"6.b-","#","Macroproyecto Plan de Desarrollo Institucional (PDI)",null,null,null,"Largo",null,"6.b-","#","Macroproyecto Plan de Desarrollo Institucional (PDI)",null,null,null,"Largo",null,"6.b-","#","Macroproyecto Plan de Desarrollo Institucional (PDI)",null,null,null,"Largo",null,"6.b-","#","Macroproyecto Plan de Desarrollo Institucional (PDI)",null,null,null,"Largo",null,"6.b-","#","Macroproyecto Plan de Desarrollo Institucional (PDI)",null,null,null,"Largo",null,"6.b-","#","Macroproyecto Plan de Desarrollo Institucional (PDI)",null,null,null,"Largo",null,"6.b-","#","Macroproyecto Plan de Desarrollo Institucional (PDI)",null,null,null,"Largo",null,"6.b-","#","Macroproyecto Plan de Desarrollo Institucional (PDI)",null,null,null,"Largo",null,"6.b-","#","Macroproyecto Plan de Desarrollo Institucional (PDI)",null,null,null,"Largo",null,"6.b-","#","Macroproyecto Plan de Desarrollo Institucional (PDI)",null,null,null,"Largo",null,"6.b-","#","Macroproyecto Plan de Desarrollo Institucional (PDI)",null,null,null,"Largo",null,"6.b-","#","Macroproyecto Plan de Desarrollo Institucional (PDI)",null,null,null,"Largo",null,"6.b-","#","Macroproyecto Plan de Desarrollo Institucional (PDI)",null,null,null,"Largo",null,"6.b-","#","Macroproyecto Plan de Desarrollo Institucional (PDI)",null,null,null,"Largo",null,"6.b-","#","Macroproyecto Plan de Desarrollo Institucional (PDI)",null,null,null,"Largo",null,"6.b-","#","Macroproyecto Plan de Desarrollo Institucional (PDI)",null,null,null,"Largo",null,"6.b-","#","Macroproyecto Plan de Desarrollo Institucional (PDI)",null,null,null,"Largo",null,"6.b-","#","Macroproyecto Plan de Desarrollo Institucional (PDI)",null,null,null,"Largo",null,"6.b-","#","Macroproyecto Plan de Desarrollo Institucional (PDI)",null,null,null,"Largo",null,"6.b-","#","Macroproyecto Plan de Desarrollo Institucional (PDI)",null,null,null,"Largo",null,"6.b-","#","Macroproyecto Plan de Desarrollo Institucional (PDI)",null,null,null,"Largo",null,"6.b-","#","Macroproyecto Plan de Desarrollo Institucional (PDI)",null,null,null,"Largo",null,"6.b-","#","Macroproyecto Plan de Desarrollo Institucional (PDI)",null,null,null,"Largo",null,"6.b-","#","Macroproyecto Plan de Desarrollo Institucional (PDI)",null,null,null,"Largo",null,"6.b-","#","Macroproyecto Plan de Desarrollo Institucional (PDI)",null,null,null,"Largo",null,"6.b-","#","Macroproyecto Plan de Desarrollo Institucional (PDI)",null,null,null,"Largo",null,"6.b-","#","Macroproyecto Plan de Desarrollo Institucional (PDI)",null,null,null,"Largo",null,"6.b-","#","Macroproyecto Plan de Desarrollo Institucional (PDI)",null,null,null,"Largo",null,"6.b-","#","Macroproyecto Plan de Desarrollo Institucional (PDI)",null,null,null,"Largo",null,"6.b-","#","Macroproyecto Plan de Desarrollo Institucional (PDI)",null,null,null,"Largo",null,"6.b-","#","Macroproyecto Plan de Desarrollo Institucional (PDI)",null,null,null,"Largo",null,"6.b-","#","Macroproyecto Plan de Desarrollo Institucional (PDI)",null,null,null,"Largo",null,"6.b-","#","Macroproyecto Plan de Desarrollo Institucional (PDI)",null,null,null,"Largo",null,"6.b-","#","Macroproyecto Plan de Desarrollo Institucional (PDI)",null,null,null,"Largo",null,"6.b-","#","Macroproyecto Plan de Desarrollo Institucional (PDI)",null,null,null,"Largo",null,"6.b-","#","Macroproyecto Plan de Desarrollo Institucional (PDI)",null,null,null,"Largo",null,"6.b-","#","Macroproyecto Plan de Desarrollo Institucional (PDI)",null,null,null,"Largo",null,"6.b-","#","Macroproyecto Plan de Desarrollo Institucional (PDI)",null,null,null,"Largo",null,"6.b-","#","Macroproyecto Plan de Desarrollo Institucional (PDI)",null,null,null,"Largo",null,"6.b-","#","Macroproyecto Plan de Desarrollo Institucional (PDI)",null,null,null,"Largo",null,"6.b-","#","Macroproyecto Plan de Desarrollo Institucional (PDI)",null,null,null,"Largo",null,"6.b-","#","Macroproyecto Plan de Desarrollo Institucional (PDI)",null,null,null,"Largo",null,"6.b-","#","Macroproyecto Plan de Desarrollo Institucional (PDI)",null,null,null,"Largo",null,"6.b-","#","Macroproyecto Plan de Desarrollo Institucional (PDI)",null,null,null,"Largo",null,"6.b-","#","Macroproyecto Plan de Desarrollo Institucional (PDI)",null,null,null,"Largo",null,"6.b-","#","Macroproyecto Plan de Desarrollo Institucional (PDI)",null,null,null,"Largo",null,"6.b-","#","Macroproyecto Plan de Desarrollo Institucional (PDI)",null,null,null,"Largo",null,"6.b-","#","Macroproyecto Plan de Desarrollo Institucional (PDI)",null,null,null,"Largo",null,"6.b-","#","Macroproyecto Plan de Desarrollo Institucional (PDI)",null,null,null,"Largo",null,"6.b-","#","Macroproyecto Plan de Desarrollo Institucional (PDI)",null,null,null,"Largo",null,"6.b-","#","Macroproyecto Plan de Desarrollo Institucional (PDI)",null,null,null,"Largo",null,"6.b-","#","Macroproyecto Plan de Desarrollo Institucional (PDI)",null,null,null,"Largo",null,"6.b-","#","Macroproyecto Plan de Desarrollo Institucional (PDI)",null,null,null,"Largo",null,"6.b-","#","Macroproyecto Plan de Desarrollo Institucional (PDI)",null,null,null,"Largo",null,"6.b-","#","Macroproyecto Plan de Desarrollo Institucional (PDI)",null,null,null,"Largo",null,"6.b-","#","Macroproyecto Plan de Desarrollo Institucional (PDI)",null,null,null,"Largo",null,"6.b-","#","Macroproyecto Plan de Desarrollo Institucional (PDI)",null,null,null,"Largo",null,"6.b-","#","Macroproyecto Plan de Desarrollo Institucional (PDI)",null,null,null,"Largo",null,"6.b-","#","Macroproyecto Plan de Desarrollo Institucional (PDI)",null,null,null,"Largo",null,"6.b-","#","Macroproyecto Plan de Desarrollo Institucional (PDI)",null,null,null,"Largo",null,"6.b-","#","Macroproyecto Plan de Desarrollo Institucional (PDI)",null,null,null,"Largo",null,"6.b-","#","Macroproyecto Plan de Desarrollo Institucional (PDI)",null,null,null,"Largo",null,"6.b-","#","Macroproyecto Plan de Desarrollo Institucional (PDI)",null,null,null,"Largo",null,"6.b-","#","Macroproyecto Plan de Desarrollo Institucional (PDI)",null,null,null,"Largo",null,"6.b-","#","Macroproyecto Plan de Desarrollo Institucional (PDI)",null,null,null,"Largo",null,"6.b-","#","Macroproyecto Plan de Desarrollo Institucional (PDI)",null,null,null,"Largo",null,"6.b-","#","Macroproyecto Plan de Desarrollo Institucional (PDI)",null,null,null,"Largo",null,"6.b-","#","Macroproyecto Plan de Desarrollo Institucional (PDI)",null,null,null,"Largo",null,"6.b-","#","Macroproyecto Plan de Desarrollo Institucional (PDI)",null,null,null,"Largo",null,"6.b-","#","Macroproyecto Plan de Desarrollo Institucional (PDI)",null,null,null,"Largo",null,"6.b-","#","Macroproyecto Plan de Desarrollo Institucional (PDI)",null,null,null,"Largo",null,"6.b-","#","Macroproyecto Plan de Desarrollo Institucional (PDI)",null,null,null,"Largo",null,"6.b-","#","Macroproyecto Plan de Desarrollo Institucional (PDI)",null,null,null,"Largo",null,"6.b-","#","Macroproyecto Plan de Desarrollo Institucional (PDI)",null,null,null,"Largo",null,"6.b-","#","Macroproyecto Plan de Desarrollo Institucional (PDI)",null,null,null,"Largo",null,"6.b-","#","Macroproyecto Plan de Desarrollo Institucional (PDI)",null,null,null,"Largo",null,"6.b-","#","Macroproyecto Plan de Desarrollo Institucional (PDI)",null,null,null,"Largo",null,"6.b-","#","Macroproyecto Plan de Desarrollo Institucional (PDI)",null,null,null,"Largo",null,"6.b-","#","Macroproyecto Plan de Desarrollo Institucional (PDI)",null,null,null,"Largo",null,"6.b-","#","Macroproyecto Plan de Desarrollo Institucional (PDI)",null,null,null,"Largo",null,"6.b-","#","Macroproyecto Plan de Desarrollo Institucional (PDI)",null,null,null,"Largo",null,"6.b-","#","Macroproyecto Plan de Desarrollo Institucional (PDI)",null,null,null,"Largo",null,"6.b-","#","Macroproyecto Plan de Desarrollo Institucional (PDI)",null,null,null,"Largo",null,"6.b-","#","Macroproyecto Plan de Desarrollo Institucional (PDI)",null,null,null,"Largo",null,"6.b-","#","Macroproyecto Plan de Desarrollo Institucional (PDI)",null,null,null,"Largo",null,"6.b-","#","Macroproyecto Plan de Desarrollo Institucional (PDI)",null,null,null,"Largo",null,"6.b-","#","Macroproyecto Plan de Desarrollo Institucional (PDI)",null,null,null,"Largo",null,"6.b-","#","Macroproyecto Plan de Desarrollo Institucional (PDI)",null,null,null,"Largo",null,"6.b-","#","Macroproyecto Plan de Desarrollo Institucional (PDI)",null,null,null,"Largo",null,"6.b-","#","Macroproyecto Plan de Desarrollo Institucional (PDI)",null,null,null,"Largo",null,"6.b-","#","Macroproyecto Plan de Desarrollo Institucional (PDI)",null,null,null,"Largo",null,"6.b-","#","Macroproyecto Plan de Desarrollo Institucional (PDI)",null,null,null,"Largo",null,"6.b-","#","Macroproyecto Plan de Desarrollo Institucional (PDI)",null,null,null,"Largo",null,"6.b-","#","Macroproyecto Plan de Desarrollo Institucional (PDI)",null,null,null,"Largo",null,"6.b-","#","Macroproyecto Plan de Desarrollo Institucional (PDI)",null,null,null,"Largo",null,"6.b-","#","Macroproyecto Plan de Desarrollo Institucional (PDI)",null,null,null,"Largo",null,"6.b-","#","Macroproyecto Plan de Desarrollo Institucional (PDI)",null,null,null,"Largo",null,"6.b-","#","Macroproyecto Plan de Desarrollo Institucional (PDI)",null,null,null,"Largo",null,"6.b-","#","Macroproyecto Plan de Desarrollo Institucional (PDI)",null,null,null,"Largo",null,"6.b-","#","Macroproyecto Plan de Desarrollo Institucional (PDI)",null,null,null,"Largo",null,"6.b-","#","Macroproyecto Plan de Desarrollo Institucional (PDI)",null,null,null,"Largo",null,"6.b-","#","Macroproyecto Plan de Desarrollo Institucional (PDI)",null,null,null,"Largo",null,"6.b-","#","Macroproyecto Plan de Desarrollo Institucional (PDI)",null,null,null,"Largo",null,"6.b-","#","Macroproyecto Plan de Desarrollo Institucional (PDI)",null,null,null,"Largo",null,"6.b-","#","Macroproyecto Plan de Desarrollo Institucional (PDI)",null,null,null,"Largo",null,"6.b-","#","Macroproyecto Plan de Desarrollo Institucional (PDI)",null,null,null,"Largo",null,"6.b-","#","Macroproyecto Plan de Desarrollo Institucional (PDI)",null,null,null,"Largo",null,"6.b-","#","Macroproyecto Plan de Desarrollo Institucional (PDI)",null,null,null,"Largo",null,"6.b-","#","Macroproyecto Plan de Desarrollo Institucional (PDI)",null,null,null,"Largo",null,"6.b-","#","Macroproyecto Plan de Desarrollo Institucional (PDI)",null,null,null,"Largo",null,"6.b-","#","Macroproyecto Plan de Desarrollo Institucional (PDI)",null,null,null,"Largo",null,"6.b-","#","Macroproyecto Plan de Desarrollo Institucional (PDI)",null,null,null,"Largo",null,"6.b-","#","Macroproyecto Plan de Desarrollo Institucional (PDI)",null,null,null,"Largo",null,"6.b-","#","Macroproyecto Plan de Desarrollo Institucional (PDI)",null,null,null,"Largo",null,"6.b-","#","Macroproyecto Plan de Desarrollo Institucional (PDI)",null,null,null,"Largo",null,"6.b-","#","Macroproyecto Plan de Desarrollo Institucional (PDI)",null,null,null,"Largo",null,"6.b-","#","Macroproyecto Plan de Desarrollo Institucional (PDI)",null,null,null,"Largo",null,"6.b-","#","Macroproyecto Plan de Desarrollo Institucional (PDI)",null,null,null,"Largo",null,"6.b-","#","Macroproyecto Plan de Desarrollo Institucional (PDI)",null,null,null,"Largo",null,"6.b-","#","Macroproyecto Plan de Desarrollo Institucional (PDI)",null,null,null,"Largo",null,"6.b-","#","Macroproyecto Plan de Desarrollo Institucional (PDI)",null,null,null,"Largo",null,"6.b-","#","Macroproyecto Plan de Desarrollo Institucional (PDI)",null,null,null,"Largo",null,"6.b-","#","Macroproyecto Plan de Desarrollo Institucional (PDI)",null,null,null,"Largo",null,"6.b-","#","Macroproyecto Plan de Desarrollo Institucional (PDI)",null,null,null,"Largo",null,"6.b-","#","Macroproyecto Plan de Desarrollo Institucional (PDI)",null,null,null,"Largo",null,"6.b-","#","Macroproyecto Plan de Desarrollo Institucional (PDI)",null,null,null,"Largo",null,"6.b-","#","Macroproyecto Plan de Desarrollo Institucional (PDI)",null,null,null,"Largo",null,"6.b-","#","Macroproyecto Plan de Desarrollo Institucional (PDI)",null,null,null,"Largo",null,"6.b-","#","Macroproyecto Plan de Desarrollo Institucional (PDI)",null,null,null,"Largo",null,"6.b-","#","Macroproyecto Plan de Desarrollo Institucional (PDI)",null,null,null,"Largo",null,"6.b-","#","Macroproyecto Plan de Desarrollo Institucional (PDI)",null,null,null,"Largo",null,"6.b-","#","Macroproyecto Plan de Desarrollo Institucional (PDI)",null,null,null,"Largo",null,"6.b-","#","Macroproyecto Plan de Desarrollo Institucional (PDI)",null,null,null,"Largo",null,"6.b-","#","Macroproyecto Plan de Desarrollo Institucional (PDI)",null,null,null,"Largo",null,"6.b-","#","Macroproyecto Plan de Desarrollo Institucional (PDI)",null,null,null,"Largo",null,"6.b-","#","Macroproyecto Plan de Desarrollo Institucional (PDI)",null,null,null,"Largo",null,"6.b-","#","Macroproyecto Plan de Desarrollo Institucional (PDI)",null,null,null,"Largo",null,"6.b-","#","Macroproyecto Plan de Desarrollo Institucional (PDI)",null,null,null,"Largo",null,"6.b-","#","Macroproyecto Plan de Desarrollo Institucional (PDI)",null,null,null,"Largo",null,"6.b-","#","Macroproyecto Plan de Desarrollo Institucional (PDI)",null,null,null,"Largo",null,"6.b-","#","Macroproyecto Plan de Desarrollo Institucional (PDI)",null,null,null,"Largo",null,"6.b-","#","Macroproyecto Plan de Desarrollo Institucional (PDI)",null,null,null,"Largo",null,"6.b-","#","Macroproyecto Plan de Desarrollo Institucional (PDI)",null,null,null,"Largo",null,"6.b-","#","Macroproyecto Plan de Desarrollo Institucional (PDI)",null,null,null,"Largo",null,"6.b-","#","Macroproyecto Plan de Desarrollo Institucional (PDI)",null,null,null,"Largo",null,"6.b-","#","Macroproyecto Plan de Desarrollo Institucional (PDI)",null,null,null,"Largo",null,"6.b-","#","Macroproyecto Plan de Desarrollo Institucional (PDI)",null,null,null,"Largo",null,"6.b-","#","Macroproyecto Plan de Desarrollo Institucional (PDI)",null,null,null,"Largo",null,"6.b-","#","Macroproyecto Plan de Desarrollo Institucional (PDI)",null,null,null,"Largo",null,"6.b-","#","Macroproyecto Plan de Desarrollo Institucional (PDI)",null,null,null,"Largo",null,"6.b-","#","Macroproyecto Plan de Desarrollo Institucional (PDI)",null,null,null,"Largo",null,"6.b-","#","Macroproyecto Plan de Desarrollo Institucional (PDI)",null,null,null,"Largo",null,"6.b-","#","Macroproyecto Plan de Desarrollo Institucional (PDI)",null,null,null,"Largo",null,"6.b-","#","Macroproyecto Plan de Desarrollo Institucional (PDI)",null,null,null,"Largo",null,"6.b-","#","Macroproyecto Plan de Desarrollo Institucional (PDI)",null,null,null,"Largo",null,"6.b-","#","Macroproyecto Plan de Desarrollo Institucional (PDI)",null,null,null,"Largo",null,"6.b-","#","Macroproyecto Plan de Desarrollo Institucional (PDI)",null,null,null,"Largo",null,"6.b-","#","Macroproyecto Plan de Desarrollo Institucional (PDI)",null,null,null,"Largo",null,"6.b-","#","Macroproyecto Plan de Desarrollo Institucional (PDI)",null,null,null,"Largo",null,"6.b-","#","Macroproyecto Plan de Desarrollo Institucional (PDI)",null,null,null,"Largo",null,"6.b-","#","Macroproyecto Plan de Desarrollo Institucional (PDI)",null,null,null,"Largo",null,"6.b-","#","Macroproyecto Plan de Desarrollo Institucional (PDI)",null,null,null,"Largo",null,"6.b-","#","Macroproyecto Plan de Desarrollo Institucional (PDI)",null,null,null,"Largo",null,"6.b-","#","Macroproyecto Plan de Desarrollo Institucional (PDI)",null,null,null,"Largo",null,"6.b-","#","Macroproyecto Plan de Desarrollo Institucional (PDI)",null,null,null,"Largo",null,"6.b-","#","Macroproyecto Plan de Desarrollo Institucional (PDI)",null,null,null,"Largo",null,"6.b-","#","Macroproyecto Plan de Desarrollo Institucional (PDI)",null,null,null,"Largo",null,"6.b-","#","Macroproyecto Plan de Desarrollo Institucional (PDI)",null,null,null,"Largo",null,"6.b-","#","Macroproyecto Plan de Desarrollo Institucional (PDI)",null,null,null,"Largo",null,"6.b-","#","Macroproyecto Plan de Desarrollo Institucional (PDI)",null,null,null,"Largo",null,"6.b-","#","Macroproyecto Plan de Desarrollo Institucional (PDI)",null,null,null,"Largo",null,"6.b-","#","Macroproyecto Plan de Desarrollo Institucional (PDI)",null,null,null,"Largo",null,"6.b-","#","Macroproyecto Plan de Desarrollo Institucional (PDI)",null,null,null,"Largo",null,"6.b-","#","Macroproyecto Plan de Desarrollo Institucional (PDI)",null,null,null,"Largo",null,"6.b-","#","Macroproyecto Plan de Desarrollo Institucional (PDI)",null,null,null,"Largo",null,"6.b-","#","Macroproyecto Plan de Desarrollo Institucional (PDI)",null,null,null,"Largo",null,"6.b-","#","Macroproyecto Plan de Desarrollo Institucional (PDI)",null,null,null,"Largo",null,"6.b-","#","Macroproyecto Plan de Desarrollo Institucional (PDI)",null,null,null,"Largo",null,"6.b-","#","Macroproyecto Plan de Desarrollo Institucional (PDI)",null,null,null,"Largo",null,"6.b-","#","Macroproyecto Plan de Desarrollo Institucional (PDI)",null,null,null,"Largo",null,"6.b-","#","Macroproyecto Plan de Desarrollo Institucional (PDI)",null,null,null,"Largo",null,"6.b-","#","Macroproyecto Plan de Desarrollo Institucional (PDI)",null,null,null,"Largo",null,"6.b-","#","Macroproyecto Plan de Desarrollo Institucional (PDI)",null,null,null,"Largo",null,"6.b-","#","Macroproyecto Plan de Desarrollo Institucional (PDI)",null,null,null,"Largo",null,"6.b-","#","Macroproyecto Plan de Desarrollo Institucional (PDI)",null,null,null,"Largo",null,"6.b-","#","Macroproyecto Plan de Desarrollo Institucional (PDI)",null,null,null,"Largo",null,"6.b-","#","Macroproyecto Plan de Desarrollo Institucional (PDI)",null,null,null,"Largo",null,"6.b-","#","Macroproyecto Plan de Desarrollo Institucional (PDI)",null,null,null,"Largo",null,"6.b-","#","Macroproyecto Plan de Desarrollo Institucional (PDI)",null,null,null,"Largo",null,"6.b-","#","Macroproyecto Plan de Desarrollo Institucional (PDI)",null,null,null,"Largo",null,"6.b-","#","Macroproyecto Plan de Desarrollo Institucional (PDI)",null,null,null,"Largo",null,"6.b-","#","Macroproyecto Plan de Desarrollo Institucional (PDI)",null,null,null,"Largo",null,"6.b-","#","Macroproyecto Plan de Desarrollo Institucional (PDI)",null,null,null,"Largo",null,"6.b-","#","Macroproyecto Plan de Desarrollo Institucional (PDI)",null,null,null,"Largo",null,"6.b-","#","Macroproyecto Plan de Desarrollo Institucional (PDI)",null,null,null,"Largo",null,"6.b-","#","Macroproyecto Plan de Desarrollo Institucional (PDI)",null,null,null,"Largo",null,"6.b-","#","Macroproyecto Plan de Desarrollo Institucional (PDI)",null,null,null,"Largo",null,"6.b-","#","Macroproyecto Plan de Desarrollo Institucional (PDI)",null,null,null,"Largo",null,"6.b-","#","Macroproyecto Plan de Desarrollo Institucional (PDI)",null,null,null,"Largo",null,"6.b-","#","Macroproyecto Plan de Desarrollo Institucional (PDI)",null,null,null,"Largo",null,"6.b-","#","Macroproyecto Plan de Desarrollo Institucional (PDI)",null,null,null,"Largo",null,"6.b-","#","Macroproyecto Plan de Desarrollo Institucional (PDI)",null,null,null,"Largo",null,"6.b-","#","Macroproyecto Plan de Desarrollo Institucional (PDI)",null,null,null,"Largo",null,"6.b-","#","Macroproyecto Plan de Desarrollo Institucional (PDI)",null,null,null,"Largo",null,"6.b-","#","Macroproyecto Plan de Desarrollo Institucional (PDI)",null,null,null,"Largo",null,"6.b-","#","Macroproyecto Plan de Desarrollo Institucional (PDI)",null,null,null,"Largo",null,"6.b-","#","Macroproyecto Plan de Desarrollo Institucional (PDI)",null,null,null,"Largo",null,"6.b-","#","Macroproyecto Plan de Desarrollo Institucional (PDI)",null,null,null,"Largo",null,"6.b-","#","Macroproyecto Plan de Desarrollo Institucional (PDI)",null,null,null,"Largo",null,"6.b-","#","Macroproyecto Plan de Desarrollo Institucional (PDI)",null,null,null,"Largo",null,"6.b-","#","Macroproyecto Plan de Desarrollo Institucional (PDI)",null,null,null,"Largo",null,"6.b-","#","Macroproyecto Plan de Desarrollo Institucional (PDI)",null,null,null,"Largo",null,"6.b-","#","Macroproyecto Plan de Desarrollo Institucional (PDI)",null,null,null,"Largo",null,"6.b-","#","Macroproyecto Plan de Desarrollo Institucional (PDI)",null,null,null,"Largo",null,"6.b-","#","Macroproyecto Plan de Desarrollo Institucional (PDI)",null,null,null,"Largo",null,"6.b-","#","Macroproyecto Plan de Desarrollo Institucional (PDI)",null,null,null,"Largo",null,"6.b-","#","Macroproyecto Plan de Desarrollo Institucional (PDI)",null,null,null,"Largo",null,"6.b-","#","Macroproyecto Plan de Desarrollo Institucional (PDI)",null,null,null,"Largo",null,"6.b-","#","Macroproyecto Plan de Desarrollo Institucional (PDI)",null,null,null,"Largo",null,"6.b-","#","Macroproyecto Plan de Desarrollo Institucional (PDI)",null,null,null,"Largo",null,"6.b-","#","Macroproyecto Plan de Desarrollo Institucional (PDI)",null,null,null,"Largo",null,"6.b-","#","Macroproyecto Plan de Desarrollo Institucional (PDI)",null,null,null,"Largo",null,"6.b-","#","Macroproyecto Plan de Desarrollo Institucional (PDI)",null,null,null,"Largo",null,"6.b-","#","Macroproyecto Plan de Desarrollo Institucional (PDI)",null,null,null,"Largo",null,"6.b-","#","Macroproyecto Plan de Desarrollo Institucional (PDI)",null,null,null,"Largo",null,"6.b-","#","Macroproyecto Plan de Desarrollo Institucional (PDI)",null,null,null,"Largo",null,"6.b-","#","Macroproyecto Plan de Desarrollo Institucional (PDI)",null,null,null,"Largo",null,"6.b-","#","Macroproyecto Plan de Desarrollo Institucional (PDI)",null,null,null,"Largo",null,"6.b-","#","Macroproyecto Plan de Desarrollo Institucional (PDI)",null,null,null,"Largo",null,"6.b-","#","Macroproyecto Plan de Desarrollo Institucional (PDI)",null,null,null,"Largo",null,"6.b-","#","Macroproyecto Plan de Desarrollo Institucional (PDI)",null,null,null,"Largo",null,"6.b-","#","Macroproyecto Plan de Desarrollo Institucional (PDI)",null,null,null,"Largo",null,"6.b-","#","Macroproyecto Plan de Desarrollo Institucional (PDI)",null,null,null,"Largo",null,"6.b-","#","Macroproyecto Plan de Desarrollo Institucional (PDI)",null,null,null,"Largo",null,"6.b-","#","Macroproyecto Plan de Desarrollo Institucional (PDI)",null,null,null,"Largo",null,"6.b-","#","Macroproyecto Plan de Desarrollo Institucional (PDI)",null,null,null,"Largo",null,"6.b-","#","Macroproyecto Plan de Desarrollo Institucional (PDI)",null,null,null,"Largo",null,"6.b-","#","Macroproyecto Plan de Desarrollo Institucional (PDI)",null,null,null,"Largo",null,"6.b-","#","Macroproyecto Plan de Desarrollo Institucional (PDI)",null,null,null,"Largo",null,"6.b-","#","Macroproyecto Plan de Desarrollo Institucional (PDI)",null,null,null,"Largo",null,"6.b-","#","Macroproyecto Plan de Desarrollo Institucional (PDI)",null,null,null,"Largo",null,"6.b-","#","Macroproyecto Plan de Desarrollo Institucional (PDI)",null,null,null,"Largo",null,"6.b-","#","Macroproyecto Plan de Desarrollo Institucional (PDI)",null,null,null,"Largo",null,"6.b-","#","Macroproyecto Plan de Desarrollo Institucional (PDI)",null,null,null,"Largo",null,"6.b-","#","Macroproyecto Plan de Desarrollo Institucional (PDI)",null,null,null,"Largo",null,"6.b-","#","Macroproyecto Plan de Desarrollo Institucional (PDI)",null,null,null,"Largo",null,"6.b-","#","Macroproyecto Plan de Desarrollo Institucional (PDI)",null,null,null,"Largo",null,"6.b-","#","Macroproyecto Plan de Desarrollo Institucional (PDI)",null,null,null,"Largo",null,"6.b-","#","Macroproyecto Plan de Desarrollo Institucional (PDI)",null,null,null,"Largo",null,"6.b-","#","Macroproyecto Plan de Desarrollo Institucional (PDI)",null,null,null,"Largo",null,"6.b-","#","Macroproyecto Plan de Desarrollo Institucional (PDI)",null,null,null,"Largo",null,"6.b-","#","Macroproyecto Plan de Desarrollo Institucional (PDI)",null,null,null,"Largo",null,"6.b-","#","Macroproyecto Plan de Desarrollo Institucional (PDI)",null,null,null,"Largo",null,"6.b-","#","Macroproyecto Plan de Desarrollo Institucional (PDI)",null,null,null,"Largo",null,"6.b-","#","Macroproyecto Plan de Desarrollo Institucional (PDI)",null,null,null,"Largo",null,"6.b-","#","Macroproyecto Plan de Desarrollo Institucional (PDI)",null,null,null,"Largo",null,"6.b-","#","Macroproyecto Plan de Desarrollo Institucional (PDI)",null,null,null,"Largo",null,"6.b-","#","Macroproyecto Plan de Desarrollo Institucional (PDI)",null,null,null,"Largo",null,"6.b-","#","Macroproyecto Plan de Desarrollo Institucional (PDI)",null,null,null,"Largo",null,"6.b-","#","Macroproyecto Plan de Desarrollo Institucional (PDI)",null,null,null,"Largo",null,"6.b-","#","Macroproyecto Plan de Desarrollo Institucional (PDI)",null,null,null,"Largo",null,"6.b-","#","Macroproyecto Plan de Desarrollo Institucional (PDI)",null,null,null,"Largo",null,"6.b-","#","Macroproyecto Plan de Desarrollo Institucional (PDI)",null,null,null,"Largo",null,"6.b-","#","Macroproyecto Plan de Desarrollo Institucional (PDI)",null,null,null,"Largo",null,"6.b-","#","Macroproyecto Plan de Desarrollo Institucional (PDI)",null,null,null,"Largo",null,"6.b-","#","Macroproyecto Plan de Desarrollo Institucional (PDI)",null,null,null,"Largo",null,"6.b-","#","Macroproyecto Plan de Desarrollo Institucional (PDI)",null,null,null,"Largo",null,"6.b-","#","Macroproyecto Plan de Desarrollo Institucional (PDI)",null,null,null,"Largo",null,"6.b-","#","Macroproyecto Plan de Desarrollo Institucional (PDI)",null,null,null,"Largo",null,"6.b-","#","Macroproyecto Plan de Desarrollo Institucional (PDI)",null,null,null,"Largo",null,"6.b-","#","Macroproyecto Plan de Desarrollo Institucional (PDI)",null,null,null,"Largo",null,"6.b-","#","Macroproyecto Plan de Desarrollo Institucional (PDI)",null,null,null,"Largo",null,"6.b-","#","Macroproyecto Plan de Desarrollo Institucional (PDI)",null,null,null,"Largo",null,"6.b-","#","Macroproyecto Plan de Desarrollo Institucional (PDI)",null,null,null,"Largo",null,"6.b-","#","Macroproyecto Plan de Desarrollo Institucional (PDI)",null,null,null,"Largo",null,"6.b-","#","Macroproyecto Plan de Desarrollo Institucional (PDI)",null,null,null,"Largo",null,"6.b-","#","Macroproyecto Plan de Desarrollo Institucional (PDI)",null,null,null,"Largo",null,"6.b-","#","Macroproyecto Plan de Desarrollo Institucional (PDI)",null,null,null,"Largo",null,"6.b-","#","Macroproyecto Plan de Desarrollo Institucional (PDI)",null,null,null,"Largo",null,"6.b-","#","Macroproyecto Plan de Desarrollo Institucional (PDI)",null,null,null,"Largo",null,"6.b-","#","Macroproyecto Plan de Desarrollo Institucional (PDI)",null,null,null,"Largo",null,"6.b-","#","Macroproyecto Plan de Desarrollo Institucional (PDI)",null,null,null,"Largo",null,"6.b-","#","Macroproyecto Plan de Desarrollo Institucional (PDI)",null,null,null,"Largo",null,"6.b-","#","Macroproyecto Plan de Desarrollo Institucional (PDI)",null,null,null,"Largo",null,"6.b-","#","Macroproyecto Plan de Desarrollo Institucional (PDI)",null,null,null,"Largo",null,"6.b-","#","Macroproyecto Plan de Desarrollo Institucional (PDI)",null,null,null,"Largo",null,"6.b-","#","Macroproyecto Plan de Desarrollo Institucional (PDI)",null,null,null,"Largo",null,"6.b-","#","Macroproyecto Plan de Desarrollo Institucional (PDI)",null,null,null,"Largo",null,"6.b-","#","Macroproyecto Plan de Desarrollo Institucional (PDI)",null,null,null,"Largo",null,"6.b-","#","Macroproyecto Plan de Desarrollo Institucional (PDI)",null,null,null,"Largo",null,"6.b-","#","Macroproyecto Plan de Desarrollo Institucional (PDI)",null,null,null,"Largo",null,"6.b-","#","Macroproyecto Plan de Desarrollo Institucional (PDI)",null,null,null,"Largo",null,"6.b-","#","Macroproyecto Plan de Desarrollo Institucional (PDI)",null,null,null,"Largo",null,"6.b-","#","Macroproyecto Plan de Desarrollo Institucional (PDI)",null,null,null,"Largo",null,"6.b-","#","Macroproyecto Plan de Desarrollo Institucional (PDI)",null,null,null,"Largo",null,"6.b-","#","Macroproyecto Plan de Desarrollo Institucional (PDI)",null,null,null,"Largo",null,"6.b-","#","Macroproyecto Plan de Desarrollo Institucional (PDI)",null,null,null,"Largo",null,"6.b-","#","Macroproyecto Plan de Desarrollo Institucional (PDI)",null,null,null,"Largo",null,"6.b-","#","Macroproyecto Plan de Desarrollo Institucional (PDI)",null,null,null,"Largo",null,"6.b-","#","Macroproyecto Plan de Desarrollo Institucional (PDI)",null,null,null,"Largo",null,"6.b-","#","Macroproyecto Plan de Desarrollo Institucional (PDI)",null,null,null,"Largo",null,"6.b-","#","Macroproyecto Plan de Desarrollo Institucional (PDI)",null,null,null,"Largo",null,"6.b-","#","Macroproyecto Plan de Desarrollo Institucional (PDI)",null,null,null,"Largo",null,"6.b-","#","Macroproyecto Plan de Desarrollo Institucional (PDI)",null,null,null,"Largo",null,"6.b-","#","Macroproyecto Plan de Desarrollo Institucional (PDI)",null,null,null,"Largo",null,"6.b-","#","Macroproyecto Plan de Desarrollo Institucional (PDI)",null,null,null,"Largo",null,"6.b-","#","Macroproyecto Plan de Desarrollo Institucional (PDI)",null,null,null,"Largo",null,"6.b-","#","Macroproyecto Plan de Desarrollo Institucional (PDI)",null,null,null,"Largo",null,"6.b-","#","Macroproyecto Plan de Desarrollo Institucional (PDI)",null,null,null,"Largo",null,"6.b-","#","Macroproyecto Plan de Desarrollo Institucional (PDI)",null,null,null,"Largo",null,"6.b-","#","Macroproyecto Plan de Desarrollo Institucional (PDI)",null,null,null,"Largo",null,"6.b-","#","Macroproyecto Plan de Desarrollo Institucional (PDI)",null,null,null,"Largo",null,"6.b-","#","Macroproyecto Plan de Desarrollo Institucional (PDI)",null,null,null,"Largo",null,"6.b-","#","Macroproyecto Plan de Desarrollo Institucional (PDI)",null,null,null,"Largo",null,"6.b-","#","Macroproyecto Plan de Desarrollo Institucional (PDI)",null,null,null,"Largo",null,"6.b-","#","Macroproyecto Plan de Desarrollo Institucional (PDI)",null,null,null,"Largo",null,"6.b-","#","Macroproyecto Plan de Desarrollo Institucional (PDI)",null,null,null,"Largo",null,"6.b-","#","Macroproyecto Plan de Desarrollo Institucional (PDI)",null,null,null,"Largo",null,"6.b-","#","Macroproyecto Plan de Desarrollo Institucional (PDI)",null,null,null,"Largo",null,"6.b-","#","Macroproyecto Plan de Desarrollo Institucional (PDI)",null,null,null,"Largo",null,"6.b-","#","Macroproyecto Plan de Desarrollo Institucional (PDI)",null,null,null,"Largo",null,"6.b-","#","Macroproyecto Plan de Desarrollo Institucional (PDI)",null,null,null,"Largo",null,"6.b-","#","Macroproyecto Plan de Desarrollo Institucional (PDI)",null,null,null,"Largo",null,"6.b-","#","Macroproyecto Plan de Desarrollo Institucional (PDI)",null,null,null,"Largo",null,"6.b-","#","Macroproyecto Plan de Desarrollo Institucional (PDI)",null,null,null,"Largo",null,"6.b-","#","Macroproyecto Plan de Desarrollo Institucional (PDI)",null,null,null,"Largo",null,"6.b-","#","Macroproyecto Plan de Desarrollo Institucional (PDI)",null,null,null,"Largo",null,"6.b-","#","Macroproyecto Plan de Desarrollo Institucional (PDI)",null,null,null,"Largo",null,"6.b-","#","Macroproyecto Plan de Desarrollo Institucional (PDI)",null,null,null,"Largo",null,"6.b-","#","Macroproyecto Plan de Desarrollo Institucional (PDI)",null,null,null,"Largo",null,"6.b-","#","Macroproyecto Plan de Desarrollo Institucional (PDI)",null,null,null,"Largo",null,"6.b-","#","Macroproyecto Plan de Desarrollo Institucional (PDI)",null,null,null,"Largo",null,"6.b-","#","Macroproyecto Plan de Desarrollo Institucional (PDI)",null,null,null,"Largo",null,"6.b-","#","Macroproyecto Plan de Desarrollo Institucional (PDI)",null,null,null,"Largo",null,"6.b-","#","Macroproyecto Plan de Desarrollo Institucional (PDI)",null,null,null,"Largo",null,"6.b-","#","Macroproyecto Plan de Desarrollo Institucional (PDI)",null,null,null,"Largo",null,"6.b-","#","Macroproyecto Plan de Desarrollo Institucional (PDI)",null,null,null,"Largo",null,"6.b-","#","Macroproyecto Plan de Desarrollo Institucional (PDI)",null,null,null,"Largo",null,"6.b-","#","Macroproyecto Plan de Desarrollo Institucional (PDI)",null,null,null,"Largo",null,"6.b-","#","Macroproyecto Plan de Desarrollo Institucional (PDI)",null,null,null,"Largo",null,"6.b-","#","Macroproyecto Plan de Desarrollo Institucional (PDI)",null,null,null,"Largo",null,"6.b-","#","Macroproyecto Plan de Desarrollo Institucional (PDI)",null,null,null,"Largo",null,"6.b-","#","Macroproyecto Plan de Desarrollo Institucional (PDI)",null,null,null,"Largo",null,"6.b-","#","Macroproyecto Plan de Desarrollo Institucional (PDI)",null,null,null,"Largo",null,"6.b-","#","Macroproyecto Plan de Desarrollo Institucional (PDI)",null,null,null,"Largo",null,"6.b-","#","Macroproyecto Plan de Desarrollo Institucional (PDI)",null,null,null,"Largo",null,"6.b-","#","Macroproyecto Plan de Desarrollo Institucional (PDI)",null,null,null,"Largo",null,"6.b-","#","Macroproyecto Plan de Desarrollo Institucional (PDI)",null,null,null,"Largo",null,"6.b-","#","Macroproyecto Plan de Desarrollo Institucional (PDI)",null,null,null,"Largo",null,"6.b-","#","Macroproyecto Plan de Desarrollo Institucional (PDI)",null,null,null,"Largo",null,"6.b-","#","Macroproyecto Plan de Desarrollo Institucional (PDI)",null,null,null,"Largo",null,"6.b-","#","Macroproyecto Plan de Desarrollo Institucional (PDI)",null,null,null,"Largo",null,"6.b-","#","Macroproyecto Plan de Desarrollo Institucional (PDI)",null,null,null,"Largo",null,"6.b-","#","Macroproyecto Plan de Desarrollo Institucional (PDI)",null,null,null,"Largo",null,"6.b-","#","Macroproyecto Plan de Desarrollo Institucional (PDI)",null,null,null,"Largo",null,"6.b-","#","Macroproyecto Plan de Desarrollo Institucional (PDI)",null,null,null,"Largo",null,"6.b-","#","Macroproyecto Plan de Desarrollo Institucional (PDI)",null,null,null,"Largo",null,"6.b-","#","Macroproyecto Plan de Desarrollo Institucional (PDI)",null,null,null,"Largo",null,"6.b-","#","Macroproyecto Plan de Desarrollo Institucional (PDI)",null,null,null,"Largo",null,"6.b-","#","Macroproyecto Plan de Desarrollo Institucional (PDI)",null,null,null,"Largo",null,"6.b-","#","Macroproyecto Plan de Desarrollo Institucional (PDI)",null,null,null,"Largo",null,"6.b-","#","Macroproyecto Plan de Desarrollo Institucional (PDI)",null,null,null,"Largo",null,"6.b-","#","Macroproyecto Plan de Desarrollo Institucional (PDI)",null,null,null,"Largo",null,"6.b-","#","Macroproyecto Plan de Desarrollo Institucional (PDI)",null,null,null,"Largo",null,"6.b-","#","Macroproyecto Plan de Desarrollo Institucional (PDI)",null,null,null,"Largo",null,"6.b-","#","Macroproyecto Plan de Desarrollo Institucional (PDI)",null,null,null,"Largo",null,"6.b-","#","Macroproyecto Plan de Desarrollo Institucional (PDI)",null,null,null,"Largo",null,"6.b-","#","Macroproyecto Plan de Desarrollo Institucional (PDI)",null,null,null,"Largo",null,"6.b-","#","Macroproyecto Plan de Desarrollo Institucional (PDI)",null,null,null,"Largo",null,"6.b-","#","Macroproyecto Plan de Desarrollo Institucional (PDI)",null,null,null,"Largo",null,"6.b-","#","Macroproyecto Plan de Desarrollo Institucional (PDI)",null,null,null,"Largo",null,"6.b-","#","Macroproyecto Plan de Desarrollo Institucional (PDI)",null,null,null,"Largo",null,"6.b-","#","Macroproyecto Plan de Desarrollo Institucional (PDI)",null,null,null,"Largo",null,"6.b-","#","Macroproyecto Plan de Desarrollo Institucional (PDI)",null,null,null,"Largo",null,"6.b-","#","Macroproyecto Plan de Desarrollo Institucional (PDI)",null,null,null,"Largo",null,"6.b-","#","Macroproyecto Plan de Desarrollo Institucional (PDI)",null,null,null,"Largo",null,"6.b-","#","Macroproyecto Plan de Desarrollo Institucional (PDI)",null,null,null,"Largo",null,"6.b-","#","Macroproyecto Plan de Desarrollo Institucional (PDI)",null,null,null,"Largo",null,"6.b-","#","Macroproyecto Plan de Desarrollo Institucional (PDI)",null,null,null,"Largo",null,"6.b-","#","Macroproyecto Plan de Desarrollo Institucional (PDI)",null,null,null,"Largo",null,"6.b-","#","Macroproyecto Plan de Desarrollo Institucional (PDI)",null,null,null,"Largo",null,"6.b-","#","Macroproyecto Plan de Desarrollo Institucional (PDI)",null,null,null,"Largo",null,"6.b-","#","Macroproyecto Plan de Desarrollo Institucional (PDI)",null,null,null,"Largo",null,"6.b-","#","Macroproyecto Plan de Desarrollo Institucional (PDI)",null,null,null,"Largo",null,"6.b-","#","Macroproyecto Plan de Desarrollo Institucional (PDI)",null,null,null,"Largo",null,"6.b-","#","Macroproyecto Plan de Desarrollo Institucional (PDI)",null,null,null,"Largo",null,"6.b-","#","Macroproyecto Plan de Desarrollo Institucional (PDI)",null,null,null,"Largo",null,"6.b-","#","Macroproyecto Plan de Desarrollo Institucional (PDI)",null,null,null,"Largo",null,"6.b-","#","Macroproyecto Plan de Desarrollo Institucional (PDI)",null,null,null,"Largo",null,"6.b-","#","Macroproyecto Plan de Desarrollo Institucional (PDI)",null,null,null,"Largo",null,"6.b-","#","Macroproyecto Plan de Desarrollo Institucional (PDI)",null,null,null,"Largo",null,"6.b-","#","Macroproyecto Plan de Desarrollo Institucional (PDI)",null,null,null,"Largo",null,"6.b-","#","Macroproyecto Plan de Desarrollo Institucional (PDI)",null,null,null,"Largo",null,"6.b-","#","Macroproyecto Plan de Desarrollo Institucional (PDI)",null,null,null,"Largo",null,"6.b-","#","Macroproyecto Plan de Desarrollo Institucional (PDI)",null,null,null,"Largo",null,"6.b-","#","Macroproyecto Plan de Desarrollo Institucional (PDI)",null,null,null,"Largo",null,"6.b-","#","Macroproyecto Plan de Desarrollo Institucional (PDI)",null,null,null,"Largo",null,"6.b-","#","Macroproyecto Plan de Desarrollo Institucional (PDI)",null,null,null,"Largo",null,"6.b-","#","Macroproyecto Plan de Desarrollo Institucional (PDI)",null,null,null,"Largo",null,"6.b-","#","Macroproyecto Plan de Desarrollo Institucional (PDI)",null,null,null,"Largo",null,"6.b-","#","Macroproyecto Plan de Desarrollo Institucional (PDI)",null,null,null,"Largo",null,"6.b-","#","Macroproyecto Plan de Desarrollo Institucional (PDI)",null,null,null,"Largo",null,"6.b-","#","Macroproyecto Plan de Desarrollo Institucional (PDI)",null,null,null,"Largo",null,"6.b-","#","Macroproyecto Plan de Desarrollo Institucional (PDI)",null,null,null,"Largo",null,"6.b-","#","Macroproyecto Plan de Desarrollo Institucional (PDI)",null,null,null,"Largo",null,"6.b-","#","Macroproyecto Plan de Desarrollo Institucional (PDI)",null,null,null,"Largo",null,"6.b-","#","Macroproyecto Plan de Desarrollo Institucional (PDI)",null,null,null,"Largo",null,"6.b-","#","Macroproyecto Plan de Desarrollo Institucional (PDI)",null,null,null,"Largo",null,"6.b-","#","Macroproyecto Plan de Desarrollo Institucional (PDI)",null,null,null,"Largo",null,"6.b-","#","Macroproyecto Plan de Desarrollo Institucional (PDI)",null,null,null,"Largo",null,"6.b-","#","Macroproyecto Plan de Desarrollo Institucional (PDI)",null,null,null,"Largo",null,"6.b-","#","Macroproyecto Plan de Desarrollo Institucional (PDI)",null,null,null,"Largo",null,"6.b-","#","Macroproyecto Plan de Desarrollo Institucional (PDI)",null,null,null,"Largo",null,"6.b-","#","Macroproyecto Plan de Desarrollo Institucional (PDI)",null,null,null,"Largo",null,"6.b-","#","Macroproyecto Plan de Desarrollo Institucional (PDI)",null,null,null,"Largo",null,"6.b-","#","Macroproyecto Plan de Desarrollo Institucional (PDI)",null,null,null,"Largo",null,"6.b-","#","Macroproyecto Plan de Desarrollo Institucional (PDI)",null,null,null,"Largo",null,"6.b-","#","Macroproyecto Plan de Desarrollo Institucional (PDI)",null,null,null,"Largo",null,"6.b-","#","Macroproyecto Plan de Desarrollo Institucional (PDI)",null,null,null,"Largo",null,"6.b-","#","Macroproyecto Plan de Desarrollo Institucional (PDI)",null,null,null,"Largo",null,"6.b-","#","Macroproyecto Plan de Desarrollo Institucional (PDI)",null,null,null,"Largo",null,"6.b-","#","Macroproyecto Plan de Desarrollo Institucional (PDI)",null,null,null,"Largo",null,"6.b-","#","Macroproyecto Plan de Desarrollo Institucional (PDI)",null,null,null,"Largo",null,"6.b-","#","Macroproyecto Plan de Desarrollo Institucional (PDI)",null,null,null,"Largo",null,"6.b-","#","Macroproyecto Plan de Desarrollo Institucional (PDI)",null,null,null,"Largo",null,"6.b-","#","Macroproyecto Plan de Desarrollo Institucional (PDI)",null,null,null,"Largo",null,"6.b-","#","Macroproyecto Plan de Desarrollo Institucional (PDI)",null,null,null,"Largo",null,"6.b-","#","Macroproyecto Plan de Desarrollo Institucional (PDI)",null,null,null,"Largo",null,"6.b-","#","Macroproyecto Plan de Desarrollo Institucional (PDI)",null,null,null,"Largo",null,"6.b-","#","Macroproyecto Plan de Desarrollo Institucional (PDI)",null,null,null,"Largo",null,"6.b-","#","Macroproyecto Plan de Desarrollo Institucional (PDI)",null,null,null,"Largo",null,"6.b-","#","Macroproyecto Plan de Desarrollo Institucional (PDI)",null,null,null,"Largo",null,"6.b-","#","Macroproyecto Plan de Desarrollo Institucional (PDI)",null,null,null,"Largo",null,"6.b-","#","Macroproyecto Plan de Desarrollo Institucional (PDI)",null,null,null,"Largo",null,"6.b-","#","Macroproyecto Plan de Desarrollo Institucional (PDI)",null,null,null,"Largo",null,"6.b-","#","Macroproyecto Plan de Desarrollo Institucional (PDI)",null,null,null,"Largo",null,"6.b-","#","Macroproyecto Plan de Desarrollo Institucional (PDI)",null,null,null,"Largo",null,"6.b-","#","Macroproyecto Plan de Desarrollo Institucional (PDI)",null,null,null,"Largo",null,"6.b-","#","Macroproyecto Plan de Desarrollo Institucional (PDI)",null,null,null,"Largo",null,"6.b-","#","Macroproyecto Plan de Desarrollo Institucional (PDI)",null,null,null,"Largo",null,"6.b-","#","Macroproyecto Plan de Desarrollo Institucional (PDI)",null,null,null,"Largo",null,"6.b-","#","Macroproyecto Plan de Desarrollo Institucional (PDI)",null,null,null,"Largo",null,"6.b-","#","Macroproyecto Plan de Desarrollo Institucional (PDI)",null,null,null,"Largo",null,"6.b-","#","Macroproyecto Plan de Desarrollo Institucional (PDI)",null,null,null,"Largo",null,"6.b-","#","Macroproyecto Plan de Desarrollo Institucional (PDI)",null,null,null,"Largo",null,"6.b-","#","Macroproyecto Plan de Desarrollo Institucional (PDI)",null,null,null,"Largo",null,"6.b-","#","Macroproyecto Plan de Desarrollo Institucional (PDI)",null,null,null,"Largo",null,"6.b-","#","Macroproyecto Plan de Desarrollo Institucional (PDI)",null,null,null,"Largo",null,"6.b-","#","Macroproyecto Plan de Desarrollo Institucional (PDI)",null,null,null,"Largo",null,"6.b-","#","Macroproyecto Plan de Desarrollo Institucional (PDI)",null,null,null,"Largo",null,"6.b-","#","Macroproyecto Plan de Desarrollo Institucional (PDI)",null,null,null,"Largo",null,"6.b-","#","Macroproyecto Plan de Desarrollo Institucional (PDI)",null,null,null,"Largo",null,"6.b-","#","Macroproyecto Plan de Desarrollo Institucional (PDI)",null,null,null,"Largo",null,"6.b-","#","Macroproyecto Plan de Desarrollo Institucional (PDI)",null,null,null,"Largo",null,"6.b-","#","Macroproyecto Plan de Desarrollo Institucional (PDI)",null,null,null,"Largo",null,"6.b-","#","Macroproyecto Plan de Desarrollo Institucional (PDI)",null,null,null,"Largo",null,"6.b-","#","Macroproyecto Plan de Desarrollo Institucional (PDI)",null,null,null,"Largo",null,"6.b-","#","Macroproyecto Plan de Desarrollo Institucional (PDI)",null,null,null,"Largo",null,"6.b-","#","Macroproyecto Plan de Desarrollo Institucional (PDI)",null,null,null,"Largo",null,"6.b-","#","Macroproyecto Plan de Desarrollo Institucional (PDI)",null,null,null,"Largo",null,"6.b-","#","Macroproyecto Plan de Desarrollo Institucional (PDI)",null,null,null,"Largo",null,"6.b-","#","Macroproyecto Plan de Desarrollo Institucional (PDI)",null,null,null,"Largo",null,"6.b-","#","Macroproyecto Plan de Desarrollo Institucional (PDI)",null,null,null,"Largo",null,"6.b-","#","Macroproyecto Plan de Desarrollo Institucional (PDI)",null,null,null,"Largo",null,"6.b-","#","Macroproyecto Plan de Desarrollo Institucional (PDI)",null,null,null,"Largo",null,"6.b-","#","Macroproyecto Plan de Desarrollo Institucional (PDI)",null,null,null,"Largo",null,"6.b-","#","Macroproyecto Plan de Desarrollo Institucional (PDI)",null,null,null,"Largo",null,"6.b-","#","Macroproyecto Plan de Desarrollo Institucional (PDI)",null,null,null,"Largo",null,"6.b-","#","Macroproyecto Plan de Desarrollo Institucional (PDI)",null,null,null,"Largo",null,"6.b-","#","Macroproyecto Plan de Desarrollo Institucional (PDI)",null,null,null,"Largo",null,"6.b-","#","Macroproyecto Plan de Desarrollo Institucional (PDI)",null,null,null,"Largo",null,"6.b-","#","Macroproyecto Plan de Desarrollo Institucional (PDI)",null,null,null,"Largo",null,"6.b-","#","Macroproyecto Plan de Desarrollo Institucional (PDI)",null,null,null,"Largo",null,"6.b-","#","Macroproyecto Plan de Desarrollo Institucional (PDI)",null,null,null,"Largo",null,"6.b-","#","Macroproyecto Plan de Desarrollo Institucional (PDI)",null,null,null,"Largo",null,"6.b-","#","Macroproyecto Plan de Desarrollo Institucional (PDI)",null,null,null,"Largo",null,"6.b-","#","Macroproyecto Plan de Desarrollo Institucional (PDI)",null,null,null,"Largo",null,"6.b-","#","Macroproyecto Plan de Desarrollo Institucional (PDI)",null,null,null,"Largo",null,"6.b-","#","Macroproyecto Plan de Desarrollo Institucional (PDI)",null,null,null,"Largo",null,"6.b-","#","Macroproyecto Plan de Desarrollo Institucional (PDI)",null,null,null,"Largo",null,"6.b-","#","Macroproyecto Plan de Desarrollo Institucional (PDI)",null,null,null,"Largo",null,"6.b-","#","Macroproyecto Plan de Desarrollo Institucional (PDI)",null,null,null,"Largo",null,"6.b-","#","Macroproyecto Plan de Desarrollo Institucional (PDI)",null,null,null,"Largo",null,"6.b-","#","Macroproyecto Plan de Desarrollo Institucional (PDI)",null,null,null,"Largo",null,"6.b-","#","Macroproyecto Plan de Desarrollo Institucional (PDI)",null,null,null,"Largo",null,"6.b-","#","Macroproyecto Plan de Desarrollo Institucional (PDI)",null,null,null,"Largo",null,"6.b-","#","Macroproyecto Plan de Desarrollo Institucional (PDI)",null,null,null,"Largo",null,"6.b-","#","Macroproyecto Plan de Desarrollo Institucional (PDI)",null,null,null,"Largo",null,"6.b-","#","Macroproyecto Plan de Desarrollo Institucional (PDI)",null,null,null,"Largo",null,"6.b-","#","Macroproyecto Plan de Desarrollo Institucional (PDI)",null,null,null,"Largo",null,"6.b-","#","Macroproyecto Plan de Desarrollo Institucional (PDI)",null,null,null,"Largo",null,"6.b-","#","Macroproyecto Plan de Desarrollo Institucional (PDI)",null,null,null,"Largo",null,"6.b-","#","Macroproyecto Plan de Desarrollo Institucional (PDI)",null,null,null,"Largo",null,"6.b-","#","Macroproyecto Plan de Desarrollo Institucional (PDI)",null,null,null,"Largo",null,"6.b-","#","Macroproyecto Plan de Desarrollo Institucional (PDI)",null,null,null,"Largo",null,"6.b-","#","Macroproyecto Plan de Desarrollo Institucional (PDI)",null,null,null,"Largo",null,"6.b-","#","Macroproyecto Plan de Desarrollo Institucional (PDI)",null,null,null,"Largo",null,"6.b-","#","Macroproyecto Plan de Desarrollo Institucional (PDI)",null,null,null,"Largo",null,"6.b-","#","Macroproyecto Plan de Desarrollo Institucional (PDI)",null,null,null,"Largo",null,"6.b-","#","Macroproyecto Plan de Desarrollo Institucional (PDI)",null,null,null,"Largo",null,"6.b-","#","Macroproyecto Plan de Desarrollo Institucional (PDI)",null,null,null,"Largo",null,"6.b-","#","Macroproyecto Plan de Desarrollo Institucional (PDI)",null,null,null,"Largo",null,"6.b-","#","Macroproyecto Plan de Desarrollo Institucional (PDI)",null,null,null,"Largo",null,"6.b-","#","Macroproyecto Plan de Desarrollo Institucional (PDI)",null,null,null,"Largo",null,"6.b-","#","Macroproyecto Plan de Desarrollo Institucional (PDI)",null,null,null,"Largo",null,"6.b-","#","Macroproyecto Plan de Desarrollo Institucional (PDI)",null,null,null,"Largo",null,"6.b-","#","Macroproyecto Plan de Desarrollo Institucional (PDI)",null,null,null,"Largo",null,"6.b-","#","Macroproyecto Plan de Desarrollo Institucional (PDI)",null,null,null,"Largo",null,"6.b-","#","Macroproyecto Plan de Desarrollo Institucional (PDI)",null,null,null,"Largo",null,"6.b-","#","Macroproyecto Plan de Desarrollo Institucional (PDI)",null,null,null,"Largo",null,"6.b-","#","Macroproyecto Plan de Desarrollo Institucional (PDI)",null,null,null,"Largo",null,"6.b-","#","Macroproyecto Plan de Desarrollo Institucional (PDI)",null,null,null,"Largo",null,"6.b-","#","Macroproyecto Plan de Desarrollo Institucional (PDI)",null,null,null,"Largo",null,"6.b-","#","Macroproyecto Plan de Desarrollo Institucional (PDI)",null,null,null,"Largo",null,"6.b-","#","Macroproyecto Plan de Desarrollo Institucional (PDI)",null,null,null,"Largo",null,"6.b-","#","Macroproyecto Plan de Desarrollo Institucional (PDI)",null,null,null,"Largo",null,"6.b-","#","Macroproyecto Plan de Desarrollo Institucional (PDI)",null,null,null,"Largo",null,"6.b-","#","Macroproyecto Plan de Desarrollo Institucional (PDI)",null,null,null,"Largo",null,"6.b-","#","Macroproyecto Plan de Desarrollo Institucional (PDI)",null,null,null,"Largo",null,"6.b-","#","Macroproyecto Plan de Desarrollo Institucional (PDI)",null,null,null,"Largo",null,"6.b-","#","Macroproyecto Plan de Desarrollo Institucional (PDI)",null,null,null,"Largo",null,"6.b-","#","Macroproyecto Plan de Desarrollo Institucional (PDI)",null,null,null,"Largo",null,"6.b-","#","Macroproyecto Plan de Desarrollo Institucional (PDI)",null,null,null,"Largo",null,"6.b-","#","Macroproyecto Plan de Desarrollo Institucional (PDI)",null,null,null,"Largo",null,"6.b-","#","Macroproyecto Plan de Desarrollo Institucional (PDI)",null,null,null,"Largo",null,"6.b-","#","Macroproyecto Plan de Desarrollo Institucional (PDI)",null,null,null,"Largo",null,"6.b-","#","Macroproyecto Plan de Desarrollo Institucional (PDI)",null,null,null,"Largo",null,"6.b-","#","Macroproyecto Plan de Desarrollo Institucional (PDI)",null,null,null,"Largo",null,"6.b-","#","Macroproyecto Plan de Desarrollo Institucional (PDI)",null,null,null,"Largo",null,"6.b-","#","Macroproyecto Plan de Desarrollo Institucional (PDI)",null,null,null,"Largo",null,"6.b-","#","Macroproyecto Plan de Desarrollo Institucional (PDI)",null,null,null,"Largo",null,"6.b-","#","Macroproyecto Plan de Desarrollo Institucional (PDI)",null,null,null,"Largo",null,"6.b-","#","Macroproyecto Plan de Desarrollo Institucional (PDI)",null,null,null,"Largo",null,"6.b-","#","Macroproyecto Plan de Desarrollo Institucional (PDI)",null,null,null,"Largo",null,"6.b-","#","Macroproyecto Plan de Desarrollo Institucional (PDI)",null,null,null,"Largo",null,"6.b-","#","Macroproyecto Plan de Desarrollo Institucional (PDI)",null,null,null,"Largo",null,"6.b-","#","Macroproyecto Plan de Desarrollo Institucional (PDI)",null,null,null,"Largo",null,"6.b-","#","Macroproyecto Plan de Desarrollo Institucional (PDI)",null,null,null,"Largo",null,"6.b-","#","Macroproyecto Plan de Desarrollo Institucional (PDI)",null,null,null,"Largo",null,"6.b-","#","Macroproyecto Plan de Desarrollo Institucional (PDI)",null,null,null,"Largo",null,"6.b-","#","Macroproyecto Plan de Desarrollo Institucional (PDI)",null,null,null,"Largo",null,"6.b-","#","Macroproyecto Plan de Desarrollo Institucional (PDI)",null,null,null,"Largo",null,"6.b-","#","Macroproyecto Plan de Desarrollo Institucional (PDI)",null,null,null,"Largo",null,"6.b-","#","Macroproyecto Plan de Desarrollo Institucional (PDI)",null,null,null,"Largo",null,"6.b-","#","Macroproyecto Plan de Desarrollo Institucional (PDI)",null,null,null,"Largo",null,"6.b-","#","Macroproyecto Plan de Desarrollo Institucional (PDI)",null,null,null,"Largo",null,"6.b-","#","Macroproyecto Plan de Desarrollo Institucional (PDI)",null,null,null,"Largo",null,"6.b-","#","Macroproyecto Plan de Desarrollo Institucional (PDI)",null,null,null,"Largo",null,"6.b-","#","Macroproyecto Plan de Desarrollo Institucional (PDI)",null,null,null,"Largo",null,"6.b-","#","Macroproyecto Plan de Desarrollo Institucional (PDI)",null,null,null,"Largo",null,"6.b-","#","Macroproyecto Plan de Desarrollo Institucional (PDI)",null,null,null,"Largo",null,"6.b-","#","Macroproyecto Plan de Desarrollo Institucional (PDI)",null,null,null,"Largo",null,"6.b-","#","Macroproyecto Plan de Desarrollo Institucional (PDI)",null,null,null,"Largo",null,"6.b-","#","Macroproyecto Plan de Desarrollo Institucional (PDI)",null,null,null,"Largo",null,"6.b-","#","Macroproyecto Plan de Desarrollo Institucional (PDI)",null,null,null,"Largo",null,"6.b-","#","Macroproyecto Plan de Desarrollo Institucional (PDI)",null,null,null,"Largo",null,"6.b-","#","Macroproyecto Plan de Desarrollo Institucional (PDI)",null,null,null,"Largo",null,"6.b-","#","Macroproyecto Plan de Desarrollo Institucional (PDI)",null,null,null,"Largo",null,"6.b-","#","Macroproyecto Plan de Desarrollo Institucional (PDI)",null,null,null,"Largo",null,"6.b-","#","Macroproyecto Plan de Desarrollo Institucional (PDI)",null,null,null,"Largo",null,"6.b-","#","Macroproyecto Plan de Desarrollo Institucional (PDI)",null,null,null,"Largo",null,"6.b-","#","Macroproyecto Plan de Desarrollo Institucional (PDI)",null,null,null,"Largo",null,"6.b-","#","Macroproyecto Plan de Desarrollo Institucional (PDI)",null,null,null,"Largo",null,"6.b-","#","Macroproyecto Plan de Desarrollo Institucional (PDI)",null,null,null,"Largo",null,"6.b-","#","Macroproyecto Plan de Desarrollo Institucional (PDI)",null,null,null,"Largo",null,"6.b-","#","Macroproyecto Plan de Desarrollo Institucional (PDI)",null,null,null,"Largo",null,"6.b-","#","Macroproyecto Plan de Desarrollo Institucional (PDI)",null,null,null,"Largo",null,"6.b-","#","Macroproyecto Plan de Desarrollo Institucional (PDI)",null,null,null,"Largo",null,"6.b-","#","Macroproyecto Plan de Desarrollo Institucional (PDI)",null,null,null,"Largo",null,"6.b-","#","Macroproyecto Plan de Desarrollo Institucional (PDI)",null,null,null,"Largo",null,"6.b-","#","Macroproyecto Plan de Desarrollo Institucional (PDI)",null,null,null,"Largo",null,"6.b-","#","Macroproyecto Plan de Desarrollo Institucional (PDI)",null,null,null,"Largo",null,"6.b-","#","Macroproyecto Plan de Desarrollo Institucional (PDI)",null,null,null,"Largo",null,"6.b-","#","Macroproyecto Plan de Desarrollo Institucional (PDI)",null,null,null,"Largo",null,"6.b-","#","Macroproyecto Plan de Desarrollo Institucional (PDI)",null,null,null,"Largo",null,"6.b-","#","Macroproyecto Plan de Desarrollo Institucional (PDI)",null,null,null,"Largo",null,"6.b-","#","Macroproyecto Plan de Desarrollo Institucional (PDI)",null,null,null,"Largo",null,"6.b-","#","Macroproyecto Plan de Desarrollo Institucional (PDI)",null,null,null,"Largo",null,"6.b-","#","Macroproyecto Plan de Desarrollo Institucional (PDI)",null,null,null,"Largo",null,"6.b-","#","Macroproyecto Plan de Desarrollo Institucional (PDI)",null,null,null,"Largo",null,"6.b-","#","Macroproyecto Plan de Desarrollo Institucional (PDI)",null,null,null,"Largo",null,"6.b-","#","Macroproyecto Plan de Desarrollo Institucional (PDI)",null,null,null,"Largo",null,"6.b-","#","Macroproyecto Plan de Desarrollo Institucional (PDI)",null,null,null,"Largo",null,"6.b-","#","Macroproyecto Plan de Desarrollo Institucional (PDI)",null,null,null,"Largo",null,"6.b-","#","Macroproyecto Plan de Desarrollo Institucional (PDI)",null,null,null,"Largo",null,"6.b-","#","Macroproyecto Plan de Desarrollo Institucional (PDI)",null,null,null,"Largo",null,"6.b-","#","Macroproyecto Plan de Desarrollo Institucional (PDI)",null,null,null,"Largo",null,"6.b-","#","Macroproyecto Plan de Desarrollo Institucional (PDI)",null,null,null,"Largo",null,"6.b-","#","Macroproyecto Plan de Desarrollo Institucional (PDI)",null,null,null,"Largo",null,"6.b-","#","Macroproyecto Plan de Desarrollo Institucional (PDI)",null,null,null,"Largo",null,"6.b-","#","Macroproyecto Plan de Desarrollo Institucional (PDI)",null,null,null,"Largo",null,"6.b-","#","Macroproyecto Plan de Desarrollo Institucional (PDI)",null,null,null,"Largo",null,"6.b-","#","Macroproyecto Plan de Desarrollo Institucional (PDI)",null,null,null,"Largo",null,"6.b-","#","Macroproyecto Plan de Desarrollo Institucional (PDI)",null,null,null,"Largo",null,"6.b-","#","Macroproyecto Plan de Desarrollo Institucional (PDI)",null,null,null,"Largo",null,"6.b-","#","Macroproyecto Plan de Desarrollo Institucional (PDI)",null,null,null,"Largo",null,"6.b-","#","Macroproyecto Plan de Desarrollo Institucional (PDI)",null,null,null,"Largo",null,"6.b-","#","Macroproyecto Plan de Desarrollo Institucional (PDI)",null,null,null,"Largo",null,"6.b-","#","Macroproyecto Plan de Desarrollo Institucional (PDI)",null,null,null,"Largo",null,"6.b-","#","Macroproyecto Plan de Desarrollo Institucional (PDI)",null,null,null,"Largo",null,"6.b-","#","Macroproyecto Plan de Desarrollo Institucional (PDI)",null,null,null,"Largo",null,"6.b-","#","Macroproyecto Plan de Desarrollo Institucional (PDI)",null,null,null,"Largo",null,"6.b-","#","Macroproyecto Plan de Desarrollo Institucional (PDI)",null,null,null,"Largo",null,"6.b-","#","Macroproyecto Plan de Desarrollo Institucional (PDI)",null,null,null,"Largo",null,"6.b-","#","Macroproyecto Plan de Desarrollo Institucional (PDI)",null,null,null,"Largo",null,"6.b-","#","Macroproyecto Plan de Desarrollo Institucional (PDI)",null,null,null,"Largo",null,"6.b-","#","Macroproyecto Plan de Desarrollo Institucional (PDI)",null,null,null,"Largo",null,"6.b-","#","Macroproyecto Plan de Desarrollo Institucional (PDI)",null,null,null,"Largo",null,"6.b-","#","Macroproyecto Plan de Desarrollo Institucional (PDI)",null,null,null,"Largo",null,"6.b-","#","Macroproyecto Plan de Desarrollo Institucional (PDI)",null,null,null,"Largo",null,"6.b-","#","Macroproyecto Plan de Desarrollo Institucional (PDI)",null,null,null,"Largo",null,"6.b-","#","Macroproyecto Plan de Desarrollo Institucional (PDI)",null,null,null,"Largo",null,"6.b-","#","Macroproyecto Plan de Desarrollo Institucional (PDI)",null,null,null,"Largo",null,"6.b-","#","Macroproyecto Plan de Desarrollo Institucional (PDI)",null,null,null,"Largo",null,"6.b-","#","Macroproyecto Plan de Desarrollo Institucional (PDI)",null,null,null,"Largo",null,"6.b-","#","Macroproyecto Plan de Desarrollo Institucional (PDI)",null,null,null,"Largo",null,"6.b-","#","Macroproyecto Plan de Desarrollo Institucional (PDI)",null,null,null,"Largo",null,"6.b-","#","Macroproyecto Plan de Desarrollo Institucional (PDI)",null,null,null,"Largo",null,"6.b-","#","Macroproyecto Plan de Desarrollo Institucional (PDI)",null,null,null,"Largo",null,"6.b-","#","Macroproyecto Plan de Desarrollo Institucional (PDI)",null,null,null,"Largo",null,"6.b-","#","Macroproyecto Plan de Desarrollo Institucional (PDI)",null,null,null,"Largo",null,"6.b-","#","Macroproyecto Plan de Desarrollo Institucional (PDI)",null,null,null,"Largo",null,"6.b-","#","Macroproyecto Plan de Desarrollo Institucional (PDI)",null,null,null,"Largo",null,"6.b-","#","Macroproyecto Plan de Desarrollo Institucional (PDI)",null,null,null,"Largo",null,"6.b-","#","Macroproyecto Plan de Desarrollo Institucional (PDI)",null,null,null,"Largo",null,"6.b-","#","Macroproyecto Plan de Desarrollo Institucional (PDI)",null,null,null,"Largo",null,"6.b-","#","Macroproyecto Plan de Desarrollo Institucional (PDI)",null,null,null,"Largo",null,"6.b-","#","Macroproyecto Plan de Desarrollo Institucional (PDI)",null,null,null,"Largo",null,"6.b-","#","Macroproyecto Plan de Desarrollo Institucional (PDI)",null,null,null,"Largo",null,"6.b-","#","Macroproyecto Plan de Desarrollo Institucional (PDI)",null,null,null,"Largo",null,"6.b-","#","Macroproyecto Plan de Desarrollo Institucional (PDI)",null,null,null,"Largo",null,"6.b-","#","Macroproyecto Plan de Desarrollo Institucional (PDI)",null,null,null,"Largo",null,"6.b-","#","Macroproyecto Plan de Desarrollo Institucional (PDI)",null,null,null,"Largo",null,"6.b-","#","Macroproyecto Plan de Desarrollo Institucional (PDI)",null,null,null,"Largo",null,"6.b-","#","Macroproyecto Plan de Desarrollo Institucional (PDI)",null,null,null,"Largo",null,"6.b-","#","Macroproyecto Plan de Desarrollo Institucional (PDI)",null,null,null,"Largo",null,"6.b-","#","Macroproyecto Plan de Desarrollo Institucional (PDI)",null,null,null,"Largo",null,"6.b-","#","Macroproyecto Plan de Desarrollo Institucional (PDI)",null,null,null,"Largo",null,"6.b-","#","Macroproyecto Plan de Desarrollo Institucional (PDI)",null,null,null,"Largo",null,"6.b-","#","Macroproyecto Plan de Desarrollo Institucional (PDI)",null,null,null,"Largo",null,"6.b-","#","Macroproyecto Plan de Desarrollo Institucional (PDI)",null,null,null,"Largo",null,"6.b-","#","Macroproyecto Plan de Desarrollo Institucional (PDI)",null,null,null,"Largo",null,"6.b-","#","Macroproyecto Plan de Desarrollo Institucional (PDI)",null,null,null,"Largo",null,"6.b-","#","Macroproyecto Plan de Desarrollo Institucional (PDI)",null,null,null,"Largo",null,"6.b-","#","Macroproyecto Plan de Desarrollo Institucional (PDI)",null,null,null,"Largo",null,"6.b-","#","Macroproyecto Plan de Desarrollo Institucional (PDI)",null,null,null,"Largo",null,"6.b-","#","Macroproyecto Plan de Desarrollo Institucional (PDI)",null,null,null,"Largo",null,"6.b-","#","Macroproyecto Plan de Desarrollo Institucional (PDI)",null,null,null,"Largo",null,"6.b-","#","Macroproyecto Plan de Desarrollo Institucional (PDI)",null,null,null,"Largo",null,"6.b-","#","Macroproyecto Plan de Desarrollo Institucional (PDI)",null,null,null,"Largo",null,"6.b-","#","Macroproyecto Plan de Desarrollo Institucional (PDI)",null,null,null,"Largo",null,"6.b-","#","Macroproyecto Plan de Desarrollo Institucional (PDI)",null,null,null,"Largo",null,"6.b-","#","Macroproyecto Plan de Desarrollo Institucional (PDI)",null,null,null,"Largo",null,"6.b-","#","Macroproyecto Plan de Desarrollo Institucional (PDI)",null,null,null,"Largo",null,"6.b-","#","Macroproyecto Plan de Desarrollo Institucional (PDI)",null,null,null,"Largo",null,"6.b-","#","Macroproyecto Plan de Desarrollo Institucional (PDI)",null,null,null,"Largo",null,"6.b-","#","Macroproyecto Plan de Desarrollo Institucional (PDI)",null,null,null,"Largo",null,"6.b-","#","Macroproyecto Plan de Desarrollo Institucional (PDI)",null,null,null,"Largo",null,"6.b-","#","Macroproyecto Plan de Desarrollo Institucional (PDI)",null,null,null,"Largo",null,"6.b-","#","Macroproyecto Plan de Desarrollo Institucional (PDI)",null,null,null,"Largo",null,"6.b-","#","Macroproyecto Plan de Desarrollo Institucional (PDI)",null,null,null,"Largo",null,"6.b-","#","Macroproyecto Plan de Desarrollo Institucional (PDI)",null,null,null,"Largo",null,"6.b-","#","Macroproyecto Plan de Desarrollo Institucional (PDI)",null,null,null,"Largo",null,"6.b-","#","Macroproyecto Plan de Desarrollo Institucional (PDI)",null,null,null,"Largo",null,"6.b-","#","Macroproyecto Plan de Desarrollo Institucional (PDI)",null,null,null,"Largo",null,"6.b-","#","Macroproyecto Plan de Desarrollo Institucional (PDI)",null,null,null,"Largo",null,"6.b-","#","Macroproyecto Plan de Desarrollo Institucional (PDI)",null,null,null,"Largo",null,"6.b-","#","Macroproyecto Plan de Desarrollo Institucional (PDI)",null,null,null,"Largo",null,"6.b-","#","Macroproyecto Plan de Desarrollo Institucional (PDI)",null,null,null,"Largo",null,"6.b-","#","Macroproyecto Plan de Desarrollo Institucional (PDI)",null,null,null,"Largo",null,"6.b-","#","Macroproyecto Plan de Desarrollo Institucional (PDI)",null,null,null,"Largo",null,"6.b-","#","Macroproyecto Plan de Desarrollo Institucional (PDI)",null,null,null,"Largo",null,"6.b-","#","Macroproyecto Plan de Desarrollo Institucional (PDI)",null,null,null,"Largo",null,"6.b-","#","Macroproyecto Plan de Desarrollo Institucional (PDI)",null,null,null,"Largo",null,"6.b-","#","Macroproyecto Plan de Desarrollo Institucional (PDI)",null,null,null,"Largo",null,"6.b-","#","Macroproyecto Plan de Desarrollo Institucional (PDI)",null,null,null,"Largo",null,"6.b-","#","Macroproyecto Plan de Desarrollo Institucional (PDI)",null,null,null,"Largo",null,"6.b-","#","Macroproyecto Plan de Desarrollo Institucional (PDI)",null,null,null,"Largo",null,"6.b-","#","Macroproyecto Plan de Desarrollo Institucional (PDI)",null,null,null,"Largo",null,"6.b-","#","Macroproyecto Plan de Desarrollo Institucional (PDI)",null,null,null,"Largo",null,"6.b-","#","Macroproyecto Plan de Desarrollo Institucional (PDI)",null,null,null,"Largo",null,"6.b-","#","Macroproyecto Plan de Desarrollo Institucional (PDI)",null,null,null,"Largo",null,"6.b-","#","Macroproyecto Plan de Desarrollo Institucional (PDI)",null,null,null,"Largo",null,"6.b-","#","Macroproyecto Plan de Desarrollo Institucional (PDI)",null,null,null,"Largo",null,"6.b-","#","Macroproyecto Plan de Desarrollo Institucional (PDI)",null,null,null,"Largo",null,"6.b-","#","Macroproyecto Plan de Desarrollo Institucional (PDI)",null,null,null,"Largo",null,"6.b-","#","Macroproyecto Plan de Desarrollo Institucional (PDI)",null,null,null,"Largo",null,"6.b-","#","Macroproyecto Plan de Desarrollo Institucional (PDI)",null,null,null,"Largo",null,"6.b-","#","Macroproyecto Plan de Desarrollo Institucional (PDI)",null,null,null,"Largo",null,"6.b-","#","Macroproyecto Plan de Desarrollo Institucional (PDI)",null,null,null,"Largo",null,"6.b-","#","Macroproyecto Plan de Desarrollo Institucional (PDI)",null,null,null,"Largo",null,"6.b-","#","Macroproyecto Plan de Desarrollo Institucional (PDI)",null,null,null,"Largo",null,"6.b-","#","Macroproyecto Plan de Desarrollo Institucional (PDI)",null,null,null,"Largo",null,"6.b-","#","Macroproyecto Plan de Desarrollo Institucional (PDI)",null,null,null,"Largo",null,"6.b-","#","Macroproyecto Plan de Desarrollo Institucional (PDI)",null,null,null,"Largo",null,"6.b-","#","Macroproyecto Plan de Desarrollo Institucional (PDI)",null,null,null,"Largo",null,"6.b-","#","Macroproyecto Plan de Desarrollo Institucional (PDI)",null,null,null,"Largo",null,"6.b-","#","Macroproyecto Plan de Desarrollo Institucional (PDI)",null,null,null,"Largo",null,"6.b-","#","Macroproyecto Plan de Desarrollo Institucional (PDI)",null,null,null,"Largo",null,"6.b-","#","Macroproyecto Plan de Desarrollo Institucional (PDI)",null,null,null,"Largo",null,"6.b-","#","Macroproyecto Plan de Desarrollo Institucional (PDI)",null,null,null,"Largo",null,"6.b-","#","Macroproyecto Plan de Desarrollo Institucional (PDI)",null,null,null,"Largo",null,"6.b-","#","Macroproyecto Plan de Desarrollo Institucional (PDI)",null,null,null,"Largo",null,"6.b-","#","Macroproyecto Plan de Desarrollo Institucional (PDI)",null,null,null,"Largo",null,"6.b-","#","Macroproyecto Plan de Desarrollo Institucional (PDI)",null,null,null,"Largo",null,"6.b-","#","Macroproyecto Plan de Desarrollo Institucional (PDI)",null,null,null,"Largo",null,"6.b-","#","Macroproyecto Plan de Desarrollo Institucional (PDI)",null,null,null,"Largo",null,"6.b-","#","Macroproyecto Plan de Desarrollo Institucional (PDI)",null,null,null,"Largo",null,"6.b-","#","Macroproyecto Plan de Desarrollo Institucional (PDI)",null,null,null,"Largo",null,"6.b-","#","Macroproyecto Plan de Desarrollo Institucional (PDI)",null,null,null,"Largo",null,"6.b-","#","Macroproyecto Plan de Desarrollo Institucional (PDI)",null,null,null,"Largo",null,"6.b-","#","Macroproyecto Plan de Desarrollo Institucional (PDI)",null,null,null,"Largo",null,"6.b-","#","Macroproyecto Plan de Desarrollo Institucional (PDI)",null,null,null,"Largo",null,"6.b-","#","Macroproyecto Plan de Desarrollo Institucional (PDI)",null,null,null,"Largo",null,"6.b-","#","Macroproyecto Plan de Desarrollo Institucional (PDI)",null,null,null,"Largo",null,"6.b-","#","Macroproyecto Plan de Desarrollo Institucional (PDI)",null,null,null,"Largo",null,"6.b-","#","Macroproyecto Plan de Desarrollo Institucional (PDI)",null,null,null,"Largo",null,"6.b-","#","Macroproyecto Plan de Desarrollo Institucional (PDI)",null,null,null,"Largo",null,"6.b-","#","Macroproyecto Plan de Desarrollo Institucional (PDI)",null,null,null,"Largo",null,"6.b-","#","Macroproyecto Plan de Desarrollo Institucional (PDI)",null,null,null,"Largo",null,"6.b-","#","Macroproyecto Plan de Desarrollo Institucional (PDI)",null,null,null,"Largo",null,"6.b-","#","Macroproyecto Plan de Desarrollo Institucional (PDI)",null,null,null,"Largo",null,"6.b-","#","Macroproyecto Plan de Desarrollo Institucional (PDI)",null,null,null,"Largo",null,"6.b-","#","Macroproyecto Plan de Desarrollo Institucional (PDI)",null,null,null,"Largo",null,"6.b-","#","Macroproyecto Plan de Desarrollo Institucional (PDI)",null,null,null,"Largo",null,"6.b-","#","Macroproyecto Plan de Desarrollo Institucional (PDI)",null,null,null,"Largo",null,"6.b-","#","Macroproyecto Plan de Desarrollo Institucional (PDI)",null,null,null,"Largo",null,"6.b-","#","Macroproyecto Plan de Desarrollo Institucional (PDI)",null,null,null,"Largo",null,"6.b-","#","Macroproyecto Plan de Desarrollo Institucional (PDI)",null,null,null,"Largo",null,"6.b-","#","Macroproyecto Plan de Desarrollo Institucional (PDI)",null,null,null,"Largo",null,"6.b-","#","Macroproyecto Plan de Desarrollo Institucional (PDI)",null,null,null,"Largo",null,"6.b-","#","Macroproyecto Plan de Desarrollo Institucional (PDI)",null,null,null,"Largo",null,"6.b-","#","Macroproyecto Plan de Desarrollo Institucional (PDI)",null,null,null,"Largo",null,"6.b-","#","Macroproyecto Plan de Desarrollo Institucional (PDI)",null,null,null,"Largo",null,"6.b-","#","Macroproyecto Plan de Desarrollo Institucional (PDI)",null,null,null,"Largo",null,"6.b-","#","Macroproyecto Plan de Desarrollo Institucional (PDI)",null,null,null,"Largo",null,"6.b-","#","Macroproyecto Plan de Desarrollo Institucional (PDI)",null,null,null,"Largo",null,"6.b-","#","Macroproyecto Plan de Desarrollo Institucional (PDI)",null,null,null,"Largo",null,"6.b-","#","Macroproyecto Plan de Desarrollo Institucional (PDI)",null,null,null,"Largo",null,"6.b-","#","Macroproyecto Plan de Desarrollo Institucional (PDI)",null,null,null,"Largo",null,"6.b-","#","Macroproyecto Plan de Desarrollo Institucional (PDI)",null,null,null,"Largo",null,"6.b-","#","Macroproyecto Plan de Desarrollo Institucional (PDI)",null,null,null,"Largo",null,"6.b-","#","Macroproyecto Plan de Desarrollo Institucional (PDI)",null,null,null,"Largo",null,"6.b-","#","Macroproyecto Plan de Desarrollo Institucional (PDI)",null,null,null,"Largo",null,"6.b-","#","Macroproyecto Plan de Desarrollo Institucional (PDI)",null,null,null,"Largo",null,"6.b-","#","Macroproyecto Plan de Desarrollo Institucional (PDI)",null,null,null,"Largo",null,"6.b-","#","Macroproyecto Plan de Desarrollo Institucional (PDI)",null,null,null,"Largo",null,"6.b-","#","Macroproyecto Plan de Desarrollo Institucional (PDI)",null,null,null,"Largo",null,"6.b-","#","Macroproyecto Plan de Desarrollo Institucional (PDI)",null,null,null,"Largo",null,"6.b-","#","Macroproyecto Plan de Desarrollo Institucional (PDI)",null,null,null,"Largo",null,"6.b-","#","Macroproyecto Plan de Desarrollo Institucional (PDI)",null,null,null,"Largo",null,"6.b-","#","Macroproyecto Plan de Desarrollo Institucional (PDI)",null,null,null,"Largo",null,"6.b-","#","Macroproyecto Plan de Desarrollo Institucional (PDI)",null,null,null,"Largo",null,"6.b-","#","Macroproyecto Plan de Desarrollo Institucional (PDI)",null,null,null,"Largo",null,"6.b-","#","Macroproyecto Plan de Desarrollo Institucional (PDI)",null,null,null,"Largo",null,"6.b-","#","Macroproyecto Plan de Desarrollo Institucional (PDI)",null,null,null,"Largo",null,"6.b-","#","Macroproyecto Plan de Desarrollo Institucional (PDI)",null,null,null,"Largo",null,"6.b-","#","Macroproyecto Plan de Desarrollo Institucional (PDI)",null,null,null,"Largo",null,"6.b-","#","Macroproyecto Plan de Desarrollo Institucional (PDI)",null,null,null,"Largo",null,"6.b-","#","Macroproyecto Plan de Desarrollo Institucional (PDI)",null,null,null,"Largo",null,"6.b-","#","Macroproyecto Plan de Desarrollo Institucional (PDI)",null,null,null,"Largo",null,"6.b-","#","Macroproyecto Plan de Desarrollo Institucional (PDI)",null,null,null,"Largo",null,"6.b-","#","Macroproyecto Plan de Desarrollo Institucional (PDI)",null,null,null,"Largo",null,"6.b-","#","Macroproyecto Plan de Desarrollo Institucional (PDI)",null,null,null,"Largo",null,"6.b-","#","Macroproyecto Plan de Desarrollo Institucional (PDI)",null,null,null,"Largo",null,"6.b-","#","Macroproyecto Plan de Desarrollo Institucional (PDI)",null,null,null,"Largo",null,"6.b-","#","Macroproyecto Plan de Desarrollo Institucional (PDI)",null,null,null,"Largo",null,"6.b-","#","Macroproyecto Plan de Desarrollo Institucional (PDI)",null,null,null,"Largo",null,"6.b-","#","Macroproyecto Plan de Desarrollo Institucional (PDI)",null,null,null,"Largo",null,"6.b-","#","Macroproyecto Plan de Desarrollo Institucional (PDI)",null,null,null,"Largo",null,"6.b-","#","Macroproyecto Plan de Desarrollo Institucional (PDI)",null,null,null,"Largo",null,"6.b-","#","Macroproyecto Plan de Desarrollo Institucional (PDI)",null,null,null,"Largo",null,"6.b-","#","Macroproyecto Plan de Desarrollo Institucional (PDI)",null,null,null,"Largo",null,"6.b-","#","Macroproyecto Plan de Desarrollo Institucional (PDI)",null,null,null,"Largo",null,"6.b-","#","Macroproyecto Plan de Desarrollo Institucional (PDI)",null,null,null,"Largo",null,"6.b-","#","Macroproyecto Plan de Desarrollo Institucional (PDI)",null,null,null,"Largo",null,"6.b-","#","Macroproyecto Plan de Desarrollo Institucional (PDI)",null,null,null,"Largo",null,"6.b-","#","Macroproyecto Plan de Desarrollo Institucional (PDI)",null,null,null,"Largo",null,"6.b-","#","Macroproyecto Plan de Desarrollo Institucional (PDI)",null,null,null,"Largo",null,"6.b-","#","Macroproyecto Plan de Desarrollo Institucional (PDI)",null,null,null,"Largo",null,"6.b-","#","Macroproyecto Plan de Desarrollo Institucional (PDI)",null,null,null,"Largo",null,"6.b-","#","Macroproyecto Plan de Desarrollo Institucional (PDI)",null,null,null,"Largo",null,"6.b-","#","Macroproyecto Plan de Desarrollo Institucional (PDI)",null,null,null,"Largo",null,"6.b-","#","Macroproyecto Plan de Desarrollo Institucional (PDI)",null,null,null,"Largo",null,"6.b-","#","Macroproyecto Plan de Desarrollo Institucional (PDI)",null,null,null,"Largo",null,"6.b-","#","Macroproyecto Plan de Desarrollo Institucional (PDI)",null,null,null,"Largo",null,"6.b-","#","Macroproyecto Plan de Desarrollo Institucional (PDI)",null,null,null,"Largo",null,"6.b-","#","Macroproyecto Plan de Desarrollo Institucional (PDI)",null,null,null,"Largo",null,"6.b-","#","Macroproyecto Plan de Desarrollo Institucional (PDI)",null,null,null,"Largo",null,"6.b-","#","Macroproyecto Plan de Desarrollo Institucional (PDI)",null,null,null,"Largo",null,"6.b-","#","Macroproyecto Plan de Desarrollo Institucional (PDI)",null,null,null,"Largo",null,"6.b-","#","Macroproyecto Plan de Desarrollo Institucional (PDI)",null,null,null,"Largo",null,"6.b-","#","Macroproyecto Plan de Desarrollo Institucional (PDI)",null,null,null,"Largo",null,"6.b-","#","Macroproyecto Plan de Desarrollo Institucional (PDI)",null,null,null,"Largo",null,"6.b-","#","Macroproyecto Plan de Desarrollo Institucional (PDI)",null,null,null,"Largo",null,"6.b-","#","Macroproyecto Plan de Desarrollo Institucional (PDI)",null,null,null,"Largo",null,"6.b-","#","Macroproyecto Plan de Desarrollo Institucional (PDI)",null,null,null,"Largo",null,"6.b-","#","Macroproyecto Plan de Desarrollo Institucional (PDI)",null,null,null,"Largo",null,"6.b-","#","Macroproyecto Plan de Desarrollo Institucional (PDI)",null,null,null,"Largo",null,"6.b-","#","Macroproyecto Plan de Desarrollo Institucional (PDI)",null,null,null,"Largo",null,"6.b-","#","Macroproyecto Plan de Desarrollo Institucional (PDI)",null,null,null,"Largo",null,"6.b-","#","Macroproyecto Plan de Desarrollo Institucional (PDI)",null,null,null,"Largo",null,"6.b-","#","Macroproyecto Plan de Desarrollo Institucional (PDI)",null,null,null,"Largo",null,"6.b-","#","Macroproyecto Plan de Desarrollo Institucional (PDI)",null,null,null,"Largo",null,"6.b-","#","Macroproyecto Plan de Desarrollo Institucional (PDI)",null,null,null,"Largo",null,"6.b-","#","Macroproyecto Plan de Desarrollo Institucional (PDI)",null,null,null,"Largo",null,"6.b-","#","Macroproyecto Plan de Desarrollo Institucional (PDI)",null,null,null,"Largo",null,"6.b-","#","Macroproyecto Plan de Desarrollo Institucional (PDI)",null,null,null,"Largo",null,"6.b-","#","Macroproyecto Plan de Desarrollo Institucional (PDI)",null,null,null,"Largo",null,"6.b-","#","Macroproyecto Plan de Desarrollo Institucional (PDI)",null,null,null,"Largo",null,"6.b-","#","Macroproyecto Plan de Desarrollo Institucional (PDI)",null,null,null,"Largo",null,"6.b-","#","Macroproyecto Plan de Desarrollo Institucional (PDI)",null,null,null,"Largo",null,"6.b-","#","Macroproyecto Plan de Desarrollo Institucional (PDI)",null,null,null,"Largo",null,"6.b-","#","Macroproyecto Plan de Desarrollo Institucional (PDI)",null,null,null,"Largo",null,"6.b-","#","Macroproyecto Plan de Desarrollo Institucional (PDI)",null,null,null,"Largo",null,"6.b-","#","Macroproyecto Plan de Desarrollo Institucional (PDI)",null,null,null,"Largo",null,"6.b-","#","Macroproyecto Plan de Desarrollo Institucional (PDI)",null,null,null,"Largo",null,"6.b-","#","Macroproyecto Plan de Desarrollo Institucional (PDI)",null,null,null,"Largo",null,"6.b-","#","Macroproyecto Plan de Desarrollo Institucional (PDI)",null,null,null,"Largo",null,"6.b-","#","Macroproyecto Plan de Desarrollo Institucional (PDI)",null,null,null,"Largo",null,"6.b-","#","Macroproyecto Plan de Desarrollo Institucional (PDI)",null,null,null,"Largo",null,"6.b-","#","Macroproyecto Plan de Desarrollo Institucional (PDI)",null,null,null,"Largo",null,"6.b-","#","Macroproyecto Plan de Desarrollo Institucional (PDI)",null,null,null,"Largo",null,"6.b-","#","Macroproyecto Plan de Desarrollo Institucional (PDI)",null,null,null,"Largo",null,"6.b-","#","Macroproyecto Plan de Desarrollo Institucional (PDI)",null,null,null,"Largo",null,"6.b-","#","Macroproyecto Plan de Desarrollo Institucional (PDI)",null,null,null,"Largo",null,"6.b-","#","Macroproyecto Plan de Desarrollo Institucional (PDI)",null,null,null,"Largo",null,"6.b-","#","Macroproyecto Plan de Desarrollo Institucional (PDI)",null,null,null,"Largo",null,"6.b-","#","Macroproyecto Plan de Desarrollo Institucional (PDI)",null,null,null,"Largo",null,"6.b-","#","Macroproyecto Plan de Desarrollo Institucional (PDI)",null,null,null,"Largo",null,"6.b-","#","Macroproyecto Plan de Desarrollo Institucional (PDI)",null,null,null,"Largo",null,"6.b-","#","Macroproyecto Plan de Desarrollo Institucional (PDI)",null,null,null,"Largo",null,"6.b-","#","Macroproyecto Plan de Desarrollo Institucional (PDI)",null,null,null,"Largo",null,"6.b-","#","Macroproyecto Plan de Desarrollo Institucional (PDI)",null,null,null,"Largo",null,"6.b-","#","Macroproyecto Plan de Desarrollo Institucional (PDI)",null,null,null,"Largo",null,"6.b-","#","Macroproyecto Plan de Desarrollo Institucional (PDI)",null,null,null,"Largo",null,"6.b-","#","Macroproyecto Plan de Desarrollo Institucional (PDI)",null,null,null,"Largo",null,"6.b-","#","Macroproyecto Plan de Desarrollo Institucional (PDI)",null,null,null,"Largo",null,"6.b-","#","Macroproyecto Plan de Desarrollo Institucional (PDI)",null,null,null,"Largo",null,"6.b-","#","Macroproyecto Plan de Desarrollo Institucional (PDI)",null,null,null,"Largo",null,"6.b-","#","Macroproyecto Plan de Desarrollo Institucional (PDI)",null,null,null,"Largo",null,"6.b-","#","Macroproyecto Plan de Desarrollo Institucional (PDI)",null,null,null,"Largo",null,"6.b-","#","Macroproyecto Plan de Desarrollo Institucional (PDI)",null,null,null,"Largo",null,"6.b-","#","Macroproyecto Plan de Desarrollo Institucional (PDI)",null,null,null,"Largo",null,"6.b-","#","Macroproyecto Plan de Desarrollo Institucional (PDI)",null,null,null,"Largo",null,"6.b-","#","Macroproyecto Plan de Desarrollo Institucional (PDI)",null,null,null,"Largo",null,"6.b-","#","Macroproyecto Plan de Desarrollo Institucional (PDI)",null,null,null,"Largo",null,"6.b-","#","Macroproyecto Plan de Desarrollo Institucional (PDI)",null,null,null,"Largo",null,"6.b-","#","Macroproyecto Plan de Desarrollo Institucional (PDI)",null,null,null,"Largo",null,"6.b-","#","Macroproyecto Plan de Desarrollo Institucional (PDI)",null,null,null,"Largo",null,"6.b-","#","Macroproyecto Plan de Desarrollo Institucional (PDI)",null,null,null,"Largo",null,"6.b-","#","Macroproyecto Plan de Desarrollo Institucional (PDI)",null,null,null,"Largo",null,"6.b-","#","Macroproyecto Plan de Desarrollo Institucional (PDI)",null,null,null,"Largo",null,"6.b-","#","Macroproyecto Plan de Desarrollo Institucional (PDI)",null,null,null,"Largo",null,"6.b-","#","Macroproyecto Plan de Desarrollo Institucional (PDI)",null,null,null,"Largo",null,"6.b-","#","Macroproyecto Plan de Desarrollo Institucional (PDI)",null,null,null,"Largo",null,"6.b-","#","Macroproyecto Plan de Desarrollo Institucional (PDI)",null,null,null,"Largo",null,"6.b-","#","Macroproyecto Plan de Desarrollo Institucional (PDI)",null,null,null,"Largo",null,"6.b-","#","Macroproyecto Plan de Desarrollo Institucional (PDI)",null,null,null,"Largo",null,"6.b-","#","Macroproyecto Plan de Desarrollo Institucional (PDI)",null,null,null,"Largo",null,"6.b-","#","Macroproyecto Plan de Desarrollo Institucional (PDI)",null,null,null,"Largo",null,"6.b-","#","Macroproyecto Plan de Desarrollo Institucional (PDI)",null,null,null,"Largo",null,"6.b-","#","Macroproyecto Plan de Desarrollo Institucional (PDI)",null,null,null,"Largo",null,"6.b-","#","Macroproyecto Plan de Desarrollo Institucional (PDI)",null,null,null,"Largo",null,"6.b-","#","Macroproyecto Plan de Desarrollo Institucional (PDI)",null,null,null,"Largo",null,"6.b-","#","Macroproyecto Plan de Desarrollo Institucional (PDI)",null,null,null,"Largo",null,"6.b-","#","Macroproyecto Plan de Desarrollo Institucional (PDI)",null,null,null,"Largo",null,"6.b-","#","Macroproyecto Plan de Desarrollo Institucional (PDI)",null,null,null,"Largo",null,"6.b-","#","Macroproyecto Plan de Desarrollo Institucional (PDI)",null,null,null,"Largo",null,"6.b-","#","Macroproyecto Plan de Desarrollo Institucional (PDI)",null,null,null,"Largo",null,"6.b-","#","Macroproyecto Plan de Desarrollo Institucional (PDI)",null,null,null,"Largo",null,"6.b-","#","Macroproyecto Plan de Desarrollo Institucional (PDI)",null,null,null,"Largo",null,"6.b-","#","Macroproyecto Plan de Desarrollo Institucional (PDI)",null,null,null,"Largo",null,"6.b-","#","Macroproyecto Plan de Desarrollo Institucional (PDI)",null,null,null,"Largo",null,"6.b-","#","Macroproyecto Plan de Desarrollo Institucional (PDI)",null,null,null,"Largo",null,"6.b-","#","Macroproyecto Plan de Desarrollo Institucional (PDI)",null,null,null,"Largo",null,"6.b-","#","Macroproyecto Plan de Desarrollo Institucional (PDI)",null,null,null,"Largo",null,"6.b-","#","Macroproyecto Plan de Desarrollo Institucional (PDI)",null,null,null,"Largo",null,"6.b-","#","Macroproyecto Plan de Desarrollo Institucional (PDI)",null,null,null,"Largo",null,"6.b-","#","Macroproyecto Plan de Desarrollo Institucional (PDI)",null,null,null,"Largo",null,"6.b-","#","Macroproyecto Plan de Desarrollo Institucional (PDI)",null,null,null,"Largo",null,"6.b-","#","Macroproyecto Plan de Desarrollo Institucional (PDI)",null,null,null,"Largo",null,"6.b-","#","Macroproyecto Plan de Desarrollo Institucional (PDI)",null,null,null,"Largo",null,"6.b-","#","Macroproyecto Plan de Desarrollo Institucional (PDI)",null,null,null,"Largo",null,"6.b-","#","Macroproyecto Plan de Desarrollo Institucional (PDI)",null,null,null,"Largo",null,"6.b-","#","Macroproyecto Plan de Desarrollo Institucional (PDI)",null,null,null,"Largo",null,"6.b-","#","Macroproyecto Plan de Desarrollo Institucional (PDI)",null,null,null,"Largo",null,"6.b-","#","Macroproyecto Plan de Desarrollo Institucional (PDI)",null,null,null,"Largo",null,"6.b-","#","Macroproyecto Plan de Desarrollo Institucional (PDI)",null,null,null,"Largo",null,"6.b-","#","Macroproyecto Plan de Desarrollo Institucional (PDI)",null,null,null,"Largo",null,"6.b-","#","Macroproyecto Plan de Desarrollo Institucional (PDI)",null,null,null,"Largo",null,"6.b-","#","Macroproyecto Plan de Desarrollo Institucional (PDI)",null,null,null,"Largo",null,"6.b-","#","Macroproyecto Plan de Desarrollo Institucional (PDI)",null,null,null,"Largo",null,"6.b-","#","Macroproyecto Plan de Desarrollo Institucional (PDI)",null,null,null,"Largo",null,"6.b-","#","Macroproyecto Plan de Desarrollo Institucional (PDI)",null,null,null,"Largo",null,"6.b-","#","Macroproyecto Plan de Desarrollo Institucional (PDI)",null,null,null,"Largo",null,"6.b-","#","Macroproyecto Plan de Desarrollo Institucional (PDI)",null,null,null,"Largo",null,"6.b-","#","Macroproyecto Plan de Desarrollo Institucional (PDI)",null,null,null,"Largo",null,"6.b-","#","Macroproyecto Plan de Desarrollo Institucional (PDI)",null,null,null,"Largo",null,"6.b-","#","Macroproyecto Plan de Desarrollo Institucional (PDI)",null,null,null,"Largo",null,"6.b-","#","Macroproyecto Plan de Desarrollo Institucional (PDI)",null,null,null,"Largo",null,"6.b-","#","Macroproyecto Plan de Desarrollo Institucional (PDI)",null,null,null,"Largo",null,"6.b-","#","Macroproyecto Plan de Desarrollo Institucional (PDI)",null,null,null,"Largo",null,"6.b-","#","Macroproyecto Plan de Desarrollo Institucional (PDI)",null,null,null,"Largo",null,"6.b-","#","Macroproyecto Plan de Desarrollo Institucional (PDI)",null,null,null,"Largo",null,"6.b-","#","Macroproyecto Plan de Desarrollo Institucional (PDI)",null,null,null,"Largo",null,"6.b-","#","Macroproyecto Plan de Desarrollo Institucional (PDI)",null,null,null,"Largo",null,"6.b-","#","Macroproyecto Plan de Desarrollo Institucional (PDI)",null,null,null,"Largo",null,"6.b-","#","Macroproyecto Plan de Desarrollo Institucional (PDI)",null,null,null,"Largo",null,"6.b-","#","Macroproyecto Plan de Desarrollo Institucional (PDI)",null,null,null,"Largo",null,"6.b-","#","Macroproyecto Plan de Desarrollo Institucional (PDI)",null,null,null,"Largo",null,"6.b-","#","Macroproyecto Plan de Desarrollo Institucional (PDI)",null,null,null,"Largo",null,"6.b-","#","Macroproyecto Plan de Desarrollo Institucional (PDI)",null,null,null,"Largo",null,"6.b-","#","Macroproyecto Plan de Desarrollo Institucional (PDI)",null,null,null,"Largo",null,"6.b-","#","Macroproyecto Plan de Desarrollo Institucional (PDI)",null,null,null,"Largo",null,"6.b-","#","Macroproyecto Plan de Desarrollo Institucional (PDI)",null,null,null,"Largo",null,"6.b-","#","Macroproyecto Plan de Desarrollo Institucional (PDI)",null,null,null,"Largo",null,"6.b-","#","Macroproyecto Plan de Desarrollo Institucional (PDI)",null,null,null,"Largo",null,"6.b-","#","Macroproyecto Plan de Desarrollo Institucional (PDI)",null,null,null,"Largo",null,"6.b-","#","Macroproyecto Plan de Desarrollo Institucional (PDI)",null,null,null,"Largo",null,"6.b-","#","Macroproyecto Plan de Desarrollo Institucional (PDI)",null,null,null,"Largo",null,"6.b-","#","Macroproyecto Plan de Desarrollo Institucional (PDI)",null,null,null,"Largo",null,"6.b-","#","Macroproyecto Plan de Desarrollo Institucional (PDI)",null,null,null,"Largo",null,"6.b-","#","Macroproyecto Plan de Desarrollo Institucional (PDI)",null,null,null,"Largo",null,"6.b-","#","Macroproyecto Plan de Desarrollo Institucional (PDI)",null,null,null,"Largo",null,"6.b-","#","Macroproyecto Plan de Desarrollo Institucional (PDI)",null,null,null,"Largo",null,"6.b-","#","Macroproyecto Plan de Desarrollo Institucional (PDI)",null,null,null,"Largo",null,"6.b-","#","Macroproyecto Plan de Desarrollo Institucional (PDI)",null,null,null,"Largo",null,"6.b-","#","Macroproyecto Plan de Desarrollo Institucional (PDI)",null,null,null,"Largo",null,"6.b-","#","Macroproyecto Plan de Desarrollo Institucional (PDI)",null,null,null,"Largo",null,"6.b-","#","Macroproyecto Plan de Desarrollo Institucional (PDI)",null,null,null,"Largo",null,"6.b-","#","Macroproyecto Plan de Desarrollo Institucional (PDI)",null,null,null,"Largo",null,"6.b-","#","Macroproyecto Plan de Desarrollo Institucional (PDI)",null,null,null,"Largo",null,"6.b-","#","Macroproyecto Plan de Desarrollo Institucional (PDI)",null,null,null,"Largo",null,"6.b-","#","Macroproyecto Plan de Desarrollo Institucional (PDI)",null,null,null,"Largo",null,"6.b-","#","Macroproyecto Plan de Desarrollo Institucional (PDI)",null,null,null,"Largo",null,"6.b-","#","Macroproyecto Plan de Desarrollo Institucional (PDI)",null,null,null,"Largo",null,"6.b-","#","Macroproyecto Plan de Desarrollo Institucional (PDI)",null,null,null,"Largo",null,"6.b-","#","Macroproyecto Plan de Desarrollo Institucional (PDI)",null,null,null,"Largo",null,"6.b-","#","Macroproyecto Plan de Desarrollo Institucional (PDI)",null,null,null,"Largo",null,"6.b-","#","Macroproyecto Plan de Desarrollo Institucional (PDI)",null,null,null,"Largo",null,"6.b-","#","Macroproyecto Plan de Desarrollo Institucional (PDI)",null,null,null,"Largo",null,"6.b-","#","Macroproyecto Plan de Desarrollo Institucional (PDI)",null,null,null,"Largo",null,"6.b-","#","Macroproyecto Plan de Desarrollo Institucional (PDI)",null,null,null,"Largo",null,"6.b-","#","Macroproyecto Plan de Desarrollo Institucional (PDI)",null,null,null,"Largo",null,"6.b-","#","Macroproyecto Plan de Desarrollo Institucional (PDI)",null,null,null,"Largo",null,"6.b-","#","Macroproyecto Plan de Desarrollo Institucional (PDI)",null,null,null,"Largo",null,"6.b-","#","Macroproyecto Plan de Desarrollo Institucional (PDI)",null,null,null,"Largo",null,"6.b-","#","Macroproyecto Plan de Desarrollo Institucional (PDI)",null,null,null,"Largo",null,"6.b-","#","Macroproyecto Plan de Desarrollo Institucional (PDI)",null,null,null,"Largo",null,"6.b-","#","Macroproyecto Plan de Desarrollo Institucional (PDI)",null,null,null,"Largo",null,"6.b-","#","Macroproyecto Plan de Desarrollo Institucional (PDI)",null,null,null,"Largo",null,"6.b-","#","Macroproyecto Plan de Desarrollo Institucional (PDI)",null,null,null,"Largo",null,"6.b-","#","Macroproyecto Plan de Desarrollo Institucional (PDI)",null,null,null,"Largo",null,"6.b-","#","Macroproyecto Plan de Desarrollo Institucional (PDI)",null,null,null,"Largo",null,"6.b-","#","Macroproyecto Plan de Desarrollo Institucional (PDI)",null,null,null,"Largo",null,"6.b-","#","Macroproyecto Plan de Desarrollo Institucional (PDI)",null,null,null,"Largo",null,"6.b-","#","Macroproyecto Plan de Desarrollo Institucional (PDI)",null,null,null,"Largo",null,"6.b-","#","Macroproyecto Plan de Desarrollo Institucional (PDI)",null,null,null,"Largo",null,"6.b-","#","Macroproyecto Plan de Desarrollo Institucional (PDI)",null,null,null,"Largo",null,"6.b-","#","Macroproyecto Plan de Desarrollo Institucional (PDI)",null,null,null,"Largo",null,"6.b-","#","Macroproyecto Plan de Desarrollo Institucional (PDI)",null,null,null,"Largo",null,"6.b-","#","Macroproyecto Plan de Desarrollo Institucional (PDI)",null,null,null,"Largo",null,"6.b-","#","Macroproyecto Plan de Desarrollo Institucional (PDI)",null,null,null,"Largo",null,"6.b-","#","Macroproyecto Plan de Desarrollo Institucional (PDI)",null,null,null,"Largo",null,"6.b-","#","Macroproyecto Plan de Desarrollo Institucional (PDI)",null,null,null,"Largo",null,"6.b-","#","Macroproyecto Plan de Desarrollo Institucional (PDI)",null,null,null,"Largo",null,"6.b-","#","Macroproyecto Plan de Desarrollo Institucional (PDI)",null,null,null,"Largo",null,"6.b-","#","Macroproyecto Plan de Desarrollo Institucional (PDI)",null,null,null,"Largo",null,"6.b-","#","Macroproyecto Plan de Desarrollo Institucional (PDI)",null,null,null,"Largo",null,"6.b-","#","Macroproyecto Plan de Desarrollo Institucional (PDI)",null,null,null,"Largo",null,"6.b-","#","Macroproyecto Plan de Desarrollo Institucional (PDI)",null,null,null,"Largo",null,"6.b-","#","Macroproyecto Plan de Desarrollo Institucional (PDI)",null,null,null,"Largo",null,"6.b-","#","Macroproyecto Plan de Desarrollo Institucional (PDI)",null,null,null,"Largo",null,"6.b-","#","Macroproyecto Plan de Desarrollo Institucional (PDI)",null,null,null,"Largo",null,"6.b-","#","Macroproyecto Plan de Desarrollo Institucional (PDI)",null,null,null,"Largo",null,"6.b-","#","Macroproyecto Plan de Desarrollo Institucional (PDI)",null,null,null,"Largo",null,"6.b-","#","Macroproyecto Plan de Desarrollo Institucional (PDI)",null,null,null,"Largo",null,"6.b-","#","Macroproyecto Plan de Desarrollo Institucional (PDI)",null,null,null,"Largo",null,"6.b-","#","Macroproyecto Plan de Desarrollo Institucional (PDI)",null,null,null,"Largo",null,"6.b-","#","Macroproyecto Plan de Desarrollo Institucional (PDI)",null,null,null,"Largo",null,"6.b-","#","Macroproyecto Plan de Desarrollo Institucional (PDI)",null,null,null,"Largo",null,"6.b-","#","Macroproyecto Plan de Desarrollo Institucional (PDI)",null,null,null,"Largo",null,"6.b-","#","Macroproyecto Plan de Desarrollo Institucional (PDI)",null,null,null,"Largo",null,"6.b-","#","Macroproyecto Plan de Desarrollo Institucional (PDI)",null,null,null,"Largo",null,"6.b-","#","Macroproyecto Plan de Desarrollo Institucional (PDI)",null,null,null,"Largo",null,"6.b-","#","Macroproyecto Plan de Desarrollo Institucional (PDI)",null,null,null,"Largo",null,"6.b-","#","Macroproyecto Plan de Desarrollo Institucional (PDI)",null,null,null,"Largo",null,"6.b-","#","Macroproyecto Plan de Desarrollo Institucional (PDI)",null,null,null,"Largo",null,"6.b-","#","Macroproyecto Plan de Desarrollo Institucional (PDI)",null,null,null,"Largo",null,"6.b-","#","Macroproyecto Plan de Desarrollo Institucional (PDI)",null,null,null,"Largo",null,"6.b-","#","Macroproyecto Plan de Desarrollo Institucional (PDI)",null,null,null,"Largo",null,"6.b-","#","Macroproyecto Plan de Desarrollo Institucional (PDI)",null,null,null,"Largo",null,"6.b-","#","Macroproyecto Plan de Desarrollo Institucional (PDI)",null,null,null,"Largo",null,"6.b-","#","Macroproyecto Plan de Desarrollo Institucional (PDI)",null,null,null,"Largo",null,"6.b-","#","Macroproyecto Plan de Desarrollo Institucional (PDI)",null,null,null,"Largo",null,"6.b-","#","Macroproyecto Plan de Desarrollo Institucional (PDI)",null,null,null,"Largo",null,"6.b-","#","Macroproyecto Plan de Desarrollo Institucional (PDI)",null,null,null,"Largo",null,"6.b-","#","Macroproyecto Plan de Desarrollo Institucional (PDI)",null,null,null,"Largo",null,"6.b-","#","Macroproyecto Plan de Desarrollo Institucional (PDI)",null,null,null,"Largo",null,"6.b-","#","Macroproyecto Plan de Desarrollo Institucional (PDI)",null,null,null,"Largo",null,"6.b-","#","Macroproyecto Plan de Desarrollo Institucional (PDI)",null,null,null,"Largo",null,"6.b-","#","Macroproyecto Plan de Desarrollo Institucional (PDI)",null,null,null,"Largo",null,"6.b-","#","Macroproyecto Plan de Desarrollo Institucional (PDI)",null,null,null,"Largo",null,"6.b-","#","Macroproyecto Plan de Desarrollo Institucional (PDI)",null,null,null,"Largo",null,"6.b-","#","Macroproyecto Plan de Desarrollo Institucional (PDI)",null,null,null,"Largo",null,"6.b-","#","Macroproyecto Plan de Desarrollo Institucional (PDI)",null,null,null,"Largo",null,"6.b-","#","Macroproyecto Plan de Desarrollo Institucional (PDI)",null,null,null,"Largo",null,"6.b-","#","Macroproyecto Plan de Desarrollo Institucional (PDI)",null,null,null,"Largo",null,"6.b-","#","Macroproyecto Plan de Desarrollo Institucional (PDI)",null,null,null,"Largo",null,"6.b-","#","Macroproyecto Plan de Desarrollo Institucional (PDI)",null,null,null,"Largo",null,"6.b-","#","Macroproyecto Plan de Desarrollo Institucional (PDI)",null,null,null,"Largo",null,"6.b-","#","Macroproyecto Plan de Desarrollo Institucional (PDI)",null,null,null,"Largo",null,"6.b-","#","Macroproyecto Plan de Desarrollo Institucional (PDI)",null,null,null,"Largo",null,"6.b-","#","Macroproyecto Plan de Desarrollo Institucional (PDI)",null,null,null,"Largo",null,"6.b-","#","Macroproyecto Plan de Desarrollo Institucional (PDI)",null,null,null,"Largo",null,"6.b-","#","Macroproyecto Plan de Desarrollo Institucional (PDI)",null,null,null,"Largo",null,"6.b-","#","Macroproyecto Plan de Desarrollo Institucional (PDI)",null,null,null,"Largo",null,"6.b-","#","Macroproyecto Plan de Desarrollo Institucional (PDI)",null,null,null,"Largo",null,"6.b-","#","Macroproyecto Plan de Desarrollo Institucional (PDI)",null,null,null,"Largo",null,"6.b-","#","Macroproyecto Plan de Desarrollo Institucional (PDI)",null,null,null,"Largo",null,"6.b-","#","Macroproyecto Plan de Desarrollo Institucional (PDI)",null,null,null,"Largo",null,"6.b-","#","Macroproyecto Plan de Desarrollo Institucional (PDI)",null,null,null,"Largo",null,"6.b-","#","Macroproyecto Plan de Desarrollo Institucional (PDI)",null,null,null,"Largo",null,"6.b-","#","Macroproyecto Plan de Desarrollo Institucional (PDI)",null,null,null,"Largo",null,"6.b-","#","Macroproyecto Plan de Desarrollo Institucional (PDI)",null,null,null,"Largo",null,"6.b-","#","Macroproyecto Plan de Desarrollo Institucional (PDI)",null,null,null,"Largo",null,"6.b-","#","Macroproyecto Plan de Desarrollo Institucional (PDI)",null,null,null,"Largo",null,"6.b-","#","Macroproyecto Plan de Desarrollo Institucional (PDI)",null,null,null,"Largo",null,"6.b-","#","Macroproyecto Plan de Desarrollo Institucional (PDI)",null,null,null,"Largo",null,"6.b-","#","Macroproyecto Plan de Desarrollo Institucional (PDI)",null,null,null,"Largo",null,"6.b-","#","Macroproyecto Plan de Desarrollo Institucional (PDI)",null,null,null,"Largo",null,"6.b-","#","Macroproyecto Plan de Desarrollo Institucional (PDI)",null,null,null,"Largo",null,"6.b-","#","Macroproyecto Plan de Desarrollo Institucional (PDI)",null,null,null,"Largo",null,"6.b-","#","Macroproyecto Plan de Desarrollo Institucional (PDI)",null,null,null,"Largo",null,"6.b-","#","Macroproyecto Plan de Desarrollo Institucional (PDI)",null,null,null,"Largo",null,"6.b-","#","Macroproyecto Plan de Desarrollo Institucional (PDI)",null,null,null,"Largo"]
[null,32,null,null,null,null,0,null,null,32,null,null,null,null,{"$f":"IF(K37=\"\",0,LEN(TRIM(K37))-LEN(SUBSTITUTE(TRIM(K37),\" \",\"\"))+1)","v":0},null,null,32,null,null,null,null,{"$f":"IF(S37=\"\",0,LEN(TRIM(S37))-LEN(SUBSTITUTE(TRIM(S37),\" \",\"\"))+1)","v":0},null,null,32,null,null,null,null,{"$f":"IF(AA37=\"\",0,LEN(TRIM(AA37))-LEN(SUBSTITUTE(TRIM(AA37),\" \",\"\"))+1)","v":0},null,null,32,null,null,null,null,{"$f":"IF(AI37=\"\",0,LEN(TRIM(AI37))-LEN(SUBSTITUTE(TRIM(AI37),\" \",\"\"))+1)","v":0},null,null,32,null,null,null,null,{"$f":"IF(AQ37=\"\",0,LEN(TRIM(AQ37))-LEN(SUBSTITUTE(TRIM(AQ37),\" \",\"\"))+1)","v":0},null,null,32,null,null,null,null,{"$f":"IF(AY37=\"\",0,LEN(TRIM(AY37))-LEN(SUBSTITUTE(TRIM(AY37),\" \",\"\"))+1)","v":0},null,null,32,null,null,null,null,{"$f":"IF(BG37=\"\",0,LEN(TRIM(BG37))-LEN(SUBSTITUTE(TRIM(BG37),\" \",\"\"))+1)","v":0},null,null,32,null,null,null,null,{"$f":"IF(BO37=\"\",0,LEN(TRIM(BO37))-LEN(SUBSTITUTE(TRIM(BO37),\" \",\"\"))+1)","v":0},null,null,32,null,null,null,null,{"$f":"IF(BW37=\"\",0,LEN(TRIM(BW37))-LEN(SUBSTITUTE(TRIM(BW37),\" \",\"\"))+1)","v":0},null,null,32,null,null,null,null,{"$f":"IF(CE37=\"\",0,LEN(TRIM(CE37))-LEN(SUBSTITUTE(TRIM(CE37),\" \",\"\"))+1)","v":0},null,null,32,null,null,null,null,{"$f":"IF(CM37=\"\",0,LEN(TRIM(CM37))-LEN(SUBSTITUTE(TRIM(CM37),\" \",\"\"))+1)","v":0},null,null,32,null,null,null,null,{"$f":"IF(CU37=\"\",0,LEN(TRIM(CU37))-LEN(SUBSTITUTE(TRIM(CU37),\" \",\"\"))+1)","v":0},null,null,32,null,null,null,null,{"$f":"IF(DC37=\"\",0,LEN(TRIM(DC37))-LEN(SUBSTITUTE(TRIM(DC37),\" \",\"\"))+1)","v":0},null,null,32,null,null,null,null,{"$f":"IF(DK37=\"\",0,LEN(TRIM(DK37))-LEN(SUBSTITUTE(TRIM(DK37),\" \",\"\"))+1)","v":0},null,null,32,null,null,null,null,{"$f":"IF(DS37=\"\",0,LEN(TRIM(DS37))-LEN(SUBSTITUTE(TRIM(DS37),\" \",\"\"))+1)","v":0},null,null,32,null,null,null,null,{"$f":"IF(EA37=\"\",0,LEN(TRIM(EA37))-LEN(SUBSTITUTE(TRIM(EA37),\" \",\"\"))+1)","v":0},null,null,32,null,null,null,null,{"$f":"IF(EI37=\"\",0,LEN(TRIM(EI37))-LEN(SUBSTITUTE(TRIM(EI37),\" \",\"\"))+1)","v":0},null,null,32,null,null,null,null,{"$f":"IF(EQ37=\"\",0,LEN(TRIM(EQ37))-LEN(SUBSTITUTE(TRIM(EQ37),\" \",\"\"))+1)","v":0},null,null,32,null,null,null,null,{"$f":"IF(EY37=\"\",0,LEN(TRIM(EY37))-LEN(SUBSTITUTE(TRIM(EY37),\" \",\"\"))+1)","v":0},null,null,32,null,null,null,null,{"$f":"IF(FG37=\"\",0,LEN(TRIM(FG37))-LEN(SUBSTITUTE(TRIM(FG37),\" \",\"\"))+1)","v":0},null,null,32,null,null,null,null,{"$f":"IF(FO37=\"\",0,LEN(TRIM(FO37))-LEN(SUBSTITUTE(TRIM(FO37),\" \",\"\"))+1)","v":0},null,null,32,null,null,null,null,{"$f":"IF(FW37=\"\",0,LEN(TRIM(FW37))-LEN(SUBSTITUTE(TRIM(FW37),\" \",\"\"))+1)","v":0},null,null,32,null,null,null,null,{"$f":"IF(GE37=\"\",0,LEN(TRIM(GE37))-LEN(SUBSTITUTE(TRIM(GE37),\" \",\"\"))+1)","v":0},null,null,32,null,null,null,null,{"$f":"IF(GM37=\"\",0,LEN(TRIM(GM37))-LEN(SUBSTITUTE(TRIM(GM37),\" \",\"\"))+1)","v":0},null,null,32,null,null,null,null,{"$f":"IF(GU37=\"\",0,LEN(TRIM(GU37))-LEN(SUBSTITUTE(TRIM(GU37),\" \",\"\"))+1)","v":0},null,null,32,null,null,null,null,{"$f":"IF(HC37=\"\",0,LEN(TRIM(HC37))-LEN(SUBSTITUTE(TRIM(HC37),\" \",\"\"))+1)","v":0},null,null,32,null,null,null,null,{"$f":"IF(HK37=\"\",0,LEN(TRIM(HK37))-LEN(SUBSTITUTE(TRIM(HK37),\" \",\"\"))+1)","v":0},null,null,32,null,null,null,null,{"$f":"IF(HS37=\"\",0,LEN(TRIM(HS37))-LEN(SUBSTITUTE(TRIM(HS37),\" \",\"\"))+1)","v":0},null,null,32,null,null,null,null,{"$f":"IF(IA37=\"\",0,LEN(TRIM(IA37))-LEN(SUBSTITUTE(TRIM(IA37),\" \",\"\"))+1)","v":0},null,null,32,null,null,null,null,{"$f":"IF(II37=\"\",0,LEN(TRIM(II37))-LEN(SUBSTITUTE(TRIM(II37),\" \",\"\"))+1)","v":0},null,null,32,null,null,null,null,{"$f":"IF(IQ37=\"\",0,LEN(TRIM(IQ37))-LEN(SUBSTITUTE(TRIM(IQ37),\" \",\"\"))+1)","v":0},null,null,32,null,null,null,null,{"$f":"IF(IY37=\"\",0,LEN(TRIM(IY37))-LEN(SUBSTITUTE(TRIM(IY37),\" \",\"\"))+1)","v":0},null,null,32,null,null,null,null,{"$f":"IF(JG37=\"\",0,LEN(TRIM(JG37))-LEN(SUBSTITUTE(TRIM(JG37),\" \",\"\"))+1)","v":0},null,null,32,null,null,null,null,{"$f":"IF(JO37=\"\",0,LEN(TRIM(JO37))-LEN(SUBSTITUTE(TRIM(JO37),\" \",\"\"))+1)","v":0},null,null,32,null,null,null,null,{"$f":"IF(JW37=\"\",0,LEN(TRIM(JW37))-LEN(SUBSTITUTE(TRIM(JW37),\" \",\"\"))+1)","v":0},null,null,32,null,null,null,null,{"$f":"IF(KE37=\"\",0,LEN(TRIM(KE37))-LEN(SUBSTITUTE(TRIM(KE37),\" \",\"\"))+1)","v":0},null,null,32,null,null,null,null,{"$f":"IF(KM37=\"\",0,LEN(TRIM(KM37))-LEN(SUBSTITUTE(TRIM(KM37),\" \",\"\"))+1)","v":0},null,null,32,null,null,null,null,{"$f":"IF(KU37=\"\",0,LEN(TRIM(KU37))-LEN(SUBSTITUTE(TRIM(KU37),\" \",\"\"))+1)","v":0},null,null,32,null,null,null,null,{"$f":"IF(LC37=\"\",0,LEN(TRIM(LC37))-LEN(SUBSTITUTE(TRIM(LC37),\" \",\"\"))+1)","v":0},null,null,32,null,null,null,null,{"$f":"IF(LK37=\"\",0,LEN(TRIM(LK37))-LEN(SUBSTITUTE(TRIM(LK37),\" \",\"\"))+1)","v":0},null,null,32,null,null,null,null,{"$f":"IF(LS37=\"\",0,LEN(TRIM(LS37))-LEN(SUBSTITUTE(TRIM(LS37),\" \",\"\"))+1)","v":0},null,null,32,null,null,null,null,{"$f":"IF(MA37=\"\",0,LEN(TRIM(MA37))-LEN(SUBSTITUTE(TRIM(MA37),\" \",\"\"))+1)","v":0},null,null,32,null,null,null,null,{"$f":"IF(MI37=\"\",0,LEN(TRIM(MI37))-LEN(SUBSTITUTE(TRIM(MI37),\" \",\"\"))+1)","v":0},null,null,32,null,null,null,null,{"$f":"IF(MQ37=\"\",0,LEN(TRIM(MQ37))-LEN(SUBSTITUTE(TRIM(MQ37),\" \",\"\"))+1)","v":0},null,null,32,null,null,null,null,{"$f":"IF(MY37=\"\",0,LEN(TRIM(MY37))-LEN(SUBSTITUTE(TRIM(MY37),\" \",\"\"))+1)","v":0},null,null,32,null,null,null,null,{"$f":"IF(NG37=\"\",0,LEN(TRIM(NG37))-LEN(SUBSTITUTE(TRIM(NG37),\" \",\"\"))+1)","v":0},null,null,32,null,null,null,null,{"$f":"IF(NO37=\"\",0,LEN(TRIM(NO37))-LEN(SUBSTITUTE(TRIM(NO37),\" \",\"\"))+1)","v":0},null,null,32,null,null,null,null,{"$f":"IF(NW37=\"\",0,LEN(TRIM(NW37))-LEN(SUBSTITUTE(TRIM(NW37),\" \",\"\"))+1)","v":0},null,null,32,null,null,null,null,{"$f":"IF(OE37=\"\",0,LEN(TRIM(OE37))-LEN(SUBSTITUTE(TRIM(OE37),\" \",\"\"))+1)","v":0},null,null,32,null,null,null,null,{"$f":"IF(OM37=\"\",0,LEN(TRIM(OM37))-LEN(SUBSTITUTE(TRIM(OM37),\" \",\"\"))+1)","v":0},null,null,32,null,null,null,null,{"$f":"IF(OU37=\"\",0,LEN(TRIM(OU37))-LEN(SUBSTITUTE(TRIM(OU37),\" \",\"\"))+1)","v":0},null,null,32,null,null,null,null,{"$f":"IF(PC37=\"\",0,LEN(TRIM(PC37))-LEN(SUBSTITUTE(TRIM(PC37),\" \",\"\"))+1)","v":0},null,null,32,null,null,null,null,{"$f":"IF(PK37=\"\",0,LEN(TRIM(PK37))-LEN(SUBSTITUTE(TRIM(PK37),\" \",\"\"))+1)","v":0},null,null,32,null,null,null,null,{"$f":"IF(PS37=\"\",0,LEN(TRIM(PS37))-LEN(SUBSTITUTE(TRIM(PS37),\" \",\"\"))+1)","v":0},null,null,32,null,null,null,null,{"$f":"IF(QA37=\"\",0,LEN(TRIM(QA37))-LEN(SUBSTITUTE(TRIM(QA37),\" \",\"\"))+1)","v":0},null,null,32,null,null,null,null,{"$f":"IF(QI37=\"\",0,LEN(TRIM(QI37))-LEN(SUBSTITUTE(TRIM(QI37),\" \",\"\"))+1)","v":0},null,null,32,null,null,null,null,{"$f":"IF(QQ37=\"\",0,LEN(TRIM(QQ37))-LEN(SUBSTITUTE(TRIM(QQ37),\" \",\"\"))+1)","v":0},null,null,32,null,null,null,null,{"$f":"IF(QY37=\"\",0,LEN(TRIM(QY37))-LEN(SUBSTITUTE(TRIM(QY37),\" \",\"\"))+1)","v":0},null,null,32,null,null,null,null,{"$f":"IF(RG37=\"\",0,LEN(TRIM(RG37))-LEN(SUBSTITUTE(TRIM(RG37),\" \",\"\"))+1)","v":0},null,null,32,null,null,null,null,{"$f":"IF(RO37=\"\",0,LEN(TRIM(RO37))-LEN(SUBSTITUTE(TRIM(RO37),\" \",\"\"))+1)","v":0},null,null,32,null,null,null,null,{"$f":"IF(RW37=\"\",0,LEN(TRIM(RW37))-LEN(SUBSTITUTE(TRIM(RW37),\" \",\"\"))+1)","v":0},null,null,32,null,null,null,null,{"$f":"IF(SE37=\"\",0,LEN(TRIM(SE37))-LEN(SUBSTITUTE(TRIM(SE37),\" \",\"\"))+1)","v":0},null,null,32,null,null,null,null,{"$f":"IF(SM37=\"\",0,LEN(TRIM(SM37))-LEN(SUBSTITUTE(TRIM(SM37),\" \",\"\"))+1)","v":0},null,null,32,null,null,null,null,{"$f":"IF(SU37=\"\",0,LEN(TRIM(SU37))-LEN(SUBSTITUTE(TRIM(SU37),\" \",\"\"))+1)","v":0},null,null,32,null,null,null,null,{"$f":"IF(TC37=\"\",0,LEN(TRIM(TC37))-LEN(SUBSTITUTE(TRIM(TC37),\" \",\"\"))+1)","v":0},null,null,32,null,null,null,null,{"$f":"IF(TK37=\"\",0,LEN(TRIM(TK37))-LEN(SUBSTITUTE(TRIM(TK37),\" \",\"\"))+1)","v":0},null,null,32,null,null,null,null,{"$f":"IF(TS37=\"\",0,LEN(TRIM(TS37))-LEN(SUBSTITUTE(TRIM(TS37),\" \",\"\"))+1)","v":0},null,null,32,null,null,null,null,{"$f":"IF(UA37=\"\",0,LEN(TRIM(UA37))-LEN(SUBSTITUTE(TRIM(UA37),\" \",\"\"))+1)","v":0},null,null,32,null,null,null,null,{"$f":"IF(UI37=\"\",0,LEN(TRIM(UI37))-LEN(SUBSTITUTE(TRIM(UI37),\" \",\"\"))+1)","v":0},null,null,32,null,null,null,null,{"$f":"IF(UQ37=\"\",0,LEN(TRIM(UQ37))-LEN(SUBSTITUTE(TRIM(UQ37),\" \",\"\"))+1)","v":0},null,null,32,null,null,null,null,{"$f":"IF(UY37=\"\",0,LEN(TRIM(UY37))-LEN(SUBSTITUTE(TRIM(UY37),\" \",\"\"))+1)","v":0},null,null,32,null,null,null,null,{"$f":"IF(VG37=\"\",0,LEN(TRIM(VG37))-LEN(SUBSTITUTE(TRIM(VG37),\" \",\"\"))+1)","v":0},null,null,32,null,null,null,null,{"$f":"IF(VO37=\"\",0,LEN(TRIM(VO37))-LEN(SUBSTITUTE(TRIM(VO37),\" \",\"\"))+1)","v":0},null,null,32,null,null,null,null,{"$f":"IF(VW37=\"\",0,LEN(TRIM(VW37))-LEN(SUBSTITUTE(TRIM(VW37),\" \",\"\"))+1)","v":0},null,null,32,null,null,null,null,{"$f":"IF(WE37=\"\",0,LEN(TRIM(WE37))-LEN(SUBSTITUTE(TRIM(WE37),\" \",\"\"))+1)","v":0},null,null,32,null,null,null,null,{"$f":"IF(WM37=\"\",0,LEN(TRIM(WM37))-LEN(SUBSTITUTE(TRIM(WM37),\" \",\"\"))+1)","v":0},null,null,32,null,null,null,null,{"$f":"IF(WU37=\"\",0,LEN(TRIM(WU37))-LEN(SUBSTITUTE(TRIM(WU37),\" \",\"\"))+1)","v":0},null,null,32,null,null,null,null,{"$f":"IF(XC37=\"\",0,LEN(TRIM(XC37))-LEN(SUBSTITUTE(TRIM(XC37),\" \",\"\"))+1)","v":0},null,null,32,null,null,null,null,{"$f":"IF(XK37=\"\",0,LEN(TRIM(XK37))-LEN(SUBSTITUTE(TRIM(XK37),\" \",\"\"))+1)","v":0},null,null,32,null,null,null,null,{"$f":"IF(XS37=\"\",0,LEN(TRIM(XS37))-LEN(SUBSTITUTE(TRIM(XS37),\" \",\"\"))+1)","v":0},null,null,32,null,null,null,null,{"$f":"IF(YA37=\"\",0,LEN(TRIM(YA37))-LEN(SUBSTITUTE(TRIM(YA37),\" \",\"\"))+1)","v":0},null,null,32,null,null,null,null,{"$f":"IF(YI37=\"\",0,LEN(TRIM(YI37))-LEN(SUBSTITUTE(TRIM(YI37),\" \",\"\"))+1)","v":0},null,null,32,null,null,null,null,{"$f":"IF(YQ37=\"\",0,LEN(TRIM(YQ37))-LEN(SUBSTITUTE(TRIM(YQ37),\" \",\"\"))+1)","v":0},null,null,32,null,null,null,null,{"$f":"IF(YY37=\"\",0,LEN(TRIM(YY37))-LEN(SUBSTITUTE(TRIM(YY37),\" \",\"\"))+1)","v":0},null,null,32,null,null,null,null,{"$f":"IF(ZG37=\"\",0,LEN(TRIM(ZG37))-LEN(SUBSTITUTE(TRIM(ZG37),\" \",\"\"))+1)","v":0},null,null,32,null,null,null,null,{"$f":"IF(ZO37=\"\",0,LEN(TRIM(ZO37))-LEN(SUBSTITUTE(TRIM(ZO37),\" \",\"\"))+1)","v":0},null,null,32,null,null,null,null,{"$f":"IF(ZW37=\"\",0,LEN(TRIM(ZW37))-LEN(SUBSTITUTE(TRIM(ZW37),\" \",\"\"))+1)","v":0},null,null,32,null,null,null,null,{"$f":"IF(AAE37=\"\",0,LEN(TRIM(AAE37))-LEN(SUBSTITUTE(TRIM(AAE37),\" \",\"\"))+1)","v":0},null,null,32,null,null,null,null,{"$f":"IF(AAM37=\"\",0,LEN(TRIM(AAM37))-LEN(SUBSTITUTE(TRIM(AAM37),\" \",\"\"))+1)","v":0},null,null,32,null,null,null,null,{"$f":"IF(AAU37=\"\",0,LEN(TRIM(AAU37))-LEN(SUBSTITUTE(TRIM(AAU37),\" \",\"\"))+1)","v":0},null,null,32,null,null,null,null,{"$f":"IF(ABC37=\"\",0,LEN(TRIM(ABC37))-LEN(SUBSTITUTE(TRIM(ABC37),\" \",\"\"))+1)","v":0},null,null,32,null,null,null,null,{"$f":"IF(ABK37=\"\",0,LEN(TRIM(ABK37))-LEN(SUBSTITUTE(TRIM(ABK37),\" \",\"\"))+1)","v":0},null,null,32,null,null,null,null,{"$f":"IF(ABS37=\"\",0,LEN(TRIM(ABS37))-LEN(SUBSTITUTE(TRIM(ABS37),\" \",\"\"))+1)","v":0},null,null,32,null,null,null,null,{"$f":"IF(ACA37=\"\",0,LEN(TRIM(ACA37))-LEN(SUBSTITUTE(TRIM(ACA37),\" \",\"\"))+1)","v":0},null,null,32,null,null,null,null,{"$f":"IF(ACI37=\"\",0,LEN(TRIM(ACI37))-LEN(SUBSTITUTE(TRIM(ACI37),\" \",\"\"))+1)","v":0},null,null,32,null,null,null,null,{"$f":"IF(ACQ37=\"\",0,LEN(TRIM(ACQ37))-LEN(SUBSTITUTE(TRIM(ACQ37),\" \",\"\"))+1)","v":0},null,null,32,null,null,null,null,{"$f":"IF(ACY37=\"\",0,LEN(TRIM(ACY37))-LEN(SUBSTITUTE(TRIM(ACY37),\" \",\"\"))+1)","v":0},null,null,32,null,null,null,null,{"$f":"IF(ADG37=\"\",0,LEN(TRIM(ADG37))-LEN(SUBSTITUTE(TRIM(ADG37),\" \",\"\"))+1)","v":0},null,null,32,null,null,null,null,{"$f":"IF(ADO37=\"\",0,LEN(TRIM(ADO37))-LEN(SUBSTITUTE(TRIM(ADO37),\" \",\"\"))+1)","v":0},null,null,32,null,null,null,null,{"$f":"IF(ADW37=\"\",0,LEN(TRIM(ADW37))-LEN(SUBSTITUTE(TRIM(ADW37),\" \",\"\"))+1)","v":0},null,null,32,null,null,null,null,{"$f":"IF(AEE37=\"\",0,LEN(TRIM(AEE37))-LEN(SUBSTITUTE(TRIM(AEE37),\" \",\"\"))+1)","v":0},null,null,32,null,null,null,null,{"$f":"IF(AEM37=\"\",0,LEN(TRIM(AEM37))-LEN(SUBSTITUTE(TRIM(AEM37),\" \",\"\"))+1)","v":0},null,null,32,null,null,null,null,{"$f":"IF(AEU37=\"\",0,LEN(TRIM(AEU37))-LEN(SUBSTITUTE(TRIM(AEU37),\" \",\"\"))+1)","v":0},null,null,32,null,null,null,null,{"$f":"IF(AFC37=\"\",0,LEN(TRIM(AFC37))-LEN(SUBSTITUTE(TRIM(AFC37),\" \",\"\"))+1)","v":0},null,null,32,null,null,null,null,{"$f":"IF(AFK37=\"\",0,LEN(TRIM(AFK37))-LEN(SUBSTITUTE(TRIM(AFK37),\" \",\"\"))+1)","v":0},null,null,32,null,null,null,null,{"$f":"IF(AFS37=\"\",0,LEN(TRIM(AFS37))-LEN(SUBSTITUTE(TRIM(AFS37),\" \",\"\"))+1)","v":0},null,null,32,null,null,null,null,{"$f":"IF(AGA37=\"\",0,LEN(TRIM(AGA37))-LEN(SUBSTITUTE(TRIM(AGA37),\" \",\"\"))+1)","v":0},null,null,32,null,null,null,null,{"$f":"IF(AGI37=\"\",0,LEN(TRIM(AGI37))-LEN(SUBSTITUTE(TRIM(AGI37),\" \",\"\"))+1)","v":0},null,null,32,null,null,null,null,{"$f":"IF(AGQ37=\"\",0,LEN(TRIM(AGQ37))-LEN(SUBSTITUTE(TRIM(AGQ37),\" \",\"\"))+1)","v":0},null,null,32,null,null,null,null,{"$f":"IF(AGY37=\"\",0,LEN(TRIM(AGY37))-LEN(SUBSTITUTE(TRIM(AGY37),\" \",\"\"))+1)","v":0},null,null,32,null,null,null,null,{"$f":"IF(AHG37=\"\",0,LEN(TRIM(AHG37))-LEN(SUBSTITUTE(TRIM(AHG37),\" \",\"\"))+1)","v":0},null,null,32,null,null,null,null,{"$f":"IF(AHO37=\"\",0,LEN(TRIM(AHO37))-LEN(SUBSTITUTE(TRIM(AHO37),\" \",\"\"))+1)","v":0},null,null,32,null,null,null,null,{"$f":"IF(AHW37=\"\",0,LEN(TRIM(AHW37))-LEN(SUBSTITUTE(TRIM(AHW37),\" \",\"\"))+1)","v":0},null,null,32,null,null,null,null,{"$f":"IF(AIE37=\"\",0,LEN(TRIM(AIE37))-LEN(SUBSTITUTE(TRIM(AIE37),\" \",\"\"))+1)","v":0},null,null,32,null,null,null,null,{"$f":"IF(AIM37=\"\",0,LEN(TRIM(AIM37))-LEN(SUBSTITUTE(TRIM(AIM37),\" \",\"\"))+1)","v":0},null,null,32,null,null,null,null,{"$f":"IF(AIU37=\"\",0,LEN(TRIM(AIU37))-LEN(SUBSTITUTE(TRIM(AIU37),\" \",\"\"))+1)","v":0},null,null,32,null,null,null,null,{"$f":"IF(AJC37=\"\",0,LEN(TRIM(AJC37))-LEN(SUBSTITUTE(TRIM(AJC37),\" \",\"\"))+1)","v":0},null,null,32,null,null,null,null,{"$f":"IF(AJK37=\"\",0,LEN(TRIM(AJK37))-LEN(SUBSTITUTE(TRIM(AJK37),\" \",\"\"))+1)","v":0},null,null,32,null,null,null,null,{"$f":"IF(AJS37=\"\",0,LEN(TRIM(AJS37))-LEN(SUBSTITUTE(TRIM(AJS37),\" \",\"\"))+1)","v":0},null,null,32,null,null,null,null,{"$f":"IF(AKA37=\"\",0,LEN(TRIM(AKA37))-LEN(SUBSTITUTE(TRIM(AKA37),\" \",\"\"))+1)","v":0},null,null,32,null,null,null,null,{"$f":"IF(AKI37=\"\",0,LEN(TRIM(AKI37))-LEN(SUBSTITUTE(TRIM(AKI37),\" \",\"\"))+1)","v":0},null,null,32,null,null,null,null,{"$f":"IF(AKQ37=\"\",0,LEN(TRIM(AKQ37))-LEN(SUBSTITUTE(TRIM(AKQ37),\" \",\"\"))+1)","v":0},null,null,32,null,null,null,null,{"$f":"IF(AKY37=\"\",0,LEN(TRIM(AKY37))-LEN(SUBSTITUTE(TRIM(AKY37),\" \",\"\"))+1)","v":0},null,null,32,null,null,null,null,{"$f":"IF(ALG37=\"\",0,LEN(TRIM(ALG37))-LEN(SUBSTITUTE(TRIM(ALG37),\" \",\"\"))+1)","v":0},null,null,32,null,null,null,null,{"$f":"IF(ALO37=\"\",0,LEN(TRIM(ALO37))-LEN(SUBSTITUTE(TRIM(ALO37),\" \",\"\"))+1)","v":0},null,null,32,null,null,null,null,{"$f":"IF(ALW37=\"\",0,LEN(TRIM(ALW37))-LEN(SUBSTITUTE(TRIM(ALW37),\" \",\"\"))+1)","v":0},null,null,32,null,null,null,null,{"$f":"IF(AME37=\"\",0,LEN(TRIM(AME37))-LEN(SUBSTITUTE(TRIM(AME37),\" \",\"\"))+1)","v":0},null,null,32,null,null,null,null,{"$f":"IF(AMM37=\"\",0,LEN(TRIM(AMM37))-LEN(SUBSTITUTE(TRIM(AMM37),\" \",\"\"))+1)","v":0},null,null,32,null,null,null,null,{"$f":"IF(AMU37=\"\",0,LEN(TRIM(AMU37))-LEN(SUBSTITUTE(TRIM(AMU37),\" \",\"\"))+1)","v":0},null,null,32,null,null,null,null,{"$f":"IF(ANC37=\"\",0,LEN(TRIM(ANC37))-LEN(SUBSTITUTE(TRIM(ANC37),\" \",\"\"))+1)","v":0},null,null,32,null,null,null,null,{"$f":"IF(ANK37=\"\",0,LEN(TRIM(ANK37))-LEN(SUBSTITUTE(TRIM(ANK37),\" \",\"\"))+1)","v":0},null,null,32,null,null,null,null,{"$f":"IF(ANS37=\"\",0,LEN(TRIM(ANS37))-LEN(SUBSTITUTE(TRIM(ANS37),\" \",\"\"))+1)","v":0},null,null,32,null,null,null,null,{"$f":"IF(AOA37=\"\",0,LEN(TRIM(AOA37))-LEN(SUBSTITUTE(TRIM(AOA37),\" \",\"\"))+1)","v":0},null,null,32,null,null,null,null,{"$f":"IF(AOI37=\"\",0,LEN(TRIM(AOI37))-LEN(SUBSTITUTE(TRIM(AOI37),\" \",\"\"))+1)","v":0},null,null,32,null,null,null,null,{"$f":"IF(AOQ37=\"\",0,LEN(TRIM(AOQ37))-LEN(SUBSTITUTE(TRIM(AOQ37),\" \",\"\"))+1)","v":0},null,null,32,null,null,null,null,{"$f":"IF(AOY37=\"\",0,LEN(TRIM(AOY37))-LEN(SUBSTITUTE(TRIM(AOY37),\" \",\"\"))+1)","v":0},null,null,32,null,null,null,null,{"$f":"IF(APG37=\"\",0,LEN(TRIM(APG37))-LEN(SUBSTITUTE(TRIM(APG37),\" \",\"\"))+1)","v":0},null,null,32,null,null,null,null,{"$f":"IF(APO37=\"\",0,LEN(TRIM(APO37))-LEN(SUBSTITUTE(TRIM(APO37),\" \",\"\"))+1)","v":0},null,null,32,null,null,null,null,{"$f":"IF(APW37=\"\",0,LEN(TRIM(APW37))-LEN(SUBSTITUTE(TRIM(APW37),\" \",\"\"))+1)","v":0},null,null,32,null,null,null,null,{"$f":"IF(AQE37=\"\",0,LEN(TRIM(AQE37))-LEN(SUBSTITUTE(TRIM(AQE37),\" \",\"\"))+1)","v":0},null,null,32,null,null,null,null,{"$f":"IF(AQM37=\"\",0,LEN(TRIM(AQM37))-LEN(SUBSTITUTE(TRIM(AQM37),\" \",\"\"))+1)","v":0},null,null,32,null,null,null,null,{"$f":"IF(AQU37=\"\",0,LEN(TRIM(AQU37))-LEN(SUBSTITUTE(TRIM(AQU37),\" \",\"\"))+1)","v":0},null,null,32,null,null,null,null,{"$f":"IF(ARC37=\"\",0,LEN(TRIM(ARC37))-LEN(SUBSTITUTE(TRIM(ARC37),\" \",\"\"))+1)","v":0},null,null,32,null,null,null,null,{"$f":"IF(ARK37=\"\",0,LEN(TRIM(ARK37))-LEN(SUBSTITUTE(TRIM(ARK37),\" \",\"\"))+1)","v":0},null,null,32,null,null,null,null,{"$f":"IF(ARS37=\"\",0,LEN(TRIM(ARS37))-LEN(SUBSTITUTE(TRIM(ARS37),\" \",\"\"))+1)","v":0},null,null,32,null,null,null,null,{"$f":"IF(ASA37=\"\",0,LEN(TRIM(ASA37))-LEN(SUBSTITUTE(TRIM(ASA37),\" \",\"\"))+1)","v":0},null,null,32,null,null,null,null,{"$f":"IF(ASI37=\"\",0,LEN(TRIM(ASI37))-LEN(SUBSTITUTE(TRIM(ASI37),\" \",\"\"))+1)","v":0},null,null,32,null,null,null,null,{"$f":"IF(ASQ37=\"\",0,LEN(TRIM(ASQ37))-LEN(SUBSTITUTE(TRIM(ASQ37),\" \",\"\"))+1)","v":0},null,null,32,null,null,null,null,{"$f":"IF(ASY37=\"\",0,LEN(TRIM(ASY37))-LEN(SUBSTITUTE(TRIM(ASY37),\" \",\"\"))+1)","v":0},null,null,32,null,null,null,null,{"$f":"IF(ATG37=\"\",0,LEN(TRIM(ATG37))-LEN(SUBSTITUTE(TRIM(ATG37),\" \",\"\"))+1)","v":0},null,null,32,null,null,null,null,{"$f":"IF(ATO37=\"\",0,LEN(TRIM(ATO37))-LEN(SUBSTITUTE(TRIM(ATO37),\" \",\"\"))+1)","v":0},null,null,32,null,null,null,null,{"$f":"IF(ATW37=\"\",0,LEN(TRIM(ATW37))-LEN(SUBSTITUTE(TRIM(ATW37),\" \",\"\"))+1)","v":0},null,null,32,null,null,null,null,{"$f":"IF(AUE37=\"\",0,LEN(TRIM(AUE37))-LEN(SUBSTITUTE(TRIM(AUE37),\" \",\"\"))+1)","v":0},null,null,32,null,null,null,null,{"$f":"IF(AUM37=\"\",0,LEN(TRIM(AUM37))-LEN(SUBSTITUTE(TRIM(AUM37),\" \",\"\"))+1)","v":0},null,null,32,null,null,null,null,{"$f":"IF(AUU37=\"\",0,LEN(TRIM(AUU37))-LEN(SUBSTITUTE(TRIM(AUU37),\" \",\"\"))+1)","v":0},null,null,32,null,null,null,null,{"$f":"IF(AVC37=\"\",0,LEN(TRIM(AVC37))-LEN(SUBSTITUTE(TRIM(AVC37),\" \",\"\"))+1)","v":0},null,null,32,null,null,null,null,{"$f":"IF(AVK37=\"\",0,LEN(TRIM(AVK37))-LEN(SUBSTITUTE(TRIM(AVK37),\" \",\"\"))+1)","v":0},null,null,32,null,null,null,null,{"$f":"IF(AVS37=\"\",0,LEN(TRIM(AVS37))-LEN(SUBSTITUTE(TRIM(AVS37),\" \",\"\"))+1)","v":0},null,null,32,null,null,null,null,{"$f":"IF(AWA37=\"\",0,LEN(TRIM(AWA37))-LEN(SUBSTITUTE(TRIM(AWA37),\" \",\"\"))+1)","v":0},null,null,32,null,null,null,null,{"$f":"IF(AWI37=\"\",0,LEN(TRIM(AWI37))-LEN(SUBSTITUTE(TRIM(AWI37),\" \",\"\"))+1)","v":0},null,null,32,null,null,null,null,{"$f":"IF(AWQ37=\"\",0,LEN(TRIM(AWQ37))-LEN(SUBSTITUTE(TRIM(AWQ37),\" \",\"\"))+1)","v":0},null,null,32,null,null,null,null,{"$f":"IF(AWY37=\"\",0,LEN(TRIM(AWY37))-LEN(SUBSTITUTE(TRIM(AWY37),\" \",\"\"))+1)","v":0},null,null,32,null,null,null,null,{"$f":"IF(AXG37=\"\",0,LEN(TRIM(AXG37))-LEN(SUBSTITUTE(TRIM(AXG37),\" \",\"\"))+1)","v":0},null,null,32,null,null,null,null,{"$f":"IF(AXO37=\"\",0,LEN(TRIM(AXO37))-LEN(SUBSTITUTE(TRIM(AXO37),\" \",\"\"))+1)","v":0},null,null,32,null,null,null,null,{"$f":"IF(AXW37=\"\",0,LEN(TRIM(AXW37))-LEN(SUBSTITUTE(TRIM(AXW37),\" \",\"\"))+1)","v":0},null,null,32,null,null,null,null,{"$f":"IF(AYE37=\"\",0,LEN(TRIM(AYE37))-LEN(SUBSTITUTE(TRIM(AYE37),\" \",\"\"))+1)","v":0},null,null,32,null,null,null,null,{"$f":"IF(AYM37=\"\",0,LEN(TRIM(AYM37))-LEN(SUBSTITUTE(TRIM(AYM37),\" \",\"\"))+1)","v":0},null,null,32,null,null,null,null,{"$f":"IF(AYU37=\"\",0,LEN(TRIM(AYU37))-LEN(SUBSTITUTE(TRIM(AYU37),\" \",\"\"))+1)","v":0},null,null,32,null,null,null,null,{"$f":"IF(AZC37=\"\",0,LEN(TRIM(AZC37))-LEN(SUBSTITUTE(TRIM(AZC37),\" \",\"\"))+1)","v":0},null,null,32,null,null,null,null,{"$f":"IF(AZK37=\"\",0,LEN(TRIM(AZK37))-LEN(SUBSTITUTE(TRIM(AZK37),\" \",\"\"))+1)","v":0},null,null,32,null,null,null,null,{"$f":"IF(AZS37=\"\",0,LEN(TRIM(AZS37))-LEN(SUBSTITUTE(TRIM(AZS37),\" \",\"\"))+1)","v":0},null,null,32,null,null,null,null,{"$f":"IF(BAA37=\"\",0,LEN(TRIM(BAA37))-LEN(SUBSTITUTE(TRIM(BAA37),\" \",\"\"))+1)","v":0},null,null,32,null,null,null,null,{"$f":"IF(BAI37=\"\",0,LEN(TRIM(BAI37))-LEN(SUBSTITUTE(TRIM(BAI37),\" \",\"\"))+1)","v":0},null,null,32,null,null,null,null,{"$f":"IF(BAQ37=\"\",0,LEN(TRIM(BAQ37))-LEN(SUBSTITUTE(TRIM(BAQ37),\" \",\"\"))+1)","v":0},null,null,32,null,null,null,null,{"$f":"IF(BAY37=\"\",0,LEN(TRIM(BAY37))-LEN(SUBSTITUTE(TRIM(BAY37),\" \",\"\"))+1)","v":0},null,null,32,null,null,null,null,{"$f":"IF(BBG37=\"\",0,LEN(TRIM(BBG37))-LEN(SUBSTITUTE(TRIM(BBG37),\" \",\"\"))+1)","v":0},null,null,32,null,null,null,null,{"$f":"IF(BBO37=\"\",0,LEN(TRIM(BBO37))-LEN(SUBSTITUTE(TRIM(BBO37),\" \",\"\"))+1)","v":0},null,null,32,null,null,null,null,{"$f":"IF(BBW37=\"\",0,LEN(TRIM(BBW37))-LEN(SUBSTITUTE(TRIM(BBW37),\" \",\"\"))+1)","v":0},null,null,32,null,null,null,null,{"$f":"IF(BCE37=\"\",0,LEN(TRIM(BCE37))-LEN(SUBSTITUTE(TRIM(BCE37),\" \",\"\"))+1)","v":0},null,null,32,null,null,null,null,{"$f":"IF(BCM37=\"\",0,LEN(TRIM(BCM37))-LEN(SUBSTITUTE(TRIM(BCM37),\" \",\"\"))+1)","v":0},null,null,32,null,null,null,null,{"$f":"IF(BCU37=\"\",0,LEN(TRIM(BCU37))-LEN(SUBSTITUTE(TRIM(BCU37),\" \",\"\"))+1)","v":0},null,null,32,null,null,null,null,{"$f":"IF(BDC37=\"\",0,LEN(TRIM(BDC37))-LEN(SUBSTITUTE(TRIM(BDC37),\" \",\"\"))+1)","v":0},null,null,32,null,null,null,null,{"$f":"IF(BDK37=\"\",0,LEN(TRIM(BDK37))-LEN(SUBSTITUTE(TRIM(BDK37),\" \",\"\"))+1)","v":0},null,null,32,null,null,null,null,{"$f":"IF(BDS37=\"\",0,LEN(TRIM(BDS37))-LEN(SUBSTITUTE(TRIM(BDS37),\" \",\"\"))+1)","v":0},null,null,32,null,null,null,null,{"$f":"IF(BEA37=\"\",0,LEN(TRIM(BEA37))-LEN(SUBSTITUTE(TRIM(BEA37),\" \",\"\"))+1)","v":0},null,null,32,null,null,null,null,{"$f":"IF(BEI37=\"\",0,LEN(TRIM(BEI37))-LEN(SUBSTITUTE(TRIM(BEI37),\" \",\"\"))+1)","v":0},null,null,32,null,null,null,null,{"$f":"IF(BEQ37=\"\",0,LEN(TRIM(BEQ37))-LEN(SUBSTITUTE(TRIM(BEQ37),\" \",\"\"))+1)","v":0},null,null,32,null,null,null,null,{"$f":"IF(BEY37=\"\",0,LEN(TRIM(BEY37))-LEN(SUBSTITUTE(TRIM(BEY37),\" \",\"\"))+1)","v":0},null,null,32,null,null,null,null,{"$f":"IF(BFG37=\"\",0,LEN(TRIM(BFG37))-LEN(SUBSTITUTE(TRIM(BFG37),\" \",\"\"))+1)","v":0},null,null,32,null,null,null,null,{"$f":"IF(BFO37=\"\",0,LEN(TRIM(BFO37))-LEN(SUBSTITUTE(TRIM(BFO37),\" \",\"\"))+1)","v":0},null,null,32,null,null,null,null,{"$f":"IF(BFW37=\"\",0,LEN(TRIM(BFW37))-LEN(SUBSTITUTE(TRIM(BFW37),\" \",\"\"))+1)","v":0},null,null,32,null,null,null,null,{"$f":"IF(BGE37=\"\",0,LEN(TRIM(BGE37))-LEN(SUBSTITUTE(TRIM(BGE37),\" \",\"\"))+1)","v":0},null,null,32,null,null,null,null,{"$f":"IF(BGM37=\"\",0,LEN(TRIM(BGM37))-LEN(SUBSTITUTE(TRIM(BGM37),\" \",\"\"))+1)","v":0},null,null,32,null,null,null,null,{"$f":"IF(BGU37=\"\",0,LEN(TRIM(BGU37))-LEN(SUBSTITUTE(TRIM(BGU37),\" \",\"\"))+1)","v":0},null,null,32,null,null,null,null,{"$f":"IF(BHC37=\"\",0,LEN(TRIM(BHC37))-LEN(SUBSTITUTE(TRIM(BHC37),\" \",\"\"))+1)","v":0},null,null,32,null,null,null,null,{"$f":"IF(BHK37=\"\",0,LEN(TRIM(BHK37))-LEN(SUBSTITUTE(TRIM(BHK37),\" \",\"\"))+1)","v":0},null,null,32,null,null,null,null,{"$f":"IF(BHS37=\"\",0,LEN(TRIM(BHS37))-LEN(SUBSTITUTE(TRIM(BHS37),\" \",\"\"))+1)","v":0},null,null,32,null,null,null,null,{"$f":"IF(BIA37=\"\",0,LEN(TRIM(BIA37))-LEN(SUBSTITUTE(TRIM(BIA37),\" \",\"\"))+1)","v":0},null,null,32,null,null,null,null,{"$f":"IF(BII37=\"\",0,LEN(TRIM(BII37))-LEN(SUBSTITUTE(TRIM(BII37),\" \",\"\"))+1)","v":0},null,null,32,null,null,null,null,{"$f":"IF(BIQ37=\"\",0,LEN(TRIM(BIQ37))-LEN(SUBSTITUTE(TRIM(BIQ37),\" \",\"\"))+1)","v":0},null,null,32,null,null,null,null,{"$f":"IF(BIY37=\"\",0,LEN(TRIM(BIY37))-LEN(SUBSTITUTE(TRIM(BIY37),\" \",\"\"))+1)","v":0},null,null,32,null,null,null,null,{"$f":"IF(BJG37=\"\",0,LEN(TRIM(BJG37))-LEN(SUBSTITUTE(TRIM(BJG37),\" \",\"\"))+1)","v":0},null,null,32,null,null,null,null,{"$f":"IF(BJO37=\"\",0,LEN(TRIM(BJO37))-LEN(SUBSTITUTE(TRIM(BJO37),\" \",\"\"))+1)","v":0},null,null,32,null,null,null,null,{"$f":"IF(BJW37=\"\",0,LEN(TRIM(BJW37))-LEN(SUBSTITUTE(TRIM(BJW37),\" \",\"\"))+1)","v":0},null,null,32,null,null,null,null,{"$f":"IF(BKE37=\"\",0,LEN(TRIM(BKE37))-LEN(SUBSTITUTE(TRIM(BKE37),\" \",\"\"))+1)","v":0},null,null,32,null,null,null,null,{"$f":"IF(BKM37=\"\",0,LEN(TRIM(BKM37))-LEN(SUBSTITUTE(TRIM(BKM37),\" \",\"\"))+1)","v":0},null,null,32,null,null,null,null,{"$f":"IF(BKU37=\"\",0,LEN(TRIM(BKU37))-LEN(SUBSTITUTE(TRIM(BKU37),\" \",\"\"))+1)","v":0},null,null,32,null,null,null,null,{"$f":"IF(BLC37=\"\",0,LEN(TRIM(BLC37))-LEN(SUBSTITUTE(TRIM(BLC37),\" \",\"\"))+1)","v":0},null,null,32,null,null,null,null,{"$f":"IF(BLK37=\"\",0,LEN(TRIM(BLK37))-LEN(SUBSTITUTE(TRIM(BLK37),\" \",\"\"))+1)","v":0},null,null,32,null,null,null,null,{"$f":"IF(BLS37=\"\",0,LEN(TRIM(BLS37))-LEN(SUBSTITUTE(TRIM(BLS37),\" \",\"\"))+1)","v":0},null,null,32,null,null,null,null,{"$f":"IF(BMA37=\"\",0,LEN(TRIM(BMA37))-LEN(SUBSTITUTE(TRIM(BMA37),\" \",\"\"))+1)","v":0},null,null,32,null,null,null,null,{"$f":"IF(BMI37=\"\",0,LEN(TRIM(BMI37))-LEN(SUBSTITUTE(TRIM(BMI37),\" \",\"\"))+1)","v":0},null,null,32,null,null,null,null,{"$f":"IF(BMQ37=\"\",0,LEN(TRIM(BMQ37))-LEN(SUBSTITUTE(TRIM(BMQ37),\" \",\"\"))+1)","v":0},null,null,32,null,null,null,null,{"$f":"IF(BMY37=\"\",0,LEN(TRIM(BMY37))-LEN(SUBSTITUTE(TRIM(BMY37),\" \",\"\"))+1)","v":0},null,null,32,null,null,null,null,{"$f":"IF(BNG37=\"\",0,LEN(TRIM(BNG37))-LEN(SUBSTITUTE(TRIM(BNG37),\" \",\"\"))+1)","v":0},null,null,32,null,null,null,null,{"$f":"IF(BNO37=\"\",0,LEN(TRIM(BNO37))-LEN(SUBSTITUTE(TRIM(BNO37),\" \",\"\"))+1)","v":0},null,null,32,null,null,null,null,{"$f":"IF(BNW37=\"\",0,LEN(TRIM(BNW37))-LEN(SUBSTITUTE(TRIM(BNW37),\" \",\"\"))+1)","v":0},null,null,32,null,null,null,null,{"$f":"IF(BOE37=\"\",0,LEN(TRIM(BOE37))-LEN(SUBSTITUTE(TRIM(BOE37),\" \",\"\"))+1)","v":0},null,null,32,null,null,null,null,{"$f":"IF(BOM37=\"\",0,LEN(TRIM(BOM37))-LEN(SUBSTITUTE(TRIM(BOM37),\" \",\"\"))+1)","v":0},null,null,32,null,null,null,null,{"$f":"IF(BOU37=\"\",0,LEN(TRIM(BOU37))-LEN(SUBSTITUTE(TRIM(BOU37),\" \",\"\"))+1)","v":0},null,null,32,null,null,null,null,{"$f":"IF(BPC37=\"\",0,LEN(TRIM(BPC37))-LEN(SUBSTITUTE(TRIM(BPC37),\" \",\"\"))+1)","v":0},null,null,32,null,null,null,null,{"$f":"IF(BPK37=\"\",0,LEN(TRIM(BPK37))-LEN(SUBSTITUTE(TRIM(BPK37),\" \",\"\"))+1)","v":0},null,null,32,null,null,null,null,{"$f":"IF(BPS37=\"\",0,LEN(TRIM(BPS37))-LEN(SUBSTITUTE(TRIM(BPS37),\" \",\"\"))+1)","v":0},null,null,32,null,null,null,null,{"$f":"IF(BQA37=\"\",0,LEN(TRIM(BQA37))-LEN(SUBSTITUTE(TRIM(BQA37),\" \",\"\"))+1)","v":0},null,null,32,null,null,null,null,{"$f":"IF(BQI37=\"\",0,LEN(TRIM(BQI37))-LEN(SUBSTITUTE(TRIM(BQI37),\" \",\"\"))+1)","v":0},null,null,32,null,null,null,null,{"$f":"IF(BQQ37=\"\",0,LEN(TRIM(BQQ37))-LEN(SUBSTITUTE(TRIM(BQQ37),\" \",\"\"))+1)","v":0},null,null,32,null,null,null,null,{"$f":"IF(BQY37=\"\",0,LEN(TRIM(BQY37))-LEN(SUBSTITUTE(TRIM(BQY37),\" \",\"\"))+1)","v":0},null,null,32,null,null,null,null,{"$f":"IF(BRG37=\"\",0,LEN(TRIM(BRG37))-LEN(SUBSTITUTE(TRIM(BRG37),\" \",\"\"))+1)","v":0},null,null,32,null,null,null,null,{"$f":"IF(BRO37=\"\",0,LEN(TRIM(BRO37))-LEN(SUBSTITUTE(TRIM(BRO37),\" \",\"\"))+1)","v":0},null,null,32,null,null,null,null,{"$f":"IF(BRW37=\"\",0,LEN(TRIM(BRW37))-LEN(SUBSTITUTE(TRIM(BRW37),\" \",\"\"))+1)","v":0},null,null,32,null,null,null,null,{"$f":"IF(BSE37=\"\",0,LEN(TRIM(BSE37))-LEN(SUBSTITUTE(TRIM(BSE37),\" \",\"\"))+1)","v":0},null,null,32,null,null,null,null,{"$f":"IF(BSM37=\"\",0,LEN(TRIM(BSM37))-LEN(SUBSTITUTE(TRIM(BSM37),\" \",\"\"))+1)","v":0},null,null,32,null,null,null,null,{"$f":"IF(BSU37=\"\",0,LEN(TRIM(BSU37))-LEN(SUBSTITUTE(TRIM(BSU37),\" \",\"\"))+1)","v":0},null,null,32,null,null,null,null,{"$f":"IF(BTC37=\"\",0,LEN(TRIM(BTC37))-LEN(SUBSTITUTE(TRIM(BTC37),\" \",\"\"))+1)","v":0},null,null,32,null,null,null,null,{"$f":"IF(BTK37=\"\",0,LEN(TRIM(BTK37))-LEN(SUBSTITUTE(TRIM(BTK37),\" \",\"\"))+1)","v":0},null,null,32,null,null,null,null,{"$f":"IF(BTS37=\"\",0,LEN(TRIM(BTS37))-LEN(SUBSTITUTE(TRIM(BTS37),\" \",\"\"))+1)","v":0},null,null,32,null,null,null,null,{"$f":"IF(BUA37=\"\",0,LEN(TRIM(BUA37))-LEN(SUBSTITUTE(TRIM(BUA37),\" \",\"\"))+1)","v":0},null,null,32,null,null,null,null,{"$f":"IF(BUI37=\"\",0,LEN(TRIM(BUI37))-LEN(SUBSTITUTE(TRIM(BUI37),\" \",\"\"))+1)","v":0},null,null,32,null,null,null,null,{"$f":"IF(BUQ37=\"\",0,LEN(TRIM(BUQ37))-LEN(SUBSTITUTE(TRIM(BUQ37),\" \",\"\"))+1)","v":0},null,null,32,null,null,null,null,{"$f":"IF(BUY37=\"\",0,LEN(TRIM(BUY37))-LEN(SUBSTITUTE(TRIM(BUY37),\" \",\"\"))+1)","v":0},null,null,32,null,null,null,null,{"$f":"IF(BVG37=\"\",0,LEN(TRIM(BVG37))-LEN(SUBSTITUTE(TRIM(BVG37),\" \",\"\"))+1)","v":0},null,null,32,null,null,null,null,{"$f":"IF(BVO37=\"\",0,LEN(TRIM(BVO37))-LEN(SUBSTITUTE(TRIM(BVO37),\" \",\"\"))+1)","v":0},null,null,32,null,null,null,null,{"$f":"IF(BVW37=\"\",0,LEN(TRIM(BVW37))-LEN(SUBSTITUTE(TRIM(BVW37),\" \",\"\"))+1)","v":0},null,null,32,null,null,null,null,{"$f":"IF(BWE37=\"\",0,LEN(TRIM(BWE37))-LEN(SUBSTITUTE(TRIM(BWE37),\" \",\"\"))+1)","v":0},null,null,32,null,null,null,null,{"$f":"IF(BWM37=\"\",0,LEN(TRIM(BWM37))-LEN(SUBSTITUTE(TRIM(BWM37),\" \",\"\"))+1)","v":0},null,null,32,null,null,null,null,{"$f":"IF(BWU37=\"\",0,LEN(TRIM(BWU37))-LEN(SUBSTITUTE(TRIM(BWU37),\" \",\"\"))+1)","v":0},null,null,32,null,null,null,null,{"$f":"IF(BXC37=\"\",0,LEN(TRIM(BXC37))-LEN(SUBSTITUTE(TRIM(BXC37),\" \",\"\"))+1)","v":0},null,null,32,null,null,null,null,{"$f":"IF(BXK37=\"\",0,LEN(TRIM(BXK37))-LEN(SUBSTITUTE(TRIM(BXK37),\" \",\"\"))+1)","v":0},null,null,32,null,null,null,null,{"$f":"IF(BXS37=\"\",0,LEN(TRIM(BXS37))-LEN(SUBSTITUTE(TRIM(BXS37),\" \",\"\"))+1)","v":0},null,null,32,null,null,null,null,{"$f":"IF(BYA37=\"\",0,LEN(TRIM(BYA37))-LEN(SUBSTITUTE(TRIM(BYA37),\" \",\"\"))+1)","v":0},null,null,32,null,null,null,null,{"$f":"IF(BYI37=\"\",0,LEN(TRIM(BYI37))-LEN(SUBSTITUTE(TRIM(BYI37),\" \",\"\"))+1)","v":0},null,null,32,null,null,null,null,{"$f":"IF(BYQ37=\"\",0,LEN(TRIM(BYQ37))-LEN(SUBSTITUTE(TRIM(BYQ37),\" \",\"\"))+1)","v":0},null,null,32,null,null,null,null,{"$f":"IF(BYY37=\"\",0,LEN(TRIM(BYY37))-LEN(SUBSTITUTE(TRIM(BYY37),\" \",\"\"))+1)","v":0},null,null,32,null,null,null,null,{"$f":"IF(BZG37=\"\",0,LEN(TRIM(BZG37))-LEN(SUBSTITUTE(TRIM(BZG37),\" \",\"\"))+1)","v":0},null,null,32,null,null,null,null,{"$f":"IF(BZO37=\"\",0,LEN(TRIM(BZO37))-LEN(SUBSTITUTE(TRIM(BZO37),\" \",\"\"))+1)","v":0},null,null,32,null,null,null,null,{"$f":"IF(BZW37=\"\",0,LEN(TRIM(BZW37))-LEN(SUBSTITUTE(TRIM(BZW37),\" \",\"\"))+1)","v":0},null,null,32,null,null,null,null,{"$f":"IF(CAE37=\"\",0,LEN(TRIM(CAE37))-LEN(SUBSTITUTE(TRIM(CAE37),\" \",\"\"))+1)","v":0},null,null,32,null,null,null,null,{"$f":"IF(CAM37=\"\",0,LEN(TRIM(CAM37))-LEN(SUBSTITUTE(TRIM(CAM37),\" \",\"\"))+1)","v":0},null,null,32,null,null,null,null,{"$f":"IF(CAU37=\"\",0,LEN(TRIM(CAU37))-LEN(SUBSTITUTE(TRIM(CAU37),\" \",\"\"))+1)","v":0},null,null,32,null,null,null,null,{"$f":"IF(CBC37=\"\",0,LEN(TRIM(CBC37))-LEN(SUBSTITUTE(TRIM(CBC37),\" \",\"\"))+1)","v":0},null,null,32,null,null,null,null,{"$f":"IF(CBK37=\"\",0,LEN(TRIM(CBK37))-LEN(SUBSTITUTE(TRIM(CBK37),\" \",\"\"))+1)","v":0},null,null,32,null,null,null,null,{"$f":"IF(CBS37=\"\",0,LEN(TRIM(CBS37))-LEN(SUBSTITUTE(TRIM(CBS37),\" \",\"\"))+1)","v":0},null,null,32,null,null,null,null,{"$f":"IF(CCA37=\"\",0,LEN(TRIM(CCA37))-LEN(SUBSTITUTE(TRIM(CCA37),\" \",\"\"))+1)","v":0},null,null,32,null,null,null,null,{"$f":"IF(CCI37=\"\",0,LEN(TRIM(CCI37))-LEN(SUBSTITUTE(TRIM(CCI37),\" \",\"\"))+1)","v":0},null,null,32,null,null,null,null,{"$f":"IF(CCQ37=\"\",0,LEN(TRIM(CCQ37))-LEN(SUBSTITUTE(TRIM(CCQ37),\" \",\"\"))+1)","v":0},null,null,32,null,null,null,null,{"$f":"IF(CCY37=\"\",0,LEN(TRIM(CCY37))-LEN(SUBSTITUTE(TRIM(CCY37),\" \",\"\"))+1)","v":0},null,null,32,null,null,null,null,{"$f":"IF(CDG37=\"\",0,LEN(TRIM(CDG37))-LEN(SUBSTITUTE(TRIM(CDG37),\" \",\"\"))+1)","v":0},null,null,32,null,null,null,null,{"$f":"IF(CDO37=\"\",0,LEN(TRIM(CDO37))-LEN(SUBSTITUTE(TRIM(CDO37),\" \",\"\"))+1)","v":0},null,null,32,null,null,null,null,{"$f":"IF(CDW37=\"\",0,LEN(TRIM(CDW37))-LEN(SUBSTITUTE(TRIM(CDW37),\" \",\"\"))+1)","v":0},null,null,32,null,null,null,null,{"$f":"IF(CEE37=\"\",0,LEN(TRIM(CEE37))-LEN(SUBSTITUTE(TRIM(CEE37),\" \",\"\"))+1)","v":0},null,null,32,null,null,null,null,{"$f":"IF(CEM37=\"\",0,LEN(TRIM(CEM37))-LEN(SUBSTITUTE(TRIM(CEM37),\" \",\"\"))+1)","v":0},null,null,32,null,null,null,null,{"$f":"IF(CEU37=\"\",0,LEN(TRIM(CEU37))-LEN(SUBSTITUTE(TRIM(CEU37),\" \",\"\"))+1)","v":0},null,null,32,null,null,null,null,{"$f":"IF(CFC37=\"\",0,LEN(TRIM(CFC37))-LEN(SUBSTITUTE(TRIM(CFC37),\" \",\"\"))+1)","v":0},null,null,32,null,null,null,null,{"$f":"IF(CFK37=\"\",0,LEN(TRIM(CFK37))-LEN(SUBSTITUTE(TRIM(CFK37),\" \",\"\"))+1)","v":0},null,null,32,null,null,null,null,{"$f":"IF(CFS37=\"\",0,LEN(TRIM(CFS37))-LEN(SUBSTITUTE(TRIM(CFS37),\" \",\"\"))+1)","v":0},null,null,32,null,null,null,null,{"$f":"IF(CGA37=\"\",0,LEN(TRIM(CGA37))-LEN(SUBSTITUTE(TRIM(CGA37),\" \",\"\"))+1)","v":0},null,null,32,null,null,null,null,{"$f":"IF(CGI37=\"\",0,LEN(TRIM(CGI37))-LEN(SUBSTITUTE(TRIM(CGI37),\" \",\"\"))+1)","v":0},null,null,32,null,null,null,null,{"$f":"IF(CGQ37=\"\",0,LEN(TRIM(CGQ37))-LEN(SUBSTITUTE(TRIM(CGQ37),\" \",\"\"))+1)","v":0},null,null,32,null,null,null,null,{"$f":"IF(CGY37=\"\",0,LEN(TRIM(CGY37))-LEN(SUBSTITUTE(TRIM(CGY37),\" \",\"\"))+1)","v":0},null,null,32,null,null,null,null,{"$f":"IF(CHG37=\"\",0,LEN(TRIM(CHG37))-LEN(SUBSTITUTE(TRIM(CHG37),\" \",\"\"))+1)","v":0},null,null,32,null,null,null,null,{"$f":"IF(CHO37=\"\",0,LEN(TRIM(CHO37))-LEN(SUBSTITUTE(TRIM(CHO37),\" \",\"\"))+1)","v":0},null,null,32,null,null,null,null,{"$f":"IF(CHW37=\"\",0,LEN(TRIM(CHW37))-LEN(SUBSTITUTE(TRIM(CHW37),\" \",\"\"))+1)","v":0},null,null,32,null,null,null,null,{"$f":"IF(CIE37=\"\",0,LEN(TRIM(CIE37))-LEN(SUBSTITUTE(TRIM(CIE37),\" \",\"\"))+1)","v":0},null,null,32,null,null,null,null,{"$f":"IF(CIM37=\"\",0,LEN(TRIM(CIM37))-LEN(SUBSTITUTE(TRIM(CIM37),\" \",\"\"))+1)","v":0},null,null,32,null,null,null,null,{"$f":"IF(CIU37=\"\",0,LEN(TRIM(CIU37))-LEN(SUBSTITUTE(TRIM(CIU37),\" \",\"\"))+1)","v":0},null,null,32,null,null,null,null,{"$f":"IF(CJC37=\"\",0,LEN(TRIM(CJC37))-LEN(SUBSTITUTE(TRIM(CJC37),\" \",\"\"))+1)","v":0},null,null,32,null,null,null,null,{"$f":"IF(CJK37=\"\",0,LEN(TRIM(CJK37))-LEN(SUBSTITUTE(TRIM(CJK37),\" \",\"\"))+1)","v":0},null,null,32,null,null,null,null,{"$f":"IF(CJS37=\"\",0,LEN(TRIM(CJS37))-LEN(SUBSTITUTE(TRIM(CJS37),\" \",\"\"))+1)","v":0},null,null,32,null,null,null,null,{"$f":"IF(CKA37=\"\",0,LEN(TRIM(CKA37))-LEN(SUBSTITUTE(TRIM(CKA37),\" \",\"\"))+1)","v":0},null,null,32,null,null,null,null,{"$f":"IF(CKI37=\"\",0,LEN(TRIM(CKI37))-LEN(SUBSTITUTE(TRIM(CKI37),\" \",\"\"))+1)","v":0},null,null,32,null,null,null,null,{"$f":"IF(CKQ37=\"\",0,LEN(TRIM(CKQ37))-LEN(SUBSTITUTE(TRIM(CKQ37),\" \",\"\"))+1)","v":0},null,null,32,null,null,null,null,{"$f":"IF(CKY37=\"\",0,LEN(TRIM(CKY37))-LEN(SUBSTITUTE(TRIM(CKY37),\" \",\"\"))+1)","v":0},null,null,32,null,null,null,null,{"$f":"IF(CLG37=\"\",0,LEN(TRIM(CLG37))-LEN(SUBSTITUTE(TRIM(CLG37),\" \",\"\"))+1)","v":0},null,null,32,null,null,null,null,{"$f":"IF(CLO37=\"\",0,LEN(TRIM(CLO37))-LEN(SUBSTITUTE(TRIM(CLO37),\" \",\"\"))+1)","v":0},null,null,32,null,null,null,null,{"$f":"IF(CLW37=\"\",0,LEN(TRIM(CLW37))-LEN(SUBSTITUTE(TRIM(CLW37),\" \",\"\"))+1)","v":0},null,null,32,null,null,null,null,{"$f":"IF(CME37=\"\",0,LEN(TRIM(CME37))-LEN(SUBSTITUTE(TRIM(CME37),\" \",\"\"))+1)","v":0},null,null,32,null,null,null,null,{"$f":"IF(CMM37=\"\",0,LEN(TRIM(CMM37))-LEN(SUBSTITUTE(TRIM(CMM37),\" \",\"\"))+1)","v":0},null,null,32,null,null,null,null,{"$f":"IF(CMU37=\"\",0,LEN(TRIM(CMU37))-LEN(SUBSTITUTE(TRIM(CMU37),\" \",\"\"))+1)","v":0},null,null,32,null,null,null,null,{"$f":"IF(CNC37=\"\",0,LEN(TRIM(CNC37))-LEN(SUBSTITUTE(TRIM(CNC37),\" \",\"\"))+1)","v":0},null,null,32,null,null,null,null,{"$f":"IF(CNK37=\"\",0,LEN(TRIM(CNK37))-LEN(SUBSTITUTE(TRIM(CNK37),\" \",\"\"))+1)","v":0},null,null,32,null,null,null,null,{"$f":"IF(CNS37=\"\",0,LEN(TRIM(CNS37))-LEN(SUBSTITUTE(TRIM(CNS37),\" \",\"\"))+1)","v":0},null,null,32,null,null,null,null,{"$f":"IF(COA37=\"\",0,LEN(TRIM(COA37))-LEN(SUBSTITUTE(TRIM(COA37),\" \",\"\"))+1)","v":0},null,null,32,null,null,null,null,{"$f":"IF(COI37=\"\",0,LEN(TRIM(COI37))-LEN(SUBSTITUTE(TRIM(COI37),\" \",\"\"))+1)","v":0},null,null,32,null,null,null,null,{"$f":"IF(COQ37=\"\",0,LEN(TRIM(COQ37))-LEN(SUBSTITUTE(TRIM(COQ37),\" \",\"\"))+1)","v":0},null,null,32,null,null,null,null,{"$f":"IF(COY37=\"\",0,LEN(TRIM(COY37))-LEN(SUBSTITUTE(TRIM(COY37),\" \",\"\"))+1)","v":0},null,null,32,null,null,null,null,{"$f":"IF(CPG37=\"\",0,LEN(TRIM(CPG37))-LEN(SUBSTITUTE(TRIM(CPG37),\" \",\"\"))+1)","v":0},null,null,32,null,null,null,null,{"$f":"IF(CPO37=\"\",0,LEN(TRIM(CPO37))-LEN(SUBSTITUTE(TRIM(CPO37),\" \",\"\"))+1)","v":0},null,null,32,null,null,null,null,{"$f":"IF(CPW37=\"\",0,LEN(TRIM(CPW37))-LEN(SUBSTITUTE(TRIM(CPW37),\" \",\"\"))+1)","v":0},null,null,32,null,null,null,null,{"$f":"IF(CQE37=\"\",0,LEN(TRIM(CQE37))-LEN(SUBSTITUTE(TRIM(CQE37),\" \",\"\"))+1)","v":0},null,null,32,null,null,null,null,{"$f":"IF(CQM37=\"\",0,LEN(TRIM(CQM37))-LEN(SUBSTITUTE(TRIM(CQM37),\" \",\"\"))+1)","v":0},null,null,32,null,null,null,null,{"$f":"IF(CQU37=\"\",0,LEN(TRIM(CQU37))-LEN(SUBSTITUTE(TRIM(CQU37),\" \",\"\"))+1)","v":0},null,null,32,null,null,null,null,{"$f":"IF(CRC37=\"\",0,LEN(TRIM(CRC37))-LEN(SUBSTITUTE(TRIM(CRC37),\" \",\"\"))+1)","v":0},null,null,32,null,null,null,null,{"$f":"IF(CRK37=\"\",0,LEN(TRIM(CRK37))-LEN(SUBSTITUTE(TRIM(CRK37),\" \",\"\"))+1)","v":0},null,null,32,null,null,null,null,{"$f":"IF(CRS37=\"\",0,LEN(TRIM(CRS37))-LEN(SUBSTITUTE(TRIM(CRS37),\" \",\"\"))+1)","v":0},null,null,32,null,null,null,null,{"$f":"IF(CSA37=\"\",0,LEN(TRIM(CSA37))-LEN(SUBSTITUTE(TRIM(CSA37),\" \",\"\"))+1)","v":0},null,null,32,null,null,null,null,{"$f":"IF(CSI37=\"\",0,LEN(TRIM(CSI37))-LEN(SUBSTITUTE(TRIM(CSI37),\" \",\"\"))+1)","v":0},null,null,32,null,null,null,null,{"$f":"IF(CSQ37=\"\",0,LEN(TRIM(CSQ37))-LEN(SUBSTITUTE(TRIM(CSQ37),\" \",\"\"))+1)","v":0},null,null,32,null,null,null,null,{"$f":"IF(CSY37=\"\",0,LEN(TRIM(CSY37))-LEN(SUBSTITUTE(TRIM(CSY37),\" \",\"\"))+1)","v":0},null,null,32,null,null,null,null,{"$f":"IF(CTG37=\"\",0,LEN(TRIM(CTG37))-LEN(SUBSTITUTE(TRIM(CTG37),\" \",\"\"))+1)","v":0},null,null,32,null,null,null,null,{"$f":"IF(CTO37=\"\",0,LEN(TRIM(CTO37))-LEN(SUBSTITUTE(TRIM(CTO37),\" \",\"\"))+1)","v":0},null,null,32,null,null,null,null,{"$f":"IF(CTW37=\"\",0,LEN(TRIM(CTW37))-LEN(SUBSTITUTE(TRIM(CTW37),\" \",\"\"))+1)","v":0},null,null,32,null,null,null,null,{"$f":"IF(CUE37=\"\",0,LEN(TRIM(CUE37))-LEN(SUBSTITUTE(TRIM(CUE37),\" \",\"\"))+1)","v":0},null,null,32,null,null,null,null,{"$f":"IF(CUM37=\"\",0,LEN(TRIM(CUM37))-LEN(SUBSTITUTE(TRIM(CUM37),\" \",\"\"))+1)","v":0},null,null,32,null,null,null,null,{"$f":"IF(CUU37=\"\",0,LEN(TRIM(CUU37))-LEN(SUBSTITUTE(TRIM(CUU37),\" \",\"\"))+1)","v":0},null,null,32,null,null,null,null,{"$f":"IF(CVC37=\"\",0,LEN(TRIM(CVC37))-LEN(SUBSTITUTE(TRIM(CVC37),\" \",\"\"))+1)","v":0},null,null,32,null,null,null,null,{"$f":"IF(CVK37=\"\",0,LEN(TRIM(CVK37))-LEN(SUBSTITUTE(TRIM(CVK37),\" \",\"\"))+1)","v":0},null,null,32,null,null,null,null,{"$f":"IF(CVS37=\"\",0,LEN(TRIM(CVS37))-LEN(SUBSTITUTE(TRIM(CVS37),\" \",\"\"))+1)","v":0},null,null,32,null,null,null,null,{"$f":"IF(CWA37=\"\",0,LEN(TRIM(CWA37))-LEN(SUBSTITUTE(TRIM(CWA37),\" \",\"\"))+1)","v":0},null,null,32,null,null,null,null,{"$f":"IF(CWI37=\"\",0,LEN(TRIM(CWI37))-LEN(SUBSTITUTE(TRIM(CWI37),\" \",\"\"))+1)","v":0},null,null,32,null,null,null,null,{"$f":"IF(CWQ37=\"\",0,LEN(TRIM(CWQ37))-LEN(SUBSTITUTE(TRIM(CWQ37),\" \",\"\"))+1)","v":0},null,null,32,null,null,null,null,{"$f":"IF(CWY37=\"\",0,LEN(TRIM(CWY37))-LEN(SUBSTITUTE(TRIM(CWY37),\" \",\"\"))+1)","v":0},null,null,32,null,null,null,null,{"$f":"IF(CXG37=\"\",0,LEN(TRIM(CXG37))-LEN(SUBSTITUTE(TRIM(CXG37),\" \",\"\"))+1)","v":0},null,null,32,null,null,null,null,{"$f":"IF(CXO37=\"\",0,LEN(TRIM(CXO37))-LEN(SUBSTITUTE(TRIM(CXO37),\" \",\"\"))+1)","v":0},null,null,32,null,null,null,null,{"$f":"IF(CXW37=\"\",0,LEN(TRIM(CXW37))-LEN(SUBSTITUTE(TRIM(CXW37),\" \",\"\"))+1)","v":0},null,null,32,null,null,null,null,{"$f":"IF(CYE37=\"\",0,LEN(TRIM(CYE37))-LEN(SUBSTITUTE(TRIM(CYE37),\" \",\"\"))+1)","v":0},null,null,32,null,null,null,null,{"$f":"IF(CYM37=\"\",0,LEN(TRIM(CYM37))-LEN(SUBSTITUTE(TRIM(CYM37),\" \",\"\"))+1)","v":0},null,null,32,null,null,null,null,{"$f":"IF(CYU37=\"\",0,LEN(TRIM(CYU37))-LEN(SUBSTITUTE(TRIM(CYU37),\" \",\"\"))+1)","v":0},null,null,32,null,null,null,null,{"$f":"IF(CZC37=\"\",0,LEN(TRIM(CZC37))-LEN(SUBSTITUTE(TRIM(CZC37),\" \",\"\"))+1)","v":0},null,null,32,null,null,null,null,{"$f":"IF(CZK37=\"\",0,LEN(TRIM(CZK37))-LEN(SUBSTITUTE(TRIM(CZK37),\" \",\"\"))+1)","v":0},null,null,32,null,null,null,null,{"$f":"IF(CZS37=\"\",0,LEN(TRIM(CZS37))-LEN(SUBSTITUTE(TRIM(CZS37),\" \",\"\"))+1)","v":0},null,null,32,null,null,null,null,{"$f":"IF(DAA37=\"\",0,LEN(TRIM(DAA37))-LEN(SUBSTITUTE(TRIM(DAA37),\" \",\"\"))+1)","v":0},null,null,32,null,null,null,null,{"$f":"IF(DAI37=\"\",0,LEN(TRIM(DAI37))-LEN(SUBSTITUTE(TRIM(DAI37),\" \",\"\"))+1)","v":0},null,null,32,null,null,null,null,{"$f":"IF(DAQ37=\"\",0,LEN(TRIM(DAQ37))-LEN(SUBSTITUTE(TRIM(DAQ37),\" \",\"\"))+1)","v":0},null,null,32,null,null,null,null,{"$f":"IF(DAY37=\"\",0,LEN(TRIM(DAY37))-LEN(SUBSTITUTE(TRIM(DAY37),\" \",\"\"))+1)","v":0},null,null,32,null,null,null,null,{"$f":"IF(DBG37=\"\",0,LEN(TRIM(DBG37))-LEN(SUBSTITUTE(TRIM(DBG37),\" \",\"\"))+1)","v":0},null,null,32,null,null,null,null,{"$f":"IF(DBO37=\"\",0,LEN(TRIM(DBO37))-LEN(SUBSTITUTE(TRIM(DBO37),\" \",\"\"))+1)","v":0},null,null,32,null,null,null,null,{"$f":"IF(DBW37=\"\",0,LEN(TRIM(DBW37))-LEN(SUBSTITUTE(TRIM(DBW37),\" \",\"\"))+1)","v":0},null,null,32,null,null,null,null,{"$f":"IF(DCE37=\"\",0,LEN(TRIM(DCE37))-LEN(SUBSTITUTE(TRIM(DCE37),\" \",\"\"))+1)","v":0},null,null,32,null,null,null,null,{"$f":"IF(DCM37=\"\",0,LEN(TRIM(DCM37))-LEN(SUBSTITUTE(TRIM(DCM37),\" \",\"\"))+1)","v":0},null,null,32,null,null,null,null,{"$f":"IF(DCU37=\"\",0,LEN(TRIM(DCU37))-LEN(SUBSTITUTE(TRIM(DCU37),\" \",\"\"))+1)","v":0},null,null,32,null,null,null,null,{"$f":"IF(DDC37=\"\",0,LEN(TRIM(DDC37))-LEN(SUBSTITUTE(TRIM(DDC37),\" \",\"\"))+1)","v":0},null,null,32,null,null,null,null,{"$f":"IF(DDK37=\"\",0,LEN(TRIM(DDK37))-LEN(SUBSTITUTE(TRIM(DDK37),\" \",\"\"))+1)","v":0},null,null,32,null,null,null,null,{"$f":"IF(DDS37=\"\",0,LEN(TRIM(DDS37))-LEN(SUBSTITUTE(TRIM(DDS37),\" \",\"\"))+1)","v":0},null,null,32,null,null,null,null,{"$f":"IF(DEA37=\"\",0,LEN(TRIM(DEA37))-LEN(SUBSTITUTE(TRIM(DEA37),\" \",\"\"))+1)","v":0},null,null,32,null,null,null,null,{"$f":"IF(DEI37=\"\",0,LEN(TRIM(DEI37))-LEN(SUBSTITUTE(TRIM(DEI37),\" \",\"\"))+1)","v":0},null,null,32,null,null,null,null,{"$f":"IF(DEQ37=\"\",0,LEN(TRIM(DEQ37))-LEN(SUBSTITUTE(TRIM(DEQ37),\" \",\"\"))+1)","v":0},null,null,32,null,null,null,null,{"$f":"IF(DEY37=\"\",0,LEN(TRIM(DEY37))-LEN(SUBSTITUTE(TRIM(DEY37),\" \",\"\"))+1)","v":0},null,null,32,null,null,null,null,{"$f":"IF(DFG37=\"\",0,LEN(TRIM(DFG37))-LEN(SUBSTITUTE(TRIM(DFG37),\" \",\"\"))+1)","v":0},null,null,32,null,null,null,null,{"$f":"IF(DFO37=\"\",0,LEN(TRIM(DFO37))-LEN(SUBSTITUTE(TRIM(DFO37),\" \",\"\"))+1)","v":0},null,null,32,null,null,null,null,{"$f":"IF(DFW37=\"\",0,LEN(TRIM(DFW37))-LEN(SUBSTITUTE(TRIM(DFW37),\" \",\"\"))+1)","v":0},null,null,32,null,null,null,null,{"$f":"IF(DGE37=\"\",0,LEN(TRIM(DGE37))-LEN(SUBSTITUTE(TRIM(DGE37),\" \",\"\"))+1)","v":0},null,null,32,null,null,null,null,{"$f":"IF(DGM37=\"\",0,LEN(TRIM(DGM37))-LEN(SUBSTITUTE(TRIM(DGM37),\" \",\"\"))+1)","v":0},null,null,32,null,null,null,null,{"$f":"IF(DGU37=\"\",0,LEN(TRIM(DGU37))-LEN(SUBSTITUTE(TRIM(DGU37),\" \",\"\"))+1)","v":0},null,null,32,null,null,null,null,{"$f":"IF(DHC37=\"\",0,LEN(TRIM(DHC37))-LEN(SUBSTITUTE(TRIM(DHC37),\" \",\"\"))+1)","v":0},null,null,32,null,null,null,null,{"$f":"IF(DHK37=\"\",0,LEN(TRIM(DHK37))-LEN(SUBSTITUTE(TRIM(DHK37),\" \",\"\"))+1)","v":0},null,null,32,null,null,null,null,{"$f":"IF(DHS37=\"\",0,LEN(TRIM(DHS37))-LEN(SUBSTITUTE(TRIM(DHS37),\" \",\"\"))+1)","v":0},null,null,32,null,null,null,null,{"$f":"IF(DIA37=\"\",0,LEN(TRIM(DIA37))-LEN(SUBSTITUTE(TRIM(DIA37),\" \",\"\"))+1)","v":0},null,null,32,null,null,null,null,{"$f":"IF(DII37=\"\",0,LEN(TRIM(DII37))-LEN(SUBSTITUTE(TRIM(DII37),\" \",\"\"))+1)","v":0},null,null,32,null,null,null,null,{"$f":"IF(DIQ37=\"\",0,LEN(TRIM(DIQ37))-LEN(SUBSTITUTE(TRIM(DIQ37),\" \",\"\"))+1)","v":0},null,null,32,null,null,null,null,{"$f":"IF(DIY37=\"\",0,LEN(TRIM(DIY37))-LEN(SUBSTITUTE(TRIM(DIY37),\" \",\"\"))+1)","v":0},null,null,32,null,null,null,null,{"$f":"IF(DJG37=\"\",0,LEN(TRIM(DJG37))-LEN(SUBSTITUTE(TRIM(DJG37),\" \",\"\"))+1)","v":0},null,null,32,null,null,null,null,{"$f":"IF(DJO37=\"\",0,LEN(TRIM(DJO37))-LEN(SUBSTITUTE(TRIM(DJO37),\" \",\"\"))+1)","v":0},null,null,32,null,null,null,null,{"$f":"IF(DJW37=\"\",0,LEN(TRIM(DJW37))-LEN(SUBSTITUTE(TRIM(DJW37),\" \",\"\"))+1)","v":0},null,null,32,null,null,null,null,{"$f":"IF(DKE37=\"\",0,LEN(TRIM(DKE37))-LEN(SUBSTITUTE(TRIM(DKE37),\" \",\"\"))+1)","v":0},null,null,32,null,null,null,null,{"$f":"IF(DKM37=\"\",0,LEN(TRIM(DKM37))-LEN(SUBSTITUTE(TRIM(DKM37),\" \",\"\"))+1)","v":0},null,null,32,null,null,null,null,{"$f":"IF(DKU37=\"\",0,LEN(TRIM(DKU37))-LEN(SUBSTITUTE(TRIM(DKU37),\" \",\"\"))+1)","v":0},null,null,32,null,null,null,null,{"$f":"IF(DLC37=\"\",0,LEN(TRIM(DLC37))-LEN(SUBSTITUTE(TRIM(DLC37),\" \",\"\"))+1)","v":0},null,null,32,null,null,null,null,{"$f":"IF(DLK37=\"\",0,LEN(TRIM(DLK37))-LEN(SUBSTITUTE(TRIM(DLK37),\" \",\"\"))+1)","v":0},null,null,32,null,null,null,null,{"$f":"IF(DLS37=\"\",0,LEN(TRIM(DLS37))-LEN(SUBSTITUTE(TRIM(DLS37),\" \",\"\"))+1)","v":0},null,null,32,null,null,null,null,{"$f":"IF(DMA37=\"\",0,LEN(TRIM(DMA37))-LEN(SUBSTITUTE(TRIM(DMA37),\" \",\"\"))+1)","v":0},null,null,32,null,null,null,null,{"$f":"IF(DMI37=\"\",0,LEN(TRIM(DMI37))-LEN(SUBSTITUTE(TRIM(DMI37),\" \",\"\"))+1)","v":0},null,null,32,null,null,null,null,{"$f":"IF(DMQ37=\"\",0,LEN(TRIM(DMQ37))-LEN(SUBSTITUTE(TRIM(DMQ37),\" \",\"\"))+1)","v":0},null,null,32,null,null,null,null,{"$f":"IF(DMY37=\"\",0,LEN(TRIM(DMY37))-LEN(SUBSTITUTE(TRIM(DMY37),\" \",\"\"))+1)","v":0},null,null,32,null,null,null,null,{"$f":"IF(DNG37=\"\",0,LEN(TRIM(DNG37))-LEN(SUBSTITUTE(TRIM(DNG37),\" \",\"\"))+1)","v":0},null,null,32,null,null,null,null,{"$f":"IF(DNO37=\"\",0,LEN(TRIM(DNO37))-LEN(SUBSTITUTE(TRIM(DNO37),\" \",\"\"))+1)","v":0},null,null,32,null,null,null,null,{"$f":"IF(DNW37=\"\",0,LEN(TRIM(DNW37))-LEN(SUBSTITUTE(TRIM(DNW37),\" \",\"\"))+1)","v":0},null,null,32,null,null,null,null,{"$f":"IF(DOE37=\"\",0,LEN(TRIM(DOE37))-LEN(SUBSTITUTE(TRIM(DOE37),\" \",\"\"))+1)","v":0},null,null,32,null,null,null,null,{"$f":"IF(DOM37=\"\",0,LEN(TRIM(DOM37))-LEN(SUBSTITUTE(TRIM(DOM37),\" \",\"\"))+1)","v":0},null,null,32,null,null,null,null,{"$f":"IF(DOU37=\"\",0,LEN(TRIM(DOU37))-LEN(SUBSTITUTE(TRIM(DOU37),\" \",\"\"))+1)","v":0},null,null,32,null,null,null,null,{"$f":"IF(DPC37=\"\",0,LEN(TRIM(DPC37))-LEN(SUBSTITUTE(TRIM(DPC37),\" \",\"\"))+1)","v":0},null,null,32,null,null,null,null,{"$f":"IF(DPK37=\"\",0,LEN(TRIM(DPK37))-LEN(SUBSTITUTE(TRIM(DPK37),\" \",\"\"))+1)","v":0},null,null,32,null,null,null,null,{"$f":"IF(DPS37=\"\",0,LEN(TRIM(DPS37))-LEN(SUBSTITUTE(TRIM(DPS37),\" \",\"\"))+1)","v":0},null,null,32,null,null,null,null,{"$f":"IF(DQA37=\"\",0,LEN(TRIM(DQA37))-LEN(SUBSTITUTE(TRIM(DQA37),\" \",\"\"))+1)","v":0},null,null,32,null,null,null,null,{"$f":"IF(DQI37=\"\",0,LEN(TRIM(DQI37))-LEN(SUBSTITUTE(TRIM(DQI37),\" \",\"\"))+1)","v":0},null,null,32,null,null,null,null,{"$f":"IF(DQQ37=\"\",0,LEN(TRIM(DQQ37))-LEN(SUBSTITUTE(TRIM(DQQ37),\" \",\"\"))+1)","v":0},null,null,32,null,null,null,null,{"$f":"IF(DQY37=\"\",0,LEN(TRIM(DQY37))-LEN(SUBSTITUTE(TRIM(DQY37),\" \",\"\"))+1)","v":0},null,null,32,null,null,null,null,{"$f":"IF(DRG37=\"\",0,LEN(TRIM(DRG37))-LEN(SUBSTITUTE(TRIM(DRG37),\" \",\"\"))+1)","v":0},null,null,32,null,null,null,null,{"$f":"IF(DRO37=\"\",0,LEN(TRIM(DRO37))-LEN(SUBSTITUTE(TRIM(DRO37),\" \",\"\"))+1)","v":0},null,null,32,null,null,null,null,{"$f":"IF(DRW37=\"\",0,LEN(TRIM(DRW37))-LEN(SUBSTITUTE(TRIM(DRW37),\" \",\"\"))+1)","v":0},null,null,32,null,null,null,null,{"$f":"IF(DSE37=\"\",0,LEN(TRIM(DSE37))-LEN(SUBSTITUTE(TRIM(DSE37),\" \",\"\"))+1)","v":0},null,null,32,null,null,null,null,{"$f":"IF(DSM37=\"\",0,LEN(TRIM(DSM37))-LEN(SUBSTITUTE(TRIM(DSM37),\" \",\"\"))+1)","v":0},null,null,32,null,null,null,null,{"$f":"IF(DSU37=\"\",0,LEN(TRIM(DSU37))-LEN(SUBSTITUTE(TRIM(DSU37),\" \",\"\"))+1)","v":0},null,null,32,null,null,null,null,{"$f":"IF(DTC37=\"\",0,LEN(TRIM(DTC37))-LEN(SUBSTITUTE(TRIM(DTC37),\" \",\"\"))+1)","v":0},null,null,32,null,null,null,null,{"$f":"IF(DTK37=\"\",0,LEN(TRIM(DTK37))-LEN(SUBSTITUTE(TRIM(DTK37),\" \",\"\"))+1)","v":0},null,null,32,null,null,null,null,{"$f":"IF(DTS37=\"\",0,LEN(TRIM(DTS37))-LEN(SUBSTITUTE(TRIM(DTS37),\" \",\"\"))+1)","v":0},null,null,32,null,null,null,null,{"$f":"IF(DUA37=\"\",0,LEN(TRIM(DUA37))-LEN(SUBSTITUTE(TRIM(DUA37),\" \",\"\"))+1)","v":0},null,null,32,null,null,null,null,{"$f":"IF(DUI37=\"\",0,LEN(TRIM(DUI37))-LEN(SUBSTITUTE(TRIM(DUI37),\" \",\"\"))+1)","v":0},null,null,32,null,null,null,null,{"$f":"IF(DUQ37=\"\",0,LEN(TRIM(DUQ37))-LEN(SUBSTITUTE(TRIM(DUQ37),\" \",\"\"))+1)","v":0},null,null,32,null,null,null,null,{"$f":"IF(DUY37=\"\",0,LEN(TRIM(DUY37))-LEN(SUBSTITUTE(TRIM(DUY37),\" \",\"\"))+1)","v":0},null,null,32,null,null,null,null,{"$f":"IF(DVG37=\"\",0,LEN(TRIM(DVG37))-LEN(SUBSTITUTE(TRIM(DVG37),\" \",\"\"))+1)","v":0},null,null,32,null,null,null,null,{"$f":"IF(DVO37=\"\",0,LEN(TRIM(DVO37))-LEN(SUBSTITUTE(TRIM(DVO37),\" \",\"\"))+1)","v":0},null,null,32,null,null,null,null,{"$f":"IF(DVW37=\"\",0,LEN(TRIM(DVW37))-LEN(SUBSTITUTE(TRIM(DVW37),\" \",\"\"))+1)","v":0},null,null,32,null,null,null,null,{"$f":"IF(DWE37=\"\",0,LEN(TRIM(DWE37))-LEN(SUBSTITUTE(TRIM(DWE37),\" \",\"\"))+1)","v":0},null,null,32,null,null,null,null,{"$f":"IF(DWM37=\"\",0,LEN(TRIM(DWM37))-LEN(SUBSTITUTE(TRIM(DWM37),\" \",\"\"))+1)","v":0},null,null,32,null,null,null,null,{"$f":"IF(DWU37=\"\",0,LEN(TRIM(DWU37))-LEN(SUBSTITUTE(TRIM(DWU37),\" \",\"\"))+1)","v":0},null,null,32,null,null,null,null,{"$f":"IF(DXC37=\"\",0,LEN(TRIM(DXC37))-LEN(SUBSTITUTE(TRIM(DXC37),\" \",\"\"))+1)","v":0},null,null,32,null,null,null,null,{"$f":"IF(DXK37=\"\",0,LEN(TRIM(DXK37))-LEN(SUBSTITUTE(TRIM(DXK37),\" \",\"\"))+1)","v":0},null,null,32,null,null,null,null,{"$f":"IF(DXS37=\"\",0,LEN(TRIM(DXS37))-LEN(SUBSTITUTE(TRIM(DXS37),\" \",\"\"))+1)","v":0},null,null,32,null,null,null,null,{"$f":"IF(DYA37=\"\",0,LEN(TRIM(DYA37))-LEN(SUBSTITUTE(TRIM(DYA37),\" \",\"\"))+1)","v":0},null,null,32,null,null,null,null,{"$f":"IF(DYI37=\"\",0,LEN(TRIM(DYI37))-LEN(SUBSTITUTE(TRIM(DYI37),\" \",\"\"))+1)","v":0},null,null,32,null,null,null,null,{"$f":"IF(DYQ37=\"\",0,LEN(TRIM(DYQ37))-LEN(SUBSTITUTE(TRIM(DYQ37),\" \",\"\"))+1)","v":0},null,null,32,null,null,null,null,{"$f":"IF(DYY37=\"\",0,LEN(TRIM(DYY37))-LEN(SUBSTITUTE(TRIM(DYY37),\" \",\"\"))+1)","v":0},null,null,32,null,null,null,null,{"$f":"IF(DZG37=\"\",0,LEN(TRIM(DZG37))-LEN(SUBSTITUTE(TRIM(DZG37),\" \",\"\"))+1)","v":0},null,null,32,null,null,null,null,{"$f":"IF(DZO37=\"\",0,LEN(TRIM(DZO37))-LEN(SUBSTITUTE(TRIM(DZO37),\" \",\"\"))+1)","v":0},null,null,32,null,null,null,null,{"$f":"IF(DZW37=\"\",0,LEN(TRIM(DZW37))-LEN(SUBSTITUTE(TRIM(DZW37),\" \",\"\"))+1)","v":0},null,null,32,null,null,null,null,{"$f":"IF(EAE37=\"\",0,LEN(TRIM(EAE37))-LEN(SUBSTITUTE(TRIM(EAE37),\" \",\"\"))+1)","v":0},null,null,32,null,null,null,null,{"$f":"IF(EAM37=\"\",0,LEN(TRIM(EAM37))-LEN(SUBSTITUTE(TRIM(EAM37),\" \",\"\"))+1)","v":0},null,null,32,null,null,null,null,{"$f":"IF(EAU37=\"\",0,LEN(TRIM(EAU37))-LEN(SUBSTITUTE(TRIM(EAU37),\" \",\"\"))+1)","v":0},null,null,32,null,null,null,null,{"$f":"IF(EBC37=\"\",0,LEN(TRIM(EBC37))-LEN(SUBSTITUTE(TRIM(EBC37),\" \",\"\"))+1)","v":0},null,null,32,null,null,null,null,{"$f":"IF(EBK37=\"\",0,LEN(TRIM(EBK37))-LEN(SUBSTITUTE(TRIM(EBK37),\" \",\"\"))+1)","v":0},null,null,32,null,null,null,null,{"$f":"IF(EBS37=\"\",0,LEN(TRIM(EBS37))-LEN(SUBSTITUTE(TRIM(EBS37),\" \",\"\"))+1)","v":0},null,null,32,null,null,null,null,{"$f":"IF(ECA37=\"\",0,LEN(TRIM(ECA37))-LEN(SUBSTITUTE(TRIM(ECA37),\" \",\"\"))+1)","v":0},null,null,32,null,null,null,null,{"$f":"IF(ECI37=\"\",0,LEN(TRIM(ECI37))-LEN(SUBSTITUTE(TRIM(ECI37),\" \",\"\"))+1)","v":0},null,null,32,null,null,null,null,{"$f":"IF(ECQ37=\"\",0,LEN(TRIM(ECQ37))-LEN(SUBSTITUTE(TRIM(ECQ37),\" \",\"\"))+1)","v":0},null,null,32,null,null,null,null,{"$f":"IF(ECY37=\"\",0,LEN(TRIM(ECY37))-LEN(SUBSTITUTE(TRIM(ECY37),\" \",\"\"))+1)","v":0},null,null,32,null,null,null,null,{"$f":"IF(EDG37=\"\",0,LEN(TRIM(EDG37))-LEN(SUBSTITUTE(TRIM(EDG37),\" \",\"\"))+1)","v":0},null,null,32,null,null,null,null,{"$f":"IF(EDO37=\"\",0,LEN(TRIM(EDO37))-LEN(SUBSTITUTE(TRIM(EDO37),\" \",\"\"))+1)","v":0},null,null,32,null,null,null,null,{"$f":"IF(EDW37=\"\",0,LEN(TRIM(EDW37))-LEN(SUBSTITUTE(TRIM(EDW37),\" \",\"\"))+1)","v":0},null,null,32,null,null,null,null,{"$f":"IF(EEE37=\"\",0,LEN(TRIM(EEE37))-LEN(SUBSTITUTE(TRIM(EEE37),\" \",\"\"))+1)","v":0},null,null,32,null,null,null,null,{"$f":"IF(EEM37=\"\",0,LEN(TRIM(EEM37))-LEN(SUBSTITUTE(TRIM(EEM37),\" \",\"\"))+1)","v":0},null,null,32,null,null,null,null,{"$f":"IF(EEU37=\"\",0,LEN(TRIM(EEU37))-LEN(SUBSTITUTE(TRIM(EEU37),\" \",\"\"))+1)","v":0},null,null,32,null,null,null,null,{"$f":"IF(EFC37=\"\",0,LEN(TRIM(EFC37))-LEN(SUBSTITUTE(TRIM(EFC37),\" \",\"\"))+1)","v":0},null,null,32,null,null,null,null,{"$f":"IF(EFK37=\"\",0,LEN(TRIM(EFK37))-LEN(SUBSTITUTE(TRIM(EFK37),\" \",\"\"))+1)","v":0},null,null,32,null,null,null,null,{"$f":"IF(EFS37=\"\",0,LEN(TRIM(EFS37))-LEN(SUBSTITUTE(TRIM(EFS37),\" \",\"\"))+1)","v":0},null,null,32,null,null,null,null,{"$f":"IF(EGA37=\"\",0,LEN(TRIM(EGA37))-LEN(SUBSTITUTE(TRIM(EGA37),\" \",\"\"))+1)","v":0},null,null,32,null,null,null,null,{"$f":"IF(EGI37=\"\",0,LEN(TRIM(EGI37))-LEN(SUBSTITUTE(TRIM(EGI37),\" \",\"\"))+1)","v":0},null,null,32,null,null,null,null,{"$f":"IF(EGQ37=\"\",0,LEN(TRIM(EGQ37))-LEN(SUBSTITUTE(TRIM(EGQ37),\" \",\"\"))+1)","v":0},null,null,32,null,null,null,null,{"$f":"IF(EGY37=\"\",0,LEN(TRIM(EGY37))-LEN(SUBSTITUTE(TRIM(EGY37),\" \",\"\"))+1)","v":0},null,null,32,null,null,null,null,{"$f":"IF(EHG37=\"\",0,LEN(TRIM(EHG37))-LEN(SUBSTITUTE(TRIM(EHG37),\" \",\"\"))+1)","v":0},null,null,32,null,null,null,null,{"$f":"IF(EHO37=\"\",0,LEN(TRIM(EHO37))-LEN(SUBSTITUTE(TRIM(EHO37),\" \",\"\"))+1)","v":0},null,null,32,null,null,null,null,{"$f":"IF(EHW37=\"\",0,LEN(TRIM(EHW37))-LEN(SUBSTITUTE(TRIM(EHW37),\" \",\"\"))+1)","v":0},null,null,32,null,null,null,null,{"$f":"IF(EIE37=\"\",0,LEN(TRIM(EIE37))-LEN(SUBSTITUTE(TRIM(EIE37),\" \",\"\"))+1)","v":0},null,null,32,null,null,null,null,{"$f":"IF(EIM37=\"\",0,LEN(TRIM(EIM37))-LEN(SUBSTITUTE(TRIM(EIM37),\" \",\"\"))+1)","v":0},null,null,32,null,null,null,null,{"$f":"IF(EIU37=\"\",0,LEN(TRIM(EIU37))-LEN(SUBSTITUTE(TRIM(EIU37),\" \",\"\"))+1)","v":0},null,null,32,null,null,null,null,{"$f":"IF(EJC37=\"\",0,LEN(TRIM(EJC37))-LEN(SUBSTITUTE(TRIM(EJC37),\" \",\"\"))+1)","v":0},null,null,32,null,null,null,null,{"$f":"IF(EJK37=\"\",0,LEN(TRIM(EJK37))-LEN(SUBSTITUTE(TRIM(EJK37),\" \",\"\"))+1)","v":0},null,null,32,null,null,null,null,{"$f":"IF(EJS37=\"\",0,LEN(TRIM(EJS37))-LEN(SUBSTITUTE(TRIM(EJS37),\" \",\"\"))+1)","v":0},null,null,32,null,null,null,null,{"$f":"IF(EKA37=\"\",0,LEN(TRIM(EKA37))-LEN(SUBSTITUTE(TRIM(EKA37),\" \",\"\"))+1)","v":0},null,null,32,null,null,null,null,{"$f":"IF(EKI37=\"\",0,LEN(TRIM(EKI37))-LEN(SUBSTITUTE(TRIM(EKI37),\" \",\"\"))+1)","v":0},null,null,32,null,null,null,null,{"$f":"IF(EKQ37=\"\",0,LEN(TRIM(EKQ37))-LEN(SUBSTITUTE(TRIM(EKQ37),\" \",\"\"))+1)","v":0},null,null,32,null,null,null,null,{"$f":"IF(EKY37=\"\",0,LEN(TRIM(EKY37))-LEN(SUBSTITUTE(TRIM(EKY37),\" \",\"\"))+1)","v":0},null,null,32,null,null,null,null,{"$f":"IF(ELG37=\"\",0,LEN(TRIM(ELG37))-LEN(SUBSTITUTE(TRIM(ELG37),\" \",\"\"))+1)","v":0},null,null,32,null,null,null,null,{"$f":"IF(ELO37=\"\",0,LEN(TRIM(ELO37))-LEN(SUBSTITUTE(TRIM(ELO37),\" \",\"\"))+1)","v":0},null,null,32,null,null,null,null,{"$f":"IF(ELW37=\"\",0,LEN(TRIM(ELW37))-LEN(SUBSTITUTE(TRIM(ELW37),\" \",\"\"))+1)","v":0},null,null,32,null,null,null,null,{"$f":"IF(EME37=\"\",0,LEN(TRIM(EME37))-LEN(SUBSTITUTE(TRIM(EME37),\" \",\"\"))+1)","v":0},null,null,32,null,null,null,null,{"$f":"IF(EMM37=\"\",0,LEN(TRIM(EMM37))-LEN(SUBSTITUTE(TRIM(EMM37),\" \",\"\"))+1)","v":0},null,null,32,null,null,null,null,{"$f":"IF(EMU37=\"\",0,LEN(TRIM(EMU37))-LEN(SUBSTITUTE(TRIM(EMU37),\" \",\"\"))+1)","v":0},null,null,32,null,null,null,null,{"$f":"IF(ENC37=\"\",0,LEN(TRIM(ENC37))-LEN(SUBSTITUTE(TRIM(ENC37),\" \",\"\"))+1)","v":0},null,null,32,null,null,null,null,{"$f":"IF(ENK37=\"\",0,LEN(TRIM(ENK37))-LEN(SUBSTITUTE(TRIM(ENK37),\" \",\"\"))+1)","v":0},null,null,32,null,null,null,null,{"$f":"IF(ENS37=\"\",0,LEN(TRIM(ENS37))-LEN(SUBSTITUTE(TRIM(ENS37),\" \",\"\"))+1)","v":0},null,null,32,null,null,null,null,{"$f":"IF(EOA37=\"\",0,LEN(TRIM(EOA37))-LEN(SUBSTITUTE(TRIM(EOA37),\" \",\"\"))+1)","v":0},null,null,32,null,null,null,null,{"$f":"IF(EOI37=\"\",0,LEN(TRIM(EOI37))-LEN(SUBSTITUTE(TRIM(EOI37),\" \",\"\"))+1)","v":0},null,null,32,null,null,null,null,{"$f":"IF(EOQ37=\"\",0,LEN(TRIM(EOQ37))-LEN(SUBSTITUTE(TRIM(EOQ37),\" \",\"\"))+1)","v":0},null,null,32,null,null,null,null,{"$f":"IF(EOY37=\"\",0,LEN(TRIM(EOY37))-LEN(SUBSTITUTE(TRIM(EOY37),\" \",\"\"))+1)","v":0},null,null,32,null,null,null,null,{"$f":"IF(EPG37=\"\",0,LEN(TRIM(EPG37))-LEN(SUBSTITUTE(TRIM(EPG37),\" \",\"\"))+1)","v":0},null,null,32,null,null,null,null,{"$f":"IF(EPO37=\"\",0,LEN(TRIM(EPO37))-LEN(SUBSTITUTE(TRIM(EPO37),\" \",\"\"))+1)","v":0},null,null,32,null,null,null,null,{"$f":"IF(EPW37=\"\",0,LEN(TRIM(EPW37))-LEN(SUBSTITUTE(TRIM(EPW37),\" \",\"\"))+1)","v":0},null,null,32,null,null,null,null,{"$f":"IF(EQE37=\"\",0,LEN(TRIM(EQE37))-LEN(SUBSTITUTE(TRIM(EQE37),\" \",\"\"))+1)","v":0},null,null,32,null,null,null,null,{"$f":"IF(EQM37=\"\",0,LEN(TRIM(EQM37))-LEN(SUBSTITUTE(TRIM(EQM37),\" \",\"\"))+1)","v":0},null,null,32,null,null,null,null,{"$f":"IF(EQU37=\"\",0,LEN(TRIM(EQU37))-LEN(SUBSTITUTE(TRIM(EQU37),\" \",\"\"))+1)","v":0},null,null,32,null,null,null,null,{"$f":"IF(ERC37=\"\",0,LEN(TRIM(ERC37))-LEN(SUBSTITUTE(TRIM(ERC37),\" \",\"\"))+1)","v":0},null,null,32,null,null,null,null,{"$f":"IF(ERK37=\"\",0,LEN(TRIM(ERK37))-LEN(SUBSTITUTE(TRIM(ERK37),\" \",\"\"))+1)","v":0},null,null,32,null,null,null,null,{"$f":"IF(ERS37=\"\",0,LEN(TRIM(ERS37))-LEN(SUBSTITUTE(TRIM(ERS37),\" \",\"\"))+1)","v":0},null,null,32,null,null,null,null,{"$f":"IF(ESA37=\"\",0,LEN(TRIM(ESA37))-LEN(SUBSTITUTE(TRIM(ESA37),\" \",\"\"))+1)","v":0},null,null,32,null,null,null,null,{"$f":"IF(ESI37=\"\",0,LEN(TRIM(ESI37))-LEN(SUBSTITUTE(TRIM(ESI37),\" \",\"\"))+1)","v":0},null,null,32,null,null,null,null,{"$f":"IF(ESQ37=\"\",0,LEN(TRIM(ESQ37))-LEN(SUBSTITUTE(TRIM(ESQ37),\" \",\"\"))+1)","v":0},null,null,32,null,null,null,null,{"$f":"IF(ESY37=\"\",0,LEN(TRIM(ESY37))-LEN(SUBSTITUTE(TRIM(ESY37),\" \",\"\"))+1)","v":0},null,null,32,null,null,null,null,{"$f":"IF(ETG37=\"\",0,LEN(TRIM(ETG37))-LEN(SUBSTITUTE(TRIM(ETG37),\" \",\"\"))+1)","v":0},null,null,32,null,null,null,null,{"$f":"IF(ETO37=\"\",0,LEN(TRIM(ETO37))-LEN(SUBSTITUTE(TRIM(ETO37),\" \",\"\"))+1)","v":0},null,null,32,null,null,null,null,{"$f":"IF(ETW37=\"\",0,LEN(TRIM(ETW37))-LEN(SUBSTITUTE(TRIM(ETW37),\" \",\"\"))+1)","v":0},null,null,32,null,null,null,null,{"$f":"IF(EUE37=\"\",0,LEN(TRIM(EUE37))-LEN(SUBSTITUTE(TRIM(EUE37),\" \",\"\"))+1)","v":0},null,null,32,null,null,null,null,{"$f":"IF(EUM37=\"\",0,LEN(TRIM(EUM37))-LEN(SUBSTITUTE(TRIM(EUM37),\" \",\"\"))+1)","v":0},null,null,32,null,null,null,null,{"$f":"IF(EUU37=\"\",0,LEN(TRIM(EUU37))-LEN(SUBSTITUTE(TRIM(EUU37),\" \",\"\"))+1)","v":0},null,null,32,null,null,null,null,{"$f":"IF(EVC37=\"\",0,LEN(TRIM(EVC37))-LEN(SUBSTITUTE(TRIM(EVC37),\" \",\"\"))+1)","v":0},null,null,32,null,null,null,null,{"$f":"IF(EVK37=\"\",0,LEN(TRIM(EVK37))-LEN(SUBSTITUTE(TRIM(EVK37),\" \",\"\"))+1)","v":0},null,null,32,null,null,null,null,{"$f":"IF(EVS37=\"\",0,LEN(TRIM(EVS37))-LEN(SUBSTITUTE(TRIM(EVS37),\" \",\"\"))+1)","v":0},null,null,32,null,null,null,null,{"$f":"IF(EWA37=\"\",0,LEN(TRIM(EWA37))-LEN(SUBSTITUTE(TRIM(EWA37),\" \",\"\"))+1)","v":0},null,null,32,null,null,null,null,{"$f":"IF(EWI37=\"\",0,LEN(TRIM(EWI37))-LEN(SUBSTITUTE(TRIM(EWI37),\" \",\"\"))+1)","v":0},null,null,32,null,null,null,null,{"$f":"IF(EWQ37=\"\",0,LEN(TRIM(EWQ37))-LEN(SUBSTITUTE(TRIM(EWQ37),\" \",\"\"))+1)","v":0},null,null,32,null,null,null,null,{"$f":"IF(EWY37=\"\",0,LEN(TRIM(EWY37))-LEN(SUBSTITUTE(TRIM(EWY37),\" \",\"\"))+1)","v":0},null,null,32,null,null,null,null,{"$f":"IF(EXG37=\"\",0,LEN(TRIM(EXG37))-LEN(SUBSTITUTE(TRIM(EXG37),\" \",\"\"))+1)","v":0},null,null,32,null,null,null,null,{"$f":"IF(EXO37=\"\",0,LEN(TRIM(EXO37))-LEN(SUBSTITUTE(TRIM(EXO37),\" \",\"\"))+1)","v":0},null,null,32,null,null,null,null,{"$f":"IF(EXW37=\"\",0,LEN(TRIM(EXW37))-LEN(SUBSTITUTE(TRIM(EXW37),\" \",\"\"))+1)","v":0},null,null,32,null,null,null,null,{"$f":"IF(EYE37=\"\",0,LEN(TRIM(EYE37))-LEN(SUBSTITUTE(TRIM(EYE37),\" \",\"\"))+1)","v":0},null,null,32,null,null,null,null,{"$f":"IF(EYM37=\"\",0,LEN(TRIM(EYM37))-LEN(SUBSTITUTE(TRIM(EYM37),\" \",\"\"))+1)","v":0},null,null,32,null,null,null,null,{"$f":"IF(EYU37=\"\",0,LEN(TRIM(EYU37))-LEN(SUBSTITUTE(TRIM(EYU37),\" \",\"\"))+1)","v":0},null,null,32,null,null,null,null,{"$f":"IF(EZC37=\"\",0,LEN(TRIM(EZC37))-LEN(SUBSTITUTE(TRIM(EZC37),\" \",\"\"))+1)","v":0},null,null,32,null,null,null,null,{"$f":"IF(EZK37=\"\",0,LEN(TRIM(EZK37))-LEN(SUBSTITUTE(TRIM(EZK37),\" \",\"\"))+1)","v":0},null,null,32,null,null,null,null,{"$f":"IF(EZS37=\"\",0,LEN(TRIM(EZS37))-LEN(SUBSTITUTE(TRIM(EZS37),\" \",\"\"))+1)","v":0},null,null,32,null,null,null,null,{"$f":"IF(FAA37=\"\",0,LEN(TRIM(FAA37))-LEN(SUBSTITUTE(TRIM(FAA37),\" \",\"\"))+1)","v":0},null,null,32,null,null,null,null,{"$f":"IF(FAI37=\"\",0,LEN(TRIM(FAI37))-LEN(SUBSTITUTE(TRIM(FAI37),\" \",\"\"))+1)","v":0},null,null,32,null,null,null,null,{"$f":"IF(FAQ37=\"\",0,LEN(TRIM(FAQ37))-LEN(SUBSTITUTE(TRIM(FAQ37),\" \",\"\"))+1)","v":0},null,null,32,null,null,null,null,{"$f":"IF(FAY37=\"\",0,LEN(TRIM(FAY37))-LEN(SUBSTITUTE(TRIM(FAY37),\" \",\"\"))+1)","v":0},null,null,32,null,null,null,null,{"$f":"IF(FBG37=\"\",0,LEN(TRIM(FBG37))-LEN(SUBSTITUTE(TRIM(FBG37),\" \",\"\"))+1)","v":0},null,null,32,null,null,null,null,{"$f":"IF(FBO37=\"\",0,LEN(TRIM(FBO37))-LEN(SUBSTITUTE(TRIM(FBO37),\" \",\"\"))+1)","v":0},null,null,32,null,null,null,null,{"$f":"IF(FBW37=\"\",0,LEN(TRIM(FBW37))-LEN(SUBSTITUTE(TRIM(FBW37),\" \",\"\"))+1)","v":0},null,null,32,null,null,null,null,{"$f":"IF(FCE37=\"\",0,LEN(TRIM(FCE37))-LEN(SUBSTITUTE(TRIM(FCE37),\" \",\"\"))+1)","v":0},null,null,32,null,null,null,null,{"$f":"IF(FCM37=\"\",0,LEN(TRIM(FCM37))-LEN(SUBSTITUTE(TRIM(FCM37),\" \",\"\"))+1)","v":0},null,null,32,null,null,null,null,{"$f":"IF(FCU37=\"\",0,LEN(TRIM(FCU37))-LEN(SUBSTITUTE(TRIM(FCU37),\" \",\"\"))+1)","v":0},null,null,32,null,null,null,null,{"$f":"IF(FDC37=\"\",0,LEN(TRIM(FDC37))-LEN(SUBSTITUTE(TRIM(FDC37),\" \",\"\"))+1)","v":0},null,null,32,null,null,null,null,{"$f":"IF(FDK37=\"\",0,LEN(TRIM(FDK37))-LEN(SUBSTITUTE(TRIM(FDK37),\" \",\"\"))+1)","v":0},null,null,32,null,null,null,null,{"$f":"IF(FDS37=\"\",0,LEN(TRIM(FDS37))-LEN(SUBSTITUTE(TRIM(FDS37),\" \",\"\"))+1)","v":0},null,null,32,null,null,null,null,{"$f":"IF(FEA37=\"\",0,LEN(TRIM(FEA37))-LEN(SUBSTITUTE(TRIM(FEA37),\" \",\"\"))+1)","v":0},null,null,32,null,null,null,null,{"$f":"IF(FEI37=\"\",0,LEN(TRIM(FEI37))-LEN(SUBSTITUTE(TRIM(FEI37),\" \",\"\"))+1)","v":0},null,null,32,null,null,null,null,{"$f":"IF(FEQ37=\"\",0,LEN(TRIM(FEQ37))-LEN(SUBSTITUTE(TRIM(FEQ37),\" \",\"\"))+1)","v":0},null,null,32,null,null,null,null,{"$f":"IF(FEY37=\"\",0,LEN(TRIM(FEY37))-LEN(SUBSTITUTE(TRIM(FEY37),\" \",\"\"))+1)","v":0},null,null,32,null,null,null,null,{"$f":"IF(FFG37=\"\",0,LEN(TRIM(FFG37))-LEN(SUBSTITUTE(TRIM(FFG37),\" \",\"\"))+1)","v":0},null,null,32,null,null,null,null,{"$f":"IF(FFO37=\"\",0,LEN(TRIM(FFO37))-LEN(SUBSTITUTE(TRIM(FFO37),\" \",\"\"))+1)","v":0},null,null,32,null,null,null,null,{"$f":"IF(FFW37=\"\",0,LEN(TRIM(FFW37))-LEN(SUBSTITUTE(TRIM(FFW37),\" \",\"\"))+1)","v":0},null,null,32,null,null,null,null,{"$f":"IF(FGE37=\"\",0,LEN(TRIM(FGE37))-LEN(SUBSTITUTE(TRIM(FGE37),\" \",\"\"))+1)","v":0},null,null,32,null,null,null,null,{"$f":"IF(FGM37=\"\",0,LEN(TRIM(FGM37))-LEN(SUBSTITUTE(TRIM(FGM37),\" \",\"\"))+1)","v":0},null,null,32,null,null,null,null,{"$f":"IF(FGU37=\"\",0,LEN(TRIM(FGU37))-LEN(SUBSTITUTE(TRIM(FGU37),\" \",\"\"))+1)","v":0},null,null,32,null,null,null,null,{"$f":"IF(FHC37=\"\",0,LEN(TRIM(FHC37))-LEN(SUBSTITUTE(TRIM(FHC37),\" \",\"\"))+1)","v":0},null,null,32,null,null,null,null,{"$f":"IF(FHK37=\"\",0,LEN(TRIM(FHK37))-LEN(SUBSTITUTE(TRIM(FHK37),\" \",\"\"))+1)","v":0},null,null,32,null,null,null,null,{"$f":"IF(FHS37=\"\",0,LEN(TRIM(FHS37))-LEN(SUBSTITUTE(TRIM(FHS37),\" \",\"\"))+1)","v":0},null,null,32,null,null,null,null,{"$f":"IF(FIA37=\"\",0,LEN(TRIM(FIA37))-LEN(SUBSTITUTE(TRIM(FIA37),\" \",\"\"))+1)","v":0},null,null,32,null,null,null,null,{"$f":"IF(FII37=\"\",0,LEN(TRIM(FII37))-LEN(SUBSTITUTE(TRIM(FII37),\" \",\"\"))+1)","v":0},null,null,32,null,null,null,null,{"$f":"IF(FIQ37=\"\",0,LEN(TRIM(FIQ37))-LEN(SUBSTITUTE(TRIM(FIQ37),\" \",\"\"))+1)","v":0},null,null,32,null,null,null,null,{"$f":"IF(FIY37=\"\",0,LEN(TRIM(FIY37))-LEN(SUBSTITUTE(TRIM(FIY37),\" \",\"\"))+1)","v":0},null,null,32,null,null,null,null,{"$f":"IF(FJG37=\"\",0,LEN(TRIM(FJG37))-LEN(SUBSTITUTE(TRIM(FJG37),\" \",\"\"))+1)","v":0},null,null,32,null,null,null,null,{"$f":"IF(FJO37=\"\",0,LEN(TRIM(FJO37))-LEN(SUBSTITUTE(TRIM(FJO37),\" \",\"\"))+1)","v":0},null,null,32,null,null,null,null,{"$f":"IF(FJW37=\"\",0,LEN(TRIM(FJW37))-LEN(SUBSTITUTE(TRIM(FJW37),\" \",\"\"))+1)","v":0},null,null,32,null,null,null,null,{"$f":"IF(FKE37=\"\",0,LEN(TRIM(FKE37))-LEN(SUBSTITUTE(TRIM(FKE37),\" \",\"\"))+1)","v":0},null,null,32,null,null,null,null,{"$f":"IF(FKM37=\"\",0,LEN(TRIM(FKM37))-LEN(SUBSTITUTE(TRIM(FKM37),\" \",\"\"))+1)","v":0},null,null,32,null,null,null,null,{"$f":"IF(FKU37=\"\",0,LEN(TRIM(FKU37))-LEN(SUBSTITUTE(TRIM(FKU37),\" \",\"\"))+1)","v":0},null,null,32,null,null,null,null,{"$f":"IF(FLC37=\"\",0,LEN(TRIM(FLC37))-LEN(SUBSTITUTE(TRIM(FLC37),\" \",\"\"))+1)","v":0},null,null,32,null,null,null,null,{"$f":"IF(FLK37=\"\",0,LEN(TRIM(FLK37))-LEN(SUBSTITUTE(TRIM(FLK37),\" \",\"\"))+1)","v":0},null,null,32,null,null,null,null,{"$f":"IF(FLS37=\"\",0,LEN(TRIM(FLS37))-LEN(SUBSTITUTE(TRIM(FLS37),\" \",\"\"))+1)","v":0},null,null,32,null,null,null,null,{"$f":"IF(FMA37=\"\",0,LEN(TRIM(FMA37))-LEN(SUBSTITUTE(TRIM(FMA37),\" \",\"\"))+1)","v":0},null,null,32,null,null,null,null,{"$f":"IF(FMI37=\"\",0,LEN(TRIM(FMI37))-LEN(SUBSTITUTE(TRIM(FMI37),\" \",\"\"))+1)","v":0},null,null,32,null,null,null,null,{"$f":"IF(FMQ37=\"\",0,LEN(TRIM(FMQ37))-LEN(SUBSTITUTE(TRIM(FMQ37),\" \",\"\"))+1)","v":0},null,null,32,null,null,null,null,{"$f":"IF(FMY37=\"\",0,LEN(TRIM(FMY37))-LEN(SUBSTITUTE(TRIM(FMY37),\" \",\"\"))+1)","v":0},null,null,32,null,null,null,null,{"$f":"IF(FNG37=\"\",0,LEN(TRIM(FNG37))-LEN(SUBSTITUTE(TRIM(FNG37),\" \",\"\"))+1)","v":0},null,null,32,null,null,null,null,{"$f":"IF(FNO37=\"\",0,LEN(TRIM(FNO37))-LEN(SUBSTITUTE(TRIM(FNO37),\" \",\"\"))+1)","v":0},null,null,32,null,null,null,null,{"$f":"IF(FNW37=\"\",0,LEN(TRIM(FNW37))-LEN(SUBSTITUTE(TRIM(FNW37),\" \",\"\"))+1)","v":0},null,null,32,null,null,null,null,{"$f":"IF(FOE37=\"\",0,LEN(TRIM(FOE37))-LEN(SUBSTITUTE(TRIM(FOE37),\" \",\"\"))+1)","v":0},null,null,32,null,null,null,null,{"$f":"IF(FOM37=\"\",0,LEN(TRIM(FOM37))-LEN(SUBSTITUTE(TRIM(FOM37),\" \",\"\"))+1)","v":0},null,null,32,null,null,null,null,{"$f":"IF(FOU37=\"\",0,LEN(TRIM(FOU37))-LEN(SUBSTITUTE(TRIM(FOU37),\" \",\"\"))+1)","v":0},null,null,32,null,null,null,null,{"$f":"IF(FPC37=\"\",0,LEN(TRIM(FPC37))-LEN(SUBSTITUTE(TRIM(FPC37),\" \",\"\"))+1)","v":0},null,null,32,null,null,null,null,{"$f":"IF(FPK37=\"\",0,LEN(TRIM(FPK37))-LEN(SUBSTITUTE(TRIM(FPK37),\" \",\"\"))+1)","v":0},null,null,32,null,null,null,null,{"$f":"IF(FPS37=\"\",0,LEN(TRIM(FPS37))-LEN(SUBSTITUTE(TRIM(FPS37),\" \",\"\"))+1)","v":0},null,null,32,null,null,null,null,{"$f":"IF(FQA37=\"\",0,LEN(TRIM(FQA37))-LEN(SUBSTITUTE(TRIM(FQA37),\" \",\"\"))+1)","v":0},null,null,32,null,null,null,null,{"$f":"IF(FQI37=\"\",0,LEN(TRIM(FQI37))-LEN(SUBSTITUTE(TRIM(FQI37),\" \",\"\"))+1)","v":0},null,null,32,null,null,null,null,{"$f":"IF(FQQ37=\"\",0,LEN(TRIM(FQQ37))-LEN(SUBSTITUTE(TRIM(FQQ37),\" \",\"\"))+1)","v":0},null,null,32,null,null,null,null,{"$f":"IF(FQY37=\"\",0,LEN(TRIM(FQY37))-LEN(SUBSTITUTE(TRIM(FQY37),\" \",\"\"))+1)","v":0},null,null,32,null,null,null,null,{"$f":"IF(FRG37=\"\",0,LEN(TRIM(FRG37))-LEN(SUBSTITUTE(TRIM(FRG37),\" \",\"\"))+1)","v":0},null,null,32,null,null,null,null,{"$f":"IF(FRO37=\"\",0,LEN(TRIM(FRO37))-LEN(SUBSTITUTE(TRIM(FRO37),\" \",\"\"))+1)","v":0},null,null,32,null,null,null,null,{"$f":"IF(FRW37=\"\",0,LEN(TRIM(FRW37))-LEN(SUBSTITUTE(TRIM(FRW37),\" \",\"\"))+1)","v":0},null,null,32,null,null,null,null,{"$f":"IF(FSE37=\"\",0,LEN(TRIM(FSE37))-LEN(SUBSTITUTE(TRIM(FSE37),\" \",\"\"))+1)","v":0},null,null,32,null,null,null,null,{"$f":"IF(FSM37=\"\",0,LEN(TRIM(FSM37))-LEN(SUBSTITUTE(TRIM(FSM37),\" \",\"\"))+1)","v":0},null,null,32,null,null,null,null,{"$f":"IF(FSU37=\"\",0,LEN(TRIM(FSU37))-LEN(SUBSTITUTE(TRIM(FSU37),\" \",\"\"))+1)","v":0},null,null,32,null,null,null,null,{"$f":"IF(FTC37=\"\",0,LEN(TRIM(FTC37))-LEN(SUBSTITUTE(TRIM(FTC37),\" \",\"\"))+1)","v":0},null,null,32,null,null,null,null,{"$f":"IF(FTK37=\"\",0,LEN(TRIM(FTK37))-LEN(SUBSTITUTE(TRIM(FTK37),\" \",\"\"))+1)","v":0},null,null,32,null,null,null,null,{"$f":"IF(FTS37=\"\",0,LEN(TRIM(FTS37))-LEN(SUBSTITUTE(TRIM(FTS37),\" \",\"\"))+1)","v":0},null,null,32,null,null,null,null,{"$f":"IF(FUA37=\"\",0,LEN(TRIM(FUA37))-LEN(SUBSTITUTE(TRIM(FUA37),\" \",\"\"))+1)","v":0},null,null,32,null,null,null,null,{"$f":"IF(FUI37=\"\",0,LEN(TRIM(FUI37))-LEN(SUBSTITUTE(TRIM(FUI37),\" \",\"\"))+1)","v":0},null,null,32,null,null,null,null,{"$f":"IF(FUQ37=\"\",0,LEN(TRIM(FUQ37))-LEN(SUBSTITUTE(TRIM(FUQ37),\" \",\"\"))+1)","v":0},null,null,32,null,null,null,null,{"$f":"IF(FUY37=\"\",0,LEN(TRIM(FUY37))-LEN(SUBSTITUTE(TRIM(FUY37),\" \",\"\"))+1)","v":0},null,null,32,null,null,null,null,{"$f":"IF(FVG37=\"\",0,LEN(TRIM(FVG37))-LEN(SUBSTITUTE(TRIM(FVG37),\" \",\"\"))+1)","v":0},null,null,32,null,null,null,null,{"$f":"IF(FVO37=\"\",0,LEN(TRIM(FVO37))-LEN(SUBSTITUTE(TRIM(FVO37),\" \",\"\"))+1)","v":0},null,null,32,null,null,null,null,{"$f":"IF(FVW37=\"\",0,LEN(TRIM(FVW37))-LEN(SUBSTITUTE(TRIM(FVW37),\" \",\"\"))+1)","v":0},null,null,32,null,null,null,null,{"$f":"IF(FWE37=\"\",0,LEN(TRIM(FWE37))-LEN(SUBSTITUTE(TRIM(FWE37),\" \",\"\"))+1)","v":0},null,null,32,null,null,null,null,{"$f":"IF(FWM37=\"\",0,LEN(TRIM(FWM37))-LEN(SUBSTITUTE(TRIM(FWM37),\" \",\"\"))+1)","v":0},null,null,32,null,null,null,null,{"$f":"IF(FWU37=\"\",0,LEN(TRIM(FWU37))-LEN(SUBSTITUTE(TRIM(FWU37),\" \",\"\"))+1)","v":0},null,null,32,null,null,null,null,{"$f":"IF(FXC37=\"\",0,LEN(TRIM(FXC37))-LEN(SUBSTITUTE(TRIM(FXC37),\" \",\"\"))+1)","v":0},null,null,32,null,null,null,null,{"$f":"IF(FXK37=\"\",0,LEN(TRIM(FXK37))-LEN(SUBSTITUTE(TRIM(FXK37),\" \",\"\"))+1)","v":0},null,null,32,null,null,null,null,{"$f":"IF(FXS37=\"\",0,LEN(TRIM(FXS37))-LEN(SUBSTITUTE(TRIM(FXS37),\" \",\"\"))+1)","v":0},null,null,32,null,null,null,null,{"$f":"IF(FYA37=\"\",0,LEN(TRIM(FYA37))-LEN(SUBSTITUTE(TRIM(FYA37),\" \",\"\"))+1)","v":0},null,null,32,null,null,null,null,{"$f":"IF(FYI37=\"\",0,LEN(TRIM(FYI37))-LEN(SUBSTITUTE(TRIM(FYI37),\" \",\"\"))+1)","v":0},null,null,32,null,null,null,null,{"$f":"IF(FYQ37=\"\",0,LEN(TRIM(FYQ37))-LEN(SUBSTITUTE(TRIM(FYQ37),\" \",\"\"))+1)","v":0},null,null,32,null,null,null,null,{"$f":"IF(FYY37=\"\",0,LEN(TRIM(FYY37))-LEN(SUBSTITUTE(TRIM(FYY37),\" \",\"\"))+1)","v":0},null,null,32,null,null,null,null,{"$f":"IF(FZG37=\"\",0,LEN(TRIM(FZG37))-LEN(SUBSTITUTE(TRIM(FZG37),\" \",\"\"))+1)","v":0},null,null,32,null,null,null,null,{"$f":"IF(FZO37=\"\",0,LEN(TRIM(FZO37))-LEN(SUBSTITUTE(TRIM(FZO37),\" \",\"\"))+1)","v":0},null,null,32,null,null,null,null,{"$f":"IF(FZW37=\"\",0,LEN(TRIM(FZW37))-LEN(SUBSTITUTE(TRIM(FZW37),\" \",\"\"))+1)","v":0},null,null,32,null,null,null,null,{"$f":"IF(GAE37=\"\",0,LEN(TRIM(GAE37))-LEN(SUBSTITUTE(TRIM(GAE37),\" \",\"\"))+1)","v":0},null,null,32,null,null,null,null,{"$f":"IF(GAM37=\"\",0,LEN(TRIM(GAM37))-LEN(SUBSTITUTE(TRIM(GAM37),\" \",\"\"))+1)","v":0},null,null,32,null,null,null,null,{"$f":"IF(GAU37=\"\",0,LEN(TRIM(GAU37))-LEN(SUBSTITUTE(TRIM(GAU37),\" \",\"\"))+1)","v":0},null,null,32,null,null,null,null,{"$f":"IF(GBC37=\"\",0,LEN(TRIM(GBC37))-LEN(SUBSTITUTE(TRIM(GBC37),\" \",\"\"))+1)","v":0},null,null,32,null,null,null,null,{"$f":"IF(GBK37=\"\",0,LEN(TRIM(GBK37))-LEN(SUBSTITUTE(TRIM(GBK37),\" \",\"\"))+1)","v":0},null,null,32,null,null,null,null,{"$f":"IF(GBS37=\"\",0,LEN(TRIM(GBS37))-LEN(SUBSTITUTE(TRIM(GBS37),\" \",\"\"))+1)","v":0},null,null,32,null,null,null,null,{"$f":"IF(GCA37=\"\",0,LEN(TRIM(GCA37))-LEN(SUBSTITUTE(TRIM(GCA37),\" \",\"\"))+1)","v":0},null,null,32,null,null,null,null,{"$f":"IF(GCI37=\"\",0,LEN(TRIM(GCI37))-LEN(SUBSTITUTE(TRIM(GCI37),\" \",\"\"))+1)","v":0},null,null,32,null,null,null,null,{"$f":"IF(GCQ37=\"\",0,LEN(TRIM(GCQ37))-LEN(SUBSTITUTE(TRIM(GCQ37),\" \",\"\"))+1)","v":0},null,null,32,null,null,null,null,{"$f":"IF(GCY37=\"\",0,LEN(TRIM(GCY37))-LEN(SUBSTITUTE(TRIM(GCY37),\" \",\"\"))+1)","v":0},null,null,32,null,null,null,null,{"$f":"IF(GDG37=\"\",0,LEN(TRIM(GDG37))-LEN(SUBSTITUTE(TRIM(GDG37),\" \",\"\"))+1)","v":0},null,null,32,null,null,null,null,{"$f":"IF(GDO37=\"\",0,LEN(TRIM(GDO37))-LEN(SUBSTITUTE(TRIM(GDO37),\" \",\"\"))+1)","v":0},null,null,32,null,null,null,null,{"$f":"IF(GDW37=\"\",0,LEN(TRIM(GDW37))-LEN(SUBSTITUTE(TRIM(GDW37),\" \",\"\"))+1)","v":0},null,null,32,null,null,null,null,{"$f":"IF(GEE37=\"\",0,LEN(TRIM(GEE37))-LEN(SUBSTITUTE(TRIM(GEE37),\" \",\"\"))+1)","v":0},null,null,32,null,null,null,null,{"$f":"IF(GEM37=\"\",0,LEN(TRIM(GEM37))-LEN(SUBSTITUTE(TRIM(GEM37),\" \",\"\"))+1)","v":0},null,null,32,null,null,null,null,{"$f":"IF(GEU37=\"\",0,LEN(TRIM(GEU37))-LEN(SUBSTITUTE(TRIM(GEU37),\" \",\"\"))+1)","v":0},null,null,32,null,null,null,null,{"$f":"IF(GFC37=\"\",0,LEN(TRIM(GFC37))-LEN(SUBSTITUTE(TRIM(GFC37),\" \",\"\"))+1)","v":0},null,null,32,null,null,null,null,{"$f":"IF(GFK37=\"\",0,LEN(TRIM(GFK37))-LEN(SUBSTITUTE(TRIM(GFK37),\" \",\"\"))+1)","v":0},null,null,32,null,null,null,null,{"$f":"IF(GFS37=\"\",0,LEN(TRIM(GFS37))-LEN(SUBSTITUTE(TRIM(GFS37),\" \",\"\"))+1)","v":0},null,null,32,null,null,null,null,{"$f":"IF(GGA37=\"\",0,LEN(TRIM(GGA37))-LEN(SUBSTITUTE(TRIM(GGA37),\" \",\"\"))+1)","v":0},null,null,32,null,null,null,null,{"$f":"IF(GGI37=\"\",0,LEN(TRIM(GGI37))-LEN(SUBSTITUTE(TRIM(GGI37),\" \",\"\"))+1)","v":0},null,null,32,null,null,null,null,{"$f":"IF(GGQ37=\"\",0,LEN(TRIM(GGQ37))-LEN(SUBSTITUTE(TRIM(GGQ37),\" \",\"\"))+1)","v":0},null,null,32,null,null,null,null,{"$f":"IF(GGY37=\"\",0,LEN(TRIM(GGY37))-LEN(SUBSTITUTE(TRIM(GGY37),\" \",\"\"))+1)","v":0},null,null,32,null,null,null,null,{"$f":"IF(GHG37=\"\",0,LEN(TRIM(GHG37))-LEN(SUBSTITUTE(TRIM(GHG37),\" \",\"\"))+1)","v":0},null,null,32,null,null,null,null,{"$f":"IF(GHO37=\"\",0,LEN(TRIM(GHO37))-LEN(SUBSTITUTE(TRIM(GHO37),\" \",\"\"))+1)","v":0},null,null,32,null,null,null,null,{"$f":"IF(GHW37=\"\",0,LEN(TRIM(GHW37))-LEN(SUBSTITUTE(TRIM(GHW37),\" \",\"\"))+1)","v":0},null,null,32,null,null,null,null,{"$f":"IF(GIE37=\"\",0,LEN(TRIM(GIE37))-LEN(SUBSTITUTE(TRIM(GIE37),\" \",\"\"))+1)","v":0},null,null,32,null,null,null,null,{"$f":"IF(GIM37=\"\",0,LEN(TRIM(GIM37))-LEN(SUBSTITUTE(TRIM(GIM37),\" \",\"\"))+1)","v":0},null,null,32,null,null,null,null,{"$f":"IF(GIU37=\"\",0,LEN(TRIM(GIU37))-LEN(SUBSTITUTE(TRIM(GIU37),\" \",\"\"))+1)","v":0},null,null,32,null,null,null,null,{"$f":"IF(GJC37=\"\",0,LEN(TRIM(GJC37))-LEN(SUBSTITUTE(TRIM(GJC37),\" \",\"\"))+1)","v":0},null,null,32,null,null,null,null,{"$f":"IF(GJK37=\"\",0,LEN(TRIM(GJK37))-LEN(SUBSTITUTE(TRIM(GJK37),\" \",\"\"))+1)","v":0},null,null,32,null,null,null,null,{"$f":"IF(GJS37=\"\",0,LEN(TRIM(GJS37))-LEN(SUBSTITUTE(TRIM(GJS37),\" \",\"\"))+1)","v":0},null,null,32,null,null,null,null,{"$f":"IF(GKA37=\"\",0,LEN(TRIM(GKA37))-LEN(SUBSTITUTE(TRIM(GKA37),\" \",\"\"))+1)","v":0},null,null,32,null,null,null,null,{"$f":"IF(GKI37=\"\",0,LEN(TRIM(GKI37))-LEN(SUBSTITUTE(TRIM(GKI37),\" \",\"\"))+1)","v":0},null,null,32,null,null,null,null,{"$f":"IF(GKQ37=\"\",0,LEN(TRIM(GKQ37))-LEN(SUBSTITUTE(TRIM(GKQ37),\" \",\"\"))+1)","v":0},null,null,32,null,null,null,null,{"$f":"IF(GKY37=\"\",0,LEN(TRIM(GKY37))-LEN(SUBSTITUTE(TRIM(GKY37),\" \",\"\"))+1)","v":0},null,null,32,null,null,null,null,{"$f":"IF(GLG37=\"\",0,LEN(TRIM(GLG37))-LEN(SUBSTITUTE(TRIM(GLG37),\" \",\"\"))+1)","v":0},null,null,32,null,null,null,null,{"$f":"IF(GLO37=\"\",0,LEN(TRIM(GLO37))-LEN(SUBSTITUTE(TRIM(GLO37),\" \",\"\"))+1)","v":0},null,null,32,null,null,null,null,{"$f":"IF(GLW37=\"\",0,LEN(TRIM(GLW37))-LEN(SUBSTITUTE(TRIM(GLW37),\" \",\"\"))+1)","v":0},null,null,32,null,null,null,null,{"$f":"IF(GME37=\"\",0,LEN(TRIM(GME37))-LEN(SUBSTITUTE(TRIM(GME37),\" \",\"\"))+1)","v":0},null,null,32,null,null,null,null,{"$f":"IF(GMM37=\"\",0,LEN(TRIM(GMM37))-LEN(SUBSTITUTE(TRIM(GMM37),\" \",\"\"))+1)","v":0},null,null,32,null,null,null,null,{"$f":"IF(GMU37=\"\",0,LEN(TRIM(GMU37))-LEN(SUBSTITUTE(TRIM(GMU37),\" \",\"\"))+1)","v":0},null,null,32,null,null,null,null,{"$f":"IF(GNC37=\"\",0,LEN(TRIM(GNC37))-LEN(SUBSTITUTE(TRIM(GNC37),\" \",\"\"))+1)","v":0},null,null,32,null,null,null,null,{"$f":"IF(GNK37=\"\",0,LEN(TRIM(GNK37))-LEN(SUBSTITUTE(TRIM(GNK37),\" \",\"\"))+1)","v":0},null,null,32,null,null,null,null,{"$f":"IF(GNS37=\"\",0,LEN(TRIM(GNS37))-LEN(SUBSTITUTE(TRIM(GNS37),\" \",\"\"))+1)","v":0},null,null,32,null,null,null,null,{"$f":"IF(GOA37=\"\",0,LEN(TRIM(GOA37))-LEN(SUBSTITUTE(TRIM(GOA37),\" \",\"\"))+1)","v":0},null,null,32,null,null,null,null,{"$f":"IF(GOI37=\"\",0,LEN(TRIM(GOI37))-LEN(SUBSTITUTE(TRIM(GOI37),\" \",\"\"))+1)","v":0},null,null,32,null,null,null,null,{"$f":"IF(GOQ37=\"\",0,LEN(TRIM(GOQ37))-LEN(SUBSTITUTE(TRIM(GOQ37),\" \",\"\"))+1)","v":0},null,null,32,null,null,null,null,{"$f":"IF(GOY37=\"\",0,LEN(TRIM(GOY37))-LEN(SUBSTITUTE(TRIM(GOY37),\" \",\"\"))+1)","v":0},null,null,32,null,null,null,null,{"$f":"IF(GPG37=\"\",0,LEN(TRIM(GPG37))-LEN(SUBSTITUTE(TRIM(GPG37),\" \",\"\"))+1)","v":0},null,null,32,null,null,null,null,{"$f":"IF(GPO37=\"\",0,LEN(TRIM(GPO37))-LEN(SUBSTITUTE(TRIM(GPO37),\" \",\"\"))+1)","v":0},null,null,32,null,null,null,null,{"$f":"IF(GPW37=\"\",0,LEN(TRIM(GPW37))-LEN(SUBSTITUTE(TRIM(GPW37),\" \",\"\"))+1)","v":0},null,null,32,null,null,null,null,{"$f":"IF(GQE37=\"\",0,LEN(TRIM(GQE37))-LEN(SUBSTITUTE(TRIM(GQE37),\" \",\"\"))+1)","v":0},null,null,32,null,null,null,null,{"$f":"IF(GQM37=\"\",0,LEN(TRIM(GQM37))-LEN(SUBSTITUTE(TRIM(GQM37),\" \",\"\"))+1)","v":0},null,null,32,null,null,null,null,{"$f":"IF(GQU37=\"\",0,LEN(TRIM(GQU37))-LEN(SUBSTITUTE(TRIM(GQU37),\" \",\"\"))+1)","v":0},null,null,32,null,null,null,null,{"$f":"IF(GRC37=\"\",0,LEN(TRIM(GRC37))-LEN(SUBSTITUTE(TRIM(GRC37),\" \",\"\"))+1)","v":0},null,null,32,null,null,null,null,{"$f":"IF(GRK37=\"\",0,LEN(TRIM(GRK37))-LEN(SUBSTITUTE(TRIM(GRK37),\" \",\"\"))+1)","v":0},null,null,32,null,null,null,null,{"$f":"IF(GRS37=\"\",0,LEN(TRIM(GRS37))-LEN(SUBSTITUTE(TRIM(GRS37),\" \",\"\"))+1)","v":0},null,null,32,null,null,null,null,{"$f":"IF(GSA37=\"\",0,LEN(TRIM(GSA37))-LEN(SUBSTITUTE(TRIM(GSA37),\" \",\"\"))+1)","v":0},null,null,32,null,null,null,null,{"$f":"IF(GSI37=\"\",0,LEN(TRIM(GSI37))-LEN(SUBSTITUTE(TRIM(GSI37),\" \",\"\"))+1)","v":0},null,null,32,null,null,null,null,{"$f":"IF(GSQ37=\"\",0,LEN(TRIM(GSQ37))-LEN(SUBSTITUTE(TRIM(GSQ37),\" \",\"\"))+1)","v":0},null,null,32,null,null,null,null,{"$f":"IF(GSY37=\"\",0,LEN(TRIM(GSY37))-LEN(SUBSTITUTE(TRIM(GSY37),\" \",\"\"))+1)","v":0},null,null,32,null,null,null,null,{"$f":"IF(GTG37=\"\",0,LEN(TRIM(GTG37))-LEN(SUBSTITUTE(TRIM(GTG37),\" \",\"\"))+1)","v":0},null,null,32,null,null,null,null,{"$f":"IF(GTO37=\"\",0,LEN(TRIM(GTO37))-LEN(SUBSTITUTE(TRIM(GTO37),\" \",\"\"))+1)","v":0},null,null,32,null,null,null,null,{"$f":"IF(GTW37=\"\",0,LEN(TRIM(GTW37))-LEN(SUBSTITUTE(TRIM(GTW37),\" \",\"\"))+1)","v":0},null,null,32,null,null,null,null,{"$f":"IF(GUE37=\"\",0,LEN(TRIM(GUE37))-LEN(SUBSTITUTE(TRIM(GUE37),\" \",\"\"))+1)","v":0},null,null,32,null,null,null,null,{"$f":"IF(GUM37=\"\",0,LEN(TRIM(GUM37))-LEN(SUBSTITUTE(TRIM(GUM37),\" \",\"\"))+1)","v":0},null,null,32,null,null,null,null,{"$f":"IF(GUU37=\"\",0,LEN(TRIM(GUU37))-LEN(SUBSTITUTE(TRIM(GUU37),\" \",\"\"))+1)","v":0},null,null,32,null,null,null,null,{"$f":"IF(GVC37=\"\",0,LEN(TRIM(GVC37))-LEN(SUBSTITUTE(TRIM(GVC37),\" \",\"\"))+1)","v":0},null,null,32,null,null,null,null,{"$f":"IF(GVK37=\"\",0,LEN(TRIM(GVK37))-LEN(SUBSTITUTE(TRIM(GVK37),\" \",\"\"))+1)","v":0},null,null,32,null,null,null,null,{"$f":"IF(GVS37=\"\",0,LEN(TRIM(GVS37))-LEN(SUBSTITUTE(TRIM(GVS37),\" \",\"\"))+1)","v":0},null,null,32,null,null,null,null,{"$f":"IF(GWA37=\"\",0,LEN(TRIM(GWA37))-LEN(SUBSTITUTE(TRIM(GWA37),\" \",\"\"))+1)","v":0},null,null,32,null,null,null,null,{"$f":"IF(GWI37=\"\",0,LEN(TRIM(GWI37))-LEN(SUBSTITUTE(TRIM(GWI37),\" \",\"\"))+1)","v":0},null,null,32,null,null,null,null,{"$f":"IF(GWQ37=\"\",0,LEN(TRIM(GWQ37))-LEN(SUBSTITUTE(TRIM(GWQ37),\" \",\"\"))+1)","v":0},null,null,32,null,null,null,null,{"$f":"IF(GWY37=\"\",0,LEN(TRIM(GWY37))-LEN(SUBSTITUTE(TRIM(GWY37),\" \",\"\"))+1)","v":0},null,null,32,null,null,null,null,{"$f":"IF(GXG37=\"\",0,LEN(TRIM(GXG37))-LEN(SUBSTITUTE(TRIM(GXG37),\" \",\"\"))+1)","v":0},null,null,32,null,null,null,null,{"$f":"IF(GXO37=\"\",0,LEN(TRIM(GXO37))-LEN(SUBSTITUTE(TRIM(GXO37),\" \",\"\"))+1)","v":0},null,null,32,null,null,null,null,{"$f":"IF(GXW37=\"\",0,LEN(TRIM(GXW37))-LEN(SUBSTITUTE(TRIM(GXW37),\" \",\"\"))+1)","v":0},null,null,32,null,null,null,null,{"$f":"IF(GYE37=\"\",0,LEN(TRIM(GYE37))-LEN(SUBSTITUTE(TRIM(GYE37),\" \",\"\"))+1)","v":0},null,null,32,null,null,null,null,{"$f":"IF(GYM37=\"\",0,LEN(TRIM(GYM37))-LEN(SUBSTITUTE(TRIM(GYM37),\" \",\"\"))+1)","v":0},null,null,32,null,null,null,null,{"$f":"IF(GYU37=\"\",0,LEN(TRIM(GYU37))-LEN(SUBSTITUTE(TRIM(GYU37),\" \",\"\"))+1)","v":0},null,null,32,null,null,null,null,{"$f":"IF(GZC37=\"\",0,LEN(TRIM(GZC37))-LEN(SUBSTITUTE(TRIM(GZC37),\" \",\"\"))+1)","v":0},null,null,32,null,null,null,null,{"$f":"IF(GZK37=\"\",0,LEN(TRIM(GZK37))-LEN(SUBSTITUTE(TRIM(GZK37),\" \",\"\"))+1)","v":0},null,null,32,null,null,null,null,{"$f":"IF(GZS37=\"\",0,LEN(TRIM(GZS37))-LEN(SUBSTITUTE(TRIM(GZS37),\" \",\"\"))+1)","v":0},null,null,32,null,null,null,null,{"$f":"IF(HAA37=\"\",0,LEN(TRIM(HAA37))-LEN(SUBSTITUTE(TRIM(HAA37),\" \",\"\"))+1)","v":0},null,null,32,null,null,null,null,{"$f":"IF(HAI37=\"\",0,LEN(TRIM(HAI37))-LEN(SUBSTITUTE(TRIM(HAI37),\" \",\"\"))+1)","v":0},null,null,32,null,null,null,null,{"$f":"IF(HAQ37=\"\",0,LEN(TRIM(HAQ37))-LEN(SUBSTITUTE(TRIM(HAQ37),\" \",\"\"))+1)","v":0},null,null,32,null,null,null,null,{"$f":"IF(HAY37=\"\",0,LEN(TRIM(HAY37))-LEN(SUBSTITUTE(TRIM(HAY37),\" \",\"\"))+1)","v":0},null,null,32,null,null,null,null,{"$f":"IF(HBG37=\"\",0,LEN(TRIM(HBG37))-LEN(SUBSTITUTE(TRIM(HBG37),\" \",\"\"))+1)","v":0},null,null,32,null,null,null,null,{"$f":"IF(HBO37=\"\",0,LEN(TRIM(HBO37))-LEN(SUBSTITUTE(TRIM(HBO37),\" \",\"\"))+1)","v":0},null,null,32,null,null,null,null,{"$f":"IF(HBW37=\"\",0,LEN(TRIM(HBW37))-LEN(SUBSTITUTE(TRIM(HBW37),\" \",\"\"))+1)","v":0},null,null,32,null,null,null,null,{"$f":"IF(HCE37=\"\",0,LEN(TRIM(HCE37))-LEN(SUBSTITUTE(TRIM(HCE37),\" \",\"\"))+1)","v":0},null,null,32,null,null,null,null,{"$f":"IF(HCM37=\"\",0,LEN(TRIM(HCM37))-LEN(SUBSTITUTE(TRIM(HCM37),\" \",\"\"))+1)","v":0},null,null,32,null,null,null,null,{"$f":"IF(HCU37=\"\",0,LEN(TRIM(HCU37))-LEN(SUBSTITUTE(TRIM(HCU37),\" \",\"\"))+1)","v":0},null,null,32,null,null,null,null,{"$f":"IF(HDC37=\"\",0,LEN(TRIM(HDC37))-LEN(SUBSTITUTE(TRIM(HDC37),\" \",\"\"))+1)","v":0},null,null,32,null,null,null,null,{"$f":"IF(HDK37=\"\",0,LEN(TRIM(HDK37))-LEN(SUBSTITUTE(TRIM(HDK37),\" \",\"\"))+1)","v":0},null,null,32,null,null,null,null,{"$f":"IF(HDS37=\"\",0,LEN(TRIM(HDS37))-LEN(SUBSTITUTE(TRIM(HDS37),\" \",\"\"))+1)","v":0},null,null,32,null,null,null,null,{"$f":"IF(HEA37=\"\",0,LEN(TRIM(HEA37))-LEN(SUBSTITUTE(TRIM(HEA37),\" \",\"\"))+1)","v":0},null,null,32,null,null,null,null,{"$f":"IF(HEI37=\"\",0,LEN(TRIM(HEI37))-LEN(SUBSTITUTE(TRIM(HEI37),\" \",\"\"))+1)","v":0},null,null,32,null,null,null,null,{"$f":"IF(HEQ37=\"\",0,LEN(TRIM(HEQ37))-LEN(SUBSTITUTE(TRIM(HEQ37),\" \",\"\"))+1)","v":0},null,null,32,null,null,null,null,{"$f":"IF(HEY37=\"\",0,LEN(TRIM(HEY37))-LEN(SUBSTITUTE(TRIM(HEY37),\" \",\"\"))+1)","v":0},null,null,32,null,null,null,null,{"$f":"IF(HFG37=\"\",0,LEN(TRIM(HFG37))-LEN(SUBSTITUTE(TRIM(HFG37),\" \",\"\"))+1)","v":0},null,null,32,null,null,null,null,{"$f":"IF(HFO37=\"\",0,LEN(TRIM(HFO37))-LEN(SUBSTITUTE(TRIM(HFO37),\" \",\"\"))+1)","v":0},null,null,32,null,null,null,null,{"$f":"IF(HFW37=\"\",0,LEN(TRIM(HFW37))-LEN(SUBSTITUTE(TRIM(HFW37),\" \",\"\"))+1)","v":0},null,null,32,null,null,null,null,{"$f":"IF(HGE37=\"\",0,LEN(TRIM(HGE37))-LEN(SUBSTITUTE(TRIM(HGE37),\" \",\"\"))+1)","v":0},null,null,32,null,null,null,null,{"$f":"IF(HGM37=\"\",0,LEN(TRIM(HGM37))-LEN(SUBSTITUTE(TRIM(HGM37),\" \",\"\"))+1)","v":0},null,null,32,null,null,null,null,{"$f":"IF(HGU37=\"\",0,LEN(TRIM(HGU37))-LEN(SUBSTITUTE(TRIM(HGU37),\" \",\"\"))+1)","v":0},null,null,32,null,null,null,null,{"$f":"IF(HHC37=\"\",0,LEN(TRIM(HHC37))-LEN(SUBSTITUTE(TRIM(HHC37),\" \",\"\"))+1)","v":0},null,null,32,null,null,null,null,{"$f":"IF(HHK37=\"\",0,LEN(TRIM(HHK37))-LEN(SUBSTITUTE(TRIM(HHK37),\" \",\"\"))+1)","v":0},null,null,32,null,null,null,null,{"$f":"IF(HHS37=\"\",0,LEN(TRIM(HHS37))-LEN(SUBSTITUTE(TRIM(HHS37),\" \",\"\"))+1)","v":0},null,null,32,null,null,null,null,{"$f":"IF(HIA37=\"\",0,LEN(TRIM(HIA37))-LEN(SUBSTITUTE(TRIM(HIA37),\" \",\"\"))+1)","v":0},null,null,32,null,null,null,null,{"$f":"IF(HII37=\"\",0,LEN(TRIM(HII37))-LEN(SUBSTITUTE(TRIM(HII37),\" \",\"\"))+1)","v":0},null,null,32,null,null,null,null,{"$f":"IF(HIQ37=\"\",0,LEN(TRIM(HIQ37))-LEN(SUBSTITUTE(TRIM(HIQ37),\" \",\"\"))+1)","v":0},null,null,32,null,null,null,null,{"$f":"IF(HIY37=\"\",0,LEN(TRIM(HIY37))-LEN(SUBSTITUTE(TRIM(HIY37),\" \",\"\"))+1)","v":0},null,null,32,null,null,null,null,{"$f":"IF(HJG37=\"\",0,LEN(TRIM(HJG37))-LEN(SUBSTITUTE(TRIM(HJG37),\" \",\"\"))+1)","v":0},null,null,32,null,null,null,null,{"$f":"IF(HJO37=\"\",0,LEN(TRIM(HJO37))-LEN(SUBSTITUTE(TRIM(HJO37),\" \",\"\"))+1)","v":0},null,null,32,null,null,null,null,{"$f":"IF(HJW37=\"\",0,LEN(TRIM(HJW37))-LEN(SUBSTITUTE(TRIM(HJW37),\" \",\"\"))+1)","v":0},null,null,32,null,null,null,null,{"$f":"IF(HKE37=\"\",0,LEN(TRIM(HKE37))-LEN(SUBSTITUTE(TRIM(HKE37),\" \",\"\"))+1)","v":0},null,null,32,null,null,null,null,{"$f":"IF(HKM37=\"\",0,LEN(TRIM(HKM37))-LEN(SUBSTITUTE(TRIM(HKM37),\" \",\"\"))+1)","v":0},null,null,32,null,null,null,null,{"$f":"IF(HKU37=\"\",0,LEN(TRIM(HKU37))-LEN(SUBSTITUTE(TRIM(HKU37),\" \",\"\"))+1)","v":0},null,null,32,null,null,null,null,{"$f":"IF(HLC37=\"\",0,LEN(TRIM(HLC37))-LEN(SUBSTITUTE(TRIM(HLC37),\" \",\"\"))+1)","v":0},null,null,32,null,null,null,null,{"$f":"IF(HLK37=\"\",0,LEN(TRIM(HLK37))-LEN(SUBSTITUTE(TRIM(HLK37),\" \",\"\"))+1)","v":0},null,null,32,null,null,null,null,{"$f":"IF(HLS37=\"\",0,LEN(TRIM(HLS37))-LEN(SUBSTITUTE(TRIM(HLS37),\" \",\"\"))+1)","v":0},null,null,32,null,null,null,null,{"$f":"IF(HMA37=\"\",0,LEN(TRIM(HMA37))-LEN(SUBSTITUTE(TRIM(HMA37),\" \",\"\"))+1)","v":0},null,null,32,null,null,null,null,{"$f":"IF(HMI37=\"\",0,LEN(TRIM(HMI37))-LEN(SUBSTITUTE(TRIM(HMI37),\" \",\"\"))+1)","v":0},null,null,32,null,null,null,null,{"$f":"IF(HMQ37=\"\",0,LEN(TRIM(HMQ37))-LEN(SUBSTITUTE(TRIM(HMQ37),\" \",\"\"))+1)","v":0},null,null,32,null,null,null,null,{"$f":"IF(HMY37=\"\",0,LEN(TRIM(HMY37))-LEN(SUBSTITUTE(TRIM(HMY37),\" \",\"\"))+1)","v":0},null,null,32,null,null,null,null,{"$f":"IF(HNG37=\"\",0,LEN(TRIM(HNG37))-LEN(SUBSTITUTE(TRIM(HNG37),\" \",\"\"))+1)","v":0},null,null,32,null,null,null,null,{"$f":"IF(HNO37=\"\",0,LEN(TRIM(HNO37))-LEN(SUBSTITUTE(TRIM(HNO37),\" \",\"\"))+1)","v":0},null,null,32,null,null,null,null,{"$f":"IF(HNW37=\"\",0,LEN(TRIM(HNW37))-LEN(SUBSTITUTE(TRIM(HNW37),\" \",\"\"))+1)","v":0},null,null,32,null,null,null,null,{"$f":"IF(HOE37=\"\",0,LEN(TRIM(HOE37))-LEN(SUBSTITUTE(TRIM(HOE37),\" \",\"\"))+1)","v":0},null,null,32,null,null,null,null,{"$f":"IF(HOM37=\"\",0,LEN(TRIM(HOM37))-LEN(SUBSTITUTE(TRIM(HOM37),\" \",\"\"))+1)","v":0},null,null,32,null,null,null,null,{"$f":"IF(HOU37=\"\",0,LEN(TRIM(HOU37))-LEN(SUBSTITUTE(TRIM(HOU37),\" \",\"\"))+1)","v":0},null,null,32,null,null,null,null,{"$f":"IF(HPC37=\"\",0,LEN(TRIM(HPC37))-LEN(SUBSTITUTE(TRIM(HPC37),\" \",\"\"))+1)","v":0},null,null,32,null,null,null,null,{"$f":"IF(HPK37=\"\",0,LEN(TRIM(HPK37))-LEN(SUBSTITUTE(TRIM(HPK37),\" \",\"\"))+1)","v":0},null,null,32,null,null,null,null,{"$f":"IF(HPS37=\"\",0,LEN(TRIM(HPS37))-LEN(SUBSTITUTE(TRIM(HPS37),\" \",\"\"))+1)","v":0},null,null,32,null,null,null,null,{"$f":"IF(HQA37=\"\",0,LEN(TRIM(HQA37))-LEN(SUBSTITUTE(TRIM(HQA37),\" \",\"\"))+1)","v":0},null,null,32,null,null,null,null,{"$f":"IF(HQI37=\"\",0,LEN(TRIM(HQI37))-LEN(SUBSTITUTE(TRIM(HQI37),\" \",\"\"))+1)","v":0},null,null,32,null,null,null,null,{"$f":"IF(HQQ37=\"\",0,LEN(TRIM(HQQ37))-LEN(SUBSTITUTE(TRIM(HQQ37),\" \",\"\"))+1)","v":0},null,null,32,null,null,null,null,{"$f":"IF(HQY37=\"\",0,LEN(TRIM(HQY37))-LEN(SUBSTITUTE(TRIM(HQY37),\" \",\"\"))+1)","v":0},null,null,32,null,null,null,null,{"$f":"IF(HRG37=\"\",0,LEN(TRIM(HRG37))-LEN(SUBSTITUTE(TRIM(HRG37),\" \",\"\"))+1)","v":0},null,null,32,null,null,null,null,{"$f":"IF(HRO37=\"\",0,LEN(TRIM(HRO37))-LEN(SUBSTITUTE(TRIM(HRO37),\" \",\"\"))+1)","v":0},null,null,32,null,null,null,null,{"$f":"IF(HRW37=\"\",0,LEN(TRIM(HRW37))-LEN(SUBSTITUTE(TRIM(HRW37),\" \",\"\"))+1)","v":0},null,null,32,null,null,null,null,{"$f":"IF(HSE37=\"\",0,LEN(TRIM(HSE37))-LEN(SUBSTITUTE(TRIM(HSE37),\" \",\"\"))+1)","v":0},null,null,32,null,null,null,null,{"$f":"IF(HSM37=\"\",0,LEN(TRIM(HSM37))-LEN(SUBSTITUTE(TRIM(HSM37),\" \",\"\"))+1)","v":0},null,null,32,null,null,null,null,{"$f":"IF(HSU37=\"\",0,LEN(TRIM(HSU37))-LEN(SUBSTITUTE(TRIM(HSU37),\" \",\"\"))+1)","v":0},null,null,32,null,null,null,null,{"$f":"IF(HTC37=\"\",0,LEN(TRIM(HTC37))-LEN(SUBSTITUTE(TRIM(HTC37),\" \",\"\"))+1)","v":0},null,null,32,null,null,null,null,{"$f":"IF(HTK37=\"\",0,LEN(TRIM(HTK37))-LEN(SUBSTITUTE(TRIM(HTK37),\" \",\"\"))+1)","v":0},null,null,32,null,null,null,null,{"$f":"IF(HTS37=\"\",0,LEN(TRIM(HTS37))-LEN(SUBSTITUTE(TRIM(HTS37),\" \",\"\"))+1)","v":0},null,null,32,null,null,null,null,{"$f":"IF(HUA37=\"\",0,LEN(TRIM(HUA37))-LEN(SUBSTITUTE(TRIM(HUA37),\" \",\"\"))+1)","v":0},null,null,32,null,null,null,null,{"$f":"IF(HUI37=\"\",0,LEN(TRIM(HUI37))-LEN(SUBSTITUTE(TRIM(HUI37),\" \",\"\"))+1)","v":0},null,null,32,null,null,null,null,{"$f":"IF(HUQ37=\"\",0,LEN(TRIM(HUQ37))-LEN(SUBSTITUTE(TRIM(HUQ37),\" \",\"\"))+1)","v":0},null,null,32,null,null,null,null,{"$f":"IF(HUY37=\"\",0,LEN(TRIM(HUY37))-LEN(SUBSTITUTE(TRIM(HUY37),\" \",\"\"))+1)","v":0},null,null,32,null,null,null,null,{"$f":"IF(HVG37=\"\",0,LEN(TRIM(HVG37))-LEN(SUBSTITUTE(TRIM(HVG37),\" \",\"\"))+1)","v":0},null,null,32,null,null,null,null,{"$f":"IF(HVO37=\"\",0,LEN(TRIM(HVO37))-LEN(SUBSTITUTE(TRIM(HVO37),\" \",\"\"))+1)","v":0},null,null,32,null,null,null,null,{"$f":"IF(HVW37=\"\",0,LEN(TRIM(HVW37))-LEN(SUBSTITUTE(TRIM(HVW37),\" \",\"\"))+1)","v":0},null,null,32,null,null,null,null,{"$f":"IF(HWE37=\"\",0,LEN(TRIM(HWE37))-LEN(SUBSTITUTE(TRIM(HWE37),\" \",\"\"))+1)","v":0},null,null,32,null,null,null,null,{"$f":"IF(HWM37=\"\",0,LEN(TRIM(HWM37))-LEN(SUBSTITUTE(TRIM(HWM37),\" \",\"\"))+1)","v":0},null,null,32,null,null,null,null,{"$f":"IF(HWU37=\"\",0,LEN(TRIM(HWU37))-LEN(SUBSTITUTE(TRIM(HWU37),\" \",\"\"))+1)","v":0},null,null,32,null,null,null,null,{"$f":"IF(HXC37=\"\",0,LEN(TRIM(HXC37))-LEN(SUBSTITUTE(TRIM(HXC37),\" \",\"\"))+1)","v":0},null,null,32,null,null,null,null,{"$f":"IF(HXK37=\"\",0,LEN(TRIM(HXK37))-LEN(SUBSTITUTE(TRIM(HXK37),\" \",\"\"))+1)","v":0},null,null,32,null,null,null,null,{"$f":"IF(HXS37=\"\",0,LEN(TRIM(HXS37))-LEN(SUBSTITUTE(TRIM(HXS37),\" \",\"\"))+1)","v":0},null,null,32,null,null,null,null,{"$f":"IF(HYA37=\"\",0,LEN(TRIM(HYA37))-LEN(SUBSTITUTE(TRIM(HYA37),\" \",\"\"))+1)","v":0},null,null,32,null,null,null,null,{"$f":"IF(HYI37=\"\",0,LEN(TRIM(HYI37))-LEN(SUBSTITUTE(TRIM(HYI37),\" \",\"\"))+1)","v":0},null,null,32,null,null,null,null,{"$f":"IF(HYQ37=\"\",0,LEN(TRIM(HYQ37))-LEN(SUBSTITUTE(TRIM(HYQ37),\" \",\"\"))+1)","v":0},null,null,32,null,null,null,null,{"$f":"IF(HYY37=\"\",0,LEN(TRIM(HYY37))-LEN(SUBSTITUTE(TRIM(HYY37),\" \",\"\"))+1)","v":0},null,null,32,null,null,null,null,{"$f":"IF(HZG37=\"\",0,LEN(TRIM(HZG37))-LEN(SUBSTITUTE(TRIM(HZG37),\" \",\"\"))+1)","v":0},null,null,32,null,null,null,null,{"$f":"IF(HZO37=\"\",0,LEN(TRIM(HZO37))-LEN(SUBSTITUTE(TRIM(HZO37),\" \",\"\"))+1)","v":0},null,null,32,null,null,null,null,{"$f":"IF(HZW37=\"\",0,LEN(TRIM(HZW37))-LEN(SUBSTITUTE(TRIM(HZW37),\" \",\"\"))+1)","v":0},null,null,32,null,null,null,null,{"$f":"IF(IAE37=\"\",0,LEN(TRIM(IAE37))-LEN(SUBSTITUTE(TRIM(IAE37),\" \",\"\"))+1)","v":0},null,null,32,null,null,null,null,{"$f":"IF(IAM37=\"\",0,LEN(TRIM(IAM37))-LEN(SUBSTITUTE(TRIM(IAM37),\" \",\"\"))+1)","v":0},null,null,32,null,null,null,null,{"$f":"IF(IAU37=\"\",0,LEN(TRIM(IAU37))-LEN(SUBSTITUTE(TRIM(IAU37),\" \",\"\"))+1)","v":0},null,null,32,null,null,null,null,{"$f":"IF(IBC37=\"\",0,LEN(TRIM(IBC37))-LEN(SUBSTITUTE(TRIM(IBC37),\" \",\"\"))+1)","v":0},null,null,32,null,null,null,null,{"$f":"IF(IBK37=\"\",0,LEN(TRIM(IBK37))-LEN(SUBSTITUTE(TRIM(IBK37),\" \",\"\"))+1)","v":0},null,null,32,null,null,null,null,{"$f":"IF(IBS37=\"\",0,LEN(TRIM(IBS37))-LEN(SUBSTITUTE(TRIM(IBS37),\" \",\"\"))+1)","v":0},null,null,32,null,null,null,null,{"$f":"IF(ICA37=\"\",0,LEN(TRIM(ICA37))-LEN(SUBSTITUTE(TRIM(ICA37),\" \",\"\"))+1)","v":0},null,null,32,null,null,null,null,{"$f":"IF(ICI37=\"\",0,LEN(TRIM(ICI37))-LEN(SUBSTITUTE(TRIM(ICI37),\" \",\"\"))+1)","v":0},null,null,32,null,null,null,null,{"$f":"IF(ICQ37=\"\",0,LEN(TRIM(ICQ37))-LEN(SUBSTITUTE(TRIM(ICQ37),\" \",\"\"))+1)","v":0},null,null,32,null,null,null,null,{"$f":"IF(ICY37=\"\",0,LEN(TRIM(ICY37))-LEN(SUBSTITUTE(TRIM(ICY37),\" \",\"\"))+1)","v":0},null,null,32,null,null,null,null,{"$f":"IF(IDG37=\"\",0,LEN(TRIM(IDG37))-LEN(SUBSTITUTE(TRIM(IDG37),\" \",\"\"))+1)","v":0},null,null,32,null,null,null,null,{"$f":"IF(IDO37=\"\",0,LEN(TRIM(IDO37))-LEN(SUBSTITUTE(TRIM(IDO37),\" \",\"\"))+1)","v":0},null,null,32,null,null,null,null,{"$f":"IF(IDW37=\"\",0,LEN(TRIM(IDW37))-LEN(SUBSTITUTE(TRIM(IDW37),\" \",\"\"))+1)","v":0},null,null,32,null,null,null,null,{"$f":"IF(IEE37=\"\",0,LEN(TRIM(IEE37))-LEN(SUBSTITUTE(TRIM(IEE37),\" \",\"\"))+1)","v":0},null,null,32,null,null,null,null,{"$f":"IF(IEM37=\"\",0,LEN(TRIM(IEM37))-LEN(SUBSTITUTE(TRIM(IEM37),\" \",\"\"))+1)","v":0},null,null,32,null,null,null,null,{"$f":"IF(IEU37=\"\",0,LEN(TRIM(IEU37))-LEN(SUBSTITUTE(TRIM(IEU37),\" \",\"\"))+1)","v":0},null,null,32,null,null,null,null,{"$f":"IF(IFC37=\"\",0,LEN(TRIM(IFC37))-LEN(SUBSTITUTE(TRIM(IFC37),\" \",\"\"))+1)","v":0},null,null,32,null,null,null,null,{"$f":"IF(IFK37=\"\",0,LEN(TRIM(IFK37))-LEN(SUBSTITUTE(TRIM(IFK37),\" \",\"\"))+1)","v":0},null,null,32,null,null,null,null,{"$f":"IF(IFS37=\"\",0,LEN(TRIM(IFS37))-LEN(SUBSTITUTE(TRIM(IFS37),\" \",\"\"))+1)","v":0},null,null,32,null,null,null,null,{"$f":"IF(IGA37=\"\",0,LEN(TRIM(IGA37))-LEN(SUBSTITUTE(TRIM(IGA37),\" \",\"\"))+1)","v":0},null,null,32,null,null,null,null,{"$f":"IF(IGI37=\"\",0,LEN(TRIM(IGI37))-LEN(SUBSTITUTE(TRIM(IGI37),\" \",\"\"))+1)","v":0},null,null,32,null,null,null,null,{"$f":"IF(IGQ37=\"\",0,LEN(TRIM(IGQ37))-LEN(SUBSTITUTE(TRIM(IGQ37),\" \",\"\"))+1)","v":0},null,null,32,null,null,null,null,{"$f":"IF(IGY37=\"\",0,LEN(TRIM(IGY37))-LEN(SUBSTITUTE(TRIM(IGY37),\" \",\"\"))+1)","v":0},null,null,32,null,null,null,null,{"$f":"IF(IHG37=\"\",0,LEN(TRIM(IHG37))-LEN(SUBSTITUTE(TRIM(IHG37),\" \",\"\"))+1)","v":0},null,null,32,null,null,null,null,{"$f":"IF(IHO37=\"\",0,LEN(TRIM(IHO37))-LEN(SUBSTITUTE(TRIM(IHO37),\" \",\"\"))+1)","v":0},null,null,32,null,null,null,null,{"$f":"IF(IHW37=\"\",0,LEN(TRIM(IHW37))-LEN(SUBSTITUTE(TRIM(IHW37),\" \",\"\"))+1)","v":0},null,null,32,null,null,null,null,{"$f":"IF(IIE37=\"\",0,LEN(TRIM(IIE37))-LEN(SUBSTITUTE(TRIM(IIE37),\" \",\"\"))+1)","v":0},null,null,32,null,null,null,null,{"$f":"IF(IIM37=\"\",0,LEN(TRIM(IIM37))-LEN(SUBSTITUTE(TRIM(IIM37),\" \",\"\"))+1)","v":0},null,null,32,null,null,null,null,{"$f":"IF(IIU37=\"\",0,LEN(TRIM(IIU37))-LEN(SUBSTITUTE(TRIM(IIU37),\" \",\"\"))+1)","v":0},null,null,32,null,null,null,null,{"$f":"IF(IJC37=\"\",0,LEN(TRIM(IJC37))-LEN(SUBSTITUTE(TRIM(IJC37),\" \",\"\"))+1)","v":0},null,null,32,null,null,null,null,{"$f":"IF(IJK37=\"\",0,LEN(TRIM(IJK37))-LEN(SUBSTITUTE(TRIM(IJK37),\" \",\"\"))+1)","v":0},null,null,32,null,null,null,null,{"$f":"IF(IJS37=\"\",0,LEN(TRIM(IJS37))-LEN(SUBSTITUTE(TRIM(IJS37),\" \",\"\"))+1)","v":0},null,null,32,null,null,null,null,{"$f":"IF(IKA37=\"\",0,LEN(TRIM(IKA37))-LEN(SUBSTITUTE(TRIM(IKA37),\" \",\"\"))+1)","v":0},null,null,32,null,null,null,null,{"$f":"IF(IKI37=\"\",0,LEN(TRIM(IKI37))-LEN(SUBSTITUTE(TRIM(IKI37),\" \",\"\"))+1)","v":0},null,null,32,null,null,null,null,{"$f":"IF(IKQ37=\"\",0,LEN(TRIM(IKQ37))-LEN(SUBSTITUTE(TRIM(IKQ37),\" \",\"\"))+1)","v":0},null,null,32,null,null,null,null,{"$f":"IF(IKY37=\"\",0,LEN(TRIM(IKY37))-LEN(SUBSTITUTE(TRIM(IKY37),\" \",\"\"))+1)","v":0},null,null,32,null,null,null,null,{"$f":"IF(ILG37=\"\",0,LEN(TRIM(ILG37))-LEN(SUBSTITUTE(TRIM(ILG37),\" \",\"\"))+1)","v":0},null,null,32,null,null,null,null,{"$f":"IF(ILO37=\"\",0,LEN(TRIM(ILO37))-LEN(SUBSTITUTE(TRIM(ILO37),\" \",\"\"))+1)","v":0},null,null,32,null,null,null,null,{"$f":"IF(ILW37=\"\",0,LEN(TRIM(ILW37))-LEN(SUBSTITUTE(TRIM(ILW37),\" \",\"\"))+1)","v":0},null,null,32,null,null,null,null,{"$f":"IF(IME37=\"\",0,LEN(TRIM(IME37))-LEN(SUBSTITUTE(TRIM(IME37),\" \",\"\"))+1)","v":0},null,null,32,null,null,null,null,{"$f":"IF(IMM37=\"\",0,LEN(TRIM(IMM37))-LEN(SUBSTITUTE(TRIM(IMM37),\" \",\"\"))+1)","v":0},null,null,32,null,null,null,null,{"$f":"IF(IMU37=\"\",0,LEN(TRIM(IMU37))-LEN(SUBSTITUTE(TRIM(IMU37),\" \",\"\"))+1)","v":0},null,null,32,null,null,null,null,{"$f":"IF(INC37=\"\",0,LEN(TRIM(INC37))-LEN(SUBSTITUTE(TRIM(INC37),\" \",\"\"))+1)","v":0},null,null,32,null,null,null,null,{"$f":"IF(INK37=\"\",0,LEN(TRIM(INK37))-LEN(SUBSTITUTE(TRIM(INK37),\" \",\"\"))+1)","v":0},null,null,32,null,null,null,null,{"$f":"IF(INS37=\"\",0,LEN(TRIM(INS37))-LEN(SUBSTITUTE(TRIM(INS37),\" \",\"\"))+1)","v":0},null,null,32,null,null,null,null,{"$f":"IF(IOA37=\"\",0,LEN(TRIM(IOA37))-LEN(SUBSTITUTE(TRIM(IOA37),\" \",\"\"))+1)","v":0},null,null,32,null,null,null,null,{"$f":"IF(IOI37=\"\",0,LEN(TRIM(IOI37))-LEN(SUBSTITUTE(TRIM(IOI37),\" \",\"\"))+1)","v":0},null,null,32,null,null,null,null,{"$f":"IF(IOQ37=\"\",0,LEN(TRIM(IOQ37))-LEN(SUBSTITUTE(TRIM(IOQ37),\" \",\"\"))+1)","v":0},null,null,32,null,null,null,null,{"$f":"IF(IOY37=\"\",0,LEN(TRIM(IOY37))-LEN(SUBSTITUTE(TRIM(IOY37),\" \",\"\"))+1)","v":0},null,null,32,null,null,null,null,{"$f":"IF(IPG37=\"\",0,LEN(TRIM(IPG37))-LEN(SUBSTITUTE(TRIM(IPG37),\" \",\"\"))+1)","v":0},null,null,32,null,null,null,null,{"$f":"IF(IPO37=\"\",0,LEN(TRIM(IPO37))-LEN(SUBSTITUTE(TRIM(IPO37),\" \",\"\"))+1)","v":0},null,null,32,null,null,null,null,{"$f":"IF(IPW37=\"\",0,LEN(TRIM(IPW37))-LEN(SUBSTITUTE(TRIM(IPW37),\" \",\"\"))+1)","v":0},null,null,32,null,null,null,null,{"$f":"IF(IQE37=\"\",0,LEN(TRIM(IQE37))-LEN(SUBSTITUTE(TRIM(IQE37),\" \",\"\"))+1)","v":0},null,null,32,null,null,null,null,{"$f":"IF(IQM37=\"\",0,LEN(TRIM(IQM37))-LEN(SUBSTITUTE(TRIM(IQM37),\" \",\"\"))+1)","v":0},null,null,32,null,null,null,null,{"$f":"IF(IQU37=\"\",0,LEN(TRIM(IQU37))-LEN(SUBSTITUTE(TRIM(IQU37),\" \",\"\"))+1)","v":0},null,null,32,null,null,null,null,{"$f":"IF(IRC37=\"\",0,LEN(TRIM(IRC37))-LEN(SUBSTITUTE(TRIM(IRC37),\" \",\"\"))+1)","v":0},null,null,32,null,null,null,null,{"$f":"IF(IRK37=\"\",0,LEN(TRIM(IRK37))-LEN(SUBSTITUTE(TRIM(IRK37),\" \",\"\"))+1)","v":0},null,null,32,null,null,null,null,{"$f":"IF(IRS37=\"\",0,LEN(TRIM(IRS37))-LEN(SUBSTITUTE(TRIM(IRS37),\" \",\"\"))+1)","v":0},null,null,32,null,null,null,null,{"$f":"IF(ISA37=\"\",0,LEN(TRIM(ISA37))-LEN(SUBSTITUTE(TRIM(ISA37),\" \",\"\"))+1)","v":0},null,null,32,null,null,null,null,{"$f":"IF(ISI37=\"\",0,LEN(TRIM(ISI37))-LEN(SUBSTITUTE(TRIM(ISI37),\" \",\"\"))+1)","v":0},null,null,32,null,null,null,null,{"$f":"IF(ISQ37=\"\",0,LEN(TRIM(ISQ37))-LEN(SUBSTITUTE(TRIM(ISQ37),\" \",\"\"))+1)","v":0},null,null,32,null,null,null,null,{"$f":"IF(ISY37=\"\",0,LEN(TRIM(ISY37))-LEN(SUBSTITUTE(TRIM(ISY37),\" \",\"\"))+1)","v":0},null,null,32,null,null,null,null,{"$f":"IF(ITG37=\"\",0,LEN(TRIM(ITG37))-LEN(SUBSTITUTE(TRIM(ITG37),\" \",\"\"))+1)","v":0},null,null,32,null,null,null,null,{"$f":"IF(ITO37=\"\",0,LEN(TRIM(ITO37))-LEN(SUBSTITUTE(TRIM(ITO37),\" \",\"\"))+1)","v":0},null,null,32,null,null,null,null,{"$f":"IF(ITW37=\"\",0,LEN(TRIM(ITW37))-LEN(SUBSTITUTE(TRIM(ITW37),\" \",\"\"))+1)","v":0},null,null,32,null,null,null,null,{"$f":"IF(IUE37=\"\",0,LEN(TRIM(IUE37))-LEN(SUBSTITUTE(TRIM(IUE37),\" \",\"\"))+1)","v":0},null,null,32,null,null,null,null,{"$f":"IF(IUM37=\"\",0,LEN(TRIM(IUM37))-LEN(SUBSTITUTE(TRIM(IUM37),\" \",\"\"))+1)","v":0},null,null,32,null,null,null,null,{"$f":"IF(IUU37=\"\",0,LEN(TRIM(IUU37))-LEN(SUBSTITUTE(TRIM(IUU37),\" \",\"\"))+1)","v":0},null,null,32,null,null,null,null,{"$f":"IF(IVC37=\"\",0,LEN(TRIM(IVC37))-LEN(SUBSTITUTE(TRIM(IVC37),\" \",\"\"))+1)","v":0},null,null,32,null,null,null,null,{"$f":"IF(IVK37=\"\",0,LEN(TRIM(IVK37))-LEN(SUBSTITUTE(TRIM(IVK37),\" \",\"\"))+1)","v":0},null,null,32,null,null,null,null,{"$f":"IF(IVS37=\"\",0,LEN(TRIM(IVS37))-LEN(SUBSTITUTE(TRIM(IVS37),\" \",\"\"))+1)","v":0},null,null,32,null,null,null,null,{"$f":"IF(IWA37=\"\",0,LEN(TRIM(IWA37))-LEN(SUBSTITUTE(TRIM(IWA37),\" \",\"\"))+1)","v":0},null,null,32,null,null,null,null,{"$f":"IF(IWI37=\"\",0,LEN(TRIM(IWI37))-LEN(SUBSTITUTE(TRIM(IWI37),\" \",\"\"))+1)","v":0},null,null,32,null,null,null,null,{"$f":"IF(IWQ37=\"\",0,LEN(TRIM(IWQ37))-LEN(SUBSTITUTE(TRIM(IWQ37),\" \",\"\"))+1)","v":0},null,null,32,null,null,null,null,{"$f":"IF(IWY37=\"\",0,LEN(TRIM(IWY37))-LEN(SUBSTITUTE(TRIM(IWY37),\" \",\"\"))+1)","v":0},null,null,32,null,null,null,null,{"$f":"IF(IXG37=\"\",0,LEN(TRIM(IXG37))-LEN(SUBSTITUTE(TRIM(IXG37),\" \",\"\"))+1)","v":0},null,null,32,null,null,null,null,{"$f":"IF(IXO37=\"\",0,LEN(TRIM(IXO37))-LEN(SUBSTITUTE(TRIM(IXO37),\" \",\"\"))+1)","v":0},null,null,32,null,null,null,null,{"$f":"IF(IXW37=\"\",0,LEN(TRIM(IXW37))-LEN(SUBSTITUTE(TRIM(IXW37),\" \",\"\"))+1)","v":0},null,null,32,null,null,null,null,{"$f":"IF(IYE37=\"\",0,LEN(TRIM(IYE37))-LEN(SUBSTITUTE(TRIM(IYE37),\" \",\"\"))+1)","v":0},null,null,32,null,null,null,null,{"$f":"IF(IYM37=\"\",0,LEN(TRIM(IYM37))-LEN(SUBSTITUTE(TRIM(IYM37),\" \",\"\"))+1)","v":0},null,null,32,null,null,null,null,{"$f":"IF(IYU37=\"\",0,LEN(TRIM(IYU37))-LEN(SUBSTITUTE(TRIM(IYU37),\" \",\"\"))+1)","v":0},null,null,32,null,null,null,null,{"$f":"IF(IZC37=\"\",0,LEN(TRIM(IZC37))-LEN(SUBSTITUTE(TRIM(IZC37),\" \",\"\"))+1)","v":0},null,null,32,null,null,null,null,{"$f":"IF(IZK37=\"\",0,LEN(TRIM(IZK37))-LEN(SUBSTITUTE(TRIM(IZK37),\" \",\"\"))+1)","v":0},null,null,32,null,null,null,null,{"$f":"IF(IZS37=\"\",0,LEN(TRIM(IZS37))-LEN(SUBSTITUTE(TRIM(IZS37),\" \",\"\"))+1)","v":0},null,null,32,null,null,null,null,{"$f":"IF(JAA37=\"\",0,LEN(TRIM(JAA37))-LEN(SUBSTITUTE(TRIM(JAA37),\" \",\"\"))+1)","v":0},null,null,32,null,null,null,null,{"$f":"IF(JAI37=\"\",0,LEN(TRIM(JAI37))-LEN(SUBSTITUTE(TRIM(JAI37),\" \",\"\"))+1)","v":0},null,null,32,null,null,null,null,{"$f":"IF(JAQ37=\"\",0,LEN(TRIM(JAQ37))-LEN(SUBSTITUTE(TRIM(JAQ37),\" \",\"\"))+1)","v":0},null,null,32,null,null,null,null,{"$f":"IF(JAY37=\"\",0,LEN(TRIM(JAY37))-LEN(SUBSTITUTE(TRIM(JAY37),\" \",\"\"))+1)","v":0},null,null,32,null,null,null,null,{"$f":"IF(JBG37=\"\",0,LEN(TRIM(JBG37))-LEN(SUBSTITUTE(TRIM(JBG37),\" \",\"\"))+1)","v":0},null,null,32,null,null,null,null,{"$f":"IF(JBO37=\"\",0,LEN(TRIM(JBO37))-LEN(SUBSTITUTE(TRIM(JBO37),\" \",\"\"))+1)","v":0},null,null,32,null,null,null,null,{"$f":"IF(JBW37=\"\",0,LEN(TRIM(JBW37))-LEN(SUBSTITUTE(TRIM(JBW37),\" \",\"\"))+1)","v":0},null,null,32,null,null,null,null,{"$f":"IF(JCE37=\"\",0,LEN(TRIM(JCE37))-LEN(SUBSTITUTE(TRIM(JCE37),\" \",\"\"))+1)","v":0},null,null,32,null,null,null,null,{"$f":"IF(JCM37=\"\",0,LEN(TRIM(JCM37))-LEN(SUBSTITUTE(TRIM(JCM37),\" \",\"\"))+1)","v":0},null,null,32,null,null,null,null,{"$f":"IF(JCU37=\"\",0,LEN(TRIM(JCU37))-LEN(SUBSTITUTE(TRIM(JCU37),\" \",\"\"))+1)","v":0},null,null,32,null,null,null,null,{"$f":"IF(JDC37=\"\",0,LEN(TRIM(JDC37))-LEN(SUBSTITUTE(TRIM(JDC37),\" \",\"\"))+1)","v":0},null,null,32,null,null,null,null,{"$f":"IF(JDK37=\"\",0,LEN(TRIM(JDK37))-LEN(SUBSTITUTE(TRIM(JDK37),\" \",\"\"))+1)","v":0},null,null,32,null,null,null,null,{"$f":"IF(JDS37=\"\",0,LEN(TRIM(JDS37))-LEN(SUBSTITUTE(TRIM(JDS37),\" \",\"\"))+1)","v":0},null,null,32,null,null,null,null,{"$f":"IF(JEA37=\"\",0,LEN(TRIM(JEA37))-LEN(SUBSTITUTE(TRIM(JEA37),\" \",\"\"))+1)","v":0},null,null,32,null,null,null,null,{"$f":"IF(JEI37=\"\",0,LEN(TRIM(JEI37))-LEN(SUBSTITUTE(TRIM(JEI37),\" \",\"\"))+1)","v":0},null,null,32,null,null,null,null,{"$f":"IF(JEQ37=\"\",0,LEN(TRIM(JEQ37))-LEN(SUBSTITUTE(TRIM(JEQ37),\" \",\"\"))+1)","v":0},null,null,32,null,null,null,null,{"$f":"IF(JEY37=\"\",0,LEN(TRIM(JEY37))-LEN(SUBSTITUTE(TRIM(JEY37),\" \",\"\"))+1)","v":0},null,null,32,null,null,null,null,{"$f":"IF(JFG37=\"\",0,LEN(TRIM(JFG37))-LEN(SUBSTITUTE(TRIM(JFG37),\" \",\"\"))+1)","v":0},null,null,32,null,null,null,null,{"$f":"IF(JFO37=\"\",0,LEN(TRIM(JFO37))-LEN(SUBSTITUTE(TRIM(JFO37),\" \",\"\"))+1)","v":0},null,null,32,null,null,null,null,{"$f":"IF(JFW37=\"\",0,LEN(TRIM(JFW37))-LEN(SUBSTITUTE(TRIM(JFW37),\" \",\"\"))+1)","v":0},null,null,32,null,null,null,null,{"$f":"IF(JGE37=\"\",0,LEN(TRIM(JGE37))-LEN(SUBSTITUTE(TRIM(JGE37),\" \",\"\"))+1)","v":0},null,null,32,null,null,null,null,{"$f":"IF(JGM37=\"\",0,LEN(TRIM(JGM37))-LEN(SUBSTITUTE(TRIM(JGM37),\" \",\"\"))+1)","v":0},null,null,32,null,null,null,null,{"$f":"IF(JGU37=\"\",0,LEN(TRIM(JGU37))-LEN(SUBSTITUTE(TRIM(JGU37),\" \",\"\"))+1)","v":0},null,null,32,null,null,null,null,{"$f":"IF(JHC37=\"\",0,LEN(TRIM(JHC37))-LEN(SUBSTITUTE(TRIM(JHC37),\" \",\"\"))+1)","v":0},null,null,32,null,null,null,null,{"$f":"IF(JHK37=\"\",0,LEN(TRIM(JHK37))-LEN(SUBSTITUTE(TRIM(JHK37),\" \",\"\"))+1)","v":0},null,null,32,null,null,null,null,{"$f":"IF(JHS37=\"\",0,LEN(TRIM(JHS37))-LEN(SUBSTITUTE(TRIM(JHS37),\" \",\"\"))+1)","v":0},null,null,32,null,null,null,null,{"$f":"IF(JIA37=\"\",0,LEN(TRIM(JIA37))-LEN(SUBSTITUTE(TRIM(JIA37),\" \",\"\"))+1)","v":0},null,null,32,null,null,null,null,{"$f":"IF(JII37=\"\",0,LEN(TRIM(JII37))-LEN(SUBSTITUTE(TRIM(JII37),\" \",\"\"))+1)","v":0},null,null,32,null,null,null,null,{"$f":"IF(JIQ37=\"\",0,LEN(TRIM(JIQ37))-LEN(SUBSTITUTE(TRIM(JIQ37),\" \",\"\"))+1)","v":0},null,null,32,null,null,null,null,{"$f":"IF(JIY37=\"\",0,LEN(TRIM(JIY37))-LEN(SUBSTITUTE(TRIM(JIY37),\" \",\"\"))+1)","v":0},null,null,32,null,null,null,null,{"$f":"IF(JJG37=\"\",0,LEN(TRIM(JJG37))-LEN(SUBSTITUTE(TRIM(JJG37),\" \",\"\"))+1)","v":0},null,null,32,null,null,null,null,{"$f":"IF(JJO37=\"\",0,LEN(TRIM(JJO37))-LEN(SUBSTITUTE(TRIM(JJO37),\" \",\"\"))+1)","v":0},null,null,32,null,null,null,null,{"$f":"IF(JJW37=\"\",0,LEN(TRIM(JJW37))-LEN(SUBSTITUTE(TRIM(JJW37),\" \",\"\"))+1)","v":0},null,null,32,null,null,null,null,{"$f":"IF(JKE37=\"\",0,LEN(TRIM(JKE37))-LEN(SUBSTITUTE(TRIM(JKE37),\" \",\"\"))+1)","v":0},null,null,32,null,null,null,null,{"$f":"IF(JKM37=\"\",0,LEN(TRIM(JKM37))-LEN(SUBSTITUTE(TRIM(JKM37),\" \",\"\"))+1)","v":0},null,null,32,null,null,null,null,{"$f":"IF(JKU37=\"\",0,LEN(TRIM(JKU37))-LEN(SUBSTITUTE(TRIM(JKU37),\" \",\"\"))+1)","v":0},null,null,32,null,null,null,null,{"$f":"IF(JLC37=\"\",0,LEN(TRIM(JLC37))-LEN(SUBSTITUTE(TRIM(JLC37),\" \",\"\"))+1)","v":0},null,null,32,null,null,null,null,{"$f":"IF(JLK37=\"\",0,LEN(TRIM(JLK37))-LEN(SUBSTITUTE(TRIM(JLK37),\" \",\"\"))+1)","v":0},null,null,32,null,null,null,null,{"$f":"IF(JLS37=\"\",0,LEN(TRIM(JLS37))-LEN(SUBSTITUTE(TRIM(JLS37),\" \",\"\"))+1)","v":0},null,null,32,null,null,null,null,{"$f":"IF(JMA37=\"\",0,LEN(TRIM(JMA37))-LEN(SUBSTITUTE(TRIM(JMA37),\" \",\"\"))+1)","v":0},null,null,32,null,null,null,null,{"$f":"IF(JMI37=\"\",0,LEN(TRIM(JMI37))-LEN(SUBSTITUTE(TRIM(JMI37),\" \",\"\"))+1)","v":0},null,null,32,null,null,null,null,{"$f":"IF(JMQ37=\"\",0,LEN(TRIM(JMQ37))-LEN(SUBSTITUTE(TRIM(JMQ37),\" \",\"\"))+1)","v":0},null,null,32,null,null,null,null,{"$f":"IF(JMY37=\"\",0,LEN(TRIM(JMY37))-LEN(SUBSTITUTE(TRIM(JMY37),\" \",\"\"))+1)","v":0},null,null,32,null,null,null,null,{"$f":"IF(JNG37=\"\",0,LEN(TRIM(JNG37))-LEN(SUBSTITUTE(TRIM(JNG37),\" \",\"\"))+1)","v":0},null,null,32,null,null,null,null,{"$f":"IF(JNO37=\"\",0,LEN(TRIM(JNO37))-LEN(SUBSTITUTE(TRIM(JNO37),\" \",\"\"))+1)","v":0},null,null,32,null,null,null,null,{"$f":"IF(JNW37=\"\",0,LEN(TRIM(JNW37))-LEN(SUBSTITUTE(TRIM(JNW37),\" \",\"\"))+1)","v":0},null,null,32,null,null,null,null,{"$f":"IF(JOE37=\"\",0,LEN(TRIM(JOE37))-LEN(SUBSTITUTE(TRIM(JOE37),\" \",\"\"))+1)","v":0},null,null,32,null,null,null,null,{"$f":"IF(JOM37=\"\",0,LEN(TRIM(JOM37))-LEN(SUBSTITUTE(TRIM(JOM37),\" \",\"\"))+1)","v":0},null,null,32,null,null,null,null,{"$f":"IF(JOU37=\"\",0,LEN(TRIM(JOU37))-LEN(SUBSTITUTE(TRIM(JOU37),\" \",\"\"))+1)","v":0},null,null,32,null,null,null,null,{"$f":"IF(JPC37=\"\",0,LEN(TRIM(JPC37))-LEN(SUBSTITUTE(TRIM(JPC37),\" \",\"\"))+1)","v":0},null,null,32,null,null,null,null,{"$f":"IF(JPK37=\"\",0,LEN(TRIM(JPK37))-LEN(SUBSTITUTE(TRIM(JPK37),\" \",\"\"))+1)","v":0},null,null,32,null,null,null,null,{"$f":"IF(JPS37=\"\",0,LEN(TRIM(JPS37))-LEN(SUBSTITUTE(TRIM(JPS37),\" \",\"\"))+1)","v":0},null,null,32,null,null,null,null,{"$f":"IF(JQA37=\"\",0,LEN(TRIM(JQA37))-LEN(SUBSTITUTE(TRIM(JQA37),\" \",\"\"))+1)","v":0},null,null,32,null,null,null,null,{"$f":"IF(JQI37=\"\",0,LEN(TRIM(JQI37))-LEN(SUBSTITUTE(TRIM(JQI37),\" \",\"\"))+1)","v":0},null,null,32,null,null,null,null,{"$f":"IF(JQQ37=\"\",0,LEN(TRIM(JQQ37))-LEN(SUBSTITUTE(TRIM(JQQ37),\" \",\"\"))+1)","v":0},null,null,32,null,null,null,null,{"$f":"IF(JQY37=\"\",0,LEN(TRIM(JQY37))-LEN(SUBSTITUTE(TRIM(JQY37),\" \",\"\"))+1)","v":0},null,null,32,null,null,null,null,{"$f":"IF(JRG37=\"\",0,LEN(TRIM(JRG37))-LEN(SUBSTITUTE(TRIM(JRG37),\" \",\"\"))+1)","v":0},null,null,32,null,null,null,null,{"$f":"IF(JRO37=\"\",0,LEN(TRIM(JRO37))-LEN(SUBSTITUTE(TRIM(JRO37),\" \",\"\"))+1)","v":0},null,null,32,null,null,null,null,{"$f":"IF(JRW37=\"\",0,LEN(TRIM(JRW37))-LEN(SUBSTITUTE(TRIM(JRW37),\" \",\"\"))+1)","v":0},null,null,32,null,null,null,null,{"$f":"IF(JSE37=\"\",0,LEN(TRIM(JSE37))-LEN(SUBSTITUTE(TRIM(JSE37),\" \",\"\"))+1)","v":0},null,null,32,null,null,null,null,{"$f":"IF(JSM37=\"\",0,LEN(TRIM(JSM37))-LEN(SUBSTITUTE(TRIM(JSM37),\" \",\"\"))+1)","v":0},null,null,32,null,null,null,null,{"$f":"IF(JSU37=\"\",0,LEN(TRIM(JSU37))-LEN(SUBSTITUTE(TRIM(JSU37),\" \",\"\"))+1)","v":0},null,null,32,null,null,null,null,{"$f":"IF(JTC37=\"\",0,LEN(TRIM(JTC37))-LEN(SUBSTITUTE(TRIM(JTC37),\" \",\"\"))+1)","v":0},null,null,32,null,null,null,null,{"$f":"IF(JTK37=\"\",0,LEN(TRIM(JTK37))-LEN(SUBSTITUTE(TRIM(JTK37),\" \",\"\"))+1)","v":0},null,null,32,null,null,null,null,{"$f":"IF(JTS37=\"\",0,LEN(TRIM(JTS37))-LEN(SUBSTITUTE(TRIM(JTS37),\" \",\"\"))+1)","v":0},null,null,32,null,null,null,null,{"$f":"IF(JUA37=\"\",0,LEN(TRIM(JUA37))-LEN(SUBSTITUTE(TRIM(JUA37),\" \",\"\"))+1)","v":0},null,null,32,null,null,null,null,{"$f":"IF(JUI37=\"\",0,LEN(TRIM(JUI37))-LEN(SUBSTITUTE(TRIM(JUI37),\" \",\"\"))+1)","v":0},null,null,32,null,null,null,null,{"$f":"IF(JUQ37=\"\",0,LEN(TRIM(JUQ37))-LEN(SUBSTITUTE(TRIM(JUQ37),\" \",\"\"))+1)","v":0},null,null,32,null,null,null,null,{"$f":"IF(JUY37=\"\",0,LEN(TRIM(JUY37))-LEN(SUBSTITUTE(TRIM(JUY37),\" \",\"\"))+1)","v":0},null,null,32,null,null,null,null,{"$f":"IF(JVG37=\"\",0,LEN(TRIM(JVG37))-LEN(SUBSTITUTE(TRIM(JVG37),\" \",\"\"))+1)","v":0},null,null,32,null,null,null,null,{"$f":"IF(JVO37=\"\",0,LEN(TRIM(JVO37))-LEN(SUBSTITUTE(TRIM(JVO37),\" \",\"\"))+1)","v":0},null,null,32,null,null,null,null,{"$f":"IF(JVW37=\"\",0,LEN(TRIM(JVW37))-LEN(SUBSTITUTE(TRIM(JVW37),\" \",\"\"))+1)","v":0},null,null,32,null,null,null,null,{"$f":"IF(JWE37=\"\",0,LEN(TRIM(JWE37))-LEN(SUBSTITUTE(TRIM(JWE37),\" \",\"\"))+1)","v":0},null,null,32,null,null,null,null,{"$f":"IF(JWM37=\"\",0,LEN(TRIM(JWM37))-LEN(SUBSTITUTE(TRIM(JWM37),\" \",\"\"))+1)","v":0},null,null,32,null,null,null,null,{"$f":"IF(JWU37=\"\",0,LEN(TRIM(JWU37))-LEN(SUBSTITUTE(TRIM(JWU37),\" \",\"\"))+1)","v":0},null,null,32,null,null,null,null,{"$f":"IF(JXC37=\"\",0,LEN(TRIM(JXC37))-LEN(SUBSTITUTE(TRIM(JXC37),\" \",\"\"))+1)","v":0},null,null,32,null,null,null,null,{"$f":"IF(JXK37=\"\",0,LEN(TRIM(JXK37))-LEN(SUBSTITUTE(TRIM(JXK37),\" \",\"\"))+1)","v":0},null,null,32,null,null,null,null,{"$f":"IF(JXS37=\"\",0,LEN(TRIM(JXS37))-LEN(SUBSTITUTE(TRIM(JXS37),\" \",\"\"))+1)","v":0},null,null,32,null,null,null,null,{"$f":"IF(JYA37=\"\",0,LEN(TRIM(JYA37))-LEN(SUBSTITUTE(TRIM(JYA37),\" \",\"\"))+1)","v":0},null,null,32,null,null,null,null,{"$f":"IF(JYI37=\"\",0,LEN(TRIM(JYI37))-LEN(SUBSTITUTE(TRIM(JYI37),\" \",\"\"))+1)","v":0},null,null,32,null,null,null,null,{"$f":"IF(JYQ37=\"\",0,LEN(TRIM(JYQ37))-LEN(SUBSTITUTE(TRIM(JYQ37),\" \",\"\"))+1)","v":0},null,null,32,null,null,null,null,{"$f":"IF(JYY37=\"\",0,LEN(TRIM(JYY37))-LEN(SUBSTITUTE(TRIM(JYY37),\" \",\"\"))+1)","v":0},null,null,32,null,null,null,null,{"$f":"IF(JZG37=\"\",0,LEN(TRIM(JZG37))-LEN(SUBSTITUTE(TRIM(JZG37),\" \",\"\"))+1)","v":0},null,null,32,null,null,null,null,{"$f":"IF(JZO37=\"\",0,LEN(TRIM(JZO37))-LEN(SUBSTITUTE(TRIM(JZO37),\" \",\"\"))+1)","v":0},null,null,32,null,null,null,null,{"$f":"IF(JZW37=\"\",0,LEN(TRIM(JZW37))-LEN(SUBSTITUTE(TRIM(JZW37),\" \",\"\"))+1)","v":0},null,null,32,null,null,null,null,{"$f":"IF(KAE37=\"\",0,LEN(TRIM(KAE37))-LEN(SUBSTITUTE(TRIM(KAE37),\" \",\"\"))+1)","v":0},null,null,32,null,null,null,null,{"$f":"IF(KAM37=\"\",0,LEN(TRIM(KAM37))-LEN(SUBSTITUTE(TRIM(KAM37),\" \",\"\"))+1)","v":0},null,null,32,null,null,null,null,{"$f":"IF(KAU37=\"\",0,LEN(TRIM(KAU37))-LEN(SUBSTITUTE(TRIM(KAU37),\" \",\"\"))+1)","v":0},null,null,32,null,null,null,null,{"$f":"IF(KBC37=\"\",0,LEN(TRIM(KBC37))-LEN(SUBSTITUTE(TRIM(KBC37),\" \",\"\"))+1)","v":0},null,null,32,null,null,null,null,{"$f":"IF(KBK37=\"\",0,LEN(TRIM(KBK37))-LEN(SUBSTITUTE(TRIM(KBK37),\" \",\"\"))+1)","v":0},null,null,32,null,null,null,null,{"$f":"IF(KBS37=\"\",0,LEN(TRIM(KBS37))-LEN(SUBSTITUTE(TRIM(KBS37),\" \",\"\"))+1)","v":0},null,null,32,null,null,null,null,{"$f":"IF(KCA37=\"\",0,LEN(TRIM(KCA37))-LEN(SUBSTITUTE(TRIM(KCA37),\" \",\"\"))+1)","v":0},null,null,32,null,null,null,null,{"$f":"IF(KCI37=\"\",0,LEN(TRIM(KCI37))-LEN(SUBSTITUTE(TRIM(KCI37),\" \",\"\"))+1)","v":0},null,null,32,null,null,null,null,{"$f":"IF(KCQ37=\"\",0,LEN(TRIM(KCQ37))-LEN(SUBSTITUTE(TRIM(KCQ37),\" \",\"\"))+1)","v":0},null,null,32,null,null,null,null,{"$f":"IF(KCY37=\"\",0,LEN(TRIM(KCY37))-LEN(SUBSTITUTE(TRIM(KCY37),\" \",\"\"))+1)","v":0},null,null,32,null,null,null,null,{"$f":"IF(KDG37=\"\",0,LEN(TRIM(KDG37))-LEN(SUBSTITUTE(TRIM(KDG37),\" \",\"\"))+1)","v":0},null,null,32,null,null,null,null,{"$f":"IF(KDO37=\"\",0,LEN(TRIM(KDO37))-LEN(SUBSTITUTE(TRIM(KDO37),\" \",\"\"))+1)","v":0},null,null,32,null,null,null,null,{"$f":"IF(KDW37=\"\",0,LEN(TRIM(KDW37))-LEN(SUBSTITUTE(TRIM(KDW37),\" \",\"\"))+1)","v":0},null,null,32,null,null,null,null,{"$f":"IF(KEE37=\"\",0,LEN(TRIM(KEE37))-LEN(SUBSTITUTE(TRIM(KEE37),\" \",\"\"))+1)","v":0},null,null,32,null,null,null,null,{"$f":"IF(KEM37=\"\",0,LEN(TRIM(KEM37))-LEN(SUBSTITUTE(TRIM(KEM37),\" \",\"\"))+1)","v":0},null,null,32,null,null,null,null,{"$f":"IF(KEU37=\"\",0,LEN(TRIM(KEU37))-LEN(SUBSTITUTE(TRIM(KEU37),\" \",\"\"))+1)","v":0},null,null,32,null,null,null,null,{"$f":"IF(KFC37=\"\",0,LEN(TRIM(KFC37))-LEN(SUBSTITUTE(TRIM(KFC37),\" \",\"\"))+1)","v":0},null,null,32,null,null,null,null,{"$f":"IF(KFK37=\"\",0,LEN(TRIM(KFK37))-LEN(SUBSTITUTE(TRIM(KFK37),\" \",\"\"))+1)","v":0},null,null,32,null,null,null,null,{"$f":"IF(KFS37=\"\",0,LEN(TRIM(KFS37))-LEN(SUBSTITUTE(TRIM(KFS37),\" \",\"\"))+1)","v":0},null,null,32,null,null,null,null,{"$f":"IF(KGA37=\"\",0,LEN(TRIM(KGA37))-LEN(SUBSTITUTE(TRIM(KGA37),\" \",\"\"))+1)","v":0},null,null,32,null,null,null,null,{"$f":"IF(KGI37=\"\",0,LEN(TRIM(KGI37))-LEN(SUBSTITUTE(TRIM(KGI37),\" \",\"\"))+1)","v":0},null,null,32,null,null,null,null,{"$f":"IF(KGQ37=\"\",0,LEN(TRIM(KGQ37))-LEN(SUBSTITUTE(TRIM(KGQ37),\" \",\"\"))+1)","v":0},null,null,32,null,null,null,null,{"$f":"IF(KGY37=\"\",0,LEN(TRIM(KGY37))-LEN(SUBSTITUTE(TRIM(KGY37),\" \",\"\"))+1)","v":0},null,null,32,null,null,null,null,{"$f":"IF(KHG37=\"\",0,LEN(TRIM(KHG37))-LEN(SUBSTITUTE(TRIM(KHG37),\" \",\"\"))+1)","v":0},null,null,32,null,null,null,null,{"$f":"IF(KHO37=\"\",0,LEN(TRIM(KHO37))-LEN(SUBSTITUTE(TRIM(KHO37),\" \",\"\"))+1)","v":0},null,null,32,null,null,null,null,{"$f":"IF(KHW37=\"\",0,LEN(TRIM(KHW37))-LEN(SUBSTITUTE(TRIM(KHW37),\" \",\"\"))+1)","v":0},null,null,32,null,null,null,null,{"$f":"IF(KIE37=\"\",0,LEN(TRIM(KIE37))-LEN(SUBSTITUTE(TRIM(KIE37),\" \",\"\"))+1)","v":0},null,null,32,null,null,null,null,{"$f":"IF(KIM37=\"\",0,LEN(TRIM(KIM37))-LEN(SUBSTITUTE(TRIM(KIM37),\" \",\"\"))+1)","v":0},null,null,32,null,null,null,null,{"$f":"IF(KIU37=\"\",0,LEN(TRIM(KIU37))-LEN(SUBSTITUTE(TRIM(KIU37),\" \",\"\"))+1)","v":0},null,null,32,null,null,null,null,{"$f":"IF(KJC37=\"\",0,LEN(TRIM(KJC37))-LEN(SUBSTITUTE(TRIM(KJC37),\" \",\"\"))+1)","v":0},null,null,32,null,null,null,null,{"$f":"IF(KJK37=\"\",0,LEN(TRIM(KJK37))-LEN(SUBSTITUTE(TRIM(KJK37),\" \",\"\"))+1)","v":0},null,null,32,null,null,null,null,{"$f":"IF(KJS37=\"\",0,LEN(TRIM(KJS37))-LEN(SUBSTITUTE(TRIM(KJS37),\" \",\"\"))+1)","v":0},null,null,32,null,null,null,null,{"$f":"IF(KKA37=\"\",0,LEN(TRIM(KKA37))-LEN(SUBSTITUTE(TRIM(KKA37),\" \",\"\"))+1)","v":0},null,null,32,null,null,null,null,{"$f":"IF(KKI37=\"\",0,LEN(TRIM(KKI37))-LEN(SUBSTITUTE(TRIM(KKI37),\" \",\"\"))+1)","v":0},null,null,32,null,null,null,null,{"$f":"IF(KKQ37=\"\",0,LEN(TRIM(KKQ37))-LEN(SUBSTITUTE(TRIM(KKQ37),\" \",\"\"))+1)","v":0},null,null,32,null,null,null,null,{"$f":"IF(KKY37=\"\",0,LEN(TRIM(KKY37))-LEN(SUBSTITUTE(TRIM(KKY37),\" \",\"\"))+1)","v":0},null,null,32,null,null,null,null,{"$f":"IF(KLG37=\"\",0,LEN(TRIM(KLG37))-LEN(SUBSTITUTE(TRIM(KLG37),\" \",\"\"))+1)","v":0},null,null,32,null,null,null,null,{"$f":"IF(KLO37=\"\",0,LEN(TRIM(KLO37))-LEN(SUBSTITUTE(TRIM(KLO37),\" \",\"\"))+1)","v":0},null,null,32,null,null,null,null,{"$f":"IF(KLW37=\"\",0,LEN(TRIM(KLW37))-LEN(SUBSTITUTE(TRIM(KLW37),\" \",\"\"))+1)","v":0},null,null,32,null,null,null,null,{"$f":"IF(KME37=\"\",0,LEN(TRIM(KME37))-LEN(SUBSTITUTE(TRIM(KME37),\" \",\"\"))+1)","v":0},null,null,32,null,null,null,null,{"$f":"IF(KMM37=\"\",0,LEN(TRIM(KMM37))-LEN(SUBSTITUTE(TRIM(KMM37),\" \",\"\"))+1)","v":0},null,null,32,null,null,null,null,{"$f":"IF(KMU37=\"\",0,LEN(TRIM(KMU37))-LEN(SUBSTITUTE(TRIM(KMU37),\" \",\"\"))+1)","v":0},null,null,32,null,null,null,null,{"$f":"IF(KNC37=\"\",0,LEN(TRIM(KNC37))-LEN(SUBSTITUTE(TRIM(KNC37),\" \",\"\"))+1)","v":0},null,null,32,null,null,null,null,{"$f":"IF(KNK37=\"\",0,LEN(TRIM(KNK37))-LEN(SUBSTITUTE(TRIM(KNK37),\" \",\"\"))+1)","v":0},null,null,32,null,null,null,null,{"$f":"IF(KNS37=\"\",0,LEN(TRIM(KNS37))-LEN(SUBSTITUTE(TRIM(KNS37),\" \",\"\"))+1)","v":0},null,null,32,null,null,null,null,{"$f":"IF(KOA37=\"\",0,LEN(TRIM(KOA37))-LEN(SUBSTITUTE(TRIM(KOA37),\" \",\"\"))+1)","v":0},null,null,32,null,null,null,null,{"$f":"IF(KOI37=\"\",0,LEN(TRIM(KOI37))-LEN(SUBSTITUTE(TRIM(KOI37),\" \",\"\"))+1)","v":0},null,null,32,null,null,null,null,{"$f":"IF(KOQ37=\"\",0,LEN(TRIM(KOQ37))-LEN(SUBSTITUTE(TRIM(KOQ37),\" \",\"\"))+1)","v":0},null,null,32,null,null,null,null,{"$f":"IF(KOY37=\"\",0,LEN(TRIM(KOY37))-LEN(SUBSTITUTE(TRIM(KOY37),\" \",\"\"))+1)","v":0},null,null,32,null,null,null,null,{"$f":"IF(KPG37=\"\",0,LEN(TRIM(KPG37))-LEN(SUBSTITUTE(TRIM(KPG37),\" \",\"\"))+1)","v":0},null,null,32,null,null,null,null,{"$f":"IF(KPO37=\"\",0,LEN(TRIM(KPO37))-LEN(SUBSTITUTE(TRIM(KPO37),\" \",\"\"))+1)","v":0},null,null,32,null,null,null,null,{"$f":"IF(KPW37=\"\",0,LEN(TRIM(KPW37))-LEN(SUBSTITUTE(TRIM(KPW37),\" \",\"\"))+1)","v":0},null,null,32,null,null,null,null,{"$f":"IF(KQE37=\"\",0,LEN(TRIM(KQE37))-LEN(SUBSTITUTE(TRIM(KQE37),\" \",\"\"))+1)","v":0},null,null,32,null,null,null,null,{"$f":"IF(KQM37=\"\",0,LEN(TRIM(KQM37))-LEN(SUBSTITUTE(TRIM(KQM37),\" \",\"\"))+1)","v":0},null,null,32,null,null,null,null,{"$f":"IF(KQU37=\"\",0,LEN(TRIM(KQU37))-LEN(SUBSTITUTE(TRIM(KQU37),\" \",\"\"))+1)","v":0},null,null,32,null,null,null,null,{"$f":"IF(KRC37=\"\",0,LEN(TRIM(KRC37))-LEN(SUBSTITUTE(TRIM(KRC37),\" \",\"\"))+1)","v":0},null,null,32,null,null,null,null,{"$f":"IF(KRK37=\"\",0,LEN(TRIM(KRK37))-LEN(SUBSTITUTE(TRIM(KRK37),\" \",\"\"))+1)","v":0},null,null,32,null,null,null,null,{"$f":"IF(KRS37=\"\",0,LEN(TRIM(KRS37))-LEN(SUBSTITUTE(TRIM(KRS37),\" \",\"\"))+1)","v":0},null,null,32,null,null,null,null,{"$f":"IF(KSA37=\"\",0,LEN(TRIM(KSA37))-LEN(SUBSTITUTE(TRIM(KSA37),\" \",\"\"))+1)","v":0},null,null,32,null,null,null,null,{"$f":"IF(KSI37=\"\",0,LEN(TRIM(KSI37))-LEN(SUBSTITUTE(TRIM(KSI37),\" \",\"\"))+1)","v":0},null,null,32,null,null,null,null,{"$f":"IF(KSQ37=\"\",0,LEN(TRIM(KSQ37))-LEN(SUBSTITUTE(TRIM(KSQ37),\" \",\"\"))+1)","v":0},null,null,32,null,null,null,null,{"$f":"IF(KSY37=\"\",0,LEN(TRIM(KSY37))-LEN(SUBSTITUTE(TRIM(KSY37),\" \",\"\"))+1)","v":0},null,null,32,null,null,null,null,{"$f":"IF(KTG37=\"\",0,LEN(TRIM(KTG37))-LEN(SUBSTITUTE(TRIM(KTG37),\" \",\"\"))+1)","v":0},null,null,32,null,null,null,null,{"$f":"IF(KTO37=\"\",0,LEN(TRIM(KTO37))-LEN(SUBSTITUTE(TRIM(KTO37),\" \",\"\"))+1)","v":0},null,null,32,null,null,null,null,{"$f":"IF(KTW37=\"\",0,LEN(TRIM(KTW37))-LEN(SUBSTITUTE(TRIM(KTW37),\" \",\"\"))+1)","v":0},null,null,32,null,null,null,null,{"$f":"IF(KUE37=\"\",0,LEN(TRIM(KUE37))-LEN(SUBSTITUTE(TRIM(KUE37),\" \",\"\"))+1)","v":0},null,null,32,null,null,null,null,{"$f":"IF(KUM37=\"\",0,LEN(TRIM(KUM37))-LEN(SUBSTITUTE(TRIM(KUM37),\" \",\"\"))+1)","v":0},null,null,32,null,null,null,null,{"$f":"IF(KUU37=\"\",0,LEN(TRIM(KUU37))-LEN(SUBSTITUTE(TRIM(KUU37),\" \",\"\"))+1)","v":0},null,null,32,null,null,null,null,{"$f":"IF(KVC37=\"\",0,LEN(TRIM(KVC37))-LEN(SUBSTITUTE(TRIM(KVC37),\" \",\"\"))+1)","v":0},null,null,32,null,null,null,null,{"$f":"IF(KVK37=\"\",0,LEN(TRIM(KVK37))-LEN(SUBSTITUTE(TRIM(KVK37),\" \",\"\"))+1)","v":0},null,null,32,null,null,null,null,{"$f":"IF(KVS37=\"\",0,LEN(TRIM(KVS37))-LEN(SUBSTITUTE(TRIM(KVS37),\" \",\"\"))+1)","v":0},null,null,32,null,null,null,null,{"$f":"IF(KWA37=\"\",0,LEN(TRIM(KWA37))-LEN(SUBSTITUTE(TRIM(KWA37),\" \",\"\"))+1)","v":0},null,null,32,null,null,null,null,{"$f":"IF(KWI37=\"\",0,LEN(TRIM(KWI37))-LEN(SUBSTITUTE(TRIM(KWI37),\" \",\"\"))+1)","v":0},null,null,32,null,null,null,null,{"$f":"IF(KWQ37=\"\",0,LEN(TRIM(KWQ37))-LEN(SUBSTITUTE(TRIM(KWQ37),\" \",\"\"))+1)","v":0},null,null,32,null,null,null,null,{"$f":"IF(KWY37=\"\",0,LEN(TRIM(KWY37))-LEN(SUBSTITUTE(TRIM(KWY37),\" \",\"\"))+1)","v":0},null,null,32,null,null,null,null,{"$f":"IF(KXG37=\"\",0,LEN(TRIM(KXG37))-LEN(SUBSTITUTE(TRIM(KXG37),\" \",\"\"))+1)","v":0},null,null,32,null,null,null,null,{"$f":"IF(KXO37=\"\",0,LEN(TRIM(KXO37))-LEN(SUBSTITUTE(TRIM(KXO37),\" \",\"\"))+1)","v":0},null,null,32,null,null,null,null,{"$f":"IF(KXW37=\"\",0,LEN(TRIM(KXW37))-LEN(SUBSTITUTE(TRIM(KXW37),\" \",\"\"))+1)","v":0},null,null,32,null,null,null,null,{"$f":"IF(KYE37=\"\",0,LEN(TRIM(KYE37))-LEN(SUBSTITUTE(TRIM(KYE37),\" \",\"\"))+1)","v":0},null,null,32,null,null,null,null,{"$f":"IF(KYM37=\"\",0,LEN(TRIM(KYM37))-LEN(SUBSTITUTE(TRIM(KYM37),\" \",\"\"))+1)","v":0},null,null,32,null,null,null,null,{"$f":"IF(KYU37=\"\",0,LEN(TRIM(KYU37))-LEN(SUBSTITUTE(TRIM(KYU37),\" \",\"\"))+1)","v":0},null,null,32,null,null,null,null,{"$f":"IF(KZC37=\"\",0,LEN(TRIM(KZC37))-LEN(SUBSTITUTE(TRIM(KZC37),\" \",\"\"))+1)","v":0},null,null,32,null,null,null,null,{"$f":"IF(KZK37=\"\",0,LEN(TRIM(KZK37))-LEN(SUBSTITUTE(TRIM(KZK37),\" \",\"\"))+1)","v":0},null,null,32,null,null,null,null,{"$f":"IF(KZS37=\"\",0,LEN(TRIM(KZS37))-LEN(SUBSTITUTE(TRIM(KZS37),\" \",\"\"))+1)","v":0},null,null,32,null,null,null,null,{"$f":"IF(LAA37=\"\",0,LEN(TRIM(LAA37))-LEN(SUBSTITUTE(TRIM(LAA37),\" \",\"\"))+1)","v":0},null,null,32,null,null,null,null,{"$f":"IF(LAI37=\"\",0,LEN(TRIM(LAI37))-LEN(SUBSTITUTE(TRIM(LAI37),\" \",\"\"))+1)","v":0},null,null,32,null,null,null,null,{"$f":"IF(LAQ37=\"\",0,LEN(TRIM(LAQ37))-LEN(SUBSTITUTE(TRIM(LAQ37),\" \",\"\"))+1)","v":0},null,null,32,null,null,null,null,{"$f":"IF(LAY37=\"\",0,LEN(TRIM(LAY37))-LEN(SUBSTITUTE(TRIM(LAY37),\" \",\"\"))+1)","v":0},null,null,32,null,null,null,null,{"$f":"IF(LBG37=\"\",0,LEN(TRIM(LBG37))-LEN(SUBSTITUTE(TRIM(LBG37),\" \",\"\"))+1)","v":0},null,null,32,null,null,null,null,{"$f":"IF(LBO37=\"\",0,LEN(TRIM(LBO37))-LEN(SUBSTITUTE(TRIM(LBO37),\" \",\"\"))+1)","v":0},null,null,32,null,null,null,null,{"$f":"IF(LBW37=\"\",0,LEN(TRIM(LBW37))-LEN(SUBSTITUTE(TRIM(LBW37),\" \",\"\"))+1)","v":0},null,null,32,null,null,null,null,{"$f":"IF(LCE37=\"\",0,LEN(TRIM(LCE37))-LEN(SUBSTITUTE(TRIM(LCE37),\" \",\"\"))+1)","v":0},null,null,32,null,null,null,null,{"$f":"IF(LCM37=\"\",0,LEN(TRIM(LCM37))-LEN(SUBSTITUTE(TRIM(LCM37),\" \",\"\"))+1)","v":0},null,null,32,null,null,null,null,{"$f":"IF(LCU37=\"\",0,LEN(TRIM(LCU37))-LEN(SUBSTITUTE(TRIM(LCU37),\" \",\"\"))+1)","v":0},null,null,32,null,null,null,null,{"$f":"IF(LDC37=\"\",0,LEN(TRIM(LDC37))-LEN(SUBSTITUTE(TRIM(LDC37),\" \",\"\"))+1)","v":0},null,null,32,null,null,null,null,{"$f":"IF(LDK37=\"\",0,LEN(TRIM(LDK37))-LEN(SUBSTITUTE(TRIM(LDK37),\" \",\"\"))+1)","v":0},null,null,32,null,null,null,null,{"$f":"IF(LDS37=\"\",0,LEN(TRIM(LDS37))-LEN(SUBSTITUTE(TRIM(LDS37),\" \",\"\"))+1)","v":0},null,null,32,null,null,null,null,{"$f":"IF(LEA37=\"\",0,LEN(TRIM(LEA37))-LEN(SUBSTITUTE(TRIM(LEA37),\" \",\"\"))+1)","v":0},null,null,32,null,null,null,null,{"$f":"IF(LEI37=\"\",0,LEN(TRIM(LEI37))-LEN(SUBSTITUTE(TRIM(LEI37),\" \",\"\"))+1)","v":0},null,null,32,null,null,null,null,{"$f":"IF(LEQ37=\"\",0,LEN(TRIM(LEQ37))-LEN(SUBSTITUTE(TRIM(LEQ37),\" \",\"\"))+1)","v":0},null,null,32,null,null,null,null,{"$f":"IF(LEY37=\"\",0,LEN(TRIM(LEY37))-LEN(SUBSTITUTE(TRIM(LEY37),\" \",\"\"))+1)","v":0},null,null,32,null,null,null,null,{"$f":"IF(LFG37=\"\",0,LEN(TRIM(LFG37))-LEN(SUBSTITUTE(TRIM(LFG37),\" \",\"\"))+1)","v":0},null,null,32,null,null,null,null,{"$f":"IF(LFO37=\"\",0,LEN(TRIM(LFO37))-LEN(SUBSTITUTE(TRIM(LFO37),\" \",\"\"))+1)","v":0},null,null,32,null,null,null,null,{"$f":"IF(LFW37=\"\",0,LEN(TRIM(LFW37))-LEN(SUBSTITUTE(TRIM(LFW37),\" \",\"\"))+1)","v":0},null,null,32,null,null,null,null,{"$f":"IF(LGE37=\"\",0,LEN(TRIM(LGE37))-LEN(SUBSTITUTE(TRIM(LGE37),\" \",\"\"))+1)","v":0},null,null,32,null,null,null,null,{"$f":"IF(LGM37=\"\",0,LEN(TRIM(LGM37))-LEN(SUBSTITUTE(TRIM(LGM37),\" \",\"\"))+1)","v":0},null,null,32,null,null,null,null,{"$f":"IF(LGU37=\"\",0,LEN(TRIM(LGU37))-LEN(SUBSTITUTE(TRIM(LGU37),\" \",\"\"))+1)","v":0},null,null,32,null,null,null,null,{"$f":"IF(LHC37=\"\",0,LEN(TRIM(LHC37))-LEN(SUBSTITUTE(TRIM(LHC37),\" \",\"\"))+1)","v":0},null,null,32,null,null,null,null,{"$f":"IF(LHK37=\"\",0,LEN(TRIM(LHK37))-LEN(SUBSTITUTE(TRIM(LHK37),\" \",\"\"))+1)","v":0},null,null,32,null,null,null,null,{"$f":"IF(LHS37=\"\",0,LEN(TRIM(LHS37))-LEN(SUBSTITUTE(TRIM(LHS37),\" \",\"\"))+1)","v":0},null,null,32,null,null,null,null,{"$f":"IF(LIA37=\"\",0,LEN(TRIM(LIA37))-LEN(SUBSTITUTE(TRIM(LIA37),\" \",\"\"))+1)","v":0},null,null,32,null,null,null,null,{"$f":"IF(LII37=\"\",0,LEN(TRIM(LII37))-LEN(SUBSTITUTE(TRIM(LII37),\" \",\"\"))+1)","v":0},null,null,32,null,null,null,null,{"$f":"IF(LIQ37=\"\",0,LEN(TRIM(LIQ37))-LEN(SUBSTITUTE(TRIM(LIQ37),\" \",\"\"))+1)","v":0},null,null,32,null,null,null,null,{"$f":"IF(LIY37=\"\",0,LEN(TRIM(LIY37))-LEN(SUBSTITUTE(TRIM(LIY37),\" \",\"\"))+1)","v":0},null,null,32,null,null,null,null,{"$f":"IF(LJG37=\"\",0,LEN(TRIM(LJG37))-LEN(SUBSTITUTE(TRIM(LJG37),\" \",\"\"))+1)","v":0},null,null,32,null,null,null,null,{"$f":"IF(LJO37=\"\",0,LEN(TRIM(LJO37))-LEN(SUBSTITUTE(TRIM(LJO37),\" \",\"\"))+1)","v":0},null,null,32,null,null,null,null,{"$f":"IF(LJW37=\"\",0,LEN(TRIM(LJW37))-LEN(SUBSTITUTE(TRIM(LJW37),\" \",\"\"))+1)","v":0},null,null,32,null,null,null,null,{"$f":"IF(LKE37=\"\",0,LEN(TRIM(LKE37))-LEN(SUBSTITUTE(TRIM(LKE37),\" \",\"\"))+1)","v":0},null,null,32,null,null,null,null,{"$f":"IF(LKM37=\"\",0,LEN(TRIM(LKM37))-LEN(SUBSTITUTE(TRIM(LKM37),\" \",\"\"))+1)","v":0},null,null,32,null,null,null,null,{"$f":"IF(LKU37=\"\",0,LEN(TRIM(LKU37))-LEN(SUBSTITUTE(TRIM(LKU37),\" \",\"\"))+1)","v":0},null,null,32,null,null,null,null,{"$f":"IF(LLC37=\"\",0,LEN(TRIM(LLC37))-LEN(SUBSTITUTE(TRIM(LLC37),\" \",\"\"))+1)","v":0},null,null,32,null,null,null,null,{"$f":"IF(LLK37=\"\",0,LEN(TRIM(LLK37))-LEN(SUBSTITUTE(TRIM(LLK37),\" \",\"\"))+1)","v":0},null,null,32,null,null,null,null,{"$f":"IF(LLS37=\"\",0,LEN(TRIM(LLS37))-LEN(SUBSTITUTE(TRIM(LLS37),\" \",\"\"))+1)","v":0},null,null,32,null,null,null,null,{"$f":"IF(LMA37=\"\",0,LEN(TRIM(LMA37))-LEN(SUBSTITUTE(TRIM(LMA37),\" \",\"\"))+1)","v":0},null,null,32,null,null,null,null,{"$f":"IF(LMI37=\"\",0,LEN(TRIM(LMI37))-LEN(SUBSTITUTE(TRIM(LMI37),\" \",\"\"))+1)","v":0},null,null,32,null,null,null,null,{"$f":"IF(LMQ37=\"\",0,LEN(TRIM(LMQ37))-LEN(SUBSTITUTE(TRIM(LMQ37),\" \",\"\"))+1)","v":0},null,null,32,null,null,null,null,{"$f":"IF(LMY37=\"\",0,LEN(TRIM(LMY37))-LEN(SUBSTITUTE(TRIM(LMY37),\" \",\"\"))+1)","v":0},null,null,32,null,null,null,null,{"$f":"IF(LNG37=\"\",0,LEN(TRIM(LNG37))-LEN(SUBSTITUTE(TRIM(LNG37),\" \",\"\"))+1)","v":0},null,null,32,null,null,null,null,{"$f":"IF(LNO37=\"\",0,LEN(TRIM(LNO37))-LEN(SUBSTITUTE(TRIM(LNO37),\" \",\"\"))+1)","v":0},null,null,32,null,null,null,null,{"$f":"IF(LNW37=\"\",0,LEN(TRIM(LNW37))-LEN(SUBSTITUTE(TRIM(LNW37),\" \",\"\"))+1)","v":0},null,null,32,null,null,null,null,{"$f":"IF(LOE37=\"\",0,LEN(TRIM(LOE37))-LEN(SUBSTITUTE(TRIM(LOE37),\" \",\"\"))+1)","v":0},null,null,32,null,null,null,null,{"$f":"IF(LOM37=\"\",0,LEN(TRIM(LOM37))-LEN(SUBSTITUTE(TRIM(LOM37),\" \",\"\"))+1)","v":0},null,null,32,null,null,null,null,{"$f":"IF(LOU37=\"\",0,LEN(TRIM(LOU37))-LEN(SUBSTITUTE(TRIM(LOU37),\" \",\"\"))+1)","v":0},null,null,32,null,null,null,null,{"$f":"IF(LPC37=\"\",0,LEN(TRIM(LPC37))-LEN(SUBSTITUTE(TRIM(LPC37),\" \",\"\"))+1)","v":0},null,null,32,null,null,null,null,{"$f":"IF(LPK37=\"\",0,LEN(TRIM(LPK37))-LEN(SUBSTITUTE(TRIM(LPK37),\" \",\"\"))+1)","v":0},null,null,32,null,null,null,null,{"$f":"IF(LPS37=\"\",0,LEN(TRIM(LPS37))-LEN(SUBSTITUTE(TRIM(LPS37),\" \",\"\"))+1)","v":0},null,null,32,null,null,null,null,{"$f":"IF(LQA37=\"\",0,LEN(TRIM(LQA37))-LEN(SUBSTITUTE(TRIM(LQA37),\" \",\"\"))+1)","v":0},null,null,32,null,null,null,null,{"$f":"IF(LQI37=\"\",0,LEN(TRIM(LQI37))-LEN(SUBSTITUTE(TRIM(LQI37),\" \",\"\"))+1)","v":0},null,null,32,null,null,null,null,{"$f":"IF(LQQ37=\"\",0,LEN(TRIM(LQQ37))-LEN(SUBSTITUTE(TRIM(LQQ37),\" \",\"\"))+1)","v":0},null,null,32,null,null,null,null,{"$f":"IF(LQY37=\"\",0,LEN(TRIM(LQY37))-LEN(SUBSTITUTE(TRIM(LQY37),\" \",\"\"))+1)","v":0},null,null,32,null,null,null,null,{"$f":"IF(LRG37=\"\",0,LEN(TRIM(LRG37))-LEN(SUBSTITUTE(TRIM(LRG37),\" \",\"\"))+1)","v":0},null,null,32,null,null,null,null,{"$f":"IF(LRO37=\"\",0,LEN(TRIM(LRO37))-LEN(SUBSTITUTE(TRIM(LRO37),\" \",\"\"))+1)","v":0},null,null,32,null,null,null,null,{"$f":"IF(LRW37=\"\",0,LEN(TRIM(LRW37))-LEN(SUBSTITUTE(TRIM(LRW37),\" \",\"\"))+1)","v":0},null,null,32,null,null,null,null,{"$f":"IF(LSE37=\"\",0,LEN(TRIM(LSE37))-LEN(SUBSTITUTE(TRIM(LSE37),\" \",\"\"))+1)","v":0},null,null,32,null,null,null,null,{"$f":"IF(LSM37=\"\",0,LEN(TRIM(LSM37))-LEN(SUBSTITUTE(TRIM(LSM37),\" \",\"\"))+1)","v":0},null,null,32,null,null,null,null,{"$f":"IF(LSU37=\"\",0,LEN(TRIM(LSU37))-LEN(SUBSTITUTE(TRIM(LSU37),\" \",\"\"))+1)","v":0},null,null,32,null,null,null,null,{"$f":"IF(LTC37=\"\",0,LEN(TRIM(LTC37))-LEN(SUBSTITUTE(TRIM(LTC37),\" \",\"\"))+1)","v":0},null,null,32,null,null,null,null,{"$f":"IF(LTK37=\"\",0,LEN(TRIM(LTK37))-LEN(SUBSTITUTE(TRIM(LTK37),\" \",\"\"))+1)","v":0},null,null,32,null,null,null,null,{"$f":"IF(LTS37=\"\",0,LEN(TRIM(LTS37))-LEN(SUBSTITUTE(TRIM(LTS37),\" \",\"\"))+1)","v":0},null,null,32,null,null,null,null,{"$f":"IF(LUA37=\"\",0,LEN(TRIM(LUA37))-LEN(SUBSTITUTE(TRIM(LUA37),\" \",\"\"))+1)","v":0},null,null,32,null,null,null,null,{"$f":"IF(LUI37=\"\",0,LEN(TRIM(LUI37))-LEN(SUBSTITUTE(TRIM(LUI37),\" \",\"\"))+1)","v":0},null,null,32,null,null,null,null,{"$f":"IF(LUQ37=\"\",0,LEN(TRIM(LUQ37))-LEN(SUBSTITUTE(TRIM(LUQ37),\" \",\"\"))+1)","v":0},null,null,32,null,null,null,null,{"$f":"IF(LUY37=\"\",0,LEN(TRIM(LUY37))-LEN(SUBSTITUTE(TRIM(LUY37),\" \",\"\"))+1)","v":0},null,null,32,null,null,null,null,{"$f":"IF(LVG37=\"\",0,LEN(TRIM(LVG37))-LEN(SUBSTITUTE(TRIM(LVG37),\" \",\"\"))+1)","v":0},null,null,32,null,null,null,null,{"$f":"IF(LVO37=\"\",0,LEN(TRIM(LVO37))-LEN(SUBSTITUTE(TRIM(LVO37),\" \",\"\"))+1)","v":0},null,null,32,null,null,null,null,{"$f":"IF(LVW37=\"\",0,LEN(TRIM(LVW37))-LEN(SUBSTITUTE(TRIM(LVW37),\" \",\"\"))+1)","v":0},null,null,32,null,null,null,null,{"$f":"IF(LWE37=\"\",0,LEN(TRIM(LWE37))-LEN(SUBSTITUTE(TRIM(LWE37),\" \",\"\"))+1)","v":0},null,null,32,null,null,null,null,{"$f":"IF(LWM37=\"\",0,LEN(TRIM(LWM37))-LEN(SUBSTITUTE(TRIM(LWM37),\" \",\"\"))+1)","v":0},null,null,32,null,null,null,null,{"$f":"IF(LWU37=\"\",0,LEN(TRIM(LWU37))-LEN(SUBSTITUTE(TRIM(LWU37),\" \",\"\"))+1)","v":0},null,null,32,null,null,null,null,{"$f":"IF(LXC37=\"\",0,LEN(TRIM(LXC37))-LEN(SUBSTITUTE(TRIM(LXC37),\" \",\"\"))+1)","v":0},null,null,32,null,null,null,null,{"$f":"IF(LXK37=\"\",0,LEN(TRIM(LXK37))-LEN(SUBSTITUTE(TRIM(LXK37),\" \",\"\"))+1)","v":0},null,null,32,null,null,null,null,{"$f":"IF(LXS37=\"\",0,LEN(TRIM(LXS37))-LEN(SUBSTITUTE(TRIM(LXS37),\" \",\"\"))+1)","v":0},null,null,32,null,null,null,null,{"$f":"IF(LYA37=\"\",0,LEN(TRIM(LYA37))-LEN(SUBSTITUTE(TRIM(LYA37),\" \",\"\"))+1)","v":0},null,null,32,null,null,null,null,{"$f":"IF(LYI37=\"\",0,LEN(TRIM(LYI37))-LEN(SUBSTITUTE(TRIM(LYI37),\" \",\"\"))+1)","v":0},null,null,32,null,null,null,null,{"$f":"IF(LYQ37=\"\",0,LEN(TRIM(LYQ37))-LEN(SUBSTITUTE(TRIM(LYQ37),\" \",\"\"))+1)","v":0},null,null,32,null,null,null,null,{"$f":"IF(LYY37=\"\",0,LEN(TRIM(LYY37))-LEN(SUBSTITUTE(TRIM(LYY37),\" \",\"\"))+1)","v":0},null,null,32,null,null,null,null,{"$f":"IF(LZG37=\"\",0,LEN(TRIM(LZG37))-LEN(SUBSTITUTE(TRIM(LZG37),\" \",\"\"))+1)","v":0},null,null,32,null,null,null,null,{"$f":"IF(LZO37=\"\",0,LEN(TRIM(LZO37))-LEN(SUBSTITUTE(TRIM(LZO37),\" \",\"\"))+1)","v":0},null,null,32,null,null,null,null,{"$f":"IF(LZW37=\"\",0,LEN(TRIM(LZW37))-LEN(SUBSTITUTE(TRIM(LZW37),\" \",\"\"))+1)","v":0},null,null,32,null,null,null,null,{"$f":"IF(MAE37=\"\",0,LEN(TRIM(MAE37))-LEN(SUBSTITUTE(TRIM(MAE37),\" \",\"\"))+1)","v":0},null,null,32,null,null,null,null,{"$f":"IF(MAM37=\"\",0,LEN(TRIM(MAM37))-LEN(SUBSTITUTE(TRIM(MAM37),\" \",\"\"))+1)","v":0},null,null,32,null,null,null,null,{"$f":"IF(MAU37=\"\",0,LEN(TRIM(MAU37))-LEN(SUBSTITUTE(TRIM(MAU37),\" \",\"\"))+1)","v":0},null,null,32,null,null,null,null,{"$f":"IF(MBC37=\"\",0,LEN(TRIM(MBC37))-LEN(SUBSTITUTE(TRIM(MBC37),\" \",\"\"))+1)","v":0},null,null,32,null,null,null,null,{"$f":"IF(MBK37=\"\",0,LEN(TRIM(MBK37))-LEN(SUBSTITUTE(TRIM(MBK37),\" \",\"\"))+1)","v":0},null,null,32,null,null,null,null,{"$f":"IF(MBS37=\"\",0,LEN(TRIM(MBS37))-LEN(SUBSTITUTE(TRIM(MBS37),\" \",\"\"))+1)","v":0},null,null,32,null,null,null,null,{"$f":"IF(MCA37=\"\",0,LEN(TRIM(MCA37))-LEN(SUBSTITUTE(TRIM(MCA37),\" \",\"\"))+1)","v":0},null,null,32,null,null,null,null,{"$f":"IF(MCI37=\"\",0,LEN(TRIM(MCI37))-LEN(SUBSTITUTE(TRIM(MCI37),\" \",\"\"))+1)","v":0},null,null,32,null,null,null,null,{"$f":"IF(MCQ37=\"\",0,LEN(TRIM(MCQ37))-LEN(SUBSTITUTE(TRIM(MCQ37),\" \",\"\"))+1)","v":0},null,null,32,null,null,null,null,{"$f":"IF(MCY37=\"\",0,LEN(TRIM(MCY37))-LEN(SUBSTITUTE(TRIM(MCY37),\" \",\"\"))+1)","v":0},null,null,32,null,null,null,null,{"$f":"IF(MDG37=\"\",0,LEN(TRIM(MDG37))-LEN(SUBSTITUTE(TRIM(MDG37),\" \",\"\"))+1)","v":0},null,null,32,null,null,null,null,{"$f":"IF(MDO37=\"\",0,LEN(TRIM(MDO37))-LEN(SUBSTITUTE(TRIM(MDO37),\" \",\"\"))+1)","v":0},null,null,32,null,null,null,null,{"$f":"IF(MDW37=\"\",0,LEN(TRIM(MDW37))-LEN(SUBSTITUTE(TRIM(MDW37),\" \",\"\"))+1)","v":0},null,null,32,null,null,null,null,{"$f":"IF(MEE37=\"\",0,LEN(TRIM(MEE37))-LEN(SUBSTITUTE(TRIM(MEE37),\" \",\"\"))+1)","v":0},null,null,32,null,null,null,null,{"$f":"IF(MEM37=\"\",0,LEN(TRIM(MEM37))-LEN(SUBSTITUTE(TRIM(MEM37),\" \",\"\"))+1)","v":0},null,null,32,null,null,null,null,{"$f":"IF(MEU37=\"\",0,LEN(TRIM(MEU37))-LEN(SUBSTITUTE(TRIM(MEU37),\" \",\"\"))+1)","v":0},null,null,32,null,null,null,null,{"$f":"IF(MFC37=\"\",0,LEN(TRIM(MFC37))-LEN(SUBSTITUTE(TRIM(MFC37),\" \",\"\"))+1)","v":0},null,null,32,null,null,null,null,{"$f":"IF(MFK37=\"\",0,LEN(TRIM(MFK37))-LEN(SUBSTITUTE(TRIM(MFK37),\" \",\"\"))+1)","v":0},null,null,32,null,null,null,null,{"$f":"IF(MFS37=\"\",0,LEN(TRIM(MFS37))-LEN(SUBSTITUTE(TRIM(MFS37),\" \",\"\"))+1)","v":0},null,null,32,null,null,null,null,{"$f":"IF(MGA37=\"\",0,LEN(TRIM(MGA37))-LEN(SUBSTITUTE(TRIM(MGA37),\" \",\"\"))+1)","v":0},null,null,32,null,null,null,null,{"$f":"IF(MGI37=\"\",0,LEN(TRIM(MGI37))-LEN(SUBSTITUTE(TRIM(MGI37),\" \",\"\"))+1)","v":0},null,null,32,null,null,null,null,{"$f":"IF(MGQ37=\"\",0,LEN(TRIM(MGQ37))-LEN(SUBSTITUTE(TRIM(MGQ37),\" \",\"\"))+1)","v":0},null,null,32,null,null,null,null,{"$f":"IF(MGY37=\"\",0,LEN(TRIM(MGY37))-LEN(SUBSTITUTE(TRIM(MGY37),\" \",\"\"))+1)","v":0},null,null,32,null,null,null,null,{"$f":"IF(MHG37=\"\",0,LEN(TRIM(MHG37))-LEN(SUBSTITUTE(TRIM(MHG37),\" \",\"\"))+1)","v":0},null,null,32,null,null,null,null,{"$f":"IF(MHO37=\"\",0,LEN(TRIM(MHO37))-LEN(SUBSTITUTE(TRIM(MHO37),\" \",\"\"))+1)","v":0},null,null,32,null,null,null,null,{"$f":"IF(MHW37=\"\",0,LEN(TRIM(MHW37))-LEN(SUBSTITUTE(TRIM(MHW37),\" \",\"\"))+1)","v":0},null,null,32,null,null,null,null,{"$f":"IF(MIE37=\"\",0,LEN(TRIM(MIE37))-LEN(SUBSTITUTE(TRIM(MIE37),\" \",\"\"))+1)","v":0},null,null,32,null,null,null,null,{"$f":"IF(MIM37=\"\",0,LEN(TRIM(MIM37))-LEN(SUBSTITUTE(TRIM(MIM37),\" \",\"\"))+1)","v":0},null,null,32,null,null,null,null,{"$f":"IF(MIU37=\"\",0,LEN(TRIM(MIU37))-LEN(SUBSTITUTE(TRIM(MIU37),\" \",\"\"))+1)","v":0},null,null,32,null,null,null,null,{"$f":"IF(MJC37=\"\",0,LEN(TRIM(MJC37))-LEN(SUBSTITUTE(TRIM(MJC37),\" \",\"\"))+1)","v":0},null,null,32,null,null,null,null,{"$f":"IF(MJK37=\"\",0,LEN(TRIM(MJK37))-LEN(SUBSTITUTE(TRIM(MJK37),\" \",\"\"))+1)","v":0},null,null,32,null,null,null,null,{"$f":"IF(MJS37=\"\",0,LEN(TRIM(MJS37))-LEN(SUBSTITUTE(TRIM(MJS37),\" \",\"\"))+1)","v":0},null,null,32,null,null,null,null,{"$f":"IF(MKA37=\"\",0,LEN(TRIM(MKA37))-LEN(SUBSTITUTE(TRIM(MKA37),\" \",\"\"))+1)","v":0},null,null,32,null,null,null,null,{"$f":"IF(MKI37=\"\",0,LEN(TRIM(MKI37))-LEN(SUBSTITUTE(TRIM(MKI37),\" \",\"\"))+1)","v":0},null,null,32,null,null,null,null,{"$f":"IF(MKQ37=\"\",0,LEN(TRIM(MKQ37))-LEN(SUBSTITUTE(TRIM(MKQ37),\" \",\"\"))+1)","v":0},null,null,32,null,null,null,null,{"$f":"IF(MKY37=\"\",0,LEN(TRIM(MKY37))-LEN(SUBSTITUTE(TRIM(MKY37),\" \",\"\"))+1)","v":0},null,null,32,null,null,null,null,{"$f":"IF(MLG37=\"\",0,LEN(TRIM(MLG37))-LEN(SUBSTITUTE(TRIM(MLG37),\" \",\"\"))+1)","v":0},null,null,32,null,null,null,null,{"$f":"IF(MLO37=\"\",0,LEN(TRIM(MLO37))-LEN(SUBSTITUTE(TRIM(MLO37),\" \",\"\"))+1)","v":0},null,null,32,null,null,null,null,{"$f":"IF(MLW37=\"\",0,LEN(TRIM(MLW37))-LEN(SUBSTITUTE(TRIM(MLW37),\" \",\"\"))+1)","v":0},null,null,32,null,null,null,null,{"$f":"IF(MME37=\"\",0,LEN(TRIM(MME37))-LEN(SUBSTITUTE(TRIM(MME37),\" \",\"\"))+1)","v":0},null,null,32,null,null,null,null,{"$f":"IF(MMM37=\"\",0,LEN(TRIM(MMM37))-LEN(SUBSTITUTE(TRIM(MMM37),\" \",\"\"))+1)","v":0},null,null,32,null,null,null,null,{"$f":"IF(MMU37=\"\",0,LEN(TRIM(MMU37))-LEN(SUBSTITUTE(TRIM(MMU37),\" \",\"\"))+1)","v":0},null,null,32,null,null,null,null,{"$f":"IF(MNC37=\"\",0,LEN(TRIM(MNC37))-LEN(SUBSTITUTE(TRIM(MNC37),\" \",\"\"))+1)","v":0},null,null,32,null,null,null,null,{"$f":"IF(MNK37=\"\",0,LEN(TRIM(MNK37))-LEN(SUBSTITUTE(TRIM(MNK37),\" \",\"\"))+1)","v":0},null,null,32,null,null,null,null,{"$f":"IF(MNS37=\"\",0,LEN(TRIM(MNS37))-LEN(SUBSTITUTE(TRIM(MNS37),\" \",\"\"))+1)","v":0},null,null,32,null,null,null,null,{"$f":"IF(MOA37=\"\",0,LEN(TRIM(MOA37))-LEN(SUBSTITUTE(TRIM(MOA37),\" \",\"\"))+1)","v":0},null,null,32,null,null,null,null,{"$f":"IF(MOI37=\"\",0,LEN(TRIM(MOI37))-LEN(SUBSTITUTE(TRIM(MOI37),\" \",\"\"))+1)","v":0},null,null,32,null,null,null,null,{"$f":"IF(MOQ37=\"\",0,LEN(TRIM(MOQ37))-LEN(SUBSTITUTE(TRIM(MOQ37),\" \",\"\"))+1)","v":0},null,null,32,null,null,null,null,{"$f":"IF(MOY37=\"\",0,LEN(TRIM(MOY37))-LEN(SUBSTITUTE(TRIM(MOY37),\" \",\"\"))+1)","v":0},null,null,32,null,null,null,null,{"$f":"IF(MPG37=\"\",0,LEN(TRIM(MPG37))-LEN(SUBSTITUTE(TRIM(MPG37),\" \",\"\"))+1)","v":0},null,null,32,null,null,null,null,{"$f":"IF(MPO37=\"\",0,LEN(TRIM(MPO37))-LEN(SUBSTITUTE(TRIM(MPO37),\" \",\"\"))+1)","v":0},null,null,32,null,null,null,null,{"$f":"IF(MPW37=\"\",0,LEN(TRIM(MPW37))-LEN(SUBSTITUTE(TRIM(MPW37),\" \",\"\"))+1)","v":0},null,null,32,null,null,null,null,{"$f":"IF(MQE37=\"\",0,LEN(TRIM(MQE37))-LEN(SUBSTITUTE(TRIM(MQE37),\" \",\"\"))+1)","v":0},null,null,32,null,null,null,null,{"$f":"IF(MQM37=\"\",0,LEN(TRIM(MQM37))-LEN(SUBSTITUTE(TRIM(MQM37),\" \",\"\"))+1)","v":0},null,null,32,null,null,null,null,{"$f":"IF(MQU37=\"\",0,LEN(TRIM(MQU37))-LEN(SUBSTITUTE(TRIM(MQU37),\" \",\"\"))+1)","v":0},null,null,32,null,null,null,null,{"$f":"IF(MRC37=\"\",0,LEN(TRIM(MRC37))-LEN(SUBSTITUTE(TRIM(MRC37),\" \",\"\"))+1)","v":0},null,null,32,null,null,null,null,{"$f":"IF(MRK37=\"\",0,LEN(TRIM(MRK37))-LEN(SUBSTITUTE(TRIM(MRK37),\" \",\"\"))+1)","v":0},null,null,32,null,null,null,null,{"$f":"IF(MRS37=\"\",0,LEN(TRIM(MRS37))-LEN(SUBSTITUTE(TRIM(MRS37),\" \",\"\"))+1)","v":0},null,null,32,null,null,null,null,{"$f":"IF(MSA37=\"\",0,LEN(TRIM(MSA37))-LEN(SUBSTITUTE(TRIM(MSA37),\" \",\"\"))+1)","v":0},null,null,32,null,null,null,null,{"$f":"IF(MSI37=\"\",0,LEN(TRIM(MSI37))-LEN(SUBSTITUTE(TRIM(MSI37),\" \",\"\"))+1)","v":0},null,null,32,null,null,null,null,{"$f":"IF(MSQ37=\"\",0,LEN(TRIM(MSQ37))-LEN(SUBSTITUTE(TRIM(MSQ37),\" \",\"\"))+1)","v":0},null,null,32,null,null,null,null,{"$f":"IF(MSY37=\"\",0,LEN(TRIM(MSY37))-LEN(SUBSTITUTE(TRIM(MSY37),\" \",\"\"))+1)","v":0},null,null,32,null,null,null,null,{"$f":"IF(MTG37=\"\",0,LEN(TRIM(MTG37))-LEN(SUBSTITUTE(TRIM(MTG37),\" \",\"\"))+1)","v":0},null,null,32,null,null,null,null,{"$f":"IF(MTO37=\"\",0,LEN(TRIM(MTO37))-LEN(SUBSTITUTE(TRIM(MTO37),\" \",\"\"))+1)","v":0},null,null,32,null,null,null,null,{"$f":"IF(MTW37=\"\",0,LEN(TRIM(MTW37))-LEN(SUBSTITUTE(TRIM(MTW37),\" \",\"\"))+1)","v":0},null,null,32,null,null,null,null,{"$f":"IF(MUE37=\"\",0,LEN(TRIM(MUE37))-LEN(SUBSTITUTE(TRIM(MUE37),\" \",\"\"))+1)","v":0},null,null,32,null,null,null,null,{"$f":"IF(MUM37=\"\",0,LEN(TRIM(MUM37))-LEN(SUBSTITUTE(TRIM(MUM37),\" \",\"\"))+1)","v":0},null,null,32,null,null,null,null,{"$f":"IF(MUU37=\"\",0,LEN(TRIM(MUU37))-LEN(SUBSTITUTE(TRIM(MUU37),\" \",\"\"))+1)","v":0},null,null,32,null,null,null,null,{"$f":"IF(MVC37=\"\",0,LEN(TRIM(MVC37))-LEN(SUBSTITUTE(TRIM(MVC37),\" \",\"\"))+1)","v":0},null,null,32,null,null,null,null,{"$f":"IF(MVK37=\"\",0,LEN(TRIM(MVK37))-LEN(SUBSTITUTE(TRIM(MVK37),\" \",\"\"))+1)","v":0},null,null,32,null,null,null,null,{"$f":"IF(MVS37=\"\",0,LEN(TRIM(MVS37))-LEN(SUBSTITUTE(TRIM(MVS37),\" \",\"\"))+1)","v":0},null,null,32,null,null,null,null,{"$f":"IF(MWA37=\"\",0,LEN(TRIM(MWA37))-LEN(SUBSTITUTE(TRIM(MWA37),\" \",\"\"))+1)","v":0},null,null,32,null,null,null,null,{"$f":"IF(MWI37=\"\",0,LEN(TRIM(MWI37))-LEN(SUBSTITUTE(TRIM(MWI37),\" \",\"\"))+1)","v":0},null,null,32,null,null,null,null,{"$f":"IF(MWQ37=\"\",0,LEN(TRIM(MWQ37))-LEN(SUBSTITUTE(TRIM(MWQ37),\" \",\"\"))+1)","v":0},null,null,32,null,null,null,null,{"$f":"IF(MWY37=\"\",0,LEN(TRIM(MWY37))-LEN(SUBSTITUTE(TRIM(MWY37),\" \",\"\"))+1)","v":0},null,null,32,null,null,null,null,{"$f":"IF(MXG37=\"\",0,LEN(TRIM(MXG37))-LEN(SUBSTITUTE(TRIM(MXG37),\" \",\"\"))+1)","v":0},null,null,32,null,null,null,null,{"$f":"IF(MXO37=\"\",0,LEN(TRIM(MXO37))-LEN(SUBSTITUTE(TRIM(MXO37),\" \",\"\"))+1)","v":0},null,null,32,null,null,null,null,{"$f":"IF(MXW37=\"\",0,LEN(TRIM(MXW37))-LEN(SUBSTITUTE(TRIM(MXW37),\" \",\"\"))+1)","v":0},null,null,32,null,null,null,null,{"$f":"IF(MYE37=\"\",0,LEN(TRIM(MYE37))-LEN(SUBSTITUTE(TRIM(MYE37),\" \",\"\"))+1)","v":0},null,null,32,null,null,null,null,{"$f":"IF(MYM37=\"\",0,LEN(TRIM(MYM37))-LEN(SUBSTITUTE(TRIM(MYM37),\" \",\"\"))+1)","v":0},null,null,32,null,null,null,null,{"$f":"IF(MYU37=\"\",0,LEN(TRIM(MYU37))-LEN(SUBSTITUTE(TRIM(MYU37),\" \",\"\"))+1)","v":0},null,null,32,null,null,null,null,{"$f":"IF(MZC37=\"\",0,LEN(TRIM(MZC37))-LEN(SUBSTITUTE(TRIM(MZC37),\" \",\"\"))+1)","v":0},null,null,32,null,null,null,null,{"$f":"IF(MZK37=\"\",0,LEN(TRIM(MZK37))-LEN(SUBSTITUTE(TRIM(MZK37),\" \",\"\"))+1)","v":0},null,null,32,null,null,null,null,{"$f":"IF(MZS37=\"\",0,LEN(TRIM(MZS37))-LEN(SUBSTITUTE(TRIM(MZS37),\" \",\"\"))+1)","v":0},null,null,32,null,null,null,null,{"$f":"IF(NAA37=\"\",0,LEN(TRIM(NAA37))-LEN(SUBSTITUTE(TRIM(NAA37),\" \",\"\"))+1)","v":0},null,null,32,null,null,null,null,{"$f":"IF(NAI37=\"\",0,LEN(TRIM(NAI37))-LEN(SUBSTITUTE(TRIM(NAI37),\" \",\"\"))+1)","v":0},null,null,32,null,null,null,null,{"$f":"IF(NAQ37=\"\",0,LEN(TRIM(NAQ37))-LEN(SUBSTITUTE(TRIM(NAQ37),\" \",\"\"))+1)","v":0},null,null,32,null,null,null,null,{"$f":"IF(NAY37=\"\",0,LEN(TRIM(NAY37))-LEN(SUBSTITUTE(TRIM(NAY37),\" \",\"\"))+1)","v":0},null,null,32,null,null,null,null,{"$f":"IF(NBG37=\"\",0,LEN(TRIM(NBG37))-LEN(SUBSTITUTE(TRIM(NBG37),\" \",\"\"))+1)","v":0},null,null,32,null,null,null,null,{"$f":"IF(NBO37=\"\",0,LEN(TRIM(NBO37))-LEN(SUBSTITUTE(TRIM(NBO37),\" \",\"\"))+1)","v":0},null,null,32,null,null,null,null,{"$f":"IF(NBW37=\"\",0,LEN(TRIM(NBW37))-LEN(SUBSTITUTE(TRIM(NBW37),\" \",\"\"))+1)","v":0},null,null,32,null,null,null,null,{"$f":"IF(NCE37=\"\",0,LEN(TRIM(NCE37))-LEN(SUBSTITUTE(TRIM(NCE37),\" \",\"\"))+1)","v":0},null,null,32,null,null,null,null,{"$f":"IF(NCM37=\"\",0,LEN(TRIM(NCM37))-LEN(SUBSTITUTE(TRIM(NCM37),\" \",\"\"))+1)","v":0},null,null,32,null,null,null,null,{"$f":"IF(NCU37=\"\",0,LEN(TRIM(NCU37))-LEN(SUBSTITUTE(TRIM(NCU37),\" \",\"\"))+1)","v":0},null,null,32,null,null,null,null,{"$f":"IF(NDC37=\"\",0,LEN(TRIM(NDC37))-LEN(SUBSTITUTE(TRIM(NDC37),\" \",\"\"))+1)","v":0},null,null,32,null,null,null,null,{"$f":"IF(NDK37=\"\",0,LEN(TRIM(NDK37))-LEN(SUBSTITUTE(TRIM(NDK37),\" \",\"\"))+1)","v":0},null,null,32,null,null,null,null,{"$f":"IF(NDS37=\"\",0,LEN(TRIM(NDS37))-LEN(SUBSTITUTE(TRIM(NDS37),\" \",\"\"))+1)","v":0},null,null,32,null,null,null,null,{"$f":"IF(NEA37=\"\",0,LEN(TRIM(NEA37))-LEN(SUBSTITUTE(TRIM(NEA37),\" \",\"\"))+1)","v":0},null,null,32,null,null,null,null,{"$f":"IF(NEI37=\"\",0,LEN(TRIM(NEI37))-LEN(SUBSTITUTE(TRIM(NEI37),\" \",\"\"))+1)","v":0},null,null,32,null,null,null,null,{"$f":"IF(NEQ37=\"\",0,LEN(TRIM(NEQ37))-LEN(SUBSTITUTE(TRIM(NEQ37),\" \",\"\"))+1)","v":0},null,null,32,null,null,null,null,{"$f":"IF(NEY37=\"\",0,LEN(TRIM(NEY37))-LEN(SUBSTITUTE(TRIM(NEY37),\" \",\"\"))+1)","v":0},null,null,32,null,null,null,null,{"$f":"IF(NFG37=\"\",0,LEN(TRIM(NFG37))-LEN(SUBSTITUTE(TRIM(NFG37),\" \",\"\"))+1)","v":0},null,null,32,null,null,null,null,{"$f":"IF(NFO37=\"\",0,LEN(TRIM(NFO37))-LEN(SUBSTITUTE(TRIM(NFO37),\" \",\"\"))+1)","v":0},null,null,32,null,null,null,null,{"$f":"IF(NFW37=\"\",0,LEN(TRIM(NFW37))-LEN(SUBSTITUTE(TRIM(NFW37),\" \",\"\"))+1)","v":0},null,null,32,null,null,null,null,{"$f":"IF(NGE37=\"\",0,LEN(TRIM(NGE37))-LEN(SUBSTITUTE(TRIM(NGE37),\" \",\"\"))+1)","v":0},null,null,32,null,null,null,null,{"$f":"IF(NGM37=\"\",0,LEN(TRIM(NGM37))-LEN(SUBSTITUTE(TRIM(NGM37),\" \",\"\"))+1)","v":0},null,null,32,null,null,null,null,{"$f":"IF(NGU37=\"\",0,LEN(TRIM(NGU37))-LEN(SUBSTITUTE(TRIM(NGU37),\" \",\"\"))+1)","v":0},null,null,32,null,null,null,null,{"$f":"IF(NHC37=\"\",0,LEN(TRIM(NHC37))-LEN(SUBSTITUTE(TRIM(NHC37),\" \",\"\"))+1)","v":0},null,null,32,null,null,null,null,{"$f":"IF(NHK37=\"\",0,LEN(TRIM(NHK37))-LEN(SUBSTITUTE(TRIM(NHK37),\" \",\"\"))+1)","v":0},null,null,32,null,null,null,null,{"$f":"IF(NHS37=\"\",0,LEN(TRIM(NHS37))-LEN(SUBSTITUTE(TRIM(NHS37),\" \",\"\"))+1)","v":0},null,null,32,null,null,null,null,{"$f":"IF(NIA37=\"\",0,LEN(TRIM(NIA37))-LEN(SUBSTITUTE(TRIM(NIA37),\" \",\"\"))+1)","v":0},null,null,32,null,null,null,null,{"$f":"IF(NII37=\"\",0,LEN(TRIM(NII37))-LEN(SUBSTITUTE(TRIM(NII37),\" \",\"\"))+1)","v":0},null,null,32,null,null,null,null,{"$f":"IF(NIQ37=\"\",0,LEN(TRIM(NIQ37))-LEN(SUBSTITUTE(TRIM(NIQ37),\" \",\"\"))+1)","v":0},null,null,32,null,null,null,null,{"$f":"IF(NIY37=\"\",0,LEN(TRIM(NIY37))-LEN(SUBSTITUTE(TRIM(NIY37),\" \",\"\"))+1)","v":0},null,null,32,null,null,null,null,{"$f":"IF(NJG37=\"\",0,LEN(TRIM(NJG37))-LEN(SUBSTITUTE(TRIM(NJG37),\" \",\"\"))+1)","v":0},null,null,32,null,null,null,null,{"$f":"IF(NJO37=\"\",0,LEN(TRIM(NJO37))-LEN(SUBSTITUTE(TRIM(NJO37),\" \",\"\"))+1)","v":0},null,null,32,null,null,null,null,{"$f":"IF(NJW37=\"\",0,LEN(TRIM(NJW37))-LEN(SUBSTITUTE(TRIM(NJW37),\" \",\"\"))+1)","v":0},null,null,32,null,null,null,null,{"$f":"IF(NKE37=\"\",0,LEN(TRIM(NKE37))-LEN(SUBSTITUTE(TRIM(NKE37),\" \",\"\"))+1)","v":0},null,null,32,null,null,null,null,{"$f":"IF(NKM37=\"\",0,LEN(TRIM(NKM37))-LEN(SUBSTITUTE(TRIM(NKM37),\" \",\"\"))+1)","v":0},null,null,32,null,null,null,null,{"$f":"IF(NKU37=\"\",0,LEN(TRIM(NKU37))-LEN(SUBSTITUTE(TRIM(NKU37),\" \",\"\"))+1)","v":0},null,null,32,null,null,null,null,{"$f":"IF(NLC37=\"\",0,LEN(TRIM(NLC37))-LEN(SUBSTITUTE(TRIM(NLC37),\" \",\"\"))+1)","v":0},null,null,32,null,null,null,null,{"$f":"IF(NLK37=\"\",0,LEN(TRIM(NLK37))-LEN(SUBSTITUTE(TRIM(NLK37),\" \",\"\"))+1)","v":0},null,null,32,null,null,null,null,{"$f":"IF(NLS37=\"\",0,LEN(TRIM(NLS37))-LEN(SUBSTITUTE(TRIM(NLS37),\" \",\"\"))+1)","v":0},null,null,32,null,null,null,null,{"$f":"IF(NMA37=\"\",0,LEN(TRIM(NMA37))-LEN(SUBSTITUTE(TRIM(NMA37),\" \",\"\"))+1)","v":0},null,null,32,null,null,null,null,{"$f":"IF(NMI37=\"\",0,LEN(TRIM(NMI37))-LEN(SUBSTITUTE(TRIM(NMI37),\" \",\"\"))+1)","v":0},null,null,32,null,null,null,null,{"$f":"IF(NMQ37=\"\",0,LEN(TRIM(NMQ37))-LEN(SUBSTITUTE(TRIM(NMQ37),\" \",\"\"))+1)","v":0},null,null,32,null,null,null,null,{"$f":"IF(NMY37=\"\",0,LEN(TRIM(NMY37))-LEN(SUBSTITUTE(TRIM(NMY37),\" \",\"\"))+1)","v":0},null,null,32,null,null,null,null,{"$f":"IF(NNG37=\"\",0,LEN(TRIM(NNG37))-LEN(SUBSTITUTE(TRIM(NNG37),\" \",\"\"))+1)","v":0},null,null,32,null,null,null,null,{"$f":"IF(NNO37=\"\",0,LEN(TRIM(NNO37))-LEN(SUBSTITUTE(TRIM(NNO37),\" \",\"\"))+1)","v":0},null,null,32,null,null,null,null,{"$f":"IF(NNW37=\"\",0,LEN(TRIM(NNW37))-LEN(SUBSTITUTE(TRIM(NNW37),\" \",\"\"))+1)","v":0},null,null,32,null,null,null,null,{"$f":"IF(NOE37=\"\",0,LEN(TRIM(NOE37))-LEN(SUBSTITUTE(TRIM(NOE37),\" \",\"\"))+1)","v":0},null,null,32,null,null,null,null,{"$f":"IF(NOM37=\"\",0,LEN(TRIM(NOM37))-LEN(SUBSTITUTE(TRIM(NOM37),\" \",\"\"))+1)","v":0},null,null,32,null,null,null,null,{"$f":"IF(NOU37=\"\",0,LEN(TRIM(NOU37))-LEN(SUBSTITUTE(TRIM(NOU37),\" \",\"\"))+1)","v":0},null,null,32,null,null,null,null,{"$f":"IF(NPC37=\"\",0,LEN(TRIM(NPC37))-LEN(SUBSTITUTE(TRIM(NPC37),\" \",\"\"))+1)","v":0},null,null,32,null,null,null,null,{"$f":"IF(NPK37=\"\",0,LEN(TRIM(NPK37))-LEN(SUBSTITUTE(TRIM(NPK37),\" \",\"\"))+1)","v":0},null,null,32,null,null,null,null,{"$f":"IF(NPS37=\"\",0,LEN(TRIM(NPS37))-LEN(SUBSTITUTE(TRIM(NPS37),\" \",\"\"))+1)","v":0},null,null,32,null,null,null,null,{"$f":"IF(NQA37=\"\",0,LEN(TRIM(NQA37))-LEN(SUBSTITUTE(TRIM(NQA37),\" \",\"\"))+1)","v":0},null,null,32,null,null,null,null,{"$f":"IF(NQI37=\"\",0,LEN(TRIM(NQI37))-LEN(SUBSTITUTE(TRIM(NQI37),\" \",\"\"))+1)","v":0},null,null,32,null,null,null,null,{"$f":"IF(NQQ37=\"\",0,LEN(TRIM(NQQ37))-LEN(SUBSTITUTE(TRIM(NQQ37),\" \",\"\"))+1)","v":0},null,null,32,null,null,null,null,{"$f":"IF(NQY37=\"\",0,LEN(TRIM(NQY37))-LEN(SUBSTITUTE(TRIM(NQY37),\" \",\"\"))+1)","v":0},null,null,32,null,null,null,null,{"$f":"IF(NRG37=\"\",0,LEN(TRIM(NRG37))-LEN(SUBSTITUTE(TRIM(NRG37),\" \",\"\"))+1)","v":0},null,null,32,null,null,null,null,{"$f":"IF(NRO37=\"\",0,LEN(TRIM(NRO37))-LEN(SUBSTITUTE(TRIM(NRO37),\" \",\"\"))+1)","v":0},null,null,32,null,null,null,null,{"$f":"IF(NRW37=\"\",0,LEN(TRIM(NRW37))-LEN(SUBSTITUTE(TRIM(NRW37),\" \",\"\"))+1)","v":0},null,null,32,null,null,null,null,{"$f":"IF(NSE37=\"\",0,LEN(TRIM(NSE37))-LEN(SUBSTITUTE(TRIM(NSE37),\" \",\"\"))+1)","v":0},null,null,32,null,null,null,null,{"$f":"IF(NSM37=\"\",0,LEN(TRIM(NSM37))-LEN(SUBSTITUTE(TRIM(NSM37),\" \",\"\"))+1)","v":0},null,null,32,null,null,null,null,{"$f":"IF(NSU37=\"\",0,LEN(TRIM(NSU37))-LEN(SUBSTITUTE(TRIM(NSU37),\" \",\"\"))+1)","v":0},null,null,32,null,null,null,null,{"$f":"IF(NTC37=\"\",0,LEN(TRIM(NTC37))-LEN(SUBSTITUTE(TRIM(NTC37),\" \",\"\"))+1)","v":0},null,null,32,null,null,null,null,{"$f":"IF(NTK37=\"\",0,LEN(TRIM(NTK37))-LEN(SUBSTITUTE(TRIM(NTK37),\" \",\"\"))+1)","v":0},null,null,32,null,null,null,null,{"$f":"IF(NTS37=\"\",0,LEN(TRIM(NTS37))-LEN(SUBSTITUTE(TRIM(NTS37),\" \",\"\"))+1)","v":0},null,null,32,null,null,null,null,{"$f":"IF(NUA37=\"\",0,LEN(TRIM(NUA37))-LEN(SUBSTITUTE(TRIM(NUA37),\" \",\"\"))+1)","v":0},null,null,32,null,null,null,null,{"$f":"IF(NUI37=\"\",0,LEN(TRIM(NUI37))-LEN(SUBSTITUTE(TRIM(NUI37),\" \",\"\"))+1)","v":0},null,null,32,null,null,null,null,{"$f":"IF(NUQ37=\"\",0,LEN(TRIM(NUQ37))-LEN(SUBSTITUTE(TRIM(NUQ37),\" \",\"\"))+1)","v":0},null,null,32,null,null,null,null,{"$f":"IF(NUY37=\"\",0,LEN(TRIM(NUY37))-LEN(SUBSTITUTE(TRIM(NUY37),\" \",\"\"))+1)","v":0},null,null,32,null,null,null,null,{"$f":"IF(NVG37=\"\",0,LEN(TRIM(NVG37))-LEN(SUBSTITUTE(TRIM(NVG37),\" \",\"\"))+1)","v":0},null,null,32,null,null,null,null,{"$f":"IF(NVO37=\"\",0,LEN(TRIM(NVO37))-LEN(SUBSTITUTE(TRIM(NVO37),\" \",\"\"))+1)","v":0},null,null,32,null,null,null,null,{"$f":"IF(NVW37=\"\",0,LEN(TRIM(NVW37))-LEN(SUBSTITUTE(TRIM(NVW37),\" \",\"\"))+1)","v":0},null,null,32,null,null,null,null,{"$f":"IF(NWE37=\"\",0,LEN(TRIM(NWE37))-LEN(SUBSTITUTE(TRIM(NWE37),\" \",\"\"))+1)","v":0},null,null,32,null,null,null,null,{"$f":"IF(NWM37=\"\",0,LEN(TRIM(NWM37))-LEN(SUBSTITUTE(TRIM(NWM37),\" \",\"\"))+1)","v":0},null,null,32,null,null,null,null,{"$f":"IF(NWU37=\"\",0,LEN(TRIM(NWU37))-LEN(SUBSTITUTE(TRIM(NWU37),\" \",\"\"))+1)","v":0},null,null,32,null,null,null,null,{"$f":"IF(NXC37=\"\",0,LEN(TRIM(NXC37))-LEN(SUBSTITUTE(TRIM(NXC37),\" \",\"\"))+1)","v":0},null,null,32,null,null,null,null,{"$f":"IF(NXK37=\"\",0,LEN(TRIM(NXK37))-LEN(SUBSTITUTE(TRIM(NXK37),\" \",\"\"))+1)","v":0},null,null,32,null,null,null,null,{"$f":"IF(NXS37=\"\",0,LEN(TRIM(NXS37))-LEN(SUBSTITUTE(TRIM(NXS37),\" \",\"\"))+1)","v":0},null,null,32,null,null,null,null,{"$f":"IF(NYA37=\"\",0,LEN(TRIM(NYA37))-LEN(SUBSTITUTE(TRIM(NYA37),\" \",\"\"))+1)","v":0},null,null,32,null,null,null,null,{"$f":"IF(NYI37=\"\",0,LEN(TRIM(NYI37))-LEN(SUBSTITUTE(TRIM(NYI37),\" \",\"\"))+1)","v":0},null,null,32,null,null,null,null,{"$f":"IF(NYQ37=\"\",0,LEN(TRIM(NYQ37))-LEN(SUBSTITUTE(TRIM(NYQ37),\" \",\"\"))+1)","v":0},null,null,32,null,null,null,null,{"$f":"IF(NYY37=\"\",0,LEN(TRIM(NYY37))-LEN(SUBSTITUTE(TRIM(NYY37),\" \",\"\"))+1)","v":0},null,null,32,null,null,null,null,{"$f":"IF(NZG37=\"\",0,LEN(TRIM(NZG37))-LEN(SUBSTITUTE(TRIM(NZG37),\" \",\"\"))+1)","v":0},null,null,32,null,null,null,null,{"$f":"IF(NZO37=\"\",0,LEN(TRIM(NZO37))-LEN(SUBSTITUTE(TRIM(NZO37),\" \",\"\"))+1)","v":0},null,null,32,null,null,null,null,{"$f":"IF(NZW37=\"\",0,LEN(TRIM(NZW37))-LEN(SUBSTITUTE(TRIM(NZW37),\" \",\"\"))+1)","v":0},null,null,32,null,null,null,null,{"$f":"IF(OAE37=\"\",0,LEN(TRIM(OAE37))-LEN(SUBSTITUTE(TRIM(OAE37),\" \",\"\"))+1)","v":0},null,null,32,null,null,null,null,{"$f":"IF(OAM37=\"\",0,LEN(TRIM(OAM37))-LEN(SUBSTITUTE(TRIM(OAM37),\" \",\"\"))+1)","v":0},null,null,32,null,null,null,null,{"$f":"IF(OAU37=\"\",0,LEN(TRIM(OAU37))-LEN(SUBSTITUTE(TRIM(OAU37),\" \",\"\"))+1)","v":0},null,null,32,null,null,null,null,{"$f":"IF(OBC37=\"\",0,LEN(TRIM(OBC37))-LEN(SUBSTITUTE(TRIM(OBC37),\" \",\"\"))+1)","v":0},null,null,32,null,null,null,null,{"$f":"IF(OBK37=\"\",0,LEN(TRIM(OBK37))-LEN(SUBSTITUTE(TRIM(OBK37),\" \",\"\"))+1)","v":0},null,null,32,null,null,null,null,{"$f":"IF(OBS37=\"\",0,LEN(TRIM(OBS37))-LEN(SUBSTITUTE(TRIM(OBS37),\" \",\"\"))+1)","v":0},null,null,32,null,null,null,null,{"$f":"IF(OCA37=\"\",0,LEN(TRIM(OCA37))-LEN(SUBSTITUTE(TRIM(OCA37),\" \",\"\"))+1)","v":0},null,null,32,null,null,null,null,{"$f":"IF(OCI37=\"\",0,LEN(TRIM(OCI37))-LEN(SUBSTITUTE(TRIM(OCI37),\" \",\"\"))+1)","v":0},null,null,32,null,null,null,null,{"$f":"IF(OCQ37=\"\",0,LEN(TRIM(OCQ37))-LEN(SUBSTITUTE(TRIM(OCQ37),\" \",\"\"))+1)","v":0},null,null,32,null,null,null,null,{"$f":"IF(OCY37=\"\",0,LEN(TRIM(OCY37))-LEN(SUBSTITUTE(TRIM(OCY37),\" \",\"\"))+1)","v":0},null,null,32,null,null,null,null,{"$f":"IF(ODG37=\"\",0,LEN(TRIM(ODG37))-LEN(SUBSTITUTE(TRIM(ODG37),\" \",\"\"))+1)","v":0},null,null,32,null,null,null,null,{"$f":"IF(ODO37=\"\",0,LEN(TRIM(ODO37))-LEN(SUBSTITUTE(TRIM(ODO37),\" \",\"\"))+1)","v":0},null,null,32,null,null,null,null,{"$f":"IF(ODW37=\"\",0,LEN(TRIM(ODW37))-LEN(SUBSTITUTE(TRIM(ODW37),\" \",\"\"))+1)","v":0},null,null,32,null,null,null,null,{"$f":"IF(OEE37=\"\",0,LEN(TRIM(OEE37))-LEN(SUBSTITUTE(TRIM(OEE37),\" \",\"\"))+1)","v":0},null,null,32,null,null,null,null,{"$f":"IF(OEM37=\"\",0,LEN(TRIM(OEM37))-LEN(SUBSTITUTE(TRIM(OEM37),\" \",\"\"))+1)","v":0},null,null,32,null,null,null,null,{"$f":"IF(OEU37=\"\",0,LEN(TRIM(OEU37))-LEN(SUBSTITUTE(TRIM(OEU37),\" \",\"\"))+1)","v":0},null,null,32,null,null,null,null,{"$f":"IF(OFC37=\"\",0,LEN(TRIM(OFC37))-LEN(SUBSTITUTE(TRIM(OFC37),\" \",\"\"))+1)","v":0},null,null,32,null,null,null,null,{"$f":"IF(OFK37=\"\",0,LEN(TRIM(OFK37))-LEN(SUBSTITUTE(TRIM(OFK37),\" \",\"\"))+1)","v":0},null,null,32,null,null,null,null,{"$f":"IF(OFS37=\"\",0,LEN(TRIM(OFS37))-LEN(SUBSTITUTE(TRIM(OFS37),\" \",\"\"))+1)","v":0},null,null,32,null,null,null,null,{"$f":"IF(OGA37=\"\",0,LEN(TRIM(OGA37))-LEN(SUBSTITUTE(TRIM(OGA37),\" \",\"\"))+1)","v":0},null,null,32,null,null,null,null,{"$f":"IF(OGI37=\"\",0,LEN(TRIM(OGI37))-LEN(SUBSTITUTE(TRIM(OGI37),\" \",\"\"))+1)","v":0},null,null,32,null,null,null,null,{"$f":"IF(OGQ37=\"\",0,LEN(TRIM(OGQ37))-LEN(SUBSTITUTE(TRIM(OGQ37),\" \",\"\"))+1)","v":0},null,null,32,null,null,null,null,{"$f":"IF(OGY37=\"\",0,LEN(TRIM(OGY37))-LEN(SUBSTITUTE(TRIM(OGY37),\" \",\"\"))+1)","v":0},null,null,32,null,null,null,null,{"$f":"IF(OHG37=\"\",0,LEN(TRIM(OHG37))-LEN(SUBSTITUTE(TRIM(OHG37),\" \",\"\"))+1)","v":0},null,null,32,null,null,null,null,{"$f":"IF(OHO37=\"\",0,LEN(TRIM(OHO37))-LEN(SUBSTITUTE(TRIM(OHO37),\" \",\"\"))+1)","v":0},null,null,32,null,null,null,null,{"$f":"IF(OHW37=\"\",0,LEN(TRIM(OHW37))-LEN(SUBSTITUTE(TRIM(OHW37),\" \",\"\"))+1)","v":0},null,null,32,null,null,null,null,{"$f":"IF(OIE37=\"\",0,LEN(TRIM(OIE37))-LEN(SUBSTITUTE(TRIM(OIE37),\" \",\"\"))+1)","v":0},null,null,32,null,null,null,null,{"$f":"IF(OIM37=\"\",0,LEN(TRIM(OIM37))-LEN(SUBSTITUTE(TRIM(OIM37),\" \",\"\"))+1)","v":0},null,null,32,null,null,null,null,{"$f":"IF(OIU37=\"\",0,LEN(TRIM(OIU37))-LEN(SUBSTITUTE(TRIM(OIU37),\" \",\"\"))+1)","v":0},null,null,32,null,null,null,null,{"$f":"IF(OJC37=\"\",0,LEN(TRIM(OJC37))-LEN(SUBSTITUTE(TRIM(OJC37),\" \",\"\"))+1)","v":0},null,null,32,null,null,null,null,{"$f":"IF(OJK37=\"\",0,LEN(TRIM(OJK37))-LEN(SUBSTITUTE(TRIM(OJK37),\" \",\"\"))+1)","v":0},null,null,32,null,null,null,null,{"$f":"IF(OJS37=\"\",0,LEN(TRIM(OJS37))-LEN(SUBSTITUTE(TRIM(OJS37),\" \",\"\"))+1)","v":0},null,null,32,null,null,null,null,{"$f":"IF(OKA37=\"\",0,LEN(TRIM(OKA37))-LEN(SUBSTITUTE(TRIM(OKA37),\" \",\"\"))+1)","v":0},null,null,32,null,null,null,null,{"$f":"IF(OKI37=\"\",0,LEN(TRIM(OKI37))-LEN(SUBSTITUTE(TRIM(OKI37),\" \",\"\"))+1)","v":0},null,null,32,null,null,null,null,{"$f":"IF(OKQ37=\"\",0,LEN(TRIM(OKQ37))-LEN(SUBSTITUTE(TRIM(OKQ37),\" \",\"\"))+1)","v":0},null,null,32,null,null,null,null,{"$f":"IF(OKY37=\"\",0,LEN(TRIM(OKY37))-LEN(SUBSTITUTE(TRIM(OKY37),\" \",\"\"))+1)","v":0},null,null,32,null,null,null,null,{"$f":"IF(OLG37=\"\",0,LEN(TRIM(OLG37))-LEN(SUBSTITUTE(TRIM(OLG37),\" \",\"\"))+1)","v":0},null,null,32,null,null,null,null,{"$f":"IF(OLO37=\"\",0,LEN(TRIM(OLO37))-LEN(SUBSTITUTE(TRIM(OLO37),\" \",\"\"))+1)","v":0},null,null,32,null,null,null,null,{"$f":"IF(OLW37=\"\",0,LEN(TRIM(OLW37))-LEN(SUBSTITUTE(TRIM(OLW37),\" \",\"\"))+1)","v":0},null,null,32,null,null,null,null,{"$f":"IF(OME37=\"\",0,LEN(TRIM(OME37))-LEN(SUBSTITUTE(TRIM(OME37),\" \",\"\"))+1)","v":0},null,null,32,null,null,null,null,{"$f":"IF(OMM37=\"\",0,LEN(TRIM(OMM37))-LEN(SUBSTITUTE(TRIM(OMM37),\" \",\"\"))+1)","v":0},null,null,32,null,null,null,null,{"$f":"IF(OMU37=\"\",0,LEN(TRIM(OMU37))-LEN(SUBSTITUTE(TRIM(OMU37),\" \",\"\"))+1)","v":0},null,null,32,null,null,null,null,{"$f":"IF(ONC37=\"\",0,LEN(TRIM(ONC37))-LEN(SUBSTITUTE(TRIM(ONC37),\" \",\"\"))+1)","v":0},null,null,32,null,null,null,null,{"$f":"IF(ONK37=\"\",0,LEN(TRIM(ONK37))-LEN(SUBSTITUTE(TRIM(ONK37),\" \",\"\"))+1)","v":0},null,null,32,null,null,null,null,{"$f":"IF(ONS37=\"\",0,LEN(TRIM(ONS37))-LEN(SUBSTITUTE(TRIM(ONS37),\" \",\"\"))+1)","v":0},null,null,32,null,null,null,null,{"$f":"IF(OOA37=\"\",0,LEN(TRIM(OOA37))-LEN(SUBSTITUTE(TRIM(OOA37),\" \",\"\"))+1)","v":0},null,null,32,null,null,null,null,{"$f":"IF(OOI37=\"\",0,LEN(TRIM(OOI37))-LEN(SUBSTITUTE(TRIM(OOI37),\" \",\"\"))+1)","v":0},null,null,32,null,null,null,null,{"$f":"IF(OOQ37=\"\",0,LEN(TRIM(OOQ37))-LEN(SUBSTITUTE(TRIM(OOQ37),\" \",\"\"))+1)","v":0},null,null,32,null,null,null,null,{"$f":"IF(OOY37=\"\",0,LEN(TRIM(OOY37))-LEN(SUBSTITUTE(TRIM(OOY37),\" \",\"\"))+1)","v":0},null,null,32,null,null,null,null,{"$f":"IF(OPG37=\"\",0,LEN(TRIM(OPG37))-LEN(SUBSTITUTE(TRIM(OPG37),\" \",\"\"))+1)","v":0},null,null,32,null,null,null,null,{"$f":"IF(OPO37=\"\",0,LEN(TRIM(OPO37))-LEN(SUBSTITUTE(TRIM(OPO37),\" \",\"\"))+1)","v":0},null,null,32,null,null,null,null,{"$f":"IF(OPW37=\"\",0,LEN(TRIM(OPW37))-LEN(SUBSTITUTE(TRIM(OPW37),\" \",\"\"))+1)","v":0},null,null,32,null,null,null,null,{"$f":"IF(OQE37=\"\",0,LEN(TRIM(OQE37))-LEN(SUBSTITUTE(TRIM(OQE37),\" \",\"\"))+1)","v":0},null,null,32,null,null,null,null,{"$f":"IF(OQM37=\"\",0,LEN(TRIM(OQM37))-LEN(SUBSTITUTE(TRIM(OQM37),\" \",\"\"))+1)","v":0},null,null,32,null,null,null,null,{"$f":"IF(OQU37=\"\",0,LEN(TRIM(OQU37))-LEN(SUBSTITUTE(TRIM(OQU37),\" \",\"\"))+1)","v":0},null,null,32,null,null,null,null,{"$f":"IF(ORC37=\"\",0,LEN(TRIM(ORC37))-LEN(SUBSTITUTE(TRIM(ORC37),\" \",\"\"))+1)","v":0},null,null,32,null,null,null,null,{"$f":"IF(ORK37=\"\",0,LEN(TRIM(ORK37))-LEN(SUBSTITUTE(TRIM(ORK37),\" \",\"\"))+1)","v":0},null,null,32,null,null,null,null,{"$f":"IF(ORS37=\"\",0,LEN(TRIM(ORS37))-LEN(SUBSTITUTE(TRIM(ORS37),\" \",\"\"))+1)","v":0},null,null,32,null,null,null,null,{"$f":"IF(OSA37=\"\",0,LEN(TRIM(OSA37))-LEN(SUBSTITUTE(TRIM(OSA37),\" \",\"\"))+1)","v":0},null,null,32,null,null,null,null,{"$f":"IF(OSI37=\"\",0,LEN(TRIM(OSI37))-LEN(SUBSTITUTE(TRIM(OSI37),\" \",\"\"))+1)","v":0},null,null,32,null,null,null,null,{"$f":"IF(OSQ37=\"\",0,LEN(TRIM(OSQ37))-LEN(SUBSTITUTE(TRIM(OSQ37),\" \",\"\"))+1)","v":0},null,null,32,null,null,null,null,{"$f":"IF(OSY37=\"\",0,LEN(TRIM(OSY37))-LEN(SUBSTITUTE(TRIM(OSY37),\" \",\"\"))+1)","v":0},null,null,32,null,null,null,null,{"$f":"IF(OTG37=\"\",0,LEN(TRIM(OTG37))-LEN(SUBSTITUTE(TRIM(OTG37),\" \",\"\"))+1)","v":0},null,null,32,null,null,null,null,{"$f":"IF(OTO37=\"\",0,LEN(TRIM(OTO37))-LEN(SUBSTITUTE(TRIM(OTO37),\" \",\"\"))+1)","v":0},null,null,32,null,null,null,null,{"$f":"IF(OTW37=\"\",0,LEN(TRIM(OTW37))-LEN(SUBSTITUTE(TRIM(OTW37),\" \",\"\"))+1)","v":0},null,null,32,null,null,null,null,{"$f":"IF(OUE37=\"\",0,LEN(TRIM(OUE37))-LEN(SUBSTITUTE(TRIM(OUE37),\" \",\"\"))+1)","v":0},null,null,32,null,null,null,null,{"$f":"IF(OUM37=\"\",0,LEN(TRIM(OUM37))-LEN(SUBSTITUTE(TRIM(OUM37),\" \",\"\"))+1)","v":0},null,null,32,null,null,null,null,{"$f":"IF(OUU37=\"\",0,LEN(TRIM(OUU37))-LEN(SUBSTITUTE(TRIM(OUU37),\" \",\"\"))+1)","v":0},null,null,32,null,null,null,null,{"$f":"IF(OVC37=\"\",0,LEN(TRIM(OVC37))-LEN(SUBSTITUTE(TRIM(OVC37),\" \",\"\"))+1)","v":0},null,null,32,null,null,null,null,{"$f":"IF(OVK37=\"\",0,LEN(TRIM(OVK37))-LEN(SUBSTITUTE(TRIM(OVK37),\" \",\"\"))+1)","v":0},null,null,32,null,null,null,null,{"$f":"IF(OVS37=\"\",0,LEN(TRIM(OVS37))-LEN(SUBSTITUTE(TRIM(OVS37),\" \",\"\"))+1)","v":0},null,null,32,null,null,null,null,{"$f":"IF(OWA37=\"\",0,LEN(TRIM(OWA37))-LEN(SUBSTITUTE(TRIM(OWA37),\" \",\"\"))+1)","v":0},null,null,32,null,null,null,null,{"$f":"IF(OWI37=\"\",0,LEN(TRIM(OWI37))-LEN(SUBSTITUTE(TRIM(OWI37),\" \",\"\"))+1)","v":0},null,null,32,null,null,null,null,{"$f":"IF(OWQ37=\"\",0,LEN(TRIM(OWQ37))-LEN(SUBSTITUTE(TRIM(OWQ37),\" \",\"\"))+1)","v":0},null,null,32,null,null,null,null,{"$f":"IF(OWY37=\"\",0,LEN(TRIM(OWY37))-LEN(SUBSTITUTE(TRIM(OWY37),\" \",\"\"))+1)","v":0},null,null,32,null,null,null,null,{"$f":"IF(OXG37=\"\",0,LEN(TRIM(OXG37))-LEN(SUBSTITUTE(TRIM(OXG37),\" \",\"\"))+1)","v":0},null,null,32,null,null,null,null,{"$f":"IF(OXO37=\"\",0,LEN(TRIM(OXO37))-LEN(SUBSTITUTE(TRIM(OXO37),\" \",\"\"))+1)","v":0},null,null,32,null,null,null,null,{"$f":"IF(OXW37=\"\",0,LEN(TRIM(OXW37))-LEN(SUBSTITUTE(TRIM(OXW37),\" \",\"\"))+1)","v":0},null,null,32,null,null,null,null,{"$f":"IF(OYE37=\"\",0,LEN(TRIM(OYE37))-LEN(SUBSTITUTE(TRIM(OYE37),\" \",\"\"))+1)","v":0},null,null,32,null,null,null,null,{"$f":"IF(OYM37=\"\",0,LEN(TRIM(OYM37))-LEN(SUBSTITUTE(TRIM(OYM37),\" \",\"\"))+1)","v":0},null,null,32,null,null,null,null,{"$f":"IF(OYU37=\"\",0,LEN(TRIM(OYU37))-LEN(SUBSTITUTE(TRIM(OYU37),\" \",\"\"))+1)","v":0},null,null,32,null,null,null,null,{"$f":"IF(OZC37=\"\",0,LEN(TRIM(OZC37))-LEN(SUBSTITUTE(TRIM(OZC37),\" \",\"\"))+1)","v":0},null,null,32,null,null,null,null,{"$f":"IF(OZK37=\"\",0,LEN(TRIM(OZK37))-LEN(SUBSTITUTE(TRIM(OZK37),\" \",\"\"))+1)","v":0},null,null,32,null,null,null,null,{"$f":"IF(OZS37=\"\",0,LEN(TRIM(OZS37))-LEN(SUBSTITUTE(TRIM(OZS37),\" \",\"\"))+1)","v":0},null,null,32,null,null,null,null,{"$f":"IF(PAA37=\"\",0,LEN(TRIM(PAA37))-LEN(SUBSTITUTE(TRIM(PAA37),\" \",\"\"))+1)","v":0},null,null,32,null,null,null,null,{"$f":"IF(PAI37=\"\",0,LEN(TRIM(PAI37))-LEN(SUBSTITUTE(TRIM(PAI37),\" \",\"\"))+1)","v":0},null,null,32,null,null,null,null,{"$f":"IF(PAQ37=\"\",0,LEN(TRIM(PAQ37))-LEN(SUBSTITUTE(TRIM(PAQ37),\" \",\"\"))+1)","v":0},null,null,32,null,null,null,null,{"$f":"IF(PAY37=\"\",0,LEN(TRIM(PAY37))-LEN(SUBSTITUTE(TRIM(PAY37),\" \",\"\"))+1)","v":0},null,null,32,null,null,null,null,{"$f":"IF(PBG37=\"\",0,LEN(TRIM(PBG37))-LEN(SUBSTITUTE(TRIM(PBG37),\" \",\"\"))+1)","v":0},null,null,32,null,null,null,null,{"$f":"IF(PBO37=\"\",0,LEN(TRIM(PBO37))-LEN(SUBSTITUTE(TRIM(PBO37),\" \",\"\"))+1)","v":0},null,null,32,null,null,null,null,{"$f":"IF(PBW37=\"\",0,LEN(TRIM(PBW37))-LEN(SUBSTITUTE(TRIM(PBW37),\" \",\"\"))+1)","v":0},null,null,32,null,null,null,null,{"$f":"IF(PCE37=\"\",0,LEN(TRIM(PCE37))-LEN(SUBSTITUTE(TRIM(PCE37),\" \",\"\"))+1)","v":0},null,null,32,null,null,null,null,{"$f":"IF(PCM37=\"\",0,LEN(TRIM(PCM37))-LEN(SUBSTITUTE(TRIM(PCM37),\" \",\"\"))+1)","v":0},null,null,32,null,null,null,null,{"$f":"IF(PCU37=\"\",0,LEN(TRIM(PCU37))-LEN(SUBSTITUTE(TRIM(PCU37),\" \",\"\"))+1)","v":0},null,null,32,null,null,null,null,{"$f":"IF(PDC37=\"\",0,LEN(TRIM(PDC37))-LEN(SUBSTITUTE(TRIM(PDC37),\" \",\"\"))+1)","v":0},null,null,32,null,null,null,null,{"$f":"IF(PDK37=\"\",0,LEN(TRIM(PDK37))-LEN(SUBSTITUTE(TRIM(PDK37),\" \",\"\"))+1)","v":0},null,null,32,null,null,null,null,{"$f":"IF(PDS37=\"\",0,LEN(TRIM(PDS37))-LEN(SUBSTITUTE(TRIM(PDS37),\" \",\"\"))+1)","v":0},null,null,32,null,null,null,null,{"$f":"IF(PEA37=\"\",0,LEN(TRIM(PEA37))-LEN(SUBSTITUTE(TRIM(PEA37),\" \",\"\"))+1)","v":0},null,null,32,null,null,null,null,{"$f":"IF(PEI37=\"\",0,LEN(TRIM(PEI37))-LEN(SUBSTITUTE(TRIM(PEI37),\" \",\"\"))+1)","v":0},null,null,32,null,null,null,null,{"$f":"IF(PEQ37=\"\",0,LEN(TRIM(PEQ37))-LEN(SUBSTITUTE(TRIM(PEQ37),\" \",\"\"))+1)","v":0},null,null,32,null,null,null,null,{"$f":"IF(PEY37=\"\",0,LEN(TRIM(PEY37))-LEN(SUBSTITUTE(TRIM(PEY37),\" \",\"\"))+1)","v":0},null,null,32,null,null,null,null,{"$f":"IF(PFG37=\"\",0,LEN(TRIM(PFG37))-LEN(SUBSTITUTE(TRIM(PFG37),\" \",\"\"))+1)","v":0},null,null,32,null,null,null,null,{"$f":"IF(PFO37=\"\",0,LEN(TRIM(PFO37))-LEN(SUBSTITUTE(TRIM(PFO37),\" \",\"\"))+1)","v":0},null,null,32,null,null,null,null,{"$f":"IF(PFW37=\"\",0,LEN(TRIM(PFW37))-LEN(SUBSTITUTE(TRIM(PFW37),\" \",\"\"))+1)","v":0},null,null,32,null,null,null,null,{"$f":"IF(PGE37=\"\",0,LEN(TRIM(PGE37))-LEN(SUBSTITUTE(TRIM(PGE37),\" \",\"\"))+1)","v":0},null,null,32,null,null,null,null,{"$f":"IF(PGM37=\"\",0,LEN(TRIM(PGM37))-LEN(SUBSTITUTE(TRIM(PGM37),\" \",\"\"))+1)","v":0},null,null,32,null,null,null,null,{"$f":"IF(PGU37=\"\",0,LEN(TRIM(PGU37))-LEN(SUBSTITUTE(TRIM(PGU37),\" \",\"\"))+1)","v":0},null,null,32,null,null,null,null,{"$f":"IF(PHC37=\"\",0,LEN(TRIM(PHC37))-LEN(SUBSTITUTE(TRIM(PHC37),\" \",\"\"))+1)","v":0},null,null,32,null,null,null,null,{"$f":"IF(PHK37=\"\",0,LEN(TRIM(PHK37))-LEN(SUBSTITUTE(TRIM(PHK37),\" \",\"\"))+1)","v":0},null,null,32,null,null,null,null,{"$f":"IF(PHS37=\"\",0,LEN(TRIM(PHS37))-LEN(SUBSTITUTE(TRIM(PHS37),\" \",\"\"))+1)","v":0},null,null,32,null,null,null,null,{"$f":"IF(PIA37=\"\",0,LEN(TRIM(PIA37))-LEN(SUBSTITUTE(TRIM(PIA37),\" \",\"\"))+1)","v":0},null,null,32,null,null,null,null,{"$f":"IF(PII37=\"\",0,LEN(TRIM(PII37))-LEN(SUBSTITUTE(TRIM(PII37),\" \",\"\"))+1)","v":0},null,null,32,null,null,null,null,{"$f":"IF(PIQ37=\"\",0,LEN(TRIM(PIQ37))-LEN(SUBSTITUTE(TRIM(PIQ37),\" \",\"\"))+1)","v":0},null,null,32,null,null,null,null,{"$f":"IF(PIY37=\"\",0,LEN(TRIM(PIY37))-LEN(SUBSTITUTE(TRIM(PIY37),\" \",\"\"))+1)","v":0},null,null,32,null,null,null,null,{"$f":"IF(PJG37=\"\",0,LEN(TRIM(PJG37))-LEN(SUBSTITUTE(TRIM(PJG37),\" \",\"\"))+1)","v":0},null,null,32,null,null,null,null,{"$f":"IF(PJO37=\"\",0,LEN(TRIM(PJO37))-LEN(SUBSTITUTE(TRIM(PJO37),\" \",\"\"))+1)","v":0},null,null,32,null,null,null,null,{"$f":"IF(PJW37=\"\",0,LEN(TRIM(PJW37))-LEN(SUBSTITUTE(TRIM(PJW37),\" \",\"\"))+1)","v":0},null,null,32,null,null,null,null,{"$f":"IF(PKE37=\"\",0,LEN(TRIM(PKE37))-LEN(SUBSTITUTE(TRIM(PKE37),\" \",\"\"))+1)","v":0},null,null,32,null,null,null,null,{"$f":"IF(PKM37=\"\",0,LEN(TRIM(PKM37))-LEN(SUBSTITUTE(TRIM(PKM37),\" \",\"\"))+1)","v":0},null,null,32,null,null,null,null,{"$f":"IF(PKU37=\"\",0,LEN(TRIM(PKU37))-LEN(SUBSTITUTE(TRIM(PKU37),\" \",\"\"))+1)","v":0},null,null,32,null,null,null,null,{"$f":"IF(PLC37=\"\",0,LEN(TRIM(PLC37))-LEN(SUBSTITUTE(TRIM(PLC37),\" \",\"\"))+1)","v":0},null,null,32,null,null,null,null,{"$f":"IF(PLK37=\"\",0,LEN(TRIM(PLK37))-LEN(SUBSTITUTE(TRIM(PLK37),\" \",\"\"))+1)","v":0},null,null,32,null,null,null,null,{"$f":"IF(PLS37=\"\",0,LEN(TRIM(PLS37))-LEN(SUBSTITUTE(TRIM(PLS37),\" \",\"\"))+1)","v":0},null,null,32,null,null,null,null,{"$f":"IF(PMA37=\"\",0,LEN(TRIM(PMA37))-LEN(SUBSTITUTE(TRIM(PMA37),\" \",\"\"))+1)","v":0},null,null,32,null,null,null,null,{"$f":"IF(PMI37=\"\",0,LEN(TRIM(PMI37))-LEN(SUBSTITUTE(TRIM(PMI37),\" \",\"\"))+1)","v":0},null,null,32,null,null,null,null,{"$f":"IF(PMQ37=\"\",0,LEN(TRIM(PMQ37))-LEN(SUBSTITUTE(TRIM(PMQ37),\" \",\"\"))+1)","v":0},null,null,32,null,null,null,null,{"$f":"IF(PMY37=\"\",0,LEN(TRIM(PMY37))-LEN(SUBSTITUTE(TRIM(PMY37),\" \",\"\"))+1)","v":0},null,null,32,null,null,null,null,{"$f":"IF(PNG37=\"\",0,LEN(TRIM(PNG37))-LEN(SUBSTITUTE(TRIM(PNG37),\" \",\"\"))+1)","v":0},null,null,32,null,null,null,null,{"$f":"IF(PNO37=\"\",0,LEN(TRIM(PNO37))-LEN(SUBSTITUTE(TRIM(PNO37),\" \",\"\"))+1)","v":0},null,null,32,null,null,null,null,{"$f":"IF(PNW37=\"\",0,LEN(TRIM(PNW37))-LEN(SUBSTITUTE(TRIM(PNW37),\" \",\"\"))+1)","v":0},null,null,32,null,null,null,null,{"$f":"IF(POE37=\"\",0,LEN(TRIM(POE37))-LEN(SUBSTITUTE(TRIM(POE37),\" \",\"\"))+1)","v":0},null,null,32,null,null,null,null,{"$f":"IF(POM37=\"\",0,LEN(TRIM(POM37))-LEN(SUBSTITUTE(TRIM(POM37),\" \",\"\"))+1)","v":0},null,null,32,null,null,null,null,{"$f":"IF(POU37=\"\",0,LEN(TRIM(POU37))-LEN(SUBSTITUTE(TRIM(POU37),\" \",\"\"))+1)","v":0},null,null,32,null,null,null,null,{"$f":"IF(PPC37=\"\",0,LEN(TRIM(PPC37))-LEN(SUBSTITUTE(TRIM(PPC37),\" \",\"\"))+1)","v":0},null,null,32,null,null,null,null,{"$f":"IF(PPK37=\"\",0,LEN(TRIM(PPK37))-LEN(SUBSTITUTE(TRIM(PPK37),\" \",\"\"))+1)","v":0},null,null,32,null,null,null,null,{"$f":"IF(PPS37=\"\",0,LEN(TRIM(PPS37))-LEN(SUBSTITUTE(TRIM(PPS37),\" \",\"\"))+1)","v":0},null,null,32,null,null,null,null,{"$f":"IF(PQA37=\"\",0,LEN(TRIM(PQA37))-LEN(SUBSTITUTE(TRIM(PQA37),\" \",\"\"))+1)","v":0},null,null,32,null,null,null,null,{"$f":"IF(PQI37=\"\",0,LEN(TRIM(PQI37))-LEN(SUBSTITUTE(TRIM(PQI37),\" \",\"\"))+1)","v":0},null,null,32,null,null,null,null,{"$f":"IF(PQQ37=\"\",0,LEN(TRIM(PQQ37))-LEN(SUBSTITUTE(TRIM(PQQ37),\" \",\"\"))+1)","v":0},null,null,32,null,null,null,null,{"$f":"IF(PQY37=\"\",0,LEN(TRIM(PQY37))-LEN(SUBSTITUTE(TRIM(PQY37),\" \",\"\"))+1)","v":0},null,null,32,null,null,null,null,{"$f":"IF(PRG37=\"\",0,LEN(TRIM(PRG37))-LEN(SUBSTITUTE(TRIM(PRG37),\" \",\"\"))+1)","v":0},null,null,32,null,null,null,null,{"$f":"IF(PRO37=\"\",0,LEN(TRIM(PRO37))-LEN(SUBSTITUTE(TRIM(PRO37),\" \",\"\"))+1)","v":0},null,null,32,null,null,null,null,{"$f":"IF(PRW37=\"\",0,LEN(TRIM(PRW37))-LEN(SUBSTITUTE(TRIM(PRW37),\" \",\"\"))+1)","v":0},null,null,32,null,null,null,null,{"$f":"IF(PSE37=\"\",0,LEN(TRIM(PSE37))-LEN(SUBSTITUTE(TRIM(PSE37),\" \",\"\"))+1)","v":0},null,null,32,null,null,null,null,{"$f":"IF(PSM37=\"\",0,LEN(TRIM(PSM37))-LEN(SUBSTITUTE(TRIM(PSM37),\" \",\"\"))+1)","v":0},null,null,32,null,null,null,null,{"$f":"IF(PSU37=\"\",0,LEN(TRIM(PSU37))-LEN(SUBSTITUTE(TRIM(PSU37),\" \",\"\"))+1)","v":0},null,null,32,null,null,null,null,{"$f":"IF(PTC37=\"\",0,LEN(TRIM(PTC37))-LEN(SUBSTITUTE(TRIM(PTC37),\" \",\"\"))+1)","v":0},null,null,32,null,null,null,null,{"$f":"IF(PTK37=\"\",0,LEN(TRIM(PTK37))-LEN(SUBSTITUTE(TRIM(PTK37),\" \",\"\"))+1)","v":0},null,null,32,null,null,null,null,{"$f":"IF(PTS37=\"\",0,LEN(TRIM(PTS37))-LEN(SUBSTITUTE(TRIM(PTS37),\" \",\"\"))+1)","v":0},null,null,32,null,null,null,null,{"$f":"IF(PUA37=\"\",0,LEN(TRIM(PUA37))-LEN(SUBSTITUTE(TRIM(PUA37),\" \",\"\"))+1)","v":0},null,null,32,null,null,null,null,{"$f":"IF(PUI37=\"\",0,LEN(TRIM(PUI37))-LEN(SUBSTITUTE(TRIM(PUI37),\" \",\"\"))+1)","v":0},null,null,32,null,null,null,null,{"$f":"IF(PUQ37=\"\",0,LEN(TRIM(PUQ37))-LEN(SUBSTITUTE(TRIM(PUQ37),\" \",\"\"))+1)","v":0},null,null,32,null,null,null,null,{"$f":"IF(PUY37=\"\",0,LEN(TRIM(PUY37))-LEN(SUBSTITUTE(TRIM(PUY37),\" \",\"\"))+1)","v":0},null,null,32,null,null,null,null,{"$f":"IF(PVG37=\"\",0,LEN(TRIM(PVG37))-LEN(SUBSTITUTE(TRIM(PVG37),\" \",\"\"))+1)","v":0},null,null,32,null,null,null,null,{"$f":"IF(PVO37=\"\",0,LEN(TRIM(PVO37))-LEN(SUBSTITUTE(TRIM(PVO37),\" \",\"\"))+1)","v":0},null,null,32,null,null,null,null,{"$f":"IF(PVW37=\"\",0,LEN(TRIM(PVW37))-LEN(SUBSTITUTE(TRIM(PVW37),\" \",\"\"))+1)","v":0},null,null,32,null,null,null,null,{"$f":"IF(PWE37=\"\",0,LEN(TRIM(PWE37))-LEN(SUBSTITUTE(TRIM(PWE37),\" \",\"\"))+1)","v":0},null,null,32,null,null,null,null,{"$f":"IF(PWM37=\"\",0,LEN(TRIM(PWM37))-LEN(SUBSTITUTE(TRIM(PWM37),\" \",\"\"))+1)","v":0},null,null,32,null,null,null,null,{"$f":"IF(PWU37=\"\",0,LEN(TRIM(PWU37))-LEN(SUBSTITUTE(TRIM(PWU37),\" \",\"\"))+1)","v":0},null,null,32,null,null,null,null,{"$f":"IF(PXC37=\"\",0,LEN(TRIM(PXC37))-LEN(SUBSTITUTE(TRIM(PXC37),\" \",\"\"))+1)","v":0},null,null,32,null,null,null,null,{"$f":"IF(PXK37=\"\",0,LEN(TRIM(PXK37))-LEN(SUBSTITUTE(TRIM(PXK37),\" \",\"\"))+1)","v":0},null,null,32,null,null,null,null,{"$f":"IF(PXS37=\"\",0,LEN(TRIM(PXS37))-LEN(SUBSTITUTE(TRIM(PXS37),\" \",\"\"))+1)","v":0},null,null,32,null,null,null,null,{"$f":"IF(PYA37=\"\",0,LEN(TRIM(PYA37))-LEN(SUBSTITUTE(TRIM(PYA37),\" \",\"\"))+1)","v":0},null,null,32,null,null,null,null,{"$f":"IF(PYI37=\"\",0,LEN(TRIM(PYI37))-LEN(SUBSTITUTE(TRIM(PYI37),\" \",\"\"))+1)","v":0},null,null,32,null,null,null,null,{"$f":"IF(PYQ37=\"\",0,LEN(TRIM(PYQ37))-LEN(SUBSTITUTE(TRIM(PYQ37),\" \",\"\"))+1)","v":0},null,null,32,null,null,null,null,{"$f":"IF(PYY37=\"\",0,LEN(TRIM(PYY37))-LEN(SUBSTITUTE(TRIM(PYY37),\" \",\"\"))+1)","v":0},null,null,32,null,null,null,null,{"$f":"IF(PZG37=\"\",0,LEN(TRIM(PZG37))-LEN(SUBSTITUTE(TRIM(PZG37),\" \",\"\"))+1)","v":0},null,null,32,null,null,null,null,{"$f":"IF(PZO37=\"\",0,LEN(TRIM(PZO37))-LEN(SUBSTITUTE(TRIM(PZO37),\" \",\"\"))+1)","v":0},null,null,32,null,null,null,null,{"$f":"IF(PZW37=\"\",0,LEN(TRIM(PZW37))-LEN(SUBSTITUTE(TRIM(PZW37),\" \",\"\"))+1)","v":0},null,null,32,null,null,null,null,{"$f":"IF(QAE37=\"\",0,LEN(TRIM(QAE37))-LEN(SUBSTITUTE(TRIM(QAE37),\" \",\"\"))+1)","v":0},null,null,32,null,null,null,null,{"$f":"IF(QAM37=\"\",0,LEN(TRIM(QAM37))-LEN(SUBSTITUTE(TRIM(QAM37),\" \",\"\"))+1)","v":0},null,null,32,null,null,null,null,{"$f":"IF(QAU37=\"\",0,LEN(TRIM(QAU37))-LEN(SUBSTITUTE(TRIM(QAU37),\" \",\"\"))+1)","v":0},null,null,32,null,null,null,null,{"$f":"IF(QBC37=\"\",0,LEN(TRIM(QBC37))-LEN(SUBSTITUTE(TRIM(QBC37),\" \",\"\"))+1)","v":0},null,null,32,null,null,null,null,{"$f":"IF(QBK37=\"\",0,LEN(TRIM(QBK37))-LEN(SUBSTITUTE(TRIM(QBK37),\" \",\"\"))+1)","v":0},null,null,32,null,null,null,null,{"$f":"IF(QBS37=\"\",0,LEN(TRIM(QBS37))-LEN(SUBSTITUTE(TRIM(QBS37),\" \",\"\"))+1)","v":0},null,null,32,null,null,null,null,{"$f":"IF(QCA37=\"\",0,LEN(TRIM(QCA37))-LEN(SUBSTITUTE(TRIM(QCA37),\" \",\"\"))+1)","v":0},null,null,32,null,null,null,null,{"$f":"IF(QCI37=\"\",0,LEN(TRIM(QCI37))-LEN(SUBSTITUTE(TRIM(QCI37),\" \",\"\"))+1)","v":0},null,null,32,null,null,null,null,{"$f":"IF(QCQ37=\"\",0,LEN(TRIM(QCQ37))-LEN(SUBSTITUTE(TRIM(QCQ37),\" \",\"\"))+1)","v":0},null,null,32,null,null,null,null,{"$f":"IF(QCY37=\"\",0,LEN(TRIM(QCY37))-LEN(SUBSTITUTE(TRIM(QCY37),\" \",\"\"))+1)","v":0},null,null,32,null,null,null,null,{"$f":"IF(QDG37=\"\",0,LEN(TRIM(QDG37))-LEN(SUBSTITUTE(TRIM(QDG37),\" \",\"\"))+1)","v":0},null,null,32,null,null,null,null,{"$f":"IF(QDO37=\"\",0,LEN(TRIM(QDO37))-LEN(SUBSTITUTE(TRIM(QDO37),\" \",\"\"))+1)","v":0},null,null,32,null,null,null,null,{"$f":"IF(QDW37=\"\",0,LEN(TRIM(QDW37))-LEN(SUBSTITUTE(TRIM(QDW37),\" \",\"\"))+1)","v":0},null,null,32,null,null,null,null,{"$f":"IF(QEE37=\"\",0,LEN(TRIM(QEE37))-LEN(SUBSTITUTE(TRIM(QEE37),\" \",\"\"))+1)","v":0},null,null,32,null,null,null,null,{"$f":"IF(QEM37=\"\",0,LEN(TRIM(QEM37))-LEN(SUBSTITUTE(TRIM(QEM37),\" \",\"\"))+1)","v":0},null,null,32,null,null,null,null,{"$f":"IF(QEU37=\"\",0,LEN(TRIM(QEU37))-LEN(SUBSTITUTE(TRIM(QEU37),\" \",\"\"))+1)","v":0},null,null,32,null,null,null,null,{"$f":"IF(QFC37=\"\",0,LEN(TRIM(QFC37))-LEN(SUBSTITUTE(TRIM(QFC37),\" \",\"\"))+1)","v":0},null,null,32,null,null,null,null,{"$f":"IF(QFK37=\"\",0,LEN(TRIM(QFK37))-LEN(SUBSTITUTE(TRIM(QFK37),\" \",\"\"))+1)","v":0},null,null,32,null,null,null,null,{"$f":"IF(QFS37=\"\",0,LEN(TRIM(QFS37))-LEN(SUBSTITUTE(TRIM(QFS37),\" \",\"\"))+1)","v":0},null,null,32,null,null,null,null,{"$f":"IF(QGA37=\"\",0,LEN(TRIM(QGA37))-LEN(SUBSTITUTE(TRIM(QGA37),\" \",\"\"))+1)","v":0},null,null,32,null,null,null,null,{"$f":"IF(QGI37=\"\",0,LEN(TRIM(QGI37))-LEN(SUBSTITUTE(TRIM(QGI37),\" \",\"\"))+1)","v":0},null,null,32,null,null,null,null,{"$f":"IF(QGQ37=\"\",0,LEN(TRIM(QGQ37))-LEN(SUBSTITUTE(TRIM(QGQ37),\" \",\"\"))+1)","v":0},null,null,32,null,null,null,null,{"$f":"IF(QGY37=\"\",0,LEN(TRIM(QGY37))-LEN(SUBSTITUTE(TRIM(QGY37),\" \",\"\"))+1)","v":0},null,null,32,null,null,null,null,{"$f":"IF(QHG37=\"\",0,LEN(TRIM(QHG37))-LEN(SUBSTITUTE(TRIM(QHG37),\" \",\"\"))+1)","v":0},null,null,32,null,null,null,null,{"$f":"IF(QHO37=\"\",0,LEN(TRIM(QHO37))-LEN(SUBSTITUTE(TRIM(QHO37),\" \",\"\"))+1)","v":0},null,null,32,null,null,null,null,{"$f":"IF(QHW37=\"\",0,LEN(TRIM(QHW37))-LEN(SUBSTITUTE(TRIM(QHW37),\" \",\"\"))+1)","v":0},null,null,32,null,null,null,null,{"$f":"IF(QIE37=\"\",0,LEN(TRIM(QIE37))-LEN(SUBSTITUTE(TRIM(QIE37),\" \",\"\"))+1)","v":0},null,null,32,null,null,null,null,{"$f":"IF(QIM37=\"\",0,LEN(TRIM(QIM37))-LEN(SUBSTITUTE(TRIM(QIM37),\" \",\"\"))+1)","v":0},null,null,32,null,null,null,null,{"$f":"IF(QIU37=\"\",0,LEN(TRIM(QIU37))-LEN(SUBSTITUTE(TRIM(QIU37),\" \",\"\"))+1)","v":0},null,null,32,null,null,null,null,{"$f":"IF(QJC37=\"\",0,LEN(TRIM(QJC37))-LEN(SUBSTITUTE(TRIM(QJC37),\" \",\"\"))+1)","v":0},null,null,32,null,null,null,null,{"$f":"IF(QJK37=\"\",0,LEN(TRIM(QJK37))-LEN(SUBSTITUTE(TRIM(QJK37),\" \",\"\"))+1)","v":0},null,null,32,null,null,null,null,{"$f":"IF(QJS37=\"\",0,LEN(TRIM(QJS37))-LEN(SUBSTITUTE(TRIM(QJS37),\" \",\"\"))+1)","v":0},null,null,32,null,null,null,null,{"$f":"IF(QKA37=\"\",0,LEN(TRIM(QKA37))-LEN(SUBSTITUTE(TRIM(QKA37),\" \",\"\"))+1)","v":0},null,null,32,null,null,null,null,{"$f":"IF(QKI37=\"\",0,LEN(TRIM(QKI37))-LEN(SUBSTITUTE(TRIM(QKI37),\" \",\"\"))+1)","v":0},null,null,32,null,null,null,null,{"$f":"IF(QKQ37=\"\",0,LEN(TRIM(QKQ37))-LEN(SUBSTITUTE(TRIM(QKQ37),\" \",\"\"))+1)","v":0},null,null,32,null,null,null,null,{"$f":"IF(QKY37=\"\",0,LEN(TRIM(QKY37))-LEN(SUBSTITUTE(TRIM(QKY37),\" \",\"\"))+1)","v":0},null,null,32,null,null,null,null,{"$f":"IF(QLG37=\"\",0,LEN(TRIM(QLG37))-LEN(SUBSTITUTE(TRIM(QLG37),\" \",\"\"))+1)","v":0},null,null,32,null,null,null,null,{"$f":"IF(QLO37=\"\",0,LEN(TRIM(QLO37))-LEN(SUBSTITUTE(TRIM(QLO37),\" \",\"\"))+1)","v":0},null,null,32,null,null,null,null,{"$f":"IF(QLW37=\"\",0,LEN(TRIM(QLW37))-LEN(SUBSTITUTE(TRIM(QLW37),\" \",\"\"))+1)","v":0},null,null,32,null,null,null,null,{"$f":"IF(QME37=\"\",0,LEN(TRIM(QME37))-LEN(SUBSTITUTE(TRIM(QME37),\" \",\"\"))+1)","v":0},null,null,32,null,null,null,null,{"$f":"IF(QMM37=\"\",0,LEN(TRIM(QMM37))-LEN(SUBSTITUTE(TRIM(QMM37),\" \",\"\"))+1)","v":0},null,null,32,null,null,null,null,{"$f":"IF(QMU37=\"\",0,LEN(TRIM(QMU37))-LEN(SUBSTITUTE(TRIM(QMU37),\" \",\"\"))+1)","v":0},null,null,32,null,null,null,null,{"$f":"IF(QNC37=\"\",0,LEN(TRIM(QNC37))-LEN(SUBSTITUTE(TRIM(QNC37),\" \",\"\"))+1)","v":0},null,null,32,null,null,null,null,{"$f":"IF(QNK37=\"\",0,LEN(TRIM(QNK37))-LEN(SUBSTITUTE(TRIM(QNK37),\" \",\"\"))+1)","v":0},null,null,32,null,null,null,null,{"$f":"IF(QNS37=\"\",0,LEN(TRIM(QNS37))-LEN(SUBSTITUTE(TRIM(QNS37),\" \",\"\"))+1)","v":0},null,null,32,null,null,null,null,{"$f":"IF(QOA37=\"\",0,LEN(TRIM(QOA37))-LEN(SUBSTITUTE(TRIM(QOA37),\" \",\"\"))+1)","v":0},null,null,32,null,null,null,null,{"$f":"IF(QOI37=\"\",0,LEN(TRIM(QOI37))-LEN(SUBSTITUTE(TRIM(QOI37),\" \",\"\"))+1)","v":0},null,null,32,null,null,null,null,{"$f":"IF(QOQ37=\"\",0,LEN(TRIM(QOQ37))-LEN(SUBSTITUTE(TRIM(QOQ37),\" \",\"\"))+1)","v":0},null,null,32,null,null,null,null,{"$f":"IF(QOY37=\"\",0,LEN(TRIM(QOY37))-LEN(SUBSTITUTE(TRIM(QOY37),\" \",\"\"))+1)","v":0},null,null,32,null,null,null,null,{"$f":"IF(QPG37=\"\",0,LEN(TRIM(QPG37))-LEN(SUBSTITUTE(TRIM(QPG37),\" \",\"\"))+1)","v":0},null,null,32,null,null,null,null,{"$f":"IF(QPO37=\"\",0,LEN(TRIM(QPO37))-LEN(SUBSTITUTE(TRIM(QPO37),\" \",\"\"))+1)","v":0},null,null,32,null,null,null,null,{"$f":"IF(QPW37=\"\",0,LEN(TRIM(QPW37))-LEN(SUBSTITUTE(TRIM(QPW37),\" \",\"\"))+1)","v":0},null,null,32,null,null,null,null,{"$f":"IF(QQE37=\"\",0,LEN(TRIM(QQE37))-LEN(SUBSTITUTE(TRIM(QQE37),\" \",\"\"))+1)","v":0},null,null,32,null,null,null,null,{"$f":"IF(QQM37=\"\",0,LEN(TRIM(QQM37))-LEN(SUBSTITUTE(TRIM(QQM37),\" \",\"\"))+1)","v":0},null,null,32,null,null,null,null,{"$f":"IF(QQU37=\"\",0,LEN(TRIM(QQU37))-LEN(SUBSTITUTE(TRIM(QQU37),\" \",\"\"))+1)","v":0},null,null,32,null,null,null,null,{"$f":"IF(QRC37=\"\",0,LEN(TRIM(QRC37))-LEN(SUBSTITUTE(TRIM(QRC37),\" \",\"\"))+1)","v":0},null,null,32,null,null,null,null,{"$f":"IF(QRK37=\"\",0,LEN(TRIM(QRK37))-LEN(SUBSTITUTE(TRIM(QRK37),\" \",\"\"))+1)","v":0},null,null,32,null,null,null,null,{"$f":"IF(QRS37=\"\",0,LEN(TRIM(QRS37))-LEN(SUBSTITUTE(TRIM(QRS37),\" \",\"\"))+1)","v":0},null,null,32,null,null,null,null,{"$f":"IF(QSA37=\"\",0,LEN(TRIM(QSA37))-LEN(SUBSTITUTE(TRIM(QSA37),\" \",\"\"))+1)","v":0},null,null,32,null,null,null,null,{"$f":"IF(QSI37=\"\",0,LEN(TRIM(QSI37))-LEN(SUBSTITUTE(TRIM(QSI37),\" \",\"\"))+1)","v":0},null,null,32,null,null,null,null,{"$f":"IF(QSQ37=\"\",0,LEN(TRIM(QSQ37))-LEN(SUBSTITUTE(TRIM(QSQ37),\" \",\"\"))+1)","v":0},null,null,32,null,null,null,null,{"$f":"IF(QSY37=\"\",0,LEN(TRIM(QSY37))-LEN(SUBSTITUTE(TRIM(QSY37),\" \",\"\"))+1)","v":0},null,null,32,null,null,null,null,{"$f":"IF(QTG37=\"\",0,LEN(TRIM(QTG37))-LEN(SUBSTITUTE(TRIM(QTG37),\" \",\"\"))+1)","v":0},null,null,32,null,null,null,null,{"$f":"IF(QTO37=\"\",0,LEN(TRIM(QTO37))-LEN(SUBSTITUTE(TRIM(QTO37),\" \",\"\"))+1)","v":0},null,null,32,null,null,null,null,{"$f":"IF(QTW37=\"\",0,LEN(TRIM(QTW37))-LEN(SUBSTITUTE(TRIM(QTW37),\" \",\"\"))+1)","v":0},null,null,32,null,null,null,null,{"$f":"IF(QUE37=\"\",0,LEN(TRIM(QUE37))-LEN(SUBSTITUTE(TRIM(QUE37),\" \",\"\"))+1)","v":0},null,null,32,null,null,null,null,{"$f":"IF(QUM37=\"\",0,LEN(TRIM(QUM37))-LEN(SUBSTITUTE(TRIM(QUM37),\" \",\"\"))+1)","v":0},null,null,32,null,null,null,null,{"$f":"IF(QUU37=\"\",0,LEN(TRIM(QUU37))-LEN(SUBSTITUTE(TRIM(QUU37),\" \",\"\"))+1)","v":0},null,null,32,null,null,null,null,{"$f":"IF(QVC37=\"\",0,LEN(TRIM(QVC37))-LEN(SUBSTITUTE(TRIM(QVC37),\" \",\"\"))+1)","v":0},null,null,32,null,null,null,null,{"$f":"IF(QVK37=\"\",0,LEN(TRIM(QVK37))-LEN(SUBSTITUTE(TRIM(QVK37),\" \",\"\"))+1)","v":0},null,null,32,null,null,null,null,{"$f":"IF(QVS37=\"\",0,LEN(TRIM(QVS37))-LEN(SUBSTITUTE(TRIM(QVS37),\" \",\"\"))+1)","v":0},null,null,32,null,null,null,null,{"$f":"IF(QWA37=\"\",0,LEN(TRIM(QWA37))-LEN(SUBSTITUTE(TRIM(QWA37),\" \",\"\"))+1)","v":0},null,null,32,null,null,null,null,{"$f":"IF(QWI37=\"\",0,LEN(TRIM(QWI37))-LEN(SUBSTITUTE(TRIM(QWI37),\" \",\"\"))+1)","v":0},null,null,32,null,null,null,null,{"$f":"IF(QWQ37=\"\",0,LEN(TRIM(QWQ37))-LEN(SUBSTITUTE(TRIM(QWQ37),\" \",\"\"))+1)","v":0},null,null,32,null,null,null,null,{"$f":"IF(QWY37=\"\",0,LEN(TRIM(QWY37))-LEN(SUBSTITUTE(TRIM(QWY37),\" \",\"\"))+1)","v":0},null,null,32,null,null,null,null,{"$f":"IF(QXG37=\"\",0,LEN(TRIM(QXG37))-LEN(SUBSTITUTE(TRIM(QXG37),\" \",\"\"))+1)","v":0},null,null,32,null,null,null,null,{"$f":"IF(QXO37=\"\",0,LEN(TRIM(QXO37))-LEN(SUBSTITUTE(TRIM(QXO37),\" \",\"\"))+1)","v":0},null,null,32,null,null,null,null,{"$f":"IF(QXW37=\"\",0,LEN(TRIM(QXW37))-LEN(SUBSTITUTE(TRIM(QXW37),\" \",\"\"))+1)","v":0},null,null,32,null,null,null,null,{"$f":"IF(QYE37=\"\",0,LEN(TRIM(QYE37))-LEN(SUBSTITUTE(TRIM(QYE37),\" \",\"\"))+1)","v":0},null,null,32,null,null,null,null,{"$f":"IF(QYM37=\"\",0,LEN(TRIM(QYM37))-LEN(SUBSTITUTE(TRIM(QYM37),\" \",\"\"))+1)","v":0},null,null,32,null,null,null,null,{"$f":"IF(QYU37=\"\",0,LEN(TRIM(QYU37))-LEN(SUBSTITUTE(TRIM(QYU37),\" \",\"\"))+1)","v":0},null,null,32,null,null,null,null,{"$f":"IF(QZC37=\"\",0,LEN(TRIM(QZC37))-LEN(SUBSTITUTE(TRIM(QZC37),\" \",\"\"))+1)","v":0},null,null,32,null,null,null,null,{"$f":"IF(QZK37=\"\",0,LEN(TRIM(QZK37))-LEN(SUBSTITUTE(TRIM(QZK37),\" \",\"\"))+1)","v":0},null,null,32,null,null,null,null,{"$f":"IF(QZS37=\"\",0,LEN(TRIM(QZS37))-LEN(SUBSTITUTE(TRIM(QZS37),\" \",\"\"))+1)","v":0},null,null,32,null,null,null,null,{"$f":"IF(RAA37=\"\",0,LEN(TRIM(RAA37))-LEN(SUBSTITUTE(TRIM(RAA37),\" \",\"\"))+1)","v":0},null,null,32,null,null,null,null,{"$f":"IF(RAI37=\"\",0,LEN(TRIM(RAI37))-LEN(SUBSTITUTE(TRIM(RAI37),\" \",\"\"))+1)","v":0},null,null,32,null,null,null,null,{"$f":"IF(RAQ37=\"\",0,LEN(TRIM(RAQ37))-LEN(SUBSTITUTE(TRIM(RAQ37),\" \",\"\"))+1)","v":0},null,null,32,null,null,null,null,{"$f":"IF(RAY37=\"\",0,LEN(TRIM(RAY37))-LEN(SUBSTITUTE(TRIM(RAY37),\" \",\"\"))+1)","v":0},null,null,32,null,null,null,null,{"$f":"IF(RBG37=\"\",0,LEN(TRIM(RBG37))-LEN(SUBSTITUTE(TRIM(RBG37),\" \",\"\"))+1)","v":0},null,null,32,null,null,null,null,{"$f":"IF(RBO37=\"\",0,LEN(TRIM(RBO37))-LEN(SUBSTITUTE(TRIM(RBO37),\" \",\"\"))+1)","v":0},null,null,32,null,null,null,null,{"$f":"IF(RBW37=\"\",0,LEN(TRIM(RBW37))-LEN(SUBSTITUTE(TRIM(RBW37),\" \",\"\"))+1)","v":0},null,null,32,null,null,null,null,{"$f":"IF(RCE37=\"\",0,LEN(TRIM(RCE37))-LEN(SUBSTITUTE(TRIM(RCE37),\" \",\"\"))+1)","v":0},null,null,32,null,null,null,null,{"$f":"IF(RCM37=\"\",0,LEN(TRIM(RCM37))-LEN(SUBSTITUTE(TRIM(RCM37),\" \",\"\"))+1)","v":0},null,null,32,null,null,null,null,{"$f":"IF(RCU37=\"\",0,LEN(TRIM(RCU37))-LEN(SUBSTITUTE(TRIM(RCU37),\" \",\"\"))+1)","v":0},null,null,32,null,null,null,null,{"$f":"IF(RDC37=\"\",0,LEN(TRIM(RDC37))-LEN(SUBSTITUTE(TRIM(RDC37),\" \",\"\"))+1)","v":0},null,null,32,null,null,null,null,{"$f":"IF(RDK37=\"\",0,LEN(TRIM(RDK37))-LEN(SUBSTITUTE(TRIM(RDK37),\" \",\"\"))+1)","v":0},null,null,32,null,null,null,null,{"$f":"IF(RDS37=\"\",0,LEN(TRIM(RDS37))-LEN(SUBSTITUTE(TRIM(RDS37),\" \",\"\"))+1)","v":0},null,null,32,null,null,null,null,{"$f":"IF(REA37=\"\",0,LEN(TRIM(REA37))-LEN(SUBSTITUTE(TRIM(REA37),\" \",\"\"))+1)","v":0},null,null,32,null,null,null,null,{"$f":"IF(REI37=\"\",0,LEN(TRIM(REI37))-LEN(SUBSTITUTE(TRIM(REI37),\" \",\"\"))+1)","v":0},null,null,32,null,null,null,null,{"$f":"IF(REQ37=\"\",0,LEN(TRIM(REQ37))-LEN(SUBSTITUTE(TRIM(REQ37),\" \",\"\"))+1)","v":0},null,null,32,null,null,null,null,{"$f":"IF(REY37=\"\",0,LEN(TRIM(REY37))-LEN(SUBSTITUTE(TRIM(REY37),\" \",\"\"))+1)","v":0},null,null,32,null,null,null,null,{"$f":"IF(RFG37=\"\",0,LEN(TRIM(RFG37))-LEN(SUBSTITUTE(TRIM(RFG37),\" \",\"\"))+1)","v":0},null,null,32,null,null,null,null,{"$f":"IF(RFO37=\"\",0,LEN(TRIM(RFO37))-LEN(SUBSTITUTE(TRIM(RFO37),\" \",\"\"))+1)","v":0},null,null,32,null,null,null,null,{"$f":"IF(RFW37=\"\",0,LEN(TRIM(RFW37))-LEN(SUBSTITUTE(TRIM(RFW37),\" \",\"\"))+1)","v":0},null,null,32,null,null,null,null,{"$f":"IF(RGE37=\"\",0,LEN(TRIM(RGE37))-LEN(SUBSTITUTE(TRIM(RGE37),\" \",\"\"))+1)","v":0},null,null,32,null,null,null,null,{"$f":"IF(RGM37=\"\",0,LEN(TRIM(RGM37))-LEN(SUBSTITUTE(TRIM(RGM37),\" \",\"\"))+1)","v":0},null,null,32,null,null,null,null,{"$f":"IF(RGU37=\"\",0,LEN(TRIM(RGU37))-LEN(SUBSTITUTE(TRIM(RGU37),\" \",\"\"))+1)","v":0},null,null,32,null,null,null,null,{"$f":"IF(RHC37=\"\",0,LEN(TRIM(RHC37))-LEN(SUBSTITUTE(TRIM(RHC37),\" \",\"\"))+1)","v":0},null,null,32,null,null,null,null,{"$f":"IF(RHK37=\"\",0,LEN(TRIM(RHK37))-LEN(SUBSTITUTE(TRIM(RHK37),\" \",\"\"))+1)","v":0},null,null,32,null,null,null,null,{"$f":"IF(RHS37=\"\",0,LEN(TRIM(RHS37))-LEN(SUBSTITUTE(TRIM(RHS37),\" \",\"\"))+1)","v":0},null,null,32,null,null,null,null,{"$f":"IF(RIA37=\"\",0,LEN(TRIM(RIA37))-LEN(SUBSTITUTE(TRIM(RIA37),\" \",\"\"))+1)","v":0},null,null,32,null,null,null,null,{"$f":"IF(RII37=\"\",0,LEN(TRIM(RII37))-LEN(SUBSTITUTE(TRIM(RII37),\" \",\"\"))+1)","v":0},null,null,32,null,null,null,null,{"$f":"IF(RIQ37=\"\",0,LEN(TRIM(RIQ37))-LEN(SUBSTITUTE(TRIM(RIQ37),\" \",\"\"))+1)","v":0},null,null,32,null,null,null,null,{"$f":"IF(RIY37=\"\",0,LEN(TRIM(RIY37))-LEN(SUBSTITUTE(TRIM(RIY37),\" \",\"\"))+1)","v":0},null,null,32,null,null,null,null,{"$f":"IF(RJG37=\"\",0,LEN(TRIM(RJG37))-LEN(SUBSTITUTE(TRIM(RJG37),\" \",\"\"))+1)","v":0},null,null,32,null,null,null,null,{"$f":"IF(RJO37=\"\",0,LEN(TRIM(RJO37))-LEN(SUBSTITUTE(TRIM(RJO37),\" \",\"\"))+1)","v":0},null,null,32,null,null,null,null,{"$f":"IF(RJW37=\"\",0,LEN(TRIM(RJW37))-LEN(SUBSTITUTE(TRIM(RJW37),\" \",\"\"))+1)","v":0},null,null,32,null,null,null,null,{"$f":"IF(RKE37=\"\",0,LEN(TRIM(RKE37))-LEN(SUBSTITUTE(TRIM(RKE37),\" \",\"\"))+1)","v":0},null,null,32,null,null,null,null,{"$f":"IF(RKM37=\"\",0,LEN(TRIM(RKM37))-LEN(SUBSTITUTE(TRIM(RKM37),\" \",\"\"))+1)","v":0},null,null,32,null,null,null,null,{"$f":"IF(RKU37=\"\",0,LEN(TRIM(RKU37))-LEN(SUBSTITUTE(TRIM(RKU37),\" \",\"\"))+1)","v":0},null,null,32,null,null,null,null,{"$f":"IF(RLC37=\"\",0,LEN(TRIM(RLC37))-LEN(SUBSTITUTE(TRIM(RLC37),\" \",\"\"))+1)","v":0},null,null,32,null,null,null,null,{"$f":"IF(RLK37=\"\",0,LEN(TRIM(RLK37))-LEN(SUBSTITUTE(TRIM(RLK37),\" \",\"\"))+1)","v":0},null,null,32,null,null,null,null,{"$f":"IF(RLS37=\"\",0,LEN(TRIM(RLS37))-LEN(SUBSTITUTE(TRIM(RLS37),\" \",\"\"))+1)","v":0},null,null,32,null,null,null,null,{"$f":"IF(RMA37=\"\",0,LEN(TRIM(RMA37))-LEN(SUBSTITUTE(TRIM(RMA37),\" \",\"\"))+1)","v":0},null,null,32,null,null,null,null,{"$f":"IF(RMI37=\"\",0,LEN(TRIM(RMI37))-LEN(SUBSTITUTE(TRIM(RMI37),\" \",\"\"))+1)","v":0},null,null,32,null,null,null,null,{"$f":"IF(RMQ37=\"\",0,LEN(TRIM(RMQ37))-LEN(SUBSTITUTE(TRIM(RMQ37),\" \",\"\"))+1)","v":0},null,null,32,null,null,null,null,{"$f":"IF(RMY37=\"\",0,LEN(TRIM(RMY37))-LEN(SUBSTITUTE(TRIM(RMY37),\" \",\"\"))+1)","v":0},null,null,32,null,null,null,null,{"$f":"IF(RNG37=\"\",0,LEN(TRIM(RNG37))-LEN(SUBSTITUTE(TRIM(RNG37),\" \",\"\"))+1)","v":0},null,null,32,null,null,null,null,{"$f":"IF(RNO37=\"\",0,LEN(TRIM(RNO37))-LEN(SUBSTITUTE(TRIM(RNO37),\" \",\"\"))+1)","v":0},null,null,32,null,null,null,null,{"$f":"IF(RNW37=\"\",0,LEN(TRIM(RNW37))-LEN(SUBSTITUTE(TRIM(RNW37),\" \",\"\"))+1)","v":0},null,null,32,null,null,null,null,{"$f":"IF(ROE37=\"\",0,LEN(TRIM(ROE37))-LEN(SUBSTITUTE(TRIM(ROE37),\" \",\"\"))+1)","v":0},null,null,32,null,null,null,null,{"$f":"IF(ROM37=\"\",0,LEN(TRIM(ROM37))-LEN(SUBSTITUTE(TRIM(ROM37),\" \",\"\"))+1)","v":0},null,null,32,null,null,null,null,{"$f":"IF(ROU37=\"\",0,LEN(TRIM(ROU37))-LEN(SUBSTITUTE(TRIM(ROU37),\" \",\"\"))+1)","v":0},null,null,32,null,null,null,null,{"$f":"IF(RPC37=\"\",0,LEN(TRIM(RPC37))-LEN(SUBSTITUTE(TRIM(RPC37),\" \",\"\"))+1)","v":0},null,null,32,null,null,null,null,{"$f":"IF(RPK37=\"\",0,LEN(TRIM(RPK37))-LEN(SUBSTITUTE(TRIM(RPK37),\" \",\"\"))+1)","v":0},null,null,32,null,null,null,null,{"$f":"IF(RPS37=\"\",0,LEN(TRIM(RPS37))-LEN(SUBSTITUTE(TRIM(RPS37),\" \",\"\"))+1)","v":0},null,null,32,null,null,null,null,{"$f":"IF(RQA37=\"\",0,LEN(TRIM(RQA37))-LEN(SUBSTITUTE(TRIM(RQA37),\" \",\"\"))+1)","v":0},null,null,32,null,null,null,null,{"$f":"IF(RQI37=\"\",0,LEN(TRIM(RQI37))-LEN(SUBSTITUTE(TRIM(RQI37),\" \",\"\"))+1)","v":0},null,null,32,null,null,null,null,{"$f":"IF(RQQ37=\"\",0,LEN(TRIM(RQQ37))-LEN(SUBSTITUTE(TRIM(RQQ37),\" \",\"\"))+1)","v":0},null,null,32,null,null,null,null,{"$f":"IF(RQY37=\"\",0,LEN(TRIM(RQY37))-LEN(SUBSTITUTE(TRIM(RQY37),\" \",\"\"))+1)","v":0},null,null,32,null,null,null,null,{"$f":"IF(RRG37=\"\",0,LEN(TRIM(RRG37))-LEN(SUBSTITUTE(TRIM(RRG37),\" \",\"\"))+1)","v":0},null,null,32,null,null,null,null,{"$f":"IF(RRO37=\"\",0,LEN(TRIM(RRO37))-LEN(SUBSTITUTE(TRIM(RRO37),\" \",\"\"))+1)","v":0},null,null,32,null,null,null,null,{"$f":"IF(RRW37=\"\",0,LEN(TRIM(RRW37))-LEN(SUBSTITUTE(TRIM(RRW37),\" \",\"\"))+1)","v":0},null,null,32,null,null,null,null,{"$f":"IF(RSE37=\"\",0,LEN(TRIM(RSE37))-LEN(SUBSTITUTE(TRIM(RSE37),\" \",\"\"))+1)","v":0},null,null,32,null,null,null,null,{"$f":"IF(RSM37=\"\",0,LEN(TRIM(RSM37))-LEN(SUBSTITUTE(TRIM(RSM37),\" \",\"\"))+1)","v":0},null,null,32,null,null,null,null,{"$f":"IF(RSU37=\"\",0,LEN(TRIM(RSU37))-LEN(SUBSTITUTE(TRIM(RSU37),\" \",\"\"))+1)","v":0},null,null,32,null,null,null,null,{"$f":"IF(RTC37=\"\",0,LEN(TRIM(RTC37))-LEN(SUBSTITUTE(TRIM(RTC37),\" \",\"\"))+1)","v":0},null,null,32,null,null,null,null,{"$f":"IF(RTK37=\"\",0,LEN(TRIM(RTK37))-LEN(SUBSTITUTE(TRIM(RTK37),\" \",\"\"))+1)","v":0},null,null,32,null,null,null,null,{"$f":"IF(RTS37=\"\",0,LEN(TRIM(RTS37))-LEN(SUBSTITUTE(TRIM(RTS37),\" \",\"\"))+1)","v":0},null,null,32,null,null,null,null,{"$f":"IF(RUA37=\"\",0,LEN(TRIM(RUA37))-LEN(SUBSTITUTE(TRIM(RUA37),\" \",\"\"))+1)","v":0},null,null,32,null,null,null,null,{"$f":"IF(RUI37=\"\",0,LEN(TRIM(RUI37))-LEN(SUBSTITUTE(TRIM(RUI37),\" \",\"\"))+1)","v":0},null,null,32,null,null,null,null,{"$f":"IF(RUQ37=\"\",0,LEN(TRIM(RUQ37))-LEN(SUBSTITUTE(TRIM(RUQ37),\" \",\"\"))+1)","v":0},null,null,32,null,null,null,null,{"$f":"IF(RUY37=\"\",0,LEN(TRIM(RUY37))-LEN(SUBSTITUTE(TRIM(RUY37),\" \",\"\"))+1)","v":0},null,null,32,null,null,null,null,{"$f":"IF(RVG37=\"\",0,LEN(TRIM(RVG37))-LEN(SUBSTITUTE(TRIM(RVG37),\" \",\"\"))+1)","v":0},null,null,32,null,null,null,null,{"$f":"IF(RVO37=\"\",0,LEN(TRIM(RVO37))-LEN(SUBSTITUTE(TRIM(RVO37),\" \",\"\"))+1)","v":0},null,null,32,null,null,null,null,{"$f":"IF(RVW37=\"\",0,LEN(TRIM(RVW37))-LEN(SUBSTITUTE(TRIM(RVW37),\" \",\"\"))+1)","v":0},null,null,32,null,null,null,null,{"$f":"IF(RWE37=\"\",0,LEN(TRIM(RWE37))-LEN(SUBSTITUTE(TRIM(RWE37),\" \",\"\"))+1)","v":0},null,null,32,null,null,null,null,{"$f":"IF(RWM37=\"\",0,LEN(TRIM(RWM37))-LEN(SUBSTITUTE(TRIM(RWM37),\" \",\"\"))+1)","v":0},null,null,32,null,null,null,null,{"$f":"IF(RWU37=\"\",0,LEN(TRIM(RWU37))-LEN(SUBSTITUTE(TRIM(RWU37),\" \",\"\"))+1)","v":0},null,null,32,null,null,null,null,{"$f":"IF(RXC37=\"\",0,LEN(TRIM(RXC37))-LEN(SUBSTITUTE(TRIM(RXC37),\" \",\"\"))+1)","v":0},null,null,32,null,null,null,null,{"$f":"IF(RXK37=\"\",0,LEN(TRIM(RXK37))-LEN(SUBSTITUTE(TRIM(RXK37),\" \",\"\"))+1)","v":0},null,null,32,null,null,null,null,{"$f":"IF(RXS37=\"\",0,LEN(TRIM(RXS37))-LEN(SUBSTITUTE(TRIM(RXS37),\" \",\"\"))+1)","v":0},null,null,32,null,null,null,null,{"$f":"IF(RYA37=\"\",0,LEN(TRIM(RYA37))-LEN(SUBSTITUTE(TRIM(RYA37),\" \",\"\"))+1)","v":0},null,null,32,null,null,null,null,{"$f":"IF(RYI37=\"\",0,LEN(TRIM(RYI37))-LEN(SUBSTITUTE(TRIM(RYI37),\" \",\"\"))+1)","v":0},null,null,32,null,null,null,null,{"$f":"IF(RYQ37=\"\",0,LEN(TRIM(RYQ37))-LEN(SUBSTITUTE(TRIM(RYQ37),\" \",\"\"))+1)","v":0},null,null,32,null,null,null,null,{"$f":"IF(RYY37=\"\",0,LEN(TRIM(RYY37))-LEN(SUBSTITUTE(TRIM(RYY37),\" \",\"\"))+1)","v":0},null,null,32,null,null,null,null,{"$f":"IF(RZG37=\"\",0,LEN(TRIM(RZG37))-LEN(SUBSTITUTE(TRIM(RZG37),\" \",\"\"))+1)","v":0},null,null,32,null,null,null,null,{"$f":"IF(RZO37=\"\",0,LEN(TRIM(RZO37))-LEN(SUBSTITUTE(TRIM(RZO37),\" \",\"\"))+1)","v":0},null,null,32,null,null,null,null,{"$f":"IF(RZW37=\"\",0,LEN(TRIM(RZW37))-LEN(SUBSTITUTE(TRIM(RZW37),\" \",\"\"))+1)","v":0},null,null,32,null,null,null,null,{"$f":"IF(SAE37=\"\",0,LEN(TRIM(SAE37))-LEN(SUBSTITUTE(TRIM(SAE37),\" \",\"\"))+1)","v":0},null,null,32,null,null,null,null,{"$f":"IF(SAM37=\"\",0,LEN(TRIM(SAM37))-LEN(SUBSTITUTE(TRIM(SAM37),\" \",\"\"))+1)","v":0},null,null,32,null,null,null,null,{"$f":"IF(SAU37=\"\",0,LEN(TRIM(SAU37))-LEN(SUBSTITUTE(TRIM(SAU37),\" \",\"\"))+1)","v":0},null,null,32,null,null,null,null,{"$f":"IF(SBC37=\"\",0,LEN(TRIM(SBC37))-LEN(SUBSTITUTE(TRIM(SBC37),\" \",\"\"))+1)","v":0},null,null,32,null,null,null,null,{"$f":"IF(SBK37=\"\",0,LEN(TRIM(SBK37))-LEN(SUBSTITUTE(TRIM(SBK37),\" \",\"\"))+1)","v":0},null,null,32,null,null,null,null,{"$f":"IF(SBS37=\"\",0,LEN(TRIM(SBS37))-LEN(SUBSTITUTE(TRIM(SBS37),\" \",\"\"))+1)","v":0},null,null,32,null,null,null,null,{"$f":"IF(SCA37=\"\",0,LEN(TRIM(SCA37))-LEN(SUBSTITUTE(TRIM(SCA37),\" \",\"\"))+1)","v":0},null,null,32,null,null,null,null,{"$f":"IF(SCI37=\"\",0,LEN(TRIM(SCI37))-LEN(SUBSTITUTE(TRIM(SCI37),\" \",\"\"))+1)","v":0},null,null,32,null,null,null,null,{"$f":"IF(SCQ37=\"\",0,LEN(TRIM(SCQ37))-LEN(SUBSTITUTE(TRIM(SCQ37),\" \",\"\"))+1)","v":0},null,null,32,null,null,null,null,{"$f":"IF(SCY37=\"\",0,LEN(TRIM(SCY37))-LEN(SUBSTITUTE(TRIM(SCY37),\" \",\"\"))+1)","v":0},null,null,32,null,null,null,null,{"$f":"IF(SDG37=\"\",0,LEN(TRIM(SDG37))-LEN(SUBSTITUTE(TRIM(SDG37),\" \",\"\"))+1)","v":0},null,null,32,null,null,null,null,{"$f":"IF(SDO37=\"\",0,LEN(TRIM(SDO37))-LEN(SUBSTITUTE(TRIM(SDO37),\" \",\"\"))+1)","v":0},null,null,32,null,null,null,null,{"$f":"IF(SDW37=\"\",0,LEN(TRIM(SDW37))-LEN(SUBSTITUTE(TRIM(SDW37),\" \",\"\"))+1)","v":0},null,null,32,null,null,null,null,{"$f":"IF(SEE37=\"\",0,LEN(TRIM(SEE37))-LEN(SUBSTITUTE(TRIM(SEE37),\" \",\"\"))+1)","v":0},null,null,32,null,null,null,null,{"$f":"IF(SEM37=\"\",0,LEN(TRIM(SEM37))-LEN(SUBSTITUTE(TRIM(SEM37),\" \",\"\"))+1)","v":0},null,null,32,null,null,null,null,{"$f":"IF(SEU37=\"\",0,LEN(TRIM(SEU37))-LEN(SUBSTITUTE(TRIM(SEU37),\" \",\"\"))+1)","v":0},null,null,32,null,null,null,null,{"$f":"IF(SFC37=\"\",0,LEN(TRIM(SFC37))-LEN(SUBSTITUTE(TRIM(SFC37),\" \",\"\"))+1)","v":0},null,null,32,null,null,null,null,{"$f":"IF(SFK37=\"\",0,LEN(TRIM(SFK37))-LEN(SUBSTITUTE(TRIM(SFK37),\" \",\"\"))+1)","v":0},null,null,32,null,null,null,null,{"$f":"IF(SFS37=\"\",0,LEN(TRIM(SFS37))-LEN(SUBSTITUTE(TRIM(SFS37),\" \",\"\"))+1)","v":0},null,null,32,null,null,null,null,{"$f":"IF(SGA37=\"\",0,LEN(TRIM(SGA37))-LEN(SUBSTITUTE(TRIM(SGA37),\" \",\"\"))+1)","v":0},null,null,32,null,null,null,null,{"$f":"IF(SGI37=\"\",0,LEN(TRIM(SGI37))-LEN(SUBSTITUTE(TRIM(SGI37),\" \",\"\"))+1)","v":0},null,null,32,null,null,null,null,{"$f":"IF(SGQ37=\"\",0,LEN(TRIM(SGQ37))-LEN(SUBSTITUTE(TRIM(SGQ37),\" \",\"\"))+1)","v":0},null,null,32,null,null,null,null,{"$f":"IF(SGY37=\"\",0,LEN(TRIM(SGY37))-LEN(SUBSTITUTE(TRIM(SGY37),\" \",\"\"))+1)","v":0},null,null,32,null,null,null,null,{"$f":"IF(SHG37=\"\",0,LEN(TRIM(SHG37))-LEN(SUBSTITUTE(TRIM(SHG37),\" \",\"\"))+1)","v":0},null,null,32,null,null,null,null,{"$f":"IF(SHO37=\"\",0,LEN(TRIM(SHO37))-LEN(SUBSTITUTE(TRIM(SHO37),\" \",\"\"))+1)","v":0},null,null,32,null,null,null,null,{"$f":"IF(SHW37=\"\",0,LEN(TRIM(SHW37))-LEN(SUBSTITUTE(TRIM(SHW37),\" \",\"\"))+1)","v":0},null,null,32,null,null,null,null,{"$f":"IF(SIE37=\"\",0,LEN(TRIM(SIE37))-LEN(SUBSTITUTE(TRIM(SIE37),\" \",\"\"))+1)","v":0},null,null,32,null,null,null,null,{"$f":"IF(SIM37=\"\",0,LEN(TRIM(SIM37))-LEN(SUBSTITUTE(TRIM(SIM37),\" \",\"\"))+1)","v":0},null,null,32,null,null,null,null,{"$f":"IF(SIU37=\"\",0,LEN(TRIM(SIU37))-LEN(SUBSTITUTE(TRIM(SIU37),\" \",\"\"))+1)","v":0},null,null,32,null,null,null,null,{"$f":"IF(SJC37=\"\",0,LEN(TRIM(SJC37))-LEN(SUBSTITUTE(TRIM(SJC37),\" \",\"\"))+1)","v":0},null,null,32,null,null,null,null,{"$f":"IF(SJK37=\"\",0,LEN(TRIM(SJK37))-LEN(SUBSTITUTE(TRIM(SJK37),\" \",\"\"))+1)","v":0},null,null,32,null,null,null,null,{"$f":"IF(SJS37=\"\",0,LEN(TRIM(SJS37))-LEN(SUBSTITUTE(TRIM(SJS37),\" \",\"\"))+1)","v":0},null,null,32,null,null,null,null,{"$f":"IF(SKA37=\"\",0,LEN(TRIM(SKA37))-LEN(SUBSTITUTE(TRIM(SKA37),\" \",\"\"))+1)","v":0},null,null,32,null,null,null,null,{"$f":"IF(SKI37=\"\",0,LEN(TRIM(SKI37))-LEN(SUBSTITUTE(TRIM(SKI37),\" \",\"\"))+1)","v":0},null,null,32,null,null,null,null,{"$f":"IF(SKQ37=\"\",0,LEN(TRIM(SKQ37))-LEN(SUBSTITUTE(TRIM(SKQ37),\" \",\"\"))+1)","v":0},null,null,32,null,null,null,null,{"$f":"IF(SKY37=\"\",0,LEN(TRIM(SKY37))-LEN(SUBSTITUTE(TRIM(SKY37),\" \",\"\"))+1)","v":0},null,null,32,null,null,null,null,{"$f":"IF(SLG37=\"\",0,LEN(TRIM(SLG37))-LEN(SUBSTITUTE(TRIM(SLG37),\" \",\"\"))+1)","v":0},null,null,32,null,null,null,null,{"$f":"IF(SLO37=\"\",0,LEN(TRIM(SLO37))-LEN(SUBSTITUTE(TRIM(SLO37),\" \",\"\"))+1)","v":0},null,null,32,null,null,null,null,{"$f":"IF(SLW37=\"\",0,LEN(TRIM(SLW37))-LEN(SUBSTITUTE(TRIM(SLW37),\" \",\"\"))+1)","v":0},null,null,32,null,null,null,null,{"$f":"IF(SME37=\"\",0,LEN(TRIM(SME37))-LEN(SUBSTITUTE(TRIM(SME37),\" \",\"\"))+1)","v":0},null,null,32,null,null,null,null,{"$f":"IF(SMM37=\"\",0,LEN(TRIM(SMM37))-LEN(SUBSTITUTE(TRIM(SMM37),\" \",\"\"))+1)","v":0},null,null,32,null,null,null,null,{"$f":"IF(SMU37=\"\",0,LEN(TRIM(SMU37))-LEN(SUBSTITUTE(TRIM(SMU37),\" \",\"\"))+1)","v":0},null,null,32,null,null,null,null,{"$f":"IF(SNC37=\"\",0,LEN(TRIM(SNC37))-LEN(SUBSTITUTE(TRIM(SNC37),\" \",\"\"))+1)","v":0},null,null,32,null,null,null,null,{"$f":"IF(SNK37=\"\",0,LEN(TRIM(SNK37))-LEN(SUBSTITUTE(TRIM(SNK37),\" \",\"\"))+1)","v":0},null,null,32,null,null,null,null,{"$f":"IF(SNS37=\"\",0,LEN(TRIM(SNS37))-LEN(SUBSTITUTE(TRIM(SNS37),\" \",\"\"))+1)","v":0},null,null,32,null,null,null,null,{"$f":"IF(SOA37=\"\",0,LEN(TRIM(SOA37))-LEN(SUBSTITUTE(TRIM(SOA37),\" \",\"\"))+1)","v":0},null,null,32,null,null,null,null,{"$f":"IF(SOI37=\"\",0,LEN(TRIM(SOI37))-LEN(SUBSTITUTE(TRIM(SOI37),\" \",\"\"))+1)","v":0},null,null,32,null,null,null,null,{"$f":"IF(SOQ37=\"\",0,LEN(TRIM(SOQ37))-LEN(SUBSTITUTE(TRIM(SOQ37),\" \",\"\"))+1)","v":0},null,null,32,null,null,null,null,{"$f":"IF(SOY37=\"\",0,LEN(TRIM(SOY37))-LEN(SUBSTITUTE(TRIM(SOY37),\" \",\"\"))+1)","v":0},null,null,32,null,null,null,null,{"$f":"IF(SPG37=\"\",0,LEN(TRIM(SPG37))-LEN(SUBSTITUTE(TRIM(SPG37),\" \",\"\"))+1)","v":0},null,null,32,null,null,null,null,{"$f":"IF(SPO37=\"\",0,LEN(TRIM(SPO37))-LEN(SUBSTITUTE(TRIM(SPO37),\" \",\"\"))+1)","v":0},null,null,32,null,null,null,null,{"$f":"IF(SPW37=\"\",0,LEN(TRIM(SPW37))-LEN(SUBSTITUTE(TRIM(SPW37),\" \",\"\"))+1)","v":0},null,null,32,null,null,null,null,{"$f":"IF(SQE37=\"\",0,LEN(TRIM(SQE37))-LEN(SUBSTITUTE(TRIM(SQE37),\" \",\"\"))+1)","v":0},null,null,32,null,null,null,null,{"$f":"IF(SQM37=\"\",0,LEN(TRIM(SQM37))-LEN(SUBSTITUTE(TRIM(SQM37),\" \",\"\"))+1)","v":0},null,null,32,null,null,null,null,{"$f":"IF(SQU37=\"\",0,LEN(TRIM(SQU37))-LEN(SUBSTITUTE(TRIM(SQU37),\" \",\"\"))+1)","v":0},null,null,32,null,null,null,null,{"$f":"IF(SRC37=\"\",0,LEN(TRIM(SRC37))-LEN(SUBSTITUTE(TRIM(SRC37),\" \",\"\"))+1)","v":0},null,null,32,null,null,null,null,{"$f":"IF(SRK37=\"\",0,LEN(TRIM(SRK37))-LEN(SUBSTITUTE(TRIM(SRK37),\" \",\"\"))+1)","v":0},null,null,32,null,null,null,null,{"$f":"IF(SRS37=\"\",0,LEN(TRIM(SRS37))-LEN(SUBSTITUTE(TRIM(SRS37),\" \",\"\"))+1)","v":0},null,null,32,null,null,null,null,{"$f":"IF(SSA37=\"\",0,LEN(TRIM(SSA37))-LEN(SUBSTITUTE(TRIM(SSA37),\" \",\"\"))+1)","v":0},null,null,32,null,null,null,null,{"$f":"IF(SSI37=\"\",0,LEN(TRIM(SSI37))-LEN(SUBSTITUTE(TRIM(SSI37),\" \",\"\"))+1)","v":0},null,null,32,null,null,null,null,{"$f":"IF(SSQ37=\"\",0,LEN(TRIM(SSQ37))-LEN(SUBSTITUTE(TRIM(SSQ37),\" \",\"\"))+1)","v":0},null,null,32,null,null,null,null,{"$f":"IF(SSY37=\"\",0,LEN(TRIM(SSY37))-LEN(SUBSTITUTE(TRIM(SSY37),\" \",\"\"))+1)","v":0},null,null,32,null,null,null,null,{"$f":"IF(STG37=\"\",0,LEN(TRIM(STG37))-LEN(SUBSTITUTE(TRIM(STG37),\" \",\"\"))+1)","v":0},null,null,32,null,null,null,null,{"$f":"IF(STO37=\"\",0,LEN(TRIM(STO37))-LEN(SUBSTITUTE(TRIM(STO37),\" \",\"\"))+1)","v":0},null,null,32,null,null,null,null,{"$f":"IF(STW37=\"\",0,LEN(TRIM(STW37))-LEN(SUBSTITUTE(TRIM(STW37),\" \",\"\"))+1)","v":0},null,null,32,null,null,null,null,{"$f":"IF(SUE37=\"\",0,LEN(TRIM(SUE37))-LEN(SUBSTITUTE(TRIM(SUE37),\" \",\"\"))+1)","v":0},null,null,32,null,null,null,null,{"$f":"IF(SUM37=\"\",0,LEN(TRIM(SUM37))-LEN(SUBSTITUTE(TRIM(SUM37),\" \",\"\"))+1)","v":0},null,null,32,null,null,null,null,{"$f":"IF(SUU37=\"\",0,LEN(TRIM(SUU37))-LEN(SUBSTITUTE(TRIM(SUU37),\" \",\"\"))+1)","v":0},null,null,32,null,null,null,null,{"$f":"IF(SVC37=\"\",0,LEN(TRIM(SVC37))-LEN(SUBSTITUTE(TRIM(SVC37),\" \",\"\"))+1)","v":0},null,null,32,null,null,null,null,{"$f":"IF(SVK37=\"\",0,LEN(TRIM(SVK37))-LEN(SUBSTITUTE(TRIM(SVK37),\" \",\"\"))+1)","v":0},null,null,32,null,null,null,null,{"$f":"IF(SVS37=\"\",0,LEN(TRIM(SVS37))-LEN(SUBSTITUTE(TRIM(SVS37),\" \",\"\"))+1)","v":0},null,null,32,null,null,null,null,{"$f":"IF(SWA37=\"\",0,LEN(TRIM(SWA37))-LEN(SUBSTITUTE(TRIM(SWA37),\" \",\"\"))+1)","v":0},null,null,32,null,null,null,null,{"$f":"IF(SWI37=\"\",0,LEN(TRIM(SWI37))-LEN(SUBSTITUTE(TRIM(SWI37),\" \",\"\"))+1)","v":0},null,null,32,null,null,null,null,{"$f":"IF(SWQ37=\"\",0,LEN(TRIM(SWQ37))-LEN(SUBSTITUTE(TRIM(SWQ37),\" \",\"\"))+1)","v":0},null,null,32,null,null,null,null,{"$f":"IF(SWY37=\"\",0,LEN(TRIM(SWY37))-LEN(SUBSTITUTE(TRIM(SWY37),\" \",\"\"))+1)","v":0},null,null,32,null,null,null,null,{"$f":"IF(SXG37=\"\",0,LEN(TRIM(SXG37))-LEN(SUBSTITUTE(TRIM(SXG37),\" \",\"\"))+1)","v":0},null,null,32,null,null,null,null,{"$f":"IF(SXO37=\"\",0,LEN(TRIM(SXO37))-LEN(SUBSTITUTE(TRIM(SXO37),\" \",\"\"))+1)","v":0},null,null,32,null,null,null,null,{"$f":"IF(SXW37=\"\",0,LEN(TRIM(SXW37))-LEN(SUBSTITUTE(TRIM(SXW37),\" \",\"\"))+1)","v":0},null,null,32,null,null,null,null,{"$f":"IF(SYE37=\"\",0,LEN(TRIM(SYE37))-LEN(SUBSTITUTE(TRIM(SYE37),\" \",\"\"))+1)","v":0},null,null,32,null,null,null,null,{"$f":"IF(SYM37=\"\",0,LEN(TRIM(SYM37))-LEN(SUBSTITUTE(TRIM(SYM37),\" \",\"\"))+1)","v":0},null,null,32,null,null,null,null,{"$f":"IF(SYU37=\"\",0,LEN(TRIM(SYU37))-LEN(SUBSTITUTE(TRIM(SYU37),\" \",\"\"))+1)","v":0},null,null,32,null,null,null,null,{"$f":"IF(SZC37=\"\",0,LEN(TRIM(SZC37))-LEN(SUBSTITUTE(TRIM(SZC37),\" \",\"\"))+1)","v":0},null,null,32,null,null,null,null,{"$f":"IF(SZK37=\"\",0,LEN(TRIM(SZK37))-LEN(SUBSTITUTE(TRIM(SZK37),\" \",\"\"))+1)","v":0},null,null,32,null,null,null,null,{"$f":"IF(SZS37=\"\",0,LEN(TRIM(SZS37))-LEN(SUBSTITUTE(TRIM(SZS37),\" \",\"\"))+1)","v":0},null,null,32,null,null,null,null,{"$f":"IF(TAA37=\"\",0,LEN(TRIM(TAA37))-LEN(SUBSTITUTE(TRIM(TAA37),\" \",\"\"))+1)","v":0},null,null,32,null,null,null,null,{"$f":"IF(TAI37=\"\",0,LEN(TRIM(TAI37))-LEN(SUBSTITUTE(TRIM(TAI37),\" \",\"\"))+1)","v":0},null,null,32,null,null,null,null,{"$f":"IF(TAQ37=\"\",0,LEN(TRIM(TAQ37))-LEN(SUBSTITUTE(TRIM(TAQ37),\" \",\"\"))+1)","v":0},null,null,32,null,null,null,null,{"$f":"IF(TAY37=\"\",0,LEN(TRIM(TAY37))-LEN(SUBSTITUTE(TRIM(TAY37),\" \",\"\"))+1)","v":0},null,null,32,null,null,null,null,{"$f":"IF(TBG37=\"\",0,LEN(TRIM(TBG37))-LEN(SUBSTITUTE(TRIM(TBG37),\" \",\"\"))+1)","v":0},null,null,32,null,null,null,null,{"$f":"IF(TBO37=\"\",0,LEN(TRIM(TBO37))-LEN(SUBSTITUTE(TRIM(TBO37),\" \",\"\"))+1)","v":0},null,null,32,null,null,null,null,{"$f":"IF(TBW37=\"\",0,LEN(TRIM(TBW37))-LEN(SUBSTITUTE(TRIM(TBW37),\" \",\"\"))+1)","v":0},null,null,32,null,null,null,null,{"$f":"IF(TCE37=\"\",0,LEN(TRIM(TCE37))-LEN(SUBSTITUTE(TRIM(TCE37),\" \",\"\"))+1)","v":0},null,null,32,null,null,null,null,{"$f":"IF(TCM37=\"\",0,LEN(TRIM(TCM37))-LEN(SUBSTITUTE(TRIM(TCM37),\" \",\"\"))+1)","v":0},null,null,32,null,null,null,null,{"$f":"IF(TCU37=\"\",0,LEN(TRIM(TCU37))-LEN(SUBSTITUTE(TRIM(TCU37),\" \",\"\"))+1)","v":0},null,null,32,null,null,null,null,{"$f":"IF(TDC37=\"\",0,LEN(TRIM(TDC37))-LEN(SUBSTITUTE(TRIM(TDC37),\" \",\"\"))+1)","v":0},null,null,32,null,null,null,null,{"$f":"IF(TDK37=\"\",0,LEN(TRIM(TDK37))-LEN(SUBSTITUTE(TRIM(TDK37),\" \",\"\"))+1)","v":0},null,null,32,null,null,null,null,{"$f":"IF(TDS37=\"\",0,LEN(TRIM(TDS37))-LEN(SUBSTITUTE(TRIM(TDS37),\" \",\"\"))+1)","v":0},null,null,32,null,null,null,null,{"$f":"IF(TEA37=\"\",0,LEN(TRIM(TEA37))-LEN(SUBSTITUTE(TRIM(TEA37),\" \",\"\"))+1)","v":0},null,null,32,null,null,null,null,{"$f":"IF(TEI37=\"\",0,LEN(TRIM(TEI37))-LEN(SUBSTITUTE(TRIM(TEI37),\" \",\"\"))+1)","v":0},null,null,32,null,null,null,null,{"$f":"IF(TEQ37=\"\",0,LEN(TRIM(TEQ37))-LEN(SUBSTITUTE(TRIM(TEQ37),\" \",\"\"))+1)","v":0},null,null,32,null,null,null,null,{"$f":"IF(TEY37=\"\",0,LEN(TRIM(TEY37))-LEN(SUBSTITUTE(TRIM(TEY37),\" \",\"\"))+1)","v":0},null,null,32,null,null,null,null,{"$f":"IF(TFG37=\"\",0,LEN(TRIM(TFG37))-LEN(SUBSTITUTE(TRIM(TFG37),\" \",\"\"))+1)","v":0},null,null,32,null,null,null,null,{"$f":"IF(TFO37=\"\",0,LEN(TRIM(TFO37))-LEN(SUBSTITUTE(TRIM(TFO37),\" \",\"\"))+1)","v":0},null,null,32,null,null,null,null,{"$f":"IF(TFW37=\"\",0,LEN(TRIM(TFW37))-LEN(SUBSTITUTE(TRIM(TFW37),\" \",\"\"))+1)","v":0},null,null,32,null,null,null,null,{"$f":"IF(TGE37=\"\",0,LEN(TRIM(TGE37))-LEN(SUBSTITUTE(TRIM(TGE37),\" \",\"\"))+1)","v":0},null,null,32,null,null,null,null,{"$f":"IF(TGM37=\"\",0,LEN(TRIM(TGM37))-LEN(SUBSTITUTE(TRIM(TGM37),\" \",\"\"))+1)","v":0},null,null,32,null,null,null,null,{"$f":"IF(TGU37=\"\",0,LEN(TRIM(TGU37))-LEN(SUBSTITUTE(TRIM(TGU37),\" \",\"\"))+1)","v":0},null,null,32,null,null,null,null,{"$f":"IF(THC37=\"\",0,LEN(TRIM(THC37))-LEN(SUBSTITUTE(TRIM(THC37),\" \",\"\"))+1)","v":0},null,null,32,null,null,null,null,{"$f":"IF(THK37=\"\",0,LEN(TRIM(THK37))-LEN(SUBSTITUTE(TRIM(THK37),\" \",\"\"))+1)","v":0},null,null,32,null,null,null,null,{"$f":"IF(THS37=\"\",0,LEN(TRIM(THS37))-LEN(SUBSTITUTE(TRIM(THS37),\" \",\"\"))+1)","v":0},null,null,32,null,null,null,null,{"$f":"IF(TIA37=\"\",0,LEN(TRIM(TIA37))-LEN(SUBSTITUTE(TRIM(TIA37),\" \",\"\"))+1)","v":0},null,null,32,null,null,null,null,{"$f":"IF(TII37=\"\",0,LEN(TRIM(TII37))-LEN(SUBSTITUTE(TRIM(TII37),\" \",\"\"))+1)","v":0},null,null,32,null,null,null,null,{"$f":"IF(TIQ37=\"\",0,LEN(TRIM(TIQ37))-LEN(SUBSTITUTE(TRIM(TIQ37),\" \",\"\"))+1)","v":0},null,null,32,null,null,null,null,{"$f":"IF(TIY37=\"\",0,LEN(TRIM(TIY37))-LEN(SUBSTITUTE(TRIM(TIY37),\" \",\"\"))+1)","v":0},null,null,32,null,null,null,null,{"$f":"IF(TJG37=\"\",0,LEN(TRIM(TJG37))-LEN(SUBSTITUTE(TRIM(TJG37),\" \",\"\"))+1)","v":0},null,null,32,null,null,null,null,{"$f":"IF(TJO37=\"\",0,LEN(TRIM(TJO37))-LEN(SUBSTITUTE(TRIM(TJO37),\" \",\"\"))+1)","v":0},null,null,32,null,null,null,null,{"$f":"IF(TJW37=\"\",0,LEN(TRIM(TJW37))-LEN(SUBSTITUTE(TRIM(TJW37),\" \",\"\"))+1)","v":0},null,null,32,null,null,null,null,{"$f":"IF(TKE37=\"\",0,LEN(TRIM(TKE37))-LEN(SUBSTITUTE(TRIM(TKE37),\" \",\"\"))+1)","v":0},null,null,32,null,null,null,null,{"$f":"IF(TKM37=\"\",0,LEN(TRIM(TKM37))-LEN(SUBSTITUTE(TRIM(TKM37),\" \",\"\"))+1)","v":0},null,null,32,null,null,null,null,{"$f":"IF(TKU37=\"\",0,LEN(TRIM(TKU37))-LEN(SUBSTITUTE(TRIM(TKU37),\" \",\"\"))+1)","v":0},null,null,32,null,null,null,null,{"$f":"IF(TLC37=\"\",0,LEN(TRIM(TLC37))-LEN(SUBSTITUTE(TRIM(TLC37),\" \",\"\"))+1)","v":0},null,null,32,null,null,null,null,{"$f":"IF(TLK37=\"\",0,LEN(TRIM(TLK37))-LEN(SUBSTITUTE(TRIM(TLK37),\" \",\"\"))+1)","v":0},null,null,32,null,null,null,null,{"$f":"IF(TLS37=\"\",0,LEN(TRIM(TLS37))-LEN(SUBSTITUTE(TRIM(TLS37),\" \",\"\"))+1)","v":0},null,null,32,null,null,null,null,{"$f":"IF(TMA37=\"\",0,LEN(TRIM(TMA37))-LEN(SUBSTITUTE(TRIM(TMA37),\" \",\"\"))+1)","v":0},null,null,32,null,null,null,null,{"$f":"IF(TMI37=\"\",0,LEN(TRIM(TMI37))-LEN(SUBSTITUTE(TRIM(TMI37),\" \",\"\"))+1)","v":0},null,null,32,null,null,null,null,{"$f":"IF(TMQ37=\"\",0,LEN(TRIM(TMQ37))-LEN(SUBSTITUTE(TRIM(TMQ37),\" \",\"\"))+1)","v":0},null,null,32,null,null,null,null,{"$f":"IF(TMY37=\"\",0,LEN(TRIM(TMY37))-LEN(SUBSTITUTE(TRIM(TMY37),\" \",\"\"))+1)","v":0},null,null,32,null,null,null,null,{"$f":"IF(TNG37=\"\",0,LEN(TRIM(TNG37))-LEN(SUBSTITUTE(TRIM(TNG37),\" \",\"\"))+1)","v":0},null,null,32,null,null,null,null,{"$f":"IF(TNO37=\"\",0,LEN(TRIM(TNO37))-LEN(SUBSTITUTE(TRIM(TNO37),\" \",\"\"))+1)","v":0},null,null,32,null,null,null,null,{"$f":"IF(TNW37=\"\",0,LEN(TRIM(TNW37))-LEN(SUBSTITUTE(TRIM(TNW37),\" \",\"\"))+1)","v":0},null,null,32,null,null,null,null,{"$f":"IF(TOE37=\"\",0,LEN(TRIM(TOE37))-LEN(SUBSTITUTE(TRIM(TOE37),\" \",\"\"))+1)","v":0},null,null,32,null,null,null,null,{"$f":"IF(TOM37=\"\",0,LEN(TRIM(TOM37))-LEN(SUBSTITUTE(TRIM(TOM37),\" \",\"\"))+1)","v":0},null,null,32,null,null,null,null,{"$f":"IF(TOU37=\"\",0,LEN(TRIM(TOU37))-LEN(SUBSTITUTE(TRIM(TOU37),\" \",\"\"))+1)","v":0},null,null,32,null,null,null,null,{"$f":"IF(TPC37=\"\",0,LEN(TRIM(TPC37))-LEN(SUBSTITUTE(TRIM(TPC37),\" \",\"\"))+1)","v":0},null,null,32,null,null,null,null,{"$f":"IF(TPK37=\"\",0,LEN(TRIM(TPK37))-LEN(SUBSTITUTE(TRIM(TPK37),\" \",\"\"))+1)","v":0},null,null,32,null,null,null,null,{"$f":"IF(TPS37=\"\",0,LEN(TRIM(TPS37))-LEN(SUBSTITUTE(TRIM(TPS37),\" \",\"\"))+1)","v":0},null,null,32,null,null,null,null,{"$f":"IF(TQA37=\"\",0,LEN(TRIM(TQA37))-LEN(SUBSTITUTE(TRIM(TQA37),\" \",\"\"))+1)","v":0},null,null,32,null,null,null,null,{"$f":"IF(TQI37=\"\",0,LEN(TRIM(TQI37))-LEN(SUBSTITUTE(TRIM(TQI37),\" \",\"\"))+1)","v":0},null,null,32,null,null,null,null,{"$f":"IF(TQQ37=\"\",0,LEN(TRIM(TQQ37))-LEN(SUBSTITUTE(TRIM(TQQ37),\" \",\"\"))+1)","v":0},null,null,32,null,null,null,null,{"$f":"IF(TQY37=\"\",0,LEN(TRIM(TQY37))-LEN(SUBSTITUTE(TRIM(TQY37),\" \",\"\"))+1)","v":0},null,null,32,null,null,null,null,{"$f":"IF(TRG37=\"\",0,LEN(TRIM(TRG37))-LEN(SUBSTITUTE(TRIM(TRG37),\" \",\"\"))+1)","v":0},null,null,32,null,null,null,null,{"$f":"IF(TRO37=\"\",0,LEN(TRIM(TRO37))-LEN(SUBSTITUTE(TRIM(TRO37),\" \",\"\"))+1)","v":0},null,null,32,null,null,null,null,{"$f":"IF(TRW37=\"\",0,LEN(TRIM(TRW37))-LEN(SUBSTITUTE(TRIM(TRW37),\" \",\"\"))+1)","v":0},null,null,32,null,null,null,null,{"$f":"IF(TSE37=\"\",0,LEN(TRIM(TSE37))-LEN(SUBSTITUTE(TRIM(TSE37),\" \",\"\"))+1)","v":0},null,null,32,null,null,null,null,{"$f":"IF(TSM37=\"\",0,LEN(TRIM(TSM37))-LEN(SUBSTITUTE(TRIM(TSM37),\" \",\"\"))+1)","v":0},null,null,32,null,null,null,null,{"$f":"IF(TSU37=\"\",0,LEN(TRIM(TSU37))-LEN(SUBSTITUTE(TRIM(TSU37),\" \",\"\"))+1)","v":0},null,null,32,null,null,null,null,{"$f":"IF(TTC37=\"\",0,LEN(TRIM(TTC37))-LEN(SUBSTITUTE(TRIM(TTC37),\" \",\"\"))+1)","v":0},null,null,32,null,null,null,null,{"$f":"IF(TTK37=\"\",0,LEN(TRIM(TTK37))-LEN(SUBSTITUTE(TRIM(TTK37),\" \",\"\"))+1)","v":0},null,null,32,null,null,null,null,{"$f":"IF(TTS37=\"\",0,LEN(TRIM(TTS37))-LEN(SUBSTITUTE(TRIM(TTS37),\" \",\"\"))+1)","v":0},null,null,32,null,null,null,null,{"$f":"IF(TUA37=\"\",0,LEN(TRIM(TUA37))-LEN(SUBSTITUTE(TRIM(TUA37),\" \",\"\"))+1)","v":0},null,null,32,null,null,null,null,{"$f":"IF(TUI37=\"\",0,LEN(TRIM(TUI37))-LEN(SUBSTITUTE(TRIM(TUI37),\" \",\"\"))+1)","v":0},null,null,32,null,null,null,null,{"$f":"IF(TUQ37=\"\",0,LEN(TRIM(TUQ37))-LEN(SUBSTITUTE(TRIM(TUQ37),\" \",\"\"))+1)","v":0},null,null,32,null,null,null,null,{"$f":"IF(TUY37=\"\",0,LEN(TRIM(TUY37))-LEN(SUBSTITUTE(TRIM(TUY37),\" \",\"\"))+1)","v":0},null,null,32,null,null,null,null,{"$f":"IF(TVG37=\"\",0,LEN(TRIM(TVG37))-LEN(SUBSTITUTE(TRIM(TVG37),\" \",\"\"))+1)","v":0},null,null,32,null,null,null,null,{"$f":"IF(TVO37=\"\",0,LEN(TRIM(TVO37))-LEN(SUBSTITUTE(TRIM(TVO37),\" \",\"\"))+1)","v":0},null,null,32,null,null,null,null,{"$f":"IF(TVW37=\"\",0,LEN(TRIM(TVW37))-LEN(SUBSTITUTE(TRIM(TVW37),\" \",\"\"))+1)","v":0},null,null,32,null,null,null,null,{"$f":"IF(TWE37=\"\",0,LEN(TRIM(TWE37))-LEN(SUBSTITUTE(TRIM(TWE37),\" \",\"\"))+1)","v":0},null,null,32,null,null,null,null,{"$f":"IF(TWM37=\"\",0,LEN(TRIM(TWM37))-LEN(SUBSTITUTE(TRIM(TWM37),\" \",\"\"))+1)","v":0},null,null,32,null,null,null,null,{"$f":"IF(TWU37=\"\",0,LEN(TRIM(TWU37))-LEN(SUBSTITUTE(TRIM(TWU37),\" \",\"\"))+1)","v":0},null,null,32,null,null,null,null,{"$f":"IF(TXC37=\"\",0,LEN(TRIM(TXC37))-LEN(SUBSTITUTE(TRIM(TXC37),\" \",\"\"))+1)","v":0},null,null,32,null,null,null,null,{"$f":"IF(TXK37=\"\",0,LEN(TRIM(TXK37))-LEN(SUBSTITUTE(TRIM(TXK37),\" \",\"\"))+1)","v":0},null,null,32,null,null,null,null,{"$f":"IF(TXS37=\"\",0,LEN(TRIM(TXS37))-LEN(SUBSTITUTE(TRIM(TXS37),\" \",\"\"))+1)","v":0},null,null,32,null,null,null,null,{"$f":"IF(TYA37=\"\",0,LEN(TRIM(TYA37))-LEN(SUBSTITUTE(TRIM(TYA37),\" \",\"\"))+1)","v":0},null,null,32,null,null,null,null,{"$f":"IF(TYI37=\"\",0,LEN(TRIM(TYI37))-LEN(SUBSTITUTE(TRIM(TYI37),\" \",\"\"))+1)","v":0},null,null,32,null,null,null,null,{"$f":"IF(TYQ37=\"\",0,LEN(TRIM(TYQ37))-LEN(SUBSTITUTE(TRIM(TYQ37),\" \",\"\"))+1)","v":0},null,null,32,null,null,null,null,{"$f":"IF(TYY37=\"\",0,LEN(TRIM(TYY37))-LEN(SUBSTITUTE(TRIM(TYY37),\" \",\"\"))+1)","v":0},null,null,32,null,null,null,null,{"$f":"IF(TZG37=\"\",0,LEN(TRIM(TZG37))-LEN(SUBSTITUTE(TRIM(TZG37),\" \",\"\"))+1)","v":0},null,null,32,null,null,null,null,{"$f":"IF(TZO37=\"\",0,LEN(TRIM(TZO37))-LEN(SUBSTITUTE(TRIM(TZO37),\" \",\"\"))+1)","v":0},null,null,32,null,null,null,null,{"$f":"IF(TZW37=\"\",0,LEN(TRIM(TZW37))-LEN(SUBSTITUTE(TRIM(TZW37),\" \",\"\"))+1)","v":0},null,null,32,null,null,null,null,{"$f":"IF(UAE37=\"\",0,LEN(TRIM(UAE37))-LEN(SUBSTITUTE(TRIM(UAE37),\" \",\"\"))+1)","v":0},null,null,32,null,null,null,null,{"$f":"IF(UAM37=\"\",0,LEN(TRIM(UAM37))-LEN(SUBSTITUTE(TRIM(UAM37),\" \",\"\"))+1)","v":0},null,null,32,null,null,null,null,{"$f":"IF(UAU37=\"\",0,LEN(TRIM(UAU37))-LEN(SUBSTITUTE(TRIM(UAU37),\" \",\"\"))+1)","v":0},null,null,32,null,null,null,null,{"$f":"IF(UBC37=\"\",0,LEN(TRIM(UBC37))-LEN(SUBSTITUTE(TRIM(UBC37),\" \",\"\"))+1)","v":0},null,null,32,null,null,null,null,{"$f":"IF(UBK37=\"\",0,LEN(TRIM(UBK37))-LEN(SUBSTITUTE(TRIM(UBK37),\" \",\"\"))+1)","v":0},null,null,32,null,null,null,null,{"$f":"IF(UBS37=\"\",0,LEN(TRIM(UBS37))-LEN(SUBSTITUTE(TRIM(UBS37),\" \",\"\"))+1)","v":0},null,null,32,null,null,null,null,{"$f":"IF(UCA37=\"\",0,LEN(TRIM(UCA37))-LEN(SUBSTITUTE(TRIM(UCA37),\" \",\"\"))+1)","v":0},null,null,32,null,null,null,null,{"$f":"IF(UCI37=\"\",0,LEN(TRIM(UCI37))-LEN(SUBSTITUTE(TRIM(UCI37),\" \",\"\"))+1)","v":0},null,null,32,null,null,null,null,{"$f":"IF(UCQ37=\"\",0,LEN(TRIM(UCQ37))-LEN(SUBSTITUTE(TRIM(UCQ37),\" \",\"\"))+1)","v":0},null,null,32,null,null,null,null,{"$f":"IF(UCY37=\"\",0,LEN(TRIM(UCY37))-LEN(SUBSTITUTE(TRIM(UCY37),\" \",\"\"))+1)","v":0},null,null,32,null,null,null,null,{"$f":"IF(UDG37=\"\",0,LEN(TRIM(UDG37))-LEN(SUBSTITUTE(TRIM(UDG37),\" \",\"\"))+1)","v":0},null,null,32,null,null,null,null,{"$f":"IF(UDO37=\"\",0,LEN(TRIM(UDO37))-LEN(SUBSTITUTE(TRIM(UDO37),\" \",\"\"))+1)","v":0},null,null,32,null,null,null,null,{"$f":"IF(UDW37=\"\",0,LEN(TRIM(UDW37))-LEN(SUBSTITUTE(TRIM(UDW37),\" \",\"\"))+1)","v":0},null,null,32,null,null,null,null,{"$f":"IF(UEE37=\"\",0,LEN(TRIM(UEE37))-LEN(SUBSTITUTE(TRIM(UEE37),\" \",\"\"))+1)","v":0},null,null,32,null,null,null,null,{"$f":"IF(UEM37=\"\",0,LEN(TRIM(UEM37))-LEN(SUBSTITUTE(TRIM(UEM37),\" \",\"\"))+1)","v":0},null,null,32,null,null,null,null,{"$f":"IF(UEU37=\"\",0,LEN(TRIM(UEU37))-LEN(SUBSTITUTE(TRIM(UEU37),\" \",\"\"))+1)","v":0},null,null,32,null,null,null,null,{"$f":"IF(UFC37=\"\",0,LEN(TRIM(UFC37))-LEN(SUBSTITUTE(TRIM(UFC37),\" \",\"\"))+1)","v":0},null,null,32,null,null,null,null,{"$f":"IF(UFK37=\"\",0,LEN(TRIM(UFK37))-LEN(SUBSTITUTE(TRIM(UFK37),\" \",\"\"))+1)","v":0},null,null,32,null,null,null,null,{"$f":"IF(UFS37=\"\",0,LEN(TRIM(UFS37))-LEN(SUBSTITUTE(TRIM(UFS37),\" \",\"\"))+1)","v":0},null,null,32,null,null,null,null,{"$f":"IF(UGA37=\"\",0,LEN(TRIM(UGA37))-LEN(SUBSTITUTE(TRIM(UGA37),\" \",\"\"))+1)","v":0},null,null,32,null,null,null,null,{"$f":"IF(UGI37=\"\",0,LEN(TRIM(UGI37))-LEN(SUBSTITUTE(TRIM(UGI37),\" \",\"\"))+1)","v":0},null,null,32,null,null,null,null,{"$f":"IF(UGQ37=\"\",0,LEN(TRIM(UGQ37))-LEN(SUBSTITUTE(TRIM(UGQ37),\" \",\"\"))+1)","v":0},null,null,32,null,null,null,null,{"$f":"IF(UGY37=\"\",0,LEN(TRIM(UGY37))-LEN(SUBSTITUTE(TRIM(UGY37),\" \",\"\"))+1)","v":0},null,null,32,null,null,null,null,{"$f":"IF(UHG37=\"\",0,LEN(TRIM(UHG37))-LEN(SUBSTITUTE(TRIM(UHG37),\" \",\"\"))+1)","v":0},null,null,32,null,null,null,null,{"$f":"IF(UHO37=\"\",0,LEN(TRIM(UHO37))-LEN(SUBSTITUTE(TRIM(UHO37),\" \",\"\"))+1)","v":0},null,null,32,null,null,null,null,{"$f":"IF(UHW37=\"\",0,LEN(TRIM(UHW37))-LEN(SUBSTITUTE(TRIM(UHW37),\" \",\"\"))+1)","v":0},null,null,32,null,null,null,null,{"$f":"IF(UIE37=\"\",0,LEN(TRIM(UIE37))-LEN(SUBSTITUTE(TRIM(UIE37),\" \",\"\"))+1)","v":0},null,null,32,null,null,null,null,{"$f":"IF(UIM37=\"\",0,LEN(TRIM(UIM37))-LEN(SUBSTITUTE(TRIM(UIM37),\" \",\"\"))+1)","v":0},null,null,32,null,null,null,null,{"$f":"IF(UIU37=\"\",0,LEN(TRIM(UIU37))-LEN(SUBSTITUTE(TRIM(UIU37),\" \",\"\"))+1)","v":0},null,null,32,null,null,null,null,{"$f":"IF(UJC37=\"\",0,LEN(TRIM(UJC37))-LEN(SUBSTITUTE(TRIM(UJC37),\" \",\"\"))+1)","v":0},null,null,32,null,null,null,null,{"$f":"IF(UJK37=\"\",0,LEN(TRIM(UJK37))-LEN(SUBSTITUTE(TRIM(UJK37),\" \",\"\"))+1)","v":0},null,null,32,null,null,null,null,{"$f":"IF(UJS37=\"\",0,LEN(TRIM(UJS37))-LEN(SUBSTITUTE(TRIM(UJS37),\" \",\"\"))+1)","v":0},null,null,32,null,null,null,null,{"$f":"IF(UKA37=\"\",0,LEN(TRIM(UKA37))-LEN(SUBSTITUTE(TRIM(UKA37),\" \",\"\"))+1)","v":0},null,null,32,null,null,null,null,{"$f":"IF(UKI37=\"\",0,LEN(TRIM(UKI37))-LEN(SUBSTITUTE(TRIM(UKI37),\" \",\"\"))+1)","v":0},null,null,32,null,null,null,null,{"$f":"IF(UKQ37=\"\",0,LEN(TRIM(UKQ37))-LEN(SUBSTITUTE(TRIM(UKQ37),\" \",\"\"))+1)","v":0},null,null,32,null,null,null,null,{"$f":"IF(UKY37=\"\",0,LEN(TRIM(UKY37))-LEN(SUBSTITUTE(TRIM(UKY37),\" \",\"\"))+1)","v":0},null,null,32,null,null,null,null,{"$f":"IF(ULG37=\"\",0,LEN(TRIM(ULG37))-LEN(SUBSTITUTE(TRIM(ULG37),\" \",\"\"))+1)","v":0},null,null,32,null,null,null,null,{"$f":"IF(ULO37=\"\",0,LEN(TRIM(ULO37))-LEN(SUBSTITUTE(TRIM(ULO37),\" \",\"\"))+1)","v":0},null,null,32,null,null,null,null,{"$f":"IF(ULW37=\"\",0,LEN(TRIM(ULW37))-LEN(SUBSTITUTE(TRIM(ULW37),\" \",\"\"))+1)","v":0},null,null,32,null,null,null,null,{"$f":"IF(UME37=\"\",0,LEN(TRIM(UME37))-LEN(SUBSTITUTE(TRIM(UME37),\" \",\"\"))+1)","v":0},null,null,32,null,null,null,null,{"$f":"IF(UMM37=\"\",0,LEN(TRIM(UMM37))-LEN(SUBSTITUTE(TRIM(UMM37),\" \",\"\"))+1)","v":0},null,null,32,null,null,null,null,{"$f":"IF(UMU37=\"\",0,LEN(TRIM(UMU37))-LEN(SUBSTITUTE(TRIM(UMU37),\" \",\"\"))+1)","v":0},null,null,32,null,null,null,null,{"$f":"IF(UNC37=\"\",0,LEN(TRIM(UNC37))-LEN(SUBSTITUTE(TRIM(UNC37),\" \",\"\"))+1)","v":0},null,null,32,null,null,null,null,{"$f":"IF(UNK37=\"\",0,LEN(TRIM(UNK37))-LEN(SUBSTITUTE(TRIM(UNK37),\" \",\"\"))+1)","v":0},null,null,32,null,null,null,null,{"$f":"IF(UNS37=\"\",0,LEN(TRIM(UNS37))-LEN(SUBSTITUTE(TRIM(UNS37),\" \",\"\"))+1)","v":0},null,null,32,null,null,null,null,{"$f":"IF(UOA37=\"\",0,LEN(TRIM(UOA37))-LEN(SUBSTITUTE(TRIM(UOA37),\" \",\"\"))+1)","v":0},null,null,32,null,null,null,null,{"$f":"IF(UOI37=\"\",0,LEN(TRIM(UOI37))-LEN(SUBSTITUTE(TRIM(UOI37),\" \",\"\"))+1)","v":0},null,null,32,null,null,null,null,{"$f":"IF(UOQ37=\"\",0,LEN(TRIM(UOQ37))-LEN(SUBSTITUTE(TRIM(UOQ37),\" \",\"\"))+1)","v":0},null,null,32,null,null,null,null,{"$f":"IF(UOY37=\"\",0,LEN(TRIM(UOY37))-LEN(SUBSTITUTE(TRIM(UOY37),\" \",\"\"))+1)","v":0},null,null,32,null,null,null,null,{"$f":"IF(UPG37=\"\",0,LEN(TRIM(UPG37))-LEN(SUBSTITUTE(TRIM(UPG37),\" \",\"\"))+1)","v":0},null,null,32,null,null,null,null,{"$f":"IF(UPO37=\"\",0,LEN(TRIM(UPO37))-LEN(SUBSTITUTE(TRIM(UPO37),\" \",\"\"))+1)","v":0},null,null,32,null,null,null,null,{"$f":"IF(UPW37=\"\",0,LEN(TRIM(UPW37))-LEN(SUBSTITUTE(TRIM(UPW37),\" \",\"\"))+1)","v":0},null,null,32,null,null,null,null,{"$f":"IF(UQE37=\"\",0,LEN(TRIM(UQE37))-LEN(SUBSTITUTE(TRIM(UQE37),\" \",\"\"))+1)","v":0},null,null,32,null,null,null,null,{"$f":"IF(UQM37=\"\",0,LEN(TRIM(UQM37))-LEN(SUBSTITUTE(TRIM(UQM37),\" \",\"\"))+1)","v":0},null,null,32,null,null,null,null,{"$f":"IF(UQU37=\"\",0,LEN(TRIM(UQU37))-LEN(SUBSTITUTE(TRIM(UQU37),\" \",\"\"))+1)","v":0},null,null,32,null,null,null,null,{"$f":"IF(URC37=\"\",0,LEN(TRIM(URC37))-LEN(SUBSTITUTE(TRIM(URC37),\" \",\"\"))+1)","v":0},null,null,32,null,null,null,null,{"$f":"IF(URK37=\"\",0,LEN(TRIM(URK37))-LEN(SUBSTITUTE(TRIM(URK37),\" \",\"\"))+1)","v":0},null,null,32,null,null,null,null,{"$f":"IF(URS37=\"\",0,LEN(TRIM(URS37))-LEN(SUBSTITUTE(TRIM(URS37),\" \",\"\"))+1)","v":0},null,null,32,null,null,null,null,{"$f":"IF(USA37=\"\",0,LEN(TRIM(USA37))-LEN(SUBSTITUTE(TRIM(USA37),\" \",\"\"))+1)","v":0},null,null,32,null,null,null,null,{"$f":"IF(USI37=\"\",0,LEN(TRIM(USI37))-LEN(SUBSTITUTE(TRIM(USI37),\" \",\"\"))+1)","v":0},null,null,32,null,null,null,null,{"$f":"IF(USQ37=\"\",0,LEN(TRIM(USQ37))-LEN(SUBSTITUTE(TRIM(USQ37),\" \",\"\"))+1)","v":0},null,null,32,null,null,null,null,{"$f":"IF(USY37=\"\",0,LEN(TRIM(USY37))-LEN(SUBSTITUTE(TRIM(USY37),\" \",\"\"))+1)","v":0},null,null,32,null,null,null,null,{"$f":"IF(UTG37=\"\",0,LEN(TRIM(UTG37))-LEN(SUBSTITUTE(TRIM(UTG37),\" \",\"\"))+1)","v":0},null,null,32,null,null,null,null,{"$f":"IF(UTO37=\"\",0,LEN(TRIM(UTO37))-LEN(SUBSTITUTE(TRIM(UTO37),\" \",\"\"))+1)","v":0},null,null,32,null,null,null,null,{"$f":"IF(UTW37=\"\",0,LEN(TRIM(UTW37))-LEN(SUBSTITUTE(TRIM(UTW37),\" \",\"\"))+1)","v":0},null,null,32,null,null,null,null,{"$f":"IF(UUE37=\"\",0,LEN(TRIM(UUE37))-LEN(SUBSTITUTE(TRIM(UUE37),\" \",\"\"))+1)","v":0},null,null,32,null,null,null,null,{"$f":"IF(UUM37=\"\",0,LEN(TRIM(UUM37))-LEN(SUBSTITUTE(TRIM(UUM37),\" \",\"\"))+1)","v":0},null,null,32,null,null,null,null,{"$f":"IF(UUU37=\"\",0,LEN(TRIM(UUU37))-LEN(SUBSTITUTE(TRIM(UUU37),\" \",\"\"))+1)","v":0},null,null,32,null,null,null,null,{"$f":"IF(UVC37=\"\",0,LEN(TRIM(UVC37))-LEN(SUBSTITUTE(TRIM(UVC37),\" \",\"\"))+1)","v":0},null,null,32,null,null,null,null,{"$f":"IF(UVK37=\"\",0,LEN(TRIM(UVK37))-LEN(SUBSTITUTE(TRIM(UVK37),\" \",\"\"))+1)","v":0},null,null,32,null,null,null,null,{"$f":"IF(UVS37=\"\",0,LEN(TRIM(UVS37))-LEN(SUBSTITUTE(TRIM(UVS37),\" \",\"\"))+1)","v":0},null,null,32,null,null,null,null,{"$f":"IF(UWA37=\"\",0,LEN(TRIM(UWA37))-LEN(SUBSTITUTE(TRIM(UWA37),\" \",\"\"))+1)","v":0},null,null,32,null,null,null,null,{"$f":"IF(UWI37=\"\",0,LEN(TRIM(UWI37))-LEN(SUBSTITUTE(TRIM(UWI37),\" \",\"\"))+1)","v":0},null,null,32,null,null,null,null,{"$f":"IF(UWQ37=\"\",0,LEN(TRIM(UWQ37))-LEN(SUBSTITUTE(TRIM(UWQ37),\" \",\"\"))+1)","v":0},null,null,32,null,null,null,null,{"$f":"IF(UWY37=\"\",0,LEN(TRIM(UWY37))-LEN(SUBSTITUTE(TRIM(UWY37),\" \",\"\"))+1)","v":0},null,null,32,null,null,null,null,{"$f":"IF(UXG37=\"\",0,LEN(TRIM(UXG37))-LEN(SUBSTITUTE(TRIM(UXG37),\" \",\"\"))+1)","v":0},null,null,32,null,null,null,null,{"$f":"IF(UXO37=\"\",0,LEN(TRIM(UXO37))-LEN(SUBSTITUTE(TRIM(UXO37),\" \",\"\"))+1)","v":0},null,null,32,null,null,null,null,{"$f":"IF(UXW37=\"\",0,LEN(TRIM(UXW37))-LEN(SUBSTITUTE(TRIM(UXW37),\" \",\"\"))+1)","v":0},null,null,32,null,null,null,null,{"$f":"IF(UYE37=\"\",0,LEN(TRIM(UYE37))-LEN(SUBSTITUTE(TRIM(UYE37),\" \",\"\"))+1)","v":0},null,null,32,null,null,null,null,{"$f":"IF(UYM37=\"\",0,LEN(TRIM(UYM37))-LEN(SUBSTITUTE(TRIM(UYM37),\" \",\"\"))+1)","v":0},null,null,32,null,null,null,null,{"$f":"IF(UYU37=\"\",0,LEN(TRIM(UYU37))-LEN(SUBSTITUTE(TRIM(UYU37),\" \",\"\"))+1)","v":0},null,null,32,null,null,null,null,{"$f":"IF(UZC37=\"\",0,LEN(TRIM(UZC37))-LEN(SUBSTITUTE(TRIM(UZC37),\" \",\"\"))+1)","v":0},null,null,32,null,null,null,null,{"$f":"IF(UZK37=\"\",0,LEN(TRIM(UZK37))-LEN(SUBSTITUTE(TRIM(UZK37),\" \",\"\"))+1)","v":0},null,null,32,null,null,null,null,{"$f":"IF(UZS37=\"\",0,LEN(TRIM(UZS37))-LEN(SUBSTITUTE(TRIM(UZS37),\" \",\"\"))+1)","v":0},null,null,32,null,null,null,null,{"$f":"IF(VAA37=\"\",0,LEN(TRIM(VAA37))-LEN(SUBSTITUTE(TRIM(VAA37),\" \",\"\"))+1)","v":0},null,null,32,null,null,null,null,{"$f":"IF(VAI37=\"\",0,LEN(TRIM(VAI37))-LEN(SUBSTITUTE(TRIM(VAI37),\" \",\"\"))+1)","v":0},null,null,32,null,null,null,null,{"$f":"IF(VAQ37=\"\",0,LEN(TRIM(VAQ37))-LEN(SUBSTITUTE(TRIM(VAQ37),\" \",\"\"))+1)","v":0},null,null,32,null,null,null,null,{"$f":"IF(VAY37=\"\",0,LEN(TRIM(VAY37))-LEN(SUBSTITUTE(TRIM(VAY37),\" \",\"\"))+1)","v":0},null,null,32,null,null,null,null,{"$f":"IF(VBG37=\"\",0,LEN(TRIM(VBG37))-LEN(SUBSTITUTE(TRIM(VBG37),\" \",\"\"))+1)","v":0},null,null,32,null,null,null,null,{"$f":"IF(VBO37=\"\",0,LEN(TRIM(VBO37))-LEN(SUBSTITUTE(TRIM(VBO37),\" \",\"\"))+1)","v":0},null,null,32,null,null,null,null,{"$f":"IF(VBW37=\"\",0,LEN(TRIM(VBW37))-LEN(SUBSTITUTE(TRIM(VBW37),\" \",\"\"))+1)","v":0},null,null,32,null,null,null,null,{"$f":"IF(VCE37=\"\",0,LEN(TRIM(VCE37))-LEN(SUBSTITUTE(TRIM(VCE37),\" \",\"\"))+1)","v":0},null,null,32,null,null,null,null,{"$f":"IF(VCM37=\"\",0,LEN(TRIM(VCM37))-LEN(SUBSTITUTE(TRIM(VCM37),\" \",\"\"))+1)","v":0},null,null,32,null,null,null,null,{"$f":"IF(VCU37=\"\",0,LEN(TRIM(VCU37))-LEN(SUBSTITUTE(TRIM(VCU37),\" \",\"\"))+1)","v":0},null,null,32,null,null,null,null,{"$f":"IF(VDC37=\"\",0,LEN(TRIM(VDC37))-LEN(SUBSTITUTE(TRIM(VDC37),\" \",\"\"))+1)","v":0},null,null,32,null,null,null,null,{"$f":"IF(VDK37=\"\",0,LEN(TRIM(VDK37))-LEN(SUBSTITUTE(TRIM(VDK37),\" \",\"\"))+1)","v":0},null,null,32,null,null,null,null,{"$f":"IF(VDS37=\"\",0,LEN(TRIM(VDS37))-LEN(SUBSTITUTE(TRIM(VDS37),\" \",\"\"))+1)","v":0},null,null,32,null,null,null,null,{"$f":"IF(VEA37=\"\",0,LEN(TRIM(VEA37))-LEN(SUBSTITUTE(TRIM(VEA37),\" \",\"\"))+1)","v":0},null,null,32,null,null,null,null,{"$f":"IF(VEI37=\"\",0,LEN(TRIM(VEI37))-LEN(SUBSTITUTE(TRIM(VEI37),\" \",\"\"))+1)","v":0},null,null,32,null,null,null,null,{"$f":"IF(VEQ37=\"\",0,LEN(TRIM(VEQ37))-LEN(SUBSTITUTE(TRIM(VEQ37),\" \",\"\"))+1)","v":0},null,null,32,null,null,null,null,{"$f":"IF(VEY37=\"\",0,LEN(TRIM(VEY37))-LEN(SUBSTITUTE(TRIM(VEY37),\" \",\"\"))+1)","v":0},null,null,32,null,null,null,null,{"$f":"IF(VFG37=\"\",0,LEN(TRIM(VFG37))-LEN(SUBSTITUTE(TRIM(VFG37),\" \",\"\"))+1)","v":0},null,null,32,null,null,null,null,{"$f":"IF(VFO37=\"\",0,LEN(TRIM(VFO37))-LEN(SUBSTITUTE(TRIM(VFO37),\" \",\"\"))+1)","v":0},null,null,32,null,null,null,null,{"$f":"IF(VFW37=\"\",0,LEN(TRIM(VFW37))-LEN(SUBSTITUTE(TRIM(VFW37),\" \",\"\"))+1)","v":0},null,null,32,null,null,null,null,{"$f":"IF(VGE37=\"\",0,LEN(TRIM(VGE37))-LEN(SUBSTITUTE(TRIM(VGE37),\" \",\"\"))+1)","v":0},null,null,32,null,null,null,null,{"$f":"IF(VGM37=\"\",0,LEN(TRIM(VGM37))-LEN(SUBSTITUTE(TRIM(VGM37),\" \",\"\"))+1)","v":0},null,null,32,null,null,null,null,{"$f":"IF(VGU37=\"\",0,LEN(TRIM(VGU37))-LEN(SUBSTITUTE(TRIM(VGU37),\" \",\"\"))+1)","v":0},null,null,32,null,null,null,null,{"$f":"IF(VHC37=\"\",0,LEN(TRIM(VHC37))-LEN(SUBSTITUTE(TRIM(VHC37),\" \",\"\"))+1)","v":0},null,null,32,null,null,null,null,{"$f":"IF(VHK37=\"\",0,LEN(TRIM(VHK37))-LEN(SUBSTITUTE(TRIM(VHK37),\" \",\"\"))+1)","v":0},null,null,32,null,null,null,null,{"$f":"IF(VHS37=\"\",0,LEN(TRIM(VHS37))-LEN(SUBSTITUTE(TRIM(VHS37),\" \",\"\"))+1)","v":0},null,null,32,null,null,null,null,{"$f":"IF(VIA37=\"\",0,LEN(TRIM(VIA37))-LEN(SUBSTITUTE(TRIM(VIA37),\" \",\"\"))+1)","v":0},null,null,32,null,null,null,null,{"$f":"IF(VII37=\"\",0,LEN(TRIM(VII37))-LEN(SUBSTITUTE(TRIM(VII37),\" \",\"\"))+1)","v":0},null,null,32,null,null,null,null,{"$f":"IF(VIQ37=\"\",0,LEN(TRIM(VIQ37))-LEN(SUBSTITUTE(TRIM(VIQ37),\" \",\"\"))+1)","v":0},null,null,32,null,null,null,null,{"$f":"IF(VIY37=\"\",0,LEN(TRIM(VIY37))-LEN(SUBSTITUTE(TRIM(VIY37),\" \",\"\"))+1)","v":0},null,null,32,null,null,null,null,{"$f":"IF(VJG37=\"\",0,LEN(TRIM(VJG37))-LEN(SUBSTITUTE(TRIM(VJG37),\" \",\"\"))+1)","v":0},null,null,32,null,null,null,null,{"$f":"IF(VJO37=\"\",0,LEN(TRIM(VJO37))-LEN(SUBSTITUTE(TRIM(VJO37),\" \",\"\"))+1)","v":0},null,null,32,null,null,null,null,{"$f":"IF(VJW37=\"\",0,LEN(TRIM(VJW37))-LEN(SUBSTITUTE(TRIM(VJW37),\" \",\"\"))+1)","v":0},null,null,32,null,null,null,null,{"$f":"IF(VKE37=\"\",0,LEN(TRIM(VKE37))-LEN(SUBSTITUTE(TRIM(VKE37),\" \",\"\"))+1)","v":0},null,null,32,null,null,null,null,{"$f":"IF(VKM37=\"\",0,LEN(TRIM(VKM37))-LEN(SUBSTITUTE(TRIM(VKM37),\" \",\"\"))+1)","v":0},null,null,32,null,null,null,null,{"$f":"IF(VKU37=\"\",0,LEN(TRIM(VKU37))-LEN(SUBSTITUTE(TRIM(VKU37),\" \",\"\"))+1)","v":0},null,null,32,null,null,null,null,{"$f":"IF(VLC37=\"\",0,LEN(TRIM(VLC37))-LEN(SUBSTITUTE(TRIM(VLC37),\" \",\"\"))+1)","v":0},null,null,32,null,null,null,null,{"$f":"IF(VLK37=\"\",0,LEN(TRIM(VLK37))-LEN(SUBSTITUTE(TRIM(VLK37),\" \",\"\"))+1)","v":0},null,null,32,null,null,null,null,{"$f":"IF(VLS37=\"\",0,LEN(TRIM(VLS37))-LEN(SUBSTITUTE(TRIM(VLS37),\" \",\"\"))+1)","v":0},null,null,32,null,null,null,null,{"$f":"IF(VMA37=\"\",0,LEN(TRIM(VMA37))-LEN(SUBSTITUTE(TRIM(VMA37),\" \",\"\"))+1)","v":0},null,null,32,null,null,null,null,{"$f":"IF(VMI37=\"\",0,LEN(TRIM(VMI37))-LEN(SUBSTITUTE(TRIM(VMI37),\" \",\"\"))+1)","v":0},null,null,32,null,null,null,null,{"$f":"IF(VMQ37=\"\",0,LEN(TRIM(VMQ37))-LEN(SUBSTITUTE(TRIM(VMQ37),\" \",\"\"))+1)","v":0},null,null,32,null,null,null,null,{"$f":"IF(VMY37=\"\",0,LEN(TRIM(VMY37))-LEN(SUBSTITUTE(TRIM(VMY37),\" \",\"\"))+1)","v":0},null,null,32,null,null,null,null,{"$f":"IF(VNG37=\"\",0,LEN(TRIM(VNG37))-LEN(SUBSTITUTE(TRIM(VNG37),\" \",\"\"))+1)","v":0},null,null,32,null,null,null,null,{"$f":"IF(VNO37=\"\",0,LEN(TRIM(VNO37))-LEN(SUBSTITUTE(TRIM(VNO37),\" \",\"\"))+1)","v":0},null,null,32,null,null,null,null,{"$f":"IF(VNW37=\"\",0,LEN(TRIM(VNW37))-LEN(SUBSTITUTE(TRIM(VNW37),\" \",\"\"))+1)","v":0},null,null,32,null,null,null,null,{"$f":"IF(VOE37=\"\",0,LEN(TRIM(VOE37))-LEN(SUBSTITUTE(TRIM(VOE37),\" \",\"\"))+1)","v":0},null,null,32,null,null,null,null,{"$f":"IF(VOM37=\"\",0,LEN(TRIM(VOM37))-LEN(SUBSTITUTE(TRIM(VOM37),\" \",\"\"))+1)","v":0},null,null,32,null,null,null,null,{"$f":"IF(VOU37=\"\",0,LEN(TRIM(VOU37))-LEN(SUBSTITUTE(TRIM(VOU37),\" \",\"\"))+1)","v":0},null,null,32,null,null,null,null,{"$f":"IF(VPC37=\"\",0,LEN(TRIM(VPC37))-LEN(SUBSTITUTE(TRIM(VPC37),\" \",\"\"))+1)","v":0},null,null,32,null,null,null,null,{"$f":"IF(VPK37=\"\",0,LEN(TRIM(VPK37))-LEN(SUBSTITUTE(TRIM(VPK37),\" \",\"\"))+1)","v":0},null,null,32,null,null,null,null,{"$f":"IF(VPS37=\"\",0,LEN(TRIM(VPS37))-LEN(SUBSTITUTE(TRIM(VPS37),\" \",\"\"))+1)","v":0},null,null,32,null,null,null,null,{"$f":"IF(VQA37=\"\",0,LEN(TRIM(VQA37))-LEN(SUBSTITUTE(TRIM(VQA37),\" \",\"\"))+1)","v":0},null,null,32,null,null,null,null,{"$f":"IF(VQI37=\"\",0,LEN(TRIM(VQI37))-LEN(SUBSTITUTE(TRIM(VQI37),\" \",\"\"))+1)","v":0},null,null,32,null,null,null,null,{"$f":"IF(VQQ37=\"\",0,LEN(TRIM(VQQ37))-LEN(SUBSTITUTE(TRIM(VQQ37),\" \",\"\"))+1)","v":0},null,null,32,null,null,null,null,{"$f":"IF(VQY37=\"\",0,LEN(TRIM(VQY37))-LEN(SUBSTITUTE(TRIM(VQY37),\" \",\"\"))+1)","v":0},null,null,32,null,null,null,null,{"$f":"IF(VRG37=\"\",0,LEN(TRIM(VRG37))-LEN(SUBSTITUTE(TRIM(VRG37),\" \",\"\"))+1)","v":0},null,null,32,null,null,null,null,{"$f":"IF(VRO37=\"\",0,LEN(TRIM(VRO37))-LEN(SUBSTITUTE(TRIM(VRO37),\" \",\"\"))+1)","v":0},null,null,32,null,null,null,null,{"$f":"IF(VRW37=\"\",0,LEN(TRIM(VRW37))-LEN(SUBSTITUTE(TRIM(VRW37),\" \",\"\"))+1)","v":0},null,null,32,null,null,null,null,{"$f":"IF(VSE37=\"\",0,LEN(TRIM(VSE37))-LEN(SUBSTITUTE(TRIM(VSE37),\" \",\"\"))+1)","v":0},null,null,32,null,null,null,null,{"$f":"IF(VSM37=\"\",0,LEN(TRIM(VSM37))-LEN(SUBSTITUTE(TRIM(VSM37),\" \",\"\"))+1)","v":0},null,null,32,null,null,null,null,{"$f":"IF(VSU37=\"\",0,LEN(TRIM(VSU37))-LEN(SUBSTITUTE(TRIM(VSU37),\" \",\"\"))+1)","v":0},null,null,32,null,null,null,null,{"$f":"IF(VTC37=\"\",0,LEN(TRIM(VTC37))-LEN(SUBSTITUTE(TRIM(VTC37),\" \",\"\"))+1)","v":0},null,null,32,null,null,null,null,{"$f":"IF(VTK37=\"\",0,LEN(TRIM(VTK37))-LEN(SUBSTITUTE(TRIM(VTK37),\" \",\"\"))+1)","v":0},null,null,32,null,null,null,null,{"$f":"IF(VTS37=\"\",0,LEN(TRIM(VTS37))-LEN(SUBSTITUTE(TRIM(VTS37),\" \",\"\"))+1)","v":0},null,null,32,null,null,null,null,{"$f":"IF(VUA37=\"\",0,LEN(TRIM(VUA37))-LEN(SUBSTITUTE(TRIM(VUA37),\" \",\"\"))+1)","v":0},null,null,32,null,null,null,null,{"$f":"IF(VUI37=\"\",0,LEN(TRIM(VUI37))-LEN(SUBSTITUTE(TRIM(VUI37),\" \",\"\"))+1)","v":0},null,null,32,null,null,null,null,{"$f":"IF(VUQ37=\"\",0,LEN(TRIM(VUQ37))-LEN(SUBSTITUTE(TRIM(VUQ37),\" \",\"\"))+1)","v":0},null,null,32,null,null,null,null,{"$f":"IF(VUY37=\"\",0,LEN(TRIM(VUY37))-LEN(SUBSTITUTE(TRIM(VUY37),\" \",\"\"))+1)","v":0},null,null,32,null,null,null,null,{"$f":"IF(VVG37=\"\",0,LEN(TRIM(VVG37))-LEN(SUBSTITUTE(TRIM(VVG37),\" \",\"\"))+1)","v":0},null,null,32,null,null,null,null,{"$f":"IF(VVO37=\"\",0,LEN(TRIM(VVO37))-LEN(SUBSTITUTE(TRIM(VVO37),\" \",\"\"))+1)","v":0},null,null,32,null,null,null,null,{"$f":"IF(VVW37=\"\",0,LEN(TRIM(VVW37))-LEN(SUBSTITUTE(TRIM(VVW37),\" \",\"\"))+1)","v":0},null,null,32,null,null,null,null,{"$f":"IF(VWE37=\"\",0,LEN(TRIM(VWE37))-LEN(SUBSTITUTE(TRIM(VWE37),\" \",\"\"))+1)","v":0},null,null,32,null,null,null,null,{"$f":"IF(VWM37=\"\",0,LEN(TRIM(VWM37))-LEN(SUBSTITUTE(TRIM(VWM37),\" \",\"\"))+1)","v":0},null,null,32,null,null,null,null,{"$f":"IF(VWU37=\"\",0,LEN(TRIM(VWU37))-LEN(SUBSTITUTE(TRIM(VWU37),\" \",\"\"))+1)","v":0},null,null,32,null,null,null,null,{"$f":"IF(VXC37=\"\",0,LEN(TRIM(VXC37))-LEN(SUBSTITUTE(TRIM(VXC37),\" \",\"\"))+1)","v":0},null,null,32,null,null,null,null,{"$f":"IF(VXK37=\"\",0,LEN(TRIM(VXK37))-LEN(SUBSTITUTE(TRIM(VXK37),\" \",\"\"))+1)","v":0},null,null,32,null,null,null,null,{"$f":"IF(VXS37=\"\",0,LEN(TRIM(VXS37))-LEN(SUBSTITUTE(TRIM(VXS37),\" \",\"\"))+1)","v":0},null,null,32,null,null,null,null,{"$f":"IF(VYA37=\"\",0,LEN(TRIM(VYA37))-LEN(SUBSTITUTE(TRIM(VYA37),\" \",\"\"))+1)","v":0},null,null,32,null,null,null,null,{"$f":"IF(VYI37=\"\",0,LEN(TRIM(VYI37))-LEN(SUBSTITUTE(TRIM(VYI37),\" \",\"\"))+1)","v":0},null,null,32,null,null,null,null,{"$f":"IF(VYQ37=\"\",0,LEN(TRIM(VYQ37))-LEN(SUBSTITUTE(TRIM(VYQ37),\" \",\"\"))+1)","v":0},null,null,32,null,null,null,null,{"$f":"IF(VYY37=\"\",0,LEN(TRIM(VYY37))-LEN(SUBSTITUTE(TRIM(VYY37),\" \",\"\"))+1)","v":0},null,null,32,null,null,null,null,{"$f":"IF(VZG37=\"\",0,LEN(TRIM(VZG37))-LEN(SUBSTITUTE(TRIM(VZG37),\" \",\"\"))+1)","v":0},null,null,32,null,null,null,null,{"$f":"IF(VZO37=\"\",0,LEN(TRIM(VZO37))-LEN(SUBSTITUTE(TRIM(VZO37),\" \",\"\"))+1)","v":0},null,null,32,null,null,null,null,{"$f":"IF(VZW37=\"\",0,LEN(TRIM(VZW37))-LEN(SUBSTITUTE(TRIM(VZW37),\" \",\"\"))+1)","v":0},null,null,32,null,null,null,null,{"$f":"IF(WAE37=\"\",0,LEN(TRIM(WAE37))-LEN(SUBSTITUTE(TRIM(WAE37),\" \",\"\"))+1)","v":0},null,null,32,null,null,null,null,{"$f":"IF(WAM37=\"\",0,LEN(TRIM(WAM37))-LEN(SUBSTITUTE(TRIM(WAM37),\" \",\"\"))+1)","v":0},null,null,32,null,null,null,null,{"$f":"IF(WAU37=\"\",0,LEN(TRIM(WAU37))-LEN(SUBSTITUTE(TRIM(WAU37),\" \",\"\"))+1)","v":0},null,null,32,null,null,null,null,{"$f":"IF(WBC37=\"\",0,LEN(TRIM(WBC37))-LEN(SUBSTITUTE(TRIM(WBC37),\" \",\"\"))+1)","v":0},null,null,32,null,null,null,null,{"$f":"IF(WBK37=\"\",0,LEN(TRIM(WBK37))-LEN(SUBSTITUTE(TRIM(WBK37),\" \",\"\"))+1)","v":0},null,null,32,null,null,null,null,{"$f":"IF(WBS37=\"\",0,LEN(TRIM(WBS37))-LEN(SUBSTITUTE(TRIM(WBS37),\" \",\"\"))+1)","v":0},null,null,32,null,null,null,null,{"$f":"IF(WCA37=\"\",0,LEN(TRIM(WCA37))-LEN(SUBSTITUTE(TRIM(WCA37),\" \",\"\"))+1)","v":0},null,null,32,null,null,null,null,{"$f":"IF(WCI37=\"\",0,LEN(TRIM(WCI37))-LEN(SUBSTITUTE(TRIM(WCI37),\" \",\"\"))+1)","v":0},null,null,32,null,null,null,null,{"$f":"IF(WCQ37=\"\",0,LEN(TRIM(WCQ37))-LEN(SUBSTITUTE(TRIM(WCQ37),\" \",\"\"))+1)","v":0},null,null,32,null,null,null,null,{"$f":"IF(WCY37=\"\",0,LEN(TRIM(WCY37))-LEN(SUBSTITUTE(TRIM(WCY37),\" \",\"\"))+1)","v":0},null,null,32,null,null,null,null,{"$f":"IF(WDG37=\"\",0,LEN(TRIM(WDG37))-LEN(SUBSTITUTE(TRIM(WDG37),\" \",\"\"))+1)","v":0},null,null,32,null,null,null,null,{"$f":"IF(WDO37=\"\",0,LEN(TRIM(WDO37))-LEN(SUBSTITUTE(TRIM(WDO37),\" \",\"\"))+1)","v":0},null,null,32,null,null,null,null,{"$f":"IF(WDW37=\"\",0,LEN(TRIM(WDW37))-LEN(SUBSTITUTE(TRIM(WDW37),\" \",\"\"))+1)","v":0},null,null,32,null,null,null,null,{"$f":"IF(WEE37=\"\",0,LEN(TRIM(WEE37))-LEN(SUBSTITUTE(TRIM(WEE37),\" \",\"\"))+1)","v":0},null,null,32,null,null,null,null,{"$f":"IF(WEM37=\"\",0,LEN(TRIM(WEM37))-LEN(SUBSTITUTE(TRIM(WEM37),\" \",\"\"))+1)","v":0},null,null,32,null,null,null,null,{"$f":"IF(WEU37=\"\",0,LEN(TRIM(WEU37))-LEN(SUBSTITUTE(TRIM(WEU37),\" \",\"\"))+1)","v":0},null,null,32,null,null,null,null,{"$f":"IF(WFC37=\"\",0,LEN(TRIM(WFC37))-LEN(SUBSTITUTE(TRIM(WFC37),\" \",\"\"))+1)","v":0},null,null,32,null,null,null,null,{"$f":"IF(WFK37=\"\",0,LEN(TRIM(WFK37))-LEN(SUBSTITUTE(TRIM(WFK37),\" \",\"\"))+1)","v":0},null,null,32,null,null,null,null,{"$f":"IF(WFS37=\"\",0,LEN(TRIM(WFS37))-LEN(SUBSTITUTE(TRIM(WFS37),\" \",\"\"))+1)","v":0},null,null,32,null,null,null,null,{"$f":"IF(WGA37=\"\",0,LEN(TRIM(WGA37))-LEN(SUBSTITUTE(TRIM(WGA37),\" \",\"\"))+1)","v":0},null,null,32,null,null,null,null,{"$f":"IF(WGI37=\"\",0,LEN(TRIM(WGI37))-LEN(SUBSTITUTE(TRIM(WGI37),\" \",\"\"))+1)","v":0},null,null,32,null,null,null,null,{"$f":"IF(WGQ37=\"\",0,LEN(TRIM(WGQ37))-LEN(SUBSTITUTE(TRIM(WGQ37),\" \",\"\"))+1)","v":0},null,null,32,null,null,null,null,{"$f":"IF(WGY37=\"\",0,LEN(TRIM(WGY37))-LEN(SUBSTITUTE(TRIM(WGY37),\" \",\"\"))+1)","v":0},null,null,32,null,null,null,null,{"$f":"IF(WHG37=\"\",0,LEN(TRIM(WHG37))-LEN(SUBSTITUTE(TRIM(WHG37),\" \",\"\"))+1)","v":0},null,null,32,null,null,null,null,{"$f":"IF(WHO37=\"\",0,LEN(TRIM(WHO37))-LEN(SUBSTITUTE(TRIM(WHO37),\" \",\"\"))+1)","v":0},null,null,32,null,null,null,null,{"$f":"IF(WHW37=\"\",0,LEN(TRIM(WHW37))-LEN(SUBSTITUTE(TRIM(WHW37),\" \",\"\"))+1)","v":0},null,null,32,null,null,null,null,{"$f":"IF(WIE37=\"\",0,LEN(TRIM(WIE37))-LEN(SUBSTITUTE(TRIM(WIE37),\" \",\"\"))+1)","v":0},null,null,32,null,null,null,null,{"$f":"IF(WIM37=\"\",0,LEN(TRIM(WIM37))-LEN(SUBSTITUTE(TRIM(WIM37),\" \",\"\"))+1)","v":0},null,null,32,null,null,null,null,{"$f":"IF(WIU37=\"\",0,LEN(TRIM(WIU37))-LEN(SUBSTITUTE(TRIM(WIU37),\" \",\"\"))+1)","v":0},null,null,32,null,null,null,null,{"$f":"IF(WJC37=\"\",0,LEN(TRIM(WJC37))-LEN(SUBSTITUTE(TRIM(WJC37),\" \",\"\"))+1)","v":0},null,null,32,null,null,null,null,{"$f":"IF(WJK37=\"\",0,LEN(TRIM(WJK37))-LEN(SUBSTITUTE(TRIM(WJK37),\" \",\"\"))+1)","v":0},null,null,32,null,null,null,null,{"$f":"IF(WJS37=\"\",0,LEN(TRIM(WJS37))-LEN(SUBSTITUTE(TRIM(WJS37),\" \",\"\"))+1)","v":0},null,null,32,null,null,null,null,{"$f":"IF(WKA37=\"\",0,LEN(TRIM(WKA37))-LEN(SUBSTITUTE(TRIM(WKA37),\" \",\"\"))+1)","v":0},null,null,32,null,null,null,null,{"$f":"IF(WKI37=\"\",0,LEN(TRIM(WKI37))-LEN(SUBSTITUTE(TRIM(WKI37),\" \",\"\"))+1)","v":0},null,null,32,null,null,null,null,{"$f":"IF(WKQ37=\"\",0,LEN(TRIM(WKQ37))-LEN(SUBSTITUTE(TRIM(WKQ37),\" \",\"\"))+1)","v":0},null,null,32,null,null,null,null,{"$f":"IF(WKY37=\"\",0,LEN(TRIM(WKY37))-LEN(SUBSTITUTE(TRIM(WKY37),\" \",\"\"))+1)","v":0},null,null,32,null,null,null,null,{"$f":"IF(WLG37=\"\",0,LEN(TRIM(WLG37))-LEN(SUBSTITUTE(TRIM(WLG37),\" \",\"\"))+1)","v":0},null,null,32,null,null,null,null,{"$f":"IF(WLO37=\"\",0,LEN(TRIM(WLO37))-LEN(SUBSTITUTE(TRIM(WLO37),\" \",\"\"))+1)","v":0},null,null,32,null,null,null,null,{"$f":"IF(WLW37=\"\",0,LEN(TRIM(WLW37))-LEN(SUBSTITUTE(TRIM(WLW37),\" \",\"\"))+1)","v":0},null,null,32,null,null,null,null,{"$f":"IF(WME37=\"\",0,LEN(TRIM(WME37))-LEN(SUBSTITUTE(TRIM(WME37),\" \",\"\"))+1)","v":0},null,null,32,null,null,null,null,{"$f":"IF(WMM37=\"\",0,LEN(TRIM(WMM37))-LEN(SUBSTITUTE(TRIM(WMM37),\" \",\"\"))+1)","v":0},null,null,32,null,null,null,null,{"$f":"IF(WMU37=\"\",0,LEN(TRIM(WMU37))-LEN(SUBSTITUTE(TRIM(WMU37),\" \",\"\"))+1)","v":0},null,null,32,null,null,null,null,{"$f":"IF(WNC37=\"\",0,LEN(TRIM(WNC37))-LEN(SUBSTITUTE(TRIM(WNC37),\" \",\"\"))+1)","v":0},null,null,32,null,null,null,null,{"$f":"IF(WNK37=\"\",0,LEN(TRIM(WNK37))-LEN(SUBSTITUTE(TRIM(WNK37),\" \",\"\"))+1)","v":0},null,null,32,null,null,null,null,{"$f":"IF(WNS37=\"\",0,LEN(TRIM(WNS37))-LEN(SUBSTITUTE(TRIM(WNS37),\" \",\"\"))+1)","v":0},null,null,32,null,null,null,null,{"$f":"IF(WOA37=\"\",0,LEN(TRIM(WOA37))-LEN(SUBSTITUTE(TRIM(WOA37),\" \",\"\"))+1)","v":0},null,null,32,null,null,null,null,{"$f":"IF(WOI37=\"\",0,LEN(TRIM(WOI37))-LEN(SUBSTITUTE(TRIM(WOI37),\" \",\"\"))+1)","v":0},null,null,32,null,null,null,null,{"$f":"IF(WOQ37=\"\",0,LEN(TRIM(WOQ37))-LEN(SUBSTITUTE(TRIM(WOQ37),\" \",\"\"))+1)","v":0},null,null,32,null,null,null,null,{"$f":"IF(WOY37=\"\",0,LEN(TRIM(WOY37))-LEN(SUBSTITUTE(TRIM(WOY37),\" \",\"\"))+1)","v":0},null,null,32,null,null,null,null,{"$f":"IF(WPG37=\"\",0,LEN(TRIM(WPG37))-LEN(SUBSTITUTE(TRIM(WPG37),\" \",\"\"))+1)","v":0},null,null,32,null,null,null,null,{"$f":"IF(WPO37=\"\",0,LEN(TRIM(WPO37))-LEN(SUBSTITUTE(TRIM(WPO37),\" \",\"\"))+1)","v":0},null,null,32,null,null,null,null,{"$f":"IF(WPW37=\"\",0,LEN(TRIM(WPW37))-LEN(SUBSTITUTE(TRIM(WPW37),\" \",\"\"))+1)","v":0},null,null,32,null,null,null,null,{"$f":"IF(WQE37=\"\",0,LEN(TRIM(WQE37))-LEN(SUBSTITUTE(TRIM(WQE37),\" \",\"\"))+1)","v":0},null,null,32,null,null,null,null,{"$f":"IF(WQM37=\"\",0,LEN(TRIM(WQM37))-LEN(SUBSTITUTE(TRIM(WQM37),\" \",\"\"))+1)","v":0},null,null,32,null,null,null,null,{"$f":"IF(WQU37=\"\",0,LEN(TRIM(WQU37))-LEN(SUBSTITUTE(TRIM(WQU37),\" \",\"\"))+1)","v":0},null,null,32,null,null,null,null,{"$f":"IF(WRC37=\"\",0,LEN(TRIM(WRC37))-LEN(SUBSTITUTE(TRIM(WRC37),\" \",\"\"))+1)","v":0},null,null,32,null,null,null,null,{"$f":"IF(WRK37=\"\",0,LEN(TRIM(WRK37))-LEN(SUBSTITUTE(TRIM(WRK37),\" \",\"\"))+1)","v":0},null,null,32,null,null,null,null,{"$f":"IF(WRS37=\"\",0,LEN(TRIM(WRS37))-LEN(SUBSTITUTE(TRIM(WRS37),\" \",\"\"))+1)","v":0},null,null,32,null,null,null,null,{"$f":"IF(WSA37=\"\",0,LEN(TRIM(WSA37))-LEN(SUBSTITUTE(TRIM(WSA37),\" \",\"\"))+1)","v":0},null,null,32,null,null,null,null,{"$f":"IF(WSI37=\"\",0,LEN(TRIM(WSI37))-LEN(SUBSTITUTE(TRIM(WSI37),\" \",\"\"))+1)","v":0},null,null,32,null,null,null,null,{"$f":"IF(WSQ37=\"\",0,LEN(TRIM(WSQ37))-LEN(SUBSTITUTE(TRIM(WSQ37),\" \",\"\"))+1)","v":0},null,null,32,null,null,null,null,{"$f":"IF(WSY37=\"\",0,LEN(TRIM(WSY37))-LEN(SUBSTITUTE(TRIM(WSY37),\" \",\"\"))+1)","v":0},null,null,32,null,null,null,null,{"$f":"IF(WTG37=\"\",0,LEN(TRIM(WTG37))-LEN(SUBSTITUTE(TRIM(WTG37),\" \",\"\"))+1)","v":0},null,null,32,null,null,null,null,{"$f":"IF(WTO37=\"\",0,LEN(TRIM(WTO37))-LEN(SUBSTITUTE(TRIM(WTO37),\" \",\"\"))+1)","v":0},null,null,32,null,null,null,null,{"$f":"IF(WTW37=\"\",0,LEN(TRIM(WTW37))-LEN(SUBSTITUTE(TRIM(WTW37),\" \",\"\"))+1)","v":0},null,null,32,null,null,null,null,{"$f":"IF(WUE37=\"\",0,LEN(TRIM(WUE37))-LEN(SUBSTITUTE(TRIM(WUE37),\" \",\"\"))+1)","v":0},null,null,32,null,null,null,null,{"$f":"IF(WUM37=\"\",0,LEN(TRIM(WUM37))-LEN(SUBSTITUTE(TRIM(WUM37),\" \",\"\"))+1)","v":0},null,null,32,null,null,null,null,{"$f":"IF(WUU37=\"\",0,LEN(TRIM(WUU37))-LEN(SUBSTITUTE(TRIM(WUU37),\" \",\"\"))+1)","v":0},null,null,32,null,null,null,null,{"$f":"IF(WVC37=\"\",0,LEN(TRIM(WVC37))-LEN(SUBSTITUTE(TRIM(WVC37),\" \",\"\"))+1)","v":0},null,null,32,null,null,null,null,{"$f":"IF(WVK37=\"\",0,LEN(TRIM(WVK37))-LEN(SUBSTITUTE(TRIM(WVK37),\" \",\"\"))+1)","v":0},null,null,32,null,null,null,null,{"$f":"IF(WVS37=\"\",0,LEN(TRIM(WVS37))-LEN(SUBSTITUTE(TRIM(WVS37),\" \",\"\"))+1)","v":0},null,null,32,null,null,null,null,{"$f":"IF(WWA37=\"\",0,LEN(TRIM(WWA37))-LEN(SUBSTITUTE(TRIM(WWA37),\" \",\"\"))+1)","v":0},null,null,32,null,null,null,null,{"$f":"IF(WWI37=\"\",0,LEN(TRIM(WWI37))-LEN(SUBSTITUTE(TRIM(WWI37),\" \",\"\"))+1)","v":0},null,null,32,null,null,null,null,{"$f":"IF(WWQ37=\"\",0,LEN(TRIM(WWQ37))-LEN(SUBSTITUTE(TRIM(WWQ37),\" \",\"\"))+1)","v":0},null,null,32,null,null,null,null,{"$f":"IF(WWY37=\"\",0,LEN(TRIM(WWY37))-LEN(SUBSTITUTE(TRIM(WWY37),\" \",\"\"))+1)","v":0},null,null,32,null,null,null,null,{"$f":"IF(WXG37=\"\",0,LEN(TRIM(WXG37))-LEN(SUBSTITUTE(TRIM(WXG37),\" \",\"\"))+1)","v":0},null,null,32,null,null,null,null,{"$f":"IF(WXO37=\"\",0,LEN(TRIM(WXO37))-LEN(SUBSTITUTE(TRIM(WXO37),\" \",\"\"))+1)","v":0},null,null,32,null,null,null,null,{"$f":"IF(WXW37=\"\",0,LEN(TRIM(WXW37))-LEN(SUBSTITUTE(TRIM(WXW37),\" \",\"\"))+1)","v":0},null,null,32,null,null,null,null,{"$f":"IF(WYE37=\"\",0,LEN(TRIM(WYE37))-LEN(SUBSTITUTE(TRIM(WYE37),\" \",\"\"))+1)","v":0},null,null,32,null,null,null,null,{"$f":"IF(WYM37=\"\",0,LEN(TRIM(WYM37))-LEN(SUBSTITUTE(TRIM(WYM37),\" \",\"\"))+1)","v":0},null,null,32,null,null,null,null,{"$f":"IF(WYU37=\"\",0,LEN(TRIM(WYU37))-LEN(SUBSTITUTE(TRIM(WYU37),\" \",\"\"))+1)","v":0},null,null,32,null,null,null,null,{"$f":"IF(WZC37=\"\",0,LEN(TRIM(WZC37))-LEN(SUBSTITUTE(TRIM(WZC37),\" \",\"\"))+1)","v":0},null,null,32,null,null,null,null,{"$f":"IF(WZK37=\"\",0,LEN(TRIM(WZK37))-LEN(SUBSTITUTE(TRIM(WZK37),\" \",\"\"))+1)","v":0},null,null,32,null,null,null,null,{"$f":"IF(WZS37=\"\",0,LEN(TRIM(WZS37))-LEN(SUBSTITUTE(TRIM(WZS37),\" \",\"\"))+1)","v":0},null,null,32,null,null,null,null,{"$f":"IF(XAA37=\"\",0,LEN(TRIM(XAA37))-LEN(SUBSTITUTE(TRIM(XAA37),\" \",\"\"))+1)","v":0},null,null,32,null,null,null,null,{"$f":"IF(XAI37=\"\",0,LEN(TRIM(XAI37))-LEN(SUBSTITUTE(TRIM(XAI37),\" \",\"\"))+1)","v":0},null,null,32,null,null,null,null,{"$f":"IF(XAQ37=\"\",0,LEN(TRIM(XAQ37))-LEN(SUBSTITUTE(TRIM(XAQ37),\" \",\"\"))+1)","v":0},null,null,32,null,null,null,null,{"$f":"IF(XAY37=\"\",0,LEN(TRIM(XAY37))-LEN(SUBSTITUTE(TRIM(XAY37),\" \",\"\"))+1)","v":0},null,null,32,null,null,null,null,{"$f":"IF(XBG37=\"\",0,LEN(TRIM(XBG37))-LEN(SUBSTITUTE(TRIM(XBG37),\" \",\"\"))+1)","v":0},null,null,32,null,null,null,null,{"$f":"IF(XBO37=\"\",0,LEN(TRIM(XBO37))-LEN(SUBSTITUTE(TRIM(XBO37),\" \",\"\"))+1)","v":0},null,null,32,null,null,null,null,{"$f":"IF(XBW37=\"\",0,LEN(TRIM(XBW37))-LEN(SUBSTITUTE(TRIM(XBW37),\" \",\"\"))+1)","v":0},null,null,32,null,null,null,null,{"$f":"IF(XCE37=\"\",0,LEN(TRIM(XCE37))-LEN(SUBSTITUTE(TRIM(XCE37),\" \",\"\"))+1)","v":0},null,null,32,null,null,null,null,{"$f":"IF(XCM37=\"\",0,LEN(TRIM(XCM37))-LEN(SUBSTITUTE(TRIM(XCM37),\" \",\"\"))+1)","v":0},null,null,32,null,null,null,null,{"$f":"IF(XCU37=\"\",0,LEN(TRIM(XCU37))-LEN(SUBSTITUTE(TRIM(XCU37),\" \",\"\"))+1)","v":0},null,null,32,null,null,null,null,{"$f":"IF(XDC37=\"\",0,LEN(TRIM(XDC37))-LEN(SUBSTITUTE(TRIM(XDC37),\" \",\"\"))+1)","v":0},null,null,32,null,null,null,null,{"$f":"IF(XDK37=\"\",0,LEN(TRIM(XDK37))-LEN(SUBSTITUTE(TRIM(XDK37),\" \",\"\"))+1)","v":0},null,null,32,null,null,null,null,{"$f":"IF(XDS37=\"\",0,LEN(TRIM(XDS37))-LEN(SUBSTITUTE(TRIM(XDS37),\" \",\"\"))+1)","v":0},null,null,32,null,null,null,null,{"$f":"IF(XEA37=\"\",0,LEN(TRIM(XEA37))-LEN(SUBSTITUTE(TRIM(XEA37),\" \",\"\"))+1)","v":0},null,null,32,null,null,null,null,{"$f":"IF(XEI37=\"\",0,LEN(TRIM(XEI37))-LEN(SUBSTITUTE(TRIM(XEI37),\" \",\"\"))+1)","v":0},null,null,32,null,null,null,null,{"$f":"IF(XEQ37=\"\",0,LEN(TRIM(XEQ37))-LEN(SUBSTITUTE(TRIM(XEQ37),\" \",\"\"))+1)","v":0},null,null,32,null,null,null,null,{"$f":"IF(XEY37=\"\",0,LEN(TRIM(XEY37))-LEN(SUBSTITUTE(TRIM(XEY37),\" \",\"\"))+1)","v":0}]
[null,{"$f":"ROW()-ROW($B$30)","v":15},null,null,null,null,0]
[null,"*Pueden  Ocultar las Filas que no se utilicen ( Favor no eliminar filas)."]

{"sheet":"Marco","index":5,"n_rows":31,"n_cols":8,"rows_kept":31,"cut":false,"hidden":false,"merged":[[1,2,2,2],[9,2,9,4],[7,2,7,4],[8,2,8,4]]}
[3,null,null,null,null,null,"*Pueden  Ocultar las Filas que no se utilicen."]
[null,null,{"$f":"General!B2","v":"PRESENTACIÓN DE PROYECTOS \nDE INVESTIGACIÓN"},{"$f":"General!$H$2","v":"Fecha de Emisión: 2019/03/18"},{"$f":"General!$I$2","v":"IN-IV-F-14"}]
[null,null,null,{"$f":"General!$H$3","v":"Revisión N°:\n4"},{"$f":"\"Página \"&A1&\" de \"&Dt_TPG","v":"Página 3 de 11"},null,{"$f":"SUM(G8:G3491)","v":0},"<== Total de palabras"]
[]
["6.-","#","Marco de referencia (técnico/teórico/ jurídico/histórico)",null,null,null,"Largo"]
["6.-","#","Marco de referencia (técnico)",null,null,null,"Largo"]
[]
[null,{"$f":"ROW()-6","v":2},null,null,null,null,{"$f":"IF(C8=\"\",0,LEN(TRIM(C8))-LEN(SUBSTITUTE(TRIM(C8),\" \",\"\"))+1)","v":0}]
[null,{"$f":"ROW()-6","v":3},null,null,null,null,0]
[null,4,null,null,null,null,0]
[]
["6.b-","#","Marco de referencia (teórico)",null,null,null,"Largo"]
[]
[null,{"$f":"ROW()-6","v":8},null,null,null,null,{"$f":"IF(C14=\"\",0,LEN(TRIM(C14))-LEN(SUBSTITUTE(TRIM(C14),\" \",\"\"))+1)","v":0}]
[null,9,null,null,null,null,{"$f":"IF(C15=\"\",0,LEN(TRIM(C15))-LEN(SUBSTITUTE(TRIM(C15),\" \",\"\"))+1)","v":0}]
[null,10,null,null,null,null,0]
[null,11,null,null,null,null,0]
[null,12,"Marco de referencia (jurídico)"]
[null,13,null,null,null,null,0]
[null,14,null,null,null,null,0]
[null,15,null,null,null,null,0]
[null,16,null,null,null,null,0]
[null,17,"Marco de referencia (histórico)"]
[null,18,null,null,null,null,0]
[null,19,null,null,null,null,0]
[null,20,null,null,null,null,0]
[null,21,null,null,null,null,0]
[null,22,null,null,null,null,0]
[]
[]
[null,"*Pueden  Ocultar las Filas que no se utilicen ( Favor no eliminar filas)."]

{"sheet":"Metodología","index":6,"n_rows":41,"n_cols":8,"rows_kept":41,"cut":false,"hidden":false,"merged":[[21,2,21,4],[22,2,22,4],[23,2,23,4],[24,2,24,4],[33,2,33,4],[32,2,32,4],[27,2,27,4],[26,2,26,4],[25,2,25,4],[10,2,10,4],[11,2,11,4],[18,2,18,4],[19,2,19,4],[20,2,20,4],[34,2,34,4],[1,2,2,2],[28,2,28,4],[29,2,29,4],[30,2,30,4],[31,2,31,4],[12,2,12,4],[13,2,13,4],[14,2,14,4],[15,2,15,4],[16,2,16,4],[17,2,17,4],[6,2,6,4],[7,2,7,4],[8,2,8,4],[9,2,9,4]]}
[5,null,null,null,null,null,"*Pueden  Ocultar las Filas que no se utilicen."]
[null,null,{"$f":"General!B2","v":"PRESENTACIÓN DE PROYECTOS \nDE INVESTIGACIÓN"},{"$f":"General!$H$2","v":"Fecha de Emisión: 2019/03/18"},{"$f":"General!$I$2","v":"IN-IV-F-14"}]
[null,null,null,{"$f":"General!$H$3","v":"Revisión N°:\n4"},{"$f":"\"Página \"&A1&\" de \"&Dt_TPG","v":"Página 5 de 11"},null,{"$f":"SUM(G7:G3501)","v":0},"<== Total de palabras"]
[]
["8.-","#","Diseño  Metodológico de la propuesta.",null,null,null,"Largo"]
[]
[null,{"$f":"ROW()-6","v":1},null,null,null,null,{"$f":"IF(C7=\"\",0,LEN(TRIM(C7))-LEN(SUBSTITUTE(TRIM(C7),\" \",\"\"))+1)","v":0}]
[null,{"$f":"ROW()-6","v":2},null,null,null,null,{"$f":"IF(C8=\"\",0,LEN(TRIM(C8))-LEN(SUBSTITUTE(TRIM(C8),\" \",\"\"))+1)","v":0}]
[null,3,null,null,null,null,0]
[null,4,null,null,null,null,0]
[null,5,null,null,null,null,0]
[null,6,null,null,null,null,0]
[null,7,null,null,null,null,0]
[null,8,null,null,null,null,0]
[null,9,null,null,null,null,0]
[null,10,null,null,null,null,0]
[null,11,null,null,null,null,0]
[null,12,null,null,null,null,0]
[null,13,null,null,null,null,0]
[null,14,null,null,null,null,0]
[null,15,null,null,null,null,0]
[null,16,null,null,null,null,{"$f":"IF(C22=\"\",0,LEN(TRIM(C22))-LEN(SUBSTITUTE(TRIM(C22),\" \",\"\"))+1)","v":0}]
[null,17,null,null,null,null,0]
[null,18,null,null,null,null,0]
[null,19,null,null,null,null,0]
[null,20,null,null,null,null,0]
[null,21,null,null,null,null,0]
[null,22,null,null,null,null,0]
[null,23,null,null,null,null,0]
[null,24,null,null,null,null,0]
[null,25,null,null,null,null,0]
[null,26,null,null,null,null,0]
[null,27,null,null,null,null,0]
[null,28,null,null,null,null,0]
[null,29,null,null,null,null,0]
[]
[]
[]
[]
[]
[null,"*Pueden  Ocultar las Filas que no se utilicen. No eliminar filas."]

{"sheet":"Objetivos","index":7,"n_rows":25,"n_cols":8,"rows_kept":25,"cut":false,"hidden":false,"merged":[[17,2,17,4],[1,1,2,2],[7,2,7,4],[8,2,8,4],[9,2,9,4],[10,2,10,4],[6,1,6,4],[11,2,11,4],[13,2,13,4],[14,2,14,4],[15,2,15,4],[16,2,16,4],[12,2,12,4]]}
[4]
[null,{"$f":"General!B2","v":"PRESENTACIÓN DE PROYECTOS \nDE INVESTIGACIÓN"},null,{"$f":"General!$H$2","v":"Fecha de Emisión: 2019/03/18"},{"$f":"General!$I$2","v":"IN-IV-F-14"}]
[null,null,null,{"$f":"General!$H$3","v":"Revisión N°:\n4"},{"$f":"\"Página \"&A1&\" de \"&Dt_TPG","v":"Página 4 de 11"},null,{"$f":"SUM(G7:G3494)","v":0},"<== Total de palabras"]
[]
["7.-","Objetivos general y específicos de la propuesta .",null,null,null,null,"Largo"]
[]
[null,"*El especio del Item (0) Cero es para definir el objetivo general los demás corresponden a objetivos especificos "]
[null,{"$f":"ROW()-8","v":0},null,null,null,null,{"$f":"IF(C8=\"\",0,LEN(TRIM(C8))-LEN(SUBSTITUTE(TRIM(C8),\" \",\"\"))+1)","v":0}]
[null,{"$f":"ROW()-8","v":1},null,null,null,null,0]
[null,2,null,null,null,null,0]
[null,3,null,null,null,null,0]
[null,4,null,null,null,null,0]
[null,5,null,null,null,null,0]
[null,6,null,null,null,null,0]
[null,7,null,null,null,null,0]
[null,8,null,null,null,null,0]
[null,9,null,null,null,null,0]
[null,10,null,null,null,null,0]
[]
[]
[]
[]
[]
[]
[null,"*Pueden  Ocultar las Filas que no se utilicen ( Favor no eliminar filas)."]

{"sheet":"Productos","index":8,"n_rows":84,"n_cols":27,"rows_kept":84,"cut":false,"hidden":false,"merged":[[1,1,2,5]]}
[7,null,null,null,null,null,null,null,null,null,null,null,null,null,null,null,"Puntos"]
[null,{"$f":"Cronograma!B2","v":"PRESENTACIÓN DE PROYECTOS \nDE INVESTIGACIÓN"},null,null,null,null,{"$f":"General!$H$2","v":"Fecha de Emisión: 2019/03/18"},{"$f":"General!$I$2","v":"IN-IV-F-14"}]
[null,null,null,null,null,null,{"$f":"General!$H$3","v":"Revisión N°:\n4"},{"$f":"\"Página \"&A1&\" de \"&Dt_TPG","v":"Página 7 de 11"},{"$f":"IF(H5=\"Mi\",4,5)","v":4},null,"N","N","Abreviatura","IdClase","MI","X","Clase ","Tipo de Productos","Indicadores","o","Ok","IdClase",null,null,null,"Productos de Generación de Nuevo Conocimiento (GNC)","GNC"]
[null,null,null,null,null,null,{"$f":"IF(H5=\"INV\",3,4)","v":4},null,null,null,1,{"$f":"ABS(LEFT(M4,3))","v":101},{"$f":"IFERROR(V4&\"- \"&VLOOKUP($K4,Dt_prod2,5,0),)","v":"101- Artículo en revista en Cuartil 1 (Q1) del SJR (Scimago) o del JCR (Clarivate). "},{"$f":"IFERROR(VLOOKUP($Q4,$Z$3:$AB$8,2,0),0)","v":"GNC"},{"$f":"IFERROR(VLOOKUP($K4,Dt_prod2,7,0),\"-\")","v":40},{"$f":"IFERROR(VLOOKUP($K4,Dt_prod2,8,0),\"-\")","v":0},{"$f":"IFERROR(VLOOKUP($K4,Dt_prod2,3,0),\"-\")","v":"Productos de Generación de Nuevo Conocimiento (GNC)"},{"$f":"VLOOKUP($K4,Dt_prod2,4,0)","v":"Artículos en Revistas Científicas no incluidas en las listas de revistas depredadoras (ejemplo Beall-list)"},{"$f":"IFERROR(VLOOKUP($K4,Dt_prod2,6,0),)","v":"Copia del sometimiento y copia del artículo enviado a la revista"},0,{"$f":"SUMIFS($F$8:$F$28,$I$8:$I$28,L4)","v":0},{"$f":"IFERROR(VLOOKUP($K4,Dt_prod2,2,0),0)","v":101},null,null,null,"Productos resultado de actividades de desarrollo tecnológico e innovación (DTI)","DTI"]
["10.-","Productividad comprometida",null,null,null,"Tipo de proyecto:",null,{"$f":"General!$H$1","v":"MI"},null,null,2,{"$f":"ABS(LEFT(M5,3))","v":102},"102- Artículo en revista en Cuartil 2 (Q2) del SJR (Scimago) o del JCR (Clarivate). ",{"$f":"IFERROR(VLOOKUP($Q5,$Z$3:$AB$8,2,0),0)","v":"GNC"},30,0,"Productos de Generación de Nuevo Conocimiento (GNC)","Artículos en Revistas Científicas no incluidas en las listas de revistas depredadoras (ejemplo Beall-list)","Copia del sometimiento y copia del artículo enviado a la revista",0,{"$f":"SUMIFS($F$8:$F$28,$I$8:$I$28,L5)","v":0},102,null,null,null,"Producción resultado de actividades de apropiación social del conocimiento (ASC)","ASC"]
[null,null,"Selección de topes comprometidos",null,null,null,null,null,null,null,3,{"$f":"ABS(LEFT(M6,3))","v":103},"103- Artículo en revista en Cuartil 3 (Q3) del SJR (Scimago) o del JCR (Clarivate) o clasificada en B en Publindex. ","GNC",20,0,"Productos de Generación de Nuevo Conocimiento (GNC)","Artículos en Revistas Científicas no incluidas en las listas de revistas depredadoras (ejemplo Beall-list)","Copia del sometimiento y copia del artículo enviado a la revista",0,0,103,null,null,null,"Formación de Recurso Humano (FRH)","FRH"]
[null,"N°","Resultado/Producto esperado","Descripción o detalles del producto esperado","Indicador","Cantidad","Total de puntos","Beneficiario",null,null,18,203,"203- Regulaciones, normas, reglamentos o legislaciones implementadas internacionalmente, acorde con parámetros de Minciencias. ","DTI",40,0,"Productos resultado de actividades de desarrollo tecnológico e innovación (DTI)","Normas Internacionales","\"Documento en el que se describa la regulación, norma, reglamento o legislación+CR10 obtenido con nombre, autor, fecha, cód. de trazabilidad  y autores debidamente registrados según  Res. vigente\" ,\"Certificado de la entidad o institución que emitió el producto, indicando la participación en su construcción de todos o de alguno de los integrantes del proyecto, título, país, ciudad, fecha de  publicación / implementación, tipo de regulación, ámbito.",0,0,203,null,null,null,"Gestión de la Investigación (GI)","GI"]
[null,{"$f":"ROW()-7","v":1},null,null,{"$f":"IFERROR(CLEAN(VLOOKUP($I8,$L$3:$V$51,8,0)),\"\")","v":"0"},1,{"$f":"IFERROR($F8*VLOOKUP(ABS(LEFT($C8,3)),$L$3:$V$51,$I$3,0),0)","v":0},null,{"$f":"IFERROR(ABS(LEFT(C8,3)),0)","v":0},null,19,204,"204- Regulaciones, normas, reglamentos o legislaciones implementadas nacionalmente (no institucional), acorde con parámetros de Minciencias.","DTI",40,0,"Productos resultado de actividades de desarrollo tecnológico e innovación (DTI)","Normas Nacionales","\"Documento en el que se describa la regulación, norma, reglamento o legislación+CR10 obtenido con nombre, autor, fecha, cód. de trazabilidad  y autores debidamente registrados según  Res. vigente\" ,\"Certificado de la entidad o institución que emitió el producto, indicando la participación en su construcción de todos o de alguno de los integrantes del proyecto, título, país, ciudad, fecha de  publicación / implementación, tipo de regulación, ámbito.",0,0,204]
[null,{"$f":"ROW()-7","v":2},null,null,"0",1,0,null,{"$f":"IFERROR(ABS(LEFT(C9,3)),0)","v":0},null,27,213,"213- Secreto empresarial","DTI",70,0,"Productos resultado de actividades de desarrollo tecnológico e innovación (DTI)","Secreto empresarial","Secreto empresarial. Nombre del producto o proceso comercializado. Valor del contrato. Certificación de la institución firmada por el representante legal en la cual conste que se ha tomado las medidas necesarias para evitar que se divulgue o propague esta información entre sus competidores. Número del contrato de licenciamiento.",0,0,213]
[null,3,null,null,"0",1,0,null,0,null,28,214,"214- Plan de negocio empresas de base tecnológica (spin-off y start-up)","DTI",30,0,"Productos resultado de actividades de desarrollo tecnológico e innovación (DTI)","Plan de negocio empresas de base tecnológica (spin-off y start-up)","Documento con el plan de negocios de la nueva empresa de base tecnológica (spin-off y start-up)",0,0,214]
[null,4,null,null,"0",1,0,null,0,null,29,215,"215- Plan de negocio empresas creativas y culturales","DTI",30,0,"Productos resultado de actividades de desarrollo tecnológico e innovación (DTI)","Plan de negocio empresas creativas y culturales","Documento con el plan de negocios de la nueva empresa creativa y cultural de acuerdo con los lineamientos de la cámara de  comercio de Bogotá",0,0,215]
[null,5,null,null,"0",1,0,null,0,null,30,216,"216- Innovaciones generadas en la gestión institucional o empresarial","DTI",50,0,"Productos resultado de actividades de desarrollo tecnológico e innovación (DTI)","Innovaciones generadas en la gestión institucional o empresarial","Nombre de la innovación, fecha, autor(es); Certificados de implementación de la innovación en la institución (el certificado lo expide el representante legal de la empresa); título del Proyecto. ",0,0,216]
[null,6,null,null,"0",1,0,null,0,null,31,217,"217- Innovaciones en procesos, procedimientos y servicios.","DTI",40,0,"Productos resultado de actividades de desarrollo tecnológico e innovación (DTI)","Innovaciones en procesos, procedimientos y servicios.","Nombre de la innovación, fecha, autor(es), institución. Certificado de implementación de innovacion en procesos, procedimientos y servicios.",0,0,217]
[null,7,null,null,"0",1,0,null,0,null,32,218,"218- Conceptos técnicos","DTI",30,0,"Productos resultado de actividades de desarrollo tecnológico e innovación (DTI)","Conceptos técnicos","Título del concepto; Institución solicitante; Fecha de la solicitud del concepto; Lugar de elaboración; Fecha de envío del concepto; Soporte la solicitud del concepto; Número consecutivo del concepto; Nombre de los investigadores que participan en su elaboración; Soporte con concepto y copia del oficio remisorio con fecha y número consecutivo.",0,0,218]
[null,8,null,null,"0",1,0,null,0,null,33,301,"301- Ponencia en evento Internacional de acuerdo con los requisitos de la resolución vigente de movilidad.","ASC",20,0,"Producción resultado de actividades de apropiación social del conocimiento (ASC)","Circulación de conocimiento especializado","Certificado de ponente, trabajo presentado en el evento que será publicado en memorias con ISSN o ISBN, cód. de trazabilidad y autores debidamente registrados según  Res. De movilidad Vigente.",0,0,301]
[null,9,null,null,"0",1,0,null,0,null,34,302,"302- Ponencia en evento nacional de acuerdo con los requisitos de la resolución vigente de movilidad.","ASC",20,0,"Producción resultado de actividades de apropiación social del conocimiento (ASC)","Circulación de conocimiento especializado","Certificado de ponente, trabajo presentado en el evento que será publicado en memorias con ISSN o ISBN, cód. de trazabilidad y autores debidamente registrados según  Res. De movilidad Vigente.",0,0,302,null,null,null,null,"Publicación en  la  gaceta  del  ICA,  Constancia expedida  por  el  ICA  que  indique en qué etapa  del  proceso  se  encuentra la solicitud."]
[null,10,null,null,"0",1,0,null,0,null,37,305,"305- Participación en redes de conocimiento especializado","ASC",20,0,"Producción resultado de actividades de apropiación social del conocimiento (ASC)","Participación en redes de conocimiento especializado","Nombre de la red, lugar, fecha de inicio, investigador principal o gestor, nombre de la comunidad o comunidades participantes, página Web, instituciones o entidades gestionadoras o patrocinadoras.",0,0,305]
[null,11,null,null,"0",1,0,null,0,null,38,306,"306- Transferencia con prueba de validación SRL 5 ","ASC",35,0,"Producción resultado de actividades de apropiación social del conocimiento (ASC)","Transferencia con prueba de validación SRL 5 ","Documentación de transferencia social SRL5: Validación de las soluciones propuestas por las partes interesadas que son relevantes en el\nárea/región/materia específica.",0,0,306]
[null,12,null,null,"0",1,0,null,0,null,39,307,"307- Transferencia con prueba de validación SRL 6","ASC",45,0,"Producción resultado de actividades de apropiación social del conocimiento (ASC)","Transferencia con prueba de validación SRL 6","Documentación de transferencia social SRL6: Soluciones demostradas en un entorno, relevante para el proyecto, en colaboración con las partes interesadas, relevantes para el proyecto, para obtener retroalimentación inicial sobre la repercusión potencial.",0,0,307]
[null,13,null,null,"0",1,0,null,0,null,40,308,"308- Documentos de trabajo (working papers) ","ASC",15,0,"Producción resultado de actividades de apropiación social del conocimiento (ASC)","Documentos de trabajo (working papers) ","Título del documento, autor(es), año en que elaboró el documento, instituciones vinculadas en la realización del documento, Página WEB (del working paper) o DOI en donde se encuentra publicado el documento (si la tiene)",0,0,308]
[null,14,null,null,"0",1,0,null,0,null,41,309,"309- Informes técnicos","ASC",20,0,"Producción resultado de actividades de apropiación social del conocimiento (ASC)","Informes técnicos","Título del informe; Proyecto de la investigación que da origen al informe técnico; Fecha en que se realizó el informe; Certificación de la entidad que tomó como base el informe para la toma de decisiones",0,0,309]
[null,15,null,null,"0",1,0,null,0,null,42,310,"310- Consultorías (científico tecnológicas y de investigación-creación)","ASC",10,0,"Producción resultado de actividades de apropiación social del conocimiento (ASC)","Consultorías (científico tecnológicas y de investigación-creación)","Título de la consultoría; Número de Contrato o documento que soporta la realización de la consultoría; Fecha en que se prestó la consultoría; Certificación de la empresa o entidad sobre el objeto y la calidad de la consultoría prestada.",0,0,310]
[null,16,null,null,"0",1,0,null,0,null,43,311,"311- Publicaciones editoriales no especializadas","ASC",10,0,"Producción resultado de actividades de apropiación social del conocimiento (ASC)","Publicaciones editoriales no especializadas","Nombre del Producto, descripción del público objetivo, conceptualización del formato y descripción del género en el que se enmarca, lineamientos conceptuales y referentes creativos, características técnicas, estructura narrativa (Desarrollo temático) y ruta de circulación propuesta (Evidencia de alianzas para la difusión del contenido).Ruta de Circulación, Público Objetivo, Medio de verificación. Acceso al contenido (enlace).",0,0,311]
[null,17,null,null,"0",1,0,null,0,null,44,312,"312- Producciones de contenido digital","ASC",10,0,"Producción resultado de actividades de apropiación social del conocimiento (ASC)","Producciones de contenido digital","Nombre del Producto, descripción del público objetivo, conceptualización del formato y descripción del género en el que se enmarca, lineamientos conceptuales y referentes creativos, características técnicas, estructura narrativa (Desarrollo temático) y ruta de circulación propuesta (Evidencia de alianzas para la difusión del contenido).Ruta de Circulación, Público Objetivo, Medio de verificación, Duración. Acceso al  contenido (enlace).",0,0,312]
[null,18,null,null,"0",1,0,null,0,null,45,313,"313- Producción de estrategias y contenido transmedia, y desarrollos web","ASC",10,0,"Producción resultado de actividades de apropiación social del conocimiento (ASC)","Producción de estrategias y contenido transmedia, y desarrollos web","Nombre del Producto. Registro Descripción del público objetivo, conceptualización del formato y descripción del género en el que se enmarca, descripción del componente transmediático (descripción convergencia de medios y plataformas propuesta, ¿cuáles y cómo se integran?, descripción del componente interactivo, ¿cómo se integra al usuario dentro de la experiencia?, lineamientos conceptuales y referentes creativos, características técnicas, estructura narrativa (Desarrollo temático) y ruta de circulación propuesta (Evidencia de alianzas para la difusión del contenido). Duración. Ruta de Circulación. Público Objetivo. Certificación de alianza estratégica para la producción o circulación del contenido. Medio de verificación. Productos publicados en repositorio institucional con los requerimientos de existencia definidos. ",0,0,313]
[null,19,null,null,"0",1,0,null,0,null,51,406,"406- Apoyo a la creación de programas o cursos de doctorado y de maestría","FRH",40,0,"Formación de Recurso Humano (FRH)","Apoyo a la creación de programas o cursos de doctorado y de maestría","Nombre del programa o del curso y del programa donde se imparte, institución universitaria, facultad, departamento, identificación del acto administrativo, número del acto administrativo, fecha",0,0,406]
[null,20,null,null,"0",1,0,null,0,null,52,407,"407- Creación de un diplomado institucional o misional con aporte de un Joven\ninvestigador.","FRH",10,0,"Formación de Recurso Humano (FRH)",{"$f":"IFERROR(VLOOKUP($K27,Dt_prod2,4,0),)","v":"Creación de un diplomado institucional o misional con aporte de un Joven\ninvestigador."},"Nombre del programa de diplomado, institución universitaria, facultad, departamento, identificación del acto administrativo, número del acto administrativo, fecha y documento con aporte del joven investigador.",0,0,407]
[null,null,null,null,null,null,null,null,null,null,53,408,"408- Capacitación a la Comunidad interesada en el desarrollo del proyecto","FRH",10,0,"Formación de Recurso Humano (FRH)","Capacitación","Acta de asistencia,Evidencia fotografica y/o Video y material de sustentación",0,0,408]
[null,"T",{"$f":"\"En el caso de aprobacion se liquidara el proyecto con  \"&V_Max&\" Pts.\"","v":"En el caso de aprobacion se liquidara el proyecto con  0 Pts."},null,null,{"$f":"SUM(F7:F27)","v":20},{"$f":"INT(SUM(G7:G27))","v":0},{"$f":"MAX(O55:O60)","v":0},null,null,null,0,0,0,"-","-","-",0,0,0,20,0]
[null,null,null,null,null,null,null,null,null,null,null,0,0,0,"-","-","-",0,0,0,20,0]
[null,null,null,null,null,null,null,null,null,null,null,0,0,0,"-","-","-",0,0,0,20,0]
[null,"N","Sigla","Clase ",null,null,null,"No",null,null,null,0,0,0,"-","-","-",0,0,0,20,0]
["GNC",1,"Productos de Generación de Nuevo Conocimiento (GNC) ",null,null,null,null,{"$f":"SUMIFS($U$3:$U$51,$N$3:$N$51,$A33)","v":0},null,null,null,0,0,0,"-","-","-",0,0,0,20,0]
["FRH",2,"Formación de Recurso Humano (FRH) ",null,null,null,null,{"$f":"SUMIFS($U$3:$U$51,$N$3:$N$51,$A34)","v":0},null,null,null,0,0,0,"-","-","-",0,0,0,20,0]
["ASC",3,"Socialización y Apropiación social del Conocimiento (SAC) ",null,null,null,null,{"$f":"SUMIFS($U$3:$U$51,$N$3:$N$51,$A35)","v":0},null,null,null,0,0,0,"-","-","-",0,0,0,20,0]
["DTI",4,"Productos resultado de actividades de desarrollo tecnológico e innovación (DTI)",null,null,null,null,{"$f":"SUMIFS($U$3:$U$51,$N$3:$N$51,$A36)","v":0},null,null,null,0,0,0,"-","-","-",0,0,0,20,0]
["GI",5,"Gestión de Investigación (GI) ",null,null,null,null,{"$f":"SUMIFS($U$3:$U$51,$N$3:$N$51,$A37)","v":0},null,null,null,{"$f":"ABS(LEFT(M37,3))","v":0},0,0,"-","-","-",0,0,0,{"$f":"SUMIFS($F$8:$F$28,$I$8:$I$28,L37)","v":20},0]
[null,null,null,null,null,null,null,{"$f":"SUM(H33:H37)","v":0},null,null,null,0,0,0,"-","-","-",0,0,0,20,0]
[null,null,null,null,null,null,null,null,null,null,null,0,0,0,"-","-","-",0,0,0,20,0]
[null,"Cuadro validación de productos por Sigla",null,null,null,null,null,"Max Puntos",null,null,null,0,0,0,"-","-","-",0,0,0,20,0]
[null,null,null,null,null,{"$f":"IF(H5=\"IMP\",3,2)","v":2},{"$f":"Gp_Max","v":0},{"$f":"IFERROR(VLOOKUP($G$41,$S$54:$U$61,$F$41,0),0)","v":0},null,null,null,0,0,0,"-","-","-",0,0,0,20,0]
[null,null,null,null,null,null,null,null,null,null,null,{"$f":"ABS(LEFT(M42,3))","v":0},0,0,"-","-","-",0,0,0,{"$f":"SUMIFS($F$8:$F$28,$I$8:$I$28,L42)","v":20},0]
[null,null,"Grupo Maximo ",{"$f":"Gp_Max","v":0},{"$f":"M55+19 & \" Pts. Maximos\"","v":"19 Pts. Maximos"},null,{"$f":"\"Con : $\"&N55&\"  Millones Max\"","v":"Con : $  Millones Max"},null,null,null,null,0,0,0,"-","-","-",0,0,0,20,0]
[null,null,null,null,null,null,null,null,null,null,null,{"$f":"ABS(LEFT(M44,3))","v":0},0,0,"-","-","-",0,0,0,{"$f":"SUMIFS($F$8:$F$28,$I$8:$I$28,L44)","v":20},0]
[null,null,"Validación de cumplimiento de productividad por siglas.",null,null,null,null,null,null,null,null,0,0,0,"-","-","-",0,0,0,20,0]
[null,"Puntos ",null,null,null,null,null,null,null,null,null,0,0,0,"-","-","-",0,0,0,20,0]
[null,null,null,null,null,null,null,null,null,null,null,0,0,0,"-","-","-",0,0,0,20,0]
[null,null,null,null,null,null,null,null,null,null,null,0,0,0,"-","-","-",0,0,0,20,0]
[null,null,{"$f":"A33&\"-\"&C33","v":"GNC-Productos de Generación de Nuevo Conocimiento (GNC) "},null,{"$f":"H33","v":0},{"$f":"IF(E49>0,0,1)","v":1},{"$f":"IF(F49>0,\"( \"&LEFT(C49,3) &\" ) \",\"\")","v":"( GNC ) "},null,null,null,null,{"$f":"IFERROR(ABS(LEFT(M49,3)),0)","v":0},{"$f":"IFERROR(V49&\"- \"&VLOOKUP($K49,Dt_prod2,5,0),\"XX\")","v":"XX"},0,{"$f":"IFERROR(VLOOKUP($K49,Dt_prod2,7,0),0)","v":0},"-","-",{"$f":"IFERROR(VLOOKUP($K49,Dt_prod2,4,0),0)","v":0},{"$f":"IFERROR(VLOOKUP($K49,Dt_prod2,6,0),0)","v":0},0,20,0]
[null,null,{"$f":"A34&\"-\"&C34","v":"FRH-Formación de Recurso Humano (FRH) "},null,{"$f":"H34","v":0},{"$f":"IF(AND(V_Max>0,E50=0),1,0)","v":0},{"$f":"IF(F50>0,\"( \"&LEFT(C50,3) &\" ) \",\"\")","v":""},null,null,null,null,0,{"$f":"IFERROR(V50&\"- \"&VLOOKUP($K50,Dt_prod2,5,0),\"XX\")","v":"XX"},0,{"$f":"IFERROR(VLOOKUP($K50,Dt_prod2,7,0),0)","v":0},"-","-",{"$f":"IFERROR(VLOOKUP($K50,Dt_prod2,4,0),0)","v":0},{"$f":"IFERROR(VLOOKUP($K50,Dt_prod2,6,0),0)","v":0},0,0,0]
[null,null,{"$f":"A35&\"-\"&C35","v":"ASC-Socialización y Apropiación social del Conocimiento (SAC) "},null,{"$f":"H35","v":0},{"$f":"IF(AND(V_Max>40,E51=0),1,0)","v":0},{"$f":"IF(F51>0,\"( \"&LEFT(C51,3) &\" ) \",\"\")","v":""},null,null,null,null,{"$f":"IFERROR(ABS(LEFT(M51,3)),0)","v":0},{"$f":"IFERROR(V51&\"- \"&VLOOKUP($K51,Dt_prod2,5,0),\"XX\")","v":"XX"},0,{"$f":"IFERROR(VLOOKUP($K51,Dt_prod2,7,0),0)","v":0},"-","-",{"$f":"IFERROR(VLOOKUP($K51,Dt_prod2,4,0),0)","v":0},{"$f":"IFERROR(VLOOKUP($K51,Dt_prod2,6,0),0)","v":0},0,0,0]
[null,null,{"$f":"A36&\"-\"&C36","v":"DTI-Productos resultado de actividades de desarrollo tecnológico e innovación (DTI)"},null,{"$f":"H36","v":0},null,{"$f":"IF(F52>0,\"( \"&LEFT(C52,3) &\" ) \",\"\")","v":""},{"$f":"IF(F52>0,G52,\"\")","v":""}]
[null,null,{"$f":"A37&\"-\"&C37","v":"GI-Gestión de Investigación (GI) "},null,{"$f":"H37","v":0},null,{"$f":"IF(F53>0,C53,\"\")","v":""},{"$f":"IF(F53>0,G53,\"\")","v":""}]
[null,null,null,null,null,{"$f":"SUM(F49:F53)","v":1},null,null,null,null,null,null,null,null,null,null,null,null,"T","INV","IMP"]
[null,null,null,null,null,null,null,null,null,null,null,null,null,null,null,null,null,null,"A",199,300]
[null,null,null,null,null,null,null,null,null,null,null,100,120,null,{"$f":"IF(V_Max>=$L56,$M56,0)","v":0},null,null,null,"A1",199,300]
[null,null,null,null,null,null,null,null,null,null,null,121,140,null,{"$f":"IF(V_Max>=$L57,$M57,0)","v":0},null,null,null,"B",199,300]
[null,"Hay error de productos si es mayor a 0",null,null,null,null,null,null,null,null,null,141,150,null,{"$f":"IF(V_Max>=$L58,$M58,0)","v":0},null,null,null,"C",199,300]
[null,{"$f":"IF(E59>0,\"Error: Debe seleccionar producto(s) de esta(s) categoria(s): \"&F59&\" \",\"OK\")","v":"OK"},null,null,{"$f":"SUM(C55:F55)","v":0},{"$f":"TRIM(C56&D56&E56&F56)","v":""},null,null,null,null,null,null,",",null,null,null,null,null,"R",59,0]
[null,"Validacion de Grupos con la mayor categoría",null,null,null,null,null,null,null,null,null,null,null,null,null,null,null,null,"NR",39,0]
[null,"N",null,null,null,null,null,null,null,null,null,null,null,null,null,null,null,null,"NA",0,0]
[null,1,"No Grpos General","Clasif","Millo por tope","Ptoy",0]
[null,2,{"$f":"COUNTIF(Dt!$AR$3:$AR$250,D63)","v":13},"A",null,{"$f":"COUNTIF($L$66:$L$69,D63)","v":0},{"$f":"IF(G62=0,IF(F63>0,D63,0),G62)","v":0},null,null,null,null,null,null,null,null,null,null,null,"Pts",null,10]
[null,3,{"$f":"COUNTIF(Dt!$AR$3:$AR$250,D64)","v":8},"A1",null,0,0]
[null,4,{"$f":"COUNTIF(Dt!$AR$3:$AR$250,D65)","v":12},"B",null,0,0]
[null,5,{"$f":"COUNTIF(Dt!$AR$3:$AR$250,D66)","v":35},"C",null,0,0,null,null,null,null,null,null,"No","Codigo","Grupos Participantes"]
[null,6,{"$f":"COUNTIF(Dt!$AR$3:$AR$250,D67)","v":0},"R",null,0,0,null,null,null,"Clasificacion",{"$f":"IFERROR(VLOOKUP($P67,Dt_GrpClas,2,0),0)","v":0},null,null,1,{"$f":"General!L18","v":0},{"$f":"General!C18","v":0}]
[null,7,{"$f":"COUNTIF(Dt!$AR$3:$AR$250,D68)","v":9},"NR",null,0,0,null,null,null,null,{"$f":"IFERROR(VLOOKUP($P68,Dt_GrpClas,2,0),0)","v":0},null,null,2,{"$f":"General!L22","v":0},{"$f":"General!D22","v":0}]
[null,null,{"$f":"COUNTIF(Dt!$AR$3:$AR$250,D69)","v":3},"NA",0,0,0,null,null,null,null,{"$f":"IFERROR(VLOOKUP($P69,Dt_GrpClas,2,0),0)","v":0},null,null,3,{"$f":"General!L26","v":0},{"$f":"General!D26","v":0}]
[]
[null,null,null,null,"Mayor  Grupo","Final",{"$f":"G69","v":0},null,null,null,null,"Tabla de Errores ",null,null,null,null,null,"Validaciones",{"$f":"MAX(S72:S85)","v":2}]
[null,null,null,null,null,null,null,null,null,null,null,{"$f":"IFERROR(VLOOKUP($S$71,K73:L83,2,0),\".\")","v":" Deben comprometer  productividad  que sume por lo menos 100 Puntos para cumplir con topes de la convocatoria!"}]
[null,null,null,null,null,null,null,null,null,null,null," ","Ok sin Error",null,null,null,null,"Si es menor de 150 Pts en productividad",{"$f":"IF(V_Max<100,2,0)","v":2}]
[null,null,null,null,null,null,null,null,null,null,0,".",null,null,null,null,null,"Debe tener 2  productos de DTI minimo",{"$f":"IF(H36<1,1,0)","v":1}]
[null,null,null,null,null,null,null,null,null,null,1," Debe incluir en la productividad comprometida mínimo un (1) productos de DTI"]
[null,null,null,null,null,null,null,null,null,null,2,{"$f":"\" Deben comprometer  productividad  que sume por lo menos 100 Puntos para cumplir con topes de la convocatoria!\"","v":" Deben comprometer  productividad  que sume por lo menos 100 Puntos para cumplir con topes de la convocatoria!"}]
[null,null,null,null,null,null,null,null,null,null,3]
[null,null,null,null,null,null,null,null,null,null,4]
[null,null,null,null,null,null,null,null,null,null,5]
[null,null,null,null,null,null,null,null,null,null,6]
[null,null,null,null,null,null,null,null,null,null,7," "]
[null,null,null,null,null,null,null,null,null,null,8," "]
[null,null,null,null,null,null,null,null,null,null,9," "]
[null,null,null,null,null,null,null,null,null,null,10]

{"sheet":"Impactos","index":9,"n_rows":42,"n_cols":14,"rows_kept":42,"cut":false,"hidden":false,"merged":[[1,2,2,4],[7,5,7,6],[18,2,18,6],[19,2,19,6],[8,5,8,6],[23,2,23,6],[20,2,20,6],[21,2,21,6],[9,2,9,6],[22,2,22,6],[15,5,15,6],[16,5,16,6],[17,2,17,6],[11,5,11,6],[12,5,12,6],[13,2,13,6]]}
[10,null,null,null,null,null,null,null,"*Pueden  Ocultar las Filas que no se utilicen."]
[null,null,{"$f":"General!B2","v":"PRESENTACIÓN DE PROYECTOS \nDE INVESTIGACIÓN"},null,null,{"$f":"General!$H$2","v":"Fecha de Emisión: 2019/03/18"},{"$f":"General!$I$2","v":"IN-IV-F-14"},null,null,"Palabras Minimas",null,null,2000]
[null,null,null,null,null,{"$f":"General!$H$3","v":"Revisión N°:\n4"},{"$f":"\"Página \"&$A$1&\" de \"&Dt_TPG","v":"Página 10 de 11"},null,{"$f":"SUM(I7:I3503)","v":10},"<== Total de palabras",null,null,"Tipo de Impacto (Objetivos de Desarrollo Sostenible): Link Presione"]
[]
["14.-","#","Impactos asociados a la propuesta.",null,null,null,null,null,"Largo"]
[null,null,null,null,null,null,null,null,null,null,null,null,"Esplicaciones"]
[null,"N°","Describa  en detalle el impacto real que logrará el proyecto",null,null,null,null,null,{"$f":"IF(D8=\"\",0,LEN(TRIM(D8))-LEN(SUBSTITUTE(TRIM(D8),\" \",\"\"))+1)","v":0}]
[null,{"$f":"ROW()-7","v":1},"Impacto principal",null,"Principal objetivo de desarrollo sostenible:",null,null,null,{"$f":"IF(D9=\"\",0,LEN(TRIM(D9))-LEN(SUBSTITUTE(TRIM(D9),\" \",\"\"))+1)","v":0},null,null,null,"Transferencia e intercambio de conocimiento","Promover el desarrollo de iniciativas de extensión y transferencia del conocimiento científico y tecnológico que permitan su efectiva integración a contextos locales y sociales específicos, contribuyendo a su desarrollo."]
[null,{"$f":"ROW()-7","v":2},"Alcance",null,"Lineas de apropiación social",null,null,null,{"$f":"IF(F8=\"\",0,LEN(TRIM(F8))-LEN(SUBSTITUTE(TRIM(F8),\" \",\"\"))+1)","v":0},null,null,null,"Gestión del conocimiento para la apropiación","Incentivar el desarrollo de mecanismos de formación y medición para construir conocimiento acerca de las diversas formas en que el conocimiento científico tecnológico es apropiado en la sociedad colombiana, por los diversos grupos e individuos que la componen"]
[null,{"$f":"ROW()-8","v":2},null,null,null,null,null,null,{"$f":"IF(F9=\"\",0,LEN(TRIM(F9))-LEN(SUBSTITUTE(TRIM(F9),\" \",\"\"))+1)","v":0}]
[null,"N°","Describa  en detalle el impacto real que logrará el proyecto",null,null,null,null,null,{"$f":"IF(C11=\"\",0,LEN(TRIM(C11))-LEN(SUBSTITUTE(TRIM(C11),\" \",\"\"))+1)","v":10}]
[null,{"$f":"ROW()-7","v":5},"Impacto principal",null,"Principal objetivo de desarrollo sostenible:",null,null,null,{"$f":"IF(D12=\"\",0,LEN(TRIM(D12))-LEN(SUBSTITUTE(TRIM(D12),\" \",\"\"))+1)","v":0},null,null,null,"Transferencia e intercambio de conocimiento","Promover el desarrollo de iniciativas de extensión y transferencia del conocimiento científico y tecnológico que permitan su efectiva integración a contextos locales y sociales específicos, contribuyendo a su desarrollo."]
[null,{"$f":"ROW()-7","v":6},"Alcance",null,"Lineas de apropiación social",null,null,null,{"$f":"IF(D13=\"\",0,LEN(TRIM(D13))-LEN(SUBSTITUTE(TRIM(D13),\" \",\"\"))+1)","v":0},null,null,null,"Gestión del conocimiento para la apropiación","Incentivar el desarrollo de mecanismos de formación y medición para construir conocimiento acerca de las diversas formas en que el conocimiento científico tecnológico es apropiado en la sociedad colombiana, por los diversos grupos e individuos que la componen"]
[null,6,null,null,null,null,null,null,{"$f":"IF(F12=\"\",0,LEN(TRIM(F12))-LEN(SUBSTITUTE(TRIM(F13),\" \",\"\"))+1)","v":0}]
[null,"N°","Describa  en detalle el impacto real que logrará el proyecto",null,null,null,null,null,{"$f":"IF(D16=\"\",0,LEN(TRIM(D16))-LEN(SUBSTITUTE(TRIM(D16),\" \",\"\"))+1)","v":0}]
[null,{"$f":"ROW()-7","v":9},"Impacto principal",null,"Principal objetivo de desarrollo sostenible:",null,null,null,{"$f":"IF(D17=\"\",0,LEN(TRIM(D17))-LEN(SUBSTITUTE(TRIM(D17),\" \",\"\"))+1)","v":0},null,null,null,"Transferencia e intercambio de conocimiento","Promover el desarrollo de iniciativas de extensión y transferencia del conocimiento científico y tecnológico que permitan su efectiva integración a contextos locales y sociales específicos, contribuyendo a su desarrollo."]
[null,{"$f":"ROW()-7","v":10},"Alcance",null,"Lineas de apropiación social",null,null,null,{"$f":"IF(F16=\"\",0,LEN(TRIM(F16))-LEN(SUBSTITUTE(TRIM(F16),\" \",\"\"))+1)","v":0},null,null,null,"Gestión del conocimiento para la apropiación","Incentivar el desarrollo de mecanismos de formación y medición para construir conocimiento acerca de las diversas formas en que el conocimiento científico tecnológico es apropiado en la sociedad colombiana, por los diversos grupos e individuos que la componen"]
[null,10,null,null,null,null,null,null,{"$f":"IF(F17=\"\",0,LEN(TRIM(F17))-LEN(SUBSTITUTE(TRIM(F17),\" \",\"\"))+1)","v":0}]
[null,11,"Descripción de los Beneficiario(s) del  impacto del proyecto",null,null,null,null,null,"No"]
[null,12,null,null,null,null,null,null,{"$f":"IF(C20=\"\",0,LEN(TRIM(C20))-LEN(SUBSTITUTE(TRIM(C20),\" \",\"\"))+1)","v":0}]
[null,13,"Descripción del impacto esperado.",null,null,null,null,null,"No"]
[null,14,null,null,null,null,null,null,0]
[null,15,null,null,null,null,null,null,0]
[null,16,null,null,null,null,null,null,0]
[null,17,null,null,null,null,null,null,0]
[null,18,null,null,null,null,null,null,0]
[]
[]
[]
[]
[null,null,"*Pueden  Ocultar las Filas que no se utilicen ( Favor no eliminar filas)."]
[]
[]
[]
[]
[]
[]
[]
[]
[]
[]
[null,"*Pueden  Ocultar las Filas que no se utilicen."]

{"sheet":"Presupuesto","index":10,"n_rows":153,"n_cols":29,"rows_kept":153,"cut":false,"hidden":false,"merged":[[80,4,80,5],[81,4,81,5],[82,4,82,5],[83,4,83,5],[84,4,84,5],[75,4,75,5],[76,4,76,5],[77,4,77,5],[78,4,78,5],[79,4,79,5],[70,4,70,5],[71,4,71,5],[72,4,72,5],[73,4,73,5],[74,4,74,5],[59,4,59,5],[60,4,60,5],[61,4,61,5],[67,4,67,5],[62,4,62,5],[63,4,63,5],[64,4,64,5],[65,4,65,5],[66,4,66,5],[2,1,3,6],[49,4,49,5],[50,4,50,5],[69,4,69,5],[68,4,68,5],[6,3,6,8],[7,3,7,5],[7,7,7,8],[51,4,51,5],[52,4,52,5],[53,4,53,5],[54,4,54,5],[55,4,55,5],[56,4,56,5],[57,4,57,5],[58,4,58,5],[94,1,96,1],[97,1,99,1],[100,1,102,1],[103,1,105,1],[106,1,108,1],[130,1,132,1],[144,4,145,8],[142,4,142,8],[144,3,145,3],[109,1,111,1],[112,1,114,1],[115,1,117,1],[118,1,120,1],[124,1,126,1],[121,1,123,1],[127,1,129,1]]}
[9,null,null,null,null,null,null,null,null,null,null,null,null,null,null,null,null,"Tabla de Topes"]
[null,null,null,null,null,null,null,null,null,null,null,null,"1.-> Limite presupuestal",{"$f":"IF(MIN(N6:P6)<1, 0,MIN(N6:P6))","v":0},null,{"$f":"H10","v":"MI"},null,"Clasif","INV","IMP",null,{"$f":"General!I19","v":""}]
[null,{"$f":"Integrantes!B3","v":"PRESENTACIÓN DE PROYECTOS \nDE INVESTIGACIÓN"},null,null,null,null,null,{"$f":"General!$H$2","v":"Fecha de Emisión: 2019/03/18"},{"$f":"General!$I$2","v":"IN-IV-F-14"},null,null,null,null,"Limite Grupo","Limite Producto","Limite Convo",null,"A",{"$f":"S4","v":150},200,null,{"$f":"General!I23","v":""}]
[null,null,null,null,null,null,null,{"$f":"General!$H$3","v":"Revisión N°:\n4"},{"$f":"\"Página \"&$A$1&\" de \"&Dt_TPG","v":"Página 9 de 11"},null,null,null,"Mayor Grupo",{"$f":"Productos!G71","v":0},{"$f":"Productos!H29","v":0},150,null,"A1",{"$f":"S5","v":150},200,null,{"$f":"General!I27","v":""}]
[null,null,null,null,null,null,null,null,null,null,null,null,null,null,null,null,null,"B",{"$f":"P4","v":150},200]
[null,null,null,null,null,null,null,null,null,null,null,null,1000000,150000000,{"$f":"O4*M6","v":0},150000000,null,"C",60,200]
[null,"T","Título de la Propuesta :",{"$f":"General!B9","v":0},null,null,null,null,null,null,null,null,null,null,null,null,null,"R",40,200]
[null,"L","Líder responsable",{"$f":"General!C10","v":0},null,null,"Código VICEIN:",null,null,null,null,null,null,null,null,null,null,"NR",20,0]
[null,null,null,null,null,null,null,null,null,null,null,null,null,null,null,null,null,"NA",0,0]
["12.-","Presupuesto rubro personal asocidado a la propuesta",null,null,null,null,{"$f":"V_Max","v":0},{"$f":"Cel_TP","v":"MI"},{"$f":"Gp_Max","v":0}]
[]
[null,"a.","Personal de planta o ocasional que integra al proyecto de investigación.",null,null,null,null,"Valores de Contrapartida."]
[{"$f":"ROW()","v":13},"N°","Sueldo Neto","Factor ","Tipo de Vinculo UMNG","Numero de meses ","Número Horas / Semanal","Valor Final","Identificación",4,null,"*tabla de consolidacion por año para proyectos IMP"]
[null,{"$f":"ROW()-$A$13","v":1},null,{"$f":"I11","v":0},{"$f":"INDIRECT($I$24&\"E\"&$J14+1,1)","v":0},{"$f":"INDIRECT($I$24&\"G\"&$J14,1)","v":12},{"$f":"INDIRECT($I$24&\"H\"&$J14,1)","v":0},{"$f":"IFERROR(INT(((C14*F14)/40)*G14*$I$11),0)","v":0},{"$f":"INDIRECT($I$24&\"C\"&$J14,1)","v":0},9,null,0,"Tipo Vinculo UMNG","Año1","Año2",null,"Validación Presupuestal"]
[null,{"$f":"ROW()-$A$13","v":2},null,{"$f":"D14","v":0},0,0,0,{"$f":"IFERROR(INT(((C15*F15)/40)*G15*$I$11),0)","v":0},0,{"$f":"J14+$J$13","v":13},null,1,"Doc. Carrera TC",{"$f":"(SUMIF($E$14:$E$23,$M15,$H$14:$H$23)/2)","v":0},{"$f":"N15","v":0},null,{"$f":"\"Validación de \"&M38","v":"Validación de "},null,"Ajustado por adenda no 2"]
[null,3,null,{"$f":"D15","v":0},0,0,0,0,0,{"$f":"J15+$J$13","v":17},null,2,"Doc. Carrera MT",{"$f":"(SUMIF($E$14:$E$23,$M16,$H$14:$H$23)/2)","v":0},{"$f":"N16","v":0},null,"Parte","Cntidad","por uno solo","Debe ser","Error de Asistente"]
[null,4,null,0,0,0,0,0,0,21,null,3,"Doc. Ocasional",{"$f":"SUMIF($E$14:$E$23,$M17,$H$14:$H$23)","v":0},0,null,"No de AU Preg",{"$f":"COUNTIF($E$29:$E$44,$M$38)","v":0},null,1,0,null,null,25,0.1,null,0.05]
[null,5,null,0,0,0,0,0,0,25,null,1,"Contrapartida Facultad  IMP:",{"$f":"SUM(N15:N17)","v":0},{"$f":"SUM(O15:O17)","v":0},null,"No Horas",{"$f":"SUMIF($E$29:$E$43,$M$38,G29:G43)","v":0},{"$f":"IFERROR(R18/R17,0)","v":0},20,{"$f":"IF(S18<=T18,0,1)","v":0},null,null,50,0.1,null,0.1]
[null,6,null,0,0,0,0,0,0,29,null,2,"Contrapartida Facultad  INV:",{"$f":"SUM(N15:O17)","v":0},null,null,"No Meses",{"$f":"SUMIF($E$29:$E$43,$M$38,F29:F43)","v":0},{"$f":"IFERROR(R19/R17,0)","v":0},6,{"$f":"IF(S19=T19,0,1)","v":1},null,null,75,0.1,null,0.15]
[null,7,null,0,0,0,0,0,0,33,null,null,null,null,null,null,null,null,null,"Si  es Mas de 1 tiene problema en Auxiliar de pregrado --->>",{"$f":"SUM(U17:U19)","v":1},null,null,100,0.1,null,0.15]
[null,8,null,0,0,0,0,0,0,37,null,null,null,null,null,null,"Estiimulo a estudiantes",null,{"$f":"INT(N2/1000000)","v":0},{"$f":"SUM(R36:R40)","v":0},{"$f":"T21/N2","v":{"$error":"#DIV/0!"}},null,null,250,0.1,null,0.15]
[null,9,null,0,0,0,0,0,0,41,null,null,null,null,null,null,"Limite inferior de estimulo a estudiantes",null,null,{"$f":"(S21*1000000)*U22","v":0},0.09]
[null,10,null,0,0,0,0,0,0,45,null,null,null,null,null,null,null,null,null,{"$f":"ABS(T22-T21)","v":0}]
[null,null,"Sumatoria del calculo de personal de planta \"Valor contrapartida Facultades\":Diligenciado VICEIN",null,null,null,null,{"$f":"IFERROR(INT(SUBTOTAL(109,H14:H23)),0)","v":0},"Integrantes!",null,null,null,"Incremento al salario"]
[null,null,null,null,null,null,null,null,null,null,null,null,0,null,null,{"$f":"(J26/6)/6","v":0}]
[null,"b. ","Asistentes externos o temporales contratados OPS y Estimulo Estudiantes.",null,null,null,null,null,null,null,{"$f":"IFERROR(VLOOKUP($E26,Dt_OPS,3,0)/10,0)","v":0},null,"Valor SMLV","Max Mes"]
[null,">","Salario  Mínimo Legal Vigente (SMIV) : ",null,null,1160000,null,null,null,{"$f":"H10","v":"MI"},null,null,{"$f":"F27*(1+M25)","v":1160000},{"$f":"INT(Integrantes!J6/10)*10","v":10}]
[]
[{"$f":"ROW()","v":29},"No","Valor mensual","Factor Salarial","Tipo de vinculación",{"$f":"\"Numero de meses\"","v":"Numero de meses"},"Número Horas / Semanal","Valor total","Valores  de entidades externas","Máximos","(Au.) ","No","Tipo","Valor total del contrato (10 mes)","SMMLV por 10 Meses","Valor mes contrato","Hay","Hay en $",null,null,null,"Valor mes contrato",null,"Va desde hasta","Salarios Minimos",null,"Figuras","arranca desde","Maximo Factor"]
[null,{"$f":"ROW()-$A$29","v":1},{"$f":"IFERROR(H30/F30,0)","v":0},{"$f":"IFERROR(VLOOKUP($E30,Dt_OPS,3,0)/10,0)","v":0},null,10,"No Aplica",{"$f":"INT(IF($E30=$M$38,K30,($F$27*D30*F30)/1*IF(COUNTIF($M$30:$M$35,$E30)=1,1,1)))","v":0},null,{"$f":"IF($E30=$M$38,K30,IFERROR(VLOOKUP($E30,$M$29:$O$40,2,0),0)*IF($H$10=\"IMP\",2,1))","v":0},{"$f":"IFERROR(IF(FIND($K$29,$E30,1)=1,VLOOKUP($E30,$M$38:$AC$40,2,0),0),0)/IF($E30=$M$38,10,1)","v":0},1,"(A.I.) -Técnico",{"$f":"$M$27*O30","v":11600000},10,{"$f":"N30/10","v":1160000},{"$f":"COUNTIF($E$29:$E$44,$M30)","v":0},{"$f":"SUMIF($E$30:$E$44,$M30,$H$30:$H$44)","v":0},null,null,null,1475434,null,{"$f":"\"Y\"&ROW()","v":"Y30"},6,null,{"$f":"E30","v":0},{"$f":"IFERROR(VLOOKUP($AA30,$M$29:$S$40,7,0)/10,0)","v":0},{"$f":"IFERROR(VLOOKUP($AA30,$M$29:$R$40,3,0)/IF($AA30=$M$38,6,10),0)","v":0}]
[null,{"$f":"ROW()-$A$29","v":2},{"$f":"IFERROR(H31/F31,0)","v":0},0,null,0,"No Aplica",{"$f":"INT(IF($E31=$M$38,K31,($F$27*D31*F31)/1*IF(COUNTIF($M$30:$M$35,$E31)=1,1,1)))","v":0},null,{"$f":"IF($E31=$M$38,K31,IFERROR(VLOOKUP($E31,$M$29:$O$40,2,0),0)*IF($H$10=\"IMP\",2,1))","v":0},{"$f":"IFERROR(IF(FIND($K$29,$E31,1)=1,VLOOKUP($E31,$M$38:$AC$40,2,0),0),0)/IF($E31=$M$38,10,1)","v":0},2,"(A.I.) -Profesional",17400000,15,1740000,0,0,null,null,null,2582009.5,null,{"$f":"\"Y\"&ROW()","v":"Y31"},{"$f":"Y30-0.5","v":5.5},null,{"$f":"E31","v":0},{"$f":"IFERROR(VLOOKUP($AA31,$M$29:$S$40,7,0)/10,0)","v":0},{"$f":"IFERROR(VLOOKUP($AA31,$M$29:$R$40,3,0)/IF($AA31=$M$38,6,10),0)","v":0}]
[null,3,0,0,null,0,"No Aplica",0,null,0,0,3,"(A.I.) -Profesional especilizado",20880000,18,2088000,0,0,null,null,null,2950868,null,"Y32",{"$f":"Y31-0.5","v":5},null,0,0,0]
[null,4,0,0,null,0,"No Aplica",0,null,0,0,4,"(A.I.) -Profesional magister",23200000,20,2320000,0,0,null,null,null,3319726.5,null,"Y33",4.5,null,0,0,0]
[null,5,0,0,null,0,"No Aplica",0,null,0,0,5,"(A.I.) -Profesional doctorado",34800000,30,3480000,0,0,null,null,null,4057443.5,null,"Y34",4,null,0,0,0]
[null,6,0,0,null,0,"No Aplica",0,null,0,0,6,"(J.I)  -Joven investigador",23200000,20,2320000,0,0,null,null,null,2582009.5,null,"Y35",3.5,null,0,0,0]
[null,7,0,0,null,0,"No Aplica",0,null,0,0,7,null,"No habiltada",null,null,0,0,null,null,null,3688585,null,"Y36",3,null,0,0,0]
[null,8,0,0,null,0,"No Aplica",0,null,0,0,8,null,"No habiltada",null,null,0,0,null,null,null,5164019,null,"Y37",2.5,null,0,0,0]
[null,9,0,0,null,0,"No Aplica",0,null,0,0,9,null,"No habiltada",null,null,0,0,null,null,null,"NA",null,"Y38",2,null,0,0,0]
[null,10,0,0,null,0,"No Aplica",0,null,0,0,10,null,"No habiltada",null,null,0,0,null,null,null,"NA",null,"Y39",1.5,null,{"$f":"E39","v":0},0,0]
[null,11,0,0,null,0,"No Aplica",0,null,0,0,11,null,"No habiltada",null,null,0,0,null,null,null,"NA",null,"Y40",1,null,{"$f":"E40","v":0},0,0]
[null,12,0,0,null,0,"No Aplica",0,null,0,0,null,null,"Salario 12 meses",null,null,null,null,"Validacion de estimulo a estudiantes",null,null,{"$f":"G10","v":0},null,"Y41",0.5,null,{"$f":"E41","v":0},0,0]
[null,13,0,0,null,0,"No Aplica",0,null,0,0,null,null,null,null,null,null,null,null,null,"%",null,null,null,null,null,{"$f":"E42","v":0},0,0]
[null,14,0,0,null,0,"No Aplica",0,null,0,0,null,"Joven investigador Colciencias",{"$f":"M27*3*12","v":41760000},null,null,null,null,true,"Estudiantes Min",0.09,{"$f":"IFERROR(VLOOKUP($S$43,$S$44:$V$48,4,0),0)","v":0},null,null,null,null,{"$f":"E43","v":0},0,0]
[null,{"$f":"14-COUNTIF(E30:E43,\"\")","v":0},"Sumatoria del cálculo de OPS  \"Valor financiado Vicein\" en rubro de (Personal):",null,null,null,{"$f":"IF(H44>N2,\"Esta superando el total de presupuesto\",\"\")","v":""},{"$f":"IFERROR(INT(SUM(H30:H43)),0)","v":0},0,{"$f":"IFERROR(VLOOKUP($E44,$M$29:$O$40,2,0),0)*IF($H$10=\"IMP\",2,1)","v":0},null,null,null,null,null,null,null,null,{"$f":"T44<$V$41","v":false},100,{"$f":"U43","v":0.09},{"$f":"(T44*1000000)*U44","v":9000000}]
[null,null,null,null,null,null,null,null,null,null,null,"Instrucción  ver Comentario… OJO VER EN ESTO IMP",null,null,null,null,null,null,{"$f":"T45<$V$41","v":false},80,{"$f":"U44","v":0.09},{"$f":"(T45*1000000)*U45","v":7200000}]
["13.-","Presupuesto detalle de Plan de compras general   .- La siguiente tabla debe diligenciarse manualmente ya que no arrastra informacion de  otros campos",null,null,null,null,null,null,null,null,null,1,"Para IMP - Contrapartida Facultad Año 1 es : ",null,{"$f":"N18","v":0},{"$f":"SUMIF($C$51:$C$86,$C$51,$H$51:$H$86)","v":0},null,null,{"$f":"T46<$V$41","v":false},60,0.09,5400000]
[null,null,null,null,null,null,null,null,null,null,null,2,"Para IMP - Contrapartida Facultad Año 2 es : ",null,{"$f":"O18","v":0},null,null,null,{"$f":"T47<$V$41","v":false},40,0.09,3600000]
[null,{"$f":"IFERROR(\"Nota : \"&VLOOKUP(I10,Dt_Limite,3,0),\" \")","v":" "},null,null,null,null,null,null,null,null,null,3,"Para Presupuesto $ VICEIN la mitad de OPS es :",null,{"$f":"H44/2","v":0},null,{"$f":"IF(AND($F$141<N2,$F$141<>0),$F$141,N2)","v":0},null,{"$f":"T48<$V$41","v":false},20,0.09,1800000]
[null,null,null,null,null,null,null,null,null,null,null,"Consulte sobre los items"]
[{"$f":"ROW()","v":50},"No","Rubro / Destino","Año de Vigencia","Descripción (Entidad- ",null,"Finaciación Vicein $",{"$f":"G94","v":"$ Contrapartida Facultad"},"Contrapartida Otros $",null,null,"No","Nombre Rubro","Rubro","Limite%",{"$f":"IF(F141=0,Q48,F141)","v":0},"Solicitado $Vicein","Limites de topes",null,null,null,null,null,"Ok OPS y Extimulo"]
[null,{"$f":"ROW()-$A$50","v":1},"Personal",1,"Contrapartida definida por VICEIN (No Habilitado)",null,0,{"$f":"IF(H10=\"INV\",N19,N18)","v":0},null,null,null,{"$f":"ROW()-50","v":1},"Personal",611401,1,{"$f":"INT(SUMIF($C$50:$C$86,$M51,$G$50:$G$86))","v":0},{"$f":"IFERROR(P51/$Q$48,\"-\")","v":"-"},{"$f":"($P$50/100)*O51*100","v":0},"Personal",{"$f":"SUM(R30:R35)","v":0},{"$f":"SUMIF($C$51:$C$86,$S51,$G$51:$G$86)","v":0},{"$f":"U51-T51","v":0},null,{"$f":"IF(T51=U51,0,1)","v":0}]
[null,{"$f":"ROW()-$A$50","v":2},null,1,null,null,null,null,null,null,null,{"$f":"ROW()-50","v":2},"Equipos",632,0.15,{"$f":"SUMIF($C$50:$C$86,$M52,$G$50:$G$86)","v":0},"-",0,{"$f":"M61","v":"Estímulo a estudiantes Pregrado"},{"$f":"SUM(R38)","v":0},{"$f":"SUMIF($C$51:$C$86,$S52,$G$51:$G$86)","v":0},{"$f":"U52-T52","v":0},null,{"$f":"IF(T52=U52,0,1)","v":0}]
[null,3,null,1,null,null,null,null,null,null,null,3,"Equipos en proceso",632,1,0,"-",0,{"$f":"M62","v":"Estímulo a estudiantes Posgrado"},{"$f":"SUM(R36:R37,R39:R40)","v":0},{"$f":"SUMIF($C$51:$C$86,$S53,$G$51:$G$86)","v":0},{"$f":"U53-T53","v":0},null,{"$f":"IF(T53=U53,0,1)","v":0}]
[null,4,null,1,null,null,null,null,null,null,null,4,"Software",612102,1,0,"-",0,null,null,null,{"$f":"SUM(V51:V53)","v":0},null,{"$f":"SUM(X51:X53)","v":0}]
[null,5,null,1,null,null,null,null,null,null,null,5,"Materiales",612101,1,0,"-",0]
[null,6,null,1,null,null,null,null,null,null,null,6,"Materiales (Papelería)",612101,0.02,0,"-",0,null,"Validación","Plan ","OPS Catedra"]
[null,7,null,1,null,null,null,null,null,null,null,7,"Servicios Técnicos",612103,1,{"$f":"SUMIF($C$50:$C$86,$M57,$G$50:$G$86)","v":0},"-",{"$f":"($P$50/100)*O57*100","v":0},null,{"$f":"M51","v":"Personal"},{"$f":"COUNTIF($C$51:$C$70,T57)","v":1},{"$f":"SUM(Q30:Q35)","v":0},{"$f":"IF(U57<=V57,1,0)","v":0}]
[null,8,null,1,null,null,null,null,null,null,null,8,"Licencias por suscripción","Pendiente",1,{"$f":"SUMIF($C$50:$C$86,$M58,$G$50:$G$86)","v":0},"-",{"$f":"($P$50/100)*O58*100","v":0},null,{"$f":"M61","v":"Estímulo a estudiantes Pregrado"},{"$f":"COUNTIF($C$51:$C$70,T58)","v":0},{"$f":"Q38","v":0},{"$f":"IF(U58<V58,1,0)","v":0}]
[null,9,null,1,null,null,null,null,null,null,null,9,"Salidas de Campo",612104,0,0,"-",0,null,{"$f":"M62","v":"Estímulo a estudiantes Posgrado"},{"$f":"COUNTIF($C$51:$C$70,T59)","v":0},{"$f":"SUM(Q36:Q40)-Q38","v":0},{"$f":"IF(U59<V59,1,0)","v":0}]
[null,10,null,1,null,null,null,null,null,null,null,10,"Recursos Bibliográficos",633,0,0,"-",0,null,"Diferencias ",null,{"$f":"IF(V54=0,0,1)","v":0},{"$f":"SUM(W57:W59)+V60","v":0}]
[null,11,null,1,null,null,null,null,null,null,null,11,"Estímulo a estudiantes Pregrado","Pendiente",0,0,"-",0,{"$f":"V43","v":0}]
[null,12,null,1,null,null,null,null,null,null,null,12,"Estímulo a estudiantes Posgrado","Pendiente",0,0,"-",0,null,null,null,null,null,null,null,null,25000000,0.09,{"$f":"AA62*AB62","v":2250000}]
[null,13,null,1,null,null,null,null,null,null,null,13,"Movilidad",635020,0,0,"-",0,null,"Validacion Meses","Suma mes",{"$f":"H10","v":"MI"},null,null,null,null,{"$f":"AA62+AA62","v":50000000},0.09,{"$f":"AA63*AB63","v":4500000}]
[null,14,null,1,null,null,null,null,null,null,null,14,"Viajes","No habiltada",null,null,"-",null,null,"(A.G) -Asistente graduado Mg.",{"$f":"SUMIF($E$30:$E$43,$T64,$F$30:$F$43)","v":0},{"$f":"SUM(U64:U65)","v":0},null,null,null,null,{"$f":"AA63+AA62","v":75000000},0.09,{"$f":"AA64*AB64","v":6750000}]
[null,15,null,1,null,null,null,null,null,null,null,15,"Mantenimiento","No habiltada",null,null,"-",null,null,"(A.G) -Asistente graduado Dr.",{"$f":"SUMIF($E$30:$E$43,$T65,$F$30:$F$43)","v":0},-15,null,null,null,null,{"$f":"AA64+AA62","v":100000000},0.09,{"$f":"AA65*AB65","v":9000000}]
[null,16,null,1,null,null,null,null,null,null,null,16,"Administración","No habiltada",null,null,"-",null,null,null,null,{"$f":"SUM(V64:V65)","v":-15}]
[null,17,null,1,null,null,null,null,null,null,null,17,"Construcciones","No habiltada",null,null,"-"]
[null,18,null,1,null,null,null,null,null,null,null,18,"Otros Gastos","No habiltada",null,null,"-"]
[null,19,null,1,null,null,null,null,null,null,null,null,"Si cambio"]
[null,20,null,1]
[null,21,null,1]
[null,22,null,1]
[null,23,null,1]
[null,24,null,1]
[null,25,null,1]
[null,26,null,1]
[null,27,null,1]
[null,28,null,1]
[null,29,null,1]
[null,30,null,1]
[null,31,null,1]
[null,32,null,1]
[null,33,null,1]
[null,34,null,1]
[null,35,null,1]
[null,null,null,null,null,null,null,null,null,null,null,null,"Tabla de errores posibles"]
[null,null,"Sumatoria general de plan de compras :",null,null,{"$f":"SUM(G87:I87)","v":0},{"$f":"SUM(G88:G89)","v":0},{"$f":"SUM(H88:H89)","v":0},{"$f":"SUM(I88:I89)","v":0},null,null,null,{"$f":"IFERROR(VLOOKUP(R87,L87:M111,2,0),\".\")","v":"Error: No esta minimo de puntos en productividad para acceder al presupuesto base de la covocatoría"},null,"Verificacion de condiciones ",null,null,{"$f":"IFERROR(MAX(R89:R108),0)","v":8}]
[null,null,null,1,{"$f":"\"Total Presupuesto Año 1 \"&IF(H10=\"IMP\",\"IMP\",\"\")&\":\"","v":"Total Presupuesto Año 1 :"},null,{"$f":"IF(Cel_TP=\"IMP\",SUMIF($D$51:$D$86,$D88,G$51:G$86),SUM(G$51:G$86))-S74","v":0},{"$f":"SUMIF($D$51:$D$86,$D88,H$51:H$86)","v":0},{"$f":"SUMIF($D$51:$D$86,$D88,I$51:I$86)","v":0},null,null,0," "]
[null,null,null,2,"Total Presupuesto Año 2 (IMP) :",null,{"$f":"IF(H10=\"INV\",0,SUMIF($D$51:$D$86,$D89,G$51:G$86))","v":0},{"$f":"IF(H10=\"INV\",0,SUMIF($D$51:$D$86,$D89,H$51:H$86))","v":0},{"$f":"IF(H10=\"INV\",0,SUMIF($D$51:$D$86,$D89,I$51:I$86))","v":0},null,null,1,"Error: No cumple con la productividad minima requrida",null,"Validación  pruductividad",null,null,{"$f":"IF(G10<S89,1,0)","v":1},{"$f":"MIN(Productos!L55:L61)","v":100}]
[null,null,"Firma :_______________",null,{"$f":"IF(G90>0,\"Presupuesto por definir.\",\" Error  - Supero el presupuesto en : \")","v":" Error  - Supero el presupuesto en : "},null,{"$f":"E141-G87","v":0},null,null,null,null,2,"Error: Está excediendo el porcentaje dispuesto para este rubro (Equipos)",null,"15 %  de  Equipos Maxximo",null,{"$f":"O52","v":0.15},{"$f":"IF(Q52>15%,2,0)","v":2}]
[null,null,null,{"$f":"IF(H10=\"INV\",1,2)","v":2},"Límite de presupuesto VICEIN por año :",null,{"$f":"IFERROR(IF($H$10=\"IMP\",$P$6/2,$N$2),\"0\")","v":0},null,null,null,null,3,"Error: No se puede incluir más de un joven investigador.",null,"Maximo un Joven Investigador",null,null,{"$f":"IF(Q35>1,3,0)","v":0}]
[null,null,null,null,null,null,null,null,null,null,null,{"$f":"L91+1","v":4},"Error: el  valor del Rubro personal, no corresponde al cuadro de contratacion OPS y estimulos",null,"Si personal no es similar a cuadro OPS",null,null,{"$f":"IF(P51=H44,0,4)","v":0}]
[null,null,null,null,null,null,null,null,null,null,null,{"$f":"L92+1","v":5},"Error: Está excediendo el porcentaje dispuesto para este rubro (Materiales papelería)",null,{"$f":"O56&\" Máximo de rubro para Materiales (papelería).\"","v":"0,02 Máximo de rubro para Materiales (papelería)."},null,{"$f":"O56","v":0.02},{"$f":"IF(Q56>0.02,5,0)","v":5}]
[null,"No","Rubro","%","Porcentaje","$ Financiación solicitada a VICEIN","$ Contrapartida Facultad","$ Contrapartida Externa","$ Total Rubro",0,null,6,{"$f":"\"Error: excede la financiacion de la VICIEN en \"&TEXT(ABS(G90),\"$ ###.###.###\")","v":"Error: excede la financiacion de la VICIEN en $ "},null,"Cuando valor solicitado es mayor  al maximo permitido",null,null,{"$f":"IF(F141>E141,L94,0)","v":0}]
[null,1,{"$f":"C97","v":"Personal"},{"$f":"IFERROR(F95/F97,0)","v":0},{"$f":"D95","v":0},{"$f":"SUMIFS(G$50:G$86,$C$50:$C$86,$C95,$D$50:$D$86,$J95)","v":0},0,0,{"$f":"SUM(F95:H95)","v":0},1,{"$f":"IFERROR(VLOOKUP($B93,$L$50:$Q$68,4,0),0)","v":0},7,"Error: hay registro(s) que no estan diligenciados completos.",null,"En caso que los totales del plan de compras y el cuadro general no sean iguales ",null,null,{"$f":"IF(F141=G87,0,L95)","v":0}]
[null,1,{"$f":"C97","v":"Personal"},{"$f":"IFERROR(F95/F97,0)","v":0},0,0,0,0,0,2,null,8,"Error: No esta minimo de puntos en productividad para acceder al presupuesto base de la covocatoría",null,"En caso de no tener productividad minima requerida",null,null,{"$f":"IF(O6<10,L96,0)","v":8}]
[null,1,{"$f":"M51","v":"Personal"},{"$f":"IFERROR(VLOOKUP($B97,Dt_TblaPresu,6,0),0)","v":"-"},"-",{"$f":"SUM(F95:F96)","v":0},{"$f":"SUM(G95:G96)","v":0},{"$f":"SUM(H95:H96)","v":0},0,3,{"$f":"IFERROR(VLOOKUP($B95,$L$50:$Q$68,4,0),0)","v":1},9]
[null,{"$f":"B95+1","v":2},{"$f":"C100","v":"Equipos"},{"$f":"IFERROR(F98/F100,0)","v":0},0,{"$f":"SUMIFS(G$50:G$86,$C$50:$C$86,$C98,$D$50:$D$86,$J98)","v":0},0,0,0,{"$f":"J95","v":1},{"$f":"IFERROR(VLOOKUP($B96,$L$50:$Q$68,4,0),0)","v":1},10]
[null,{"$f":"B96+1","v":2},{"$f":"C100","v":"Equipos"},{"$f":"IFERROR(F98/F100,0)","v":0},0,0,0,0,0,{"$f":"J96","v":2},1,11]
[null,2,{"$f":"M52","v":"Equipos"},{"$f":"IFERROR(VLOOKUP($B100,$L$50:$Q$68,6,0),0)","v":"-"},"-",{"$f":"SUM(F98:F99)","v":0},{"$f":"SUM(G98:G99)","v":0},{"$f":"SUM(H98:H99)","v":0},0,{"$f":"J97","v":3},0.15,12]
[null,3,{"$f":"C103","v":"Equipos en proceso"},{"$f":"IFERROR(F101/F103,0)","v":0},0,{"$f":"SUMIFS(G$50:G$86,$C$50:$C$86,$C101,$D$50:$D$86,$J101)","v":0},0,0,0,1,0.15,13]
[null,3,{"$f":"C103","v":"Equipos en proceso"},{"$f":"IFERROR(F101/F103,0)","v":0},0,0,0,0,0,2,0.15,14]
[null,3,{"$f":"M53","v":"Equipos en proceso"},{"$f":"IFERROR(VLOOKUP($B103,$L$50:$Q$68,6,0),0)","v":"-"},"-",{"$f":"SUM(F101:F102)","v":0},{"$f":"SUM(G101:G102)","v":0},{"$f":"SUM(H101:H102)","v":0},0,3,1]
[null,4,{"$f":"C106","v":"Software"},{"$f":"IFERROR(F104/F106,0)","v":0},0,{"$f":"SUMIFS(G$50:G$86,$C$50:$C$86,$C104,$D$50:$D$86,$J104)","v":0},0,0,0,1,1]
[null,4,{"$f":"C106","v":"Software"},{"$f":"IFERROR(F104/F106,0)","v":0},0,0,0,0,0,2,1]
[null,4,{"$f":"M54","v":"Software"},{"$f":"IFERROR(VLOOKUP($B106,$L$50:$Q$68,6,0),0)","v":"-"},"-",{"$f":"SUM(F104:F105)","v":0},{"$f":"SUM(G104:G105)","v":0},{"$f":"SUM(H104:H105)","v":0},0,3,1]
[null,5,{"$f":"C109","v":"Materiales"},{"$f":"IFERROR(F107/F109,0)","v":0},0,{"$f":"SUMIFS(G$50:G$86,$C$50:$C$86,$C107,$D$50:$D$86,$J107)","v":0},0,0,0,1,1]
[null,5,{"$f":"C109","v":"Materiales"},{"$f":"IFERROR(F107/F109,0)","v":0},0,0,0,0,0,2,1]
[null,5,{"$f":"M55","v":"Materiales"},{"$f":"IFERROR(VLOOKUP($B109,$L$50:$Q$68,6,0),0)","v":"-"},"-",{"$f":"SUM(F107:F108)","v":0},{"$f":"SUM(G107:G108)","v":0},{"$f":"SUM(H107:H108)","v":0},0,3,1]
[null,6,{"$f":"C112","v":"Materiales (Papelería)"},{"$f":"IFERROR(F110/F112,0)","v":0},0,{"$f":"SUMIFS(G$50:G$86,$C$50:$C$86,$C110,$D$50:$D$86,$J110)","v":0},0,0,0,1,1]
[null,6,{"$f":"C112","v":"Materiales (Papelería)"},{"$f":"IFERROR(F110/F112,0)","v":0},0,0,0,0,0,2,1]
[null,6,{"$f":"M56","v":"Materiales (Papelería)"},{"$f":"IFERROR(VLOOKUP($B112,$L$50:$Q$68,6,0),0)","v":"-"},"-",{"$f":"SUM(F110:F111)","v":0},{"$f":"SUM(G110:G111)","v":0},{"$f":"SUM(H110:H111)","v":0},0,3,0.02]
[null,7,{"$f":"C115","v":"Servicios Técnicos"},{"$f":"IFERROR(F113/F115,0)","v":0},0,{"$f":"SUMIFS(G$50:G$86,$C$50:$C$86,$C113,$D$50:$D$86,$J113)","v":0},0,0,0,1,0.02]
[null,7,{"$f":"C115","v":"Servicios Técnicos"},{"$f":"IFERROR(F113/F115,0)","v":0},0,0,0,0,0,2,0.02]
[null,7,{"$f":"M57","v":"Servicios Técnicos"},{"$f":"IFERROR(VLOOKUP($B115,$L$50:$Q$68,6,0),0)","v":"-"},"-",{"$f":"SUM(F113:F114)","v":0},{"$f":"SUM(G113:G114)","v":0},{"$f":"SUM(H113:H114)","v":0},0,3,1]
[null,8,{"$f":"C118","v":"Licencias por suscripción"},{"$f":"IFERROR(F116/F118,0)","v":0},0,{"$f":"SUMIFS(G$50:G$86,$C$50:$C$86,$C116,$D$50:$D$86,$J116)","v":0},0,0,0,1,1]
[null,8,{"$f":"C118","v":"Licencias por suscripción"},{"$f":"IFERROR(F116/F118,0)","v":0},0,0,0,0,0,2,1,null,"La siguiente tabla de plan de compras debe diligenciarse manualmente ya que no arrastra informacion de otros campos exceptuando la parte de contrapartida"]
[null,8,{"$f":"M58","v":"Licencias por suscripción"},{"$f":"IFERROR(VLOOKUP($B118,$L$50:$Q$68,6,0),0)","v":"-"},"-",{"$f":"SUM(F116:F117)","v":0},{"$f":"SUM(G116:G117)","v":0},{"$f":"SUM(H116:H117)","v":0},0,3,1]
[null,9,{"$f":"C121","v":"Salidas de Campo"},{"$f":"IFERROR(F119/F121,0)","v":0},0,null,null,null,null,1,1]
[null,9,{"$f":"C121","v":"Salidas de Campo"},{"$f":"IFERROR(F119/F121,0)","v":0},0,null,null,null,null,2,1]
[null,9,{"$f":"M59","v":"Salidas de Campo"},{"$f":"IFERROR(VLOOKUP($B121,$L$50:$Q$68,6,0),0)","v":"-"},"-",null,null,null,null,3,0]
[null,10,{"$f":"C124","v":"Estímulo a estudiantes Pregrado"},{"$f":"IFERROR(F122/F124,0)","v":0},{"$f":"D122","v":0},null,null,null,null,{"$f":"J119","v":1},0]
[null,10,{"$f":"C124","v":"Estímulo a estudiantes Pregrado"},{"$f":"IFERROR(F122/F124,0)","v":0},0,null,null,null,null,2,0]
[null,10,{"$f":"M61","v":"Estímulo a estudiantes Pregrado"},{"$f":"IFERROR(VLOOKUP($B122,$L$50:$Q$68,6,0),0)","v":"-"},{"$f":"D124","v":"-"},null,null,null,null,3,0]
[null,11,{"$f":"C127","v":"Estímulo a estudiantes Posgrado"},{"$f":"IFERROR(F125/F127,0)","v":0},0,null,null,null,null,1,0]
[null,11,{"$f":"C127","v":"Estímulo a estudiantes Posgrado"},{"$f":"IFERROR(F125/F127,0)","v":0},0,null,null,null,null,2,0]
[null,11,{"$f":"M62","v":"Estímulo a estudiantes Posgrado"},{"$f":"IFERROR(VLOOKUP($B125,$L$50:$Q$68,6,0),0)","v":"-"},{"$f":"D127","v":"-"},null,null,null,null,3,0]
[null,12,{"$f":"C130","v":"Movilidad"},{"$f":"IFERROR(VLOOKUP($B126,$L$50:$Q$68,6,0),0)","v":"-"},"-",null,null,null,null,{"$f":"J119","v":1},0]
[null,11,{"$f":"C130","v":"Movilidad"},"-","-",null,null,null,null,2,0]
[null,11,{"$f":"M63","v":"Movilidad"},"-",{"$f":"D130","v":"-"},null,null,null,null,3,0]
[null,13,{"$f":"C133","v":"Licencias por suscripción"},"-","-",null,null,null,null,1,0]
[null,12,{"$f":"C133","v":"Licencias por suscripción"},"-","-",null,null,null,null,2,0]
[null,12,{"$f":"M58","v":"Licencias por suscripción"},"-","-",null,null,null,null,3,0]
[null,13,"Viajes",null,null,{"$f":"SUMIFS(G$50:G$86,$C$50:$C$86,$C134,$D$50:$D$86,$J134)","v":0},{"$f":"SUMIFS(H$50:H$86,$C$50:$C$86,$C134)","v":0},{"$f":"SUMIFS(I$50:I$86,$C$50:$C$86,$C134)","v":0},0,{"$f":"J133","v":3}]
[null,14,"Mantenimiento",null,null,{"$f":"SUMIFS(G$50:G$86,$C$50:$C$86,$C135,$D$50:$D$86,$J135)","v":0},{"$f":"SUMIFS(H$50:H$86,$C$50:$C$86,$C135)","v":0},0,0,{"$f":"J134","v":3}]
[null,15,"Administración",null,null,{"$f":"SUMIFS(G$50:G$86,$C$50:$C$86,$C136,$D$50:$D$86,$J136)","v":0},0,0,0,{"$f":"J135","v":3}]
[null,16,"Construcciones",null,null,{"$f":"SUMIFS(G$50:G$86,$C$50:$C$86,$C137,$D$50:$D$86,$J137)","v":0},0,0,0,{"$f":"J136","v":3}]
[null,17,"Otros Gastos",null,null,{"$f":"SUMIFS(G$50:G$86,$C$50:$C$86,$C138,$D$50:$D$86,$J138)","v":0},0,0,0,{"$f":"J137","v":3}]
[null,"T1","$ Total General (Año 1)",null,null,{"$f":"SUMIFS(F$95:F$138,$J$95:$J$138,$J139)","v":0},{"$f":"SUMIFS(G$95:G$138,$J$95:$J$138,$J139)+SUM(G134:G138)","v":0},{"$f":"SUMIFS(H$95:H$138,$J$95:$J$138,$J139)","v":0},0,1]
[null,"T2","$ Total General (Año 2)",null,null,{"$f":"SUMIFS(F$95:F$138,$J$95:$J$138,$J140)","v":0},{"$f":"SUMIFS(G$95:G$138,$J$95:$J$138,$J140)","v":0},{"$f":"SUMIFS(H$95:H$138,$J$95:$J$138,$J140)","v":0},0,2]
[null,"T3",{"$f":"\"TotalesPlan compras  -  (máximo):\"","v":"TotalesPlan compras  -  (máximo):"},null,{"$f":"N2","v":0},{"$f":"SUMIFS(F$95:F$138,$J$95:$J$138,$J141)","v":0},{"$f":"SUMIFS(G$95:G$138,$J$95:$J$138,$J141)","v":0},{"$f":"SUMIFS(H$95:H$138,$J$95:$J$138,$J141)","v":0},0,3]
[]
[null,"Nombre Institución Externa :",null,null,{"$f":"IF(General!I30>0,CLEAN(K143),\" \")","v":" "},null,null,null,null,{"$f":"General!I30","v":0},{"$f":"General!O61","v":""}]
[]
[null,null,null,"Propuesta:",{"$f":"D7","v":0}]
[]
[null,null,"Firma de responsable"]
[]
[]
[]
[]
[null,null,"*Pueden  Ocultar las Filas que no se utilicen ( Favor no eliminar filas)."]
[null,null,"** en el caso de necesitar mas filas en el plan de compras (Comunicarse con la VICEIN para que se pueda realizar el ajuste)"]

{"sheet":"Cronograma","index":11,"n_rows":34,"n_cols":13,"rows_kept":34,"cut":false,"hidden":false,"merged":[[1,1,2,2]]}
[6,null,null,null,null,null,null,null,"*Pueden  Ocultar las Filas que no se utilicen.",null,null,{"$f":"(\"* Actualmente tiene \"&G8&\" meses de ejecución no superar los \"& G6&\" meses.\")","v":"* Actualmente tiene 0 meses de ejecución no superar los 0 meses."}]
[null,{"$f":"General!B2","v":"PRESENTACIÓN DE PROYECTOS \nDE INVESTIGACIÓN"},null,{"$f":"General!$H$2","v":"Fecha de Emisión: 2019/03/18"},{"$f":"General!$I$2","v":"IN-IV-F-14"}]
[null,null,null,{"$f":"General!$H$3","v":"Revisión N°:\n4"},{"$f":"\"Página \"&A1&\" de \"&Dt_TPG","v":"Página 6 de 11"}]
[]
["9.-","Cronograma de actividades a desarrollar",null,null,{"$f":"Integrantes!J5","v":0},null,{"$f":"E5","v":0},"Meses Maximo","Palabras"]
["9.-","Año de aplicación de la propuesta ",null,2023,null,null,{"$f":"E6","v":0},"Meses Maximo","Palabras",null,null,null,2022]
[null,null,null,null,null,null,null,null,null,null,null,null,{"$f":"M6+1","v":2023}]
[null,"No","Descripción básica de la actividad","Mes de Inicio","Duración en mes",null,{"$f":"MAX(G9:G28)","v":0},"Meses de ejecición actuales",{"$f":"SUM(I9:I28)","v":0},"<== Total de palabras"]
[null,{"$f":"ROW()-7","v":2},null,null,null,null,{"$f":"SUM(D9:E9)","v":0},null,{"$f":"IF(C9=\"\",0,LEN(TRIM(C9))-LEN(SUBSTITUTE(TRIM(C9),\" \",\"\"))+1)","v":0}]
[null,{"$f":"ROW()-7","v":3},null,null,null,null,{"$f":"SUM(D10:E10)","v":0},null,{"$f":"IF(C10=\"\",0,LEN(TRIM(C10))-LEN(SUBSTITUTE(TRIM(C10),\" \",\"\"))+1)","v":0}]
[null,4,null,null,null,null,0,null,0]
[null,5,null,null,null,null,0,null,0]
[null,6,null,null,null,null,0,null,0]
[null,7,null,null,null,null,0,null,0]
[null,8,null,null,null,null,0,null,0]
[null,9,null,null,null,null,0,null,0]
[null,10,null,null,null,null,0,null,0]
[null,11,null,null,null,null,0,null,0]
[null,12,null,null,null,null,0,null,0]
[null,13,null,null,null,null,0,null,0]
[null,14,null,null,null,null,0,null,0]
[null,15,null,null,null,null,0,null,0]
[null,16,null,null,null,null,0,null,0]
[null,17,null,null,null,null,0,null,0]
[null,18,null,null,null,null,0,null,0]
[null,19,null,null,null,null,0,null,0]
[null,20,null,null,null,null,0,null,0]
[null,21,null,null,null,null,0,null,0]
[]
[null,null,{"$f":"IF(G8>G6,L1,\".\")","v":"."}]
[]
[]
[]
[null,"*Pueden  Ocultar las Filas que no se utilicen. No eliminen filas"]

{"sheet":"Bibliografía","index":12,"n_rows":39,"n_cols":12,"rows_kept":39,"cut":false,"hidden":false,"merged":[[10,2,10,4],[1,2,2,2],[6,2,6,4],[7,2,7,4],[8,2,8,4],[9,2,9,4],[22,2,22,4],[11,2,11,4],[12,2,12,4],[13,2,13,4],[14,2,14,4],[15,2,15,4],[16,2,16,4],[17,2,17,4],[18,2,18,4],[19,2,19,4],[20,2,20,4],[21,2,21,4],[34,2,34,4],[23,2,23,4],[24,2,24,4],[25,2,25,4],[26,2,26,4],[27,2,27,4],[28,2,28,4],[29,2,29,4],[30,2,30,4],[31,2,31,4],[32,2,32,4],[33,2,33,4]]}
[12,null,null,null,null,null,"*Pueden  Ocultar las Filas que no se utilicen."]
[null,null,{"$f":"General!B2","v":"PRESENTACIÓN DE PROYECTOS \nDE INVESTIGACIÓN"},{"$f":"General!$H$2","v":"Fecha de Emisión: 2019/03/18"},{"$f":"General!$I$2","v":"IN-IV-F-14"}]
[null,null,null,{"$f":"General!$H$3","v":"Revisión N°:\n4"},{"$f":"\"Página \"&$A$1&\" de \"&Dt_TPG","v":"Página 12 de 11"},null,{"$f":"SUM(G7:G3500)","v":0},"<== Total de palabras"]
[]
["15.-","#","Bibliografía de la propuesta.",null,null,null,"Largo"]
[]
[null,{"$f":"ROW()-6","v":1},null,null,null,null,{"$f":"IF(C7=\"\",0,LEN(TRIM(C7))-LEN(SUBSTITUTE(TRIM(C7),\" \",\"\"))+1)","v":0}]
[null,{"$f":"ROW()-6","v":2},null,null,null,null,{"$f":"IF(C8=\"\",0,LEN(TRIM(C8))-LEN(SUBSTITUTE(TRIM(C8),\" \",\"\"))+1)","v":0}]
[null,3,null,null,null,null,0]
[null,4,null,null,null,null,0]
[null,5,null,null,null,null,0]
[null,6,null,null,null,null,0]
[null,7,null,null,null,null,0]
[null,8,null,null,null,null,0]
[null,9,null,null,null,null,0]
[null,10,null,null,null,null,0]
[null,11,null,null,null,null,0]
[null,12,null,null,null,null,0]
[null,13,null,null,null,null,0]
[null,14,null,null,null,null,0,null,null,null,3.54,{"$f":"FxNdecimal(K20)","v":{"$error":"#NAME?"}}]
[null,15,null,null,null,null,0,null,null,null,3.5]
[null,16,null,null,null,null,0,null,null,null,3.5446460000000002]
[null,17,null,null,null,null,0]
[null,18,null,null,null,null,0]
[null,19,null,null,null,null,0]
[null,20,null,null,null,null,0]
[null,21,null,null,null,null,0]
[null,22,null,null,null,null,0]
[null,23,null,null,null,null,0]
[null,24,null,null,null,null,0]
[null,25,null,null,null,null,0]
[null,26,null,null,null,null,0]
[null,27,null,null,null,null,0]
[null,28,null,null,null,null,0]
[null,29,null,null,null,null,0]
[]
[]
[]
[null,"*Pueden  Ocultar las Filas que no se utilicen ( Favor no eliminar filas)."]

{"sheet":"Etica","index":13,"n_rows":71,"n_cols":17,"rows_kept":71,"cut":false,"hidden":false,"merged":[[23,2,23,4],[65,2,65,4],[37,2,37,4],[39,2,39,4],[42,2,42,4],[44,2,44,4],[46,2,46,4],[61,2,61,3],[48,2,48,3],[50,2,50,3],[53,2,53,3],[55,2,55,3],[57,2,57,3],[59,2,59,3],[49,2,49,4],[51,2,51,4],[54,2,54,4],[56,2,56,4],[58,2,58,4],[60,2,60,4],[64,2,64,3],[62,2,62,4],[7,2,7,3],[11,2,11,3],[13,2,13,3],[15,2,15,3],[17,2,17,3],[24,2,24,4],[19,2,19,3],[21,2,21,3],[8,2,8,4],[52,2,52,3],[25,2,25,3],[28,2,28,3],[30,2,30,3],[32,2,32,3],[36,2,36,3],[38,2,38,3],[26,2,26,4],[29,2,29,4],[31,2,31,4],[33,2,33,4],[35,2,35,4],[67,2,67,4],[1,2,2,2],[6,2,6,3],[27,2,27,3],[40,2,40,3],[47,2,47,3],[41,2,41,3],[43,2,43,3],[45,2,45,3],[10,2,10,4],[12,2,12,4],[14,2,14,4],[16,2,16,4],[18,2,18,4],[20,2,20,4],[22,2,22,4]]}
[5,null,null,null,null,null,"*Pueden  Ocultar las Filas que no se utilicen."]
[null,null,{"$f":"General!B2","v":"PRESENTACIÓN DE PROYECTOS \nDE INVESTIGACIÓN"},{"$f":"General!$H$2","v":"Fecha de Emisión: 2019/03/18"},{"$f":"General!$I$2","v":"IN-IV-F-14"},null,null,null,null,"Detalles:"]
[null,null,null,{"$f":"General!$H$3","v":"Revisión N°:\n4"},{"$f":"\"Página \"&A1&\" de \"&Dt_TPG","v":"Página 5 de 11"},null,{"$f":"SUM(G5:G3524)","v":406},"<== Total de palabras"]
[]
[null,null,{"$f":"$Q$13","v":"."}]
["8b.-",0,"Consideraciones e implicaciones éticas de la investigación, bioética e integridad científica",null,"( Si  / No  )",null,"Palabras",null,null,null,null,null,"Validaciones"]
[null,1,"Proyecto de investigación en CTeI que  involucra seres humanos",null,"No",null,{"$f":"IF(C7=\"\",0,LEN(TRIM(C7))-LEN(SUBSTITUTE(TRIM(C7),\" \",\"\"))+1)","v":9},{"$f":"I7-J7","v":0},{"$f":"IF(OR(E7=\"No\",E7=0),0,1)","v":0},{"$f":"MAX(I8:I23)","v":0},null,1,{"$f":"VLOOKUP($L7,$B$6:$J$68,7,0)","v":0},"CTeI que  involucra seres humanos",null,{"$f":"LEN(N7)","v":33},{"$f":"IF(M7=0,\"\",N7&\"; \")","v":""}]
[null,"1.1","¿Utiliza información exclusiva o reservada por parte de terceros y prevé su forma de acceso?",null,"No",null,{"$f":"IF(C8=\"\",0,LEN(TRIM(C8))-LEN(SUBSTITUTE(TRIM(C8),\" \",\"\"))+1)","v":15},null,{"$f":"IF(OR(E8=\"No\",E8=0),0,1)","v":0},null,null,2,0,"CTeI involucra animales",null,23,""]
[null,null,{"$f":"$J$2","v":"Detalles:"},null,null,null,1,null,{"$f":"IF(OR(E9=\"No\",E9=0),0,1)","v":0},null,null,3,0,"CTeI involucra fuentes documentales",null,35,""]
[null,"1.2","Eliminar ",null,null,null,1,null,0,null,null,4,0,"CTeI involucra el ambiente",null,26,""]
[null,null,null,null,null,null,0,null,0,null,null,5,0,"Aspectos de Integridad científica",null,33,""]
[null,"1.3","¿Utiliza datos personales?",null,"No",null,3,null,0,null,null,6,0,"otras razones que ameritan la revisión ",null,39,""]
[null,null,{"$f":"$J$2","v":"Detalles:"},null,null,null,1,null,0,null,null,null,{"$f":"LEN(N13)","v":0},{"$f":"Q7&Q8&Q9&Q10&Q11&Q12","v":""},null,null,{"$f":"IF(M13>0,\"Error, revisar el ítem: \"&N13,\".\")","v":"."}]
[null,"1.4","¿utiliza información confidencial?",null,"No",null,3,null,0]
[null,null,{"$f":"$J$2","v":"Detalles:"},null,null,null,1,null,0]
[null,"1.5","¿Requiere consentimiento informado?",null,"No",null,3,null,0]
[null,null,{"$f":"$J$2","v":"Detalles:"},null,null,null,1,null,0]
[null,"1.6","¿indica un modelo de recopilación y conservación de información?",null,"No",null,9,null,0]
[null,null,{"$f":"$J$2","v":"Detalles:"},null,null,null,1,null,0]
[null,"1.7","¿Es una investigación con comunidades vulnerables (indígenas, afrodescendientes, menores  o personal subordinado, entre otros)?",null,"No",null,14,null,0]
[null,null,{"$f":"$J$2","v":"Detalles:"},null,null,null,1,null,0]
[null,"1.8","¿Se evidencia conocimiento previo sobre aspectos políticos, económicos sociales y culturales de las comunidades indígenas?",null,"No",null,15,null,0]
[null,null,{"$f":"$J$2","v":"Detalles:"},null,null,null,1,null,0]
[null,"1.9","¿Realiza intervención a través cuestionarios, medicamentos, rutinas, modificación de actividades o estilo de vida?",null,null,null,14,null,0]
[null,null,{"$f":"$J$2","v":"Detalles:"},null,null,null,1,null,0]
[null,"1.10","¿incluye modelos de consentimiento informado, uso de datos personales u otro?",null,"No",null,11,null,0]
[null,null,{"$f":"$J$2","v":"Detalles:"},null,null,null,1,null,0]
[null,2,"Proyecto de investigación en CTeI involucra animales",null,"No",null,7,{"$f":"I28-J28","v":0},0,{"$f":"MAX(I29:I40)","v":0}]
[null,"2.1","¿Incluye un protocolo de investigación en animales?",null,"No",null,7,null,0]
[null,null,{"$f":"$J$2","v":"Detalles:"},null,null,null,1,null,0]
[null,"2.2","¿Incluye un protocolo de manipulación de recursos biológicos?",null,"No",null,8,null,0]
[null,null,{"$f":"$J$2","v":"Detalles:"},null,null,null,1,null,0]
[null,"2.3","¿Incluye un protocolo de manejo y disposición de sustancias peligrosas, agentes infecciosos y desechos?",null,"No",null,14,null,0]
[null,null,{"$f":"$J$2","v":"Detalles:"},null,null,null,1,null,0]
[null,"2.4","¿hay caracterización de los animales de experimentación criterios de selección de la especie?",null,"No",null,13,null,0]
[null,null,{"$f":"$J$2","v":"Detalles:"},null,null,null,1,null,0]
[null,"2.5","¿se prevé formación previa al equipo de laboratorio por parte del investigador sobre el cuidado permanente del animal y experimentación?",null,"No",null,20,null,0]
[null,null,{"$f":"$J$2","v":"Detalles:"},null,null,null,1,null,0]
[null,"2.6","¿se prevé declaración previa del origen y estado de los animales para experimentación?",null,"No",null,13,null,0]
[null,null,{"$f":"$J$2","v":"Detalles:"},null,null,null,1,null,0]
[null,3,"El proyecto de investigación en CTeI involucra fuentes documentales",null,"No",null,9,{"$f":"I41-J41","v":0},0,{"$f":"MAX(I42:I47)","v":0}]
[null,"3.1","¿hace referencia a la anonimización de datos?",null,"No",null,7,null,0]
[null,null,{"$f":"$J$2","v":"Detalles:"},null,null,null,1,null,0]
[null,"3.2","¿prevé conservación de datos de consulta?",null,"No",null,6,null,0]
[null,null,{"$f":"$J$2","v":"Detalles:"},null,null,null,1,null,0]
[null,"3.3","¿se identifica objetivamente que las bases de consulta de acceso abierto pueden ser calificadas de tal manera?",null,"No",null,17,null,0]
[null,null,{"$f":"$J$2","v":"Detalles:"},null,null,null,1,null,0]
[null,4,"Proyecto de investigación en CTeI involucra el ambiente",null,"No",null,8,{"$f":"I48-J48","v":0},0,{"$f":"MAX(I49:I52)","v":0}]
[null,"4.1","¿requiere permisos o licencias ambientales como recolección de especímenes, colecciones biológicas, manipulación o movilización de recursos bilógicas?",null,"No",null,17,null,0]
[null,null,{"$f":"$J$2","v":"Detalles:"},null,null,null,1,null,0]
[null,"4.2","¿requiere uso de recursos genéticos?",null,"No",null,5,null,0]
[null,null,{"$f":"$J$2","v":"Detalles:"},null,null,null,1,null,0]
[null,5,"Aspectos de Integridad científica",null,"No",null,4,{"$f":"I53-J53","v":0},0,{"$f":"MAX(I54:I64)","v":0}]
[null,"5.1","¿Podría darse un conflicto de interés no declarado entre quienes participan en el proyecto o las instituciones coejecutoras o las instancias de aprobación y seguimiento?",null,"No",null,25,null,0]
[null,null,{"$f":"$J$2","v":"Detalles:"},null,null,null,1,null,0]
[null,"5.2","¿Hay indicios de que se han fabricado o plagiado datos en la investigación?",null,"No",null,13,null,0]
[null,null,{"$f":"$J$2","v":"Detalles:"},null,null,null,1,null,0]
[null,"5.3","¿se presume que se incluye personal vinculado al proyecto que objetivamente podría no aportar técnica ni intelectualmente al proyecto?",null,"No",null,19,null,0]
[null,null,{"$f":"$J$2","v":"Detalles:"},null,null,null,1,null,0]
[null,"5.4","¿se estima que los recursos y tiempos de dedicación solicitados exceden lo necesario para financiación del proyecto o se prevé que los productos son escasos ante las capacidades y alcance de la propuesta?",null,"No",null,33,null,0]
[null,null,{"$f":"$J$2","v":"Detalles:"},null,null,null,1,null,0]
[null,"5.5","Eliminar",null,null,null,1,null,0]
[null,null,{"$f":"$J$2","v":"Detalles:"},null,null,null,1,null,0]
[null,null,null,null,"No",null,0,null,0]
[null,6,"Existen otras razones que ameritan la revisión por parte del comité de ética de la investigación (indique cuales).",null,"No",null,18,{"$f":"I65-J65","v":0},0,{"$f":"SUM(I66:I68)","v":0}]
[null,"6.1",{"$f":"$J$2","v":"Detalles:"},null,null,null,1,null,0]
[null,null,"Especificaciones de ética de la investigación, bioética e integridad científica que deban ser ampliadas en detalle (indique cuales).",null,"No",null,18,null,0]
[null,"6.1",{"$f":"$J$2","v":"Detalles:"},null,null,null,{"$f":"IF(C68=\"\",0,LEN(TRIM(C68))-LEN(SUBSTITUTE(TRIM(C68),\" \",\"\"))+1)","v":1},null,0]
[null,null,null,null,null,null,null,null,0]
[null,null,null,null,null,null,{"$f":"IF(C70=\"\",0,LEN(TRIM(C70))-LEN(SUBSTITUTE(TRIM(C70),\" \",\"\"))+1)","v":0},null,0]
[null,null,null,null,null,null,{"$f":"IF(C71=\"\",0,LEN(TRIM(C71))-LEN(SUBSTITUTE(TRIM(C71),\" \",\"\"))+1)","v":0}]

{"sheet":"Declaración","index":14,"n_rows":47,"n_cols":10,"rows_kept":47,"cut":false,"hidden":false,"merged":[[11,2,11,4],[1,2,2,2],[6,2,6,4],[7,2,7,4],[9,2,9,4],[10,2,10,4],[16,2,16,4],[12,2,12,4],[13,2,13,4],[14,2,14,4],[15,2,15,4]]}
[13,null,null,null,null,null,"*Pueden  Ocultar las Filas que no se utilicen."]
[null,null,{"$f":"General!B2","v":"PRESENTACIÓN DE PROYECTOS \nDE INVESTIGACIÓN"},{"$f":"General!$H$2","v":"Fecha de Emisión: 2019/03/18"},{"$f":"General!$I$2","v":"IN-IV-F-14"}]
[null,null,null,{"$f":"General!$H$3","v":"Revisión N°:\n4"},{"$f":"\"Página \"&$A$1&\" de \"&Dt_TPG","v":"Página 13 de 11"},null,{"$f":"SUM(G10:G3508)","v":0},"<== Total de palabras"]
[]
["15.-","#","Decaración la propuesta.",null,null,null,"Largo"]
[]
[null,null,{"$f":"\"Título Proyecto: \"& General!B9","v":"Título Proyecto: "}]
[null,null,{"$f":"\"Lider del proyecto: \"&General!C10","v":"Lider del proyecto: "}]
[]
[null,null,"a. Los investigadores y coinvestigadores declaran con la presentación de las propuestas que la información suministrada es veraz y puede ser verificable por la  Universidad Militar Nueva Granada en cualquier momento. Ante cualquier inconsistencia la Vicerrectoría de Investigaciones podrá rechazar la propuesta y, de ser el caso, implicaría la pérdida de la financiación del proyecto. Sin perjuicio de los procesos disciplinarios asociados.",null,null,null,null,null,null,"a. Los investigadores y coinvestigadores declaran con la presentación de las propuestas que la información suministrada es veraz y puede ser verificable por la  Universidad Militar Nueva Granada en cualquier momento. Ante cualquier inconsistencia la Vicerrectoría de Investigaciones podrá rechazar la propuesta y, de ser el caso, implicaría la pérdida de la financiación del proyecto. Sin perjuicio de los procesos disciplinarios asociados."]
[null,null,"b. La presentación de las propuestas a la convocatoria constituye la aceptación de los términos establecidos y sus anexos, en cuanto a características, condiciones y requisitos.",null,null,null,null,null,null,"b. La presentación de las propuestas a la convocatoria constituye la aceptación de los términos establecidos y sus anexos, en cuanto a características, condiciones y requisitos."]
[null,null,"c. La presentación de la propuesta constituye la aceptación, expresa e irrevocable de los investigadores y coinvestigadores, que conocen los lineamientos y condiciones de los términos de referencia, así como, que se someten a lo establecido durante las fases de la convocatoria, de legalización, ejecución y liquidación.",null,null,null,null,null,null,"c. La presentación de la propuesta constituye la aceptación, expresa e irrevocable de los investigadores y coinvestigadores, que conocen los lineamientos y condiciones de los términos de referencia, así como, que se someten a lo establecido durante las fases de la convocatoria, de legalización, ejecución y liquidación."]
[null,null,"d. Se aceptarán únicamente las propuestas que participen a través del procedimiento establecido y los plazos previstos en la presente convocatoria.",null,null,null,null,null,null,"d. Se aceptarán únicamente las propuestas que participen a través del procedimiento establecido y los plazos previstos en la presente convocatoria."]
[null,null,"e. La propuesta participante no podrá haber sido financiada previamente por la Universidad Militar Nueva Granada ni por otra fuente de financiación pública o privada.",null,null,null,null,null,null,"e. La propuesta participante no podrá haber sido financiada previamente por la Universidad Militar Nueva Granada ni por otra fuente de financiación pública o privada."]
[null,null,"f. La propuesta participante no podrá ser financiada simultáneamente por otra convocatoria interna o con recursos de otras entidades del Estado o agencias públicas internacionales.",null,null,null,null,null,null,"f. La propuesta participante no podrá ser financiada simultáneamente por otra convocatoria interna o con recursos de otras entidades del Estado o agencias públicas internacionales."]
[null,null,"g. Los participantes garantizarán que el desarrollo del proyecto se llevará a cabo de acuerdo con los protocolos y normas establecidas por la ley colombiana, y que no representa ningún riesgo para la sociedad, la salud o el ambiente.",null,null,null,null,null,null,"g. Los participantes garantizarán que el desarrollo del proyecto se llevará a cabo de acuerdo con los protocolos y normas establecidas por la ley colombiana, y que no representa ningún riesgo para la sociedad, la salud o el ambiente."]
[null,null,"h. Los participantes deben asegurar que cuentan o que obtendrán los permisos y licencias respectivas para el cumplimiento de la normatividad colombiana vigente en relación con el objeto y desarrollo de la propuesta.",null,null,null,null,null,null,"h. Los participantes deben asegurar que cuentan o que obtendrán los permisos y licencias respectivas para el cumplimiento de la normatividad colombiana vigente en relación con el objeto y desarrollo de la propuesta."]
[]
[null,null,"El investigador principal y coinvestigadores del proyecto firman aceptando esta declaración :"]
[]
[]
[]
[]
[]
[]
[]
[]
[null,null,"Firma y fecha : "]
[]
[]
[]
[]
[]
[]
[]
[]
[]
[]
[]
[]
[]
[]
[]
[]
[]
[]
[null,"*Pueden  Ocultar las Filas que no se utilicen ( Favor no eliminar filas)."]