{"text_format":"1","workbook":"xlsx","n_sheets":7,"sheets":["Tabla Presupuesto Global","Presupuesto","Producto","OP","Hoja3","TB","\"EXPLICACIÓN RUBROS\""],"not_rendered":{"charts":0,"images":4,"macros":1,"external_links":1,"defined_names":20,"comments":3,"pivot_tables":0},"unopened":[],"bounds":{"document_bytes":16777216,"sheet_cells":100000,"rows_first":2000,"rows_last":500,"rows_between":2000,"halvings":0,"cell_chars":16384,"cell_head_chars":4096},"cells_cut":0,"cells_raw":0,"read":"whole","date_system":"1900"}

{"sheet":"Tabla Presupuesto Global","index":0,"n_rows":48,"n_cols":55,"rows_kept":48,"cut":false,"hidden":true,"merged":[[3,14,3,15],[2,3,4,3],[3,6,3,7],[29,1,29,3],[16,1,16,3],[3,4,3,5],[3,8,3,9],[3,10,3,11],[12,1,12,3],[3,22,3,23],[26,1,26,3],[23,1,23,3],[1,4,1,26],[0,3,1,3],[0,4,0,26],[9,1,9,3],[5,1,5,3],[2,1,4,2],[3,20,3,21],[3,16,3,17],[3,18,3,19],[2,4,2,26],[3,24,3,25],[3,26,4,26],[3,12,3,13]]}
[null,null,null,null,"PRESUPUESTO PARA PROYECTO DE INICIACIÓN CIENTÍFICA-PI"]
[null,null,null,null,{"$f":"\"Tabla 1. PRESUPUESTO GLOBAL PROYECTO \"&Presupuesto!D7","v":"Tabla 1. PRESUPUESTO GLOBAL PROYECTO "}]
[null,"RUBROS",null,"JUSTIFICACIÓN"," Fuentes (Miles de $)"]
[null,null,null,null,"*UMNG",null,"Entidad1",null,"Entidad2",null,"Entidad3",null,"Entidad4",null,"Entidad5",null,"Entidad6",null,"Entidad7",null,"Entidad8",null,"Entidad9",null,"Entidad10",null,"Total"]
[null,null,null,null,"Efectivo ","Especie","Efectivo ","Especie","Efectivo ","Especie","Efectivo ","Especie","Efectivo ","Especie","Efectivo ","Especie","Efectivo ","Especie","Efectivo ","Especie","Efectivo ","Especie","Efectivo ","Especie","Efectivo ","Especie"]
[null,"1.1. GASTOS DE PERSONAL (no esta en la lista de rubros)",null,null,{"$f":"SUM(E8:E9)","v":0},{"$f":"SUM(F8:F9)","v":0},0,0,0,0,0,0,0,0,0,0,0,0,0,0,0,0,0,0,0,0,{"$f":"SUM(E6:Z6)","v":0}]
[null,"RUBROS","CÓDIGO","JUSTIFICACIÓN"]
[null,"COMPENSACIÓN ORDINARIA (incluye parafiscales y seguridad social)",0,null,0,0,null,null,null,null,null,null,null,null,null,null,null,null,null,null,null,null,null,null,null,null,{"$f":"SUM(E8:Z8)","v":0}]
[null,"PERSONAL DE OTRAS ENTIDADES",0,null,0,0,null,null,null,null,null,null,null,null,null,null,null,null,null,null,null,null,null,null,null,null,{"$f":"SUM(E9:Z9)","v":0}]
[null,"1.1. PERSONAL CIENTÍFICO Y DE APOYO",null,null,{"$f":"SUM(E12:E12)","v":0},{"$f":"SUM(F12:F12)","v":0},0,0,0,0,0,0,0,0,0,0,0,0,0,0,0,0,0,0,0,0,{"$f":"SUM(E10:Z10)","v":0}]
[null,"RUBROS","CÓDIGO","JUSTIFICACIÓN",null,null,null,null,null,null,null,null,null,null,null,null,null,null,null,null,null,null,null,null,null,null,0,null,null,null,null,null,null,null,null,null,null,null,null,null,null,null,null,null,null,null,null,null,null,null,null,null,"ID Rubro","RUBRO","Fila"]
[611401,"Personal",611401,null,{"$f":"VLOOKUP($A12,Dt_Pres2,3,0)","v":0},{"$f":"VLOOKUP($A12,Dt_Pres2,6,0)","v":0},null,null,null,null,null,null,null,null,null,null,null,null,null,null,null,null,null,null,null,null,0,null,null,null,null,null,null,null,null,null,null,null,null,null,null,null,null,null,null,null,null,null,null,null,null,null,{"$f":"A12","v":611401},{"$f":"B12","v":"Personal"},{"$f":"ROW()","v":12}]
[null,"1.2. ESTIMULO A ESTUDIANTES",null,null,{"$f":"SUM(E15:E16)","v":0},{"$f":"SUM(F15:F16)","v":0},0,0,0,0,0,0,0,0,0,0,0,0,0,0,0,0,0,0,0,0,0,null,null,null,null,null,null,null,null,null,null,null,null,null,null,null,null,null,null,null,null,null,null,null,null,null,{"$f":"A13","v":0},{"$f":"B13","v":"1.2. ESTIMULO A ESTUDIANTES"},{"$f":"ROW()","v":13}]
[null,"RUBROS",null,"JUSTIFICACIÓN",null,null,null,null,null,null,null,null,null,null,null,null,null,null,null,null,null,null,null,null,null,null,0,null,null,null,null,null,null,null,null,null,null,null,null,null,null,null,null,null,null,null,null,null,null,null,null,null,0,"RUBROS",{"$f":"ROW()","v":14}]
[612122,"Estímulo a estudiantes Pregrado",612122,null,{"$f":"VLOOKUP($A15,Dt_Pres2,3,0)","v":0},{"$f":"VLOOKUP($A15,Dt_Pres2,6,0)","v":0},null,null,null,null,null,null,null,null,null,null,null,null,null,null,null,null,null,null,null,null,0,null,null,null,null,null,null,null,null,null,null,null,null,null,null,null,null,null,null,null,null,null,null,null,null,null,612122,"Estímulo a estudiantes Pregrado",{"$f":"ROW()","v":15}]
[612123,"Estímulo a estudiantes Posgrado",612123,null,{"$f":"VLOOKUP($A16,Dt_Pres2,3,0)","v":0},{"$f":"VLOOKUP($A16,Dt_Pres2,6,0)","v":0},null,null,null,null,null,null,null,null,null,null,null,null,null,null,null,null,null,null,null,null,0,null,null,null,null,null,null,null,null,null,null,null,null,null,null,null,null,null,null,null,null,null,null,null,null,null,612123,"Estímulo a estudiantes Posgrado",{"$f":"ROW()","v":16}]
[null,"1.3. EQUIPOS Y SOFTWARE",null,null,{"$f":"SUM(E19:E23)","v":0},{"$f":"SUM(F19:F22)","v":0},0,0,0,0,0,0,0,0,0,0,0,0,0,0,0,0,0,0,0,0,0,null,null,null,null,null,null,null,null,null,null,null,null,null,null,null,null,null,null,null,null,null,null,null,null,null,0,"1.3. EQUIPOS Y SOFTWARE",{"$f":"ROW()","v":17}]
[null,"RUBROS",null,"JUSTIFICACIÓN",null,null,null,null,null,null,null,null,null,null,null,null,null,null,null,null,null,null,null,null,null,null,0,null,null,null,null,null,null,null,null,null,null,null,null,null,null,null,null,null,null,null,null,null,null,null,null,null,0,"RUBROS",{"$f":"ROW()","v":18}]
[632,"Equipos y Mobiliario (Equipos)",632,null,{"$f":"VLOOKUP($A19,Dt_Pres2,3,0)","v":0},{"$f":"VLOOKUP($A19,Dt_Pres2,6,0)","v":0},null,null,null,null,null,null,null,null,null,null,null,null,null,null,null,null,null,null,null,null,0,null,null,null,null,null,null,null,null,null,null,null,null,null,null,null,null,null,null,null,null,null,null,null,null,null,632,"Equipos y Mobiliario (Equipos)",{"$f":"ROW()","v":19}]
[612102,"Software",612102,null,{"$f":"VLOOKUP($A20,Dt_Pres2,3,0)","v":0},{"$f":"VLOOKUP($A20,Dt_Pres2,6,0)","v":0},null,null,null,null,null,null,null,null,null,null,null,null,null,null,null,null,null,null,null,null,0,null,null,null,null,null,null,null,null,null,null,null,null,null,null,null,null,null,null,null,null,null,null,null,null,null,612102,"Software",{"$f":"ROW()","v":20}]
[612101,"Materiales",612101,null,{"$f":"VLOOKUP($A21,Dt_Pres2,3,0)","v":0},{"$f":"VLOOKUP($A21,Dt_Pres2,6,0)","v":0},null,null,null,null,null,null,null,null,null,null,null,null,null,null,null,null,null,null,null,null,0,null,null,null,null,null,null,null,null,null,null,null,null,null,null,null,null,null,null,null,null,null,null,null,null,null,612101,"Materiales",{"$f":"ROW()","v":21}]
["612101-1","Papelería","612101-1",null,{"$f":"Presupuesto!P56","v":0},{"$f":"_xlfn.IFNA(VLOOKUP($A22,Dt_Pres2,6,0),0)","v":0},null,null,null,null,null,null,null,null,null,null,null,null,null,null,null,null,null,null,null,null,0,null,null,null,null,null,null,null,null,null,null,null,null,null,null,null,null,null,null,null,null,null,null,null,null,null,{"$f":"-BA21","v":-612101},"Papelería",{"$f":"ROW()","v":22}]
[636012,"Licenciamiento","PIC005",null,{"$f":"VLOOKUP($A23,Dt_Pres2,3,0)","v":0},{"$f":"VLOOKUP($A23,Dt_Pres2,6,0)","v":0},null,null,null,null,null,null,null,null,null,null,null,null,null,null,null,null,null,null,null,null,{"$f":"SUM(E23:Z23)","v":0},null,null,null,null,null,null,null,null,null,null,null,null,null,null,null,null,null,null,null,null,null,null,null,null,null,636012,"Licenciamiento",{"$f":"ROW()","v":23}]
[null,"1.4. SALIDAS DE CAMPO Y MOVILIDAD",null,null,{"$f":"SUM(E26)","v":0},{"$f":"SUM(F26)","v":0},{"$f":"SUM(G26)","v":0},{"$f":"SUM(H26)","v":0},0,0,0,0,0,0,0,0,0,0,0,0,0,0,0,0,0,0,0,null,null,null,null,null,null,null,null,null,null,null,null,null,null,null,null,null,null,null,null,null,null,null,null,null,0,"1.4. SALIDAS DE CAMPO Y MOVILIDAD",{"$f":"ROW()","v":24}]
[null,"RUBROS",null,"JUSTIFICACIÓN",null,null,null,null,null,null,null,null,null,null,null,null,null,null,null,null,null,null,null,null,null,null,0,null,null,null,null,null,null,null,null,null,null,null,null,null,null,null,null,null,null,null,null,null,null,null,null,null,0,"RUBROS",{"$f":"ROW()","v":25}]
[612104,"Salidas de campo",612104,null,{"$f":"VLOOKUP($A26,Dt_Pres2,3,0)","v":0},{"$f":"VLOOKUP($A26,Dt_Pres2,6,0)","v":0},null,null,null,null,null,null,null,null,null,null,null,null,null,null,null,null,null,null,null,null,{"$f":"SUM(E26:Z26)","v":0},null,null,null,null,null,null,null,null,null,null,null,null,null,null,null,null,null,null,null,null,null,null,null,null,null,612104,"Salidas de campo",{"$f":"ROW()","v":26}]
[null,"1.5. MATERIALES Y SERVICIOS TÉCNICOS",null,null,{"$f":"SUM(E29)","v":0},{"$f":"SUM(F29)","v":0},0,0,0,0,0,0,0,0,0,0,0,0,0,0,0,0,0,0,0,0,0,null,null,null,null,null,null,null,null,null,null,null,null,null,null,null,null,null,null,null,null,null,null,null,null,null,0,"1.5. MATERIALES Y SERVICIOS TÉCNICOS",{"$f":"ROW()","v":27}]
[null,"RUBROS",null,"JUSTIFICACIÓN",null,null,null,null,null,null,null,null,null,null,null,null,null,null,null,null,null,null,null,null,null,null,0,null,null,null,null,null,null,null,null,null,null,null,null,null,null,null,null,null,null,null,null,null,null,null,null,null,0,"RUBROS",{"$f":"ROW()","v":28}]
[612103,"Servicios Técnicos",612103,null,{"$f":"VLOOKUP($A29,Dt_Pres2,3,0)","v":0},{"$f":"VLOOKUP($A29,Dt_Pres2,6,0)","v":0},null,null,null,null,null,null,null,null,null,null,null,null,null,null,null,null,null,null,null,null,{"$f":"SUM(E29:Z29)","v":0},null,null,null,null,null,null,null,null,null,null,null,null,null,null,null,null,null,null,null,null,null,null,null,null,null,612103,"Servicios Técnicos",{"$f":"ROW()","v":29}]
[null,"1.6. PUBLICACIONES Y DIFUSIÓN DE RESULTADOS",null,null,{"$f":"SUM(E32:E33)","v":0},{"$f":"SUM(F32:F33)","v":0},0,0,0,0,0,0,0,0,0,0,0,0,0,0,0,0,0,0,0,0,0,null,null,null,null,null,null,null,null,null,null,null,null,null,null,null,null,null,null,null,null,null,null,null,null,null,0,"1.6. PUBLICACIONES Y DIFUSIÓN DE RESULTADOS",{"$f":"ROW()","v":30}]
[null,"RUBROS",null,"JUSTIFICACIÓN",null,null,null,null,null,null,null,null,null,null,null,null,null,null,null,null,null,null,null,null,null,null,0,null,null,null,null,null,null,null,null,null,null,null,null,null,null,null,null,null,null,null,null,null,null,null,null,null,0,"RUBROS",{"$f":"ROW()","v":31}]
[633,"Recursos bibliográficos",633,null,{"$f":"VLOOKUP($A32,Dt_Pres2,3,0)","v":0},{"$f":"VLOOKUP($A32,Dt_Pres2,6,0)","v":0},null,null,null,null,null,null,null,null,null,null,null,null,null,null,null,null,null,null,null,null,0,null,null,null,null,null,null,null,null,null,null,null,null,null,null,null,null,null,null,null,null,null,null,null,null,null,633,"Recursos bibliográficos",{"$f":"ROW()","v":32}]
[635020,"Movilidad",635020,null,{"$f":"VLOOKUP($A33,Dt_Pres2,3,0)","v":0},{"$f":"VLOOKUP($A33,Dt_Pres2,6,0)","v":0},null,null,null,null,null,null,null,null,null,null,null,null,null,null,null,null,null,null,null,null,{"$f":"SUM(E33:Z33)","v":0},null,null,null,null,null,null,null,null,null,null,null,null,null,null,null,null,null,null,null,null,null,null,null,null,null,{"$f":"A33","v":635020},"Movilidad",{"$f":"ROW()","v":33}]
[null,"TOTAL",3,{"$f":"$AA$34","v":0},{"$f":"SUM(E10,E13,E17,E24,E27,E30)","v":0},{"$f":"SUM(F10,F13,F17,F24,F27,F30)","v":0},0,0,0,0,0,0,0,0,0,0,0,0,0,0,0,0,0,0,0,0,{"$f":"SUM(E34:Z34)","v":0},null,null,null,null,null,null,null,null,null,null,null,null,null,null,null,null,null,null,null,null,null,null,null,null,null,0,"TOTAL",{"$f":"ROW()","v":34}]
[null,null,null,null,null,null,null,null,null,null,null,null,null,null,null,null,null,null,null,null,null,null,null,null,null,null,null,null,null,null,null,null,null,null,null,null,null,null,null,null,null,null,null,null,null,null,null,null,null,null,null,null,0,0,{"$f":"ROW()","v":35}]
[]
[]
[]
[]
[]
[]
[]
[]
[]
[]
[]
[]
[null,{"$f":"COLUMN()","v":2},{"$f":"COLUMN()","v":3},{"$f":"COLUMN()","v":4},{"$f":"COLUMN()","v":5},{"$f":"COLUMN()","v":6},{"$f":"COLUMN()","v":7},{"$f":"COLUMN()","v":8},{"$f":"COLUMN()","v":9},{"$f":"COLUMN()","v":10},{"$f":"COLUMN()","v":11},{"$f":"COLUMN()","v":12},{"$f":"COLUMN()","v":13},{"$f":"COLUMN()","v":14},{"$f":"COLUMN()","v":15},{"$f":"COLUMN()","v":16},{"$f":"COLUMN()","v":17},{"$f":"COLUMN()","v":18},{"$f":"COLUMN()","v":19},{"$f":"COLUMN()","v":20},{"$f":"COLUMN()","v":21},{"$f":"COLUMN()","v":22},{"$f":"COLUMN()","v":23},{"$f":"COLUMN()","v":24},{"$f":"COLUMN()","v":25},{"$f":"COLUMN()","v":26},{"$f":"COLUMN()","v":27}]

{"sheet":"Presupuesto","index":1,"n_rows":168,"n_cols":30,"rows_kept":168,"cut":false,"hidden":false,"merged":[[112,1,114,1],[115,1,117,1],[2,1,3,6],[6,3,6,8],[7,3,7,5],[7,7,7,8],[109,1,111,1],[8,3,8,8],[118,1,120,1],[121,1,123,1],[159,3,160,3],[159,4,160,8],[133,1,135,1],[136,1,138,1],[139,1,141,1],[142,1,144,1],[145,1,147,1],[124,1,126,1],[127,1,129,1],[130,1,132,1],[157,3,157,8]]}
[9,null,null,null,null,null,null,null,null,null,null,null,null,null,null,null,null,null,"Tabla de Topes",null,null,"Validación",{"$f":"IF(P2=\"INV\",2,3)","v":3},null,"Productividad Vs Presupuesto"]
[null,null,null,null,null,null,null,null,null,null,null,null,"1.-> Limite presupuestal",{"$f":"IF(MIN(N6:P6)<1, 15000000,MIN(N6:P6))","v":5000000},{"$f":"N2/M6","v":5},{"$f":"H10","v":"PIC"},null,"Clasif","INV","IMP",null,"C",{"$f":"IFERROR(VLOOKUP($V2,$R$2:$T$9,W$1,0),0)","v":0},null,{"$f":"INT(W8/10)*10","v":40},"Pts","$$$$"]
[null,"PRESENTACIÓN DE PROYECTOS \nDE INVESTIGACIÓN",null,null,null,null,null,"Fecha de Emisión: 2019/03/18","IN-IV-F-14",null,null,null,null,"Limite Grupo","Limite Producto","Limite Convo",null,"A",70,0,null,"",{"$f":"IFERROR(VLOOKUP($V3,$R$2:$T$9,W$1,0),0)","v":0},null,{"$f":"IF($Y$2>Z3,0,1)","v":0},39,15]
[null,null,null,null,null,null,null,"Revisión N°:\n4","Página 9 de 11",null,null,null,"Mayor Grupo",{"$f":"IF($H$10=\"INV\",AB47,P4)","v":5},{"$f":"VLOOKUP(1,$Y$2:$AA$10,3,0)","v":30},{"$f":"VLOOKUP($P$2,U50:$V$61,2,0)","v":5},null,"A1",70,0,null,"",{"$f":"IFERROR(VLOOKUP($V4,$R$2:$T$9,W$1,0),0)","v":0},null,{"$f":"IF($Y$2>Z4,0,1)","v":1},49,30]
[null,null,null,null,null,null,null,null,null,null,null,null,null,null,null,null,null,"B",60,0,null,null,{"$f":"IFERROR(VLOOKUP($V5,$R$2:$T$9,W$1,0),0)","v":0},null,{"$f":"IF($Y$2>Z5,0,1)","v":1},59,50]
[null,null,null,null,null,null,null,null,null,null,null,null,1000000,{"$f":"N4*M6","v":5000000},{"$f":"M6*O4","v":30000000},{"$f":"M6*P4","v":5000000},null,"C",50,0,null,null,null,null,{"$f":"IF($Y$2>Z6,0,1)","v":1},79,60]
[null,"T","Título de la Propuesta :",null,null,null,null,null,null,null,null,null,null,null,null,null,null,"R",30,0,null,null,null,null,{"$f":"IF($Y$2>Z7,0,1)","v":1},80,70]
[null,"L","Líder responsable",null,null,null,"Código VICEIN:","",null,null,null,null,null,null,null,null,null,"NR",15,0,null,"Pts",{"$f":"G10","v":40},null,{"$f":"IF($Y$2<Z8,0,1)","v":0},200,220]
[null,null,"Grupo",null,null,null,null,null,null,null,null,null,null,null,null,null,null,"NA",0,0]
["12.-","Presupuesto rubro personal asocidado a la propuesta",null,null,null,null,40,"PIC",0,null,{"$f":"IFERROR(AA47,\"Sin Grupo\")","v":0},{"$f":"IFERROR(VLOOKUP($I$10,$X$51:$Y$59,2,0),\"-\")","v":"OP!Q3:Q79"}]
[null,null,null,null,null,null,null,null,{"$f":"ABS(MAX(D13:D23))","v":0}]
[null,"a.","Personal de planta o ocasional que integra al proyecto de investigación.",null,null,null,null,"Valores de Contrapartida."]
[{"$f":"ROW()","v":13},"N°","Sueldo Neto","Factor ","Tipo de Vinculo UMNG","Numero de meses ","Número Horas / Semanal","Valor Final","Identificación",4,null,"*tabla de consolidacion por año para proyectos IMP"]
[null,{"$f":"ROW()-$A$13","v":1},null,{"$f":"IF(OR($E14=$M$15,$E14=$M$16),1.7,IF($E14=$M$17,1.5,0))","v":0},null,null,null,{"$f":"IFERROR(INT(((C14*F14)/40)*G14*$D$14),0)","v":0},null,9,null,0,"Tipo Vinculo UMNG","Año1","Año2",null,"Validación Presupuestal"]
[null,{"$f":"ROW()-$A$13","v":2},null,{"$f":"IF(OR($E15=$M$15,$E15=$M$16),1.7,IF($E15=$M$17,1.5,0))","v":0},null,null,null,{"$f":"IFERROR(INT(((C15*F15)/40)*G15*$D$14),0)","v":0},null,{"$f":"J14+$J$13","v":13},null,1,"Doc. Carrera TC",{"$f":"(SUMIF($E$14:$E$23,$M15,$H$14:$H$23)/2)","v":0},{"$f":"N15","v":0},null,{"$f":"\"Validación de \"&M38","v":"Validación de (Au.) -Auxiliar Pregrado"},null,"Ajustado por adenda no 2"]
[null,3,null,0,null,null,null,0,null,{"$f":"J15+$J$13","v":17},null,2,"Doc. Carrera MT",{"$f":"(SUMIF($E$14:$E$23,$M16,$H$14:$H$23)/2)","v":0},{"$f":"N16","v":0},null,"Parte","Cntidad","por uno solo","Debe ser","Error de Asistente"]
[null,4,null,0,null,null,null,0,null,21,null,3,"Doc. Ocasional",{"$f":"SUMIF($E$14:$E$23,$M17,$H$14:$H$23)","v":0},0,null,"No de AU Preg",{"$f":"COUNTIF($E$29:$E$44,$M$38)","v":0},null,1,0,null,null,25,0.1,null,0.05]
[null,5,null,0,null,null,null,0,null,25,null,1,"Contrapartida Facultad  IMP:",{"$f":"SUM(N15:N17)","v":0},{"$f":"SUM(O15:O17)","v":0},null,"No Horas",{"$f":"SUMIF($E$29:$E$43,$M$38,G29:G43)","v":0},{"$f":"IFERROR(R18/R17,0)","v":0},20,{"$f":"IF(S18<=T18,0,1)","v":0},null,null,50,0.1,null,0.1]
[null,6,null,0,null,null,null,0,null,29,null,2,"Contrapartida Facultad  INV:",{"$f":"SUM(N15:O17)","v":0},null,null,"No Meses",{"$f":"SUMIF($E$29:$E$43,$M$38,F29:F43)","v":0},{"$f":"IFERROR(R19/R17,0)","v":0},6,{"$f":"IF(S19=T19,0,1)","v":1},null,null,75,0.1,null,0.15]
[null,7,null,0,null,null,null,0,null,33,null,null,null,null,null,null,null,null,null,"Si  es Mas de 1 tiene problema en Auxiliar de pregrado --->>",{"$f":"SUM(U17:U19)","v":1},null,null,100,0.1,null,0.15]
[null,8,null,0,null,null,null,0,null,37,null,null,null,null,null,null,"Estiimulo a estudiantes",null,{"$f":"IFERROR(INT(N2/1000000),0)","v":5},{"$f":"SUM(R36:R40)","v":0},{"$f":"IFERROR(T21/N2,\"-\")","v":0},null,null,250,0.1,null,0.15]
[null,9,null,0,null,null,null,0,null,41,null,null,null,null,null,null,"Limite inferior de estimulo a estudiantes",null,null,{"$f":"(S21*1000000)*U22","v":450000},0.09]
[null,10,null,0,null,null,null,0,null,45,null,null,null,null,null,null,null,null,null,{"$f":"ABS(T22-T21)","v":450000}]
[null,null,"Sumatoria del calculo de personal de planta \"Valor contrapartida Facultades\":Diligenciado VICEIN",null,null,null,null,{"$f":"IFERROR(INT(SUBTOTAL(109,H14:H23)),0)","v":0},"Integrantes!",null,null,null,"Incremento al salario"]
[null,null,null,null,null,null,null,null,null,null,null,null,0,null,null,{"$f":"(J26/6)/6","v":0}]
[null,"b. ","Asistentes externos o temporales contratados OPS y Estimulo Estudiantes.",null,null,null,null,null,null,null,{"$f":"IFERROR(VLOOKUP($E26,Dt_OPS,3,0)/10,0)","v":0},null,"Valor SMLV","Max Mes"]
[null,">","Salario  Mínimo Legal Vigente (SMIV) : ",null,null,1300000,null,null,null,null,null,null,{"$f":"F27*(1+M25)","v":1300000},10]
[]
[{"$f":"ROW()","v":29},"No","Valor mensual","Factor Salarial","Tipo de vinculación",{"$f":"\"Numero de meses\"","v":"Numero de meses"},"Número Horas / Semanal","Valor total","Valores  de entidades externas","Máximos","(Au.) ","No","Tipo","Valor total del contrato (10 mes)","SMMLV por 10 Meses","Valor mes contrato","Hay","Hay en $","Contra",null,null,"Valor mes contrato",null,"Va desde hasta","Salarios Minimos",null,"Figuras","arranca desde","Maximo Factor"]
[null,{"$f":"ROW()-$A$29","v":1},{"$f":"IFERROR(H30/F30,0)","v":0},{"$f":"IFERROR(VLOOKUP($E30,Dt_OPS,3,0)/10,0)","v":0},null,10,"No Aplica",{"$f":"INT(IF($E30=$M$38,J30,$F$27*D30*F30))","v":0},null,{"$f":"IF($E30=$M$38,K30,IFERROR(VLOOKUP($E30,$M$29:$O$40,2,0),0)*IF($H$10=\"IMP\",2,1))","v":0},{"$f":"IFERROR(IF(FIND($K$29,$E30,1)=1,VLOOKUP($E30,$M$38:$AC$40,2,0),0),0)/IF($E30=$M$38,10,1)","v":0},1,"(A.I.) -Técnico",{"$f":"$M$27*O30","v":13000000},10,{"$f":"N30/10","v":1300000},{"$f":"COUNTIF($E$29:$E$44,$M30)","v":0},{"$f":"SUMIF($E$30:$E$44,$M30,$H$30:$H$44)","v":0},null,null,null,1475434,null,{"$f":"\"Y\"&ROW()","v":"Y30"},6,null,{"$f":"E30","v":0},{"$f":"IFERROR(VLOOKUP($AA30,$M$29:$S$40,7,0)/10,0)","v":0},{"$f":"IFERROR(VLOOKUP($AA30,$M$29:$R$40,3,0)/IF($AA30=$M$38,6,10),0)","v":0}]
[null,{"$f":"ROW()-$A$29","v":2},{"$f":"IFERROR(H31/F31,0)","v":0},0,null,10,"No Aplica",0,null,0,0,2,"(A.I.) -Profesional",19500000,15,1950000,0,0,null,null,null,2582009.5,null,{"$f":"\"Y\"&ROW()","v":"Y31"},{"$f":"Y30-0.5","v":5.5},null,0,{"$f":"IFERROR(VLOOKUP($AA31,$M$29:$S$40,7,0)/10,0)","v":0},{"$f":"IFERROR(VLOOKUP($AA31,$M$29:$R$40,3,0)/IF($AA31=$M$38,6,10),0)","v":0}]
[null,3,0,0,null,10,"No Aplica",0,null,0,0,3,"(A.I.) -Profesional especilizado",23400000,18,2340000,0,0,null,null,null,2950868,null,"Y32",{"$f":"Y31-0.5","v":5},null,0,0,0]
[null,4,0,0,null,10,"No Aplica",0,null,0,0,4,"(A.I.) -Profesional magister",26000000,20,2600000,0,0,null,null,null,3319726.5,null,"Y33",4.5,null,0,0,0]
[null,5,0,0,null,10,"No Aplica",0,null,0,0,5,"(A.I.) -Profesional doctorado",39000000,30,3900000,0,0,null,null,null,4057443.5,null,"Y34",4,null,0,0,0]
[null,6,0,0,null,10,"No Aplica",0,null,0,0,6,"(J.I)  -Joven investigador",26000000,20,2600000,0,0,null,null,null,2582009.5,null,"Y35",3.5,null,0,0,0]
[null,7,0,0,null,10,"No Aplica",0,null,0,0,7,"(A.G) -Asistente graduado Mg.",32500000,25,3250000,0,0,null,null,null,3688585,null,"Y36",3,null,0,0,0]
[null,8,0,0,null,10,"No Aplica",0,null,0,0,8,"(A.G) -Asistente graduado Dr.",58500000,45,5850000,0,0,null,null,null,5164019,null,"Y37",2.5,null,0,0,0]
[null,9,0,0,null,10,"No Aplica",0,null,0,0,9,"(Au.) -Auxiliar Pregrado",39000000,30,{"$f":"F27*3","v":3900000},0,0,null,null,null,"NA",null,"Y38",2,null,0,0,0]
[null,10,0,0,null,10,"No Aplica",0,null,0,0,10,"(Au.) -Auxiliar Postgrado Mg.",19500000,15,{"$f":"N39/5","v":3900000},0,0,null,null,null,"NA",null,"Y39",1.5,null,0,0,0]
[null,11,0,0,null,10,"No Aplica",0,null,0,0,11,"(Au.) -Auxiliar Postgrado Dr.",32500000,25,{"$f":"N40/5","v":6500000},0,0,null,null,null,"NA",null,"Y40",1,null,0,0,0]
[null,12,0,0,null,10,"No Aplica",0,null,0,0,null,null,"Salario 12 meses",null,null,null,null,null,null,null,null,null,"Y41",0.5,null,0,0,0]
[null,13,0,0,null,10,"No Aplica",0,null,0,0,null,null,null,null,null,null,null,null,null,null,null,null,null,null,null,0,0,0]
[null,14,0,0,null,0,"No Aplica",0,null,0,0,null,"Joven investigador Colciencias",{"$f":"M27*3*12","v":46800000},null,null,"Elimino Hojas =>","NO",null,null,null,null,null,null,null,null,0,0,0]
[null,{"$f":"14-COUNTIF(E30:E43,\"\")","v":0},"Sumatoria del cálculo de OPS  \"Valor financiado Vicein\" en rubro de (Personal):",null,null,null,{"$f":"IF(H44>N2,\"Esta superando el total de presupuesto\",\"\")","v":""},{"$f":"IFERROR(INT(SUM(H30:H43)),0)","v":0},0,{"$f":"IFERROR(VLOOKUP($E44,$M$29:$O$40,2,0),0)*IF($H$10=\"IMP\",2,1)","v":0}]
[null,null,null,null,null,null,null,null,null,null,null,null,{"$f":"L84","v":"."}]
["13.-","Presupuesto detalle de Plan de compras general   .- La siguiente tabla debe diligenciarse manualmente ya que no arrastra informacion de  otros campos",null,null,null,null,null,null,null,null,null,null,null,null,null,null,null,null,null,null,null,null,null,null,null,null,"Validación INV presupuesto Grupo"]
[null,null,null,null,null,null,null,null,null,null,null,null,null,null,null,null,null,null,null,null,null,null,null,null,null,null,{"$f":"IFERROR(VLOOKUP($D$9,OP!$Q$2:$S$79,3,0),0)","v":0},{"$f":"IFERROR(VLOOKUP($AA$47,$AA$50:$AB$57,2,0),MIN(AB50:AB57))","v":30}]
[null," ",null,null,null,null,null,null,null,null,null,null,null,"Total Solicitado :===>",null,{"$f":"IF(G102=0,P50,G102)","v":5000000}]
[null,null,null,null,null,null,null,null,null,null,null,"Consulte sobre los items"]
[{"$f":"ROW()","v":50},"No","Rubro / Destino","Año de Vigencia","Descripción (Entidad- Actividad)","DANE / Contraloria","Finaciación Vicein $",{"$f":"G109","v":"$ Contrapartida Facultad"},"Contrapartida Otros $","DANE/IA",null,"No","Nombre Rubro","Rubro","Limite%",{"$f":"N2","v":5000000},"Solicitado $Vicein","Limites de topes","Contrapartida FAC","Tipos de Vinculacion","Tipos de Proyectos","Topes Convocatoria",null,"Fac",null,null,"Nivel Grupo","Presupuetso",null,"Rubros habilitados "]
[null,{"$f":"ROW()-$A$50","v":1},"Personal",1,"Contrapartida definida por VICEIN (No Habilitado)",null,0,{"$f":"IF(H10=\"INV\",N19,N18)","v":0},null,0,null,{"$f":"ROW()-50","v":1},"Personal",611401,0,{"$f":"SUMIF($C$50:$C$101,$M51,$G$50:$G$101)","v":0},{"$f":"P51/$P$50","v":0},{"$f":"($P$50/100)*O51*100","v":0},{"$f":"SUMIF($C$50:$C$101,$M51,$H$50:$H$101)","v":0},"Doc. Carrera TC","PIC",5,null,{"$f":"OP!V3","v":"CIAS"},{"$f":"OP!Y3","v":"OP!Q3:Q19"},null,"Categoría C",50,null,{"$f":"M55","v":"Materiales"}]
[null,{"$f":"ROW()-$A$50","v":2},null,1,null,null,null,null,null,0,null,{"$f":"ROW()-50","v":2},"Equipos",632,0,0,{"$f":"P52/$P$48","v":0},{"$f":"($P$48/100)*O52*100","v":0},{"$f":"SUMIF($C$50:$C$101,$M52,$H$50:$H$101)","v":0},"Doc. Carrera MT","INV",70,null,{"$f":"OP!V4","v":"DER"},{"$f":"OP!Y4","v":"OP!Q20:Q22"},null,"Categoría A1",70,null,{"$f":"M56","v":"Materiales (Papelería)"}]
[null,3,null,1,null,null,null,null,null,0,null,3,"Equipos en proceso",632,0,0,0,0,0,"Doc. Ocasional","IMP",220,null,{"$f":"OP!V5","v":"DIS"},{"$f":"OP!Y5","v":"OP!Q23:Q29"},null,"Categoría A",70,null,{"$f":"M58","v":"Servicios Técnicos"}]
[null,4,null,1,null,null,null,null,null,0,null,4,"Software",612102,0,0,0,0,0,"Externo a la UMNG","MI",100,null,{"$f":"OP!V6","v":"ECO"},{"$f":"OP!Y6","v":"OP!Q30:Q33"},null,"Categoría B",60,null,{"$f":"M59","v":"Recursos Biblograficos"}]
[null,5,null,1,null,null,null,null,null,0,null,5,"Materiales",612101,1,0,0,5000000,0,"OPS - Prestación Servicios","EXT",1000,null,{"$f":"OP!V7","v":"EES"},{"$f":"OP!Y7","v":"OP!Q34:Q35"},null,"No Reconocido",30]
[null,6,null,1,null,null,null,null,null,0,null,6,"Materiales (Papelería)",-612101,0.2,0,{"$f":"P56/$P$48","v":0},{"$f":"($P$48/100)*O56*100","v":1000000},0,"Estímulo a estudiante","PRO",1,null,{"$f":"OP!V8","v":"HUM"},{"$f":"OP!Y8","v":"OP!Q36:Q39"}]
[null,7,null,1,null,null,null,null,null,0,null,7,"Salidas de Campo",612104,0,0,{"$f":"P57/$P$48","v":0},{"$f":"($P$48/100)*O57*100","v":0},0,"Auxiliar  de Investigación","INO",100,null,{"$f":"OP!V9","v":"ING"},{"$f":"OP!Y9","v":"OP!Q40:Q59"}]
[null,8,null,1,null,null,null,null,null,0,null,8,"Servicios Técnicos",612103,0.5,0,0,2500000,0,null,"EMP",100,null,{"$f":"OP!V10","v":"MED"},{"$f":"OP!Y10","v":"OP!Q60:Q79"}]
[null,9,null,1,null,null,null,null,null,0,null,9,"Recursos Biblograficos",633,1,0,0,5000000,0,null,"PRO",100,null,{"$f":"OP!V11","v":0},{"$f":"OP!Y11","v":"OP!Q3:Q79"}]
[null,10,null,1,null,null,null,null,null,0,null,10,"Estímulo a estudiantes Pregrado",612122,0,0,{"$f":"P60/$P$48","v":0},{"$f":"($P$48/100)*O60*100","v":0},0,null,"DOC",100]
[null,11,null,1,null,null,null,null,null,0,null,11,"Estímulo a estudiantes Posgrado",612123,0,0,0,0,0]
[null,12,null,1,null,null,null,null,null,0,null,12,"Movilidad",635020,0,0,{"$f":"P62/$P$48","v":0},{"$f":"($P$48/100)*O62*100","v":0},0]
[null,13,null,1,null,null,null,null,null,0,null,13,"Licencias por suscripción",636012,0,0,0,0,0]
[null,14,null,1,null,null,null,null,null,0,null,14,"Viajes",612105,null,null,0,null,0]
[null,15,null,1,null,null,null,null,null,0,null,15,"Mantenimiento",null,null,null,0,null,0]
[null,16,null,1,null,null,null,null,null,0,null,16,"Administración",612118,null,null,0,null,0]
[null,17,null,1,null,null,null,null,null,0,null,17,"Construcciones",631,null,null,0,null,0]
[null,18,null,1,null,null,null,null,null,0,null,18,"Otros Gastos",212119,null,null,0,null,0]
[null,19,null,1,null,null,null,null,null,0,null,null,"Si cambio"]
[null,20,null,1,null,null,null,null,null,0]
[null,21,null,1,null,null,null,null,null,0]
[null,22,null,1,null,null,null,null,null,0,null,"Cuadro de Validaciones Prespuestales"]
[null,23,null,1,null,null,null,null,null,0,null,"c","Descripcion","Descrip 2","Detalles","Valor 1","Valor 2"]
[null,24,null,1,null,null,null,null,null,0,null,"1A","Personal de estimulo a estudiantes",null,"Sumatoria :=>",{"$f":"SUM(P60:P61)","v":0},{"$f":"P74/P75","v":0}]
[null,25,null,1,null,null,null,null,null,0,null,"1B","Personal de estimulo a estudiantes",null,"Minimo por tope",{"$f":"N2*0.09","v":450000},{"$f":"P75-P74","v":450000}]
[null,26,null,1,null,null,null,null,null,0,null,"2a","Diferencias personal OPS o Contratos y plan compras",null,"se debe cargar todo",{"$f":"INT(H44)","v":0},{"$f":"INT(SUM(P51,P60:P61))","v":0},{"$f":"P76-Q76","v":0}]
[null,27,null,1,null,null,null,null,null,0,null,"3a","Maximo en Equipos",null,null,{"$f":"P52-R52","v":0},{"$f":"Q52","v":0}]
[null,28,null,1,null,null,null,null,null,0,null,"4a","Maximo en Papaleria",null,null,{"$f":"P56-R56","v":-1000000},{"$f":"Q56","v":0}]
[null,29,null,1,null,null,null,null,null,0,null,"5a","Maximo en salida de campo",null,null,{"$f":"P57-R57","v":0},{"$f":"Q57","v":0}]
[null,30,null,1,null,null,null,null,null,0,null,"6a","Maximo en Movilidad",null,null,{"$f":"P62-R62","v":0},{"$f":"Q62","v":0}]
[null,31,null,1,null,null,null,null,null,0,null,"7a","Diferencia entre Pregrado - y Postgrado",null,null,{"$f":"SUM(R39:R40)","v":0},{"$f":"P61","v":0}]
[null,32,null,1,null,null,null,null,null,0]
[null,33,null,1,null,null,null,null,null,0]
[null,34,null,1,null,null,null,null,null,0,null,{"$f":"VLOOKUP($P$85,$L$87:$P$109,2,0)","v":"."},null,null,null,"Error:"]
[null,35,null,1,null,null,null,null,null,0,null,"Cuadro Validación Errores",null,null,null,{"$f":"IFERROR(MAX(P87:P142),0)","v":0}]
[null,36,null,1,null,null,null,null,null,0]
[null,37,null,1,null,null,null,null,null,0,null,"No","Descripción ","Validación","Formula","Estado"]
[null,38,null,1,null,null,null,null,null,0,null,0,".","Sin Error",0,0]
[null,39,null,1,null,null,null,null,null,0,null,1,"Error : Supera el monto máximo del tipo de convocatoria",null,{"$f":"F156>N2","v":false},{"$f":"IF(O89,L89,0)","v":0}]
[null,40,null,1,null,null,null,null,null,0,null,2,{"$f":"\"Error: Falta incluir al rubro estimulo a estudiantes: \" &TEXT(O90-SUM(P60:P61),\"$###.###.###\")","v":"Error: Falta incluir al rubro estimulo a estudiantes: $"},{"$f":"H10","v":"PIC"},{"$f":"IF(N90=\"INV\",F156*0.09,0)","v":0},{"$f":"IF(SUM(P60:P61)<O90,L90,0)","v":0}]
[null,41,null,1,null,null,null,null,null,0,null,3,{"$f":"\"Error : Supera el monto máximo del tipo de convocatoria \"&TEXT(N91,\"$ ###.###.###\")","v":"Error : Supera el monto máximo del tipo de convocatoria $ "},{"$f":"IF(E156<F156,F156-E156,0)","v":0},{"$f":"IF(N91>0,L91,0)","v":0},{"$f":"O91","v":0}]
[null,42,null,1,null,null,null,null,null,0,null,4,{"$f":"\"Error : Presupuesto superado [Equipos]: \" & TEXT($O$92,\"$###.###.###\")","v":"Error : Presupuesto superado [Equipos]: $"},{"$f":"IF(P52>R52,1,0)","v":0},{"$f":"P52-R52","v":0},{"$f":"IF(O92>0,L92,0)","v":0}]
[null,43,null,1,null,null,null,null,null,0,null,5,{"$f":"\"Error : Presupuesto superado [Papelería]: \" & TEXT($O$93,\"$###.###.###\")","v":"Error : Presupuesto superado [Papelería]: -$1.000.000"},{"$f":"IF(P56>R56,1,0)","v":0},{"$f":"P56-R56","v":-1000000},{"$f":"IF(O93>0,L93,0)","v":0}]
[null,44,null,1,null,null,null,null,null,0,null,6,{"$f":"\"Error : Presupuesto superado [Salida de campo]: \" & TEXT($N$94,\"$###.###.###\")","v":"Error : Presupuesto superado [Salida de campo]: $"},{"$f":"P57-R57","v":0},{"$f":"IF(N94>0,1,0)","v":0},{"$f":"IF(O94=1,L94,0)","v":0}]
[null,45,null,1,null,null,null,null,null,0,null,7,{"$f":"\"Error : Presupuesto superado [Movilidad]: \" & TEXT($N$95,\"$###.###.###\")","v":"Error : Presupuesto superado [Movilidad]: $"},{"$f":"P62-R62","v":0},null,{"$f":"IF(N95>0,L95,0)","v":0}]
[null,46,null,1,null,null,null,null,null,0,null,8,"Pendiente Incluir presupuesto a rubro estimulo a estudiantes",{"$f":"SUM(P60:P61)","v":0},{"$f":"P38","v":3900000},{"$f":"IF(O96>N96,L96,0)*0","v":0}]
[null,47,null,1,null,null,null,null,null,0,null,9,"Pendiente Incluir presupuesto de externos",{"$f":"LEN(D158&E158)","v":0},null,{"$f":"IF(AND(N97>3,H156=0),L97,0)","v":0}]
[null,48,null,1,null,null,null,null,null,0,null,10,{"$f":"\"Error : Presupuesto Externo no esta diligenciado bien, Esta pendiente por defir externo : \"&TEXT(N98,\"$###.###.###\")","v":"Error : Presupuesto Externo no esta diligenciado bien, Esta pendiente por defir externo : $"},{"$f":"IF(N103>0,N104-SUM(G102:H102),0)","v":0},{"$f":"N104","v":0},{"$f":"IF(N98=0,0,L98)","v":0}]
[null,49,null,1,null,null,null,null,null,0]
[null,50,null,1,null,null,null,null,null,0]
[]
[null,null,"Sumatoria general de plan de compras :",null,null,{"$f":"SUM(G102:I102)","v":0},{"$f":"SUM(G103:G104)","v":0},{"$f":"SUM(H103:H104)","v":0},{"$f":"SUM(I103:I104)","v":0},null,null,null,"Total Presupuesto1",{"$f":"SUM(G102:I102)","v":0}]
[null,null,null,1,{"$f":"\"Total Presupuesto Año 1 \"&IF(H10=\"IMP\",\"IMP\",\"\")&\":\"","v":"Total Presupuesto Año 1 :"},null,{"$f":"IF(H9=\"INV\",0,SUMIF($D$51:$D$101,$D103,G$51:G$101))","v":0},{"$f":"SUMIF($D$51:$D$101,$D103,H$51:H$101)","v":0},{"$f":"SUMIF($D$51:$D$101,$D103,I$51:I$101)","v":0},null,null,null,"Total Pres (Fundanet )",{"$f":"O103-SUM(N106:N107)","v":0},{"$f":"IFERROR(INDIRECT(\"'Tabla Presupuesto Global'!D34\",1),0)","v":0},null,null,{"$f":"IFERROR(INDIRECT(\"'Tabla Presupuesto Global'!F34\",1),0)","v":0}]
[null,null,null,2,"Total Presupuesto Año 2 (IMP) :",null,{"$f":"IF(H10=\"INV\",0,SUMIF($D$51:$D$101,$D104,G$51:G$101))","v":0},{"$f":"IF(H10=\"INV\",0,SUMIF($D$51:$D$101,$D104,H$51:H$101))","v":0},{"$f":"IF(H10=\"INV\",0,SUMIF($D$51:$D$101,$D104,I$51:I$101))","v":0},null,null,null,"Diferencia ",{"$f":"N102-N103","v":0}]
[null,null,"Firma :_______________",null,{"$f":"IF(G105>0,\"Presupuesto por definir.\",\" Error  - Supero el presupuesto en : \")","v":"Presupuesto por definir."},null,{"$f":"E156-G102","v":5000000}]
[null,null,null,{"$f":"IF(H10=\"INV\",1,2)","v":2},"Límite de presupuesto VICEIN por año :",null,{"$f":"IFERROR(IF($H$10=\"IMP\",$P$6/2,$N$2),\"0\")","v":5000000},null,null,null,null,null,"Valor Fundanet - Vicein",{"$f":"IFERROR(INDIRECT(\"'Tabla Presupuesto Global'!E34\",1),0)","v":0}]
[null,null,null,null,null,null,null,null,null,null,null,null,"Valor Fundanet - Contrapartida",{"$f":"IFERROR(INDIRECT(\"'Tabla Presupuesto Global'!F34\",1),0)","v":0}]
[]
[null,"No","Rubro","%","Porcentaje","$ Financiación solicitada a VICEIN","$ Contrapartida Facultad","$ Contrapartida Externa","$ Total Rubro",0]
[null,1,{"$f":"C112","v":"Personal"},{"$f":"IFERROR(F110/F112,0)","v":0},{"$f":"D110","v":0},{"$f":"SUMIFS(G$50:G$101,$C$50:$C$101,$C110,$D$50:$D$101,$J110)","v":0},0,0,{"$f":"SUM(F110:H110)","v":0},1,{"$f":"IFERROR(VLOOKUP($B108,$L$50:$Q$68,4,0),0)","v":0}]
[null,1,{"$f":"C112","v":"Personal"},{"$f":"IFERROR(F110/F112,0)","v":0},0,0,0,0,0,2,null,null,null,null,null,null,null,null,null,{"$f":"SUM(I156)","v":0},{"$f":"S111-T111","v":0}]
[null,1,{"$f":"M51","v":"Personal"},{"$f":"IFERROR(VLOOKUP($B112,Dt_TblaPresu,6,0),0)","v":0},0,{"$f":"SUM(F110:F111)","v":0},{"$f":"SUM(G110:G111)","v":0},{"$f":"SUM(H110:H111)","v":0},0,3,{"$f":"IFERROR(VLOOKUP($B110,$L$50:$Q$68,4,0),0)","v":0}]
[null,{"$f":"B110+1","v":2},{"$f":"C115","v":"Equipos"},{"$f":"IFERROR(F113/F115,0)","v":0},0,{"$f":"SUMIFS(G$50:G$101,$C$50:$C$101,$C113,$D$50:$D$101,$J113)","v":0},0,0,0,{"$f":"J110","v":1},0]
[null,{"$f":"B111+1","v":2},{"$f":"C115","v":"Equipos"},{"$f":"IFERROR(F113/F115,0)","v":0},0,0,0,0,0,{"$f":"J111","v":2},0]
[null,2,{"$f":"M52","v":"Equipos"},{"$f":"IFERROR(VLOOKUP($B115,$L$50:$Q$68,6,0),0)","v":0},0,{"$f":"SUM(F113:F114)","v":0},{"$f":"SUM(G113:G114)","v":0},{"$f":"SUM(H113:H114)","v":0},0,{"$f":"J112","v":3},0]
[null,3,{"$f":"C118","v":"Equipos en proceso"},{"$f":"IFERROR(F116/F118,0)","v":0},0,{"$f":"SUMIFS(G$50:G$101,$C$50:$C$101,$C116,$D$50:$D$101,$J116)","v":0},0,0,0,1,0]
[null,3,{"$f":"C118","v":"Equipos en proceso"},{"$f":"IFERROR(F116/F118,0)","v":0},0,0,0,0,0,2,0]
[null,3,{"$f":"M53","v":"Equipos en proceso"},{"$f":"IFERROR(VLOOKUP($B118,$L$50:$Q$68,6,0),0)","v":0},0,{"$f":"SUM(F116:F117)","v":0},{"$f":"SUM(G116:G117)","v":0},{"$f":"SUM(H116:H117)","v":0},0,3,0]
[null,4,{"$f":"C121","v":"Software"},{"$f":"IFERROR(F119/F121,0)","v":0},0,{"$f":"SUMIFS(G$50:G$101,$C$50:$C$101,$C119,$D$50:$D$101,$J119)","v":0},0,0,0,1,0]
[null,4,{"$f":"C121","v":"Software"},{"$f":"IFERROR(F119/F121,0)","v":0},0,0,0,0,0,2,0]
[null,4,{"$f":"M54","v":"Software"},{"$f":"IFERROR(VLOOKUP($B121,$L$50:$Q$68,6,0),0)","v":0},0,{"$f":"SUM(F119:F120)","v":0},{"$f":"SUM(G119:G120)","v":0},{"$f":"SUM(H119:H120)","v":0},0,3,0]
[null,5,{"$f":"C124","v":"Materiales"},{"$f":"IFERROR(F122/F124,0)","v":0},0,{"$f":"SUMIFS(G$50:G$101,$C$50:$C$101,$C122,$D$50:$D$101,$J122)","v":0},0,0,0,1,0]
[null,5,{"$f":"C124","v":"Materiales"},{"$f":"IFERROR(F122/F124,0)","v":0},0,0,0,0,0,2,0]
[null,5,{"$f":"M55","v":"Materiales"},{"$f":"IFERROR(VLOOKUP($B124,$L$50:$Q$68,6,0),0)","v":0},0,{"$f":"SUM(F122:F123)","v":0},{"$f":"SUM(G122:G123)","v":0},{"$f":"SUM(H122:H123)","v":0},0,3,1]
[null,6,{"$f":"C127","v":"Materiales (Papelería)"},{"$f":"IFERROR(F125/F127,0)","v":0},0,{"$f":"SUMIFS(G$50:G$101,$C$50:$C$101,$C125,$D$50:$D$101,$J125)","v":0},0,0,0,1,1]
[null,6,{"$f":"C127","v":"Materiales (Papelería)"},{"$f":"IFERROR(F125/F127,0)","v":0},0,0,0,0,0,2,1]
[null,6,{"$f":"M56","v":"Materiales (Papelería)"},{"$f":"IFERROR(VLOOKUP($B127,$L$50:$Q$68,6,0),0)","v":0},0,{"$f":"SUM(F125:F126)","v":0},{"$f":"SUM(G125:G126)","v":0},{"$f":"SUM(H125:H126)","v":0},0,3,0.2]
[null,7,{"$f":"C130","v":"Salidas de Campo"},{"$f":"IFERROR(F128/F130,0)","v":0},0,{"$f":"SUMIFS(G$50:G$101,$C$50:$C$101,$C128,$D$50:$D$101,$J128)","v":0},0,0,0,1,0.2]
[null,7,{"$f":"C130","v":"Salidas de Campo"},{"$f":"IFERROR(F128/F130,0)","v":0},0,0,0,0,0,2,0.2]
[null,7,{"$f":"M57","v":"Salidas de Campo"},{"$f":"IFERROR(VLOOKUP($B130,$L$50:$Q$68,6,0),0)","v":0},0,{"$f":"SUM(F128:F129)","v":0},{"$f":"SUM(G128:G129)","v":0},{"$f":"SUM(H128:H129)","v":0},0,3,0]
[null,8,{"$f":"C133","v":"Servicios Técnicos"},{"$f":"IFERROR(F131/F133,0)","v":0},0,{"$f":"SUMIFS(G$50:G$101,$C$50:$C$101,$C131,$D$50:$D$101,$J131)","v":0},0,0,0,1,0]
[null,8,{"$f":"C133","v":"Servicios Técnicos"},{"$f":"IFERROR(F131/F133,0)","v":0},0,0,0,0,0,2,0,null,"La siguiente tabla de plan de compras debe diligenciarse manualmente ya que no arrastra informacion de otros campos exceptuando la parte de contrapartida"]
[null,8,{"$f":"M58","v":"Servicios Técnicos"},{"$f":"IFERROR(VLOOKUP($B133,$L$50:$Q$68,6,0),0)","v":0},0,{"$f":"SUM(F131:F132)","v":0},{"$f":"SUM(G131:G132)","v":0},{"$f":"SUM(H131:H132)","v":0},0,3,0.5]
[null,9,{"$f":"C136","v":"Recursos Biblograficos"},{"$f":"IFERROR(F134/F136,0)","v":0},0,{"$f":"SUMIFS(G$50:G$101,$C$50:$C$101,$C134,$D$50:$D$101,$J134)","v":0},0,0,0,1,0.5]
[null,9,{"$f":"C136","v":"Recursos Biblograficos"},{"$f":"IFERROR(F134/F136,0)","v":0},0,0,0,0,0,2,0.5]
[null,9,{"$f":"M59","v":"Recursos Biblograficos"},{"$f":"IFERROR(VLOOKUP($B136,$L$50:$Q$68,6,0),0)","v":0},0,{"$f":"SUM(F134:F135)","v":0},{"$f":"SUM(G134:G135)","v":0},{"$f":"SUM(H134:H135)","v":0},0,3,1]
[null,10,{"$f":"C139","v":"Estímulo a estudiantes Pregrado"},{"$f":"IFERROR(F137/F139,0)","v":0},0,{"$f":"SUMIFS(G$50:G$101,$C$50:$C$101,$C137,$D$50:$D$101,$J137)","v":0},0,0,{"$f":"SUM(F137:H137)","v":0},1,1]
[null,10,{"$f":"C139","v":"Estímulo a estudiantes Pregrado"},{"$f":"IFERROR(F137/F139,0)","v":0},0,0,0,0,{"$f":"SUM(F138:H138)","v":0},2,1]
[null,10,{"$f":"M60","v":"Estímulo a estudiantes Pregrado"},{"$f":"IFERROR(VLOOKUP($B137,$L$50:$Q$68,6,0),0)","v":0},{"$f":"D139","v":0},{"$f":"SUM(F137:F138)","v":0},{"$f":"SUM(G137:G138)","v":0},{"$f":"SUM(H137:H138)","v":0},{"$f":"SUM(F139:H139)","v":0},3,0]
[null,11,{"$f":"C142","v":"Estímulo a estudiantes Posgrado"},{"$f":"IFERROR(F140/F142,0)","v":0},0,{"$f":"SUMIFS(G$50:G$101,$C$50:$C$101,$C140,$D$50:$D$101,$J140)","v":0},0,0,0,1,0]
[null,11,{"$f":"C142","v":"Estímulo a estudiantes Posgrado"},{"$f":"IFERROR(F140/F142,0)","v":0},0,0,0,0,0,2,0]
[null,11,{"$f":"M61","v":"Estímulo a estudiantes Posgrado"},{"$f":"IFERROR(VLOOKUP($B140,$L$50:$Q$68,6,0),0)","v":0},{"$f":"D142","v":0},{"$f":"SUM(F140:F141)","v":0},{"$f":"SUM(G140:G141)","v":0},{"$f":"SUM(H140:H141)","v":0},0,3,0]
[null,12,{"$f":"C145","v":"Movilidad"},0,0,{"$f":"SUMIFS(G$50:G$101,$C$50:$C$101,$C143,$D$50:$D$101,$J143)","v":0},0,0,{"$f":"SUM(F143:H143)","v":0},{"$f":"J134","v":1},0]
[null,11,{"$f":"C145","v":"Movilidad"},0,0,0,0,0,{"$f":"SUM(F144:H144)","v":0},2,0]
[null,11,{"$f":"M62","v":"Movilidad"},0,{"$f":"D145","v":0},{"$f":"SUM(F143:F144)","v":0},{"$f":"SUM(G143:G144)","v":0},{"$f":"SUM(H143:H144)","v":0},{"$f":"SUM(F145:H145)","v":0},3,0]
[null,13,{"$f":"C148","v":"Licencias por suscripción"},0,0,{"$f":"SUMIFS(G$50:G$101,$C$50:$C$101,$C146,$D$50:$D$101,$J146)","v":0},0,0,0,1,0]
[null,12,{"$f":"C148","v":"Licencias por suscripción"},0,0,0,0,0,0,2,0]
[null,12,{"$f":"M63","v":"Licencias por suscripción"},0,0,{"$f":"SUM(F146:F147)","v":0},{"$f":"SUM(G146:G147)","v":0},{"$f":"SUM(H146:H147)","v":0},0,3,0]
[null,13,"Viajes",null,null,{"$f":"SUMIFS(G$50:G$101,$C$50:$C$101,$C149,$D$50:$D$101,$J149)","v":0},{"$f":"SUMIFS(H$50:H$101,$C$50:$C$101,$C149)","v":0},{"$f":"SUMIFS(I$50:I$101,$C$50:$C$101,$C149)","v":0},0,{"$f":"J148","v":3}]
[null,14,"Mantenimiento",null,null,{"$f":"SUMIFS(G$50:G$101,$C$50:$C$101,$C150,$D$50:$D$101,$J150)","v":0},{"$f":"SUMIFS(H$50:H$101,$C$50:$C$101,$C150)","v":0},0,0,{"$f":"J149","v":3}]
[null,15,"Administración",null,null,{"$f":"SUMIFS(G$50:G$101,$C$50:$C$101,$C151,$D$50:$D$101,$J151)","v":0},0,0,0,{"$f":"J150","v":3}]
[null,16,"Construcciones",null,null,{"$f":"SUMIFS(G$50:G$101,$C$50:$C$101,$C152,$D$50:$D$101,$J152)","v":0},0,0,0,{"$f":"J151","v":3}]
[null,17,"Otros Gastos",null,null,{"$f":"SUMIFS(G$50:G$101,$C$50:$C$101,$C153,$D$50:$D$101,$J153)","v":0},0,0,0,{"$f":"J152","v":3}]
[null,"T1","$ Total General (Año 1)",null,null,{"$f":"SUMIFS(F$110:F$153,$J$110:$J$153,$J154)","v":0},{"$f":"SUMIFS(G$110:G$153,$J$110:$J$153,$J154)+SUM(G149:G153)","v":0},{"$f":"SUMIFS(H$110:H$153,$J$110:$J$153,$J154)","v":0},0,1]
[null,"T2","$ Total General (Año 2)",null,null,{"$f":"SUMIFS(F$110:F$153,$J$110:$J$153,$J155)","v":0},{"$f":"SUMIFS(G$110:G$153,$J$110:$J$153,$J155)","v":0},{"$f":"SUMIFS(H$110:H$153,$J$110:$J$153,$J155)","v":0},0,2]
[null,"T3",{"$f":"\"TotalesPlan compras  -  (máximo):\"","v":"TotalesPlan compras  -  (máximo):"},null,{"$f":"N2","v":5000000},{"$f":"SUMIFS(F$110:F$153,$J$110:$J$153,$J156)","v":0},{"$f":"SUMIFS(G$110:G$153,$J$110:$J$153,$J156)","v":0},{"$f":"SUMIFS(H$110:H$153,$J$110:$J$153,$J156)","v":0},0,3]
[]
[null,"Nombre Institución Externa :",null,null,null,null,null,null,null,2,"; Nacional"]
[]
[null,null,null,"Propuesta:",{"$f":"D7","v":0}]
[]
[null,null,"Firma de responsable"]
[]
[]
[]
[]
[null,null,"*Pueden  Ocultar las Filas que no se utilicen ( Favor no eliminar filas)."]
[null,null,"** en el caso de necesitar mas filas en el plan de compras (Comunicarse con la VICEIN para que se pueda realizar el ajuste)"]

{"sheet":"Producto","index":2,"n_rows":78,"n_cols":13,"rows_kept":78,"cut":false,"hidden":true,"merged":[[2,1,3,7],[9,3,9,7],[10,4,10,7],[11,3,11,7],[13,3,13,4],[13,6,13,7],[45,2,45,3],[14,3,14,4],[15,3,15,4],[15,6,15,7],[18,2,19,5],[21,3,21,7],[23,6,23,7],[25,6,25,7],[35,4,35,6],[37,3,37,7],[44,2,44,3],[44,4,44,7]]}
[10,11,"2016-07-07"]
[]
[null,"PRESENTACIÓN DE PROYECTOS \nDE INICIACIÓN CIENTIFÍCA 2024 - 2"]
[]
[]
[null,null,"Datos digilenciados VICIEIN.",null,"Código :",null,"Radicado :"]
[]
[null,"1.","INFORMACION GENERAL DEL PROYECTO:",null,null,"Vrs.06.24","Facultad  :",null,{"$f":"IF(H8=0,1,\"\")","v":1}]
[]
[null,null,"Título",{"$f":"Presupuesto!D7","v":0},null,null,null,null,{"$f":"IF(D10=0,1,\"\")","v":1}]
[null,"2.","Tutor del proyecto"]
[null,null,"Nombre :",null,null,null,null,null,{"$f":"IF(E12=0,1,\"\")","v":1}]
[]
[null,null,"Dirección: ",null,null,"Tipo de Convocatoria:","Proyecto de Iniciación Cientifica PIC",null,{"$f":"IF(G14=0,1,\"\")","v":""}]
[null,null,"Teléfonos: ",null,null,null,"Fax: "]
[null,null,"Ciudad: ",null,null,"E-mail:",null,null,{"$f":"IF(G16=0,1,\"\")","v":1}]
[]
[null,"3.","Nombre del Grupo de Investigación:"]
[null,null,null,null,null,null,"Reconocido:",{"$f":"IFERROR(VLOOKUP($H$20,[1]Dt!$G$16:$H$22,2,0),\"NA\")","v":"No"},{"$f":"IF(C19=0,1,\"\")","v":1}]
[null,null,null,null,null,null,"Clasificación: ",{"$f":"IFERROR(VLOOKUP($C$19,[1]Dt!$AP$3:$AR$75,3,0),\"NR\")","v":"NR"}]
[]
[null,null,"Línea de investigación: ",null,null,null,null,null,{"$f":"IF(AND(E22=0,E23=0),1,\"\")","v":1}]
[]
[null,null,"Programa o Departamento de la UMNG al cual pertenece el tutor:",null,null,null,null,null,{"$f":"IF(G24=0,1,\"\")","v":1}]
[]
[null,null,"Si es producto de un proyecto INV de UMNG, diligenciar el código:"]
[]
[]
[]
[]
[]
[]
[]
[null,4,"Productividad comprometida"]
[]
[null,null,"Producto a generar:",null,"Innovación en procesos, procedimientos y servicios",null,null,{"$f":"IFERROR(\"Pág.: \"&VLOOKUP($D$38,[1]Dt!K15:L40,2,0),\".\")","v":"."},null,{"$f":"IF(E36=\"Apropiacion Social\",\"DT_ProdASC\",\"J34\")","v":"J34"}]
[null,null,{"$f":"IF(LEN(E36)=18,\"Link :\"&[1]Dt!K42,\"\")","v":""}]
[null,null,"Caso ASC"]
[null,null,null,null,"Productos Obligatorios:"]
[null,null,null,null,"1,. Informe Final del Proyecto en el formato dispuesto para tal fin.",null,null,null,null,null,null,null,"Artículo Sometido"]
[null,null,null,null,"2,. Carta anexa con conclusiones y experiencias del estudiante.",null,null,null,null,null,null,null,"Cartilla"]
[null,null,null,null,null,null,null,null,null,null,null,null,"Producciones de contenido digital"]
[null,5,"Detalles de ejecución de proyecto",null,null,null,null,null,null,null,null,null,"Ponencia"]
[null,null,null,null,null,null,null,null,null,null,null,null,"Apropiacion Social"]
[null,null,"Sede de Ejecución del Proyecto:",null,"Bogotá",null,null,null,{"$f":"IF(E45=0,1,\"\")","v":""},null,null,null,"Innovación en procesos, procedimientos y servicios"]
[null,null,"Duración del Proyecto (en meses):",null,5,null,"Presup. VICEIN : $",{"$f":"Presupuesto!G102","v":0}]
[]
[null,null,null,null,null,null,""]
[]
[]
[]
[]
[]
[]
[null,null,null,null,null,null,null,null,null,null,null,null,"Procesos de apropiación social del conocimiento para el fortalecimiento o solución de asuntos de interés social con Calidad "]
[null,null,null,null,null,null,null,null,null,null,null,null,"Procesos de apropiación social del conocimiento para la generación de insumos de política pública y normatividad con Calidad "]
[null,null,null,null,null,null,null,null,null,null,null,null,"Procesos de Apropiación social del conocimiento para el fortalecimiento de cadenas productivas con Calidad "]
[null,null,null,null,null,null,null,null,null,null,null,null,"Procesos de apropiación social del conocimiento resultado del trabajo conjunto entre un Centro de Ciencia y un grupo de investigación con Calidad "]
[null,null,null,null,null,null,null,null,null,null,null,null,"Eventos científicos con componente de apropiación con Calidad "]
[null,null,null,null,null,null,null,null,null,null,null,null,"Participaciones en redes de conocimiento con Calidad "]
[null,null,null,null,null,null,null,null,null,null,null,null,"Talleres de Creación con Calidad "]
[null,null,null,null,null,null,null,null,null,null,null,null,"Eventos artísticos, de arquitectura o de diseño con componentes de apropiación con Calidad "]
[null,null,null,null,null,null,null,null,null,null,null,null,"Documentos de trabajo (working papers) con Calidad "]
[null,null,null,null,null,null,null,null,null,null,null,null,"Nuevas secuencias genéticas con Calidad "]
[null,null,null,null,null,null,null,null,null,null,null,null,"Ediciones de revista o libro de divulgación científica con Calidad "]
[null,null,null,null,null,null,null,null,null,null,null,null,"Informes finales de investigación con Calidad "]
[null,null,null,null,null,null,null,null,null,null,null,null,"Informes técnicos con Calidad "]
[null,null,null,null,null,null,null,null,null,null,null,null,"Consultorías científico"]
[null,null,null,null,null,null,null,null,null,null,null,null,"Consultorías en arte, arquitectura y diseño con Calidad "]
[null,null,null,null,null,null,null,null,null,null,null,null,"Publicaciones editoriales no especializadas con Calidad "]
[null,null,null,null,null,null,null,null,null,null,null,null,"Producciones de contenido digital con Calidad "]
[null,null,null,null,null,null,null,null,null,null,null,null,"Producción de estrategias y contenidos Transmedia con Calidad "]
[null,null,null,null,null,null,null,null,null,null,null,null,"Desarrollos Web con Calidad "]
[null,null,null,null,null,null,null,null,null,null,null,null,"Libros de Formación ubicados en el cuartil 2 (Q2)"]
[null,null,null,null,null,null,null,null,null,null,null,null,"Boletines divulgativos de resultado de investigación con Calidad "]
[null,null,null,null,null,null,null,null,null,null,null,null,"Libros de Divulgación de investigación y/o Compilación de Divulgación con Calidad "]
[null,null,null,null,null,null,null,null,null,null,null,null,"Generaciones de Contenido con Calidad "]
[null,null,null,null,null,null,null,null,null,null,null,null,"Manuales y Guías Especializadas con Calidad "]

{"sheet":"OP","index":3,"n_rows":7412,"n_cols":30,"rows_kept":7412,"cut":false,"hidden":true,"merged":[]}
[]
[null,null,"Id","Título","Ok","Fila","Nive",null,null,"Cuenta","Nombre","OK","Lg",null,"N","Cod grupo","Nombre grupo","Fac","Estado","Fila",null,"Fac","Min","Max","Origen","FAC"]
[null,null,"D0192905","Abacá",1,{"$f":"ROW()","v":3},{"$f":"LEN(C3)","v":8},null,null,"2.1.1.01.01.001.01","Sueldo básico El sueldo básico corresponde a la parte del salario que se mantiene fija y se paga periódicamente de acuerdo con las funciones y responsabilidades, los requisitos de conocimientos, la experiencia requerida para su ejercicio, la denóminación y el grado establecidos en la nomenclatura, y la escala del respectivo nivel (art. 13, Decreto 1042 de 1978). El sueldo básico se paga sin tener en cuenta adicionales de horas extra, primas y otros factores eventuales o fijos que aumentan sus ingresos.La Ley 4 de 1992 establece el reconocimiento de una asignación básica de acuerdo con la nomenclatura y remuneración de los niveles de empleo.",0,{"$f":"LEN(J3)","v":18},null,18,"COL0136423","Estadística, Control y Optimización","CIAS","Categoría A",{"$f":"ROW()","v":3},null,"CIAS",3,19,{"$f":"\"OP!Q\"&W3&\":Q\"&X3","v":"OP!Q3:Q19"},"Ciencias Básicas y Aplicadas.",null,null,"A",{"$f":"CODE(AC3)","v":65}]
[null,null,"D0219601","Abejas",1,{"$f":"ROW()","v":4},{"$f":"LEN(C4)","v":8},null,null,"2.1.1.01.01.001.02","Horas extras, dominicales, festivos y recargos Es la retribución fija que se reconoce al personal con el que existe relación laboral por concepto de trabajo suplementario y realizado en horas adicionales a la jornada ordinaria establecida por las disposiciones legales vigentes. Incluye: horas extras diurnas, horas extras nocturnas, y el trabajo ocasional en días dominicales y festivos. (Decreto 1042 de 1978).",0,{"$f":"LEN(J4)","v":18},null,68,"COL0032278","Control Biológico UMNG","CIAS","Categoría A",{"$f":"ROW()","v":4},null,"DER",20,22,{"$f":"\"OP!Q\"&W4&\":Q\"&X4","v":"OP!Q20:Q22"},"Derecho.",null,null,65,{"$f":"CHAR(AC4)","v":"A"}]
[null,null,"D3465401","Abonos orgánicos",1,{"$f":"ROW()","v":5},8,null,null,"2.1.1.01.01.001.03","Gastos de representación Es la asignación complementaria del sueldo, que se reconoce excepcional y restrictivamente a empleados de alto nivel jerárquico por el cumplimiento de sus funciones (Corte Constitucional, Sentencia C-461/2004). Los gastos de representación tienen por finalidad que los empleados de nivel directivo desempeñen sus funciones de acuerdo con la importancia de la representación que ostentan. Esta asignación se caracteriza por ser un beneficio personal en gracia de la posición, jerarquía, dignidad y responsabilidades señaladas al cargo.",0,18,null,22,"COL0077707","Grupo Integrado de Investigaciones en Química Bioorgánica (InQuiBio)","CIAS","Categoría A1",{"$f":"ROW()","v":5},null,"DIS",23,29,"OP!Q23:Q29","Educación a Distancia."]
[null,null,"D3465902","Abonos y fertilizantes complejos o mixtos",1,{"$f":"ROW()","v":6},8,null,null,"2.1.1.01.01.001.04","Subsidio de alimentación Es la retribución fija que se reconoce al personal con el que la entidad tiene una relación laboral, tales como empleados públicos, trabajadores oficiales y aquel de las sociedades de economía mixta y particulares cuyo gasto de personal se haga con cargo a los recursos públicos a su cargo, como auxilio para la provisión de su alimento. Este factor es un pago habitual y periódico de una suma de dinero para apoyar la manutención y provisión de alimentos del empleado.No se tendrá derecho a este subsidio cuando el funcionario disfrute de vacaciones, se encuentre en uso de licencia, suspendido o cuando la entidad suministre el servicio (art. 12, Decreto 229 de 2016).El subsidio de alimentación fue creado mediante el Decreto 627 de 2007, y está regulado por el la Ley 4 de 1992 y el Decreto 1397 de 2010.",0,18,null,34,"COL0013719","Grupo de Micología y Fitopatologia ","CIAS","Categoría A1",{"$f":"ROW()","v":6},null,"ECO",30,33,"OP!Q30:Q33","Economia."]
[null,null,"D3462901","Abonos y fertilizantes fosfatados",1,{"$f":"ROW()","v":7},8,null,null,"2.1.1.01.01.001.05","Auxilio de transporte Es el pago que se hace al personal con el que la entidad tiene una relación laboral, tales como empleados públicos, trabajadores oficiales y aquel de las sociedades de economía mixta y particulares cuyo gasto de personal se haga con cargo a los recursos públicos a su cargo que devenguen un sueldo mensual básico hasta de dos veces el salario mínimo legal vigente (Decreto 2732 del 2014). Este auxilio tiene como fin cubrir el traslado del trabajador desde el sector de su residencia hasta el sitio de su trabajo y viceversa.No se tiene derecho a este auxilio cuando el funcionario disfrute de vacaciones, se encuentre en uso de licencia, suspendido en el ejercicio de sus funciones o cuando la entidad suministre el servicio (art. 13, Decreto 229 de 2016).La Ley 15 de 1959, el Decreto 1374 de 2010 y el Decreto 5054 de 2009 regulan el auxilio de transporte.",0,18,null,26,"COL0031959","Grupo de investigación en Biodiversidad y Ecología de Abejas Silvestres","CIAS","Categoría B",{"$f":"ROW()","v":7},null,"EES",34,35,"OP!Q34:Q35","Relaciones Internacionales."]
[null,null,"D3461901","Abonos y fertilizantes nitrogenados",1,{"$f":"ROW()","v":8},8,null,null,"2.1.1.01.01.001.06","Prima de servicio Es la retribución fija que se paga en el mes de julio de cada año correspondiente a 15 días de trabajo por cada año laborado, o proporcionalmente si el empleado laboró como mínimo por seis meses en la entidad. (art. 58, Decreto 1042 de 1978).El Decreto 1042 de 1978 establece la prima de servicios para los funcionarios del nivel nacional y el Decreto 2351 de 2014 establece la prima de servicios para los empleados públicos departamentales, distritales y municipales.Esta prima se liquida sobre los siguientes factores de salario:a) El sueldo básico fijado por la ley para el respectivo cargo. b) Los incrementos salariales por antigüedad. c) Los gastos de representación. d) Los auxilios de alimentación y transporte. e) La bonificación por servicios prestados",0,18,null,57,"COL0028687","Fitoplasmas y Virus","CIAS","Categoría B",{"$f":"ROW()","v":8},null,"HUM",36,39,"OP!Q36:Q39","Educación y Humanidades."]
[null,null,"D3463901","Abonos y fertilizantes potásicos",1,{"$f":"ROW()","v":9},8,null,null,"2.1.1.01.01.001.07","Bonificación por servicios prestados Es la retribución pagadera cada vez que el empleado cumple un año continuo de servicio en una misma entidad, la cual es equivalente al cincuenta por ciento (50%) del valor conjunto de la asignación básica determinada por la ley para el respectivo cargo, sumada a los incrementos por antigüedad y los gastos de representación. Se paga en un plazo de veinte días después del cumplimiento de los requisitos para recibir la bonificación (art. 45,47 y 48, Decreto 1042 de 1978).El Decreto 2418 de 2015 regula la bonificación por servicios prestados para los empleados públicos del nivel territorial.",0,18,null,62,"COL0039321","MATRIX","CIAS","Categoría B",{"$f":"ROW()","v":9},null,"ING",40,59,"OP!Q40:Q59","Ingenieria"]
[null,null,"D3465901","Abonos y fertilizantes químicos",1,{"$f":"ROW()","v":10},8,null,null,"2.1.1.01.01.001.08.01","Prima de navidad Es la retribución correspondiente a un mes de salario que se reconoce a los empleados con los que la entidad tiene una relación laboral, por ocasión de la navidad. Esta prima es pagadera la primera quincena del mes de diciembre, por la cuantía del mes, o proporcionalmente al tiempo laborado.Cuando el empleado público, trabajador oficial u otro no ha servido durante todo el año, tiene derecho a la mencionada prima de navidad en proporción al tiempo laborado, a razón de una doceava parte por cada mes completo de servicios, que se liquida y paga con base en el último salario devengado, o en el último promedio mensual, si fuere variable equivalente a un mes de remuneración liquidado o un porcentaje proporcional al tiempo laborado (Decreto 1045 de 1978, art. 32).El reconocimiento de la prima de navidad como prestación social, se establece en el Decreto 1045 de 1978 (art. 32). El Decreto 1919 de 2002 establece que los empleados públicos de las entidades territoriales tienen derecho a las prestaciones sociales definidas para los empleados de la rama ejecutiva del nivel nacional. Por su parte, los soldados profesionales tienen derecho a percibir esta prima equivalente al cincuenta por ciento (50%) del salario básico devengado en el mes de noviembre del respectivo año más la prima de antigüedad. A su vez, los Oficiales, Suboficiales, Agentes y empleados públicos del Ministerio de Defensa, de las Fuerzas Militares y de la Policía Nacional tienen derecho a recibir esta prima (Decreto anual de salarios).",0,21,null,1,"COL0178619","DIVERSITAS","CIAS","Categoría C",{"$f":"ROW()","v":10},null,"MED",60,79,"OP!Q60:Q79","Medicina."]
[null,null,"D1632202","Abrasivos naturales",1,{"$f":"ROW()","v":11},8,null,null,"2.1.1.01.01.001.08.02","Prima de vacaciones Corresponde al reconocimiento que otorga la ley al personnal con el que la entidad tenga relación laboral, con el fin de brindarles mayores recursos económicos para gozar del periodo de vacaciones. Esta prima es equivalente a quince (15) días de salario por cada año trabajado y debe pagarse dentro de los cinco (5) días hábiles anteriores a la fecha señalada para la iniciación del descanso remunerado, salvo lo que se disponga en normas o estipulaciones especiales. La prima de vacaciones no se perderá en los casos en que se autorizare el pago de vacaciones en dinero (Decreto 1045 de 1978, arts. 24 a 29).",0,21,null,2,"COL0110329","ECMU (Evaluacion en Competencias y Matemáticas Universitarias)","CIAS","Categoría C",{"$f":"ROW()","v":11},null,0,{"$f":"MIN(W3:W10)","v":3},{"$f":"MAX(X3:X10)","v":79},"OP!Q3:Q79","Todos"]
[null,null,"D4299920","Abrazaderas metálicas",1,{"$f":"ROW()","v":12},8,null,null,"2.1.1.01.01.001.08.03","Prima de navidad de diputados Corresponde a la prestación social que le otorga la Ley al servidor público que ejerza como diputado a titulo de prima de navidad. Esta se reconoce de conformidad con lo establecido en el artículo 11 de la Ley 4 de 1966.",0,21,null,8,"COL0179618","Nanofab","CIAS","Categoría C",{"$f":"ROW()","v":12}]
[null,null,"D4291205","Abrelatas, descorchadores y similares",1,{"$f":"ROW()","v":13},8,null,null,"2.1.1.01.01.001.08.04","Prima de vacaciones de diputados Corresponde al reconocimiento por prima de vacaciones al que tienen derecho los servidores públicos que ejercen como diputados. Su cuantía y término se reconoce de conformidad con lo establecido en el Decreto número 1045 de 1978. Para el reconocimiento se tendrá en cuenta como si se hubiese sesionado todo el año.",0,21,null,16,"COL0086179","Fitopatologia molecular","CIAS","Categoría C",{"$f":"ROW()","v":13}]
[null,null,"D2824102","Abrigos de cuero",1,{"$f":"ROW()","v":14},8,null,null,"2.1.1.01.01.001.09","Prima técnica salarial Es un reconocimiento económico a servidores públicos que desempeñen cargos altamente calificados cuyas funciones demanden la aplicación de conocimientos técnicos o científicos, o la realización de labores de dirección o de especial responsabilidad. Asimismo, la prima técnica reconoce el desempeño de los servidores en su cargo.Se considera como factor salarial, la prima técnica por formación avanzada y experiencia altamente calificada, también conocida como prima técnica por estudio y experiencia, la cual se otorga a los empleados que acrediten estudios de formación avanzada o cinco años de experiencia calificada, en los cargos de nivel directivo, ejecutivo, profesional, jefes de oficina asesora y nivel asesor.",0,18,null,24,"COL0038084","Grupo de Ecotoxicología, Evolución, Medio ambiente y Conservación (E = mc2)","CIAS","Categoría C",{"$f":"ROW()","v":14}]
[null,null,"D2823315","Abrigos de paño para mujer",1,{"$f":"ROW()","v":15},8,null,null,"2.1.1.01.01.001.10","Viáticos de los funcionarios en comisión Son los pagos que reciben los funcionarios y trabajadores en comisión, para alojamiento y manutención, cuando: a) deban desempeñar sus funciones en un lugar diferente a su sede habitual de trabajo, ya sea dentro o fuera del país, o b) deba atender transitoriamente actividades oficiales distintas a las inherentes al empleo de que es titular (Departamento Administrativo de la Función Pública, 2007).Los viáticos de los funcionarios en comisión constituyen factor salarial para efectos de la liquidación de cesantías y pensiones cuando se hayan percibido por un término superior a ciento ochenta (180) días en el último año de servicio (art. 45, Decreto 1045 de 1978).",0,18,null,47,"COL0048492","Grupo de Investigación en Hidrobiología Aplicada (HIDROBIA)","CIAS","Categoría C",{"$f":"ROW()","v":15}]
[null,null,"D2823316","Abrigos de paño para niña",1,{"$f":"ROW()","v":16},8,null,null,"2.1.1.01.01.001.11","Remuneración diputados Es la remuneración reconocida a los diputados por su asistencia a las sesiones de la Asamblea Departamental, la cual está regulada por la Ley 1871 de 2017.",0,18,null,54,"COL0110436","GRUPO DE INVESTIGACIÓN EN QUÍMICA AMBIENTAL Y TECNOLOGÍAS LIMPIAS - QUATELI","CIAS","Categoría C",{"$f":"ROW()","v":16}]
[null,null,"D8821305","Acabado , teñido, estampado y aprestamiento de tejidos n.c.p.",1,{"$f":"ROW()","v":17},8,null,null,"2.1.1.01.01.001.12","Aguinaldo Comprende los gastos asociados al pago anual que la Empresa Metro de Medellín realiza a los sus empleados de planta y que es considerado como un factor salarial común.",0,18,null,64,"COL0169362","ICAAO: Inteligencia Computacional, Aprendizaje Automático y Optimización","CIAS","Categoría C",{"$f":"ROW()","v":17}]
[null,null,"D8890101","Acabado de muebles",1,{"$f":"ROW()","v":18},8,null,null,"2.1.1.01.01.001.13","Auxilio de conectividad digital Corresponde al pago de auxilio de conectividad digital que de manera temporal y transitoria se reconocerá y pagará a los servidores públicos que devenguen hasta dos (2) salarios mínimos legalesmensuales vigentes y que desarrollen su labor en su domicilio. Este auxilio se reconocerá mientras esté vigente la emergencia sanitaria declarada por el Ministerio de Salud y de Protección Social con ocasión de la pandemia derivada del Coronavirus (COVID-19) y corresponderá al valor establecido para el auxilio de transporte.El auxilio de conectividad y el auxilio de transporte no son acumulables y no será aplicable a los trabajadores que se desempeñan en la modalidad de teletrabajo, a quienes les seguirán siendoaplicables las disposiciones de la Ley 1221 de 2008 (Art. 1, Decreto Legislativo 771 de 2020).",0,18,null,72,"COL0138796","Grupo de Docencia e Investigación en Física","CIAS","No Reconocido",{"$f":"ROW()","v":18}]
[null,null,"D8821301","Acabado y teñido de hilados",1,{"$f":"ROW()","v":19},8,null,null,"2.1.1.01.01.001.14","Salario Integral Segun el artículo 132 del Código Sustantivo del Trabajo permite que se acuerde libremente el salario en sus diversas modalidades, como por unidad de tiempo, por obra,  a destajo o por tarea, siempre y cuando se respete el salario mínimo. En el caso que el salario ordinario sea superior a 10 salarios mínimos legales mensuales, el salario será integral y compensará de antemano las prestaciones sociales, recargos y beneficios como el trabajo nocturno, extraordinario o dominical y festivo, exceptuando las vacaciones. De igual forma, el articulo 127 del Código Sustantivo del Trabajo, que establece el salario como todo aquello que recibe el trabajador como contraprestación directa del servicio.",0,18,null,77,"COL0077814","Agrobiología de especies vegetales promisorias de clima frío","CIAS","No Reconocido",{"$f":"ROW()","v":19}]
[null,null,"D8821303","Acabado, teñido y estampado de tejidos n.c.p. de algodón",1,{"$f":"ROW()","v":20},8,null,null,"2.1.1.01.01.002.01.01","Escalafón diplomático Corresponde a los sueldos de los funcionarios públicos de Carrera Diplomática y Consular. El valor de la asignación básica de dichos funcionarios dependerá de la categoría de Carrera Diplomática y Consular en la cual estén escalafonados conforme a las disposiciones del Decreto 274 de 2000.",0,21,null,36,"COL0028918","GRUPO DE DERECHO PÚBLICO ","DER","Categoría B",{"$f":"ROW()","v":20}]
[null,null,"D8821304","Acabado, teñido y estampado de tejidos n.c.p. de fibras artificiales y sintéticas",1,{"$f":"ROW()","v":21},8,null,null,"2.1.1.01.01.002.01.02.01","Comisión de servicios Corresponde a los sueldos de funcionarios públicos que están en comisión de servicios. De acuerdo con el art. 2 del Decreto 2004 de 1997, una comisión de servicios se puede conferir únicamente en los siguientes casos:- Para tramitar o negociar asuntos que a juicio del Gobierno Nacional revistan especial interés para el país.- Para suscribir convenios o acuerdos con otros gobiernos u organismos internacionales.",0,24,null,38,"COL0142449","RED DE ESTUDIOS SOCIOJURÍDICOS COMPARADOS Y POLÍTICAS PÚBLICAS-RESCYPP","DER","Categoría B",{"$f":"ROW()","v":21}]
[null,null,"D8821302","Acabado, teñido y estampado de tejidos n.c.p. de lana",1,{"$f":"ROW()","v":22},8,null,null,"2.1.1.01.01.002.01.02.02","Comisión de estudios Corresponde a los sueldos de funcionarios públicos que están en comisión de estudios. Para conferir una comisión de estudios, el objeto de la misma debe guardar relación con los fines de la entidad o con las funciones inherentes al cargo que desempeña el servidor público y ser superior a un mes (art. 2, Decreto 1050 de 1997).Se podrá conferir comisión de estudios en el exterior al servidor público que tenga por lo menos un (1) año continuo de servicio en la respectiva entidad. A su vez, el comisionado se comprometerá mediante convenio a prestar sus servicios a la entidad que otorga la comisión o a cualquier otra entidad del Estado, por el doble del tiempo de duración de la comisión (Decreto 3555 de 2007).",0,24,null,6,"COL0128047","Grupo de Derecho Privado","DER","Categoría C",{"$f":"ROW()","v":22}]
[null,null,"D3736002","Accesorios de arcilla para tubería",1,{"$f":"ROW()","v":23},8,null,null,"2.1.1.01.01.002.02","Prima de actividad Reconocimiento económico que hace la ley a los empleados públicos del Ministerio de Defensa y de la Policía Nacional, mientras permanezcan en el desempeño de sus funciones. Esta prima es equivalente al cuarenta y nueve punto cinco por ciento (49.5%) del sueldo básico mensual del funcionario (art. 38, Decreto 1214 de 1990, modificado por el art. 30 del Decreto 984 de 2017).",0,18,null,65,"COL0066229","PIREO \"Procesos de Integración, Regionalización y Estructuras Organizacionales\"","DIS","Categoría B",{"$f":"ROW()","v":23}]
[null,null,"D3757007","Accesorios de asbesto-cemento-para tubería",1,{"$f":"ROW()","v":24},8,null,null,"2.1.1.01.01.002.03","Prima especial de servicios Reconocimiento económico que hace la ley a los magistrados del Consejo Superior de la Judicatura, de la Corte Suprema de Justicia, de la Corte Constitucional, del Consejo de Estado, el Procurador General de la Nación, el Contralor General de la República, el Fiscal General de la Nación, el Defensor del Pueblo y el Registrador Nacional del Estado Civil con el fin de igualar los ingresos percibidos por estos funcionarios, con aquellos que reciben los miembros del Congreso, sin que en ningún caso los supere. El Gobierno podrá fijar la misma prima para los ministros de despacho, los Generales y Almirantes de la Fuerza Pública (art. 15, Ley 4 de 1992).Esta prima reemplaza en su totalidad y deja sin efecto cualquier otra prima a que tengan derecho dichos funcionarios, con excepción de la prima de navidad (art. 5, Decreto 10 de 1993).",0,18,null,14,"COL0067504","PACMAN Prospectiva Académica y Ciencias Multidisciplinares Aplicadas a la Neotecnología","DIS","Categoría C",{"$f":"ROW()","v":24}]
[null,null,"D3627030","Accesorios de caucho para tuberías",1,{"$f":"ROW()","v":25},8,null,null,"2.1.1.01.01.002.04","Prima semestral Es el pago que se realiza en el mes de junio y diciembre, denóminado prima semestral, a los funcionarios que cumplan con los requisitos establecidos por la ley, y pagadera en conformidad con las disposiciones legales. Por ejemplo:a. La Superintendencia de Sociedades realiza el pago de la prima semestral a los beneficiarios del régimen especial de prestaciones económicas de los empleados afiliados a Corpoanónimas (entidad liquidada), en virtud de lo establecido por el art. 12 del Decreto 1695 de 1997. b) El artículo 2 de la Ley 55 de 1987, establece el reconocimiento de una prima semestral para los empleados del Congreso nacional, pagadera en junio y diciembre de cada año.c) El Acuerdo Distrital 25 de 1990 establece el pago de una prima semestral a los empleados y trabajadores de la Administración Central del Distrito, que hayan laborado durante el primer semestre del año y proporcionalmente a quienes laboren por lo menos tres (3) meses completos de ese semestre, y que equivale a treinta y siete (37) días de salario.",0,18,null,15,"COL0069296","Modelos de simulación ICDIST","DIS","Categoría C",{"$f":"ROW()","v":25}]
[null,null,"D3756002","Accesorios de concreto para tubería",1,{"$f":"ROW()","v":26},8,null,null,"2.1.1.01.01.002.05","Prima ascensional Reconocimiento que hace la ley a favor de los Magistrados y Fiscales de Tribunal, que reúnan los requisitos constitucionales para el ejercicio de la magistratura de la Corte Suprema de Justicia, y a favor de los Fiscales de Juzgado Superior, Jueces Superiores, de Menores y de Circuito que reúnan los requisitos constitucionales para ser Magistrados de Tribunal Superior (art. 3, Decreto 903 de 1969).El Consejo Superior de la Administración de Justicia, para determinar la cuantía individual de la prima (que no podrá ser mayor al cinco por ciento (5%) de la asignación mensual), tendrá en cuenta la antigüedad y la calidad de los requisitos constitucionales exigidos para el desempeño del cargo superior, a la época en que el peticionario haya tomado posesión del mismo (Decreto 760 de 1970).",0,18,null,30,"COL0142331","INAMPE","DIS","Categoría C",{"$f":"ROW()","v":26}]
[null,null,"D3736004","Accesorios de gres para tubería",1,{"$f":"ROW()","v":27},8,null,null,"2.1.1.01.01.002.06","Primas extraordinarias Corresponde al pago por concepto de primas legalmente otorgadas, que constituyen factor salarial y que serán pagaderas únicamente en los términos, condiciones y las veces que se establezca en su ley de creación.",0,18,null,32,"COL0127649","INCONDIS","DIS","Categoría C",{"$f":"ROW()","v":27}]
[null,null,"D4129301","Accesorios de hierro o acero galvanizado para tuberías",1,{"$f":"ROW()","v":28},8,null,null,"2.1.1.01.01.002.07","Prima mensual Es el pago mensual equivalente al incentivo económico por los servicios prestados. Pago no menor al treinta por ciento (30%), ni mayor al sesenta por ciento (60%) del salario básico mensual.",0,18,null,53,"COL0018448","\"PYDES\" Pedagogía y didáctica en la educación superior","DIS","Categoría C",{"$f":"ROW()","v":28}]
[null,null,"D4129302","Accesorios de hierro o acero para tuberías de alta presión",1,{"$f":"ROW()","v":29},8,null,null,"2.1.1.01.01.002.08","Auxilio especial de transporte Es el pago por concepto de auxilio especial de transporte a los beneficiarios establecidos por la ley, de acuerdo con las disposiciones legales correspondientes.Por ejemplo, el artículo 3 del Decreto 192 de 2014 dispone que tienen derecho a este subsidio, los servidores públicos del Instituto Nacional de Medicina Legal y Ciencias Forenses que se desempeñen en funciones de mensajería. Asimismo, el artículo 32 del Decreto 717 de 1978 establece que reconocerá el auxilio especial de transporte a los citadores que prestan sus servicios en los Despachos Judiciales y a los Asistentes sociales de los Juzgados de ejecución de Penas y Medidas de Seguridad, para adolescentes, de Familia y promiscuos de Familia. No incluye: •La prima especial de transporte establecida en el Decreto 51 de 1998, posteriormente establecida en el Decreto 3254 de 2002, el cual fue derogado por el Decreto 26 de 2004. De acuerdo con el artículo 1 del Decreto 3254 de 2002, esta prima consistía en el reconocimiento económico de una prima equivalente a $500.000 para los Secretarios Generales del Senado, Cámara y los Secretarios de la Comisiones Constitucionales Permanentes",0,18,null,76,"COL0062704","PROPPIO: Procesos organizacionales, programaticos y políticos para la promoción del desarrollo","DIS","No Reconocido",{"$f":"ROW()","v":29}]
[null,null,"D3729203","Accesorios de loza o porcelana para uso eléctrico",1,{"$f":"ROW()","v":30},8,null,null,"2.1.1.01.01.002.09","Bonificación por comisión especial de servicio Reconocimiento que hace la ley a los empleados del Departamento Administrativo de Seguridad - DAS que deban cumplir comisiones especiales de servicio fuera del país. Dichos empleados tendrán derecho a percibir una bonificación mensual en dólares o proporcional al tiempo de la comisión, hasta por el quince por ciento (15%) de su asignación básica mensual a razón de un dólar por cada cinco pesos ($5) (art. 6, Decreto 1933 de 1989).",0,18,null,59,"COL0028767","Grupo de Estudios Contemporáneos en Gestión y Organizaciones -GECGO-","ECO","Categoría A",{"$f":"ROW()","v":30}]
[null,null,"D4815014","Accesorios de material plástico para equipo de venoclisis",1,{"$f":"ROW()","v":31},8,null,null,"2.1.1.01.01.002.10.01","Beneficios a los empleados a corto plazo",0,21,null,7,"COL0050294","Grupo de Estudios en Ciencias Económicas - CIE","ECO","Categoría B",{"$f":"ROW()","v":31}]
[null,null,"D3632003","Accesorios de material plástico para tuberías",1,{"$f":"ROW()","v":32},8,null,null,"2.1.1.01.01.002.10.02","Beneficios a los empleados a largo plazo",0,21,null,55,"COL0117722","GECS (Grupo de Estudios en Educación Contabilidad y Sociedad)","ECO","Categoría B",{"$f":"ROW()","v":32}]
[null,null,"D4694006","Accesorios de metal para líneas de conducción eléctrica",1,{"$f":"ROW()","v":33},8,null,null,"2.1.1.01.01.002.11","Bonificación por compensación La bonificación por compensación es el pago que se realiza a los funcionarios públicos determinados por la ley, para la nivelación de su salario. Por ejemplo, la bonificación por compensación creada por el Decreto 610 de 1998, es el pago mensual, equivalente al ochenta por ciento (80%) de la asignación básica más los demás ingresos laborales. Los beneficiarios de esta bonificación son: los magistrados de las altas Cortes, secretarios generales de las mismas, Fiscales delegados ante Tribunales del distrito, y otros funcionarios de la rama judicial. De acuerdo con el Decreto 1102 de 2012, que venían percibiendo la bonificación de gestión judicial para la fecha del Decreto mencionado, reciben el presente beneficio. Incluye: •La prima individual de compensación creada por el Decreto 4669 de 2006. Según lo establecido por el artículo 11 del Decreto 4669 de 2006, los servidores públicos del Instituto Nacional de Medicina Legal y Ciencias Forenses:[…]que fueren incorporados con una asignación básica mensual inferior a la que venían percibiendo, una prima individual de compensación, de carácter personal, que nivele sus ingresos con los que venían percibiendo por concepto de asignación básica mensual, de conformidad con lo establecido en el artículo 2o del Decreto 384 de 2006, la que devengarán mientras permanezcan en el mismo empleo. (Decreto 4669, 2006) Esta prima constituye factor salarial para liquidar prestaciones sociales, y firma parte de la asignación básica para efectos pensionales (Decreto 4669, 2006). Otro ejemplo es la bonificación por compensación creada por el Decreto Ley 4064 de 2011, donde los funcionarios del DAS incorporados a la Unidad Administrativa Especial Migración Colombia, en un empleo al cual corresponde una asignación básica inferior al valor de la asignación básica y la prima de riesgo que vienen percibiendo, la diferencia se reconocerá con una bonificación mensual individual por compensación que se entiende integrada a la asignación básica y por lo tanto constituye factor salarial para todos los efectos legales.",0,18,null,23,"COL0027367","GRUPO DE ESTUDIOS SOBRE DESIGUALDADES SOCIALES","ECO","Categoría C",{"$f":"ROW()","v":33}]
[null,null,"D3632009","Accesorios de plástico para fontanería",1,{"$f":"ROW()","v":34},8,null,null,"2.1.1.01.01.002.12.01","Beneficios a los empleados a corto plazo",0,21,null,37,"COL0066768","Estudios Internacionales y Políticos","EES","Categoría B",{"$f":"ROW()","v":34}]
[null,null,"D3632008","Accesorios de polivinilo para tubería y demás materiales plásticos",1,{"$f":"ROW()","v":35},8,null,null,"2.1.1.01.01.002.12.02","Beneficios a los empleados a largo plazo",0,21,null,45,"COL0066669","Sociedad, Estrategia y Seguridad","EES","Categoría C",{"$f":"ROW()","v":35}]
[null,null,"D3737003","Accesorios de porcelana para revestimiento con baldosa",1,{"$f":"ROW()","v":36},8,null,null,"2.1.1.01.01.002.13","Prima especial Reconocimiento que hace la ley a los funcionarios de la planta externa del Ministerio de Comercio, Industria y Turismo (art. 4, Decreto 4971 de 2009) y a los funcionarios que presten sus servicios en las misiones colombianas permanentes acreditadas en el exterior (art. 4, Decreto 3357 de 2009).Esta prima se paga en forma mensual y constituye factor salarial para todos los efectos, incluyendo los aportes al Sistema Integral de Seguridad Social.",0,18,null,43,"COL0101099","HUMANITAS","HUM","Categoría A",{"$f":"ROW()","v":36}]
[null,null,"D2712009","Accesorios de tejidos de fibras artificiales o sintéticas para baños",1,{"$f":"ROW()","v":37},8,null,null,"2.1.1.01.01.002.14","Bonificación cuerpo custodia y vigilancia Es una bonificación que se reconoce a los oficiales logísticos y de tratamiento penitenciario pertenecientes al Cuerpo de Custodia y Vigilancia Penitenciaria y Carcelaria Nacional del Instituto Nacional Penitenciario y Carcelario -INPEC-, de manera mensual a partir del primero (1) de enero de 2015, calculado sobre la asignación básica mensual correspondiente al empleo (art. 2, Decreto 1268 de 2015).De acuerdo al art. 4 del Decreto 1268 de 2015, la bonificación constituye factor salarial para todos los efectos legales y los aportes obligatorios sobre los pagos que se efectúen por ese concepto, se realizarán de conformidad con las disposiciones legales vigentes.",0,18,null,52,"COL0002896","Cultura y Desarrollo Humano","HUM","Categoría A",{"$f":"ROW()","v":37}]
[null,null,"D4129201","Accesorios de tubería de hierro o acero",1,{"$f":"ROW()","v":38},8,null,null,"2.1.1.01.01.002.15","Bonificación personal administrativo Es una bonificación que se reconoce al personal administrativo del Instituto Nacional Penitenciario y Carcelario INPEC, una bonificación que se reconocerá mensualmente a partir del primero (1) de enero de 2015, calculado sobre la asignación básica mensual correspondiente al empleo que desempeñe.De acuerdo al art. 4 del Decreto 1268 de 2015 la bonificación constituye factor salarial para todos los efectos legales y los aportes obligatorios sobre los pagos que se efectúen por ese concepto, se realizarán de conformidad con las disposiciones legales vigentes.",0,18,null,58,"COL0031824","BioethicsGroup","HUM","Categoría A",{"$f":"ROW()","v":38}]
[null,null,"D3632012","Accesorios de tubería, en poliéster reforzado con fibra de vidrio (GRP)",1,{"$f":"ROW()","v":39},8,null,null,"2.1.1.01.01.002.16","Sobresueldo Reconocimiento económico que hace la ley a los controladores de tránsito aéreo y supervisores de tránsito aéreo debidamente acreditados por el Centro de Estudios Aeronáuticos y pertenecientes al área de control de Tránsito Aéreo de la Unidad Administrativa Especial de Aeronáutica Civil en razón del volumen de operación de control de tráfico aéreo. El porcentaje del sobresueldo se fija de acuerdo con la categoría del aeropuerto donde el funcionario preste el servicio (Decreto 313 de 2018, art. 8).",0,18,null,11,"COL0015722","LIDERAZGO","HUM","Categoría A1",{"$f":"ROW()","v":39}]
[null,null,"D4693999","Accesorios eléctricos n.c.p.",1,{"$f":"ROW()","v":40},8,null,null,"2.1.1.01.01.002.17","Prima de productividad Reconocimiento económico que hace la ley a los empleados de la Rama Judicial, de la Fiscalía General de la Nación y del Instituto Nacional de Medicina Legal y Ciencias Forenses para mejorar la productividad. Esta prima es equivalente al cincuenta por ciento (50%) de la remuneración mensual, pagadera en el mes de diciembre de cada año (Decreto 2460 de 2006; modificado por el Decreto 3899 de 2008).",0,18,null,4,"COL0068762","GAV","ING","Categoría A",{"$f":"ROW()","v":40}]
[null,null,"D4696199","Accesorios eléctricos n.c.p. para motores de combustión",1,{"$f":"ROW()","v":41},8,null,null,"2.1.1.01.01.002.18","Prima de desgaste y alto riesgo visual Reconocimiento económico que hace el Distrito de Bogotá a los bacteriólogos que presten sus servicios a las diferentes entidades y dependencias del distrito.",0,18,null,19,"COL0044859","Grupo de Investigación en Multimedia -GIM-","ING","Categoría A",{"$f":"ROW()","v":41}]
[null,null,"D4717401","Accesorios electrónicos n.c.p.",1,{"$f":"ROW()","v":42},8,null,null,"2.1.1.01.01.002.19","Reserva especial del ahorro Corresponde al reconocimiento mensual que realiza la Superintendencia de Sociedades, la Superintendencia de Industria y Comercio, la Superintendencia Financiera de Colombia y el Instituto Nacional de Metrología a favor de sus empleados, con el fin de incentivar el ahorro de estos. Este reconocimiento es equivalente al 65% del sueldo básico, prima de antigüedad, prima técnica, gastos de representación y el incremento de salario por antigüedad (según corresponda).",0,18,null,21,"COL0052181","TIGUM: Grupo de Investigacion en Telemedicina Universidad Militar","ING","Categoría A",{"$f":"ROW()","v":42}]
[null,null,"D3712907","Accesorios en fibra de vidrio para piscinas",1,{"$f":"ROW()","v":43},8,null,null,"2.1.1.01.01.002.20","Prima de localización (Artículo 8 Decreto 415 de 1979) Corresponde la prima que reconoce el Servicio Nacional de Aprendizaje (SENA) a los empleados públicos que presten sus servicios en el Centro Náutico Pesquero de Buenaventura, en la ciudad de Barrancabermeja, en el Departamento del Chocó y en la región de Urabá, donde existen sedes permanentes del SENA, en los Departamentos del César y la Guajira o en Centros Fijos de los Territorios Nacionales. Esta prima se fijó en1.500.00 mensuales, incrementándose anualmente en un 20%, constituye parte integral de la asignación básica mensual de los empleos del SENA y en ningún caso se podrá recibir viáticos y prima de localización simultáneamente",0,18,null,35,"COL0026486","Agua y Energía - AyE","ING","Categoría A",{"$f":"ROW()","v":43}]
[null,null,"D3170005","Accesorios en madera para transporte de mercancías-estibas",1,{"$f":"ROW()","v":44},8,null,null,"2.1.1.01.01.002.21.01","Beneficios a los empleados a corto plazo Recursos destinados al pago a que tienen derecho los empleados públicos al cumplirse cinco años de antigüedad de servicios prestados en un trabajo, según lo estipulado en la ley. de acuerdo con la entidad y régimen salarial que rija para el mismo.“El quinquenio es un beneficio laboral que se reconoce con ocasión de la prestación del servicio por un lapso determinado, sin que manera alguna cubra riesgo o necesidad alguno del empleado. Motivo por el cual, en concepto de esta Oficina, el quinquenio es Salario o Remuneración”. (Concepto 11547 de 2002 Departamento Administrativo de la Función Pública). Asi mismo puede corresponder a un beneficio salarial especial al trabajador en el marco de una convención o Pacto Colectivo, siempre que cumpla con cinco (5) años de servicio continuo en la entidad.",0,21,null,40,"COL0005439","GEOTECNIA","ING","Categoría A",{"$f":"ROW()","v":44}]
[null,null,"D4219016","Accesorios especiales para construcción de puentes y viaductos",1,{"$f":"ROW()","v":45},8,null,null,"2.1.1.01.01.002.21.02","Beneficios a los empleados a largo plazo Recursos destinados al pago a que tienen derecho los empleados públicos al cumplirse cinco años de antigüedad de servicios prestados en un trabajo, según lo estipulado en la ley. de acuerdo con la entidad y régimen salarial que rija para el mismo.“El quinquenio es un beneficio laboral que se reconoce con ocasión de la prestación del servicio por un lapso determinado, sin que manera alguna cubra riesgo o necesidad alguno del empleado. Motivo por el cual, en concepto de esta Oficina, el quinquenio es Salario o Remuneración”. (Concepto 11547 de 2002 Departamento Administrativo de la Función Pública). Asi mismo puede corresponder a un beneficio salarial especial al trabajador en el marco de una convención o Pacto Colectivo, siempre que preste sus servicios entre 5 y 15 años a la Entidad o mayor a 15 años.",0,21,null,51,"COL0052163","GISSIC: Grupo de Investigacion en Seguridad y Sistemas de Comunicaciones","ING","Categoría A",{"$f":"ROW()","v":45}]
[null,null,"D3844019","Accesorios especiales para deportes (rodilleras, musleras, suspensorios, vendas)",1,{"$f":"ROW()","v":46},8,null,null,"2.1.1.01.01.002.22","Remuneración adicional Corresponde a remuneración a la que tienen derecho los empleados al servicio de la Contraloría General de la República que laboren ordinariamente en los departamentos creados por el Artículo 309207de la Constitución Política y en el Departamento del Caquetá. Esta remuneración es equivalente al 8% de la asignación básica mensual que les corresponde",0,18,null,61,"COL0151789","Grupo de Investigación en Ambiente, Ciencia y Tecnología -GREST- ","ING","Categoría A",{"$f":"ROW()","v":46}]
[null,null,"D3722107","Accesorios fijos de loza o porcelana para cuartos de baño",1,{"$f":"ROW()","v":47},8,null,null,"2.1.1.01.01.002.23","Prima capacitación no acogidos Reconocimiento que hace la ley a Magistrados del Tribunal, Jueces Superiores, de menores o circuitos en razón de estudios de post-grado, obra de investigación científica publicada o ejercicio de la docencia universitaria, todo en materias relacionadas con su cargo y especialidad (Art. 3, Decreto 903 de 1969 y Decreto 717 de 1978).El Consejo Superior de la administración de justicia para la determinación individual del monto de la prima de capacitación, que puede ascender hasta el 10% de la respectiva asignación mensual, analizará en singular cada factor invocado y demostrado, teniendo en cuenta la naturaleza, pertinencia, duración e intensidad, abundancia y pertinencia de la obra científica; y la antigüedad, perseverancia, rendimiento y pertinencia del ejercicio del magisterio (Art. 4 del Decreto 760 de 1970).",0,18,null,3,"COL0016999","Estructuras y sísmica","ING","Categoría A1",{"$f":"ROW()","v":47}]
[null,null,"D4299950","Accesorios metálicos para bombillos",1,{"$f":"ROW()","v":48},8,null,null,"2.1.1.01.01.002.24","Prima del nivel ejecutivo Corresponde a la prima a la que tiene derecho el personal del nivel ejecutivo de la Policía Nacional en servicio activo. Es equivalente al 20% de la asignación básica mensual, no tiene carácter salarial para ningún efecto, con excepción de la prima de navidad",0,18,null,27,"COL0065804","VOLTA - Grupo de Materiales, Corrosión, Degradación y Protección (GMCDP) ","ING","Categoría A1",{"$f":"ROW()","v":48}]
[null,null,"D4299909","Accesorios metálicos para cortinas",1,{"$f":"ROW()","v":49},8,null,null,"2.1.1.01.01.002.25","Prima de retorno a la experiencia Es el reconocimiento económico que hace la ley al personal del nivel ejecutivo de la Policía Nacional por cada año de servicio que permanezca en el mismo grado de acuerdo con el porcentaje del sueldo básico",0,18,null,28,"COL0036025","DAVINCI","ING","Categoría A1",{"$f":"ROW()","v":49}]
[null,null,"D4291107","Accesorios metálicos para cuartos de baño",1,{"$f":"ROW()","v":50},8,null,null,"2.1.1.01.01.002.26","Prima de vuelo",0,18,null,9,"COL0116636","GIDAM","ING","Categoría B",{"$f":"ROW()","v":50}]
[null,null,"D4299928","Accesorios metálicos para el transporte de mercancías-estibas",1,{"$f":"ROW()","v":51},8,null,null,"2.1.1.01.01.002.27","Prima de carestía Reconocimiento que se hace en el mes de abril de cada año a los trabajadores oficiales vinculados a 31 de diciembre del año inmediatamente anterior de una prima de carestía, de conformidad con lo previsto en la convención colectiva de trabajo vigente.. NE : Concepto exclusivo Universidad Nacional de Colombia",0,18,null,17,"COL0049999","PRODUCCION, INNOVACION Y TECNOLOGIA","ING","Categoría B",{"$f":"ROW()","v":51}]
[null,null,"D4129304","Accesorios metálicos para fontanería, excepto válvulas",1,{"$f":"ROW()","v":52},8,null,null,"2.1.1.01.01.002.28","Bonificación cargo académico administrativo Reconocimiento de bonificación mensual a los docentes que por acto administrativo desempeñan cargos académico administrativos en funciones directivas.",0,18,null,60,"COL0047566","INGENIERÍA, GEOMÁTICA Y EDUCACIÓN (IGE)","ING","Categoría B",{"$f":"ROW()","v":52}]
[null,null,"D4299214","Accesorios metálicos para muebles",1,{"$f":"ROW()","v":53},8,null,null,"2.1.1.01.01.002.29","Bonificación bienestar universitario Corresponde al pago a los servidores públicos según Acuerdo CSU 005 de 1998, aplica para docentes de carrera universitaria.NE: Aplica para la Universidad Nacional de Colombia.",0,18,null,5,"COL0143731","GI-iTEC - Grupo de Investigación e innovación Tecnológica en Electrónica y Comunicaciones","ING","Categoría C",{"$f":"ROW()","v":53}]
[null,null,"D4324009","Accesorios metálicos para neumáticos",1,{"$f":"ROW()","v":54},8,null,null,"2.1.1.01.01.002.30","Cuatrienios Recursos destinados al pago a que tienen derecho los empleados públicos al cumplirse Cuatro años de antigüedad de servicios prestados en un trabajo, según lo estipulado en la ley.",0,18,null,10,"COL0194866","Ingeniería de Procesos y Tecnologías Sostenibles","ING","Categoría C",{"$f":"ROW()","v":54}]
[null,null,"D4299907","Accesorios metálicos para persianas",1,{"$f":"ROW()","v":55},8,null,null,"2.1.1.01.01.002.31","Bonificación Pedagógica Docentes Prescolar, Básica y Media La bonificación pedagógica será reconocida para docentes y directivos docentes de entidades territoriales, pagadera una sola vez al año de acuerdo con los porcentajes indicados; cuando el docente o directivo docente cumpla un año continúo de servicio efectivamente prestado; constituye factor salarial y no tendrá efectos retroactivos.",0,18,null,41,"COL0117052","Energia alternativa, Centro Multidisciplinario de Investigación","ING","Categoría C",{"$f":"ROW()","v":55}]
[null,null,"D4324007","Accesorios metálicos para tuberías",1,{"$f":"ROW()","v":56},8,null,null,"2.1.1.01.01.002.32","Sobresueldo docentes y directivos docentes Prescolar, Básica y Media Es la asignación adicional para docentes de prescolar vinculados en este nivel antes del 23 de febrero de 1984 y que permanezca sin solución de continuidad desempeñándose en el mismo cargo, equivalente al quince por ciento (15%) calculado sobre la asignación básica mensual. Dicha asignación adicional dejará de percibirse al cambiar de nivel educativo.",0,18,null,49,"COL0036749","ACCEDER","ING","Categoría C",{"$f":"ROW()","v":56}]
[null,null,"D4129306","Accesorios n.c.p. para tubería metálica",1,{"$f":"ROW()","v":57},8,null,null,"2.1.1.01.01.002.33","Bonificación Educadores de Básica y Media Corresponde a la bonificación para los servidores públicos docentes y directivos docentes al servicio del Estado en los niveles de preescolar, básica y media, regidos por el Decreto Ley 2277 de 1979, el Decreto Ley 1278 de 2002 o la Sección 4, Capítulo 5, Título 3, Parte 3 del Decreto 1075 de 2015, Único Reglamentario del Sector Educación, y pagados con cargo al Sistema General de Participaciones, una bonificación, que se reconocerá mensualmente a partir del primero (01) de enero de 2020 y hasta el treinta y uno (31) diciembre de 2020, mientras el servidor público permanezca en el servicio.",0,18,null,56,"COL0196753","PROCESOS, OPERACIONES Y LOGISTICA (PROPYLOG)","ING","Categoría C",{"$f":"ROW()","v":57}]
[null,null,"D2712011","Accesorios para baño de tejidos esponjosos de algodón",1,{"$f":"ROW()","v":58},8,null,null,"2.1.1.01.01.002.34","Prima de clima o de calor Es el reconocimiento económico que se realiza a los empleados públicos que desempeñan sus funciones en condiciones climáticas desfavorables para su salud, de acuerdo con las condiciones legales.",0,18,null,67,"COL0196799","Sistemas de Infraestructura de Ingeniería Civil","ING","Categoría C",{"$f":"ROW()","v":58}]
[null,null,"D2712008","Accesorios para cocina en tejidos de algodón",1,{"$f":"ROW()","v":59},8,null,null,"2.1.1.01.01.002.35","Prima Movil Es el reconocimiento económico que se realiza a los empleados públicos que desempeñan sus funciones como operadores de maquinaria pesada (especial I y especial II), en el marco de una Convención colectiva.",0,18,null,73,"COL0126777","LA TRAMOYA","ING","No Reconocido",{"$f":"ROW()","v":59}]
[null,null,"D4621299","Accesorios para instalaciones eléctricas n.c.p.",1,{"$f":"ROW()","v":60},8,null,null,"2.1.1.01.01.002.36","Prima de vida cara Corresponde al pago que realiza el municipio de Medellín en el marco de la Convención Colectiva firmada con los Trabajadores Oficiales del municipio.",0,18,null,20,"COL0175225","Grupo de Investigación en Enfermedades Infecciosas Hospital Militar Central ","MED","Categoría A1",{"$f":"ROW()","v":60}]
[null,null,"D4654101","Accesorios para lámparas de mercurio",1,{"$f":"ROW()","v":61},8,null,null,"2.1.1.01.01.002.37","Prima de Riesgo   Prima creada por convención colectiva para los trabajadores que manipulan explosivos en la Industria Militar. La cual corresponderá a dos salarios básico por cada año de servicio",0,18,null,63,"COL0152472","Grupo de Inmunología Clínica Aplicada","MED","Categoría A1",{"$f":"ROW()","v":61}]
[null,null,"D4654103","Accesorios para lámparas fluorescentes",1,{"$f":"ROW()","v":62},8,null,null,"2.1.1.01.01.002.38","Remuneración Sorteo Semanal Corresponde a la remuneración que realiza la lotería de Cundinamarca a los trabajadores que participen en las labores de la realización semanal de sorteos.",0,18,null,12,"COL0129689","GRUPO DE SALUD ORAL Y CIRUGIA MAXILOFACIAL","MED","Categoría C",{"$f":"ROW()","v":62}]
[null,null,"D4654102","Accesorios para lámparas incandescentes",1,{"$f":"ROW()","v":63},8,null,null,"2.1.1.01.01.002.39","Vacaciones Corresponde al reconocimiento que por mera liberalidad realiza el empleador al trabajador por concepto de vacaciones cuando estas se consideran como un factor salarial, en aplicación de lo establecido en el código sustantivo de trabajo.",0,18,null,13,"COL0125134","Kokhlias","MED","Categoría C",{"$f":"ROW()","v":63}]
[null,null,"D3844017","Accesorios para piscinas",1,{"$f":"ROW()","v":64},8,null,null,"2.1.1.01.01.002.40","Distinción Son los reconocimientos que se otorgan al Patrullero en servicio activo, por su tiempo de servicio, buen comportamiento y profesionalización, previo el lleno de los requisitos dispuestos en la Ley 2179 de 2021.",0,18,null,25,"COL0045848","Epidemiología molecular de enfermedades endocrinas","MED","Categoría C",{"$f":"ROW()","v":64}]
[null,null,"D4653902","Accesorios para reflectores",1,{"$f":"ROW()","v":65},8,null,null,"2.1.1.01.02.001","Aportes a la seguridad social en pensiones Son los pagos por concepto de contribución social que hacen los empleadores a los fondos de seguridad social en pensiones. Este pago se realiza en virtud de la Ley 100 de 1993, por medio de la cual se creó el Sistema de Seguridad Social de Pensiones, y se estableció la obligatoriedad de la afiliación de todos los empleados al sistema.Este aporte tiene como finalidad garantizar a la población el amparo contra las contingencias derivadas de la vejez, la invalidez y la muerte, mediante el reconocimiento de las pensiones y prestaciones correspondientes (Ley 100 de 1993, art. 10).",0,15,null,29,"COL0116439","Grupo de Investigacion en Dermatologia HMC","MED","Categoría C",{"$f":"ROW()","v":65}]
[null,null,"D4293116","Accesorios para tanques de combustible",1,{"$f":"ROW()","v":66},8,null,null,"2.1.1.01.02.002","Aportes a la seguridad social en salud Son los pagos por concepto de contribución social que hacen los empleadores a las Entidades Promotoras en Salud (EPS) para el cubrimiento de riesgos de salud de sus empleados. Este pago se realiza en virtud de la Ley 100 de 1993, la cual creó el Sistema de Seguridad Social en Salud y estableció como deberes del empleador realizar cumplidamente los aportes correspondientes.",0,15,null,31,"COL0120281","GRUPO DE REHABILITACION HOMIC-UMNG","MED","Categoría C",{"$f":"ROW()","v":66}]
[null,null,"D4151603","Accesorios para tubería de cobre",1,{"$f":"ROW()","v":67},8,null,null,"2.1.1.01.02.003","Aportes de cesantías Es la contribución de cesantías, que el empleador está obligado a pagar en razón de un mes de sueldo o jornal por cada año de servicio de su empleado, proporcionalmente fraccionado. Este aporte tiene como fin cubrir o prever las necesidades que se originan al trabajador al momento de quedar cesante. (Departamento Administrativo de la Función Pública, 2012).Los aportes a los fondos administradores de cesantías entraron en vigor para entidades territoriales con la Ley 344 de 1996. Así mismo, la Ley 432 de 1998 permitió que el personal del nivel territorial se afiliara al Fondo Nacional del Ahorro.",0,15,null,33,"COL0138698","GRUPO NEUROCIENCIAS HMC","MED","Categoría C",{"$f":"ROW()","v":67}]
[null,null,"D2165101","Aceite crudo de palma africana",1,{"$f":"ROW()","v":68},{"$f":"LEN(C68)","v":8},null,null,"2.1.1.01.02.004","Aportes a cajas de compensación familiar Son los pagos por concepto de la contribución social que hacen los empleadores a las Cajas de Compensación familiar para el cubrimiento del subsidio familiar y de vivienda.",0,{"$f":"LEN(J68)","v":15},null,39,"COL0126015","GRUPO DE PSORIASIS E INMUNODERMATOLOGIA","MED","Categoría C",{"$f":"ROW()","v":68}]
[null,null,"D2169113","Aceite crudo de palmiste",1,{"$f":"ROW()","v":69},8,null,null,"2.1.1.01.02.005","Aportes generales al sistema de riesgos laborales Son los pagos por concepto de contribución social que hacen los empleadores a una Administradora de Riesgos Laborales (ARL), según elección, liquidación y las tablas de riesgo establecidas legalmente; para el cubrimiento de las prestaciones económicas y asistenciales derivadas de un accidente de trabajo o una enfermedad profesional (Ley 100 de 1993; Decreto 1295 de 1994).El monto de las cotizaciones no podrá ser inferior al 0.348%, ni superior al 8.7%, de la base de cotización de los trabajadores a cargo del respectivo empleador (Decreto 1295 de 1994, art.18). Este pago se realiza en virtud de la Ley 100 de 1993, la cual creó el sistema General de Riesgos laborales, y el Decreto 1295 de 1994, el cual establece: […] c) Todos los empleadores deben afiliarse al Sistema General de Riesgos Profesionales. […] d) La afiliación de los trabajadores dependientes es obligatoria para todos los empleadores. […]El empleador que no afilie a sus trabajadores al Sistema General de Riesgos Profesionales, además de las sanciones legales, será responsable de las prestaciones que se otorgan en este decreto (Decreto 1295 de 1994, art. 4).",0,15,null,42,"COL0152463","EDUMECIS","MED","Categoría C",{"$f":"ROW()","v":69}]
[null,null,"D2168102","Aceite crudo de semillas de algodón",1,{"$f":"ROW()","v":70},8,null,null,"2.1.1.01.02.006","Aportes al ICBF Son los pagos por concepto de contribución parafiscal que hacen los empleadores al Instituto Colombiano de Bienestar Familiar (ICBF). Esta contribución está destinada a atender la creación y sostenimiento de centros de atención integral al preescolar, para menores de 7 años hijos del personal con quien la entidad tiene una relación laboral (Ley 27 de 1974; modificado por Ley 89 de 1998, art. 1)",0,15,null,44,"COL0191078","GRUPO DE INVESTIGACIONES SOBRE AGENTES RADIOLÓGICOS, BIOLÓGICOS Y QUÍMICOS","MED","Categoría C",{"$f":"ROW()","v":70}]
[null,null,"D2169104","Aceite de ajonjolí, refinado",1,{"$f":"ROW()","v":71},8,null,null,"2.1.1.01.02.007","Aportes al SENA Es la contribución parafiscal a pagar por la Nación (por intermedio de los Ministerios, Departamentos Administrativos y Superintendencias), los establecimientos públicos, las empresas industriales y comerciales y las empresas de economía mixta de las órdenes nacional, departamental, Intendencias, distrital y municipal, y los empleados que ocupen uno o más trabajadores permanentes al SENA. Los aportes para la Nación son equivalentes al 0,5% de la nómina mensual de salarios y están destinados a programas específicos de formación profesional acelerada, durante la prestación del servicio militar obligatorio. Los aportes de los demás contribuyentes son equivalentes al 2% de las nóminas respectivas (Ley 21 de 1982, arts. 7 a 12). De acuerdo con la Ley 223 de 1995, las universidades públicas no están obligadas a realizar aportes al SENA (Ley 223 de 1995, art. 181).",0,15,null,46,"COL0194721","Grupo de Investigación en Cirugía pediátrica y especialidades CIPEMIL","MED","Categoría C",{"$f":"ROW()","v":71}]
[null,null,"D2169103","Aceite de ajonjolí, sin refinar",1,{"$f":"ROW()","v":72},8,null,null,"2.1.1.01.02.008","Aportes a la ESAP Contribución parafiscal a pagar por la Nación, los departamentos, intendencias, comisarías, el Distrito Especial de Bogotá y los municipios empleadores a la ESAP. La Ley establece el porcentaje a pagar, el cual se calcula sobre los pagos por concepto de salarios (Ley 21 de 1982, art. 8).",0,15,null,48,"COL0152319","Epidemiología y Salud Colectiva ","MED","Categoría C",{"$f":"ROW()","v":72}]
[null,null,"D2169111","Aceite de arroz, refinado",1,{"$f":"ROW()","v":73},8,null,null,"2.1.1.01.02.009","Aportes a escuelas industriales e institutos técnicos Son los pagos por concepto de contribución parafiscal que hacen los empleadores a favor de las escuelas industriales e institutos técnicos. Este aporte es equivalente al 0,5% de la nómina mensual de salarios de los contribuyentes (Ley 21 de 1982, art. 11)",0,15,null,50,"COL0134044","ORTOPEDIA Y TRAUMATOLOGIA HMC UMNG","MED","Categoría C",{"$f":"ROW()","v":73}]
[null,null,"D2169110","Aceite de arroz, sin refinar",1,{"$f":"ROW()","v":74},8,null,null,"2.1.1.01.02.010","Aporte subsidio de vivienda fuerzas militares y policía Es el aporte a pagar por los empleados públicos y, según lo contratado, los trabajadores oficiales de determinados niveles o condiciones salariales en la cuantía y condiciones señaladas en el Decreto 353 de 1994, la Ley 973 de 2005 y la Ley 1305 de 2009. Estos recursos son administrados por la Caja Promotora de Vivienda Militar y de Policía. De acuerdo con el artículo 19 de la Ley 973 de 2005, el pago a la Caja Promotora de vivienda y de Policía debe transferirse en la misma fecha en la que se realizan las consignaciones de los aportes al 180 sistema general de pensiones y de seguridad social en salud.Adicionalmente, el artículo 20 de la ley en mención, dispone que: En todas las entidades empleadoras de los afiliados a la Caja Promotora de Vivienda Militar y de Policía, será obligatorio incluir en sus anteproyectos de presupuestos las partidas necesarias que serán transferidas a la Caja Promotora de Vivienda Militar y de Policía, por concepto de aportes de cesantías de los afiliados a dicha entidad para atender las cesantías de la respectiva vigencia (Ley 973 de 2005).",0,15,null,66,"COL0116538","Grupo de Investigacion en Urologia HMC","MED","Categoría C",{"$f":"ROW()","v":74}]
[null,null,"D2152502","Aceite de bacalao refinado",1,{"$f":"ROW()","v":75},8,null,null,"2.1.1.01.02.020.01","  Aportes a la seguridad social en pensiones Son los pagos por concepto de contribución social que hacen los Departamentos (Asamblea) o municipios a los fondos de seguridad social en pensiones a los que se encuentren afiliados los diputados o concejales, según corresponda. Estos pagos se realizan en virtud de la Ley 1871 de 2017 y 2075 de 2021.",0,18,null,69,"COL0049659","CATCH","MED","No Reconocido",{"$f":"ROW()","v":75}]
[null,null,"D2152501","Aceite de bacalao sin refinar",1,{"$f":"ROW()","v":76},8,null,null,"2.1.1.01.02.020.02","  Aportes a la seguridad social en salud Son los pagos por concepto de contribución social que hacen los Departamentos (Asamblea) o municipios a las Entidades Promotoras en Salud (EPS) para el cubrimiento de riesgos de salud de los diputados o concejales, según corresponda. Estos pagos se realizan en virtud de la Ley 1871 de 2017 y 2075 de 2021.",0,18,null,70,"COL0149359","GAFRED","MED","No Reconocido",{"$f":"ROW()","v":76}]
[null,null,"D2152601","Aceite de ballena sin refinar",1,{"$f":"ROW()","v":77},8,null,null,"2.1.1.01.02.020.03","  Aportes de cesantías Corresponde al Auxilio de cesantía e intereses sobre las cesantías, que reconocen los Departamentos (Asamblea) a los diputados, de acuerdo a lo establecido en la Ley 1871 de 2017. Su liquidación se orientará por los artículos 3o y 4o de la Ley 5 de 1969 y el artículo 13 de la Ley 344 de 1996 o por las normas que lo adicionen o modifiquen.",0,18,null,71,"COL0096032","BioGenEtica & BioDerecho","MED","No Reconocido",{"$f":"ROW()","v":77}]
[null,null,"D2166201","Aceite de coco, refinado",1,{"$f":"ROW()","v":78},8,null,null,"2.1.1.01.02.020.04","  Aportes a cajas de compensación familiar Son los pagos por concepto de la contribución social que hacen los Departamentos (Asamblea) o municipios a las Cajas de Compensación familiar para el cubrimiento del subsidio familiar y de vivienda de los diputados y concejales, en cumplimiento de la Ley 1871 de 2017 y 2075 de 2021.",0,18,null,74,"COL0033239","Salud y Comportamiento","MED","No Reconocido",{"$f":"ROW()","v":78}]
[null,null,"D2166101","Aceite de coco, sin refinar",1,{"$f":"ROW()","v":79},8,null,null,"2.1.1.01.02.020.05","  Aportes generales al sistema de riesgos laborales Son los pagos por concepto de contribución social que hacen los Departamentos (Asamblea) o municipios a una Administradora de Riesgos Laborales (ARL), en cumplimiento de la Ley 1871 de 2017 y 2075 de 2021, para el cubrimiento de las prestaciones económicas y asistenciales derivadas de un accidente de trabajo o una enfermedad profesional de los diputados o concejales.",0,18,null,75,"COL0047762","BONE","MED","No Reconocido",{"$f":"ROW()","v":79}]
[null,null,"D2163201","Aceite de girasol, refinado",1,{"$f":"ROW()","v":80},8,null,null,"2.1.1.01.02.020.06","  Aportes al ICBF Son los pagos por concepto de contribución parafiscal que hacen los departamentos (Asamblea) al Instituto Colombiano de Bienestar Familiar (ICBF), por las remuneraciones que reconoce a los diputados.",0,18]
[null,null,"D2163101","Aceite de girasol, sin refinar",1,{"$f":"ROW()","v":81},8,null,null,"2.1.1.01.02.020.07","  Aportes al SENA Es la contribución parafiscal a pagar por los Departamentos (asamblea) al SENA, por las remuneraciones que reconoce a los diputados.",0,18]
[null,null,"D2169109","Aceite de higuerilla, sin refinar",1,{"$f":"ROW()","v":82},8,null,null,"2.1.1.01.02.020.08","  Aportes a la ESAP Contribución parafiscal a pagar por los departamentos (Asamblea), por las remuneraciones que reconoce a los diputados.",0,18]
[null,null,"D2169102","Aceite de linaza, refinado",1,{"$f":"ROW()","v":83},8,null,null,"2.1.1.01.02.020.09","  Aportes a escuelas industriales e institutos técnicos Son los pagos por concepto de contribución parafiscal que hacen los Departamentos (Asambleas) a favor de las escuelas industriales e institutos técnicos. por las remuneraciones que reconoce a los diputados.",0,18]
[null,null,"D2169101","Aceite de linaza, sin refinar",1,{"$f":"ROW()","v":84},8,null,null,"2.1.1.01.03.001.01","Vacaciones Es el pago por el descanso remunerado a que tiene derecho el empleado después de un año de labor en la entidad. Esta retribución se reconoce a los empleados por la totalidad de días de vacaciones y corresponde a quince (15) días de trabajo, y será pagado al menos cinco (5) días con antelación a la fecha señalada para iniciar el goce del descanso remunerado (Decreto 1045 de 1978, arts. 18 y 48).",0,18]
[null,null,"D2169106","Aceite de maíz, refinado",1,{"$f":"ROW()","v":85},8,null,null,"2.1.1.01.03.001.02","Indemnización por vacaciones Corresponde a la compensación en dinero a la que tiene derecho el empleado por vacaciones causadas, pero no disfrutadas. En principio, la compensación en dinero de las vacaciones está prohibida, en tanto estas constituyen un derecho del que gozan todos los trabajadores como quiera que el reposo es una condición mínima que ofrece la posibilidad de que el empleado renueve la fuerza y la dedicación para el desarrollo de sus actividades (Corte Constitucional, Sentencia C-598/1997).Por ello, el reconocimiento de la indemnización por vacaciones se limita a los siguientes casos: •Cuando el jefe del respectivo organismo así lo estime necesario para evitar perjuicios en el servicio público, evento en el cual sólo puede autorizar la compensación en dinero de las vacaciones correspondientes a un año. •Cuando el empleado público o trabajador oficial quede retirado definitivamente del servicio sin haber disfrutado de las vacaciones causadas hasta entonces (Decreto 1045 de 1978, art. 20).",0,18]
[null,null,"D2169105","Aceite de maíz, sin refinar",1,{"$f":"ROW()","v":86},8,null,null,"2.1.1.01.03.001.03","Bonificación especial de recreación Es la retribución que se reconoce a los empleados por cada periodo de vacaciones en el momento de iniciar el disfrute del respectivo periodo vacacional. La cuantía de la bonificación por recreación equivale a dos días de la asignación básica mensual que le corresponda al empleado.Esta bonificación no constituirá factor de salario para ningún efecto legal y se pagará por lo menos con cinco (5) días hábiles de antelación a la fecha de inicio en el evento que se disfrute del descanso remunerado (Decreto 229 de 2016, art. 16).",0,18]
[null,null,"D2162201","Aceite de maní, refinado",1,{"$f":"ROW()","v":87},8,null,null,"2.1.1.01.03.001.04","Subsidio Familiar Es la prestación social pagadera en dinero, especie y servicios a los empleados públicos y trabajadores oficiales públicos de medianos y menores ingresos en proporción al número de personas a cargo.",0,18]
[null,null,"D2162101","Aceite de maní, sin refinar",1,{"$f":"ROW()","v":88},8,null,null,"2.1.1.01.03.001.05","Vacaciones de diputados Corresponde al reconocimiento por vacaciones al que tienen derechos los servidores públicos que ejercen como diputados. Su cuantía y término se reconoce de conformidad con lo establecido en el Decreto número 1045 de 1978. Para el reconocimiento se tendrá en cuenta como si se hubiese sesionado todo el año.",0,18]
[null,null,"D2224102","Aceite de mantequilla",1,{"$f":"ROW()","v":89},8,null,null,"2.1.1.01.03.002","Bonificación de dirección Es la retribución económica reconocida a determinados funcionarios del Estado, quienes desempeñan labores relacionadas con la dirección.",0,15]
[null,null,"D2164201","Aceite de mostaza o de colza, refinado",1,{"$f":"ROW()","v":90},8,null,null,"2.1.1.01.03.003","Bonificación de dirección para gobernadores y alcaldes Es la retribución económica reconocida a gobernadores y alcaldes creada por el decreto 4353 de 2004 (modificado por el Decreto 1390 de 2008), pagadera en tres pagos contados iguales durante el año, en los meses de abril, agosto y diciembre del respectivo año.",0,15]
[null,null,"D2164101","Aceite de mostaza o de colza, sin refinar",1,{"$f":"ROW()","v":91},8,null,null,"2.1.1.01.03.004","Bonificación de gestión territorial para alcaldes Es una retribución pagadera anualmente a los alcaldes, en dos contados iguales durante el año, en los meses de junio y diciembre. Para los alcaldes de los municipios de categoría especia, primera, segunda y tercera esta bonificación equivale al 100% de la asignación básica más gastos de representación. Para los alcaldes de los municipios de categoría cuarta, quinta y sexta, esta bonificación equivale al 150% de la asignación básica más gastos de representación.",0,15]
[null,null,"D2169197","Aceite de nueces, refinado n.c.p.",1,{"$f":"ROW()","v":92},8,null,null,"2.1.1.01.03.005","Reconocimiento por permanencia en el servicio público - Bogotá D.C. Es la retribución a la que tienen derecho los funcionarios, por prestar sus servicios por periodos de 5 años consecutivos, sin interrupciones, y por haber desempeñado más funciones con corrección y competencia.",0,15]
[null,null,"D2169196","Aceite de nueces, sin refinar n.c.p.",1,{"$f":"ROW()","v":93},8,null,null,"2.1.1.01.03.006","Honorarios concejales Es el pago de los honorarios reconocidos a los concejales por su asistencia a las sesiones del Concejo Municipal.De acuerdo con el Consejo de Estado (Concepto N° 1760 del 10 de agosto de 2006), los honorarios recibidos por los concejales no tienen calidad jurídica de salario, razón por la cual no son considerados para la liquidación de los aportes parafiscales.",0,15]
[null,null,"D2167201","Aceite de oliva, refinado",1,{"$f":"ROW()","v":94},8,null,null,"2.1.1.01.03.007","Honorarios ediles Es el pago de los honorarios reconocidos a los ediles del distritos por su asistencia a las sesiones y comisiones permanentes.",0,15]
[null,null,"D2167101","Aceite de oliva, sin refinar",1,{"$f":"ROW()","v":95},8,null,null,"2.1.1.01.03.008","Subsidio de transporte a personeros Es el pago del subsidio de transporte que se reconoce a los personeros municipales, en virtud del artículo 36 de la Ley 1551 de 2012. De acuerdo con el artículo en mención, en los municipios de categoría tercera, cuarta, quinta y sexta, los personeros tienen derecho a un subsidio de 6 salaríos mínimos mensuales legales por una única vez al inicio de su periodo.",0,15]
[null,null,"D2165201","Aceite de palma africana, refinado",1,{"$f":"ROW()","v":96},8,null,null,"2.1.1.01.03.009","Prima técnica no salarial Comprende la prima técnica por evaluación del desempeño y la prima técnica automática.La prima técnica por evaluación de desempeño se otorga a funcionarios directivos, jefes de oficina asesora o asesores que obtienen un porcentaje correspondiente al 90%, como mínimo, del total de la última evaluación del desempeño, correspondiente a un periodo no inferior a 3 meses en el ejercicio del cargo en propiedad (Decreto 1164 de 2012). No puede ser superior al 50% de la asignación básica mensual del empleado al que se le asigna la prima.Por su parte, la prima técnica automática es otorgada a altos funcionarios, en virtud de las calidades excepcionales del ejercicio de sus funciones. Equivale al 50% del sueldo y los gastos de representación de los empleados.De acuerdo con el artículo 7 del Decreto 1661 de 1991, no constituyen factor salarial: la prima técnica por evaluación de desempeño y la prima técnica automática.",0,15]
[null,null,"D2169114","Aceite de palmiste, refinado",1,{"$f":"ROW()","v":97},8,null,null,"2.1.1.01.03.010","Bonificación especial por servicios de seguridad a ex presidentes Corresponde al pago que se les hace a los funcionarios de las Fuerzas Militares, de la Policía Nacional y el Departamento Administrativo de Seguridad, asignados de forma permanente en la prestación de servicios para garantizar la seguridad de los ex presidentes de la República y sus cónyuges sobrevivientes, equivalente al 30% de la asignación básica mensual que reciben.El pago de esta bonificación se hará con cargo al presupuesto de la entidad a la cual se encuentre vinculado el funcionario (art. 4, Decreto 1700 de 2010).",0,15]
[null,null,"D2152599","Aceite de pescado refinado n.c.p.",1,{"$f":"ROW()","v":98},8,null,null,"2.1.1.01.03.011","Bonificación especial por servicios de comisión en Presidencia Corresponde al pago de una asignación mensual adicional, equivalente al 60% del suelo básico mensual, que se reconoce al personal del Ministerio de Defensa, de las Fuerzas Militares, de la Policía Nacional y de la Unidad Nacional de Protección (UNP), que preste sus servicios en comisión en el Departamento Administrativo de la Presidencia de la República, bien sea en la Casa Militar o en la Secretaría para la Seguridad del Presidente y de la familia presidencial, aun por fuera de la sede habitual de residencia de la familia presidencial. En iguales condiciones, tendrán derecho a esta bonificación, los soldados que presten el servicio en el Palacio Presidencial-Casa de Nariño.Para tener derecho al reconocimiento y pago de la bonificación, el personal debe haber prestado el servicio total o parcialmente en jornadas de trabajos extras diurnas o nocturnas y previa certificación del Secretario para la Seguridad del Presidente, sobre la prestación del servicio o del Jefe de la Casa Militar de Palacio, o el Jefe de Guarnición, en cada caso (art. 1, Decreto 1794 de 2012).",0,15]
[null,null,"D2152598","Aceite de pescado sin refinar n.c.p.",1,{"$f":"ROW()","v":99},8,null,null,"2.1.1.01.03.012","Prima de riesgo Reconocimiento que hace la ley a los funcionarios que prestan servicios de alto riesgo, en los siguientes términos:- Para los conductores de los Ministros y Directores de Departamento Administrativos la prima de riesgo será equivalente al veinte por ciento (20%) de la asignación básica mensual (Decreto 229 de 2016, art. 8)- Para los conductores del Ministro de Defensa Nacional, el Comandante General de las Fuerzas Militares, los Comandantes de Fuerza y del Director General de la Policía Nacional la prima de riesgo será del 20% de la asignación básica mensual (Decreto 214 de 2016, art. 33).- Para el personal de los organismos de seguridad del Estado en comisión en los establecimientos de reclusión del Instituto Nacional Penitenciario y Carcelario -INPEC la prima de riesgo corresponderá al 30% de la asignación básica mensual (Decreto 229 de 2016, art. 34).- Para el personal de la Imprenta Distrital, guardianes de la cárcel distrital, personal de vigilancia de la Secretaría de Tránsito y Transportes, radio operadores de la Administración Central, Técnicos en Salud Ocupacional, operadores de equipos, auxiliares de ingeniería y técnicos de la división de ingeniería de la Secretaría de Tránsito y Transportes. Empleados de publicaciones de la Secretaría de Educación, operarios de la Fábrica de Pupitres San Blas y Fábrica de Tiza de la Secretaría de Educación con más de cinco (5) años de servicio la prima de riesgo se paga de manera mensual y corresponde a un 5% por ciento de la asignación básica mensual más de un 1% por cada año adicional a los primeros cinco (5) años de servicio, sin que exceda el veinticinco (25%) por ciento.En todos los casos, esta prima no constituye factor salarial para ningún efecto legal.",0,15]
[null,null,"D3440005","Aceite de pino",1,{"$f":"ROW()","v":100},8,null,null,"2.1.1.01.03.013","Prima de gestión Reconocimiento que hace la ley a algunos servidores públicos, en los siguientes términos:- A los negociadores internacionales, correspondiente al 50% de la asignación básica y los gastos de representación (Decreto 229 de 2016, art. 3). - Al Director de la Unidad de Información y Análisis Financiero, correspondiente al 50% de la asignación básica mensual (Decreto 229 de 2016, art. 3).-A los empleados públicos del Congreso, conforme a lo dispuesto en el artículo 5 del Decreto 230 de 2016.En todos los casos, esta prima no constituye factor salarial para ningún efecto legal.",0,15]
[null,null,"D2169108","Aceite de ricino, refinado",1,{"$f":"ROW()","v":101},8,null,null,"2.1.1.01.03.014","Prima de dirección Es el reconocimiento económico que sustituye la prima técnica para los ministros de despacho y directores de departamentos administrativos; a excepción de la prima técnica por estudios de formación avanzada y experiencia altamente calificada (Decreto 1101 de 2015).De acuerdo con el artículo 2 del decreto 1028 de 2015, los oficiales de las Fuerzas Militares y de la Policía Nacional en los grados de Almirante y General tendrán derecho a la Prima de Dirección, en las mismas condiciones que los ministros de despacho.Tienen derecho a la prima técnica los demás funcionarios que legalmente se establezcan como beneficiarios.",0,15]
[null,null,"D2169107","Aceite de ricino, sin refinar",1,{"$f":"ROW()","v":102},8,null,null,"2.1.1.01.03.015","Prima geográfica Corresponde a una asignación sin carácter salarial, otorgada a los funcionarios cuyos cargos estén ubicados en zonas de difícil acceso, clima malsano o alto riesgo por violencia, pagadera mientras subsistan tales factores. Por ejemplo: el Decreto 2372 de 1994 otorga la prima geográfica a los funcionarios de la Registraduría Nacional del Estado Civil que presten sus servicios en dichas zonas.",0,15]
[null,null,"D2168101","Aceite de semilla de algodón, sin refinar",1,{"$f":"ROW()","v":103},8,null,null,"2.1.1.01.03.016","Prima de costo de vida Reconocimiento que hace la ley a los servidores públicos del Ministerio de Relaciones Exteriores y del Ministerio de Comercio, Industria y Turismo que se encuentren prestando servicios en el exterior con el fin de equiparar el ingreso real en pesos de dichos funcionarios a las condiciones económicas y cambiarias de los países de destino (art. 5, Decreto 3357 de 2009 y art. 5, Decreto 4971 de 2009).Este pago no se traduce en un incremento neto del patrimonio del funcionario, por lo tanto, no tiene carácter remuneratorio.",0,15]
[null,null,"D2168201","Aceite de semillas de algodón, refinado",1,{"$f":"ROW()","v":104},8,null,null,"2.1.1.01.03.017","Prima de localización y vivienda Reconocimiento que hace la ley a los miembros del Congreso. Esta prima se paga de forma mensual, no se considera factor salarial, y es equivalente a setecientos mil pesos ($ 700.000.00) (art. 2, Decreto 801 de 1992).",0,15]
[null,null,"D2169199","Aceite de semillas oleaginosas, refinado n.c.p.",1,{"$f":"ROW()","v":105},8,null,null,"2.1.1.01.03.018","Prima de capacitación Reconocimiento que hace la ley a Magistrados de Tribunal, Fiscales o Jueces Superiores, de Menores o de Circuito en razón de estudios de post-grado, obra de investigación científica publicada o ejercicio de la docencia universitaria, todo en materias relacionadas con su cargo y especialidad (Decreto 903 e 1969, art. 3).Para determinar la cuantía individual de la prima, que puede ascender hasta el diez por ciento de la respectiva asignación mensual, el Consejo Superior de la Administración de Justicia analizará en singular cada factor invocado y demostrado, teniendo en cuenta la naturaleza, pertinencia, duración e intensidad, abundancia y pertinencia de la obra científica; y la antigüedad, perseverancia, rendimiento y pertinencia del ejercicio del magisterio (art. 4, Decreto 760 de 1970).Así mismo, es el pago por concepto de prima de capacitación que tiene derecho los miembros del Cuerpo de Custodia y Vigilancia Carcelaria. Reconocida en la Ley 32 de 1986 y en las normas que el Gobierno Nacional expida en desarrollo de la Ley 4ª de 1992.",0,15]
[null,null,"D2169198","Aceite de semillas oleaginosas, sin refinar n.c.p.",1,{"$f":"ROW()","v":106},8,null,null,"2.1.1.01.03.019","Prima de clima o prima de calor Es el reconocimiento económico que se realiza a los empleados públicos que desempeñan sus funciones en condiciones climáticas desfavorables para su salud, de acuerdo con las condiciones legales.",0,15]
[null,null,"D2161201","Aceite de soja, refinado",1,{"$f":"ROW()","v":107},8,null,null,"2.1.1.01.03.020","Estímulos a los empleados del Estado Es el pago de incentivos pecuniarios a los empleados públicos, que tienen por objetivo elevar los niveles de eficiencia, satisfacción, desarrollo y bienestar en el desempeño sus funciones. Lo anterior, en el marco de los programas de incentivos que contempla el sistema de estímulos para los empleados del Estado, regulado por el Decreto 1567 de 1998.No incluye:•Incentivos no pecuniarios establecidos en los planes institucionales según lo dispuesto en el Decreto 1567 de 1998.",0,15]
[null,null,"D2161101","Aceite de soja, sin refinar",1,{"$f":"ROW()","v":108},8,null,null,"2.1.1.01.03.021","Remuneración electoral De acuerdo con el Decreto 1434 de 1982, es el pago a los funcionarios de planta (o ex funcionarios que hubiesen laborado en el periodo pre-electoral) de la Registraduría Nacional del Estado Civil, correspondiente al 150% de su asignación básica mensual.Esta prima se paga una sola vez en cada año electoral, en el mes siguiente la celebración de la última elección del respectivo año (Decreto 1103 de 2015). Esta prima no aplica al Registrador Nacional.",0,15]
[null,null,"D3541005","Aceite esencial de eucalipto",1,{"$f":"ROW()","v":109},8,null,null,"2.1.1.01.03.022","Prima de instalación Reconocimiento que hace la ley a los Oficiales, Suboficiales, Personal del Nivel ejecutivo de la Policía Nacional y los empleados públicos del Ministerio de Defensa, que se encuentren casados, en unión marital permanente o con hijos a su cargo; cuando el traslado o la comisión permanente sea al interior del país (Decreto 1028 de 2015). El pago de la prima de instalación se realiza de conformidad con las disposiciones legales correspondientes.De acuerdo con el artículo 76 de la Ley 32 de 1986, son beneficiarios de la prima de instalación, los miembros del Cuerpo de Custodia y Vigilancia Penitenciaria Nacional que sean trasladados de una localidad a otra, siempre y cuando la solicitud del traslado no la haya realizado el empleado.En cumplimiento a lo establecido en artículo 3° del Decreto Ley 4064 de 2011, Migración Colombia reconoce a los funcionarios incorporados del DAS, la prima de instalación establecida en el artículo 5 del Decreto 1933 de 1989.",0,15]
[null,null,"D3339007","Aceite mineral",1,{"$f":"ROW()","v":110},8,null,null,"2.1.1.01.03.023","Prima de coordinación Es el pago que se realiza a los empleados públicos y trabajadores oficiales que “tengan planta global y que tengan a su cargo la coordinación o supervisión de grupos internos de trabajo, creados mediante resolución del jefe del organismo respectivo” (Decreto 1101 de 2015).El pago de esta prima es reconocido a los empleados de los Ministerios, Departamentos Administrativos, Superintendencias, Establecimientos Públicos, Corporaciones Autónomas Regionales y de Desarrollo Sostenible, las Empresas Sociales del Estado y las Unidades Administrativas Especiales (Decreto 1101, 2015). Esta prima debe ser reconocida a los funcionarios que la ley determine como beneficiarios.Para el caso del Distrito de Bogotá, este reconocimiento se otorga de manera mensual y equivale a un veinte por ciento (20%) adicional al valor de la asignación básica mensual del empleo del cual sean titulares, durante el tiempo en que ejerzan tales funciones.",0,15]
[null,null,"D3339008","Aceites de dilución",1,{"$f":"ROW()","v":111},8,null,null,"2.1.1.01.03.024","Prima de alta gestión De acuerdo con el Decreto 1094 de 2015, la prima de alta gestión es el pago equivalente a “la diferencia entre los ingresos laborales totales anuales recibidos por el Contralor General de la República y los Ingresos laborales totales anuales del Auditor General, sin que en ningún caso los supere” (Decreto 1094 de 2015).Por otro lado, el Decreto 1093 de 2015, reconoce el pago de una prima de alta gestión equivalente al 20% de la asignación básica mensual de los siguientes funcionarios de la Contraloría General de la República: Contralor Delegado, Director de Oficina, Secretario Privado, Director y Gerente.",0,15]
[null,null,"D2159001","Aceites de origen animal hidrogenados",1,{"$f":"ROW()","v":112},8,null,null,"2.1.1.01.03.025","Prima de alto mando Pago que se realiza a los Oficiales de las Fuerzas Militares, los Generales y los Almirantes de la Policía Nacional de acuerdo con lo dispuesto por el Decreto 1028 de 2015; el cual establece:\" los Oficiales de las Fuerzas Militares y de la Policía Nacional en los grados de General y Almirante, percibirán por todo concepto una asignación mensual igual a la que devenguen los Ministros del Despacho como asignación básica y gastos de representación, en todo tiempo, distribuida así: el cuarenta y cinco por ciento (45%) como sueldo básico y el cincuenta y cinco por ciento (55%) como prima de alto mando.",0,15]
[null,null,"D2169301","Aceites de origen vegetal hidrogenados",1,{"$f":"ROW()","v":113},8,null,null,"2.1.1.01.03.026","Prima de instalación en el exterior Prima que se reconoce a los Oficiales y Suboficiales de las Fuerzas Militares en servicio activo y a los empleados públicos del Ministerio de Defensa, que sean trasladados o destinados en comisión permanente al exterior del país y tengan por ello que cambiar de guarnición o lugar de residencia.",0,15]
[null,null,"D2169112","Aceites de origen vegetal para farmacia",1,{"$f":"ROW()","v":114},8,null,null,"2.1.1.01.03.027","Prima de alojamiento en el exterior Prima que se otorga a los Oficiales y Suboficiales de la Policía Nacional en servicio activo, casados o viudos con hijos, que desempeñen comisiones permanentes en el exterior, tendrán derecho mientras cumplan la comisión, siempre y cuando lleven a su familia a residir a la nueva sede, a gozar de una prima mensual de alojamiento hasta del siete por ciento (7%) del sueldo básico correspondiente a su grado, liquidada en dólares a razón de un dólar por cada peso.Los Oficiales y Suboficiales solteros y los casados o viudos que no lleven a su familia a la respectiva sede cuando desempeñen comisiones permanentes en el exterior, tendrán derecho a una prima de alojamiento hasta del cinco por ciento (5%) del sueldo básico correspondiente a su grado, que se pagará en dólares a razón de un dólar por cada peso (Decreto 1212 de 1990).",0,15]
[null,null,"D3541004","Aceites esenciales",1,{"$f":"ROW()","v":115},8,null,null,"2.1.1.01.03.028","Vivienda para embajadores Gasto generado en la situación en la que un funcionario escalafonado en la Categoría de Embajador fuere designado Cónsul General o en Comisión para Situaciones Especiales, en un cargo correspondiente a una categoría inmediatamente inferior en el escalafón de la carrera. A dicho funcionario, se le reconoce como beneficio adicional para vivienda en el exterior, una suma de dinero equivalente al treinta por ciento (30%) de la asignación básica mensual del cargo de destino en el exterior (Decreto 274 de 2000).",0,15]
[null,null,"D3339004","Aceites especiales",1,{"$f":"ROW()","v":116},8,null,null,"2.1.1.01.03.029","Bonificación por seguro de vida colectivo Gastos por bonificación individual mensual con destino al Fondo de Solidaridad del Ministerio de Defensa Nacional-Seguro de Vida Colectivo. Son beneficiaros de esta bonificación:- Oficiales y Suboficiales de las Fuerzas Militares y de la Policía Nacional- Personal del Nivel Ejecutivo de la Policía Nacional- Agentes de los Cuerpos Profesionales de la Policía Nacional, personal civil del Ministerio de Defensa, de las Fuerzas Militares y la Policía Nacional- Los Alférez, Guardiamarinas, Pilotines, los cadetes, los alumnos de las Escuelas de Formación de Suboficiales- Nivel Ejecutivo de la Policía Nacional, los Soldados, Auxiliares de Policía Bachilleres, Grumetes de las Fuerzas Militares- Personal del Cuerpo Auxiliar de la Policía Nacional.",0,15]
[null,null,"D3339006","Aceites especiales para aislamiento-dieléctrico",1,{"$f":"ROW()","v":117},8,null,null,"2.1.1.01.03.030","Bonificación licenciamiento Es el pago obligatorio al que tiene derecho todo colombiano que se encuentre prestando el servicio militar como concepto de una última bonificación que será equivalente a un salario mínimo mensual vigente (Ley 48, 1993).",0,15]
[null,null,"D3339005","Aceites livianos y otros",1,{"$f":"ROW()","v":118},8,null,null,"2.1.1.01.03.031","Bonificación dragoneante Recursos destinados al reconocimiento (bonificación) de los agentes de policía que sean reconocidos como dragoneantes. Esta bonificación es reconocida mientras los agentes ostenten dicha distinción (Decreto 1028, 2015).",0,15]
[null,null,"D3338004","Aceites lubricantes",1,{"$f":"ROW()","v":119},8,null,null,"2.1.1.01.03.032","Bonificación agente cuerpo profesional especial Pago al que tienen derecho los Agentes del Cuerpo Profesional Especial por concepto de bonificación del treinta por ciento (30%) de su sueldo básico mensual, la cual se incrementará en un diez por ciento (10%) por cada año de servicio en este cuerpo, sin sobrepasar el ciento por ciento (100%) de dicho sueldo básico (Ley 21 de 1979).",0,15]
[null,null,"D3338002","Aceites lubricantes en bruto-básicos",1,{"$f":"ROW()","v":120},8,null,null,"2.1.1.01.03.033","Bonificación buena conducta Es el pago a la bonificación contemplada en el art. 43 del Decreto 1213 de 1990, el cual establece: \"los Agentes de la Policía Nacional en servicio activo que completen períodos quinquenales continuos de servicio y observen buena conducta durante los mismos, tendrán derecho a una recompensa por cada cinco (5) años de servicio, equivalente a la totalidad de los haberes en actividad, devengados en el último mes en que cumplan el quinquenio\".Incluye también la jineta de buena conducta que se reconoce legalmente a los suboficiales que durante un período de tres (3) años consecutivos no registran en su folio de vida ninguna sanción disciplinaria. En este caso, según lo dispuesto en el artículo 47 de la Ley 836 de 2003, por cada período de tres (3) años en las mismas condiciones se otorga una nueva jineta, y a partir de la tercera jineta se disminuye el período a dos (2) años.El período de tres (3) o dos (2) años se cuenta de acuerdo con el lapso de evaluación establecido en el Reglamento de Evaluación y Clasificación para el personal de las Fuerzas Militares.",0,15]
[null,null,"D2170001","Aceites mezclados para la mesa y la cocina",1,{"$f":"ROW()","v":121},8,null,null,"2.1.1.01.03.034","Partida alimentación Recursos destinados a financiar la partida diaria de alimentación para el personal de soldados e infantes de marina de las Fuerzas Militares y personal del Cuerpo Auxiliar de la Policía Nacional.",0,15]
[null,null,"D3543002","Aceites minerales",1,{"$f":"ROW()","v":122},8,null,null,"2.1.1.01.03.035","Partida alimentación orden público y cobertura de fronteras Gastos por concepto de alimentación de los oficiales, suboficiales y agentes de las Fuerzas Militares y de la Policía Nacional que presten sus servicios, en áreas donde se desarrollen operaciones especiales para restablecer el orden público y de cobertura de fronteras (Decretos 1211 y 1214 de 1990).",0,15]
[null,null,"D3532316","Aceites para tocador",1,{"$f":"ROW()","v":123},8,null,null,"2.1.1.01.03.036","Bonificación de actividad judicial Reconocimiento económico al buen desempeño de los jueces, fiscales y procuradores judiciales, creado en virtud del Decreto 3131 de 2005. Esta bonificación constituye factor para efectos de determinar el ingreso base de cotización del Sistema General de Pensiones, y de acuerdo con laLey 797 de 2003, para la cotización al Sistema General de Seguridad Social en Salud (Decreto 3900 de 2008, art. 1) mas no para determinar elementos salariales ni prestaciones sociales.",0,15]
[null,null,"D3339009","Aceites parafínicos",1,{"$f":"ROW()","v":124},8,null,null,"2.1.1.01.03.037","Bonificación especial personal secuestrado Recursos destinados a financiar la bonificación especial de los Oficiales y Suboficiales de las Fuerzas Militares que se hayan encontrado en cautiverio, de acuerdo con la Ley 1279 de 2009 y sus decretos reglamentarios.",0,15]
[null,null,"D3531001","Aceites sulfonados para textiles",1,{"$f":"ROW()","v":125},8,null,null,"2.1.1.01.03.038","Prima de traslado Corresponde a los recursos destinados al pago de un auxilio de traslado equivalente a la mitad del sueldo básico (para el caso de la Registraduría Nacional del Estado Civil), por concepto de los gastos de traslado, cuando un funcionario es nombrado con carácter permanente para ocupar un cargo en otro municipio.",0,15]
[null,null,"D3999003","Aceites y grasas comestibles usados (desechos)",1,{"$f":"ROW()","v":126},8,null,null,"2.1.1.01.03.039","Servicios prestados por vacaciones personal titular rama jurisdiccional y Fiscalía Recursos destinados al pago de los servicios prestados por quienes suplieron temporalmente las funciones del personal titular de la Rama Jurisdiccional y la Fiscalía General de la Nación.",0,15]
[null,null,"D0145001","Aceitunas",1,{"$f":"ROW()","v":127},8,null,null,"2.1.1.01.03.040","Alimentación alumnos Gastos por concepto de alimentación de los alumnos, particularmente, del Departamento Administrativo de Seguridad, otorgado a estos durante la realización de los cursos de detective.",0,15]
[null,null,"D2139904","Aceitunas en conserva",1,{"$f":"ROW()","v":128},8,null,null,"2.1.1.01.03.041","Bonificación alumnos Es el reconocimiento económico correspondiente al 20% de la asignación básica mensual del cargo de dragoneante 4114 grado 11 del INPEC, como bonificación mensual para los estudiantes de la Escuela Penitenciaria Nacional Enrique Low Murtra.Asimismo, son los recursos destinados a los Alféreces, Guardiamarinas y Pilotines de las Escuelas de Formación de Oficiales y los Alumnos de las Escuelas de Formación de Suboficiales, los cuales tiene derecho a una bonificación mensual de acuerdo con las disposiciones legales vigentes.",0,15]
[null,null,"D3549933","Aceleradores de fraguado para concreto",1,{"$f":"ROW()","v":129},8,null,null,"2.1.1.01.03.042","Subsidio familiar Es el pago de la prestación social reconocida a diferentes rangos de las Fuerzas Militares y Policías, y al cuerpo de custodia y vigilancia penitenciaria y carcelaria nacional, por concepto de subsidio familiar de acuerdo con las condiciones dispuestas legalmente.Por ejemplo, el subsidio familiar se le reconoce al personal del nivel ejecutivo de la Policía Nacional en servicio activo; en proporción del número de personas a cargo y su remuneración mensual (Decreto 1091 de 1995). Este subsidio familiar está a cargo del Instituto para la Seguridad Social y Bienestar de la Policía Nacional.En el caso de los soldados, el artículo 11 del Decreto 1794 de 2000, les reconoce como subsidio familiar un pago equivalente al 4% de su salario básico mensual más la prima de antigüedad.Por último, para el cuerpo de custodia y vigilancia penitenciaria y carcelaria nacional, constituye el derecho a un pago del siete por ciento (7%) adicional al subsidio familiar a que tienen derecho los funcionarios de acuerdo con las normas vigentes. Dicho reconocimiento no constituye factor salarial y se paga por unidad familiar (Decreto 446 de 1994, art. 15).",0,15]
[null,null,"D3549917","Aceleradores de vulcanización",1,{"$f":"ROW()","v":130},8,null,null,"2.1.1.01.03.043.01","Beneficios a los empleados a corto plazo",0,18]
[null,null,"D4332004","Aceleradores y reductores de velocidad",1,{"$f":"ROW()","v":131},8,null,null,"2.1.1.01.03.043.02","Beneficios a los empleados a largo plazo",0,18]
[null,null,"D0121903","Acelga",1,{"$f":"ROW()","v":132},{"$f":"LEN(C132)","v":8},null,null,"2.1.1.01.03.044","Incentivos laborales DIAN Incluye el pago de los incentivos al desempeño en fiscalización y cobranzas y los incentivos por desempeño grupal que se reconocen a los empleados de la Unidad Especial de Impuestos y Aduanas Nacionales - DIAN, en virtud de lo dispuesto por el Decreto 1268 de 1999 y el Decreto 4050 de 2005.",0,{"$f":"LEN(J132)","v":15}]
[null,null,"D4112103","Acero en bloques pudelados y formas similares",1,{"$f":"ROW()","v":133},8,null,null,"2.1.1.01.03.045","Prima de seguridad Gastos por concepto de la prima liquidada para aquellos empleados del Instituto Nacional Penitenciario y Carcelario - INPEC que presten sus servicios en centros o pabellones de alta seguridad, equivalente hasta el cincuenta por ciento (50%) de la asignación o sueldo básico mensual, que no podrá exceder el monto fijado en la Ley. Esta prima no constituye factor salarial para ningún efecto legal (Decreto 1029 de 2013).",0,15]
[null,null,"D4112102","Acero en formas de llantón, palanquilla y otros similares",1,{"$f":"ROW()","v":134},8,null,null,"2.1.1.01.03.046","Prima de vigilantes instructores Los miembros del Cuerpo de Custodia y Vigilancia del Instituto Nacional Penitenciario y Carcelario - INPEC, que acrediten título de idoneidad y ejerzan las funciones de instructores, tendrán derecho, previo concepto del Director General del INPEC a disfrutar de una prima del diez por ciento (10%) mensual sobre el sueldo básico, que no constituye factor salarial, mas cumplan simultáneamente las funciones de vigilancia y enseñanza (Decreto 446 de 1994).",0,15]
[null,null,"D4112101","Acero en lingotes, tochos y formas similares",1,{"$f":"ROW()","v":135},8,null,null,"2.1.1.01.03.047","Bonificación servicio militar Los bachilleres que prestan el servicio militar obligatorio en el Instituto Nacional Penitenciario y Carcelario - INPEC, tendrán derecho a una bonificación que será determinada por el Gobierno Nacional (Decreto 407 de 1994).",0,15]
[null,null,"D4112201","Aceros especiales en lingotes, tochos y otras formas",1,{"$f":"ROW()","v":136},8,null,null,"2.1.1.01.03.048","Bonificación por trabajo y servicios internos Corresponde al gasto que realiza el Instituto Nacional Penitenciario y Carcelario –INPEC como contraprestación por los servicios realizados por los internos, en desarrollo de los programas de trabajo y actividades productivas establecidas y administradas de forma directa por la entidad, que son reconocidos como derecho de las personas procesadas que se encuentran en un centro reclusorio (Ley 65 de 1993 y Decreto 1758 de 2015).NE :De acuerdo con la Corte Constitucional en Sentencia T-1077/05: “esta aproximación al sistema de estímulos económicos (bonificaciones) por trabajo o servicios que se aplica en los Centros Penitenciarios permite sacar algunas conclusiones de interés para la resolución de los asuntos bajo examen. (i) La bonificación es concebida como un estímulo que no alcanza una cobertura general, para toda la población carcelaria, estando sometida a una reglamentación orientada a introducir criterios de racionalidad y equidad para su asignación; (ii) su ámbito de aplicación es la modalidad de trabajo por administración directa; (iii) corresponde a la Dirección General, determinar las actividades que convocan tal incentivo y asignar de manera global los cupos para cada Establecimiento Penitenciario; (iv) corresponde a los Directores de los Establecimientos, en coordinación con la Junta de evaluación de trabajo, estudio y enseñanza, reglamentar internamente la distribución de los cupos asignados, que tiene una cobertura muy limitada en relación con el número de internos que se dedica a cada una de las actividades que se incentivan; (v) para la asignación de las bonificaciones debe mediar la autorización de la Junta de evaluación de trabajo, estudio y enseñanza.”",0,15]
[null,null,"D3522008","Acetaminofén",1,{"$f":"ROW()","v":137},8,null,null,"2.1.1.01.03.049","Seguro de muerte en actividad Los miembros del Cuerpo de Custodia y Vigilancia Penitenciaria y Carcelaria Nacional, gozan de un seguro por muerte equivalente a quince (15) mensualidades del último salario devengado.El valor de dicho seguro será equivalente a treinta (30) mensualidades del último salario devengado, en el evento de que la muerte sea como consecuencia de accidente de trabajo o enfermedad profesional y excluye la indemnización a que se refieren los artículos 16 y 23 del Decreto 1848 de 1969, a menos que el accidente o enfermedad profesional se hayan ocasionado por culpa imputable a la entidad empleadora, en cuyo caso habrá lugar a la indemnización total y ordinaria por perjuicio.Si prosperare esta indemnización se descontará de su cuantía el valor de las prestaciones e indemnizaciones en dinero pagadas en razón de los expresados infortunios de trabajo (Decreto 407 de 1994).",0,15]
[null,null,"D3522016","Acetanilida",1,{"$f":"ROW()","v":138},8,null,null,"2.1.1.01.03.050","Prima de orden público Reconocimiento económico que hace la ley a los Oficiales y Suboficiales de las Fuerzas Militares que prestan sus servicios en lugares donde se desarrollan operaciones militares para restablecer el orden público. Esta prima mensual es equivalente al veinticinco por ciento (25%) del sueldo básico y las zonas y condiciones para su pago las define el Ministerio de Defensa Nacional (Decreto 1211 de 1990, art. 98).Incluye también el reconocimiento económico que hace la ley a los empleados del Departamento Administrativo de Seguridad – DAS incorporados a la Unidad Nacional de Protección, que prestan sus servicios permanentemente en zonas del país afectadas por graves alteraciones del orden público (Decreto 1933 de 1989, art. 2 y Decreto 4067 de 2011, art.3).",0,15]
[null,null,"D3414009","Acetato de aluminio",1,{"$f":"ROW()","v":139},8,null,null,"2.1.1.01.03.051","Bonificación para gastos personales del Batallón Guardia Presidencial y de los Batallones de Policía Militar Reconocimiento económico que hace la ley a los Soldados del Batallón Guardia Presidencial y de los Batallones de Policía Militar que hayan terminado el curso básico de esta especialidad. Dichos funcionarios tienen derecho a una bonificación mensual adicional para gastos personales equivalente a dieciocho mil ciento dos pesos ($18.102) m/cte, respectivamente (Decreto anual de salarios).",0,15]
[null,null,"D3414014","Acetato de bario",1,{"$f":"ROW()","v":140},8,null,null,"2.1.1.01.03.052","Bonos escolares y navideños Reconocimiento de las entidades a sus funcionarios de planta en cumplimiento de una negociación colectiva, a pagar un subsidio escolar a cada uno de los hijos de los trabajadores oficiales y cualquier grado de escolaridad. Incluye de igual forma el reconocimiento dque haga la entidad por bonos de navidad en el mes de diciembre al funcionario o a las hijos menores de 18 años del mismo.",0,15]
[null,null,"D3414007","Acetato de calcio",1,{"$f":"ROW()","v":141},8,null,null,"2.1.1.01.03.053","Bonificación edecanes Bonificación adicional que reconoce la ley a los oficiales de las Fuerzas Militares y de la Policía Nacional destacados como edecanes al servicio del Presidente y del Vicepresidente de la República. (Decretos 83 y 837 de 1995, art. 1).",0,15]
[null,null,"D3479005","Acetato de celulosa",1,{"$f":"ROW()","v":142},8,null,null,"2.1.1.01.03.054","Prima de bucería Reconocimiento económico que hace la ley a los Oficiales y Suboficiales de la Armada Nacional que hayan obtenido patente que los acredite como buzos y que realicen dicha actividad por hora o fracción mayor de cuarenta y cinco (45) minutos en actos del servicio (Decreto 1211 de 1990, art. 88).",0,15]
[null,null,"D3414013","Acetato de cobre",1,{"$f":"ROW()","v":143},8,null,null,"2.1.1.01.03.055","Prima comandos Reconocimiento económico que hace la ley a los Oficiales de las Fuerzas Militares a quienes se les otorga el título de Comando Especial Terrestre en el Ejército, Comando Anfibio o de Selva en la Armada y Comando Especial Aéreo en la Fuerza Aérea, y se desempeñan dentro de ellos. Esta prima es equivalente al veinte por ciento (20%) del sueldo básico mensual correspondiente a su grado, de acuerdo con reglamentación que expida el Gobierno (Decreto 1211 de 1990, art. 90).",0,15]
[null,null,"D3414010","Acetato de cromo",1,{"$f":"ROW()","v":144},8,null,null,"2.1.1.01.03.056","Prima de Estado Mayor y academia superior Reconocimiento económico que hace la ley a los Oficiales de las Fuerzas Militares en servicio activo con título de Oficial de Estado Mayor. Esta prima corresponde al veinte por ciento (20%) del sueldo básico (Decreto 1211 de 1990, art. 92).",0,15]
[null,null,"D3414011","Acetato de hierro",1,{"$f":"ROW()","v":145},8,null,null,"2.1.1.01.03.057","Prima submarinista Reconocimiento económico que hace la ley a los Oficiales y Suboficiales de la Armada Nacional que presten sus servicios a bordo de submarinos como integrantes de su tripulación. Esta prima es equivalente al diez por ciento (10%) del sueldo básico correspondiente al grado del funcionario y a un diez por ciento (10%) adicional mientras estén navegando (Decreto 1211 de 1990, art. 101).",0,15]
[null,null,"D3414012","Acetato de plomo",1,{"$f":"ROW()","v":146},8,null,null,"2.1.1.01.03.058","Prima de salto Reconocimiento económico que hace la ley a los Oficiales y Suboficiales de las Fuerzas Militares que hayan sido instruidos como paracaidistas y que realicen saltos en actos de su servicio. Esta prima es equivalente a un quince por ciento (15%) del sueldo básico mensual correspondiente a su grado, porcentaje que aumenta en un uno por ciento (1%) por cada veinte (20) saltos efectuados, hasta completar ciento veinte (120). De ciento veinte (120) saltos en adelante, sólo se computa un medio por ciento (0.5%) por cada veinte (20) saltos adicionales, sin que el total de la prima de salto en paracaídas pueda exceder del sueldo básico mensual correspondiente al grado (Decreto 1211 de 1990, art. 99).",0,15]
[null,null,"D3471002","Acetato de polietileno",1,{"$f":"ROW()","v":147},8,null,null,"2.1.1.01.03.059","Prima de vuelo Reconocimiento económico que hace la ley a los Oficiales y Suboficiales de la Aviación del Ejército, los Oficiales de la Aviación Naval y Suboficiales de Mantenimiento Aeronáutico en la Armada, los Oficiales de Vuelo y Suboficiales Técnicos de la Fuerza Aérea en desempeño de sus funciones como tripulantes de aeronaves militares y otra clase de aeronaves al servicio de las Fuerzas Militares, siempre que comprueben haber volado durante un mínimo de cuatro (4) horas mensuales. Esta prima es equivalente al veinte por ciento (20%) del sueldo básico mensual correspondiente al respectivo grado, porcentaje que aumenta en un uno por ciento (1%) por cada cien (100) horas de vuelo, hasta completar tres mil (3.000) horas. De tres mil (3.000) horas en adelante sólo se computa el medio por ciento (0.5%) por cada cien (100) horas adicionales, sin que el total de la prima de vuelo pueda exceder el sueldo básico del Oficial o Suboficial. Los Oficiales Generales de vuelo de la Fuerza Aérea pueden percibir esta prima sin necesidad de cumplir con el requisito de horas mínimas de vuelo. Así mismo, según lo dispuesto por ley, las horas voladas en aeronaves de turbo-reacción se computarán doble, siempre que éstas sean de combate o de entrenamiento de combate (Decreto 1211 de 1990, art. 103).",0,15]
[null,null,"D3414008","Acetato de potasio",1,{"$f":"ROW()","v":148},8,null,null,"2.1.1.01.03.060","Prima especialista Reconocimiento económico que hace la ley a los Suboficiales de las Fuerzas Militares en servicio activo que adquieran una especialidad técnica mediante un curso cuya duración mínima sea de mil seiscientas (1.600) horas de clase o cuarenta y ocho (48) semanas de instrucción. Esta prima es equivalente al diez por ciento (10%) del sueldo básico mensual correspondiente a su grado, siempre y cuando se desempeñen en la respectiva especialidad. Los Suboficiales en los grados de Sargento Mayor, Suboficial Jefe Técnico y Suboficial Técnico Jefe, por el solo hecho de obtener estos grados, tienen derecho a la prima de especialista (Decreto 1211 de 1990, art. 91).",0,15]
[null,null,"D3414006","Acetato de sodio",1,{"$f":"ROW()","v":149},8,null,null,"2.1.1.01.03.061","Prima oficiales superiores Reconocimiento económico que hace la ley a los Oficiales de las Fuerzas Militares y de la Policía Nacional, en los grados de Teniente General y Almirante de Escuadra, de Mayor General y Vicealmirante, de Brigadier General y Contralmirante, y de Coronel y Capitán de Navío. Los oficiales con estos grados tienen derecho a primas mensuales equivalentes al cincuenta y cuatro por ciento (54%), al cincuenta y tres punto treinta y dos por ciento (53.32%), al cuarenta y siete punto ochenta por ciento (47.80%) y al treinta y seis punto ochenta y uno por ciento (36.81%), respectivamente, sobre lo que en todo tiempo devenguen los Ministros del Despacho como asignación básica y gastos de representación (Decreto anual de salarios).",0,15]
[null,null,"D3414021","Acetato de vinilo",1,{"$f":"ROW()","v":150},8,null,null,"2.1.1.01.03.062","Prima cuerpo administrativo Reconocimiento económico que hace la ley a los Oficiales del Cuerpo Administrativo de las Fuerzas Militares que prestan los servicios profesionales de su especialidad por tiempo completo. Esta prima es equivalente al cuarenta por ciento (40%) del sueldo básico correspondiente a su grado (Decreto 1211 de 1990, art. 96).",0,15]
[null,null,"D3414015","Acetatos de etilo, butilo, amilo, propilo y similares",1,{"$f":"ROW()","v":151},8,null,null,"2.1.1.01.03.063","Bonificación aeronáutica Reconocimiento económico que hace la ley a todos los servidores públicos de la Unidad Administrativa Especial de Aeronáutica Civil. Esta bonificación es equivalente al doscientos veinticinco por ciento (225%) de la asignación básica mensual señalada para el respectivo empleo y se reconoce en dos (2) contados iguales, en los meses de enero y septiembre de cada año (Decreto 313 de 2018, art. 17).",0,15]
[null,null,"D3411003","Acetileno",1,{"$f":"ROW()","v":152},8,null,null,"2.1.1.01.03.064","Prima de productividad Reconocimiento económico que hace la ley a los servidores públicos de la Unidad Administrativa Especial de Aeronáutica Civil que cumplan con los indicadores de productividad previamente establecidos. Esta prima se reconoce bimestralmente durante los meses de febrero, abril, junio, agosto, octubre y diciembre y no puede ser inferior al 80% de la asignación básica del empleado (Decreto 313 de 2018, art. 16).",0,15]
[null,null,"D3417009","Acetona",1,{"$f":"ROW()","v":153},8,null,null,"2.1.1.01.03.065","Bonificación judicial Reconocimiento económico que hace la ley a los servidores públicos de la Dirección Ejecutiva de Administración Judicial, las Direcciones Seccionales de la Rama Judicial, los servidores de la Justicia Penal Militar y los servidores de la Fiscalía General de la Nación durante la prestación de sus servicios. Esta bonificación constituye factor para efectos de determinar el ingreso base de cotización del Sistema General de Pensiones y del Sistema General de Seguridad Social en Salud, mas no para determinar elementos salariales ni prestaciones sociales (Decreto 0384 de 2013, Decreto 022 de 2014 y Decreto 1014 de 2017).",0,15]
[null,null,"D0159902","Achiras",1,{"$f":"ROW()","v":154},8,null,null,"2.1.1.01.03.066","Bonificación por servicios de protección y vigilancia Reconocimiento económico que hace la ley al personal del servicio de protección y vigilancia de la Rama Judicial, al personal de las Fuerzas Militares y de la Policía Nacional que presta el servicio de protección y vigilancia al Comandante General de las Fuerzas Militares, Comandantes de Fuerza y Director General de la Policía Nacional, a los Expresidentes de la República, a los Ministros del Despacho, a los Directores de Departamento Administrativo del orden nacional, al Procurador General de la Nación, al Contralor General de la República, al Defensor del Pueblo, al Auditor General de la República, al personal que presta este servicio a los oficiales generales y de insignia en sus diferentes grados, y a los miembros de la Policía Nacional que prestan el servicio de protección y vigilancia a los Honorables Congresistas (Decreto anual de salarios).",0,15]
[null,null,"D3414001","Ácido acético",1,{"$f":"ROW()","v":155},8,null,null,"2.1.1.01.03.067","Prima mensual oficiales y suboficiales Reconocimiento económico que hace la ley a los Oficiales de las Fuerzas Militares y de la Policía Nacional y en servicio activo que ostentan los grados de Teniente Coronel y Capitán de Fragata; y a los Suboficiales de las Fuerzas Militares y de la Policía Nacional en servicio activo que ostentan el grado de Sargento Primero en el Ejército Nacional o su equivalente en las demás fuerzas. Esta prima mensual, sin carácter salarial ni prestacional, es equivalente a dos punto setenta y siete por ciento (2.77%) y a uno punto noventa y dos por ciento (1.92%) respectivamente, de lo que en todo tiempo devenguen los Ministros del Despacho como asignación básica y gastos de representación (Decreto 1017 de 2013, art. 4).",0,15]
[null,null,"D3521001","Ácido acetilsalicílico-aspirina",1,{"$f":"ROW()","v":156},8,null,null,"2.1.1.01.03.068","Prima secretarial Corresponde al reconocimiento que se le otorga los empleados públicos que desempeñen el cargo de secretario, en el nivel administrativo, el cual es equivalente al 2% de la asignación básica mensual. Dicho valor no constituye factor salarial para ningún efecto legal.",0,15]
[null,null,"D3414031","Ácido acrílico o metacrílico",1,{"$f":"ROW()","v":157},8,null,null,"2.1.1.01.03.069","Apoyo de sostenimiento aprendices SENA Corresponde a las erogaciones como contraprestación por los servicios prestados por alumnos aprendices del Servicio Nacional de Aprendizaje (SENA) a través de los contratos de aprendizaje. Uno de los elementos característicos de los contratos de aprendizaje es el reconocimiento y pago al aprendiz de un apoyo del sostenimiento mensual, el cual tiene como fin garantizar el proceso de aprendizaje",0,15]
[null,null,"D3479028","Ácido algínico, sus sales y sus ésteres",1,{"$f":"ROW()","v":158},8,null,null,"2.1.1.01.03.070","Remuneración profesores militares Corresponde la remuneración económica que se reconoce a los militares de planta permanente que prestan servicio de docencia de forma ocasional en los Institutos de Formación y Centros de Capacitación o educación de las Fuerzas Militares. Esta remuneración se reconoce al profesor militar por cada hora de clase dictada y corresponde a un porcentaje determinado y liquidado sobre el salario básico mensual. de acuerdo con la categoría a cargo del mismo",0,15]
[null,null,"D3414027","Ácido benzoico",1,{"$f":"ROW()","v":159},8,null,null,"2.1.1.01.03.071","Prima por dependientes Corresponde al reconocimiento mensual que realiza la Superintendencia de Sociedades, la Superintendencia de Industria y Comercio, la Superintendencia Financiera de Colombia y el Instituto Nacional de Metrología a favor de los empleados que adscriban beneficiarios que dependan económicamente y cumpla con los requisitos establecidos por ley",0,15]
[null,null,"D3423116","Ácido bórico",1,{"$f":"ROW()","v":160},8,null,null,"2.1.1.01.03.072","Prima de matrimonio Corresponde a la prima que reconoce y paga por única vez la Superintendencia de Sociedades, la Superintendencia de Industria y Comercio, la Superintendencia Financiera de Colombia, el Instituto Nacional de Metrología y el Servicio Nacional de Aprendizaje (SENA) a los funcionarios que contraigan matrimonio, de acuerdo con las disposiciones normativas que aplican para cada entidad",0,15]
[null,null,"D3414045","Ácido cítrico",1,{"$f":"ROW()","v":161},8,null,null,"2.1.1.01.03.073","Prima de nacimiento Corresponde a la prima que reconoce y paga por única vez la Superintendencia de Sociedades, la Superintendencia de Industria y Comercio, la Superintendencia Financiera de Colombia, el Instituto Nacional de Metrología y el Servicio Nacional de Aprendizaje (SENA) a los funcionarios por el nacimiento de un hijo de acuerdo con las disposiciones normativas que aplican para cada entidad",0,15]
[null,null,"D3423115","Ácido clorhídrico (ácido muriático)",1,{"$f":"ROW()","v":162},8,null,null,"2.1.1.01.03.074","Prima semestral Corresponde a una prestación económica equivalente a un mes de del sueldo que tuvieren los empleados al 30 de junio y 31 de diciembre respectivamente, pagaderos los 15 primeros días de junio y diciembre de cada año, en las entidades y regímenes especiales en las que es reconocida.",0,15]
[null,null,"D3422002","Ácido crómico (trióxido de dicromo)",1,{"$f":"ROW()","v":163},8,null,null,"2.1.1.01.03.075","Prima de actividad Corresponde al pago de la prima de actividad que se reconoce y paga a los funcionarios que hayan laborado durante un año continuo en la entidad. Esta prima es equivalente a 15 días del sueldo básico mensual, y es reconocida cuando el interesado acredite la autorización para el disfrute de vacaciones o su compensación en dinero",0,15]
[null,null,"D3414060","Ácido dehidrocólico",1,{"$f":"ROW()","v":164},8,null,null,"2.1.1.01.03.076","Gastos de representación Corresponde al reconocimiento que hace el Ministerio de Relaciones Exteriores a los Embajadores, jefes de Misión Permanente, cónsules Generales Centrales y los Encargados de Negocios para atender las actividades diplomáticas propias de su cargo en el exterior",0,15]
[null,null,"D3414003","Ácido esteárico",1,{"$f":"ROW()","v":165},8,null,null,"2.1.1.01.03.077","Subsidio de anteojos Corresponde al beneficio que se otorga a los funcionarios, con el fin de subsidiar la adquisición de lentes y/o monturas.",0,15]
[null,null,"D3414002","Ácido fórmico",1,{"$f":"ROW()","v":166},8,null,null,"2.1.1.01.03.078","Remuneración adicional de antiguos territorios nacionales Corresponde a una remuneración adicional otorgada a los empleados del Instituto Nacional de Medicina Legal y Ciencias Forenses que trabajen ordinariamente en los departamentos creados en el Artículo 309 de la Constitución Política. Esta remuneración es equivalente al 8% de la asignación básica mensual y se percibirá por cada mes completo de servicio y no constituye factor salarial para ningún efecto legal (",0,15]
[null,null,"D3423201","Ácido fosfórico u ortofosfórico",1,{"$f":"ROW()","v":167},8,null,null,"2.1.1.01.03.079","convención colectiva de trabajo 2019 2021 cap. 4 Se solicita que en la plataforma CHIP en los formularios programación de gastos y ejecución de gastos se active el código 2.1.2.01.03.079 nombre de la cuenta Prima de Alimentación, dentro de los conceptos de Remuneraciones no Constitutivas de Factor Salarial. Esta prima se encuentra establecida en la CONVENCION COLECTIVA DE TRABAJO 2019-2021 CAPITULO IV SALARIOS, PRIMAS, SUBSIDIOS Y BONIFICACIONES, Artículo 20, Parágrafo 1: \" Corresponde a la remuneración que se reconoce, como concepto de prima alimentaria.",0,15]
[null,null,"D3414041","Ácido fumárico",1,{"$f":"ROW()","v":168},8,null,null,"2.1.1.01.03.080","Viáticos y menaje de funcionarios del servicio exterior Corresponde al beneficio que se otorga en dinero a los funcionarios pertenecientes a la Carrera Diplomática y Consular o de Libre Nombramiento y Remoción del Ministerio de Relaciones Exteriores,245que, en ejercicio de sus funciones, requieran desplazarse al exterior o de un país extranjero a otro o entre ciudades distintas del mismo país",0,15]
[null,null,"D3414058","Ácido gálico",1,{"$f":"ROW()","v":169},8,null,null,"2.1.1.01.03.081","Prima de localización Corresponde a la prima que reconoce el Servicio Nacional de Aprendizaje (SENA) a sus Trabajadores Oficiales. Esta prima es equivalente a ocho y medio (8.5) días de salario mínimo legal vigente en las regionales que están establecidas por el SENA o llegaren a establecerse",0,15]
[null,null,"D3414046","Ácido láctico",1,{"$f":"ROW()","v":170},8,null,null,"2.1.1.01.03.082","Subvención de transporte Los soldados del ejército o su equivalente en la Fuerza Pública y los auxiliares del cuerpo de custodia del INPEC, llamados al servicio, una vez licenciado o desacuartelado, tienen derecho a la subvención de la partida de transporte, en el momento del otorgamiento del permiso anual o en caso de calamidad domestica comprobada o catástrofe que haya podido afectar gravemente a su familia",0,15]
[null,null,"D3549947","Ácido nafténico",1,{"$f":"ROW()","v":171},8,null,null,"2.1.1.01.03.083","Auxilio de movilización Corresponde a los recursos destinados por concepto de auxilio de movilización al que tienen derecho los funcionarios de la entidad.",0,15]
[null,null,"D3423301","Ácido nítrico",1,{"$f":"ROW()","v":172},8,null,null,"2.1.1.01.03.084","Prima mensual Corresponde a la prima a la que tienen derecho los oficiales de las Fuerzas Militares y de la Policía Nacional, a partir de su ascenso al grado de Coronel o Capitán de Navío hasta el grado de General o Almirante, mientras permanezcan en servicio activo. Esta prima es equivalente a los 16.5% del sueldo básico, sin perjuicio de la asignación básica y primas mensuales fijadas en las disposiciones legales vigentes",0,15]
[null,null,"D3414034","Ácido oxálico",1,{"$f":"ROW()","v":173},8,null,null,"2.1.1.01.03.085","Partida especial de gastos de viaje Corresponde a la partida otorgada a los oficiales y suboficiales de las Tripulaciones de las Unidades de Flote, destinado en comisión colectiva transitoria al exterior, para visitas operacionales, de transporte, construcción, reparación o de cortesía",0,15]
[null,null,"D3415012","Ácido para-amino salicílico",1,{"$f":"ROW()","v":174},8,null,null,"2.1.1.01.03.086","Auxilio especial de transporte Comprende el reconocimiento y pago del auxilio especial de transporte que realiza el Servicio Nacional de Aprendizaje (SENA) a favor de todos sus trabajadores oficiales. Este auxilio es equivalente al auxilio de transporte decretado por el gobierno, sin embargo, se reconoce de manera independiente al salario devengado por el Trabajador. Cuando el trabajador oficial compruebe tener uno o más hijos estudiando y estos dependan económicamente de él, el SENA pagará mensualmente por cada trabajador oficial247un subsidio extralegal de transporte equivalente al (100%) del auxilio decretado por el Gobierno",0,15]
[null,null,"D3423117","Ácido perclórico",1,{"$f":"ROW()","v":175},8,null,null,"2.1.1.01.03.087","Bonificación por compensación Corresponde al pago que se realiza a los funcionarios públicos determinados por la Ley, para la nivelación de sus ingresos respecto de equivalentes en otros sectores de referencia, este reconocimiento solamente constituye factor salarial para efectos de determinar el Ingreso Base de Cotización (IBC) del Sistema General de Pensiones, y para la cotización al Sistema General de Seguridad Social en Salud, más no para determinar elementos salariales ni prestaciones sociales",0,15]
[null,null,"D3413910","Ácido pirogálico",1,{"$f":"ROW()","v":176},8,null,null,"2.1.1.01.03.088","Prima especial de servicios Reconocimiento económico del 30% del salario básico mensual que hace la ley a los magistrados del Consejo Superior de la Judicatura, de la Corte Suprema de Justicia, de la Corte Constitucional, del Consejo de Estado, el Procurador General de la Nación, el Contralor General de la República, el Fiscal General de la Nación, el Defensor del Pueblo y el Registrador Nacional del Estado Civil con el fin de igualar los ingresos percibidos por estos funcionarios, con aquellos que reciben los miembros del Congreso, sin que en ningún caso los supere.El Gobierno podrá fijar la misma prima para los ministros de despacho, los Generales y Almirantes de la Fuerza Pública. Esta bonificación constituye factor para efectos de determinar el Ingreso Base de Cotización (IBC) del Sistema General de Pensiones, y para la cotización al Sistema General de Seguridad Social en Salud, mas no para determinar elementos salariales ni prestaciones sociales",0,15]
[null,null,"D3521003","Ácido salicílico",1,{"$f":"ROW()","v":177},8,null,null,"2.1.1.01.03.089","Prima especial Art. 14 Ley 4 de 1992 Comprende la prima que es reconocida a los magistrados de todo orden de los Tribunales Superiores de Distrito Judicial y Contencioso Administrativo, agentes del Ministerio Público delegados ante la Rama Judicial y para los jueces de la República, incluidos los magistrados y fiscales del Tribunal Superior Militar, Auditores de Guerra y Jueces de Instrucción Penal Militar, excepto los que opten por la escala de salarios de la Fiscalía General de la Nación, con efectos a partir del 1 de enero de 1993.Igualmente tendrán derecho a percibir esta prima los delegados departamentales del Registrador Nacional del Estado Civil, los registradores del distrito capital y los niveles directivo y asesor de la249Registraduría Nacional del Estado Civil, no podrá ser inferior al 30% ni superior al 60% del salario básico",0,15]
[null,null,"D3411027","Ácido sulfónico",1,{"$f":"ROW()","v":178},8,null,null,"2.1.1.01.03.090","Prima de carabinero Prima a favor del personal de nivel ejecutivo de la Policía Nacional, que ostente la especialidad de carabinero o policía rural y preste sus servicios en las áreas reglamentadas por la Dirección General de la Policía Nacional. Esta prima es equivalente al 5% del sueldo básico, y no tiene carácter salarial para ningún efecto",0,15]
[null,null,"D3423114","Ácido sulfúrico",1,{"$f":"ROW()","v":179},8,null,null,"2.1.1.01.03.091","Bonificación especial por servicios de comisión en la DIAN Corresponde a bonificación especial no constitutiva de factor salarial, equivalente a una asignación mensual adicional equivalente al 30% del sueldo básico mensual, que se reconoce al personal uniformado de la Policía Nacional que preste sus servicios en comisión en la Unidad Administrativa Especial Dirección de Impuestos y Aduanas Nacionales – DIAN.Para tener derecho al reconocimiento y pago de la bonificación especial, el personal uniformado debe haber prestado el servicio total o parcialmente en actividades encaminadas al soporte y apoyo en actuaciones aduaneras, tributarias y cambiarias dirigidas a la lucha contra el contrabando, el lavado de activos y la evasión fiscal y previa certificación del Director de Gestión de Recursos y Administración económica de la DIAN, sobre la prestación del servicio",0,15]
[null,null,"D3432011","Ácido tánico",1,{"$f":"ROW()","v":180},8,null,null,"2.1.1.01.03.092","Indemnizacion compensatorio horas extra Reconocimiento en dinero de los días compensatorios que se hubieren causado hasta la fecha de publicación del Decreto emitido por el DAFP , a favor de cada empleado público, siempre que exista disponibilidad presupuestal y no se afecten los recursos para el pago de horas extras que se vayan a causar en el resto de la presente vigencia.",0,15]
[null,null,"D3414044","Ácido tartárico",1,{"$f":"ROW()","v":181},8,null,null,"2.1.1.01.03.093","Prima o auxilio de Maternidad Es el reconocimiento que se hace a las trabajadoras oficiales y a las esposas o compañeras de los trabajadores oficiales con motivo del nacimiento de un hijo. El valor se establece por convención colectiva de trabajo vigente.",0,15]
[null,null,"D3414038","Ácido tereftálico (PTA)",1,{"$f":"ROW()","v":182},8,null,null,"2.1.1.01.03.094","Prima de Transporte y Manutención Corresponde a la prima que se reconoce a los Servidores Públicos que laboran en determinadas dependencias o en cualquier zona rural del Municipio de Medellín",0,15]
[null,null,"D3416003","Ácido tioglicólico",1,{"$f":"ROW()","v":183},8,null,null,"2.1.1.01.03.095","Prima de Matrimonio Corresponde al reconocimiento que se hace a los trabajadores (as) oficiales, que durante su vinculación al Municipio de Medellín, contraigan matrimonio válidamente celebrado",0,15]
[null,null,"D3412099","Ácidos grasos n.c.p.",1,{"$f":"ROW()","v":184},8,null,null,"2.1.1.01.03.096","Bonificación cargo academico administrativo Reconocimiento de bonificacion mensual a los docentes que por acto administrativo desempeñen cargos academicos y administrativos con funciones directivas.",0,15]
[null,null,"D3423199","Ácidos inorgánicos n.c.p.",1,{"$f":"ROW()","v":185},8,null,null,"2.1.1.01.03.097","Bonificacion por productividad academica Estas bonificaciones se realizan una sola vez y corresponden a actividades especificas de productividad academica y no contemplan pagos genericos indiscriminados",0,15]
[null,null,"D3414097","Ácidos orgánicos n.c.p.",1,{"$f":"ROW()","v":186},8,null,null,"2.1.1.01.03.098","Bonificación Educadores de Básica y Media Bonificaciones no constitutivas de salario a los docentes y directivos al servicio del estado en niveles de preescolar, basica y media. Se reconoce anualmente, durante el tiempo que el funcionario permanezca en el servicio.",0,15]
[null,null,"D2799901","Acolchados de tela",1,{"$f":"ROW()","v":187},8,null,null,"2.1.1.01.03.099","Bonificacion Sindical Corresponde al pago en procesos de negociacion sindical que se destinan a los servidores publicos. No constitutivas de salario.",0,15]
[null,null,"D3632006","Acoples y boquillas de plástico para mangueras",1,{"$f":"ROW()","v":188},8,null,null,"2.1.1.01.03.100","Trienios Recursos destinados al pago que tienen derecho los empleados publicos al cumplir tres años de antiguedad de servicios prestados en un trabajo, segun lo estipulado por la ley.",0,15]
[null,null,"D4299938","Acoples y boquillas para mangueras",1,{"$f":"ROW()","v":189},8,null,null,"2.1.1.01.03.101","Bonificación Zona de Difícil Acceso docentes Prescolar, Básica y Media Los docentes y directivos docentes que laboren en establecimientos educativos estatales, cuyas sedes estén ubicadas en zonas rurales de difícil acceso, tendrán derecho a una bonificación equivalente al quince por ciento (15%) del salario básico mensual que devenguen. Esta bonificación no constituye factor salarial ni prestacional para ningún efecto, se pagará mensualmente, y se causará únicamente durante el tiempo laborado en el año académico.",0,15]
[null,null,"D3512003","Acuarelas",1,{"$f":"ROW()","v":190},8,null,null,"2.1.1.01.03.102","Bonificación Grado 14 docentes Prescolar, Básica y Media Es la bonificación que reciben los Docentes o Directivos Docentes de niveles preescolar, básica y media regidos por el Decreto Ley 2277/1979 y que hagan parte del grado 14 de Escalafón Nacional Docente. Para docentes activos equivale en 2016 al 10% de la ABM y 2017 y siguientes al 15% Asignación básica mensual. Para quienes se retiren del servicio por renuncia voluntaria o por retiro forzoso (edad permitida) equivale a un mes de Asignación Básica Mensual se pagará una sola vez cuando sea efectivamente desvinculado del servicio",0,15]
[null,null,"D4233001","Acumuladores de vapor (tanques metálicos de presión)",1,{"$f":"ROW()","v":191},8,null,null,"2.1.1.01.03.103","Reconocimiento Adicional por gestión directivos docentes Prescolar, Básica y Media El rector que durante el año cumpla con el indicador de gestión, tanto en el componente de permanencia como en el de calidad, y reporte oportunamente la información en el SIMAT, recibirá un reconocimiento adicional equivalente a su última asignación básica mensual que devengó al final del año lectivo, el cual no constituye factor salarial. El porcentaje de deserción intraanual del establecimiento educativo no podrá ser superior al tres por ciento (3%).",0,15]
[null,null,"D4642002","Acumuladores eléctricos alcalinos",1,{"$f":"ROW()","v":192},8,null,null,"2.1.1.01.03.104","Incentivo por Jubilación Recursos destinados al pago a que tienen derecho los empleados públicos y trabajadores oficiales según acuerdo colectivo , el cual es recibido en la liquidación al momento de pensionarse. Estos derechos pueden derivarse de acuerdos de convención colectiva.",0,15]
[null,null,"D4642001","Acumuladores eléctricos de plomo",1,{"$f":"ROW()","v":193},8,null,null,"2.1.1.01.03.105","Prima de Coordinación Académica y Disciplina Reconocimiento a Coordinadores Académicos y de Disciplina con dos jornadas. A los Coordinadores Académicos y de Disciplina de que trata el artículo anterior, a quienes se les asignen dos (2) jornadas, se les reconocerá el valor correspondiente a diez (10) horas cátedra semanales y un máximo de cuarenta (40) horas mensuales, e implicará una permanencia mínima de ocho (8) horas diarias en el Instituto. La liquidación se hará con base en el valor asignado a la hora cátedra establecida en el decreto del escalafón nacional docente para los docentes vinculados a la Nación.",0,15]
[null,null,"D3466109","Adherentes para plaguicidas",1,{"$f":"ROW()","v":194},8,null,null,"2.1.1.01.03.106","Remuneración por defunción",0,15]
[null,null,"D3542007","Adhesivos epóxicos",1,{"$f":"ROW()","v":195},8,null,null,"2.1.1.01.03.107","Auxilios Salud Visual Corresponde a la remuneración que percibe el empleado, en cumplimiento de acuerdos laborales, para la adquisición de lentes, monturas, cirugías refractivas, oftalmológicas, entre otros.",0,15]
[null,null,"D3542008","Adhesivos fusionales (punto caliente)",1,{"$f":"ROW()","v":196},{"$f":"LEN(C196)","v":8},null,null,"2.1.1.01.03.108","Auxilios Salud Dental Corresponde a la remuneración que percibe el empleado, en cumplimiento de acuerdos laborales, para cubrir gastos de salud dental.",0,{"$f":"LEN(J196)","v":15}]
[null,null,"D3549961","Aditivo químico coloidal para la estabilización de suelo-cemento",1,{"$f":"ROW()","v":197},8,null,null,"2.1.1.01.03.109","Auxilios Salud Auditiva Corresponde a la remuneración que percibe el empleado, en cumplimiento de acuerdos laborales, para cubrir gastos de salud auditiva.",0,15]
[null,null,"D3549997","Aditivos n.c.p. para caucho",1,{"$f":"ROW()","v":198},8,null,null,"2.1.1.01.03.110","Auxilios Médicos Corresponde a la remuneración que percibe el empleado, en cumplimiento de acuerdos laborales, para cubrir gastos relacionados con la salud.",0,15]
[null,null,"D3549934","Aditivos para concretos",1,{"$f":"ROW()","v":199},8,null,null,"2.1.1.01.03.111","Auxilios Educativos Corresponde a la remuneración que percibe el empleado, en cumplimiento de acuerdos laborales, para cubrir gastos educativos.",0,15]
[null,null,"D3543003","Aditivos para gasolina, aceites minerales y combustible en general",1,{"$f":"ROW()","v":200},8,null,null,"2.1.1.01.03.112","Auxilios por Antigüedad Corresponde al beneficio extralegal por antigüedad que se reconoce en el marco de un acuerdo laboral.",0,15]
[null,null,"D3543005","Aditivos para grasas y aceites lubricantes",1,{"$f":"ROW()","v":201},8,null,null,"2.1.1.01.03.113","Auxilios para Recreación Corresponde a la remuneración que percibe el empleado, en cumplimiento de acuerdos laborales, para cubrir gastos de bienestar.",0,15]
[null,null,"D3549939","Aditivos para pinturas",1,{"$f":"ROW()","v":202},8,null,null,"2.1.1.01.03.114","Auxilios para Desplazamiento Corresponde a la remuneración que percibe el empleado, en cumplimiento de acuerdos laborales, para cubrir gastos de desplazamiento.",0,15]
[null,null,"D3549918","Aditivos para plásticos",1,{"$f":"ROW()","v":203},8,null,null,"2.1.1.01.03.115","Prima compensatoria Corresponde al beneficio extralegal por concepto de prima compensatoria que se reconoce al empleado en el marco del acuerdo laboral.",0,15]
[null,null,"D3549932","Aditivos para tintas",1,{"$f":"ROW()","v":204},8,null,null,"2.1.1.01.03.116","Bonificación por Alto Riesgo Corresponde a la bonificación por alto riesgo que se reconoce al empleado en el marco de acuerdos de negociación colectiva.",0,15]
[null,null,"D3549963","Aditivos químicos para la elaboración de cemento                                           ",1,{"$f":"ROW()","v":205},8,null,null,"2.1.1.01.03.117","Prima Especial Corresponde al pago por concepto de prima especial que se reconoce al empleado en el marco de una Convención Colectiva. - Tambien Comprende el reconocimiento y pago por concepto de la prima especial establecida como no factor salarial y que no deberá ser incluida como factor para la liquidación del ingreso base de cotización en el sistema de seguridad social integral para los funcionarios del Ministerio Público, en virtud de los artículos del 3-9, 12-13 y 18 del Decreto 186 y el artículo 6 del Decreto 196 de 2014.",0,15]
[null,null,"D2791109","Adornos (aplicaciones) de tela para confecciones",1,{"$f":"ROW()","v":206},8,null,null,"2.1.1.01.03.118","Prima de antigüedad Corresponde a los pagos que realiza la Empresa URRA S.A en marco de la clausula séptima de la convención colectiva de trabajo entre la EICE y sus trabajadores no sindicalizados. Esta prima aplicará para las vigencias 2017-2022",0,15]
[null,null,"D3699033","Adornos (apliques) en material plástico para calzado",1,{"$f":"ROW()","v":207},8,null,null,"2.1.1.01.03.119","Bonificación especial de gestión Corresponde a los pagos que realiza la Empresa URRA S.A en marco de la clausula séptima de la convención colectiva de trabajo entre la EICE y sus trabajadores no sindicalizados. Esta bonificación aplicará para las vigencias 2017-2022",0,15]
[null,null,"D2832004","Adornos de pieles",1,{"$f":"ROW()","v":208},8,null,null,"2.1.1.01.03.120","Prima de vacaciones extralegal Corresponde por concepto de la prima de vacaciones extralegal a los empleados de la empresa URRÁ S.A, definida en la convención colectiva de trabajo entre la EICE y sus trabajadores no sindicalizados. Esta prima aplicará para las vigencias 2017-2022. Los pagos de esta prestación social son diferentes a los pagos por concepto de vacaciones.",0,15]
[null,null,"D3899105","Adornos navideños",1,{"$f":"ROW()","v":209},8,null,null,"2.1.1.01.03.121","Bonificación permanente extralegal La Empresa y el trabajador, en aplicación a lo establecido en el artículo 128 del Código Sustantivo del Trabajo, podrán acordar contractualmente y por escrito, beneficios habituales otorgados en forma extralegal, que no constituye para ningún efecto salario y no tendrá incidencia en la liquidación y pago de prestaciones sociales o indemnizaciones.Estas bonificaciones extralegales constituyen un reconocimiento que hace la Alta Dirección para aquellos trabajadores de la empresa, qué por razón de sus actividades, compromisos, disponibilidad, condiciones de empleo, entre otros factores, contribuyen al cumplimiento y fortalecimiento de los objetivos de la Empresa.",0,15]
[null,null,"D3719310","Adornos y artículos de vidrio para Navidad",1,{"$f":"ROW()","v":210},8,null,null,"2.1.1.01.03.122","Prima extralegal por disponibilidad base operacional Adicional a la remuneración básica mensual pactada en el contrato de trabajo, SATENA podrá asignar una prima extralegal por mera liberalidad para aquellos cargos que, con ocasión a sus funciones y responsabilidades, conlleven inmerso actividades de dirección, confianza y manejo y que tengan a cargo la coordinación de una base operacional – comercial de la empresa.Este Auxilio extralegal “Prima de Disponibilidad base operacional-comercial SATENA”, no constituye salario y no tendrá incidencia en la liquidación y pago de prestaciones sociales o indemnizaciones, conforme a lo dispuesto en el artículo 15 de la Ley 50 de 1990, modificatorio del artículo 128 del Código Sustantivo del Trabajo.",0,15]
[null,null,"D3525022","Adrenalina",1,{"$f":"ROW()","v":211},8,null,null,"2.1.1.01.03.123","Bonificación extralegal por dirección para los directores militares La Bonificación Extralegal por Dirección se pagará al Presidente, Vicepresidente y Directores Militares de SATENA, esta Bonificación no constituye salario y no tendrá incidencia en la liquidación y pago de prestaciones sociales o indemnizaciones, conforme a lo dispuesto en el artículo 15 de la Ley 50 de 1990, modificatorio del artículo 128 del Código Sustantivo del Trabajo.",0,15]
[null,null,"D3912004","Afrecho de arroz - cascarilla de arroz",1,{"$f":"ROW()","v":212},8,null,null,"2.1.1.01.03.124","Prima de Instrucción Corresponde a la prima que reconoce SATENA al trabajador, que, en consideración a su idoneidad esté en capacidad de impartir instrucciones y/o capacitaciones a personal de Pilotos, Copilotos, Auxiliares de Vuelo y Despachadores (según el caso), y que constituyen actividades adicionales a las funciones propias de su cargo y por fuera de su jornada laboral, siempre y cuando se enmarque dentro de las labores de instrucción y/o entrenamiento. Este Auxilio extralegal, no constituye salario y no tendrá incidencia en la liquidación y pago de prestaciones sociales o indemnizaciones, conforme a lo dispuesto en el artículo 15 de la Ley 50 de 1990, modificatorio del artículo 128 del Código Sustantivo del Trabajo.",0,15]
[null,null,"D3912098","Afrecho de cereales y/o leguminosas n.c.p.",1,{"$f":"ROW()","v":213},8,null,null,"2.1.1.01.03.125","Transporte rural de Concejales Corresponde al reconocimiento que perciben los concejales que residan en zonas rurales y que durante las sesiones plenarias y de comisión deban desplazarse desde y hasta la cabecera municipal, sede principal del funcionamiento de las corporaciones municipales. Estos gastos de transporte son asumidos, en el caso de los municipios pertenecientes a categorías cuarta, quinta y sexta con cargo a la sección presupuestal del sector central del municipio, y no se tendrán en cuenta como gasto de funcionamiento de la administración, para el cálculo de los indicadores de límite de gastos de funcionamiento fijados por la Ley 617 de 2000.",0,15]
[null,null,"D3912005","Afrecho de maíz",1,{"$f":"ROW()","v":214},8,null,null,"2.1.1.01.03.126","Participación en utilidades Corresponde a la participación en utilidades que una empresa otorga a sus empleados, en el marco de acuerdos laborales.",0,15]
[null,null,"D3912008","Afrecho de soya - soya integral",1,{"$f":"ROW()","v":215},8,null,null,"2.1.1.01.03.127","Bonificación a la excelencia Remuneración equivalente a tres (3) asignaciones básicas, que tienen derecho el Patrullero de Policía y Patrullero del Nivel Ejecutivo en servicio activo por cada cinco (5) años continuos de servicio que cumpla en el grado, en virtud del Decreto 668 y 669 de 2022",0,15]
[null,null,"D3699013","Agarraderas y botones de material plástico para muebles y similares",1,{"$f":"ROW()","v":216},8,null,null,"2.1.1.01.03.128","Bonificación por permanencia Bonificación mensual que se otorga a los mandos del nivel ejecutivo de la Policía Nacional, que una vez cumplan los requisitos para su asignación de retiro, decidan continuar como miembros de la institución, en virtud de la Ley 2179 de 2021",0,15]
[null,null,"D4299211","Agarraderas y botones metálicos para muebles y usos análogos",1,{"$f":"ROW()","v":217},8,null,null,"2.1.1.01.03.129","Bonificación para la asistencia familiar Bonificación a la que tienen derecho el personal del Nivel ejecutivo y Patrullero de Policía en servicio activo, por estado civil de casado o unión marital de hecho y por el primer y segundo hijo, en virtud de la Ley 2179 de 2021",0,15]
[null,null,"D3270102","Agendas y similares con cubierta de cuero",1,{"$f":"ROW()","v":218},8,null,null,"2.1.1.01.04.001","Otros gastos de personal - previo concepto DGPPN Esta cuenta es de programación presupuestal y registra el monto de los gastos de personal por incremento salarial que resulta del ajuste del poder adquisitivo y demás criterios de programación impartidos para consideración, si los hubiera (Sentencia 1433 de 2000).",0,15]
[null,null,"D3270103","Agendas y similares con cubierta de material plástico",1,{"$f":"ROW()","v":219},8,null,null,"2.1.1.02.01.001.01","Sueldo básico El sueldo básico corresponde a la parte del salario que se mantiene fija y se paga periódicamente de acuerdo con las funciones y responsabilidades, los requisitos de conocimientos, la experiencia requerida para su ejercicio, la denóminación y el grado establecidos en la nomenclatura, y la escala del respectivo nivel (art. 13, Decreto 1042 de 1978). El sueldo básico se paga sin tener en cuenta adicionales de horas extra, primas y otros factores eventuales o fijos que aumentan sus ingresos.La Ley 4 de 1992 establece el reconocimiento de una asignación básica de acuerdo con la nomenclatura y remuneración de los niveles de empleo.",0,18]
[null,null,"D3549962","Agente emulsificante coloidal concentrado para uso agrícola",1,{"$f":"ROW()","v":220},8,null,null,"2.1.1.02.01.001.02","Horas extras, dominicales, festivos y recargos Es la retribución fija que se reconoce a los empleados por concepto de trabajo suplementario y realizado en horas adicionales a la jornada ordinaria establecida por las disposiciones legales vigentes. Incluye: horas extras diurnas, horas extras nocturnas, y el trabajo ocasional en días dominicales y festivos. (Decreto 1042 de 1978).De acuerdo con la jurisprudencia del Consejo de Estado (Sentencia 01841 de 2011) en materia de horas extras, a las entidades territoriales les aplica las disposiciones establecidas en el Decreto 1042 de 1978.",0,18]
[null,null,"D0135502","Agraz (mortiño)",1,{"$f":"ROW()","v":221},8,null,null,"2.1.1.02.01.001.03","Gastos de representación Es la asignación complementaria del sueldo, que se reconoce excepcional y restrictivamente a empleados de alto nivel jerárquico por el cumplimiento de sus funciones (Decreto 1042 de 1978, Ley 4 de 1992 y Decreto 1396 de 2010). Los gastos de representación tienen por finalidad que los empleados de nivel directivo desempeñen sus funciones de acuerdo con la importancia de la representación que ostentan. Esta asignación se caracteriza por ser un beneficio personal en gracia de la posición, jerarquía, dignidad y responsabilidades señaladas al cargo.De acuerdo la DAFP (2009), para el orden territorial, el reconocimiento de gastos de representación es exclusivo para los alcaldes y gobernadores.",0,18]
[null,null,"D3425008","Agua bidestilada",1,{"$f":"ROW()","v":222},8,null,null,"2.1.1.02.01.001.04","Subsidio de alimentación Es la retribución fija que se reconoce a los empleados como auxilio para la provisión de su alimento. Este factor es un pago habitual y periódico de una suma de dinero para apoyar la manutención y provisión de alimentos del empleado.Para las entidades del PGSP, no se tendrá derecho a este subsidio cuando el funcionario disfrute de vacaciones, se encuentre en uso de licencia, suspendido o cuando la entidad suministre el servicio (art. 12, Decreto 229 de 2016).El subsidio de alimentación fue creado mediante el Decreto 627 de 2007, y está regulado por el la Ley 4 de 1992 y el Decreto 1397 de 2010.",0,18]
[null,null,"D1800001","Agua como materia prima",1,{"$f":"ROW()","v":223},8,null,null,"2.1.1.02.01.001.05","Auxilio de transporte Es el pago que se hace al personal con el que la entidad tiene una relación laboral, tales como empleados públicos, trabajadores oficiales y aquel de las sociedades de economía mixta y particulares cuyo gasto de personal se haga con cargo a los recursos públicos a su cargo que devenguen un sueldo mensual básico hasta de dos veces el salario mínimo legal vigente (Decreto 2732 del 2014). Este auxilio tiene como fin cubrir el traslado del trabajador desde el sector de su residencia hasta el sitio de su trabajo y viceversa.No se tiene derecho a este auxilio cuando el funcionario disfrute de vacaciones, se encuentre en uso de licencia, suspendido en el ejercicio de sus funciones o cuando la entidad suministre el servicio (art. 13, Decreto 229 de 2016).La Ley 15 de 1959, el Decreto 1374 de 2010 y el Decreto 5054 de 2009 regulan el auxilio de transporte para servidores públicos en los términos y cuantía establecida por el gobierno.",0,18]
[null,null,"D3425010","Agua desmineralizada",1,{"$f":"ROW()","v":224},8,null,null,"2.1.1.02.01.001.06","Prima de servicio Es la retribución fija que se paga el mes de julio de cada año correspondiente a 15 días de trabajo por cada año laborado, o proporcionalmente si el empleado laboró como mínimo por seis meses en la entidad. (art. 58, Decreto 1042 de 1978).El Decreto 1042 de 1978 establece la rpima de servicios para los funcionarios del nivel nacional y el Decreto 2351 de 2014 establece la prima de servicios para los empleados públicos departamentales, distritales y municipales.",0,18]
[null,null,"D3425007","Agua destilada",1,{"$f":"ROW()","v":225},8,null,null,"2.1.1.02.01.001.07","Bonificación por servicios prestados Es la retribución pagadera cada vez que el empleado cumple un año continuo de servicio en una misma entidad. La cual es equivalente al cincuenta por ciento (50%) del valor conjunto de la asignación básica determinada por la ley para el respectivo cargo, sumada a los incrementos por antigüedad y los gastos de representación. Se paga en un plazo de veinte días después del cumplimiento de los requisitos para recibir la bonificación (art. 45,47 y 48, Decreto 1042 de 1978).El Decreto 2418 de 2015 regula la bonificación por servicios prestados para los empleados públicos del nivel territorial.",0,18]
[null,null,"D3425009","Agua destilada de conductibilidad (preparaciones líquidas para baterías)",1,{"$f":"ROW()","v":226},8,null,null,"2.1.1.02.01.001.08.01","Prima de navidad Es la retribución correspondiente a un mes de salario que se reconoce a los empleados públicos y trabajadores oficiales por ocasión de la navidad. Esta prima es pagadera la primera quincena del mes de diciembre, por la cuantía del mes, o proporcionalmente al tiempo laborado.El reconocimiento de la prima de navidad como prestación social, se establece en el Decreto 1045 de 1978 (art. 32). El Decreto 1919 de 2002 establece que los empleados públicos de las entidades territoriales tienen derecho a las prestaciones sociales definidas para los empleados de la rama ejecutiva del nivel nacional. ",0,21]
[null,null,"D3526109","Agua estéril para inyectables",1,{"$f":"ROW()","v":227},8,null,null,"2.1.1.02.01.001.08.02","Prima de vacaciones Corresponde al reconocimiento que otorga la ley al personal con el que la entidad tenga relación laboral, con el fin de brindarles mayores recursos económicos para gozar del periodo de vacaciones. Esta prima es equivalente a quince (15) días de salario por cada año trabajado y debe pagarse dentro de los cinco (5) días hábiles anteriores a la fecha señalada para la iniciación del descanso remunerado, salvo lo que se disponga en normas o estipulaciones especiales. La prima de vacaciones no se perderá en los casos en que se autorizare el pago de vacaciones en dinero (Decreto 1045 de 1978, arts. 24 a 29).El reconocimiento de la prima de navidad como prestación social, se establece en el Decreto 1045 de 1978 (art. 24), el cual parte de los Decretos 174 y 230 de 1975. El Decreto 1919 de 2002 establece que los empleados públicos de las entidades territoriales tienen derecho a las prestaciones sociales definidas para los empleados de la rama ejecutiva del nivel nacional.",0,21]
[null,null,"D2441001","Agua purificada (envasada)",1,{"$f":"ROW()","v":228},8,null,null,"2.1.1.02.01.001.09","Prima técnica salarial Es un reconocimiento económico a servidores públicos que desempeñen cargos altamente calificados cuyas funciones demanden la aplicación de conocimientos técnicos o científicos, o la realización de labores de dirección o de especial responsabilidad. Asimismo, la prima técnica reconoce el desempeño de los servidores en su cargo.Se considera como factor salarial, la prima técnica por formación avanzada y experiencia altamente calificada, también conocida como prima técnica por estudio y experiencia, la cual se otorga a los empleados que acrediten estudios de formación avanzada o cinco años de experiencia calificada, en los cargos de nivel directivo, ejecutivo, profesional, jefes de oficina asesora y nivel asesor.La prima técnica está regulada por los Decretos: 1016/1991, 1624/1991, 1661/1991, 2164/1991, 1336/2003, 2177/2006 y 1164/2012.",0,18]
[null,null,"D3423119","Agua regia-ácido nitriclorhídrico",1,{"$f":"ROW()","v":229},8,null,null,"2.1.1.02.01.001.10","Viáticos de los funcionarios en comisión Son los pagos que reciben los funcionarios y trabajadores en comisión, para alojamiento y manutención, cuando: a) deban desempeñar sus funciones en un lugar diferente a su sede habitual de trabajo, ya sea dentro o fuera del país, o b) deba atender transitoriamente actividades oficiales distintas a las inherentes al empleo de que es titular (Departamento Administrativo de la Función Pública, 2007).Los viáticos de los funcionarios en comisión constituyen factor salarial para efectos de la liquidación de cesantías y pensiones cuando se hayan percibido por un término superior a ciento ochenta (180) días en el último año de servicio (art. 45, Decreto 1045 de 1978).",0,18]
[null,null,"D0131101","Aguacates",1,{"$f":"ROW()","v":230},8,null,null,"2.1.1.02.01.001.11","Auxilio de conectividad digital Corresponde al pago de auxilio de conectividad digital que de manera temporal y transitoria se reconocerá y pagará a los servidores públicos que devenguen hasta dos (2) salarios mínimos legalesmensuales vigentes y que desarrollen su labor en su domicilio. Este auxilio se reconocerá mientras esté vigente la emergencia sanitaria declarada por el Ministerio de Salud y de Protección Social con ocasión de la pandemia derivada del Coronavirus (COVID-19) y corresponderá al valor establecido para el auxilio de transporte.El auxilio de conectividad y el auxilio de transporte no son acumulables y no será aplicable a los trabajadores que se desempeñan en la modalidad de teletrabajo, a quienes les seguirán siendoaplicables las disposiciones de la Ley 1221 de 2008 (Art. 1, Decreto Legislativo 771 de 2020).",0,18]
[null,null,"D2413101","Aguardiente",1,{"$f":"ROW()","v":231},8,null,null,"2.1.1.02.01.002.01.01","Escalafón diplomático Corresponde a los sueldos de los funcionarios públicos de Carrera Diplomática y Consular. El valor de la asignación básica de dichos funcionarios dependerá de la categoría de Carrera Diplomática y Consular en la cual estén escalafonados conforme a las disposiciones del Decreto 274 de 2000.",0,21]
[null,null,"D3532320","Aguas de colonia",1,{"$f":"ROW()","v":232},8,null,null,"2.1.1.02.01.002.01.02.01","Comisión de servicios Corresponde a los sueldos de funcionarios públicos que están en comisión de servicios. De acuerdo con el art. 2 del Decreto 2004 de 1997, una comisión de servicios se puede conferir únicamente en los siguientes casos:- Para tramitar o negociar asuntos que a juicio del Gobierno Nacional revistan especial interés para el país.- Para suscribir convenios o acuerdos con otros gobiernos u organismos internacionales.",0,24]
[null,null,"D4299701","Agujas de coser (de uso manual)",1,{"$f":"ROW()","v":233},8,null,null,"2.1.1.02.01.002.01.02.02","Comisión de estudios Corresponde a los sueldos de funcionarios públicos que están en comisión de estudios. Para conferir una comisión de estudios, el objeto de la misma debe guardar relación con los fines de la entidad o con las funciones inherentes al cargo que desempeña el servidor público y ser superior a un mes (art. 2, Decreto 1050 de 1997).Se podrá conferir comisión de estudios en el exterior al servidor público que tenga por lo menos un (1) año continuo de servicio en la respectiva entidad. A su vez, el comisionado se comprometerá mediante convenio a prestar sus servicios a la entidad que otorga la comisión o a cualquier otra entidad del Estado, por el doble del tiempo de duración de la comisión (Decreto 3555 de 2007).",0,24]
[null,null,"D4464005","Agujas de máquinas de coser",1,{"$f":"ROW()","v":234},8,null,null,"2.1.1.02.01.002.02","Prima de actividad Reconocimiento que hace la ley a los empleados públicos del Ministerio de Defensa y de la Policía Nacional, mientras permanezcan en el desempeño de sus funciones. Esta prima es equivalente al cuarenta y nueve punto cinco por ciento (49.5%) del sueldo básico mensual del funcionario (art. 38, Decreto 1214 de 1990, modificado por el art. 30 del Decreto 984 de 2017).",0,18]
[null,null,"D4815006","Agujas hipodérmicas",1,{"$f":"ROW()","v":235},8,null,null,"2.1.1.02.01.002.03","Prima especial de servicios Reconocimiento que hace la ley a los magistrados del Consejo Superior de la Judicatura, de la Corte Suprema de Justicia, de la Corte Constitucional, del Consejo de Estado, el Procurador General de la Nación, el Contralor General de la República, el Fiscal General de la Nación, el Defensor del Pueblo y el Registrador Nacional del Estado Civil con el fin de igualar los ingresos percibidos por estos funcionarios, con aquellos que reciben los miembros del Congreso, sin que en ningún caso los supere. El Gobierno podrá fijar la misma prima para los ministros de despacho, los Generales y Almirantes de la Fuerza Pública (art. 15, Ley 4 de 1992).Esta prima reemplaza en su totalidad y deja sin efecto cualquier otra prima a que tengan derecho dichos funcionarios, con excepción de la prima de navidad (art. 5, Decreto 10 de 1993).",0,18]
[null,null,"D4815004","Agujas para sutura",1,{"$f":"ROW()","v":236},8,null,null,"2.1.1.02.01.002.04","Prima semestral Es el pago que se realiza en el mes de junio y diciembre, denóminado prima semestral, a los funcionarios que cumplan con los requisitos establecidos por la ley, y pagadera en conformidad con las disposiciones legales. Por ejemplo:a. La Superintendencia de Sociedades realiza el pago de la prima semestral a los beneficiarios del régimen especial de prestaciones económicas de los empleados afiliados a Corpoanónimas (entidad liquidada), en virtud de lo establecido por el art. 12 del Decreto 1695 de 1997. b) El artículo 2 de la Ley 55 de 1987, establece el reconocimiento de una prima semestral para los empleados del Congreso nacional, pagadera en junio y diciembre de cada año.c) El Acuerdo Distrital 25 de 1990 establece el pago de una prima semestral a los empleados y trabajadores de la Administración Central del Distrito, que hayan laborado durante el primer semestre del año y proporcionalmente a quienes laboren por lo menos tres (3) meses completos de ese semestre, y que equivale a treinta y siete (37) días de salario.",0,18]
[null,null,"D4740203","Agujas para tocadiscos y similares",1,{"$f":"ROW()","v":237},8,null,null,"2.1.1.02.01.002.05","Prima ascensional Reconocimiento que hace la ley a favor de los Magistrados y Fiscales de Tribunal, que reúnan los requisitos constitucionales para el ejercicio de la magistratura de la Corte Suprema de Justicia, y a favor de los Fiscales de Juzgado Superior, Jueces Superiores, de Menores y de Circuito que reúnan los requisitos constitucionales para ser Magistrados de Tribunal Superior (art. 3, Decreto 903 de 1969).El Consejo Superior de la Administración de Justicia, para determinar la cuantía individual de la prima (que no podrá ser mayor al cinco por ciento (5%) de la asignación mensual), tendrá en cuenta la antigüedad y la calidad de los requisitos constitucionales exigidos para el desempeño del cargo superior, a la época en que el peticionario haya tomado posesión del mismo (Decreto 760 de 1970).",0,18]
[null,null,"D0123502","Ahuyama",1,{"$f":"ROW()","v":238},8,null,null,"2.1.1.02.01.002.06","Primas extraordinarias Corresponde al pago por concepto de primas legalmente otorgadas, que constituyen factor salarial y que serán pagaderas únicamente en los términos, condiciones y las veces que se establezca en su ley de creación.",0,18]
[null,null,"D3425006","Aire purificado",1,{"$f":"ROW()","v":239},8,null,null,"2.1.1.02.01.002.07","Prima mensual Es el pago mensual equivalente al incentivo económico por los servicios prestados. Pago no menor al treinta por ciento (30%), ni mayor al sesenta por ciento (60%) del salario básico mensual.",0,18]
[null,null,"D3425011","Aire sin purificar",1,{"$f":"ROW()","v":240},8,null,null,"2.1.1.02.01.002.08","Auxilio especial de transporte Es el pago por concepto de auxilio especial de transporte a los beneficiarios establecidos por la ley, de acuerdo con las disposiciones legales correspondientes.Por ejemplo, el artículo 3 del Decreto 192 de 2014 dispone que tienen derecho a este subsidio, los servidores públicos del Instituto Nacional de Medicina Legal y Ciencias Forenses que se desempeñen en funciones de mensajería.",0,18]
[null,null,"D4694007","Aisladores de corriente para cercas eléctricas",1,{"$f":"ROW()","v":241},8,null,null,"2.1.1.02.01.002.09","Bonificación por comisión especial de servicio Reconocimiento que hace la ley a los empleados del Departamento Administrativo de Seguridad - DAS que deban cumplir comisiones especiales de servicio fuera del país. Dichos empleados tendrán derecho a percibir una bonificación mensual en dólares o proporcional al tiempo de la comisión, hasta por el quince por ciento (15%) de su asignación básica mensual a razón de un dólar por cada cinco pesos ($5) (art. 6, Decreto 1933 de 1989).",0,18]
[null,null,"D3729201","Aisladores de loza",1,{"$f":"ROW()","v":242},8,null,null,"2.1.1.02.01.002.10.01","Beneficios a los empleados a corto plazo",0,21]
[null,null,"D3729202","Aisladores de porcelana",1,{"$f":"ROW()","v":243},8,null,null,"2.1.1.02.01.002.10.02","Beneficios a los empleados a largo plazo",0,21]
[null,null,"D3719701","Aisladores de vidrio",1,{"$f":"ROW()","v":244},8,null,null,"2.1.1.02.01.002.11","Bonificación por compensación La bonificación por compensación es el pago que se realiza a los funcionarios públicos determinados por la ley, para la nivelación de su salario.Por ejemplo, la bonificación por compensación creada por el Decreto 610 de 1998, es el pago mensual, equivalente al ochenta por ciento (80%) de la asignación básica más los demás ingresos laborales. Los beneficiarios de esta bonificación son: los magistrados de las altas Cortes, secretarios generales de las mismas, Fiscales delegados ante Tribunales del distrito, y otros funcionarios de la rama judicial. De acuerdo con el Decreto 1102 de 2012, que venían percibiendo la bonificación de gestión judicial para la fecha del Decreto mencionado, reciben el presente beneficio. Incluye: •La prima individual de compensación creada por el Decreto 4669 de 2006. Según lo establecido por el artículo 11 del Decreto 4669 de 2006, los servidores públicos del Instituto Nacional de Medicina Legal y Ciencias Forenses:[…]que fueren incorporados con una asignación básica mensual inferior a la que venían percibiendo, una prima individual de compensación, de carácter personal, que nivele sus ingresos con los que venían percibiendo por concepto de asignación básica mensual, de conformidad con lo establecido en el artículo 2o del Decreto 384 de 2006, la que devengarán mientras permanezcan en el mismo empleo. (Decreto 4669, 2006) Esta prima constituye factor salarial para liquidar prestaciones sociales, y firma parte de la asignación básica para efectos pensionales (Decreto 4669, 2006). Otro ejemplo es la bonificación por compensación creada por el Decreto Ley 4064 de 2011, donde los funcionarios del DAS incorporados a la Unidad Administrativa Especial Migración Colombia, en un empleo al cual corresponde una asignación básica inferior al valor de la asignación básica y la prima de riesgo que vienen percibiendo, la diferencia se reconocerá con una bonificación mensual individual por compensación que se entiende integrada a la asignación básica y por lo tanto constituye factor salarial para todos los efectos legales.",0,18]
[null,null,"D4694008","Aisladores eléctricos poliméricos",1,{"$f":"ROW()","v":245},8,null,null,"2.1.1.02.01.002.12.01","Beneficios a los empleados a corto plazo Corresponde al pago por los incrementos de salario por antigüedad que aplica a todos los servidores públicos que fueron vinculados con anterioridad a la expedición del decreto Ley 1042 de 1978, art 49. Son los pagos que se aplica a los empleados que permanezcan en el mismo cargo al iniciar el tercer año.",0,21]
[null,null,"D3792007","Aisladores térmicos de asbesto",1,{"$f":"ROW()","v":246},8,null,null,"2.1.1.02.01.002.12.02","Beneficios a los empleados a largo plazo Corresponde al pago por los incrementos de salario por antigüedad que aplica a todos los servidores públicos que fueron vinculados con anterioridad a la expedición del decreto Ley 1042 de 1978, art 49. Son los pagos que se aplica a los empleados que permanezcan en el mismo cargo del quinto año en adelante.",0,21]
[null,null,"D4923109","Aislamiento para automotores, insonorizantes",1,{"$f":"ROW()","v":247},8,null,null,"2.1.1.02.01.002.13","Prima especial Reconocimiento que hace la ley a los funcionarios de la planta externa del Ministerio de Comercio, Industria y Turismo (art. 4, Decreto 4971 de 2009) y a los funcionarios que presten sus servicios en las misiones colombianas permanentes acreditadas en el exterior (art. 4, Decreto 3357 de 2009).Esta prima se paga en forma mensual y constituye factor salarial para todos los efectos, incluyendo los aportes al Sistema Integral de Seguridad Social.",0,18]
[null,null,"D3799001","Aislamientos térmicos en lana de basalto",1,{"$f":"ROW()","v":248},8,null,null,"2.1.1.02.01.002.14","Bonificación cuerpo custodia y vigilancia Es una bonificación que se reconoce a los oficiales logísticos y de tratamiento penitenciario pertenecientes al Cuerpo de Custodia y Vigilancia Penitenciaria y Carcelaria Nacional del Instituto Nacional Penitenciario y Carcelario -INPEC-, de manera mensual a partir del primero (1) de enero de 2015, calculado sobre la asignación básica mensual correspondiente al empleo (art. 2, Decreto 1268 de 2015).De acuerdo al art. 4 del Decreto 1268 de 2015, la bonificación constituye factor salarial para todos los efectos legales y los aportes obligatorios sobre los pagos que se efectúen por ese concepto, se realizarán de conformidad con las disposiciones legales vigentes.",0,18]
[null,null,"D3627021","Aislante de caucho para aparatos frigoríficos",1,{"$f":"ROW()","v":249},8,null,null,"2.1.1.02.01.002.15","Bonificación personal administrativo Es una bonificación que se reconoce al personal administrativo del Instituto Nacional Penitenciario y Carcelario INPEC, una bonificación que se reconocerá mensualmente a partir del primero (1) de enero de 2015, calculado sobre la asignación básica mensual correspondiente al empleo que desempeñe.De acuerdo al art. 4 del Decreto 1268 de 2015 la bonificación constituye factor salarial para todos los efectos legales y los aportes obligatorios sobre los pagos que se efectúen por ese concepto, se realizarán de conformidad con las disposiciones legales vigentes.",0,18]
[null,null,"D3799005","Aislantes térmicos de arcilla refractaria",1,{"$f":"ROW()","v":250},8,null,null,"2.1.1.02.01.002.16","Sobresueldo Reconocimiento económico que hace la ley a los controladores de tránsito aéreo y supervisores de tránsito aéreo debidamente acreditados por el Centro de Estudios Aeronáuticos y pertenecientes al área de control de Tránsito Aéreo de la Unidad Administrativa Especial de Aeronáutica Civil en razón del volumen de operación de control de tráfico aéreo. El porcentaje del sobresueldo se fija de acuerdo con la categoría del aeropuerto donde el funcionario preste el servicio (Decreto 313 de 2018, art. 8).",0,18]
[null,null,"D3799007","Aislantes térmicos de yeso",1,{"$f":"ROW()","v":251},8,null,null,"2.1.1.02.01.002.17","Prima de desgaste y alto riesgo visual Reconocimiento económico que hace el Distrito de Bogotá a los bacteriólogos que presten sus servicios a las diferentes entidades y dependencias del distrito.",0,18]
[null,null,"D2133001","Ají industrial (entero o en pasta) semielaborado",1,{"$f":"ROW()","v":252},8,null,null,"2.1.1.02.01.002.18","Prima de productividad Reconocimiento económico que hace la ley a los empleados de la Rama Judicial, de la Fiscalía General de la Nación y del Instituto Nacional de Medicina Legal y Ciencias Forenses para mejorar la productividad. Esta prima es equivalente al cincuenta por ciento (50%) de la remuneración mensual, pagadera en el mes de diciembre de cada año (Decreto 2460 de 2006; modificado por el Decreto 3899 de 2008).",0,18]
[null,null,"D0123101","Ajíes y pimientos",1,{"$f":"ROW()","v":253},8,null,null,"2.1.1.02.01.002.19","Reserva especial del ahorro Corresponde al reconocimiento mensual que realiza la Superintendencia de Sociedades, la Superintendencia de Industria y Comercio, la Superintendencia Financiera de Colombia y el Instituto Nacional de Metrología a favor de sus empleados, con el fin de incentivar el ahorro de estos. Este reconocimiento es equivalente al 65% del sueldo básico, prima de antigüedad, prima técnica, gastos de representación y el incremento de salario por antigüedad",0,18]
[null,null,"D2139304","Ajíes y pimientos deshidratados",1,{"$f":"ROW()","v":254},8,null,null,"2.1.1.02.01.002.20","Prima de localización (Artículo 8 Decreto 415 de 1979) Corresponde la prima que reconoce el Servicio Nacional de Aprendizaje (SENA) a los empleados públicos que presten sus servicios en el Centro Náutico Pesquero de Buenaventura, en la ciudad de Barrancabermeja, en el Departamento del Chocó y en la región de Urabá, donde existen sedes permanentes del SENA, en los Departamentos del César y la Guajira o en Centros Fijos de los Territorios Nacionales. Esta prima se fijó en1.500.00 mensuales, incrementándose anualmente en un 20%, constituye parte integral de la asignación básica mensual de los empleos del SENA y en ningún caso se podrá recibir viáticos y prima de localización simultáneamente",0,18]
[null,null,"D2149506","Ajonjolí tostado",1,{"$f":"ROW()","v":255},8,null,null,"2.1.1.02.01.002.21","Quinquenios Recursos destinados al pago a que tienen derecho los empleados públicos al cumplirse cinco años de antigüedad de servicios prestados en un trabajo, según lo estipulado en la ley. de acuerdo con la entidad y régimen salarial que rija para el mismo.“El quinquenio es un beneficio laboral que se reconoce con ocasión de la prestación del servicio por un lapso determinado, sin que manera alguna cubra riesgo o necesidad alguno del empleado. Motivo por el cual, en concepto de esta Oficina, el quinquenio es Salario o Remuneración”. (Concepto 11547 de 2002 Departamento Administrativo de la Función Pública).",0,18]
[null,null,"D0125201","Ajos",1,{"$f":"ROW()","v":256},8,null,null,"2.1.1.02.01.002.22","Beneficios a los empleados a largo plazo",0,18]
[null,null,"D2139913","Ajos elaborados",1,{"$f":"ROW()","v":257},8,null,null,"2.1.1.02.01.002.23","Remuneración adicional Corresponde a remuneración a la que tienen derecho los empleados al servicio de la Contraloría General de la República que laboren ordinariamente en los departamentos creados por el Artículo 309207de la Constitución Política y en el Departamento del Caquetá. Esta remuneración es equivalente al 8% de la asignación básica mensual que les corresponde",0,18]
[null,null,"D4153301","Alambre de aluminio",1,{"$f":"ROW()","v":258},8,null,null,"2.1.1.02.01.002.24","Prima de capacitación no acogidos Reconocimiento que hace la ley a Magistrados del Tribunal, Jueces Superiores, de menores o circuitos en razón de estudios de post-grado, obra de investigación científica publicada o ejercicio de la docencia universitaria, todo en materias relacionadas con su cargo y especialidad (Art. 3, Decreto 903 de 1969 y Decreto 717 de 1978).El Consejo Superior de la administración de justicia para la determinación individual del monto de la prima de capacitación, que puede ascender hasta el 10% de la respectiva asignación mensual, analizará en singular cada factor invocado y demostrado, teniendo en cuenta la naturaleza, pertinencia, duración e intensidad, abundancia y pertinencia de la obra científica; y la antigüedad, perseverancia, rendimiento y pertinencia del ejercicio del magisterio (Art. 4 del Decreto 760 de 1970).",0,18]
[null,null,"D4151302","Alambre de bronce",1,{"$f":"ROW()","v":259},8,null,null,"2.1.1.02.01.002.25","Prima del nivel ejecutivo Corresponde a la prima a la que tiene derecho el personal del nivel ejecutivo de la Policía Nacional en servicio activo. Es equivalente al 20% de la asignación básica mensual, no tiene carácter salarial para ningún efecto, con excepción de la prima de navidad",0,18]
[null,null,"D4151301","Alambre de cobre",1,{"$f":"ROW()","v":260},{"$f":"LEN(C260)","v":8},null,null,"2.1.1.02.01.002.26","Prima de retorno a la experiencia Es el reconocimiento económico que hace la ley al personal del nivel ejecutivo de la Policía Nacional por cada año de servicio que permanezca en el mismo grado de acuerdo con el porcentaje del sueldo básico",0,{"$f":"LEN(J260)","v":18}]
[null,null,"D4126301","Alambre de hierro o acero",1,{"$f":"ROW()","v":261},8,null,null,"2.1.1.02.01.002.27","Prima de vuelo",0,18]
[null,null,"D4126302","Alambre de hierro o acero galvanizado",1,{"$f":"ROW()","v":262},8,null,null,"2.1.1.02.01.002.28","Prima de carestía Reconocimiento que se hace en el mes de abril de cada año a los trabajadores oficiales vinculados a 31 de diciembre del año inmediatamente anterior de una prima de carestía, de conformidad con lo previsto en la convención colectiva de trabajo vigente.. NE : Concepto exclusivo Universidad Nacional de Colombia",0,18]
[null,null,"D4160201","Alambre de molibdeno",1,{"$f":"ROW()","v":263},8,null,null,"2.1.1.02.01.002.29","Bonificación cargo académico administrativo Reconocimiento de bonificación mensual a los docentes que por acto administrativo desempeñan cargos académico administrativos en funciones directivas.",0,18]
[null,null,"D4152203","Alambre de níquel",1,{"$f":"ROW()","v":264},8,null,null,"2.1.1.02.01.002.30","Bonificación bienestar universitario Corresponde al pago a los servidores públicos según Acuerdo CSU 005 de 1998, aplica para docentes de carrera universitaria.NE: Aplica para la Universidad Nacional de Colombia.",0,18]
[null,null,"D4294601","Alambre de púas",1,{"$f":"ROW()","v":265},8,null,null,"2.1.1.02.01.002.31","Cuatrienios Recursos destinados al pago a que tienen derecho los empleados públicos al cumplirse Cuatro años de antigüedad de servicios prestados en un trabajo, según lo estipulado en la ley.",0,18]
[null,null,"D4294603","Alambre n.c.p.",1,{"$f":"ROW()","v":266},8,null,null,"2.1.1.02.01.002.32","Bonificación Pedagógica Docentes Prescolar, Básica y Media La bonificación pedagógica será reconocida para docentes y directivos docentes de entidades territoriales, pagadera una sola vez al año de acuerdo con los porcentajes indicados; cuando el docente o directivo docente cumpla un año continúo de servicio efectivamente prestado; constituye factor salarial y no tendrá efectos retroactivos.",0,18]
[null,null,"D4294103","Alambres esmaltados",1,{"$f":"ROW()","v":267},8,null,null,"2.1.1.02.01.002.33","Sobresueldo docentes y directivos docentes Prescolar, Básica y Media Es la asignación adicional para docentes de prescolar vinculados en este nivel antes del 23 de febrero de 1984 y que permanezca sin solución de continuidad desempeñándose en el mismo cargo, equivalente al quince por ciento (15%) calculado sobre la asignación básica mensual. Dicha asignación adicional dejará de percibirse al cambiar de nivel educativo.",0,18]
[null,null,"D4294602","Alambres especiales de hierro o acero",1,{"$f":"ROW()","v":268},8,null,null,"2.1.1.02.01.002.34","Bonificación Educadores de Básica y Media Corresponde a la bonificación para los servidores públicos docentes y directivos docentes al servicio del Estado en los niveles de preescolar, básica y media, regidos por el Decreto Ley 2277 de 1979, el Decreto Ley 1278 de 2002 o la Sección 4, Capítulo 5, Título 3, Parte 3 del Decreto 1075 de 2015, Único Reglamentario del Sector Educación, y pagados con cargo al Sistema General de Participaciones, una bonificación, que se reconocerá mensualmente a partir del primero (01) de enero de 2020 y hasta el treinta y uno (31) diciembre de 2020, mientras el servidor público permanezca en el servicio.",0,18]
[null,null,"D4124102","Alambrón de acero",1,{"$f":"ROW()","v":269},8,null,null,"2.1.1.02.01.002.35","Prima de clima o de calor Es el reconocimiento económico que se realiza a los empleados públicos que desempeñan sus funciones en condiciones climáticas desfavorables para su salud, de acuerdo con las condiciones legales.",0,18]
[null,null,"D4153201","Alambrón de aluminio",1,{"$f":"ROW()","v":270},8,null,null,"2.1.1.02.01.002.36","Prima Móvil Es el reconocimiento económico que se realiza a los empleados públicos que desempeñan sus funciones como operadores de maquinaria pesada (especial I y especial II), en el marco de una Convención colectiva.",0,18]
[null,null,"D4151201","Alambrón de cobre",1,{"$f":"ROW()","v":271},8,null,null,"2.1.1.02.01.002.37","Prima de vida cara Corresponde al pago que realiza el municipio de Medellín en el marco de la Convención Colectiva firmada con los Trabajadores Oficiales del municipio.",0,18]
[null,null,"D4124101","Alambrón de hierro",1,{"$f":"ROW()","v":272},8,null,null,"2.1.1.02.01.002.38","Prima de Riesgo Prima creada por convención colectiva para los trabajadores que manipulan explosivos en la Industria Militar. La cual corresponderá a dos salarios básico por cada año de servicio",0,18]
[null,null,"D4151206","Alambrón de latón",1,{"$f":"ROW()","v":273},8,null,null,"2.1.1.02.01.002.39","Remuneración Sorteo Semanal Corresponde a la remuneración que realiza la lotería de Cundinamarca a los trabajadores que participen en las labores de la realización semanal de sorteos.",0,18]
[null,null,"D4692907","Alarmas eléctricas, sin dispositivo de señalización",1,{"$f":"ROW()","v":274},8,null,null,"2.1.1.02.01.002.40","Vacaciones Corresponde al reconocimiento que por mera liberalidad realiza el empleador al trabajador por concepto de vacaciones cuando estas se consideran como un factor salarial, en aplicación de lo establecido en el código sustantivo de trabajo.",0,18]
[null,null,"D0134301","Albaricoques",1,{"$f":"ROW()","v":275},8,null,null,"2.1.1.02.01.002.41","Distinción Son los reconocimientos que se otorgan al Patrullero en servicio activo, por su tiempo de servicio, buen comportamiento y profesionalización, previo el lleno de los requisitos dispuestos en la Ley 2179 de 2021.",0,18]
[null,null,"D3270114","Álbumes fotográficos elaborados en cartón",1,{"$f":"ROW()","v":276},8,null,null,"2.1.1.02.02.001","Aportes a la seguridad social en pensiones Son los pagos por concepto de contribución social que hacen los empleadores a los fondos de seguridad social en pensiones. Este pago se realiza en virtud de la Ley 100 de 1993, por medio de la cual se creó el Sistema de Seguridad Social de Pensiones, y se estableció la obligatoriedad de la afiliación de todos los empleados al sistema.Este aporte tiene como finalidad garantizar a la población el amparo contra las contingencias derivadas de la vejez, la invalidez y la muerte, mediante el reconocimiento de las pensiones y prestaciones correspondientes (Ley 100 de 1993, art. 10).",0,15]
[null,null,"D2929013","Álbumes, portarretratos y similares de cuero",1,{"$f":"ROW()","v":277},8,null,null,"2.1.1.02.02.002","Aportes a la seguridad social en salud Son los pagos por concepto de contribución social que hacen los empleadores a las Entidades Promotoras en Salud (EPS) para el cubrimiento de riesgos de salud de sus empleados. Este pago se realiza en virtud de la Ley 100 de 1993, la cual creó el Sistema de Seguridad Social en Salud y estableció como deberes del empleador realizar cumplidamente los aportes correspondientes.",0,15]
[null,null,"D3699064","Álbumes, portarretratos y similares de material plástico",1,{"$f":"ROW()","v":278},8,null,null,"2.1.1.02.02.003","Aportes de cesantías Es la contribución de cesantías, que el empleador está obligado a pagar en razón de un mes de sueldo o jornal por cada año de servicio de su empleado, proporcionalmente fraccionado. Este aporte tiene como fin cubrir o prever las necesidades que se originan al trabajador al momento de quedar cesante. (Departamento Administrativo de la Función Pública, 2012).Los aportes a los fondos administradores de cesantías entraron en vigor para entidades territoriales con la Ley 344 de 1996. Así mismo, la Ley 432 de 1998 permitió que el personal del nivel territorial se afiliara al Fondo Nacional del Ahorro.",0,15]
[null,null,"D3527008","Albúmina de sangre",1,{"$f":"ROW()","v":279},8,null,null,"2.1.1.02.02.004","Aportes a cajas de compensación familiar Son los pagos por concepto de contribución social que hacen los empleadores a las cajas de Compensación familiar para el cubrimiento del subsidio familiar y de vivienda.",0,15]
[null,null,"D0121601","Alcachofa",1,{"$f":"ROW()","v":280},8,null,null,"2.1.1.02.02.005","Aportes generales al sistema de riesgos laborales Son los pagos por concepto de contribución social que hacen los empleadores a una Administradora de Riesgos Laborales (ARL), según elección, liquidación y las tablas de riesgo establecidas legalmente; para el cubrimiento de las prestaciones económicas y asistenciales derivadas de un accidente de trabajo o una enfermedad profesional (Ley 100 de 1993; Decreto 1295 de 1994).El monto de las cotizaciones no podrá ser inferior al 0.348%, ni superior al 8.7%, de la base de cotización de los trabajadores a cargo del respectivo empleador (Decreto 1295 de 1994, art.18). Este pago se realiza en virtud de la Ley 100 de 1993, la cual creó el sistema General de Riesgos laborales, y el Decreto 1295 de 1994, el cual establece: […] c) Todos los empleadores deben afiliarse al Sistema General de Riesgos Profesionales. […] d) La afiliación de los trabajadores dependientes es obligatoria para todos los empleadores. […]El empleador que no afilie a sus trabajadores al Sistema General de Riesgos Profesionales, además de las sanciones legales, será responsable de las prestaciones que se otorgan en este decreto (Decreto 1295 de 1994, art. 4).",0,15]
[null,null,"D3525097","Alcaloides n.c.p.",1,{"$f":"ROW()","v":281},8,null,null,"2.1.1.02.02.006","Aportes al ICBF Son los pagos por concepto de contribución parafiscal que hacen los empleadores al Instituto Colombiano de Bienestar Familiar (ICBF). Esta contribución está destinada a atender la creación y sostenimiento de centros de atención integral al preescolar, para menores de 7 años hijos de empleados públicos y de trabajadores oficiales y privados",0,15]
[null,null,"D3699020","Alcancías de material plástico",1,{"$f":"ROW()","v":282},8,null,null,"2.1.1.02.02.007","Aportes al SENA Es la contribución parafiscal a pagar por la Nación (por intermedio de los Ministerios, Departamentos Administrativos y Superintendencias), los establecimientos públicos, las empresas industriales y comerciales y las empresas de economía mixta de las órdenes nacional, departamental, Intendencias, distrital y municipal, y los empleados que ocupen uno o más trabajadores permanentes47 al SENA. Los aportes para la Nación son equivalentes al 0,5% de la nómina mensual de salarios y están destinados a programas específicos de formación profesional acelerada, durante la prestación del servicio militar obligatorio. Los aportes de los demás contribuyentes son equivalentes al 2% de las nóminas respectivas (Ley 21 de 1982, arts. 7 a 12). De acuerdo con la Ley 223 de 1995, las universidades públicas no están obligadas a realizar aportes al SENA (Ley 223 de 1995, art. 181).",0,15]
[null,null,"D3417012","Alcanfor",1,{"$f":"ROW()","v":283},8,null,null,"2.1.1.02.02.008","Aportes a la ESAP Contribución parafiscal a pagar por la Nación, los departamentos, intendencias, comisarías, el Distrito Especial de Bogotá y los municipios empleadores a la ESAP. La Ley establece el porcentaje a pagar, el cual se calcula sobre los pagos por concepto de salarios (Ley 21 de 1982, art. 8).",0,15]
[null,null,"D4299945","Alcantarillas metálicas",1,{"$f":"ROW()","v":284},8,null,null,"2.1.1.02.02.009","Aportes a escuelas industriales e institutos técnicos Son los pagos por concepto de contribución parafiscal que hacen los empleadores a favor de las escuelas industriales e institutos técnicos. Este aporte es equivalente al 0,5% de la nómina mensual de salarios de los contribuyentes (Ley 21 de 1982, art. 11)",0,15]
[null,null,"D0123901","Alcaparras",1,{"$f":"ROW()","v":285},8,null,null,"2.1.1.02.02.010","Aporte subsidio de vivienda fuerzas militares y policía Son los pagos por concepto de contribución que hacen los empleadores para otorgar el subsidio de vivienda de las Fuerzas Militares y la Policía",0,15]
[null,null,"D2134001","Alcaparras conservadas en vinagre o ácido acético",1,{"$f":"ROW()","v":286},8,null,null,"2.1.1.02.03.001.01","Vacaciones Es el pago por el descanso remunerado a que tiene derecho el empleado después de un año de labor en la entidad. Esta retribución se reconoce a los empleados por la totalidad de días de vacaciones y corresponde a quince (15) días de trabajo, y será pagado al menos cinco (5) días con antelación a la fecha señalada para iniciar el goce del descanso remunerado (Decreto 1045 de 1978, arts. 18 y 48).",0,18]
[null,null,"D3413904","Alcohol bencílico-fenil carbinol",1,{"$f":"ROW()","v":287},8,null,null,"2.1.1.02.03.001.02","Indemnización por vacaciones Corresponde a la compensación en dinero a la que tiene derecho el empleado por vacaciones causadas, pero no disfrutadas. En principio, la compensación en dinero de las vacaciones está prohibida, en tanto estas constituyen un derecho del que gozan todos los trabajadores como quiera que el reposo es una condición mínima que ofrece la posibilidad de que el empleado renueve la fuerza y la dedicación para el desarrollo de sus actividades (Corte Constitucional, Sentencia C-598/1997).",0,18]
[null,null,"D3413909","Alcohol butílico-butanol",1,{"$f":"ROW()","v":288},8,null,null,"2.1.1.02.03.001.03","Bonificación especial de recreación Es la retribución que se reconoce a los empleados por cada periodo de vacaciones en el momento de iniciar el disfrute del respectivo periodo vacacional. La cuantía de la bonificación por recreación equivale a dos días de la asignación básica mensual que le corresponda al empleado.Esta bonificación no constituirá factor de salario para ningún efecto legal y se pagará por lo menos con cinco (5) días hábiles de antelación a la fecha de inicio en el evento que se disfrute del descanso remunerado (Decreto 229 de 2016, art. 16).",0,18]
[null,null,"D3413901","Alcohol cetílico",1,{"$f":"ROW()","v":289},8,null,null,"2.1.1.02.03.001.04","Bonificación de dirección para altos funcionarios del Estado Es la retribución económica reconocida a determinados funcionarios del Estado, quienes desempeñan labores relacionadas con la dirección, la cual es equivalente a cuatro (4) veces la remuneración de asignación básica mensual, más los gastos de representación y la prima técnica. Esta prima se paga en dos contados: 30 de junio y 30 de diciembre del respectivo año (Decreto 3150 de 2005). De acuerdo con el Decreto 2699 de 2012, son beneficiarios de la bonificación de dirección: •Ministros, •Directores de Departamento Administrativo; •Alto comisionado en la Consejería Presidencial para la Paz, •Alto Consejero Presidencial, •Secretario Privado de la Presidencia de la República, •Secretarios de la Presidencia de la República, •Consejero Presidencial, •Director de Programa Presidencial, •Consejero Auxiliar 1125, •Subdirector General, •Subdirector de Operaciones, •Alto Asesor de Seguridad Nacional, •Director de Programa Presidencial \"Colombia Joven\", •Jefes de Oficina, •Jefes de Área y Asesores Grados 13 y 14 de la Presidencia de la República; •Secretarios Generales de Ministerios y Departamentos Administrativos, •Directores Administrativo o Financiero o Técnico u Operativo de Ministerio y Departamento Administrativo, •Directores, Gerentes o Presidentes de Establecimientos Públicos, •Director de la Unidad Administrativa Especial de la Aeronáutica Civil, •Director de la Unidad Administrativa Especial de Impuestos y Aduanas Nacionales, •Directores de Unidades Administrativas Especiales con Personería Jurídica, •Oficiales de las Fuerzas Militares o de la Policía Nacional destinados en Comisión para desempeñar las funciones de Jefe de la Casa Militar, •Presidente del Instituto Colombiano de Crédito Educativo y Estudios Técnicos en el Exterior Mariano Ospina Pérez - ICETEX, •Director General del Instituto Colombiano para la Evaluación de la Educación - ICFES, •Gerente General de la Sociedad Hotel San Diego S. A Hotel Tequendama, Gerente de la Industria Militar - INDUMIL, •Gerente de la Caja Promotora de Vivienda Militar, •Presidente del Servicio Aéreo a Territorios Nacionales - SATENA. •Gerente de la Corporación de la Industria Aeronáutica Colombiana - ClAC, •Director General de la Caja de Previsión Social de Comunicaciones - CAPRECOM, •Comisionado de la Comisión Nacional del Servicio Civil - CNSC, •Secretarios Generales del Senado de la República y Cámara de Representantes Grado 14, Subsecretarios Generales Grado 12, Secretarios de las Comisiones Constitucionales y legales Permanentes Grado 12 y Subsecretarios de las Comisiones Constitucionales y Legales. Para los siguientes funcionarios, la bonificación de dirección equivale a cuatro meses la asignación básica más los gastos de representación:•Director General de la Unidad Administrativa Especial de Gestión Pensional y Contribuciones Parafiscales de la Protección Social - UGPP- •Director General y Presidente de Agencia Estatal de Naturaleza Especial, Gerente y Presidente las entidades que se rigen por el Decreto 508 de 2012 y por las disposiciones que la modifiquen, •Presidente de la Empresa Colombiana de Petróleos S. A Ecopetrol S. A, •Gerente General del Fondo Financiero de Proyectos de Desarrollo - FONADE,•Presidente de la Financiera de Desarrollo Territorial S. A - FINDETER, •Presidente de la Previsora S. A, Compañía de Seguros, •Presidente Fiduciaria La Previsora S. A FIDUPREVISORA, •Presidente de Positiva Compañía de Seguros S.A, •Presidente de la Central de Inversiones S. A – CISA, •Presidente de la Administradora Colombiana de Pensiones COLPENSIONES",0,18]
[null,null,"D2411001","Alcohol etílico sin desnaturalizar (para fabricar bebidas alcohólicas)",1,{"$f":"ROW()","v":290},8,null,null,"2.1.1.02.03.002","Prima técnica no salarial Comprende la prima técnica por evaluación del desempeño y la prima técnica automática.La prima técnica por evaluación de desempeño se otorga a funcionarios directivos, jefes de oficina asesora o asesores que obtienen un porcentaje correspondiente al 90%, como mínimo, del total de la última evaluación del desempeño, correspondiente a un periodo no inferior a 3 meses en el ejercicio del cargo en propiedad (Decreto 1164 de 2012). No puede ser superior al 50% de la asignación básica mensual del empleado al que se le asigna la prima.Por su parte, la prima técnica automática es otorgada a altos funcionarios, en virtud de las calidades excepcionales del ejercicio de sus funciones. Equivale al 50% del sueldo y los gastos de representación de los empleados.De acuerdo con el artículo 7 del Decreto 1661 de 1991, no constituyen factor salarial: la prima técnica por evaluación de desempeño y la prima técnica automática.",0,15]
[null,null,"D3413101","Alcohol impotable o desnaturalizado",1,{"$f":"ROW()","v":291},8,null,null,"2.1.1.02.03.003","Bonificación especial por servicios de seguridad a ex presidentes Corresponde al pago que se les hace a los funcionarios de las Fuerzas Militares, de la Policía Nacional y el Departamento Administrativo de Seguridad, asignados de forma permanente en la prestación de servicios para garantizar la seguridad de los ex presidentes de la República y sus cónyuges sobrevivientes, equivalente al 30% de la asignación básica mensual que reciben.El pago de esta bonificación se hará con cargo al presupuesto de la entidad a la cual se encuentre vinculado el funcionario (art. 4, Decreto 1700 de 2010).",0,15]
[null,null,"D3413912","Alcohol isobutílico-isobutanol",1,{"$f":"ROW()","v":292},8,null,null,"2.1.1.02.03.004","Bonificación especial por servicios de comisión en Presidencia Corresponde al pago de una asignación mensual adicional, equivalente al 60% del suelo básico mensual, que se reconoce al personal del Ministerio de Defensa, de las Fuerzas Militares, de la Policía Nacional y de la Unidad Nacional de Protección (UNP), que preste sus servicios en comisión en el Departamento Administrativo de la Presidencia de la República, bien sea en la Casa Militar o en la Secretaría para la Seguridad del Presidente y de la familia presidencial, aun por fuera de la sede habitual de residencia de la familia presidencial. En iguales condiciones, tendrán derecho a esta bonificación, los soldados que presten el servicio en el Palacio Presidencial-Casa de Nariño.Para tener derecho al reconocimiento y pago de la bonificación, el personal debe haber prestado el servicio total o parcialmente en jornadas de trabajos extras diurnas o nocturnas y previa certificación del Secretario para la Seguridad del Presidente, sobre la prestación del servicio o del Jefe de la Casa Militar de Palacio, o el Jefe de Guarnición, en cada caso (art. 1, Decreto 1794 de 2012).",0,15]
[null,null,"D3413914","Alcohol isodecílico, isodecanol",1,{"$f":"ROW()","v":293},8,null,null,"2.1.1.02.03.005","Prima de riesgo Reconocimiento que hace la ley a los funcionarios que prestan servicios de alto riesgo, en los siguientes términos:- Para los conductores de los Ministros y Directores de Departamento Administrativos la prima de riesgo será equivalente al veinte por ciento (20%) de la asignación básica mensual (Decreto 229 de 2016, art. 8)- Para los conductores del Ministro de Defensa Nacional, el Comandante General de las Fuerzas Militares, los Comandantes de Fuerza y del Director General de la Policía Nacional la prima de riesgo será del 20% de la asignación básica mensual (Decreto 214 de 2016, art. 33).- Para el personal de los organismos de seguridad del Estado en comisión en los establecimientos de reclusión del Instituto Nacional Penitenciario y Carcelario -INPEC la prima de riesgo corresponderá al 30% de la asignación básica mensual (Decreto 229 de 2016, art. 34).- Para el personal de la Imprenta Distrital, guardianes de la cárcel distrital, personal de vigilancia de la Secretaría de Tránsito y Transportes, radio operadores de la Administración Central, Técnicos en Salud Ocupacional, operadores de equipos, auxiliares de ingeniería y técnicos de la división de ingeniería de la Secretaría de Tránsito y Transportes. Empleados de publicaciones de la Secretaría de Educación, operarios de la Fábrica de Pupitres San Blas y Fábrica de Tiza de la Secretaría de Educación con más de cinco (5) años de servicio la prima de riesgo se paga de manera mensual y corresponde a un 5% por ciento de la asignación básica mensual más de un 1% por cada año adicional a los primeros cinco (5) años de servicio, sin que exceda el veinticinco (25%) por cientoEn todos los casos, esta prima no constituye factor salarial para ningún efecto legal.",0,15]
[null,null,"D3413902","Alcohol metílico-metanol",1,{"$f":"ROW()","v":294},8,null,null,"2.1.1.02.03.006","Prima de gestión Reconocimiento que hace la ley a algunos servidores públicos, en los siguientes términos:- A los negociadores internacionales, correspondiente al 50% de la asignación básica y los gastos de representación (Decreto 229 de 2016, art. 3). - Al Director de la Unidad de Información y Análisis Financiero, correspondiente al 50% de la asignación básica mensual (Decreto 229 de 2016, art. 3).-A los empleados públicos del Congreso, conforme a lo dispuesto en el artículo 5 del Decreto 230 de 2016.",0,15]
[null,null,"D3479016","Alcohol polivinílico PVA; PVOH",1,{"$f":"ROW()","v":295},8,null,null,"2.1.1.02.03.007","Prima de dirección Es el reconocimiento económico que sustituye la prima técnica para los ministros de despacho y directores de departamentos administrativos; a excepción de la prima técnica por estudios de formación avanzada y experiencia altamente calificada (Decreto 1101 de 2015).De acuerdo con el artículo 2 del decreto 1028 de 2015, los oficiales de las Fuerzas Militares y de la Policía Nacional en los grados de Almirante y General tendrán derecho a la Prima de Dirección, en las mismas condiciones que los ministros de despacho.Tienen derecho a la prima técnica los demás funcionarios que legalmente se establezcan como beneficiarios.",0,15]
[null,null,"D3413903","Alcohol propílico y alcohol isopropílico",1,{"$f":"ROW()","v":296},8,null,null,"2.1.1.02.03.008","Prima geográfica Corresponde a una asignación sin carácter salarial, otorgada a los funcionarios cuyos cargos estén ubicados en zonas de difícil acceso, clima malsano o alto riesgo por violencia, pagadera mientras subsistan tales factores. Por ejemplo: el Decreto 2372 de 1994 otorga la prima geográfica a los funcionarios de la Registraduría Nacional del Estado Civil que presten sus servicios en dichas zonas.",0,15]
[null,null,"D3413999","Alcoholes n.c.p.",1,{"$f":"ROW()","v":297},8,null,null,"2.1.1.02.03.009","Prima de costo de vida Reconocimiento que hace la ley a los servidores públicos del Ministerio de Relaciones Exteriores y del Ministerio de Comercio, Industria y Turismo que se encuentren prestando servicios en el exterior con el fin de equiparar el ingreso real en pesos de dichos funcionarios a las condiciones económicas y cambiarias de los países de destino (art. 5, Decreto 3357 de 2009 y art. 5, Decreto 4971 de 2009).Este pago no se traduce en un incremento neto del patrimonio del funcionario, por lo tanto, no tiene carácter remuneratorio.",0,15]
[null,null,"D3417097","Aldehídos n.c.p.",1,{"$f":"ROW()","v":298},8,null,null,"2.1.1.02.03.010","Prima de localización y vivienda Reconocimiento que hace la ley a los miembros del Congreso. Esta prima se paga de forma mensual, no se considera factor salarial, y es equivalente a setecientos mil pesos ($ 700.000.00) (art. 2, Decreto 801 de 1992).",0,15]
[null,null,"D4143102","Aleación de aluminio",1,{"$f":"ROW()","v":299},8,null,null,"2.1.1.02.03.011","Prima de capacitación Reconocimiento que hace la ley a Magistrados de Tribunal, Fiscales o Jueces Superiores, de Menores o de Circuito en razón de estudios de post-grado, obra de investigación científica publicada o ejercicio de la docencia universitaria, todo en materias relacionadas con su cargo y especialidad (Decreto 903 e 1969, art. 3).Para determinar la cuantía individual de la prima, que puede ascender hasta el diez por ciento de la respectiva asignación mensual, el Consejo Superior de la Administración de Justicia analizará en singular cada factor invocado y demostrado, teniendo en cuenta la naturaleza, pertinencia, duración e intensidad, abundancia y pertinencia de la obra científica; y la antigüedad, perseverancia, rendimiento y pertinencia del ejercicio del magisterio (art. 4, Decreto 760 de 1970).Es el pago por concepto de prima de capacitación que tiene derecho los miembros del Cuerpo de Custodia y Vigilancia Carcelaria. Reconocida en la Ley 32 de 1986 y en las normas que el Gobierno Nacional expida en desarrollo de la Ley 4ª de 1992.",0,15]
[null,null,"D4144302","Aleaciones de estaño",1,{"$f":"ROW()","v":300},8,null,null,"2.1.1.02.03.012","Prima de clima o prima de calor Es el reconocimiento económico que se realiza a los empleados públicos que desempeñan sus funciones en condiciones climáticas desfavorables para su salud, de acuerdo con las condiciones legales.",0,15]
[null,null,"D4142202","Aleaciones de níquel diferentes al ferroníquel",1,{"$f":"ROW()","v":301},8,null,null,"2.1.1.02.03.013","Estímulos a los empleados del Estado Es el pago de incentivos pecuniarios a los empleados públicos, que tienen por objetivo elevar los niveles de eficiencia, satisfacción, desarrollo y bienestar en el desempeño sus funciones. Lo anterior, en el marco de los programas de incentivos que contempla el sistema de estímulos para los empleados del Estado, regulado por el Decreto 1567 de 1998.No incluye:•Incentivos no pecuniarios establecidos en los planes institucionales según lo dispuesto en el Decreto 1567 de 1998.",0,15]
[null,null,"D4412205","Aleaciones de níquel para galvanoplastia",1,{"$f":"ROW()","v":302},8,null,null,"2.1.1.02.03.014","Remuneración electoral De acuerdo con el Decreto 1434 de 1982, es el pago a los funcionarios de planta (o ex funcionarios que hubiesen laborado en el periodo pre-electoral) de la Registraduría Nacional del Estado Civil, correspondiente al 150% de su asignación básica mensual.Esta prima se paga una sola vez en cada año electoral, en el mes siguiente la celebración de la última elección del respectivo año (Decreto 1103 de 2015). Esta prima no aplica al Registrador Nacional.",0,15]
[null,null,"D4144102","Aleaciones de plomo",1,{"$f":"ROW()","v":303},8,null,null,"2.1.1.02.03.015","Prima de instalación Reconocimiento que hace la ley a los Oficiales, Suboficiales, Personal del Nivel ejecutivo de la Policía Nacional y los empleados públicos del Ministerio de Defensa, que se encuentren casados, en unión marital permanente o con hijos a su cargo; cuando el traslado o la comisión permanente sea al interior del país (Decreto 1028 de 2015). El pago de la prima de instalación se realiza de conformidad con las disposiciones legales correspondientes.De acuerdo con el artículo 76 de la Ley 32 de 1986, son beneficiarios de la prima de instalación, los miembros del Cuerpo de Custodia y Vigilancia Penitenciaria Nacional que sean trasladados de una localidad a otra, siempre y cuando la solicitud del traslado no la haya realizado el empleado.En cumplimiento a lo establecido en artículo 3° del Decreto Ley 4064 de 2011, Migración Colombia reconoce a los funcionarios incorporados del DAS, la prima de instalación establecida en el artículo 5 del Decreto 1933 de 1989.",0,15]
[null,null,"D4144203","Aleaciones de zinc",1,{"$f":"ROW()","v":304},8,null,null,"2.1.1.02.03.016","Prima de coordinación Es el pago que se realiza a los empleados públicos y trabajadores oficiales que “tengan planta global y que tengan a su cargo la coordinación o supervisión de grupos internos de trabajo, creados mediante resolución del jefe del organismo respectivo” (Decreto 1101 de 2015).El pago de esta prima es reconocido a los empleados de los Ministerios, Departamentos Administrativos, Superintendencias, Establecimientos Públicos, Corporaciones Autónomas Regionales y de Desarrollo Sostenible, las Empresas Sociales del Estado y las Unidades Administrativas Especiales (Decreto 1101, 2015). Esta prima debe ser reconocida a los funcionarios que la ley determine como beneficiarios.Para el caso del Distrito de Bogotá, este reconocimiento se otorga de manera mensual y equivale a un veinte por ciento (20%) adicional al valor de la asignación básica mensual del empleo del cual sean titulares, durante el tiempo en que ejerzan tales funciones",0,15]
[null,null,"D3842003","Aletas para buceo",1,{"$f":"ROW()","v":305},8,null,null,"2.1.1.02.03.017","Prima de alta gestión De acuerdo con el Decreto 1094 de 2015, la prima de alta gestión es el pago equivalente a “la diferencia entre los ingresos laborales totales anuales recibidos por el Contralor General de la República y los Ingresos laborales totales anuales del Auditor General, sin que en ningún caso los supere” (Decreto 1094 de 2015).Por otro lado, el Decreto 1093 de 2015, reconoce el pago de una prima de alta gestión equivalente al 20% de la asignación básica mensual de los siguientes funcionarios de la Contraloría General de la República: Contralor Delegado, Director de Oficina, Secretario Privado, Director y Gerente.",0,15]
[null,null,"D0419401","Alevinos (peces para cría y levante) de agua dulce",1,{"$f":"ROW()","v":306},8,null,null,"2.1.1.02.03.018","Prima de alto mando Pago que se realiza a los Oficiales de las Fuerzas Militares, los Generales y los Almirantes de la Policía Nacional de acuerdo con lo dispuesto por el Decreto 1028 de 2015; el cual establece: \" los Oficiales de las Fuerzas Militares y de la Policía Nacional en los grados de General y Almirante, percibirán por todo concepto una asignación mensual igual a la que devenguen los Ministros del Despacho como asignación básica y gastos de representación, en todo tiempo, distribuida así: el cuarenta y cinco por ciento (45%) como sueldo básico y el cincuenta y cinco por ciento (55%) como prima de alto mando.",0,15]
[null,null,"D0419301","Alevinos (peces para cría y levante) marinos",1,{"$f":"ROW()","v":307},8,null,null,"2.1.1.02.03.019","Prima de instalación en el exterior Prima que se reconoce a los Oficiales y Suboficiales de las Fuerzas Militares en servicio activo y a los empleados públicos del Ministerio de Defensa, que sean trasladados o destinados en comisión permanente al exterior del país y tengan por ello que cambiar de guarnición o lugar de residencia.",0,15]
[null,null,"D0191201","Alfalfa",1,{"$f":"ROW()","v":308},8,null,null,"2.1.1.02.03.020","Prima de alojamiento en el exterior Prima que se otorga a los Oficiales y Suboficiales de la Policía Nacional en servicio activo, casados o viudos con hijos, que desempeñen comisiones permanentes en el exterior, tendrán derecho mientras cumplan la comisión, siempre y cuando lleven a su familia a residir a la nueva sede, a gozar de una prima mensual de alojamiento hasta del siete por ciento (7%) del sueldo básico correspondiente a su grado, liquidada en dólares a razón de un dólar por cada peso.Los Oficiales y Suboficiales solteros y los casados o viudos que no lleven a su familia a la respectiva sede cuando desempeñen comisiones permanentes en el exterior, tendrán derecho a una prima de alojamiento hasta del cinco por ciento (5%) del sueldo básico correspondiente a su grado, que se pagará en dólares a razón de un dólar por cada peso (Decreto 1212 de 1990).",0,15]
[null,null,"D4299702","Alfileres",1,{"$f":"ROW()","v":309},8,null,null,"2.1.1.02.03.021","Vivienda para embajadores Gasto generado en la situación en la que un funcionario escalafonado en la Categoría de Embajador fuere designado Cónsul General o en Comisión para Situaciones Especiales, en un cargo correspondiente a una categoría inmediatamente inferior en el escalafón de la carrera. A dicho funcionario, se le reconoce como beneficio adicional para vivienda en el exterior, una suma de dinero equivalente al treinta por ciento (30%) de la asignación básica mensual del cargo de destino en el exterior (Decreto 274 de 2000).",0,15]
[null,null,"D2723002","Alfombras y demás recubrimientos para suelo de fibras artificiales y/o sintéticas (tipo grama artificial)",1,{"$f":"ROW()","v":310},8,null,null,"2.1.1.02.03.022","Bonificación por seguro de vida colectivo Gastos por bonificación individual mensual con destino al Fondo de Solidaridad del Ministerio de Defensa Nacional-Seguro de Vida Colectivo. Son beneficiaros de esta bonificación:- Oficiales y Suboficiales de las Fuerzas Militares y de la Policía Nacional- Personal del Nivel Ejecutivo de la Policía Nacional- Agentes de los Cuerpos Profesionales de la Policía Nacional, personal civil del Ministerio de Defensa, de las Fuerzas Militares y la Policía Nacional- Los Alférez, Guardiamarinas, Pilotines, los cadetes, los alumnos de las Escuelas de Formación de Suboficiales- Nivel Ejecutivo de la Policía Nacional, los Soldados, Auxiliares de Policía Bachilleres, Grumetes de las Fuerzas Militares- Personal del Cuerpo Auxiliar de la Policía Nacional.",0,15]
[null,null,"D2721001","Alfombras y tapetes anudados a mano",1,{"$f":"ROW()","v":311},8,null,null,"2.1.1.02.03.023","Bonificación licenciamiento Es el pago obligatorio al que tiene derecho todo colombiano que se encuentre prestando el servicio militar como concepto de una última bonificación que será equivalente a un salario mínimo mensual vigente (Ley 48, 1993).",0,15]
[null,null,"D2722001","Alfombras y tapetes de fique",1,{"$f":"ROW()","v":312},8,null,null,"2.1.1.02.03.024","Bonificación dragoneante Recursos destinados al reconocimiento (bonificación) de los agentes de policía que sean reconocidos como dragoneantes. Esta bonificación es reconocida mientras los agentes ostenten dicha distinción (Decreto 1028, 2015).",0,15]
[null,null,"D2723001","Alfombras y tapetes de lana, hechos en máquina",1,{"$f":"ROW()","v":313},8,null,null,"2.1.1.02.03.025","Bonificación agente cuerpo profesional especial Pago al que tienen derecho los Agentes del Cuerpo Profesional Especial por concepto de bonificación del treinta por ciento (30%) de su sueldo básico mensual, la cual se incrementará en un diez por ciento (10%) por cada año de servicio en este cuerpo, sin sobrepasar el ciento por ciento (100%) de dicho sueldo básico (Ley 21 de 1979).",0,15]
[null,null,"D2616001","Algodón cardado o peinado",1,{"$f":"ROW()","v":314},8,null,null,"2.1.1.02.03.026","Bonificación buena conducta Es el pago a la bonificación contemplada en el art. 3 del Decreto 1213 de 1990, el cual establece: \"los Agentes de la Policía Nacional en servicio activo que completen períodos quinquenales continuos de servicio y observen buena conducta durante los mismos, tendrán derecho a una recompensa por cada cinco (5) años de servicio, equivalente a la totalidad de los haberes en actividad, devengados en el último mes en que cumplan el quinquenio\".Incluye también la jineta de buena conducta que se reconoce legalmente a los suboficiales que durante un período de tres (3) años consecutivos no registran en su folio de vida ninguna sanción disciplinaria. En este caso, según lo dispuesto en el artículo 47 de la Ley 836 de 2003, por cada período de tres (3) años en las mismas condiciones se otorga una nueva jineta, y a partir de la tercera jineta se disminuye el período a dos (2) años.El período de tres (3) o dos (2) años se cuenta de acuerdo con el lapso de evaluación establecido en el Reglamento de Evaluación y Clasificación para el personal de las Fuerzas Militares.",0,15]
[null,null,"D3527013","Algodón esterilizado",1,{"$f":"ROW()","v":315},8,null,null,"2.1.1.02.03.027","Partida alimentación Recursos destinados a financiar la partida diaria de alimentación para el personal de soldados e infantes de marina de las Fuerzas Militares y personal del Cuerpo Auxiliar de la Policía Nacional.",0,15]
[null,null,"D3527014","Algodón hidrófilo",1,{"$f":"ROW()","v":316},8,null,null,"2.1.1.02.03.028","Partida alimentación orden público y cobertura de fronteras Gastos por concepto de alimentación de los oficiales, suboficiales y agentes de las Fuerzas Militares y de la Policía Nacional que presten sus servicios, en áreas donde se desarrollen operaciones especiales para restablecer el orden público y de cobertura de fronteras (Decretos 1211 y 1214 de 1990).",0,15]
[null,null,"D0192101","Algodón sin desmotar",1,{"$f":"ROW()","v":317},8,null,null,"2.1.1.02.03.029","Bonificación de actividad judicial Reconocimiento económico al buen desempeño de los jueces, fiscales y procuradores judiciales, creado en virtud del Decreto 3131 de 2005. Esta bonificación constituye factor para efectos de determinar el ingreso base de cotización del Sistema General de Pensiones, y de acuerdo con laLey 797 de 2003, para la cotización al Sistema General de Seguridad Social en Salud (Decreto 3900 de 2008, art. 1) mas no para determinar elementos salariales ni prestaciones sociales.",0,15]
[null,null,"D2331904","Alimentos balanceados para aves",1,{"$f":"ROW()","v":318},8,null,null,"2.1.1.02.03.030","Bonificación de dirección",0,15]
[null,null,"D2331903","Alimentos balanceados para equinos",1,{"$f":"ROW()","v":319},8,null,null,"2.1.1.02.03.031","Bonificación especial personal secuestrado Recursos destinados a financiar la bonificación especial de los Oficiales y Suboficiales de las Fuerzas Militares que se hayan encontrado en cautiverio, de acuerdo con la Ley 1279 de 2009 y sus decretos reglamentarios.",0,15]
[null,null,"D2331902","Alimentos balanceados para ganado porcino",1,{"$f":"ROW()","v":320},8,null,null,"2.1.1.02.03.032","Prima de traslado Corresponde a los recursos destinados al pago de un auxilio de traslado equivalente a la mitad del sueldo básico (para el caso de la Registraduría Nacional del Estado Civil), por concepto de los gastos de traslado, cuando un funcionario es nombrado con carácter permanente para ocupar un cargo en otro municipio.",0,15]
[null,null,"D2331901","Alimentos balanceados para ganado vacuno",1,{"$f":"ROW()","v":321},8,null,null,"2.1.1.02.03.033","Alimentación alumnos Gastos por concepto de alimentación de los alumnos, particularmente, del Departamento Administrativo de Seguridad, otorgado a estos durante la realización de los cursos de detective.",0,15]
[null,null,"D2331907","Alimentos balanceados para la cría de camarón",1,{"$f":"ROW()","v":322},8,null,null,"2.1.1.02.03.034","Bonificación alumnos Es el reconocimiento económico correspondiente al 20% de la asignación básica mensual del cargo de dragoneante 4114 grado 11 del INPEC, como bonificación mensual para los estudiantes de la Escuela Penitenciaria Nacional Enrique Low Murtra.Asimismo, son los recursos destinados a los Alféreces, Guardiamarinas y Pilotines de las Escuelas de Formación de Oficiales y los Alumnos de las Escuelas de Formación de Suboficiales, los cuales tiene derecho a una bonificación mensual de acuerdo con las disposiciones legales vigentes.",0,15]
[null,null,"D2399928","Alimentos dietéticos a base de cereales",1,{"$f":"ROW()","v":323},8,null,null,"2.1.1.02.03.035","Subsidio familiar Es el pago de la prestación social reconocida a diferentes rangos de las Fuerzas Militares y Policías, y al cuerpo de custodia y vigilancia penitenciaria y carcelaria nacional, por concepto de subsidio familiar de acuerdo con las condiciones dispuestas legalmente.Por ejemplo, el subsidio familiar se le reconoce al personal del nivel ejecutivo de la Policía Nacional en servicio activo; en proporción del número de personas a cargo y su remuneración mensual (Decreto 1091 de 1995). Este subsidio familiar está a cargo del Instituto para la Seguridad Social y Bienestar de la Policía Nacional.En el caso de los soldados, el artículo 11 del Decreto 1794 de 2000, les reconoce como subsidio familiar un pago equivalente al 4% de su salario básico mensual más la prima de antigüedad.Por último, para el cuerpo de custodia y vigilancia penitenciaria y carcelaria nacional, constituye el derecho a un pago del siete por ciento (7%) adicional al subsidio familiar a que tienen derecho los funcionarios de acuerdo con las normas vigentes. Dicho reconocimiento no constituye factor salarial y se paga por unidad familiar (Decreto 446 de 1994, art. 15).",0,15]
[null,null,"D2399926","Alimentos diversos, preparados, envasados en sobres herméticos",1,{"$f":"ROW()","v":324},{"$f":"LEN(C324)","v":8},null,null,"2.1.1.02.03.036.01","Beneficios a los empleados a corto plazo",0,{"$f":"LEN(J324)","v":18}]
[null,null,"D2331906","Alimentos especiales para la cría y levante de conejos",1,{"$f":"ROW()","v":325},8,null,null,"2.1.1.02.03.036.02","Beneficios a los empleados a largo plazo",0,18]
[null,null,"D2331905","Alimentos especiales para peces",1,{"$f":"ROW()","v":326},8,null,null,"2.1.1.02.03.037","Incentivos laborales DIAN Incluye el pago de los incentivos al desempeño en fiscalización y cobranzas y los incentivos por desempeño grupal que se reconocen a los empleados de la Unidad Especial de Impuestos y Aduanas Nacionales - DIAN, en virtud de lo dispuesto por el Decreto 1268 de 1999 y el Decreto 4050 de 2005.",0,15]
[null,null,"D2331102","Alimentos para gatos",1,{"$f":"ROW()","v":327},8,null,null,"2.1.1.02.03.038","Prima de seguridad Gastos por concepto de la prima liquidada para aquellos empleados del Instituto Nacional Penitenciario y Carcelario - INPEC que presten sus servicios en centros o pabellones de alta seguridad, equivalente hasta el cincuenta por ciento (50%) de la asignación o sueldo básico mensual, que no podrá exceder el monto fijado en la Ley. Esta prima no constituye factor salarial para ningún efecto legal (Decreto 1029 de 2013).",0,15]
[null,null,"D2331101","Alimentos para perros",1,{"$f":"ROW()","v":328},8,null,null,"2.1.1.02.03.039","Prima de vigilantes instructores Los miembros del Cuerpo de Custodia y Vigilancia del Instituto Nacional Penitenciario y Carcelario - INPEC, que acrediten título de idoneidad y ejerzan las funciones de instructores, tendrán derecho, previo concepto del Director General del INPEC a disfrutar de una prima del diez por ciento (10%) mensual sobre el sueldo básico, que no constituye factor salarial, mas cumplan simultáneamente las funciones de vigilancia y enseñanza (Decreto 446 de 1994).",0,15]
[null,null,"D2399998","Alimentos precocidos congelados a base de papa, yuca, plátano, cereales y otros",1,{"$f":"ROW()","v":329},8,null,null,"2.1.1.02.03.040","Bonificación servicio militar Los bachilleres que prestan el servicio militar obligatorio en el Instituto Nacional Penitenciario y Carcelario - INPEC, tendrán derecho a una bonificación que será determinada por el Gobierno Nacional (Decreto 407 de 1994).",0,15]
[null,null,"D2399999","Alimentos precocidos n.c.p.",1,{"$f":"ROW()","v":330},8,null,null,"2.1.1.02.03.041","Bonificación por trabajo y servicios internos Corresponde al gasto que realiza el Instituto Nacional Penitenciario y Carcelario –INPEC como contraprestación por los servicios realizados por los internos, en desarrollo de los programas de trabajo y actividades productivas establecidas y administradas de forma directa por la entidad, que son reconocidos como derecho de las personas procesadas que se encuentran en un centro reclusorio (Ley 65 de 1993 y Decreto 1758 de 2015).NE:De acuerdo con la Corte Constitucional en Sentencia T-1077/05: “esta aproximación al sistema de estímulos económicos (bonificaciones) por trabajo o servicios que se aplica en los Centros Penitenciarios permite sacar algunas conclusiones de interés para la resolución de los asuntos bajo examen. (i) La bonificación es concebida como un estímulo que no alcanza una cobertura general, para toda la población carcelaria, estando sometida a una reglamentación orientada a introducir criterios de racionalidad y equidad para su asignación; (ii) su ámbito de aplicación es la modalidad de trabajo por administración directa; (iii) corresponde a la Dirección General, determinar las actividades que convocan tal incentivo y asignar de manera global los cupos para cada Establecimiento Penitenciario; (iv) corresponde a los Directores de los Establecimientos, en coordinación con la Junta de evaluación de trabajo, estudio y enseñanza, reglamentar internamente la distribución de los cupos asignados, que tiene una cobertura muy limitada en relación con el número de internos que se dedica a cada una de las actividades que se incentivan; (v) para la asignación de las bonificaciones debe mediar la autorización de la Junta de evaluación de trabajo, estudio y enseñanza.”",0,15]
[null,null,"D0137101","Almendras",1,{"$f":"ROW()","v":331},8,null,null,"2.1.1.02.03.042","Seguro de muerte en actividad Los miembros del Cuerpo de Custodia y Vigilancia Penitenciaria y Carcelaria Nacional, gozan de un seguro por muerte equivalente a quince (15) mensualidades del último salario devengado.El valor de dicho seguro será equivalente a treinta (30) mensualidades del último salario devengado, en el evento de que la muerte sea como consecuencia de accidente de trabajo o enfermedad profesional y excluye la indemnización a que se refieren los artículos 16 y 23 del Decreto 1848 de 1969, a menos que el accidente o enfermedad profesional se hayan ocasionado por culpa imputable a la entidad empleadora, en cuyo caso habrá lugar a la indemnización total y ordinaria por perjuicio.Si prosperare esta indemnización se descontará de su cuantía el valor de las prestaciones e indemnizaciones en dinero pagadas en razón de los expresados infortunios de trabajo (Decreto 407 de 1994).",0,15]
[null,null,"D2367010","Almendras cubiertas",1,{"$f":"ROW()","v":332},8,null,null,"2.1.1.02.03.043","Prima de orden público Reconocimiento que hace la ley a los empleados del Departamento Administrativo de Seguridad – DAS que presten sus servicios permanentemente en zonas del país afectadas por graves alteraciones del orden público (Decreto 1933 de 1989).En cumplimiento a lo establecido en artículo 3° del Decreto Ley 4067 de 2011, la Unidad Nacional de Protección reconoce a los funcionarios incorporados del DAS, la prima de orden público establecida en el artículo 2° del Decreto 1933 de 1989.",0,15]
[null,null,"D2149504","Almendras y nueces saladas",1,{"$f":"ROW()","v":333},8,null,null,"2.1.1.02.03.044","Prima secretarial Corresponde al reconocimiento que se le otorga los empleados públicos que desempeñen el cargo de secretario, en el nivel administrativo, el cual es equivalente al 2% de la asignación básica mensual. Dicho valor no constituye factor salarial para ningún efecto legal",0,15]
[null,null,"D2322005","Almidón de arroz",1,{"$f":"ROW()","v":334},8,null,null,"2.1.1.02.03.045","Bonificación para gastos personales del Batallón Guardia Presidencial y de los Batallones de Policía Militar Reconocimiento económico que hace la ley a los Soldados del Batallón Guardia Presidencial y de los Batallones de Policía Militar que hayan terminado el curso básico de esta especialidad. Dichos funcionarios tienen derecho a una bonificación mensual adicional para gastos personales equivalente a dieciocho mil ciento dos pesos ($18.102) m/cte, respectivamente (Decreto anual de salarios).",0,15]
[null,null,"D2322002","Almidón de maíz",1,{"$f":"ROW()","v":335},8,null,null,"2.1.1.02.03.046","Bonos escolares y navideños Reconocimiento de las entidades a sus funcionarios de planta en cumplimiento de una negociación colectiva, a pagar un subsidio escolar a cada uno de los hijos de los trabajadores oficiales y cualquier grado de escolaridad. Incluye de igual forma el reconocimiento dque haga la entidad por bonos de navidad en el mes de diciembre, al funcionario o a los hijos menores de 18 años del mismo.",0,15]
[null,null,"D2322004","Almidón de papa",1,{"$f":"ROW()","v":336},8,null,null,"2.1.1.02.03.047","Bonificación edecanes Bonificación adicional que reconoce la ley a los oficiales de las Fuerzas Militares y de la Policía Nacional destacados como edecanes al servicio del Presidente y del Vicepresidente de la República. (Decretos 83 y 837 de 1995, art. 1).",0,15]
[null,null,"D2322007","Almidón de trigo",1,{"$f":"ROW()","v":337},8,null,null,"2.1.1.02.03.048","Prima de bucería Reconocimiento económico que hace la ley a los Oficiales y Suboficiales de la Armada Nacional que hayan obtenido patente que los acredite como buzos y que realicen dicha actividad por hora o fracción mayor de cuarenta y cinco (45) minutos en actos del servicio (Decreto 1211 de 1990, art. 88).",0,15]
[null,null,"D2322003","Almidón de yuca",1,{"$f":"ROW()","v":338},8,null,null,"2.1.1.02.03.049","Prima comandos Reconocimiento económico que hace la ley a los Oficiales de las Fuerzas Militares a quienes se les otorga el título de Comando Especial Terrestre en el Ejército, Comando Anfibio o de Selva en la Armada y Comando Especial Aéreo en la Fuerza Aérea, y se desempeñan dentro de ellos. Esta prima es equivalente al veinte por ciento (20%) del sueldo básico mensual correspondiente a su grado, de acuerdo con reglamentación que expida el Gobierno (Decreto 1211 de 1990, art. 90).",0,15]
[null,null,"D2322097","Almidón n.c.p.",1,{"$f":"ROW()","v":339},8,null,null,"2.1.1.02.03.050","Prima de Estado Mayor y academia superior Reconocimiento económico que hace la ley a los Oficiales de las Fuerzas Militares en servicio activo con título de Oficial de Estado Mayor. Esta prima corresponde al veinte por ciento (20%) del sueldo básico (Decreto 1211 de 1990, art. 92).",0,15]
[null,null,"D3627025","Almohadas de caucho espumado",1,{"$f":"ROW()","v":340},8,null,null,"2.1.1.02.03.051","Prima submarinista Reconocimiento económico que hace la ley a los Oficiales y Suboficiales de la Armada Nacional que presten sus servicios a bordo de submarinos como integrantes de su tripulación. Esta prima es equivalente al diez por ciento (10%) del sueldo básico correspondiente al grado del funcionario y a un diez por ciento (10%) adicional mientras estén navegando (Decreto 1211 de 1990, art. 101).",0,15]
[null,null,"D2718002","Almohadas y cojines",1,{"$f":"ROW()","v":341},8,null,null,"2.1.1.02.03.052","Prima de salto Reconocimiento económico que hace la ley a los Oficiales y Suboficiales de las Fuerzas Militares que hayan sido instruidos como paracaidistas y que realicen saltos en actos de su servicio. Esta prima es equivalente a un quince por ciento (15%) del sueldo básico mensual correspondiente a su grado, porcentaje que aumenta en un uno por ciento (1%) por cada veinte (20) saltos efectuados, hasta completar ciento veinte (120). De ciento veinte (120) saltos en adelante, sólo se computa un medio por ciento (0.5%) por cada veinte (20) saltos adicionales, sin que el total de la prima de salto en paracaídas pueda exceder del sueldo básico mensual correspondiente al grado (Decreto 1211 de 1990, art. 99).",0,15]
[null,null,"D3891207","Almohadillas para sellos",1,{"$f":"ROW()","v":342},8,null,null,"2.1.1.02.03.053","Prima de vuelo Reconocimiento económico que hace la ley a los Oficiales y Suboficiales de la Aviación del Ejército, los Oficiales de la Aviación Naval y Suboficiales de Mantenimiento Aeronáutico en la Armada, los Oficiales de Vuelo y Suboficiales Técnicos de la Fuerza Aérea en desempeño de sus funciones como tripulantes de aeronaves militares y otra clase de aeronaves al servicio de las Fuerzas Militares, siempre que comprueben haber volado durante un mínimo de cuatro (4) horas mensuales. Esta prima es equivalente al veinte por ciento (20%) del sueldo básico mensual correspondiente al respectivo grado, porcentaje que aumenta en un uno por ciento (1%) por cada cien (100) horas de vuelo, hasta completar tres mil (3.000) horas. De tres mil (3.000) horas en adelante sólo se computa el medio por ciento (0.5%) por cada cien (100) horas adicionales, sin que el total de la prima de vuelo pueda exceder el sueldo básico del Oficial o Suboficial. Los Oficiales Generales de vuelo de la Fuerza Aérea pueden percibir esta prima sin necesidad de cumplir con el requisito de horas mínimas de vuelo. Así mismo, según lo dispuesto por ley, las horas voladas en aeronaves de turbo-reacción se computarán doble, siempre que éstas sean de combate o de entrenamiento de combate (Decreto 1211 de 1990, art. 103).",0,15]
[null,null,"D0193008","Aloe vera (sábila)",1,{"$f":"ROW()","v":343},8,null,null,"2.1.1.02.03.054","Prima especialista Reconocimiento económico que hace la ley a los Suboficiales de las Fuerzas Militares en servicio activo que adquieran una especialidad técnica mediante un curso cuya duración mínima sea de mil seiscientas (1.600) horas de clase o cuarenta y ocho (48) semanas de instrucción. Esta prima es equivalente al diez por ciento (10%) del sueldo básico mensual correspondiente a su grado, siempre y cuando se desempeñen en la respectiva especialidad. Los Suboficiales en los grados de Sargento Mayor, Suboficial Jefe Técnico y Suboficial Técnico Jefe, por el solo hecho de obtener estos grados, tienen derecho a la prima de especialista (Decreto 1211 de 1990, art. 91).",0,15]
[null,null,"D3525046","Aloidina y sus sales",1,{"$f":"ROW()","v":344},8,null,null,"2.1.1.02.03.055","Prima oficiales superiores Reconocimiento económico que hace la ley a los Oficiales de las Fuerzas Militares y de la Policía Nacional, en los grados de Teniente General y Almirante de Escuadra, de Mayor General y Vicealmirante, de Brigadier General y Contralmirante, y de Coronel y Capitán de Navío. Los oficiales con estos grados tienen derecho a primas mensuales equivalentes al cincuenta y cuatro por ciento (54%), al cincuenta y tres punto treinta y dos por ciento (53.32%), al cuarenta y siete punto ochenta por ciento (47.80%) y al treinta y seis punto ochenta y uno por ciento (36.81%), respectivamente, sobre lo que en todo tiempo devenguen los Ministros del Despacho como asignación básica y gastos de representación (Decreto anual de salarios).",0,15]
[null,null,"D2952001","Alpargatas y cotizas",1,{"$f":"ROW()","v":345},8,null,null,"2.1.1.02.03.056","Prima cuerpo administrativo Reconocimiento económico que hace la ley a los Oficiales del Cuerpo Administrativo de las Fuerzas Militares que prestan los servicios profesionales de su especialidad por tiempo completo. Esta prima es equivalente al cuarenta por ciento (40%) del sueldo básico correspondiente a su grado (Decreto 1211 de 1990, art. 96).",0,15]
[null,null,"D0119501","Alpiste",1,{"$f":"ROW()","v":346},8,null,null,"2.1.1.02.03.057","Bonificación aeronáutica Reconocimiento económico que hace la ley a todos los servidores públicos de la Unidad Administrativa Especial de Aeronáutica Civil. Esta bonificación es equivalente al doscientos veinticinco por ciento (225%) de la asignación básica mensual señalada para el respectivo empleo y se reconoce en dos (2) contados iguales, en los meses de enero y septiembre de cada año (Decreto 313 de 2018, art. 17).",0,15]
[null,null,"D3332002","Alquilato de aviación",1,{"$f":"ROW()","v":347},8,null,null,"2.1.1.02.03.058","Prima de productividad Reconocimiento económico que hace la ley a los servidores públicos de la Unidad Administrativa Especial de Aeronáutica Civil que cumplan con los indicadores de productividad previamente establecidos. Esta prima se reconoce bimestralmente durante los meses de febrero, abril, junio, agosto, octubre y diciembre y no puede ser inferior al 80% de la asignación básica del empleado (Decreto 313 de 2018, art. 16).",0,15]
[null,null,"D3549946","Alquilbenceno",1,{"$f":"ROW()","v":348},8,null,null,"2.1.1.02.03.059","Bonificación judicial Reconocimiento económico que hace la ley a los servidores públicos de la Dirección Ejecutiva de Administración Judicial, las Direcciones Seccionales de la Rama Judicial, los servidores de la Justicia Penal Militar y los servidores de la Fiscalía General de la Nación durante la prestación de sus servicios. Esta bonificación constituye factor para efectos de determinar el ingreso base de cotización del Sistema General de Pensiones y del Sistema General de Seguridad Social en Salud, mas no para determinar elementos salariales ni prestaciones sociales (Decreto 0384 de 2013, Decreto 022 de 2014 y Decreto 1014 de 2017).",0,15]
[null,null,"D3337003","Alquitrán aromático (fuel oil mazut)",1,{"$f":"ROW()","v":349},8,null,null,"2.1.1.02.03.060","Bonificación por servicios de protección y vigilancia Reconocimiento económico que hace la ley al personal del servicio de protección y vigilancia de la Rama Judicial, al personal de las Fuerzas Militares y de la Policía Nacional que presta el servicio de protección y vigilancia al Comandante General de las Fuerzas Militares, Comandantes de Fuerza y Director General de la Policía Nacional, a los Expresidentes de la República, a los Ministros del Despacho, a los Directores de Departamento Administrativo del orden nacional, al Procurador General de la Nación, al Contralor General de la República, al Defensor del Pueblo, al Auditor General de la República, al personal que presta este servicio a los oficiales generales y de insignia en sus diferentes grados, y a los miembros de la Policía Nacional que prestan el servicio de protección y vigilancia a los Honorables Congresistas (Decreto anual de salarios).",0,15]
[null,null,"D3320001","Alquitrán de hulla",1,{"$f":"ROW()","v":350},8,null,null,"2.1.1.02.03.061","Prima mensual oficiales y suboficiales Reconocimiento económico que hace la ley a los Oficiales de las Fuerzas Militares y de la Policía Nacional y en servicio activo que ostentan los grados de Teniente Coronel y Capitán de Fragata; y a los Suboficiales de las Fuerzas Militares y de la Policía Nacional en servicio activo que ostentan el grado de Sargento Primero en el Ejército Nacional o su equivalente en las demás fuerzas. Esta prima mensual, sin carácter salarial ni prestacional, es equivalente a dos punto setenta y siete por ciento (2.77%) y a uno punto noventa y dos por ciento (1.92%) respectivamente, de lo que en todo tiempo devenguen los Ministros del Despacho como asignación básica y gastos de representación (Decreto 1017 de 2013, art. 4).",0,15]
[null,null,"D4821103","Altímetros",1,{"$f":"ROW()","v":351},8,null,null,"2.1.1.02.03.062","Apoyo de sostenimiento aprendices SENA Corresponde a las erogaciones como contraprestación por los servicios prestados por alumnos aprendices del Servicio Nacional de Aprendizaje (SENA) a través de los contratos de aprendizaje. Uno de los elementos característicos de los contratos de aprendizaje es el reconocimiento y pago al aprendiz de un apoyo del sostenimiento mensual, el cual tiene como fin garantizar el proceso de aprendizaje",0,15]
[null,null,"D3424028","Alumbre",1,{"$f":"ROW()","v":352},8,null,null,"2.1.1.02.03.063","Remuneración profesores militares Corresponde la remuneración económica que se reconoce a los militares de planta permanente que prestan servicio de docencia de forma ocasional en los Institutos de Formación y Centros de Capacitación o educación de las Fuerzas Militares. Esta remuneración se reconoce al profesor militar por cada hora de clase dictada y corresponde a un porcentaje determinado y liquidado sobre el salario básico mensual. de acuerdo con la categoría a cargo del mismo",0,15]
[null,null,"D4143202","Alúmina calcinada",1,{"$f":"ROW()","v":353},8,null,null,"2.1.1.02.03.064","Prima por dependientes Corresponde al reconocimiento mensual que realiza la Superintendencia de Sociedades, la Superintendencia de Industria y Comercio, la Superintendencia Financiera de Colombia y el Instituto Nacional de Metrología a favor de los empleados que adscriban beneficiarios que dependan económicamente y cumpla con los requisitos establecidos por ley",0,15]
[null,null,"D4143101","Aluminio en bloques y lingotes",1,{"$f":"ROW()","v":354},8,null,null,"2.1.1.02.03.065","Prima de matrimonio Corresponde a la prima que reconoce y paga por única vez la Superintendencia de Sociedades, la Superintendencia de Industria y Comercio, la Superintendencia Financiera de Colombia, el Instituto Nacional de Metrología y el Servicio Nacional de Aprendizaje (SENA) a los funcionarios que contraigan matrimonio, de acuerdo con las disposiciones normativas que aplican para cada entidad",0,15]
[null,null,"D4153503","Aluminio laminado (foil)",1,{"$f":"ROW()","v":355},8,null,null,"2.1.1.02.03.066","Prima de nacimiento Corresponde a la prima que reconoce y paga por única vez la Superintendencia de Sociedades, la Superintendencia de Industria y Comercio, la Superintendencia Financiera de Colombia, el Instituto Nacional de Metrología y el Servicio Nacional de Aprendizaje (SENA) a los funcionarios por el nacimiento de un hijo de acuerdo con las disposiciones normativas que aplican para cada entidad",0,15]
[null,null,"D3529904","Amalgamas para prótesis dental",1,{"$f":"ROW()","v":356},8,null,null,"2.1.1.02.03.067","Prima semestral Corresponde a una prestación económica equivalente a un mes de del sueldo que tuvieren los empleados al 30 de junio y 31 de diciembre respectivamente, pagaderos los 15 primeros días de junio y diciembre de cada año, en las entidades y regímenes especiales en las que es reconocida.",0,15]
[null,null,"D0193007","Amapola",1,{"$f":"ROW()","v":357},8,null,null,"2.1.1.02.03.068","Prima de actividad Corresponde al pago de la prima de actividad que se reconoce y paga a los funcionarios que hayan laborado durante un año continuo en la entidad. Esta prima es equivalente a 15 días del sueldo básico mensual, y es reconocida cuando el interesado acredite la autorización para el disfrute de vacaciones o su compensación en dinero",0,15]
[null,null,"D0119902","Amaranto",1,{"$f":"ROW()","v":358},8,null,null,"2.1.1.02.03.069","Gastos de representación Corresponde al reconocimiento que hace el Ministerio de Relaciones Exteriores a los Embajadores, jefes de Misión Permanente, cónsules Generales Centrales y los Encargados de Negocios para atender las actividades diplomáticas propias de su cargo en el exterior.En esta cuenta también se registra la Prestación social pagada en consideración al alto grado de responsabilidad, compromiso, liderazgo e imagen (relaciones públicas) que representa el cargo de la Vicepresidencia y los más altos del nivel ejecutivo - Directores, SATENA por mera liberalidad podrá otorgar mensualmente una suma equivalente a Gastos de Representación, la cual no constituye salario y no tendrá incidencia en la liquidación y pago de prestaciones sociales o indemnizaciones, conforme a lo dispuesto en el artículo 15 de la Ley 50 de 1990, modificatorio del artículo 128 del Código Sustantivo del Trabajo.Los gastos de representación tienen como fin, compensar los gastos y erogaciones en que incurren ciertos cargos en consideración a su jerarquía y posición organizacional dentro de la empresa, necesarios en la representación de la entidad en actividades frente a clientes, entidades gubernamentales u oficiales y público en general, en beneficio comercial empresarial o de imagen de la entidad.",0,15]
[null,null,"D3533103","Ambientadores en figuras decorativas",1,{"$f":"ROW()","v":359},8,null,null,"2.1.1.02.03.070","Subsidio de anteojos Corresponde al beneficio que se otorga a los funcionarios, con el fin de subsidiar la adquisición de lentes y/o monturas.",0,15]
[null,null,"D3533104","Ambientadores provistos de dispositivos eléctricos",1,{"$f":"ROW()","v":360},8,null,null,"2.1.1.02.03.071","Remuneración adicional de antiguos territorios nacionales Corresponde a una remuneración adicional otorgada a los empleados del Instituto Nacional de Medicina Legal y Ciencias Forenses que trabajen ordinariamente en los departamentos creados en el Artículo 309 de la Constitución Política. Esta remuneración es equivalente al 8% de la asignación básica mensual y se percibirá por cada mes completo de servicio y no constituye factor salarial para ningún efecto legal (",0,15]
[null,null,"D4911303","Ambulancias",1,{"$f":"ROW()","v":361},8,null,null,"2.1.1.02.03.072","Prima de alimentación Corresponde a la remuneración que se reconoce, como concepto de prima alimentaria.",0,15]
[null,null,"D3522009","Amidas",1,{"$f":"ROW()","v":362},8,null,null,"2.1.1.02.03.073","Viáticos y menaje de funcionarios del servicio exterior Corresponde al beneficio que se otorga en dinero a los funcionarios pertenecientes a la Carrera Diplomática y Consular o de Libre Nombramiento y Remoción del Ministerio de Relaciones Exteriores,245que, en ejercicio de sus funciones, requieran desplazarse al exterior o de un país extranjero a otro o entre ciudades distintas del mismo país",0,15]
[null,null,"D3415011","Aminas",1,{"$f":"ROW()","v":363},8,null,null,"2.1.1.02.03.074","Prima de localización Corresponde a la prima que reconoce el Servicio Nacional de Aprendizaje (SENA) a sus Trabajadores Oficiales. Esta prima es equivalente a ocho y medio (8.5) días de salario mínimo legal vigente en las regionales que están establecidas por el SENA o llegaren a establecerse",0,15]
[null,null,"D3415003","Aminoácidos esenciales",1,{"$f":"ROW()","v":364},8,null,null,"2.1.1.02.03.075","Subvención de transporte Los soldados del ejército o su equivalente en la Fuerza Pública y los auxiliares del cuerpo de custodia del INPEC, llamados al servicio, una vez licenciado o desacuartelado, tienen derecho a la subvención de la partida de transporte, en el momento del otorgamiento del permiso anual o en caso de calamidad domestica comprobada o catástrofe que haya podido afectar gravemente a su familia",0,15]
[null,null,"D3525054","Aminofilina",1,{"$f":"ROW()","v":365},8,null,null,"2.1.1.02.03.076","Auxilio de movilización Corresponde a los recursos destinados por concepto de auxilio de movilización al que tienen derecho los funcionarios de la entidad.",0,15]
[null,null,"D3523002","Aminopirina-piramidona",1,{"$f":"ROW()","v":366},8,null,null,"2.1.1.02.03.077","Prima mensual Corresponde a la prima a la que tienen derecho los oficiales de las Fuerzas Militares y de la Policía Nacional, a partir de su ascenso al grado de Coronel o Capitán de Navío hasta el grado de General o Almirante, mientras permanezcan en servicio activo. Esta prima es equivalente a los 16.5% del sueldo básico, sin perjuicio de la asignación básica y primas mensuales fijadas en las disposiciones legales vigentes",0,15]
[null,null,"D3523009","Aminopirina-piridona",1,{"$f":"ROW()","v":367},8,null,null,"2.1.1.02.03.078","Partida especial de gastos de viaje Corresponde a la partida otorgada a los oficiales y suboficiales de las Tripulaciones de las Unidades de Flote, destinado en comisión colectiva transitoria al exterior, para visitas operacionales, de transporte, construcción, reparación o de cortesía",0,15]
[null,null,"D3416026","Aminotriazol",1,{"$f":"ROW()","v":368},8,null,null,"2.1.1.02.03.079","Auxilio especial de transporte Comprende el reconocimiento y pago del auxilio especial de transporte que realiza el Servicio Nacional de Aprendizaje (SENA) a favor de todos sus trabajadores oficiales. Este auxilio es equivalente al auxilio de transporte decretado por el gobierno, sin embargo, se reconoce de manera independiente al salario devengado por el Trabajador. Cuando el trabajador oficial compruebe tener uno o más hijos estudiando y estos dependan económicamente de él, el SENA pagará mensualmente por cada trabajador oficial247un subsidio extralegal de transporte equivalente al (100%) del auxilio decretado por el Gobierno",0,15]
[null,null,"D3465101","Amoniaco anhidro",1,{"$f":"ROW()","v":369},8,null,null,"2.1.1.02.03.080","Bonificación por compensación Corresponde al pago que se realiza a los funcionarios públicos determinados por la Ley, para la nivelación de sus ingresos respecto de equivalentes en otros sectores de referencia, este reconocimiento solamente constituye factor salarial para efectos de determinar el Ingreso Base de Cotización (IBC) del Sistema General de Pensiones, y para la cotización al Sistema General de Seguridad Social en Salud, más no para determinar elementos salariales ni prestaciones sociales",0,15]
[null,null,"D3465202","Amoníaco líquido",1,{"$f":"ROW()","v":370},8,null,null,"2.1.1.02.03.081","Prima especial de servicios Reconocimiento económico del 30% del salario básico mensual que hace la ley a los magistrados del Consejo Superior de la Judicatura, de la Corte Suprema de Justicia, de la Corte Constitucional, del Consejo de Estado, el Procurador General de la Nación, el Contralor General de la República, el Fiscal General de la Nación, el Defensor del Pueblo y el Registrador Nacional del Estado Civil con el fin de igualar los ingresos percibidos por estos funcionarios, con aquellos que reciben los miembros del Congreso, sin que en ningún caso los supere.El Gobierno podrá fijar la misma prima para los ministros de despacho, los Generales y Almirantes de la Fuerza Pública. Esta bonificación constituye factor para efectos de determinar el Ingreso Base de Cotización (IBC) del Sistema General de Pensiones, y para la cotización al Sistema General de Seguridad Social en Salud, mas no para determinar elementos salariales ni prestaciones sociales",0,15]
[null,null,"D4912913","Amortiguadores hidráulicos para automotores",1,{"$f":"ROW()","v":371},8,null,null,"2.1.1.02.03.082","Prima especial Art. 14 Ley 4 de 1992 Comprende la prima que es reconocida a los magistrados de todo orden de los Tribunales Superiores de Distrito Judicial y Contencioso Administrativo, agentes del Ministerio Público delegados ante la Rama Judicial y para los jueces de la República, incluidos los magistrados y fiscales del Tribunal Superior Militar, Auditores de Guerra y Jueces de Instrucción Penal Militar, excepto los que opten por la escala de salarios de la Fiscalía General de la Nación, con efectos a partir del 1 de enero de 1993.Igualmente tendrán derecho a percibir esta prima los delegados departamentales del Registrador Nacional del Estado Civil, los registradores del distrito capital y los niveles directivo y asesor de la249Registraduría Nacional del Estado Civil, no podrá ser inferior al 30% ni superior al 60% del salario básico",0,15]
[null,null,"D4912912","Amortiguadores para automotores",1,{"$f":"ROW()","v":372},8,null,null,"2.1.1.02.03.083","Prima de carabinero Prima a favor del personal de nivel ejecutivo de la Policía Nacional, que ostente la especialidad de carabinero o policía rural y preste sus servicios en las áreas reglamentadas por la Dirección General de la Policía Nacional. Esta prima es equivalente al 5% del sueldo básico, y no tiene carácter salarial para ningún efecto",0,15]
[null,null,"D4824901","Amperímetros y voltímetros",1,{"$f":"ROW()","v":373},8,null,null,"2.1.1.02.03.084","Bonificación especial por servicios de comisión en la DIAN Corresponde a bonificación especial no constitutiva de factor salarial, equivalente a una asignación mensual adicional equivalente al 30% del sueldo básico mensual, que se reconoce al personal uniformado de la Policía Nacional que preste sus servicios en comisión en la Unidad Administrativa Especial Dirección de Impuestos y Aduanas Nacionales – DIAN.Para tener derecho al reconocimiento y pago de la bonificación especial, el personal uniformado debe haber prestado el servicio total o parcialmente en actividades encaminadas al soporte y apoyo en actuaciones aduaneras, tributarias y cambiarias dirigidas a la lucha contra el contrabando, el lavado de activos y la evasión fiscal y previa certificación del Director de Gestión de Recursos y Administración económica de la DIAN, sobre la prestación del servicio",0,15]
[null,null,"D3525073","Ampicilina",1,{"$f":"ROW()","v":374},8,null,null,"2.1.1.02.03.085","Indemnización compensatorio horas extra Reconocimiento en dinero de los días compensatorios que se hubieren causado hasta la fecha de publicación del Decreto emitido por el DAFP , a favor de cada empleado público, siempre que exista disponibilidad presupuestal y no se afecten los recursos para el pago de horas extras que se vayan a causar en el resto de la presente vigencia.",0,15]
[null,null,"D4733006","Amplificadores de sonido",1,{"$f":"ROW()","v":375},8,null,null,"2.1.1.02.03.086","Prima o auxilio de Maternidad Es el reconocimiento que se hace a las trabajadoras oficiales y a las esposas o compañeras de los trabajadores oficiales con motivo del nacimiento de un hijo. El valor se establece por convención colectiva de trabajo vigente.",0,15]
[null,null,"D3719202","Ampollas de vidrio para bombillas",1,{"$f":"ROW()","v":376},8,null,null,"2.1.1.02.03.087","Prima de Transporte y Manutención Corresponde a la prima que se reconoce a los Servidores Públicos que laboran en determinadas dependencias o en cualquier zona rural del Municipio de Medellín",0,15]
[null,null,"D3719203","Ampollas de vidrio para válvulas electrónicas y similares",1,{"$f":"ROW()","v":377},8,null,null,"2.1.1.02.03.088","Prima de Matrimonio Corresponde al reconocimiento que se hace a los trabajadores (as) oficiales, que durante su vinculación al Municipio de Medellín, contraigan matrimonio válidamente celebrado",0,15]
[null,null,"D3719901","Ampollas térmicas de vidrio",1,{"$f":"ROW()","v":378},8,null,null,"2.1.1.02.03.089","Bonificación cargo académico administrativo Reconocimiento de bonificación mensual a los docentes que por acto administrativo desempeñen cargos académicos y administrativos con funciones directivas.",0,15]
[null,null,"D3719503","Ampolletas de vidrio",1,{"$f":"ROW()","v":379},8,null,null,"2.1.1.02.03.090","Bonificación por productividad académica Estas bonificaciones se realizan una sola vez y corresponden a actividades especificas de productividad académica y no contemplan pagos genéricos indiscriminados",0,15]
[null,null,"D4219007","Andamios metálicos",1,{"$f":"ROW()","v":380},8,null,null,"2.1.1.02.03.091","Bonificación Educadores de Básica y Media Bonificaciones no constitutivas de salario a los docentes y directivos al servicio del estado en niveles de preescolar, básica y media. Se reconoce anualmente, durante el tiempo que el funcionario permanezca en el servicio.",0,15]
[null,null,"D3699039","Angeo y productos similares de material plástico",1,{"$f":"ROW()","v":381},8,null,null,"2.1.1.02.03.092","Bonificación Sindical Corresponde al pago en procesos de negociación sindical que se destinan a los servidores públicos. No constitutivas de salario.",0,15]
[null,null,"D4125101","Ángulos y perfiles de hierro o acero laminados en caliente",1,{"$f":"ROW()","v":382},8,null,null,"2.1.1.02.03.093","Trienios Recursos destinados al pago que tienen derecho los empleados públicos al cumplir tres años de antigüedad de servicios prestados en un trabajo, según lo estipulado por la ley.",0,15]
[null,null,"D4126201","Ángulos y perfiles de hierro o acero laminados en frío",1,{"$f":"ROW()","v":383},8,null,null,"2.1.1.02.03.094","Bonificación Zona de Difícil Acceso docentes Prescolar, Básica y Media Los docentes y directivos docentes que laboren en establecimientos educativos estatales, cuyas sedes estén ubicadas en zonas rurales de difícil acceso, tendrán derecho a una bonificación equivalente al quince por ciento (15%) del salario básico mensual que devenguen. Esta bonificación no constituye factor salarial ni prestacional para ningún efecto, se pagará mensualmente, y se causará únicamente durante el tiempo laborado en el año académico.",0,15]
[null,null,"D4123106","Ángulos, perfiles y flejes en lámina de hierro o acero, galvanizada o revestida",1,{"$f":"ROW()","v":384},8,null,null,"2.1.1.02.03.095","Bonificación Grado 14 docentes Prescolar, Básica y Media Es la bonificación que reciben los Docentes o Directivos Docentes de niveles preescolar, básica y media regidos por el Decreto Ley 2277/1979 y que hagan parte del grado 14 de Escalafón Nacional Docente. Para docentes activos equivale en 2016 al 10% de la ABM y 2017 y siguientes al 15% Asignación básica mensual. Para quienes se retiren del servicio por renuncia voluntaria o por retiro forzoso (edad permitida) equivale a un mes de Asignación Básica Mensual se pagará una sola vez cuando sea efectivamente desvinculado del servicio",0,15]
[null,null,"D4153203","Ángulos, perfiles y secciones de aluminio",1,{"$f":"ROW()","v":385},8,null,null,"2.1.1.02.03.096","Reconocimiento Adicional por gestión directivos docentes Prescolar, Básica y Media El rector que durante el año cumpla con el indicador de gestión, tanto en el componente de permanencia como en el de calidad, y reporte oportunamente la información en el SIMAT, recibirá un reconocimiento adicional equivalente a su última asignación básica mensual que devengó al final del año lectivo, el cual no constituye factor salarial. El porcentaje de deserción intraanual del establecimiento educativo no podrá ser superior al tres por ciento (3%).",0,15]
[null,null,"D4151203","Ángulos, perfiles y secciones de cobre",1,{"$f":"ROW()","v":386},8,null,null,"2.1.1.02.03.097","Incentivo por Jubilación Recursos destinados al pago a que tienen derecho los empleados públicos y trabajadores oficiales según acuerdo colectivo , el cual es recibido en la liquidación al momento de pensionarse. Estos derechos pueden derivarse de acuerdos de convención colectiva.",0,15]
[null,null,"D4151205","Ángulos, perfiles y secciones de latón",1,{"$f":"ROW()","v":387},8,null,null,"2.1.1.02.03.098","Prima de Coordinación Académica y Disciplina Reconocimiento a Coordinadores Académicos y de Disciplina con dos jornadas. A los Coordinadores Académicos y de Disciplina de que trata el artículo anterior, a quienes se les asignen dos (2) jornadas, se les reconocerá el valor correspondiente a diez (10) horas cátedra semanales y un máximo de cuarenta (40) horas mensuales, e implicará una permanencia mínima de ocho (8) horas diarias en el Instituto. La liquidación se hará con base en el valor asignado a la hora cátedra establecida en el decreto del escalafón nacional docente para los docentes vinculados a la Nación.",0,15]
[null,null,"D4154102","Ángulos, perfiles y secciones de plomo",1,{"$f":"ROW()","v":388},{"$f":"LEN(C388)","v":8},null,null,"2.1.1.02.03.099","Remuneración por defunción  ",0,{"$f":"LEN(J388)","v":15}]
[null,null,"D4154502","Ángulos, perfiles y secciones de zinc",1,{"$f":"ROW()","v":389},8,null,null,"2.1.1.02.03.100","Auxilios Salud Visual Corresponde a la remuneración que percibe el empleado, en cumplimiento de acuerdos laborales, para la adquisición de lentes, monturas, cirugías refractivas, oftalmológicas, entre otros.",0,15]
[null,null,"D3421004","Anhídrido carbónico o gas carbónico",1,{"$f":"ROW()","v":390},8,null,null,"2.1.1.02.03.101","Auxilios Salud Dental Corresponde a la remuneración que percibe el empleado, en cumplimiento de acuerdos laborales, para cubrir gastos de salud dental.",0,15]
[null,null,"D3414036","Anhídrido ftálico",1,{"$f":"ROW()","v":391},8,null,null,"2.1.1.02.03.102","Auxilios Salud Auditiva Corresponde a la remuneración que percibe el empleado, en cumplimiento de acuerdos laborales, para cubrir gastos de salud auditiva.",0,15]
[null,null,"D3414035","Anhídrido maleico",1,{"$f":"ROW()","v":392},8,null,null,"2.1.1.02.03.103","Auxilios Médicos Corresponde a la remuneración que percibe el empleado, en cumplimiento de acuerdos laborales, para cubrir gastos relacionados con la salud.",0,15]
[null,null,"D3414040","Anhídrido trimelítico",1,{"$f":"ROW()","v":393},8,null,null,"2.1.1.02.03.104","Auxilios Educativos Corresponde a la remuneración que percibe el empleado, en cumplimiento de acuerdos laborales, para cubrir gastos educativos.",0,15]
[null,null,"D3414018","Anhídridos",1,{"$f":"ROW()","v":394},8,null,null,"2.1.1.02.03.105","Auxilios por Antigüedad Corresponde al beneficio extralegal por antigüedad que se reconoce en el marco de un acuerdo laboral.",0,15]
[null,null,"D1521002","Anhidrita",1,{"$f":"ROW()","v":395},8,null,null,"2.1.1.02.03.106","Auxilios para Recreación Corresponde a la remuneración que percibe el empleado, en cumplimiento de acuerdos laborales, para cubrir gastos de bienestar.",0,15]
[null,null,"D3219931","Anillos de papel para cigarrillos",1,{"$f":"ROW()","v":396},8,null,null,"2.1.1.02.03.107","Auxilios para Desplazamiento Corresponde a la remuneración que percibe el empleado, en cumplimiento de acuerdos laborales, para cubrir gastos de desplazamiento.",0,15]
[null,null,"D4315103","Anillos para pistones",1,{"$f":"ROW()","v":397},8,null,null,"2.1.1.02.03.108","Prima compensatoria Corresponde al beneficio extralegal por concepto de prima compensatoria que se reconoce al empleado en el marco del acuerdo laboral.",0,15]
[null,null,"D3699008","Anillos plásticos para pastas de argolla, legajadores y similares",1,{"$f":"ROW()","v":398},8,null,null,"2.1.1.02.03.109","Bonificación por Alto Riesgo Corresponde a la bonificación por alto riesgo que se reconoce al empleado en el marco de acuerdos de negociación colectiva.",0,15]
[null,null,"D3852003","Animales de fieltro, felpa y similares",1,{"$f":"ROW()","v":399},8,null,null,"2.1.1.02.03.110","Prima Especial Corresponde al pago por concepto de prima especial que se reconoce al empleado en el marco de una Convención Colectiva. - Tambien Comprende el reconocimiento y pago por concepto de la prima especial establecida como no factor salarial y que no deberá ser incluida como factor para la liquidación del ingreso base de cotización en el sistema de seguridad social integral para los funcionarios del Ministerio Público, en virtud de los artículos del 3-9, 12-13 y 18 del Decreto 186 y el artículo 6 del Decreto 196 de 2014.",0,15]
[null,null,"D0165401","Anís",1,{"$f":"ROW()","v":400},8,null,null,"2.1.1.02.03.111","Prima de antigüedad Corresponde a los pagos que realiza la Empresa URRA S.A en marco de la clausula séptima de la convención colectiva de trabajo entre la EICE y sus trabajadores no sindicalizados. Esta prima aplicará para las vigencias 2017-2022",0,15]
[null,null,"D8873106","Anodización",1,{"$f":"ROW()","v":401},8,null,null,"2.1.1.02.03.112","Bonificación especial de gestión Corresponde a los pagos que realiza la Empresa URRA S.A en marco de la clausula séptima de la convención colectiva de trabajo entre la EICE y sus trabajadores no sindicalizados. Esta bonificación aplicará para las vigencias 2017-2022",0,15]
[null,null,"D4299987","Ánodos de metales n.c.p.",1,{"$f":"ROW()","v":402},8,null,null,"2.1.1.02.03.113","Prima de vacaciones extralegal Corresponde por concepto de la prima de vacaciones extralegal a los empleados de la empresa URRÁ S.A, definida en la convención colectiva de trabajo entre la EICE y sus trabajadores no sindicalizados. Esta prima aplicará para las vigencias 2017-2022. Los pagos de esta prestación social son diferentes a los pagos por concepto de vacaciones.",0,15]
[null,null,"D4142203","Ánodos de níquel",1,{"$f":"ROW()","v":403},8,null,null,"2.1.1.02.03.114","Bonificación permanente extralegal La Empresa y el trabajador, en aplicación a lo establecido en el artículo 128 del Código Sustantivo del Trabajo, podrán acordar contractualmente y por escrito, beneficios habituales otorgados en forma extralegal, que no constituye para ningún efecto salario y no tendrá incidencia en la liquidación y pago de prestaciones sociales o indemnizaciones.Estas bonificaciones extralegales constituyen un reconocimiento que hace la Alta Dirección para aquellos trabajadores de la empresa, qué por razón de sus actividades, compromisos, disponibilidad, condiciones de empleo, entre otros factores, contribuyen al cumplimiento y fortalecimiento de los objetivos de la Empresa.",0,15]
[null,null,"D0131913","Anón, viñon, saramuyo",1,{"$f":"ROW()","v":404},8,null,null,"2.1.1.02.03.115","Prima extralegal por disponibilidad base operacional Adicional a la remuneración básica mensual pactada en el contrato de trabajo, SATENA podrá asignar una prima extralegal por mera liberalidad para aquellos cargos que, con ocasión a sus funciones y responsabilidades, conlleven inmerso actividades de dirección, confianza y manejo y que tengan a cargo la coordinación de una base operacional – comercial de la empresa.Este Auxilio extralegal “Prima de Disponibilidad base operacional-comercial SATENA”, no constituye salario y no tendrá incidencia en la liquidación y pago de prestaciones sociales o indemnizaciones, conforme a lo dispuesto en el artículo 15 de la Ley 50 de 1990, modificatorio del artículo 128 del Código Sustantivo del Trabajo.",0,15]
[null,null,"D4740302","Antenas para radio",1,{"$f":"ROW()","v":405},8,null,null,"2.1.1.02.03.116","Bonificación extralegal por dirección para los directores militares La Bonificación Extralegal por Dirección se pagará al Presidente, Vicepresidente y Directores Militares de SATENA, esta Bonificación no constituye salario y no tendrá incidencia en la liquidación y pago de prestaciones sociales o indemnizaciones, conforme a lo dispuesto en el artículo 15 de la Ley 50 de 1990, modificatorio del artículo 128 del Código Sustantivo del Trabajo.",0,15]
[null,null,"D4740303","Antenas para televisión",1,{"$f":"ROW()","v":406},8,null,null,"2.1.1.02.03.117","Prima de Instrucción Corresponde a la prima que reconoce SATENA al trabajador, que, en consideración a su idoneidad esté en capacidad de impartir instrucciones y/o capacitaciones a personal de Pilotos, Copilotos, Auxiliares de Vuelo y Despachadores (según el caso), y que constituyen actividades adicionales a las funciones propias de su cargo y por fuera de su jornada laboral, siempre y cuando se enmarque dentro de las labores de instrucción y/o entrenamiento. Este Auxilio extralegal, no constituye salario y no tendrá incidencia en la liquidación y pago de prestaciones sociales o indemnizaciones, conforme a lo dispuesto en el artículo 15 de la Ley 50 de 1990, modificatorio del artículo 128 del Código Sustantivo del Trabajo.",0,15]
[null,null,"D4740304","Antenas parabólicas",1,{"$f":"ROW()","v":407},8,null,null,"2.1.1.02.03.118","Participación en utilidades Corresponde a la participación en utilidades que una empresa otorga a sus empleados, en el marco de acuerdos laborales.",0,15]
[null,null,"D4740301","Antenas parabólicas en fibra de vidrio",1,{"$f":"ROW()","v":408},8,null,null,"2.1.1.02.03.119","Reconocimiento por permanencia en el servicio público - Bogotá D.C. Es la retribución a la que tienen derecho los funcionarios, por prestar sus servicios por periodos de 5 años consecutivos, sin interrupciones, y por haber desempeñado más funciones con corrección y competencia.",0,15]
[null,null,"D4831201","Anteojos con montura de material plástico",1,{"$f":"ROW()","v":409},8,null,null,"2.1.1.02.03.120","Bonificación a la excelencia Remuneración equivalente a tres (3) asignaciones básicas, que tienen derecho el Patrullero de Policía y Patrullero del Nivel Ejecutivo en servicio activo por cada cinco (5) años continuos de servicio que cumpla en el grado, en virtud del Decreto 668 y 669 de 2022",0,15]
[null,null,"D4831202","Anteojos con montura metálica",1,{"$f":"ROW()","v":410},8,null,null,"2.1.1.02.03.121","Bonificación por permanencia Bonificación mensual que se otorga a los mandos del nivel ejecutivo de la Policía Nacional, que una vez cumplan los requisitos para su asignación de retiro, decidan continuar como miembros de la institución, en virtud de la Ley 2179 de 2021",0,15]
[null,null,"D4831203","Anteojos de material plástico",1,{"$f":"ROW()","v":411},8,null,null,"2.1.1.02.03.122","Bonificación para la asistencia familiar Bonificación a la que tienen derecho el personal del Nivel ejecutivo y Patrullero de Policía en servicio activo, por estado civil de casado o unión marital de hecho y por el primer y segundo hijo, en virtud de la Ley 2179 de 2021",0,15]
[null,null,"D4831204","Anteojos, gafas, monogafas y similares de plástico para protección",1,{"$f":"ROW()","v":412},8,null,null,"2.1.1.02.04.001","Otros gastos de personal - previo concepto DGPPN Esta cuenta es de programación presupuestal y registra el monto de los gastos de personal por incremento salarial que resulta del ajuste del poder adquisitivo y demás criterios de programación impartidos para consideración, si los hubiera (Sentencia 1433 de 2000).",0,15]
[null,null,"D3526108","Antiácidos",1,{"$f":"ROW()","v":413},8,null,null,"2.1.2.01.01.001.01.01","Edificios utilizados para residencia Es la adquisición de edificios utilizados para residencia incluidas las construcciones asociadas.",0,21]
[null,null,"D3525099","Antibióticos n.c.p.",1,{"$f":"ROW()","v":414},8,null,null,"2.1.2.01.01.001.01.02","Casas flotantes Es la adquisición de casas flotantes para residencia.",0,21]
[null,null,"D3543004","Anticorrosivos",1,{"$f":"ROW()","v":415},8,null,null,"2.1.2.01.01.001.01.03","Barcazas Es la adquisición de Barcazas para residencia.",0,21]
[null,null,"D3526107","Antiespasmódicos",1,{"$f":"ROW()","v":416},8,null,null,"2.1.2.01.01.001.01.04","Viviendas móviles Es la adquisición de viviendas móviles para residencia.",0,21]
[null,null,"D3549948","Antiespumantes para bebidas",1,{"$f":"ROW()","v":417},8,null,null,"2.1.2.01.01.001.01.05","Coches habitación Es la adquisición de coches habitación para residencia.",0,21]
[null,null,"D3549930","Antiincrustantes, antiespumantes, desengrasantes para calderas",1,{"$f":"ROW()","v":418},8,null,null,"2.1.2.01.01.001.01.06","Monumentos públicos considerados principalmente como viviendas Es la adquisiciónd e monumentos públicos considerados principalmente residenciales.",0,21]
[null,null,"D3526106","Antiinflamatorios no hormonales",1,{"$f":"ROW()","v":419},8,null,null,"2.1.2.01.01.001.01.07","Viviendas para personal militar Es la adquisición de viviendas para uso exclusivo de personal militar.",0,21]
[null,null,"D3549922","Antioxidantes para plásticos",1,{"$f":"ROW()","v":420},8,null,null,"2.1.2.01.01.001.01.08","Construcciones prefabricadas Es la adquisición de construcciones prefabricadas para residencia.",0,21]
[null,null,"D3526202","Antiparasitarios para animales",1,{"$f":"ROW()","v":421},8,null,null,"2.1.2.01.01.001.01.09","Otros edificios utilizados como residencia Es la adquisición de edificios utilizados como residencia que no se clasifican en las cuentas anteriores",0,21]
[null,null,"D3523003","Antipirina",1,{"$f":"ROW()","v":422},8,null,null,"2.1.2.01.01.001.02.01","Monumentos públicos no residenciales",0,21]
[null,null,"D3411015","Antracenos",1,{"$f":"ROW()","v":423},8,null,null,"2.1.2.01.01.001.02.02","Edificios industriales Es la adquisición de edificaciones destinadas a actividades de producción y montaje de instalaciones industriales. Esta categoría incluye: fabricas, plantas y talleres, los edificios agricolas, incluidos los silos y otras instalaciones de almacenamieto.",0,21]
[null,null,"D1101001","Antracita",1,{"$f":"ROW()","v":424},8,null,null,"2.1.2.01.01.001.02.03","Edificios comerciales Es la adquisición de edificaciones utilizadas principalmente en el comercio al por mayor y al por menor. esta categoria incluye: centros comerciales, grandes almacenes, tiendas independientes y boutiques, mercados interiores, etc. Los almacenes, las salas de exposiciones, los edificios de oficinas, edificios bancarios, las terminales aéreas, ferroviarias o de transporte terrestre, parqueaderos y estaciones de servicio y gasolineras.",0,21]
[null,null,"D3814023","Aparadores de madera del tipo utilizado en sala y comedor",1,{"$f":"ROW()","v":425},8,null,null,"2.1.2.01.01.001.02.04","Edificios públicos de entretenimiento Es la adquisición de edificios públicos de entretenimiento. Esta categoría incluye: salas de cine, teatros, salas de conciertos, salas de baile y discotecas.",0,21]
[null,null,"D3814026","Aparadores metálicos para cocina",1,{"$f":"ROW()","v":426},8,null,null,"2.1.2.01.01.001.02.05","Edificios de hoteles Es la adquisición de edificios de hoteles. Esta categoría incluye: moteles, posadas, hostales y edificios similares.",0,21]
[null,null,"D3814053","Aparadores, estanterías en mimbre, bambú o similares",1,{"$f":"ROW()","v":427},8,null,null,"2.1.2.01.01.001.02.06","Restaurantes Es la adquisición de restaurantes.",0,21]
[null,null,"D4621209","Aparatos bloqueadores de llamadas, para teléfonos",1,{"$f":"ROW()","v":428},8,null,null,"2.1.2.01.01.001.02.07","Edificios educativos Es la adquisición de edificios educativos. Esta categoría incluye: escuelas, colegios, universidades, bibliotecas, archivos y museos.",0,21]
[null,null,"D4732301","Aparatos de grabación o de reproducción de imagen y sonido (videos) de cinta magnética",1,{"$f":"ROW()","v":429},8,null,null,"2.1.2.01.01.001.02.08","Edificios relacionados con salud Es la adquisición de edificios relacionados con la salud. Esta categoría incluye: hospitales, clínicas y sanatorios, contiene también las clínicas veterinarias.",0,21]
[null,null,"D4826201","Aparatos de laboratorio para control y ensayo de materiales",1,{"$f":"ROW()","v":430},8,null,null,"2.1.2.01.01.001.02.09","Prisiones Es la adquisición de edificios exclusivamente para la reclusión de prisioneros.",0,21]
[null,null,"D4822001","Aparatos de radar",1,{"$f":"ROW()","v":431},8,null,null,"2.1.2.01.01.001.02.10","Edificios y estructuras para fines militares Es la adquisición de edificios y estructuras para fines militares",0,21]
[null,null,"D4822002","Aparatos de radionavegación",1,{"$f":"ROW()","v":432},8,null,null,"2.1.2.01.01.001.02.11","Instalaciones recreativas Es la adquisición de instalaciones recreativas. Esta categoría incluye: pistas de hielo, gimnasios, pistas cubiertas de tenis, pabellones deportivos, entre otros.",0,21]
[null,null,"D4491907","Aparatos de vaporización y esterilización (excepto para alimentos y bebidas)",1,{"$f":"ROW()","v":433},8,null,null,"2.1.2.01.01.001.02.12","Centros de convenciones y congresos Es la adquisición de centros de convenciones y congresos.",0,21]
[null,null,"D4481699","Aparatos e implementos n.c.p. para peluquerías y salones de belleza",1,{"$f":"ROW()","v":434},8,null,null,"2.1.2.01.01.001.02.13","Edificios agrícolas no residenciales Es la adquisición de edificios agrícolas no residenciales.",0,21]
[null,null,"D4692999","Aparatos eléctricos de señalización y control de tránsito n.c.p.",1,{"$f":"ROW()","v":435},8,null,null,"2.1.2.01.01.001.02.14","Otros edificios no residenciales Es la adquisición de otros edificios no residenciales.",0,21]
[null,null,"D4693998","Aparatos eléctricos n.c.p.",1,{"$f":"ROW()","v":436},8,null,null,"2.1.2.01.01.001.03.01","Monumentos públicos Corresponde a la construcción de monumentos públicos.",0,21]
[null,null,"D4816002","Aparatos eléctricos para masaje",1,{"$f":"ROW()","v":437},8,null,null,"2.1.2.01.01.001.03.02","Autopistas, carreteras, calles Corresponde a la construcción de autopistas, carreteras, calles, etc.",0,21]
[null,null,"D4481698","Aparatos electrodomésticos n.c.p.",1,{"$f":"ROW()","v":438},8,null,null,"2.1.2.01.01.001.03.03","Ferrocarriles Corresponde a la construcción o adquisición de ferrocarriles.",0,21]
[null,null,"D4621499","Aparatos especiales para transmisión de energía eléctrica n.c.p. para voltajes superiores a 1000 V",1,{"$f":"ROW()","v":439},8,null,null,"2.1.2.01.01.001.03.04","Pistas de aterrizaje Corresponde a la construcción de pistas de aterrizaje.",0,21]
[null,null,"D4391399","Aparatos frigoríficos n.c.p.",1,{"$f":"ROW()","v":440},8,null,null,"2.1.2.01.01.001.03.05","Puentes Corresponde a la construcción de puentes.",0,21]
[null,null,"D3843003","Aparatos mecánicos para gimnasia",1,{"$f":"ROW()","v":441},8,null,null,"2.1.2.01.01.001.03.06","Carreteras elevadas Corresponde a la construcción de carreteras elevadas.",0,21]
[null,null,"D4419898","Aparatos n.c.p. para establos",1,{"$f":"ROW()","v":442},8,null,null,"2.1.2.01.01.001.03.07","Túneles Corresponde a la construcción de tuneles.",0,21]
[null,null,"D4413298","Aparatos n.c.p. para lechería",1,{"$f":"ROW()","v":443},8,null,null,"2.1.2.01.01.001.03.08","Acueductos y otros conductos de suministros de aguas, excepto gasoductos Corresponde a la construcción o adquisición de acueductos y otros conductos de suministros de aguas, excepto gasoductos.",0,21]
[null,null,"D3844099","Aparatos n.c.p. para parques infantiles",1,{"$f":"ROW()","v":444},8,null,null,"2.1.2.01.01.001.03.09","Puertos, vías navegables e instalaciones conexas Corresponde a la construcción de puertos, vías navegables e instalaciones conexas.",0,21]
[null,null,"D4817113","Aparatos ortopédicos miembro inferior",1,{"$f":"ROW()","v":445},8,null,null,"2.1.2.01.01.001.03.10","Represas Corresponde a la construcción de represas.",0,21]
[null,null,"D4817199","Aparatos ortopédicos n.c.p.",1,{"$f":"ROW()","v":446},8,null,null,"2.1.2.01.01.001.03.11","Sistemas de riego y obras hidráulicas Corresponde a la construcción o adquisición de Sistemas de riego y obras hidráulicas.",0,21]
[null,null,"D4391201","Aparatos para acondicionamiento de aire y calefacción",1,{"$f":"ROW()","v":447},8,null,null,"2.1.2.01.01.001.03.12","Tuberías de larga distancia Corresponde a la construcción o adquisición de tuberías de larga distancia.",0,21]
[null,null,"D4612203","Aparatos para carga, conversión y control de corriente alterna",1,{"$f":"ROW()","v":448},8,null,null,"2.1.2.01.01.001.03.13","Obras para la comunicación de larga distancia y las líneas eléctricas (cables) Corresponde a la construcción de obras para la comunicación de larga distancia y las líneas eléctricas (cables).",0,21]
[null,null,"D4621210","Aparatos para carga, conversión y control de corriente alterna (menor a 1000 V)",1,{"$f":"ROW()","v":449},8,null,null,"2.1.2.01.01.001.03.14","Gasoductos y oleoductos Corresponde a la construcción o adquisición de gasoductos y oleoductos.",0,21]
[null,null,"D4621199","Aparatos para carga, conversión y control y regulación de corriente n.c.p.",1,{"$f":"ROW()","v":450},8,null,null,"2.1.2.01.01.001.03.15","Cables locales y obras conexas Corresponde a la construcción o adquisición de cables locales y obras conexas.",0,21]
[null,null,"D4391101","Aparatos para destilación y rectificación n.c.p.",1,{"$f":"ROW()","v":451},8,null,null,"2.1.2.01.01.001.03.16","Alcantarillas y plantas de tratamiento de agua Corresponde a la construcción de alcantarillas y plantas de tratamiento de agua.",0,21]
[null,null,"D4391105","Aparatos para extracción de gas y usos análogos",1,{"$f":"ROW()","v":452},{"$f":"LEN(C452)","v":8},null,null,"2.1.2.01.01.001.03.17","Construcciones en minas y plantas industriales Corresponde a las construcciones en minas y plantas industriales.",0,{"$f":"LEN(J452)","v":21}]
[null,null,"D4816001","Aparatos para fisioterapia",1,{"$f":"ROW()","v":453},8,null,null,"2.1.2.01.01.001.03.18","Construcciones deportivas al aire libre Corresponde a las construcciones deportivas al aire libre.",0,21]
[null,null,"D4332099","Aparatos para la transmisión de la energía mecánica e hidráulica n.c.p.",1,{"$f":"ROW()","v":454},8,null,null,"2.1.2.01.01.001.03.19","Otras obras de ingeniería civil Corresponde a la construcción de otras obras de ingeniería civil.",0,21]
[null,null,"D4393203","Aparatos para pasteurización de leche",1,{"$f":"ROW()","v":455},8,null,null,"2.1.2.01.01.001.04","Mejoras de tierras y terrenos Corresponde a los gastos realizados para la adquisición de mejoras de tierra. Las mejoras de tierra son el resultado de acciones que dan lugar a mejoras importantes en la calidad, cantidad o productividad de la tierra, o que impidan su deterioro.Incluye:*Recuperación, desmonte de tierras y cerramiento del terreno.*Creación de pozos y abrevaderos que son parte integral de las tierras.No incluye:*Costos de limpieza y preparación de terrenos cuando están asociados a la adquisición deedificaciones nuevas.*Construcción de malecones, diques, barreras contra inundaciones, entre otros, destinados amejorar la calidad y cantidad de la tierra adyacente a ellos.*Construcción de sistemas de riego principales.",0,18]
[null,null,"D4391499","Aparatos para tratamiento de aguas n.c.p.",1,{"$f":"ROW()","v":456},8,null,null,"2.1.2.01.01.002.01","Buques de guerra Corresponden a los gastos por adquisición de buques de guerra.",0,18]
[null,null,"D2921102","Aperos de cabeza para cabalgadura",1,{"$f":"ROW()","v":457},8,null,null,"2.1.2.01.01.002.02","Submarinos Corresponden a los gastos por adquisición de submarinos.",0,18]
[null,null,"D0129005","Apio",1,{"$f":"ROW()","v":458},8,null,null,"2.1.2.01.01.002.03","Aeronaves militares Corresponden a los gastos por adquisición de aeronaves militares.",0,18]
[null,null,"D3699034","Aplicadores y similares de material plástico para usos higiénicos",1,{"$f":"ROW()","v":459},8,null,null,"2.1.2.01.01.002.04","Tanques Corresponden a los gastos por adquisición de tanques.",0,18]
[null,null,"D3191409","Aplicadores, bajalenguas y otros para usos higiénicos, de madera",1,{"$f":"ROW()","v":460},8,null,null,"2.1.2.01.01.002.05","Dispositivos de transporte Corresponden a los gastos por adquisición de dispositivos de transporte.",0,18]
[null,null,"D4654201","Apliques metálicos para pantallas",1,{"$f":"ROW()","v":461},8,null,null,"2.1.2.01.01.002.06","Lanzamisiles Corresponden a los gastos por adquisición de lanzamisiles.",0,18]
[null,null,"D3527011","Apósitos",1,{"$f":"ROW()","v":462},8,null,null,"2.1.2.01.01.002.07","Otros sistemas de armamentos Corresponden a los gastos por adquisición de otros sistemas de armamentos.",0,18]
[null,null,"D3627027","Apoyos de neopreno",1,{"$f":"ROW()","v":463},8,null,null,"2.1.2.01.01.003.01.01","Motores y turbinas y sus partes",0,21]
[null,null,"D3549902","Aprestos para textiles",1,{"$f":"ROW()","v":464},8,null,null,"2.1.2.01.01.003.01.02","Bombas, compresores, motores de fuerza hidráulica y motores de potencia neumática y válvulas y sus partes y piezas",0,21]
[null,null,"D4411101","Arados",1,{"$f":"ROW()","v":465},8,null,null,"2.1.2.01.01.003.01.03","Cojines, engranajes, ruedas de ficción y elementos de transmisión y sus partes y piezas",0,21]
[null,null,"D0135501","Arándanos",1,{"$f":"ROW()","v":466},8,null,null,"2.1.2.01.01.003.01.04","Hornos y quemadores para alimentación de hogares y sus partes y piezas",0,21]
[null,null,"D3627019","Arandelas y otros empaques de caucho",1,{"$f":"ROW()","v":467},8,null,null,"2.1.2.01.01.003.01.05","Equipos de elevación y manipulación y sus partes y piezas",0,21]
[null,null,"D2929003","Arandelas y otros empaques de cuero",1,{"$f":"ROW()","v":468},8,null,null,"2.1.2.01.01.003.01.06","Otras máquinas para usos generales y sus partes y piezas",0,21]
[null,null,"D3649034","Arandelas y otros empaques de plástico",1,{"$f":"ROW()","v":469},8,null,null,"2.1.2.01.01.003.02.01","Maquinaria agropecuaria o silvícola y sus partes y piezas",0,21]
[null,null,"D4332010","Árboles de leva",1,{"$f":"ROW()","v":470},8,null,null,"2.1.2.01.01.003.02.02","Máquinas herramientas y sus partes, piezas y accesorios",0,21]
[null,null,"D3899104","Árboles de navidad",1,{"$f":"ROW()","v":471},8,null,null,"2.1.2.01.01.003.02.03","Maquinaria para la industria metalúrgica y sus partes y piezas",0,21]
[null,null,"D4332003","Árboles de transmisión",1,{"$f":"ROW()","v":472},8,null,null,"2.1.2.01.01.003.02.04","Maquinaria para la minería, la explotación de canteras y la construcción y sus partes y piezas",0,21]
[null,null,"D0196106","Árboles frutales",1,{"$f":"ROW()","v":473},8,null,null,"2.1.2.01.01.003.02.05","Maquinaria para la elaboración de alimentos, bebidas y tabaco, y sus partes y piezas",0,21]
[null,null,"D0196104","Árboles maderables",1,{"$f":"ROW()","v":474},8,null,null,"2.1.2.01.01.003.02.06","Maquinaria para la fabricación de textiles, prendas de vestir y artículos de cuero, y sus partes y piezas",0,21]
[null,null,"D0196105","Árboles, arbustos y vegetales no maderables",1,{"$f":"ROW()","v":475},8,null,null,"2.1.2.01.01.003.02.07","Aparatos de uso doméstico y sus partes y piezas",0,21]
[null,null,"D3215316","Archivadores A-Z",1,{"$f":"ROW()","v":476},8,null,null,"2.1.2.01.01.003.02.08","Otra maquinaria para usos especiales y sus partes y piezas",0,21]
[null,null,"D3812203","Archivadores de madera",1,{"$f":"ROW()","v":477},8,null,null,"2.1.2.01.01.003.03.01","Máquinas para oficina y contabilidad, y sus partes y accesorios",0,21]
[null,null,"D3812104","Archivadores metálicos",1,{"$f":"ROW()","v":478},8,null,null,"2.1.2.01.01.003.03.02","Maquinaria de informática y sus partes, piezas y accesorios",0,21]
[null,null,"D1540102","Arcilla común (cerámicas, ferruginosas, misceláneas)",1,{"$f":"ROW()","v":479},8,null,null,"2.1.2.01.01.003.04.01","Motores, generadores y transformadores eléctricos y sus partes y piezas",0,21]
[null,null,"D1540203","Arcillas especiales",1,{"$f":"ROW()","v":480},8,null,null,"2.1.2.01.01.003.04.02","Aparatos de control eléctrico y distribución de electricidad y sus partes y piezas",0,21]
[null,null,"D1540202","Arcillas refractarias",1,{"$f":"ROW()","v":481},8,null,null,"2.1.2.01.01.003.04.03","Hilos y cables aislados; cable de fibra óptica",0,21]
[null,null,"D3525047","Arecolina",1,{"$f":"ROW()","v":482},8,null,null,"2.1.2.01.01.003.04.04","Acumuladores, pilas y baterías primarias y sus partes y piezas",0,21]
[null,null,"D1531101","Arenas arcillosas",1,{"$f":"ROW()","v":483},8,null,null,"2.1.2.01.01.003.04.05","Lámparas eléctricas de incandescencia o descarga; lámparas de arco, equipo para alumbrado eléctrico; sus partes y piezas",0,21]
[null,null,"D1531102","Arenas feldespáticas",1,{"$f":"ROW()","v":484},8,null,null,"2.1.2.01.01.003.04.06","Otro equipo eléctrico y sus partes y piezas",0,21]
[null,null,"D1531201","Arenas industriales",1,{"$f":"ROW()","v":485},8,null,null,"2.1.2.01.01.003.05.01","Válvulas y tubos electrónicos; componentes electrónicos; sus partes y piezas",0,21]
[null,null,"D1531202","Arenas y gravas silíceas",1,{"$f":"ROW()","v":486},8,null,null,"2.1.2.01.01.003.05.02","Aparatos transmisores de televisión y radio; televisión, video y cámaras digitales; teléfonos",0,21]
[null,null,"D1531301","Arenas y gravas silíceas elaboradas (trituradas, molidas o pulverizadas)",1,{"$f":"ROW()","v":487},8,null,null,"2.1.2.01.01.003.05.03","Radiorreceptores y receptores de televisión; aparatos para la grabación y reproducción de sonido y video; micrófonos, altavoces, amplificadores, etc.",0,21]
[null,null,"D0426105","Arenca-arenque, frescos o refrigerados",1,{"$f":"ROW()","v":488},8,null,null,"2.1.2.01.01.003.05.04","Partes y piezas de los productos de las clases 4721 a 4733 y 4822",0,21]
[null,null,"D1513003","Areniscas",1,{"$f":"ROW()","v":489},8,null,null,"2.1.2.01.01.003.05.05","Discos, cintas, dispositivos de almacenamiento en estado sólido no volátiles y otros medios, no grabados",0,21]
[null,null,"D2349002","Arepas de harina de maíz",1,{"$f":"ROW()","v":490},8,null,null,"2.1.2.01.01.003.05.06","Grabaciones de audio, video y otros discos, cintas y otros medios físicos",0,21]
[null,null,"D2349003","Arepas de maíz precocido o yuca",1,{"$f":"ROW()","v":491},8,null,null,"2.1.2.01.01.003.05.07","Tarjetas con bandas magnéticas o plaquetas (chip)",0,21]
[null,null,"D2229004","Arequipe",1,{"$f":"ROW()","v":492},8,null,null,"2.1.2.01.01.003.06.01","Aparatos médicos y quirúrgicos y aparatos ortésicos y protésicos",0,21]
[null,null,"D4299503","Argollas metálicas",1,{"$f":"ROW()","v":493},8,null,null,"2.1.2.01.01.003.06.02","Instrumentos y aparatos de medición, verificación, análisis, de navegación y para otros fines (excepto instrumentos ópticos); instrumentos de control de procesos industriales, sus partes, piezas y accesorios",0,21]
[null,null,"D4299943","Argollas metálicas, narigueras, para ganadería",1,{"$f":"ROW()","v":494},8,null,null,"2.1.2.01.01.003.06.03","Instrumentos ópticos y equipo fotográfico; partes, piezas y accesorios",0,21]
[null,null,"D3421008","Argón",1,{"$f":"ROW()","v":495},8,null,null,"2.1.2.01.01.003.06.04","Relojes y sus partes y piezas",0,21]
[null,null,"D3814004","Armarios metálicos",1,{"$f":"ROW()","v":496},8,null,null,"2.1.2.01.01.003.07.01","Vehículos automotores, remolques y semirremolques; y sus partes, piezas y accesorios",0,21]
[null,null,"D4818003","Armarios metálicos para hospitales",1,{"$f":"ROW()","v":497},8,null,null,"2.1.2.01.01.003.07.02","Carrocerías (incluso cabinas) para vehículos automotores; remolques y semirremolques; y sus partes, piezas y accesorios",0,21]
[null,null,"D4622002","Armarios metálicos para instalaciones y usos eléctricos",1,{"$f":"ROW()","v":498},8,null,null,"2.1.2.01.01.003.07.03","Buques",0,21]
[null,null,"D3816005","Armazones de madera para muebles",1,{"$f":"ROW()","v":499},8,null,null,"2.1.2.01.01.003.07.04","Embarcaciones para deportes y recreo",0,21]
[null,null,"D4654202","Armazones metálicas para lámparas fluorescentes",1,{"$f":"ROW()","v":500},8,null,null,"2.1.2.01.01.003.07.05","Locomotoras y material rodante de ferrocarril y tranvía, y sus partes y piezas",0,21]
[null,null,"D3892201","Armazones para paraguas y sombrillas",1,{"$f":"ROW()","v":501},8,null,null,"2.1.2.01.01.003.07.06","Aeronaves y naves espaciales, y sus partes y piezas",0,21]
[null,null,"D3833002","Armonios",1,{"$f":"ROW()","v":502},8,null,null,"2.1.2.01.01.003.07.07.01","Motocicletas y sidecares (vehículos laterales a las motocicletas)",0,24]
[null,null,"D3832005","Arpas",1,{"$f":"ROW()","v":503},8,null,null,"2.1.2.01.01.003.07.07.02","Bicicletas y sillones de ruedas para discapacitados",0,24]
[null,null,"D4111101","Arrabio",1,{"$f":"ROW()","v":504},8,null,null,"2.1.2.01.01.003.07.07.03","Vehículos n.c.p. sin propulsión mecánica",0,24]
[null,null,"D0159901","Arracacha",1,{"$f":"ROW()","v":505},8,null,null,"2.1.2.01.01.003.07.07.04","Partes y piezas para los productos de las clases 4991 y 4992",0,24]
[null,null,"D2921104","Arreos para tracción animal",1,{"$f":"ROW()","v":506},8,null,null,"2.1.2.01.01.003.08.01","Armas Gastos asociados a la adquisición de armas.",0,21]
[null,null,"D2921103","Arreos y accesorios para cabalgadura",1,{"$f":"ROW()","v":507},8,null,null,"2.1.2.01.01.003.08.02","Equipo de alojamiento y campaña Gastos asociados a la adquisición de equipo de alojamiento y campaña.",0,21]
[null,null,"D2316102","Arroz blanqueado (pulido o blanco)",1,{"$f":"ROW()","v":508},8,null,null,"2.1.2.01.01.003.08.03","Equipo de inteligencia Gastos asociados a la adquisición de equipo de inteligencia.",0,21]
[null,null,"D2316201","Arroz descascarillado (pardo, cargo o integral)",1,{"$f":"ROW()","v":509},8,null,null,"2.1.2.01.01.003.08.04","Equipo militar y de seguridad Gastos asociados a la adquisición de equipo militar y de seguridad.",0,21]
[null,null,"D0113101","Arroz para siembra",1,{"$f":"ROW()","v":510},8,null,null,"2.1.2.01.01.003.08.05","Equipo policía judicial Gastos asociados a la adquisición de equipo policía judicial.",0,21]
[null,null,"D2316103","Arroz partido",1,{"$f":"ROW()","v":511},8,null,null,"2.1.2.01.01.003.08.06","Equipo antimotines Gastos asociados a la adquisición de equipo antimotines.",0,21]
[null,null,"D0113201","Arroz pergamino (seco)",1,{"$f":"ROW()","v":512},8,null,null,"2.1.2.01.01.003.08.07","Otros equipos Gastos asociados a la adquisición de armas.",0,21]
[null,null,"D0113202","Arroz pergamino (verde-Paddy)",1,{"$f":"ROW()","v":513},8,null,null,"2.1.2.01.01.004.01.01.01","Asientos",0,24]
[null,null,"D2314009","Arroz precocido",1,{"$f":"ROW()","v":514},8,null,null,"2.1.2.01.01.004.01.01.02","Muebles del tipo utilizado en la oficina",0,24]
[null,null,"D2314010","Arroz precocido mezclado con otros productos",1,{"$f":"ROW()","v":515},8,null,null,"2.1.2.01.01.004.01.01.03","Muebles de madera, del tipo usado en la cocina",0,24]
[null,null,"D2316101","Arroz semiblanqueado",1,{"$f":"ROW()","v":516},{"$f":"LEN(C516)","v":8},null,null,"2.1.2.01.01.004.01.01.04","Otros muebles N.C.P.",0,{"$f":"LEN(J516)","v":24}]
[null,null,"D3427014","Arseniato de sodio",1,{"$f":"ROW()","v":517},8,null,null,"2.1.2.01.01.004.01.01.05","Somieres, colchones con muebles, rellenos o guarnecidos interiormente con cualquier material, de caucho o plásticos celulares, recubiertos o no",0,24]
[null,null,"D3421010","Arsénico blanco-ácido arsenioso",1,{"$f":"ROW()","v":518},8,null,null,"2.1.2.01.01.004.01.01.06","Partes y piezas de muebles",0,24]
[null,null,"D3191498","Artefactos de madera para uso industrial n.c.p.",1,{"$f":"ROW()","v":519},8,null,null,"2.1.2.01.01.004.01.02","Instrumentos musicales Gastos por adquisición de instrumentos musicales.",0,21]
[null,null,"D4419499","Artefactos n.c.p. para avicultura",1,{"$f":"ROW()","v":520},8,null,null,"2.1.2.01.01.004.01.03","Artículos de deporte Gastos por adquisición de artículos de deporte.",0,21]
[null,null,"D3695003","Artefactos y partes de material plástico para construcción",1,{"$f":"ROW()","v":521},8,null,null,"2.1.2.01.01.004.01.04","Antigüedades u otros objetos de arte Gastos por adquisición de antigüedades u otros objetos de arte.",0,21]
[null,null,"D4291239","Artículos de acero inoxidable de uso doméstico",1,{"$f":"ROW()","v":522},8,null,null,"2.1.2.01.01.005.01.01.01","Animales de cría Son los gastos asociados a la adquisición de animales de cría.",0,24]
[null,null,"D4299606","Artículos de acero inoxidable para adorno y decoración",1,{"$f":"ROW()","v":523},8,null,null,"2.1.2.01.01.005.01.01.02","Ganado lechero Son los gastos asociados a la adquisición de ganado lechero.",0,24]
[null,null,"D4299988","Artículos de alambre n.c.p.",1,{"$f":"ROW()","v":524},8,null,null,"2.1.2.01.01.005.01.01.03","Animales de tiro Son los gastos asociados a la adquisición de animales de tiro.",0,24]
[null,null,"D2719097","Artículos de algodón y sus mezclas n.c.p.",1,{"$f":"ROW()","v":525},8,null,null,"2.1.2.01.01.005.01.01.04","Animales utilizados para la producción de lana Son los gastos asociados a la adquisición de animales utilizados para la producción de lana.",0,24]
[null,null,"D4299933","Artículos de aluminio anodizado",1,{"$f":"ROW()","v":526},8,null,null,"2.1.2.01.01.005.01.01.05","Animales empleados para el transporte Son los gastos asociados a la adquisición de animales empleados para el transporte.",0,24]
[null,null,"D4299994","Artículos de aluminio n.c.p.",1,{"$f":"ROW()","v":527},8,null,null,"2.1.2.01.01.005.01.01.06","Animales empleados para las carreras Son los gastos asociados a la adquisición de animales empleados para las carreras.",0,24]
[null,null,"D3757008","Artículos de amianto",1,{"$f":"ROW()","v":528},8,null,null,"2.1.2.01.01.005.01.01.07","Animales empleados para el esparcimiento Son los gastos asociados a la adquisición de animales empleados para el esparcimiento.",0,24]
[null,null,"D3734003","Artículos de arcilla refractaria para laboratorio y usos técnicos",1,{"$f":"ROW()","v":529},8,null,null,"2.1.2.01.01.005.01.01.08","Otros animales que generan productos en forma repetida Son los gastos asociados a la adquisición de otros animales que generan productos de forma repetida.",0,24]
[null,null,"D3792009","Artículos de asbesto para protección",1,{"$f":"ROW()","v":530},8,null,null,"2.1.2.01.01.005.01.02.01","Árboles frutales Son los gastos asociados a la adquisición de árboles frutales.",0,24]
[null,null,"D3192305","Artículos de aseo personal en estropajo mezclado con fibras textiles",1,{"$f":"ROW()","v":531},8,null,null,"2.1.2.01.01.005.01.02.02","Árboles cultivados por sus nueces Son los gastos asociados a la adquisición de árboles cultivados por sus nueces.",0,24]
[null,null,"D4299602","Artículos de bronce para adorno y decoración",1,{"$f":"ROW()","v":532},8,null,null,"2.1.2.01.01.005.01.02.03","Árboles cultivados por su savia Son los gastos asociados a la adquisición de árboles cultivados por su savia.",0,24]
[null,null,"D3627099","Artículos de caucho n.c.p.",1,{"$f":"ROW()","v":533},8,null,null,"2.1.2.01.01.005.01.02.04","Árboles cultivados por su resina Son los gastos asociados a la adquisición de árboles cultivados por su resina.",0,24]
[null,null,"D3627098","Artículos de caucho n.c.p. para escritorio",1,{"$f":"ROW()","v":534},8,null,null,"2.1.2.01.01.005.01.02.05","Árboles cultivados por su corteza u hojas Son los gastos asociados a la adquisición de árboles cultivados por su corteza u hojas.",0,24]
[null,null,"D3627097","Artículos de caucho n.c.p. para uso industrial",1,{"$f":"ROW()","v":535},8,null,null,"2.1.2.01.01.005.01.02.06","Otros árboles, cultivos y plantas que generan productos en forma repetida Son los gastos asociados a la adquisición de otros árboles, cultivos y plantas que generan productos en forma repetida.",0,24]
[null,null,"D3856008","Artículos de caucho para entretención de bebés",1,{"$f":"ROW()","v":536},8,null,null,"2.1.2.01.01.005.02.01","Investigación y desarrollo Son los gastos asociados al trabajo creativo llevado a cabo de forma sistemática para incrementar el acervo de conocimientos y el uso de los mismos para idear nuevas aplicaciones (Fondo Monetario Internacional, 2014, pág. 203).No incluye: •Gastos por investigación y desarrollo que no generen un beneficio económico para su propietario.•Capital humano",0,21]
[null,null,"D3627013","Artículos de caucho para uso eléctrico",1,{"$f":"ROW()","v":537},8,null,null,"2.1.2.01.01.005.02.02.01","Costos de las perforaciones de prueba y sondeo realizadas Corresponde a los gastos asociados a los costos de las perforaciones de prueba y sondeo realizadas.",0,24]
[null,null,"D3627001","Artículos de caucho para uso médico",1,{"$f":"ROW()","v":538},8,null,null,"2.1.2.01.01.005.02.02.02","Costos de precalificación Corresponde a los gastos asociados a los costos de precalificación.",0,24]
[null,null,"D4299601","Artículos de cobre para adorno y decoración",1,{"$f":"ROW()","v":539},8,null,null,"2.1.2.01.01.005.02.02.03","Obtención de licencias, adquisición y avalúos Corresponde a los gastos asociados a la obtención de licencias, adquisición y avalúos.",0,24]
[null,null,"D3192299","Artículos de corcho n.c.p.",1,{"$f":"ROW()","v":540},8,null,null,"2.1.2.01.01.005.02.02.04","Costos de transporte Corresponde a los gastos asociados a los costos de transporte.",0,24]
[null,null,"D2929098","Artículos de cuero n.c.p. para uso industrial",1,{"$f":"ROW()","v":541},8,null,null,"2.1.2.01.01.005.02.02.05","Otros costos de evaluación y explotación minera Corresponde a los gastos asociados a otros costos de evaluación y explotación minera.",0,24]
[null,null,"D2929011","Artículos de cuero para protección industrial",1,{"$f":"ROW()","v":542},8,null,null,"2.1.2.01.01.005.02.03.01.01","Paquetes de software Son los gastos asociados a la adquisición de paquetes de software.",0,27]
[null,null,"D2929010","Artículos de cuero para protección personal",1,{"$f":"ROW()","v":543},8,null,null,"2.1.2.01.01.005.02.03.01.02","Gastos de desarrollo Son los gastos asociados al desarrollo de programas de informática.",0,27]
[null,null,"D3899199","Artículos de fantasía n.c.p. para fiestas",1,{"$f":"ROW()","v":544},8,null,null,"2.1.2.01.01.005.02.03.02","Bases de datos Son los gastos asociados a la adquisición de archivos de datos organizados que permiten un accesoeficaz a los recursos y al uso de los datos",0,24]
[null,null,"D2719098","Artículos de lana n.c.p.",1,{"$f":"ROW()","v":545},8,null,null,"2.1.2.01.01.005.02.04","Originales de entretenimiento, literatura y arte Son los gastos asociados a la adquisición de películas, grabaciones sonoras, manuscritos, cintas y modelos originales que llevan gravadas o incorporadas representaciones teatrales, programas de radio y televisión, interpretaciones musicales, eventos deportivos y producciones literarias o artísticas",0,21]
[null,null,"D2719099","Artículos de lona n.c.p.",1,{"$f":"ROW()","v":546},8,null,null,"2.1.2.01.01.005.02.05","Otros productos de propiedad intelectual Son los gastos asociados a la adquisición de nueva información o de conocimiento especializado no clasificables en los rubros anteriores, cuyo uso se encuentre restringido a los órganos que han establecido derechos de propiedad sobre la información o a otras unidades que han sido autorizadas por los dueños",0,21]
[null,null,"D3191499","Artículos de madera n.c.p.",1,{"$f":"ROW()","v":547},8,null,null,"2.1.2.01.02.001","Joyas y artículos conexos Corresponde a las adquisiciones de oro no monetario y otras piedras y metales preciosos que no se prevé emplear como materiales y suministros en procesos productivos. También incluye las joyas de considerable valor diseñadas con piedras y metales preciosos.",0,15]
[null,null,"D3816098","Artículos de madera n.c.p. para escritorio",1,{"$f":"ROW()","v":548},8,null,null,"2.1.2.01.02.002","Antigüedades u otros objetos de arte Corresponde a las adquisiciones de pinturas, esculturas y otros objetos reconocidos como obras de arte o antigüedades mantenidos primordialmente como depósito de valor a través del tiempo.",0,15]
[null,null,"D3191301","Artículos de madera tallada para adorno",1,{"$f":"ROW()","v":549},8,null,null,"2.1.2.01.02.003","Otros objetos valiosos Corresponde a la adquisición de colecciones de estampillas, monedas, porcelana china, libros y otros diversos objetos de valor.",0,15]
[null,null,"D2732099","Artículos de malla n.c.p.",1,{"$f":"ROW()","v":550},8,null,null,"2.1.2.01.03.001","Tierras y terrenos Son los gastos asociados a la adquisición del suelo propiamente dicho sobre el que se han establecido derechos de propiedad y del cual se pueden derivar beneficios económicos para sus propietarios por su tenencia o uso.Incluye:*Cubierta del suelo*Aguas superficiales asociadasNo incluye:*Edificios y otras estructuras construidas en la tierra o a través de ella, como carreteras,edificios de oficinas y túneles.*Mejoras de la tierra y los costos de transferencias de propiedad de la tierra.*Viñedos, huertos y otras plantaciones de árboles, animales y cultivos.*Recursos biológicos no cultivados.* Recursos de agua debajo de la tierra.",0,15]
[null,null,"D2922215","Artículos de marroquinería de material plástico",1,{"$f":"ROW()","v":551},8,null,null,"2.1.2.01.03.002","Recursos biológicos no cultivados Son los gastos asociados a la adquisición de animales, aves, peces y plantas que producen productos una sola vez o de forma repetida y sobre los que se ejercen derechos de propiedad, pero cuyo crecimiento natural o regeneración no está bajo el control, responsabilidad y gestión directa de ninguna unidad. Incluye:*Animales de laboratorio cuyo precio sea significativo o se espere que participen en los procesos de producción por más de un año.",0,15]
[null,null,"D3699009","Artículos de material plástico para diapositivas y transparencias",1,{"$f":"ROW()","v":552},8,null,null,"2.1.2.01.04","Gastos reservados Corresponde a la adquisición de activos que se realizan para la financiación de actividades de inteligencia, contrainteligencia, investigación criminal, protección de testigos e informantes. (Ministerio de Hacienda y Crédito Público, 2011, pág. 258).NE: Se incluye este objeto de gasto al interior de esta categoría teniendo en cuenta que la Ley 1097 de 2006 contempla la adquisición de activos bajo la denominación gastos reservados. Sin embargo, no deben confundirse dado que, económicamente las adquisiciones de activos, tienen un efecto sobre el patrimonio de las unidades y por esta razón no son deben ser consideradas como gastos.",0,11]
[null,null,"D3699002","Artículos de material plástico para escritorio y dibujo",1,{"$f":"ROW()","v":553},8,null,null,"2.1.2.02.01.000","Agricultura, silvicultura y productos de la pesca Son los gastos asociados a la adquisición de productos relacionados con la agricultura, la horticultura, la silvicultura y los productos de explotación forestal. Incluye también la compra de animales o productos animales, y la compra de pescados o productos de la pesca.",1,15]
[null,null,"D3699037","Artículos de material plástico para la avicultura",1,{"$f":"ROW()","v":554},8,null,null,"2.1.2.02.01.001","Minerales; electricidad, gas y agua Son los gastos asociados a la adquisición de todo tipo de minerales incluidos el carbón, el petróleo, los concentrados de uranio y torio, los minerales metálicos, las piedras preciosas, entre otros. En esta cuenta también se registran los gastos por adquisición de energía eléctrica, gas de ciudad y agua caliente.",1,15]
[null,null,"D3693001","Artículos de material plástico para servicios sanitarios",1,{"$f":"ROW()","v":555},8,null,null,"2.1.2.02.01.002","Productos alimenticios, bebidas y tabaco; textiles, prendas de vestir y productos de cuero Son los gastos asociados a la adquisición de productos alimenticios como la carne; las preparaciones y conservas de pescados, frutas y hortalizas; los productos lácteos y ovoproductos; los productos de la molinería; y todo tipo de bebidas. Esta sección incluye también la adquisición de hilados, tejidos, artículos textiles y dotación.",0,15]
[null,null,"D3192399","Artículos de mimbre, caña, etc., n.c.p.",1,{"$f":"ROW()","v":556},8,null,null,"2.1.2.02.01.003","Otros bienes transportables (excepto productos metálicos, maquinaria y equipo) Son los gastos asociados a la adquisición de productos de madera; libros, diarios o publicaciones impresas; productos de refinación de petróleo y combustibles; productos químicos; productos de caucho y plástico; productos de vidrio; muebles; desechos; entre otros.",0,15]
[null,null,"D3219930","Artículos de papel retorcido",1,{"$f":"ROW()","v":557},8,null,null,"2.1.2.02.01.004","Productos metálicos, maquinaria y equipo Son los gastos asociados a la adquisición de metales básicos, productos metálicos elaborados y paquetes de software.No incluye:*La adquisición de programas informáticos y bases de datos que representan un activo fijo.",0,15]
[null,null,"D2832099","Artículos de piel n.c.p.",1,{"$f":"ROW()","v":558},8,null,null,"2.1.2.02.01.010.01","Municiones",0,18]
[null,null,"D3546001","Artículos de pirotecnia para entretenimiento",1,{"$f":"ROW()","v":559},8,null,null,"2.1.2.02.01.010.02","Misiles",0,18]
[null,null,"D3546002","Artículos de pirotecnia para uso técnico",1,{"$f":"ROW()","v":560},8,null,null,"2.1.2.02.01.010.03","Cohetes",0,18]
[null,null,"D3824099","Artículos de plata n.c.p.",1,{"$f":"ROW()","v":561},8,null,null,"2.1.2.02.01.010.04","Bombas",0,18]
[null,null,"D3899999","Artículos de pluma n.c.p.",1,{"$f":"ROW()","v":562},8,null,null,"2.1.2.02.01.010.05","Otros elementos militares de un solo uso",0,18]
[null,null,"D3719303","Artículos de vidrio refractario",1,{"$f":"ROW()","v":563},8,null,null,"2.1.2.02.02.005","Construcción y servicios de la construcción Son los gastos asociados a la adquisición de servicios de construcción como preparaciones de terreno, montaje de construcciones prefabricadas, instalaciones, servicios de terminación y acabados de edificios, entre otros.",1,15]
[null,null,"D4299934","Artículos de zamac",1,{"$f":"ROW()","v":564},8,null,null,"2.1.2.02.02.006","Comercio y distribución; alojamiento; servicios de suministro de comidas y bebidas; servicios de transporte; y servicios de distribución de electricidad, gas y agua Son los gastos asociados a la adquisición de servicios de alojamiento; servicios de suministro de comidas y bebidas; servicios de transporte de pasajeros o de carga; servicios de mensajería y servicios de distribución de electricidad, gas y agua.",0,15]
[null,null,"D3722206","Artículos decorados de porcelana",1,{"$f":"ROW()","v":565},8,null,null,"2.1.2.02.02.007","Servicios financieros y servicios conexos; servicios inmobiliarios; y servicios de arrendamiento y leasing Son los gastos asociados a la adquisición de servicios financieros, seguros, servicios de mantenimiento de activos financieros, servicios inmobiliarios y arrendamientos.",0,15]
[null,null,"D3824009","Artículos decorativos de plata",1,{"$f":"ROW()","v":566},8,null,null,"2.1.2.02.02.008","Servicios prestados a las empresas y servicios de producción Son los gastos asociados a la adquisición de servicios de investigación y desarrollo, servicios jurídicos y contables, servicios de consultoría, servicios de publicidad, servicios de impresión servicios de telecomunicaciones, servicios de limpieza, servicios de seguridad, servicios de mantenimiento, entre otros.",0,15]
[null,null,"D3719311","Artículos decorativos de vidrio",1,{"$f":"ROW()","v":567},8,null,null,"2.1.2.02.02.009","Servicios para la comunidad, sociales y personales Son los gastos asociados a la adquisición de servicios educativos, servicios de salud, servicios culturales y deportivos, servicios de tratamiento y recolección de desechos, servicios proporcionados por asociaciones, entre otros.",0,15]
[null,null,"D3753001","Artículos decorativos de yeso",1,{"$f":"ROW()","v":568},8,null,null,"2.1.2.02.02.010","Viáticos de los funcionarios en comisión Son los pagos por concepto de viáticos que reciben los funcionarios y trabajadores de las entidades en comisión, para alojamiento y manutención cuando: a) deban desempeñar sus funciones en un lugar diferente a su sede habitual de trabajo, ya sea dentro o fuera del país, o b) deba atender transitoriamente actividades distintas a las inherentes al empleo del que es titular. Los viáticos de los funcionarios en comisión constituyen adquisición de servicios cuando se hayan percibido por un término inferior a ciento ochenta (180) días en el último año de servicio.",0,15]
[null,null,"D3712905","Artículos decorativos en fibra de vidrio",1,{"$f":"ROW()","v":569},8,null,null,"2.1.2.02.03","Gastos imprevistos Corresponde a gastos excepcionales, de carácter eventual o fortuito y de inaplazable e imprescindible realización para el funcionamiento del Estado. Este rubro no se puede utilizar para registrar gastos por concepto de adquisición de bienes y servicios ya clasificados, ni para completar partidas insuficientes",0,11]
[null,null,"D3899912","Artículos decorativos y de adorno con materiales de origen animal",1,{"$f":"ROW()","v":570},8,null,null,"2.1.2.02.04","Gastos reservados Corresponde a los gastos que se realizan para la financiación de actividades de inteligencia, contrainteligencia, investigación criminal, protección de testigos e informantes. También incluye los gastos que se realicen para expedir nuevos documentos de identificación para garantizar la identidad de cobertura de los servidores públicos que ejecuten actividades de inteligencia y contrainteligencia,",0,11]
[null,null,"D3899910","Artículos decorativos y de adorno con materiales vegetales",1,{"$f":"ROW()","v":571},8,null,null,"2.1.3.01.01.001","Transferencia de recursos al Patrimonio Autónomo Fideicomiso de Promoción de Exportaciones - PROEXPORT. Artículo 33 Ley 1328 de 2009 La Nación, a través del Ministerio de Comercio, Industria y Turismo podrá transferir recursos destinados a la promoción de las exportaciones, la inversión extranjera y el turismo, al patrimonio autónomo Fideicomiso de Promoción de Exportaciones –Proexport– Colombia, para el cumplimiento de sus funciones.",0,15]
[null,null,"D3699016","Artículos decorativos y de adorno elaborados con material plástico",1,{"$f":"ROW()","v":572},8,null,null,"2.1.3.01.01.002","Transferencia FONTUR artículo 21 Ley 1558 de 2012 Comprende los recursos señalados en el artículo 1o y 8o de la Ley 1101 de 2006, así como los asignados en el Presupuesto Nacional para la infraestructura turística, promoción y la competitividad Turística, y el recaudo del Impuesto al Turismo, los cuales formarán parte de los recursos del Fondo de Promoción Turística que en adelante llevará el nombre de Fondo Nacional de Turismo (Fontur) y se constituirá como Patrimonio Autónomo con personería jurídica y tendrá como función principal el recaudo, la administración y ejecución de sus recursos.Como parte de la infraestructura turística, las cámaras de comercio en asocio con el Fondo Nacional de Turismo, la Nación, las entidades territoriales, con otras entidades públicas o privadas, o individualmente, continuarán destinando recursos de origen público o privado provenientes del desarrollo de sus actividades a la creación y operación de centros de eventos y convenciones y de recintos feriales mediante la celebración de eventos, congresos y actividades feriales, con el fin de que contribuyan a la generación de empleo y al desarrollo turístico de sus regiones.",0,15]
[null,null,"D3824005","Artículos decorativos y de adorno en oro, plata y platino",1,{"$f":"ROW()","v":573},8,null,null,"2.1.3.01.02.001","Subvenciones a SATENA S.A. como único operador de rutas sociales. (Art. 240 Ley 1753 de 2015) Con el fin promover la prestación del servicio de transporte aéreo en las regiones de difícil acceso y conectividad, el Gobierno Nacional podrá otorgar subvenciones a Satena S.A., a través del presupuesto del Ministerio de Defensa Nacional para la prestación del servicio público esencial de transporte aéreo en aquellas rutas sociales en las cuales Satena S.A. sea el único operador. El Gobierno Nacional, previo a la realización de un estudio, reglamentará las rutas y condiciones de estas subvenciones, que en ningún caso podrán ser superiores al déficit que registre la empresa como resultado de atender las denominadas rutas sociales en las cuales opere de manera exclusiva.",0,15]
[null,null,"D2799105","Artículos desechables confeccionados en tela prensada de algodón",1,{"$f":"ROW()","v":574},8,null,null,"2.1.3.01.02.002","Transferencia a la Sociedad de Activos Especiales SAE - S.A.S - artículo 90 Ley 1708 de 2014 El Fondo para la Rehabilitación, Inversión Social y Lucha contra el Crimen Organizado (Frisco) es una cuenta especial sin personería jurídica administrada por la Sociedad de Activos Especiales S.A.S. (SAE), sociedad de economía mixta del orden nacional autorizada por la ley, de naturaleza única y sometida al régimen del derecho privado, de acuerdo con las políticas trazadas por el Consejo Nacional de Estupefacientes o su equivalente, con el objetivo de fortalecer el sector justicia, la inversión social, la política de drogas, el desarrollo rural, la atención y reparación a víctimas de actividades ilícitas, y todo aquello que sea necesario para tal finalidad.",0,15]
[null,null,"D3269007","Artículos en screen",1,{"$f":"ROW()","v":575},8,null,null,"2.1.3.01.02.003","Subvenciones a empresas de transporte masivo Comprende las erogaciones que realizan las entidades territoriales a empresa de transporte masivo, para cubrir el deficit de la operación que puedan presentarse.",0,15]
[null,null,"D4299912","Artículos esmaltados para laboratorio y usos técnicos",1,{"$f":"ROW()","v":576},8,null,null,"2.1.3.01.02.004.01","Subsidios de acueducto Comprende las erogaciones que realizan las entidades territoriales a empresas prestadoras de servicios públicos, para los subsidios en acueducto.",0,18]
[null,null,"D4151212","Artículos fundidos o forjados de cobre y sus aleaciones",1,{"$f":"ROW()","v":577},8,null,null,"2.1.3.01.02.004.02","Subsidios de alcantarillado Comprende las erogaciones que realizan las entidades territoriales a empresas prestadoras de servicios públicos, para los subsidios en aseo.",0,18]
[null,null,"D3856007","Artículos infantiles inflables de material plástico",1,{"$f":"ROW()","v":578},8,null,null,"2.1.3.01.02.004.03","Subsidios de aseo Comprende las erogaciones que realizan las entidades territoriales a empresas prestadoras de servicios públicos, para los subsidios en alcantarillado.",0,18]
[null,null,"D4299799","Artículos metálicos n.c.p. de mercería",1,{"$f":"ROW()","v":579},8,null,null,"2.1.3.01.02.004.04","Mínimo vital Corresponde a la erogación que realizan las entidades territoriales a las empresas de servicios públicos para otorgar 6 metros cúbicos de agua, sin costo, para los usuarios residenciales de los Estratos 1 y 2",0,18]
[null,null,"D4299707","Artículos metálicos para marroquinería",1,{"$f":"ROW()","v":580},{"$f":"LEN(C580)","v":8},null,null,"2.1.3.01.02.005","Transferencias para Empresas Sociales del Estado Son las transferencias que realizan las entidades de Gobierno Nacional o Territorial, que son recibidas por las empresas sociales del estado con el fin de prestar servicios de salud ejerciendo influencia en sus niveles de producción o en los precios de los bienes y servicios que estas producen o venden, sin la obligación de ser facturados y sin contraprestación por los recursos recibidos.",0,{"$f":"LEN(J580)","v":15}]
[null,null,"D3699065","Artículos moldeados de polivinilo",1,{"$f":"ROW()","v":581},8,null,null,"2.1.3.01.02.006","Estímulos a la producción cinematográfica y audiovisual Corresponde a los estímulos, incentivos y contraprestaciones que otorgan el Fondo Filmico Colombia y el Fondo de Desarrollo Cinematográfico a personas jurídicas públicas para la producción, coproducción de obras cinematográficas y audiovisuales.",0,15]
[null,null,"D3757012","Artículos moldeados para la contrucción en fibro - cemento (mezcla de cemento con fibras diferentes al asbesto), para la construcción",1,{"$f":"ROW()","v":582},8,null,null,"2.1.3.01.04.001","Transferencia a los proveedores de redes y servicios de telecomunicaciones Art 58 de Ley 1450 de 2011 Son las transferencias destinadas a promover a los proveedores de redes y servicios de telecomunicaciones fijas y móviles a ofrecer planes de internet de banda ancha social para usuarios pertenecientes a estratos socioeconómicos 1 y 2.",0,15]
[null,null,"D4299992","Artículos n.c.p. de alpaca",1,{"$f":"ROW()","v":583},8,null,null,"2.1.3.01.04.002","Programa de seguros para el sector exportador Transferencias por concepto de seguros para el sector exportador, derivados de los contratos interadministrativos que suscriban la Nación, a través del Ministerio de Hacienda y Crédito Público, y el Banco de Comercio Exterior, para atender las obligaciones con las entidades aseguradoras por concepto de pago de los siniestros derivados de los riesgos políticos y extraordinarios en los términos contractuales, así como los costos de las acciones judiciales o extrajudiciales para procurar el recobro de los montos pagados a los beneficiarios de las respectivas pólizas, a título de indemnización, sumas que serán reembolsadas junto con sus intereses con cargo al Presupuesto General de la Nación.",0,15]
[null,null,"D3792099","Artículos n.c.p. de asbesto",1,{"$f":"ROW()","v":584},8,null,null,"2.1.3.01.04.003","Incentivo a las inversiones en hidrocarburos y minería - certificado de reembolso tributario (CERT). Artículo 365 de la Ley 1819 de 2016",0,15]
[null,null,"D4695099","Artículos n.c.p. de carbón y grafito para uso eléctrico",1,{"$f":"ROW()","v":585},8,null,null,"2.1.3.01.04.004.01","Subsidios de acueducto Comprende las erogaciones que realizan las entidades territoriales a empresas prestadoras de servicios públicos, para los subsidios en acueducto.",0,18]
[null,null,"D3219997","Artículos n.c.p. de cartón y papel",1,{"$f":"ROW()","v":586},8,null,null,"2.1.3.01.04.004.02","Subsidios de alcantarillado Comprende las erogaciones que realizan las entidades territoriales a empresas prestadoras de servicios públicos, para los subsidios en aseo.",0,18]
[null,null,"D3627096","Artículos n.c.p. de caucho para farmacia y laboratorio",1,{"$f":"ROW()","v":587},8,null,null,"2.1.3.01.04.004.03","Subsidios de aseo Comprende las erogaciones que realizan las entidades territoriales a empresas prestadoras de servicios públicos, para los subsidios en alcantarillado.",0,18]
[null,null,"D2929099","Artículos n.c.p. de cuero",1,{"$f":"ROW()","v":588},8,null,null,"2.1.3.01.04.004.04","Mínimo vital Corresponde a la erogación que realizan las entidades territoriales a las empresas de servicios públicos para otorgar 6 metros cúbicos de agua, sin costo, para los usuarios residenciales de los Estratos 1 y 2",0,18]
[null,null,"D3843099","Artículos n.c.p. de deporte y atletismo",1,{"$f":"ROW()","v":589},8,null,null,"2.1.3.01.04.005","Transferencias a los Administradores de Infraestructura Pública Corresponde a los recursos de subsidios a la oferta, que son los recursos asignados para concurrir en la financiación de la operación de la prestación de servicios y tecnologías efectuadas por instituciones públicas o la infraestructura pública administrada por terceros, ubicadas en zonas alejadas o de difícil acceso que sean monopolio en servicios trazadores y no sostenibles por venta de servicios.",0,15]
[null,null,"D4299996","Artículos n.c.p. de estaño y sus aleaciones",1,{"$f":"ROW()","v":590},8,null,null,"2.1.3.01.04.006","Estímulos a la producción cinematográfica y audiovisual Corresponde a los estímulos, incentivos y contraprestaciones que otorgan el Fondo Filmico Colombia y el Fondo de Desarrollo Cinematográfico a personas naturales y jurídicas privadas para la producción y coproducción de obras cinematográficas y audiovisuales.",0,15]
[null,null,"D4299991","Artículos n.c.p. de ferretería y cerrajería",1,{"$f":"ROW()","v":591},8,null,null,"2.1.3.02.01.001","Campana y control antituberculosis Transferencias a Empresas Públicas departamentales dedicadas a actividades no financieras, en virtud de las Leyes 15 de 1925, y 84 de 1948, con el objeto de realizar campañas y controles antituberculosis.",0,15]
[null,null,"D3712999","Artículos n.c.p. de fibra y lana de vidrio",1,{"$f":"ROW()","v":592},8,null,null,"2.1.3.02.01.002","Plan nacional de salud rural Transferencias a Empresas Públicas departamentales dedicadas a actividades no financieras, en virtud de la Ley 100 de 1993, en la cual se remarca la prioridad de la atención de la población rural en servicios de salud, con el objeto de implementar el Plan para esta población específica.",0,15]
[null,null,"D2799199","Artículos n.c.p. de guata",1,{"$f":"ROW()","v":593},8,null,null,"2.1.3.02.01.003","Programa emergencia sanitaria Transferencias a Empresas Públicas departamentales dedicadas a actividades no financieras, en virtud de la Resolución 6 de 2011 del Ministerio de Agricultura y Desarrollo Rural, por medio de la cual se creó el Programa para la Atención de Emergencias Sanitarias y Fitosanitarias.",0,15]
[null,null,"D4219098","Artículos n.c.p. de lámina metálica para la construcción y la industria",1,{"$f":"ROW()","v":594},8,null,null,"2.1.3.02.01.004","Financiación de beneficiarios del régimen subsidiado en salud. Art 10 ley 1122 de 2007",0,15]
[null,null,"D3694099","Artículos n.c.p. de material plástico para el hogar",1,{"$f":"ROW()","v":595},8,null,null,"2.1.3.02.01.005","Transferencia al Instituto Nacional de Cancerología",0,15]
[null,null,"D3699099","Artículos n.c.p. de material plástico para farmacia y laboratorio",1,{"$f":"ROW()","v":596},8,null,null,"2.1.3.02.01.006","Transferencia al Sanatorio de Contratación",0,15]
[null,null,"D3699098","Artículos n.c.p. de material plástico para uso eléctrico",1,{"$f":"ROW()","v":597},8,null,null,"2.1.3.02.01.007","Transferencia al Sanatorio de Agua de Dios",0,15]
[null,null,"D3699097","Artículos n.c.p. de material plástico para uso industrial",1,{"$f":"ROW()","v":598},8,null,null,"2.1.3.02.01.008","Transferencia al Centro Dermatológico Federico Lleras Acosta",0,15]
[null,null,"D4299989","Artículos n.c.p. de metal moldeado",1,{"$f":"ROW()","v":599},8,null,null,"2.1.3.02.01.009","Financiamiento de gastos de administración, funcionamiento y operación de ADRES - Gestión General - artículo 66 de la Ley 1753 de 2015 Corresponde a los recursos que gira la unidad ejecuta Administración de recursos del SGSSS a la unidad de gestión general para el financiamiento y operación los cuáles serán hasta el 0,5% con situación de fondos, en marco del Artículo 66 de la Ley 1753 de 2015",0,15]
[null,null,"D3799099","Artículos n.c.p. de mica",1,{"$f":"ROW()","v":600},8,null,null,"2.1.3.02.01.010","Traslado de dividendos",0,15]
[null,null,"D4299993","Artículos n.c.p. de níquel y sus aleaciones",1,{"$f":"ROW()","v":601},8,null,null,"2.1.3.02.01.999","Transferencias a empresas del sector no clasificadas previamente",0,15]
[null,null,"D3219996","Artículos n.c.p. de papel para escritorio",1,{"$f":"ROW()","v":602},8,null,null,"2.1.3.02.02.001","Transferencias al sector agrícola y sector industrial para apoyo a la producción - Artículo 1 Ley 16/90 y artículo 1 Ley 101/93; Ley 795/03",0,15]
[null,null,"D3699096","Artículos n.c.p. de plástico espumado flexible",1,{"$f":"ROW()","v":603},8,null,null,"2.1.3.02.02.002","Traslado de dividendos",0,15]
[null,null,"D3699095","Artículos n.c.p. de plástico espumado rígido",1,{"$f":"ROW()","v":604},8,null,null,"2.1.3.02.02.999","Transferencias a empresas del sector no clasificadas previamente",0,15]
[null,null,"D3219999","Artículos n.c.p. de pulpa de papel o cartón",1,{"$f":"ROW()","v":605},8,null,null,"2.1.3.02.03.001","Subsidio liquidaciones Leyes 550 de 1999 y 1116 de 2006. Transferencias en virtud de la Ley 1116 2006, artículo 122, la cual estableció que aquellas liquidaciones en las cuales no existan recursos suficientes para atender gastos de archivo y remuneración de los liquidadores, sus honorarios serán subsidiados con el dinero proveniente de las contribuciones que sufragan las sociedades vigiladas por la Superintendencia de Sociedades.",0,15]
[null,null,"D3719399","Artículos n.c.p. de vidrio para adorno y decoración",1,{"$f":"ROW()","v":606},8,null,null,"2.1.3.02.03.002","Cruce de cuentas por concepto de obligaciones de los organismos y entidades del Gobierno Nacional con empresas de servicios públicos y entidades territoriales para el pago de servicios públicos, impuesto predial Transferencias en virtud del artículo 44 de la Ley 1737 del 2 de diciembre de 2014, y el artículo 48 del Decreto 2710 del 26 de diciembre de 2014, en los cuales se detallan las apropiaciones y se clasifican y definen los gastos para la vigencia del 1 de enero a 31 de diciembre de 2015, se establece que: en caso de que queden saldo en contra de la Nación con otros órganos públicos, esta podrá sufragarlos a través de títulos de deuda pública, sin que implique una operación presupuestal alguna.",0,15]
[null,null,"D3719999","Artículos n.c.p. de vidrio para uso industrial",1,{"$f":"ROW()","v":607},8,null,null,"2.1.3.02.03.003","Transferir a Colpensiones - costas judiciales antigua ISS Decreto 0553 de 2015 Transferencias conforme al decreto 0553 de 2015, por medio del cual se adoptan medidas con ocasión del cierre de la liquidación del Instituto de Seguros Sociales – ISSS en liquidación y se dictan otras disposiciones.",0,15]
[null,null,"D4299995","Artículos n.c.p. de zinc y sus aleaciones",1,{"$f":"ROW()","v":608},8,null,null,"2.1.3.02.03.004","Transferencia a Coljuegos",0,15]
[null,null,"D3757099","Artículos n.c.p. moldeados de asbesto-cemento",1,{"$f":"ROW()","v":609},8,null,null,"2.1.3.02.03.005","Traslado de dividendos",0,15]
[null,null,"D3899998","Artículos n.c.p. para escritorio y oficina",1,{"$f":"ROW()","v":610},8,null,null,"2.1.3.02.03.999","Transferencias a empresas del sector no clasificadas previamente",0,15]
[null,null,"D3899997","Artículos n.c.p. para protección",1,{"$f":"ROW()","v":611},8,null,null,"2.1.3.02.04.001","Fundación Colegio Mayor de San Bartolomé (Ley 72/83) Transferencias de la Nación a la la Fundación Colegio Mayor de San Bartolomé, en virtud de la Ley 72 de 1983. Este es un establecimiento de educación primaria y secundaria de la Compañía de Jesús, considerado el colegio más antiguo de Colombia, pues ha funcionado ininterrumpidamente desde 1604. La mencionada Ley autoriza al Gobierno Nacional para prorrogar hasta por el término de 90 años, contados a partir del 1 de enero de 1984, el contrato celebrado entre la Nación colombiana y la Fundación Colegio Mayor de San Bartolomé.",0,15]
[null,null,"D3899996","Artículos plásticos n.c.p. de mercería",1,{"$f":"ROW()","v":612},8,null,null,"2.1.3.02.04.002","Traslado de dividendos",0,15]
[null,null,"D3699070","Artículos plásticos para ganadería (aretes, destetadores y otros)",1,{"$f":"ROW()","v":613},8,null,null,"2.1.3.02.04.999","Transferencias a empresas del sector no clasificadas previamente",0,15]
[null,null,"D3699050","Artículos publicitarios de material plástico",1,{"$f":"ROW()","v":614},8,null,null,"2.1.3.02.05.001","Transferencia a FOGAFIN aval guardadores Ley 1306/09 Transferencias en el marco de la protección de personas con discapacidad mental y del régimen de la representación legal de incapaces emancipados en virtud de la Ley 1306 de 2009, la cual estipula que todos aquellos quienes ejerzan el cargo de guardador (aquel quien cuida a la persona con discapacidad mental y administra los bienes de esta) deberán contar con una póliza de seguros por el monto equivalente o mayor a lo que dispone el juez. En este sentido, cuando un guardador no tenga capacidad económica para otorgar las contragarantías exigidas por la entidad fiadora, ni inmuebles para hipotecar, el Juez con conocimiento de causa podrá relevarlo del cargo, pero si considera conveniente para el pupilo que el guardador asuma, el Fondo de Garantías de Instituciones Financieras (FOGAFIN) avalará al obligado, directamente o ante la entidad fiadora. El presente rubro corresponde a los recursos transferidos con el propósito de generar dicho tipo de aval.",0,15]
[null,null,"D3219399","Artículos sanitarios n.c.p. de papel",1,{"$f":"ROW()","v":615},8,null,null,"2.1.3.02.05.002","Transferencia a FOGAFIN para administración de negocios fiduciarios. Decreto 2555 de 2010 Transferencias en virtud del Decreto 2555 de 2010, en el cual se establece que cuando subsistan procesos o situaciones jurídicas no definidas, en razón de las cuales la liquidación del negocio fiduciario respectivo no se pueda realizar, este deberá ser entregado al Fondo de Garantías de Instituciones Financieras, FOGAFIN. Este podrá contratar con sociedades fiduciarias en funcionamiento la administración de los negocios fiduciarios que reciba. El presente rubro corresponde a los recursos transferidos con el objeto de hacer posible dicha administración.",0,15]
[null,null,"D3899920","Artículos varios de publicidad y propaganda",1,{"$f":"ROW()","v":616},8,null,null,"2.1.3.02.05.003","Transferencias a FOGAFIN, pasivos contingentes derivados de la venta de acciones Banco Popular y Banco de Colombia . art 31. Ley 35 de 1993, Decreto 2049 de 1993 y 1118 de 1995 Transferencia conforme a la Ley 35 de 1993; Decreto 2049 de 1993 y 1118 de 1995, por medio de los cuales se reglamenta y estableces las condiciones de la venta de acciones públicas que se realizan por instituciones financiera. La Nación o sus entidades descentralizadas podrán contratar con el Fondo de Garantías de Instituciones Financieras el avalúo, preparación del programa así como la orientación, administración o manejo de la enajenación de las acciones y bonos",0,15]
[null,null,"D3699058","Artículos y accesorios de material plástico para agricultura",1,{"$f":"ROW()","v":617},8,null,null,"2.1.3.02.05.004","Apertura y/u operación oficinas de la red social del Banco Agrario a nivel nacional. Ley 795 de 2003 Transferencias realizadas por la Nación, con objeto de financiar la apertura y/u operación de la Red Social del Banco Agrario a Nivel Nacional, en virtud del artículo 47 de la Ley 795 de 2003.",0,15]
[null,null,"D4299999","Artículos y utensilios n.c.p. estampados",1,{"$f":"ROW()","v":618},8,null,null,"2.1.3.02.05.005","Cubrimiento del riesgo del deslizamiento del salario mínimo - Decreto 036 de 2015 Transferencias que realiza la Nación a las aseguradoras para garantizar las pensiones mínimas ante el riesgo del \"delizamiento\" que presentan las pensiones de renta vitalicia inmediata y renta vitalicia diferida, en virtud del Decreto 036 de 2015.",0,15]
[null,null,"D0124202","Arveja desvainada",1,{"$f":"ROW()","v":619},8,null,null,"2.1.3.02.05.006","Traslado de dividendos Trasferencia de dividendos a favor de socios dedicados a actividades financieras y de seguros.",0,15]
[null,null,"D0170501","Arveja seca",1,{"$f":"ROW()","v":620},8,null,null,"2.1.3.02.05.007","Recursos a favor de Central de Inversiones S.A Corresponde a la transferencia que realiza CORMAGDALENA S.A, por concepto de la cartera que tiene a cargo la Central de Inversiones CISA entidad adscrita al ministerio de hacienda cedida por el Departamento Nacional de Planeación.",0,15]
[null,null,"D0124201","Arveja verde",1,{"$f":"ROW()","v":621},8,null,null,"2.1.3.02.05.999","Transferencias a empresas del sector no clasificadas previamente",0,15]
[null,null,"D2131201","Arvejas (guisantes, chícharos), incluso desvainadas, congeladas",1,{"$f":"ROW()","v":622},8,null,null,"2.1.3.02.06.001","Transferir al operador oficial de los servicios de franquicia postal y telegráfica Transferencias en virtud de la Ley 1369 de 2009, por medio de la cual se establece el régimen de los servicios postales y se dictan otras disposiciones, e indica que el Servicio Postal Universal prestado por el Operador Oficial o Concesionario de Correo se financiará con entre otros las apropiaciones incluidas en el Presupuesto General de la Nación de cada vigencia.",0,15]
[null,null,"D2139601","Arvejas en conserva",1,{"$f":"ROW()","v":623},8,null,null,"2.1.3.02.06.002","Transferencia para financiamiento del servicio postal universal",0,15]
[null,null,"D4481701","Asadores y parrillas eléctricos",1,{"$f":"ROW()","v":624},8,null,null,"2.1.3.02.06.003","Transferencia a RTVC y organizaciones regionales de televisión -Ley 14 de 1991 Corresponde a la transferencia corriente que realizan los organismos descentralizados a RTVC y las organizaciones regionales de televisión, con destino al auspicio, colaboración o patrocinio de la cadena tres o canal cultural y con destino a su programación cultural.",0,15]
[null,null,"D4451505","Asadores y parrillas industriales a gas",1,{"$f":"ROW()","v":625},8,null,null,"2.1.3.02.06.004","Traslado de dividendos",0,15]
[null,null,"D1639905","Asbesto o crisotilo",1,{"$f":"ROW()","v":626},8,null,null,"2.1.3.02.06.005","A Radio Televisión Nacional de Colombia (RTVC) artículo 45 Ley 1978 de 2019 Corresponde a la transferencia que realiza el Fondo Único de las Tecnologías de la Información y las Comunicaciones (FUTIC) a Radio Televisión Nacional de Colombia (RTVC) para la prestación del servicio y el fortalecimiento de la radio y la televisión pública nacional, la administración, operación y mantenimiento de la red pública nacional de la radio y la televisión, la migración de los medios públicos a las plataformas convergentes, la producción de contenidos y la recuperación de la memoria de la radio y la televisión pública. (Ley 1978 de 2019, artículo 45).",0,15]
[null,null,"D4354001","Ascensores",1,{"$f":"ROW()","v":627},8,null,null,"2.1.3.02.06.006","Transferencia para actividades complementarias a la producción cinematográfica Corresponde a las transferencias que realiza el Fondo de Desarrollo Cinematográfico para la concesión de estímulos directos, encaminados a promover el cine colombiano, distintos a los destinados a la producción, tales como formación, promoción, fortalecimiento del patrimonio fílmico, investigación, divulgación y acceso, protección al derecho de autor.",0,15]
[null,null,"D3525005","Ascorbato de bismuto",1,{"$f":"ROW()","v":628},8,null,null,"2.1.3.02.06.999","Transferencias a empresas del sector no clasificadas previamente",0,15]
[null,null,"D3525001","Ascorbato de sodio",1,{"$f":"ROW()","v":629},8,null,null,"2.1.3.02.07.001","Fortalecimiento organizacional de las entidades religiosas y las organizaciones basadas en la fe como actores sociales trascendentes en el marco de la Ley 133 de 1994 Transferencia conforme a la Ley 133 de 1994 en la cual se establece que el Estado reconoce la diversidad de creencias religiosas, así como, el derecho a la libertad religiosa y de cultos, entre otros.",0,15]
[null,null,"D3928101","Aserrín y virutas de madera",1,{"$f":"ROW()","v":630},8,null,null,"2.1.3.02.07.002","Apoyo para el fomento al empleo Corresponde a los pagos que se realizan por concepto de apoyos reconocidos a personas jurídicas, naturales, consorcios, uniones temporales, patrimonios autónomos y cooperativas que demuestren su calidad de empleadores mediante la Planilla Integrada de Liquidación de Aportes - Pila. Dicho apoyo está determinado en una cuantía equivalente al 25% de un (1) salario mínimo legal mensual vigente (SMMLV) por trabajadores adicionales entre los 18 y 28 años de edad vinculados en la vigencia 2021, el cual se hará efectivo durante 12 periodos y será ejecutado dentro de las vigencias fiscales 2021 y 2022 en virtud de las disposiciones del Decreto 688 de 2021",0,15]
[null,null,"D3350006","Asfalto líquido",1,{"$f":"ROW()","v":631},8,null,null,"2.1.3.02.07.003","Traslado de dividendos",0,15]
[null,null,"D1533001","Asfalto natural o asfaltitas",1,{"$f":"ROW()","v":632},8,null,null,"2.1.3.02.07.999","Transferencias a empresas del sector no clasificadas previamente",0,15]
[null,null,"D3350005","Asfalto sólido",1,{"$f":"ROW()","v":633},8,null,null,"2.1.3.02.08.001","Transferencia a Artesanías de Colombia S.A.",0,15]
[null,null,"D3811219","Asientos de madera para sanitarios",1,{"$f":"ROW()","v":634},8,null,null,"2.1.3.02.08.002","Traslado de dividendos",0,15]
[null,null,"D3693002","Asientos de material plástico para sanitarios",1,{"$f":"ROW()","v":635},8,null,null,"2.1.3.02.08.999","Transferencias a empresas del sector no clasificadas previamente",0,15]
[null,null,"D3811303","Asientos de material plástico para vehículos de transporte de pasajeros",1,{"$f":"ROW()","v":636},8,null,null,"2.1.3.02.09.001","Transferencia a la Corporación Autónoma Regional del Rio Grande de la Magdalena - CORMAGDALENA Transferencias para garantizar el funcionamiento de la Corporación Autónoma Regional del Rio Grande de la Magdalena conforme al Art. 17 de la Ley 161 de 1997. La Corte Constitucional ha señalado que la naturaleza jurídica de la CAR hace que no sea del sector central, ni sector desentralizado por servicios ni una entidad territorial. Son entidades administrativas del orden nacional. Adicionalmnete, En la definición de la naturaleza jurídica de la CAR del rio grande de la Magdalena, se afirma que esta funciona como EICE sometida a las reglas de las sociedades anónimas, de conformidad con el artículo 1 de la Ley 161 de 1994. Por tal razón, el tratamiento de esta CAR en este concepto es el de una empresa pública no financiera.",0,15]
[null,null,"D3811301","Asientos sin tapizar para automotores",1,{"$f":"ROW()","v":637},8,null,null,"2.1.3.02.09.002","Traslado de dividendos",0,15]
[null,null,"D3811302","Asientos tapizados para automotores",1,{"$f":"ROW()","v":638},8,null,null,"2.1.3.02.09.999","Transferencias a empresas del sector no clasificadas previamente",0,15]
[null,null,"D0213201","Asnos",1,{"$f":"ROW()","v":639},8,null,null,"2.1.3.02.10.001","Traslado de dividendos Trasferencia en virtud de los beneficios generados por una empresa, a favor de socios dedicados a el suministro de electricidad, gas, vapor y aire acondicionado.",0,15]
[null,null,"D3522014","Aspartil fenilalanina éster metílico (aspartame)",1,{"$f":"ROW()","v":640},8,null,null,"2.1.3.02.10.999","Transferencias a empresas del sector no clasificadas previamente",0,15]
[null,null,"D4415004","Aspersores y rociadores de material plástico para riego",1,{"$f":"ROW()","v":641},8,null,null,"2.1.3.02.11.001","Traslado de dividendos",0,15]
[null,null,"D4481609","Aspiradoras eléctricas domésticas",1,{"$f":"ROW()","v":642},8,null,null,"2.1.3.02.11.999","Transferencias a empresas del sector no clasificadas previamente",0,15]
[null,null,"D4491903","Aspiradoras eléctricas industriales y semindustriales",1,{"$f":"ROW()","v":643},8,null,null,"2.1.3.02.12.001","Traslado de dividendos",0,15]
[null,null,"D3899914","Ataúdes",1,{"$f":"ROW()","v":644},{"$f":"LEN(C644)","v":8},null,null,"2.1.3.02.12.999","Transferencias a empresas del sector no clasificadas previamente",0,{"$f":"LEN(J644)","v":15}]
[null,null,"D3222003","Atlas y libros similares de mapas o cartas geográficas, impresas",1,{"$f":"ROW()","v":645},8,null,null,"2.1.3.02.13.001","Traslado de dividendos",0,15]
[null,null,"D3899408","Atomizadores manuales",1,{"$f":"ROW()","v":646},8,null,null,"2.1.3.02.13.999","Transferencias a empresas del sector no clasificadas previamente",0,15]
[null,null,"D4392301","Atomizadores para uso industrial",1,{"$f":"ROW()","v":647},8,null,null,"2.1.3.02.14.001","Traslado de dividendos",0,15]
[null,null,"D3525042","Atropina y sus sales",1,{"$f":"ROW()","v":648},8,null,null,"2.1.3.02.14.999","Transferencias a empresas del sector no clasificadas previamente no clasificadas previamente",0,15]
[null,null,"D2124204","Atún empacado al vacío",1,{"$f":"ROW()","v":649},8,null,null,"2.1.3.02.15.001","Traslado de dividendos",0,15]
[null,null,"D2124201","Atún enlatado",1,{"$f":"ROW()","v":650},8,null,null,"2.1.3.02.15.999","Transferencias a empresas del sector no clasificadas previamente",0,15]
[null,null,"D0425101","Atunes, frescos o refrigerados",1,{"$f":"ROW()","v":651},8,null,null,"2.1.3.02.16.001","Traslado de dividendos",0,15]
[null,null,"D4733005","Audífonos distintos a los de uso médico",1,{"$f":"ROW()","v":652},8,null,null,"2.1.3.02.16.999","Transferencias a empresas del sector no clasificadas previamente",0,15]
[null,null,"D4817202","Audífonos para limitados tipo acústico",1,{"$f":"ROW()","v":653},8,null,null,"2.1.3.02.17.001","Traslado de dividendos",0,15]
[null,null,"D4911203","Autobús articulado",1,{"$f":"ROW()","v":654},8,null,null,"2.1.3.02.17.999","Transferencias a empresas del sector no clasificadas previamente",0,15]
[null,null,"D4911202","Autobuses",1,{"$f":"ROW()","v":655},8,null,null,"2.1.3.02.18.001","Traslado de dividendos",0,15]
[null,null,"D4911301","Automóviles",1,{"$f":"ROW()","v":656},8,null,null,"2.1.3.02.18.999","Transferencias a empresas del sector no clasificadas previamente",0,15]
[null,null,"D0117201","Avena en grano",1,{"$f":"ROW()","v":657},8,null,null,"2.1.3.03.02.001.01","Membresías",0,18]
[null,null,"D2229005","Avena pasteurizada o ultrapasteurizada",1,{"$f":"ROW()","v":658},8,null,null,"2.1.3.03.02.001.02","Distintas a membresías",0,18]
[null,null,"D2314003","Avena prensada",1,{"$f":"ROW()","v":659},8,null,null,"2.1.3.03.02.002.01","Membresías",0,18]
[null,null,"D4412803","Aventadoras agrícolas",1,{"$f":"ROW()","v":660},8,null,null,"2.1.3.03.02.002.02","Distintas a membresías",0,18]
[null,null,"D0219301","Avestruces",1,{"$f":"ROW()","v":661},8,null,null,"2.1.3.03.02.003.01","Membresías",0,18]
[null,null,"D4962201","Avionetas",1,{"$f":"ROW()","v":662},8,null,null,"2.1.3.03.02.003.02","Distintas a membresías",0,18]
[null,null,"D3262005","Avisos de material plástico",1,{"$f":"ROW()","v":663},8,null,null,"2.1.3.03.02.004.01","Membresías",0,18]
[null,null,"D4653103","Avisos luminosos",1,{"$f":"ROW()","v":664},8,null,null,"2.1.3.03.02.004.02","Distintas a membresías",0,18]
[null,null,"D4292106","Azadones",1,{"$f":"ROW()","v":665},8,null,null,"2.1.3.03.02.005.01","Membresías",0,18]
[null,null,"D3416019","Azatadina",1,{"$f":"ROW()","v":666},8,null,null,"2.1.3.03.02.005.02","Distintas a membresías",0,18]
[null,null,"D3525077","Azitromicina",1,{"$f":"ROW()","v":667},8,null,null,"2.1.3.03.02.006.01","Membresías",0,18]
[null,null,"D2352005","Azúcar con adición de edulcorantes",1,{"$f":"ROW()","v":668},8,null,null,"2.1.3.03.02.006.02","Distintas a membresías",0,18]
[null,null,"D2351101","Azúcar cruda",1,{"$f":"ROW()","v":669},8,null,null,"2.1.3.03.02.007.01","Membresías",0,18]
[null,null,"D2352002","Azúcar en cubos",1,{"$f":"ROW()","v":670},8,null,null,"2.1.3.03.02.007.02","Distintas a membresías",0,18]
[null,null,"D2352003","Azúcar pulverizada",1,{"$f":"ROW()","v":671},8,null,null,"2.1.3.03.02.008.01","Membresías",0,18]
[null,null,"D2352001","Azúcar refinada",1,{"$f":"ROW()","v":672},8,null,null,"2.1.3.03.02.008.02","Distintas a membresías",0,18]
[null,null,"D2352006","Azúcar sulfitada",1,{"$f":"ROW()","v":673},8,null,null,"2.1.3.03.02.009.01","Membresías",0,18]
[null,null,"D3452102","Azufre petroquímico",1,{"$f":"ROW()","v":674},8,null,null,"2.1.3.03.02.009.02","Distintas a membresías",0,18]
[null,null,"D3452101","Azufre pulverizado, micropulverizado o micronizado",1,{"$f":"ROW()","v":675},8,null,null,"2.1.3.03.02.010.01","Membresías",0,18]
[null,null,"D3431001","Azul de metileno",1,{"$f":"ROW()","v":676},8,null,null,"2.1.3.03.02.010.02","Distintas a membresías",0,18]
[null,null,"D3434001","Azul de Prusia",1,{"$f":"ROW()","v":677},8,null,null,"2.1.3.03.02.011.01","Membresías",0,18]
[null,null,"D3434002","Azul de ultramar",1,{"$f":"ROW()","v":678},8,null,null,"2.1.3.03.02.011.02","Distintas a membresías",0,18]
[null,null,"D3737001","Azulejos y baldosas de porcelana",1,{"$f":"ROW()","v":679},8,null,null,"2.1.3.03.02.012.01","Membresías",0,18]
[null,null,"D0131915","Babaco, chamburo",1,{"$f":"ROW()","v":680},8,null,null,"2.1.3.03.02.012.02","Distintas a membresías",0,18]
[null,null,"D0424102","Bacalao, fresco o refrigerado",1,{"$f":"ROW()","v":681},8,null,null,"2.1.3.03.02.013.01","Membresías",0,18]
[null,null,"D3525065","Bacitracina",1,{"$f":"ROW()","v":682},8,null,null,"2.1.3.03.02.013.02","Distintas a membresías",0,18]
[null,null,"D3466402","Bactericidas, microbicidas y productos similares",1,{"$f":"ROW()","v":683},8,null,null,"2.1.3.03.02.014.01","Membresías",0,18]
[null,null,"D0131908","Badea",1,{"$f":"ROW()","v":684},8,null,null,"2.1.3.03.02.014.02","Distintas a membresías",0,18]
[null,null,"D4733003","Bafles",1,{"$f":"ROW()","v":685},8,null,null,"2.1.3.03.02.015.01","Membresías",0,18]
[null,null,"D3914101","Bagazo de caña",1,{"$f":"ROW()","v":686},8,null,null,"2.1.3.03.02.015.02","Distintas a membresías",0,18]
[null,null,"D0429106","Bagres marinos, frescos o refrigerados",1,{"$f":"ROW()","v":687},8,null,null,"2.1.3.03.02.016.01","Membresías",0,18]
[null,null,"D0421210","Bagres, de cultivo, frescos o refrigerados",1,{"$f":"ROW()","v":688},8,null,null,"2.1.3.03.02.016.02","Distintas a membresías",0,18]
[null,null,"D0421101","Bagres, frescos o refrigerados",1,{"$f":"ROW()","v":689},8,null,null,"2.1.3.03.02.017.01","Membresías",0,18]
[null,null,"D0421206","Bagres, vivos",1,{"$f":"ROW()","v":690},8,null,null,"2.1.3.03.02.017.02","Distintas a membresías",0,18]
[null,null,"D4392202","Balanzas",1,{"$f":"ROW()","v":691},8,null,null,"2.1.3.03.02.018.01","Membresías",0,18]
[null,null,"D4823199","Balanzas de precisión n.c.p.",1,{"$f":"ROW()","v":692},8,null,null,"2.1.3.03.02.018.02","Distintas a membresías",0,18]
[null,null,"D4823101","Balanzas de precisión para laboratorios",1,{"$f":"ROW()","v":693},8,null,null,"2.1.3.03.02.019.01","Membresías",0,18]
[null,null,"D4612202","Balastos",1,{"$f":"ROW()","v":694},8,null,null,"2.1.3.03.02.019.02","Distintas a membresías",0,18]
[null,null,"D4291214","Baldes esmaltados para cocina",1,{"$f":"ROW()","v":695},8,null,null,"2.1.3.03.02.020.01","Membresías",0,18]
[null,null,"D4291238","Baldes metálicos",1,{"$f":"ROW()","v":696},8,null,null,"2.1.3.03.02.020.02","Distintas a membresías",0,18]
[null,null,"D3754004","Baldosa de cemento",1,{"$f":"ROW()","v":697},8,null,null,"2.1.3.03.02.021.01","Membresías",0,18]
[null,null,"D3754005","Baldosa de granito-mármol aglomerado",1,{"$f":"ROW()","v":698},8,null,null,"2.1.3.03.02.021.02","Distintas a membresías",0,18]
[null,null,"D3737005","Baldosa de gres",1,{"$f":"ROW()","v":699},8,null,null,"2.1.3.03.02.022.01","Membresías",0,18]
[null,null,"D3732002","Baldosa refractaria",1,{"$f":"ROW()","v":700},8,null,null,"2.1.3.03.02.022.02","Distintas a membresías",0,18]
[null,null,"D3622007","Baldosas de caucho",1,{"$f":"ROW()","v":701},8,null,null,"2.1.3.03.02.023.01","Membresías",0,18]
[null,null,"D3712915","Baldosas de lana de vidrio",1,{"$f":"ROW()","v":702},8,null,null,"2.1.3.03.02.023.02","Distintas a membresías",0,18]
[null,null,"D3711701","Baldosas de vidrio",1,{"$f":"ROW()","v":703},8,null,null,"2.1.3.03.02.024.01","Membresías",0,18]
[null,null,"D3160001","Baldosas en madera aglomerada",1,{"$f":"ROW()","v":704},8,null,null,"2.1.3.03.02.024.02","Distintas a membresías",0,18]
[null,null,"D3691003","Baldosas para pisos de asbesto vinilo",1,{"$f":"ROW()","v":705},8,null,null,"2.1.3.03.02.025.01","Membresías",0,18]
[null,null,"D3844002","Balones de caucho (baloncesto, voleibol)",1,{"$f":"ROW()","v":706},8,null,null,"2.1.3.03.02.025.02","Distintas a membresías",0,18]
[null,null,"D3844014","Balones de cuero",1,{"$f":"ROW()","v":707},8,null,null,"2.1.3.03.02.026.01","Membresías",0,18]
[null,null,"D3844008","Balones de fútbol",1,{"$f":"ROW()","v":708},{"$f":"LEN(C708)","v":8},null,null,"2.1.3.03.02.026.02","Distintas a membresías",0,{"$f":"LEN(J708)","v":18}]
[null,null,"D4939001","Balsas",1,{"$f":"ROW()","v":709},8,null,null,"2.1.3.03.02.027.01","Membresías",0,18]
[null,null,"D0325006","Bambú",1,{"$f":"ROW()","v":710},8,null,null,"2.1.3.03.02.027.02","Distintas a membresías",0,18]
[null,null,"D0131201","Banano",1,{"$f":"ROW()","v":711},8,null,null,"2.1.3.03.02.028.01","Membresías",0,18]
[null,null,"D2141902","Bananos pasos (secos)",1,{"$f":"ROW()","v":712},8,null,null,"2.1.3.03.02.028.02","Distintas a membresías",0,18]
[null,null,"D3843007","Bancas profesionales para gimnasia",1,{"$f":"ROW()","v":713},8,null,null,"2.1.3.03.02.029.01","Membresías",0,18]
[null,null,"D3811215","Bancos de madera para iglesias",1,{"$f":"ROW()","v":714},8,null,null,"2.1.3.03.02.029.02","Distintas a membresías",0,18]
[null,null,"D3811903","Bancos para camping",1,{"$f":"ROW()","v":715},8,null,null,"2.1.3.03.02.030.01","Membresías",0,18]
[null,null,"D3611402","Bandas blancas para llantas",1,{"$f":"ROW()","v":716},8,null,null,"2.1.3.03.02.030.02","Distintas a membresías",0,18]
[null,null,"D3792005","Bandas de asbesto para frenos y embargues",1,{"$f":"ROW()","v":717},8,null,null,"2.1.3.03.02.031.01","Membresías",0,18]
[null,null,"D3611502","Bandas de caucho para reencauche de llantas",1,{"$f":"ROW()","v":718},8,null,null,"2.1.3.03.02.031.02","Distintas a membresías",0,18]
[null,null,"D3699011","Bandas plásticas de transmisión",1,{"$f":"ROW()","v":719},8,null,null,"2.1.3.03.02.032.01","Membresías",0,18]
[null,null,"D3624002","Bandas transportadoras de caucho",1,{"$f":"ROW()","v":720},8,null,null,"2.1.3.03.02.032.02","Distintas a membresías",0,18]
[null,null,"D2929001","Bandas transportadoras de cuero",1,{"$f":"ROW()","v":721},8,null,null,"2.1.3.03.02.033.01","Membresías",0,18]
[null,null,"D4355003","Bandas transportadoras metálicas",1,{"$f":"ROW()","v":722},8,null,null,"2.1.3.03.02.033.02","Distintas a membresías",0,18]
[null,null,"D3824008","Bandejas y similares de plata",1,{"$f":"ROW()","v":723},8,null,null,"2.1.3.03.02.034.01","Membresías",0,18]
[null,null,"D3844013","Banderillas",1,{"$f":"ROW()","v":724},8,null,null,"2.1.3.03.02.034.02","Distintas a membresías",0,18]
[null,null,"D2791111","Banderines y similares",1,{"$f":"ROW()","v":725},8,null,null,"2.1.3.03.02.035.01","Membresías",0,18]
[null,null,"D3622004","Banditas de caucho",1,{"$f":"ROW()","v":726},8,null,null,"2.1.3.03.02.035.02","Distintas a membresías",0,18]
[null,null,"D3832004","Bandolas",1,{"$f":"ROW()","v":727},8,null,null,"2.1.3.03.02.036.01","Membresías",0,18]
[null,null,"D3479022","Baquelita",1,{"$f":"ROW()","v":728},8,null,null,"2.1.3.03.02.036.02","Distintas a membresías",0,18]
[null,null,"D3160010","Barandas de madera",1,{"$f":"ROW()","v":729},8,null,null,"2.1.3.03.02.037.01","Membresías",0,18]
[null,null,"D0429122","Barbeta, fresca o refrigerada",1,{"$f":"ROW()","v":730},8,null,null,"2.1.3.03.02.037.02","Distintas a membresías",0,18]
[null,null,"D4931401","Barcos de carga",1,{"$f":"ROW()","v":731},8,null,null,"2.1.3.03.02.038.01","Membresías",0,18]
[null,null,"D4931101","Barcos de pasajeros",1,{"$f":"ROW()","v":732},8,null,null,"2.1.3.03.02.038.02","Distintas a membresías",0,18]
[null,null,"D3423103","Bario",1,{"$f":"ROW()","v":733},8,null,null,"2.1.3.03.02.039.01","Membresías",0,18]
[null,null,"D1619101","Barita elaborada",1,{"$f":"ROW()","v":734},8,null,null,"2.1.3.03.02.039.02","Distintas a membresías",0,18]
[null,null,"D3511017","Barnices de sobreimpresión",1,{"$f":"ROW()","v":735},8,null,null,"2.1.3.03.02.040.01","Membresías",0,18]
[null,null,"D3511002","Barnices de todo tipo",1,{"$f":"ROW()","v":736},8,null,null,"2.1.3.03.02.040.02","Distintas a membresías",0,18]
[null,null,"D2342006","Barquillos",1,{"$f":"ROW()","v":737},8,null,null,"2.1.3.03.02.041.01","Membresías",0,18]
[null,null,"D0429112","Barracudas-picúas o picudas, frescas o refrigeradas",1,{"$f":"ROW()","v":738},8,null,null,"2.1.3.03.02.041.02","Distintas a membresías",0,18]
[null,null,"D3899921","Barras especiales para ionizar",1,{"$f":"ROW()","v":739},8,null,null,"2.1.3.03.02.042.01","Membresías",0,18]
[null,null,"D3843004","Barras fijas para gimnasia",1,{"$f":"ROW()","v":740},8,null,null,"2.1.3.03.02.042.02","Distintas a membresías",0,18]
[null,null,"D4292108","Barras para agricultura",1,{"$f":"ROW()","v":741},8,null,null,"2.1.3.03.02.043.01","Membresías",0,18]
[null,null,"D3843005","Barras paralelas para gimnasia",1,{"$f":"ROW()","v":742},8,null,null,"2.1.3.03.02.043.02","Distintas a membresías",0,18]
[null,null,"D4124401","Barras simplemente laminadas o extruidas en caliente, de sección circular",1,{"$f":"ROW()","v":743},8,null,null,"2.1.3.03.02.044.01","Membresías",0,18]
[null,null,"D4151204","Barras y perfiles de bronce",1,{"$f":"ROW()","v":744},8,null,null,"2.1.3.03.02.044.02","Distintas a membresías",0,18]
[null,null,"D4126501","Barras y varillas de aceros especiales",1,{"$f":"ROW()","v":745},8,null,null,"2.1.3.03.02.045.01","Membresías",0,18]
[null,null,"D4153202","Barras y varillas de aluminio",1,{"$f":"ROW()","v":746},8,null,null,"2.1.3.03.02.045.02","Distintas a membresías",0,18]
[null,null,"D3622006","Barras y varillas de caucho",1,{"$f":"ROW()","v":747},8,null,null,"2.1.3.03.02.046.01","Membresías",0,18]
[null,null,"D4151202","Barras y varillas de cobre",1,{"$f":"ROW()","v":748},8,null,null,"2.1.3.03.02.046.02","Distintas a membresías",0,18]
[null,null,"D4154701","Barras y varillas de estaño",1,{"$f":"ROW()","v":749},8,null,null,"2.1.3.03.02.047.01","Membresías",0,18]
[null,null,"D4124201","Barras y varillas de hierro o acero de sección circular, laminadas en caliente",1,{"$f":"ROW()","v":750},8,null,null,"2.1.3.03.02.047.02","Distintas a membresías",0,18]
[null,null,"D4126101","Barras y varillas de hierro o acero de sección circular, laminadas en frío",1,{"$f":"ROW()","v":751},8,null,null,"2.1.3.03.02.048.01","Membresías",0,18]
[null,null,"D4124202","Barras y varillas de hierro o acero de sección cuadrada, hexagonal, laminadas en caliente",1,{"$f":"ROW()","v":752},8,null,null,"2.1.3.03.02.048.02","Distintas a membresías",0,18]
[null,null,"D4126102","Barras y varillas de hierro o acero de sección cuadrada, hexagonal, laminadas en frío",1,{"$f":"ROW()","v":753},8,null,null,"2.1.3.03.02.049.01","Membresías",0,18]
[null,null,"D4124203","Barras y varillas de hierro o acero laminadas en caliente, de forma estriada",1,{"$f":"ROW()","v":754},8,null,null,"2.1.3.03.02.049.02","Distintas a membresías",0,18]
[null,null,"D4126103","Barras y varillas de hierro o acero laminadas en frío, deformadas o estriadas",1,{"$f":"ROW()","v":755},8,null,null,"2.1.3.03.02.050.01","Membresías",0,18]
[null,null,"D4151207","Barras y varillas de latón - sección circular",1,{"$f":"ROW()","v":756},8,null,null,"2.1.3.03.02.050.02","Distintas a membresías",0,18]
[null,null,"D4151217","Barras y varillas de latón – sección cuadrada o hexagonal",1,{"$f":"ROW()","v":757},8,null,null,"2.1.3.03.02.051.01","Membresías",0,18]
[null,null,"D4152201","Barras y varillas de níquel",1,{"$f":"ROW()","v":758},8,null,null,"2.1.3.03.02.051.02","Distintas a membresías",0,18]
[null,null,"D4154101","Barras y varillas de plomo",1,{"$f":"ROW()","v":759},8,null,null,"2.1.3.03.02.052.01","Membresías",0,18]
[null,null,"D4160203","Barras y varillas de titanio",1,{"$f":"ROW()","v":760},8,null,null,"2.1.3.03.02.052.02","Distintas a membresías",0,18]
[null,null,"D4154501","Barras y varillas de zinc",1,{"$f":"ROW()","v":761},8,null,null,"2.1.3.03.02.053.01","Membresías",0,18]
[null,null,"D4292109","Barretones",1,{"$f":"ROW()","v":762},8,null,null,"2.1.3.03.02.053.02","Distintas a membresías",0,18]
[null,null,"D3170007","Barriles de madera",1,{"$f":"ROW()","v":763},8,null,null,"2.1.3.03.02.054.01","Membresías",0,18]
[null,null,"D4293114","Barriles y recipientes similares, metálicos",1,{"$f":"ROW()","v":764},8,null,null,"2.1.3.03.02.054.02","Distintas a membresías",0,18]
[null,null,"D4392201","Básculas industriales",1,{"$f":"ROW()","v":765},8,null,null,"2.1.3.03.02.055.01","Membresías",0,18]
[null,null,"D4392299","Básculas n.c.p.",1,{"$f":"ROW()","v":766},8,null,null,"2.1.3.03.02.055.02","Distintas a membresías",0,18]
[null,null,"D4392204","Básculas para alto tonelaje",1,{"$f":"ROW()","v":767},8,null,null,"2.1.3.03.02.056.01","Membresías",0,18]
[null,null,"D3440004","Base para chicle",1,{"$f":"ROW()","v":768},8,null,null,"2.1.3.03.02.056.02","Distintas a membresías",0,18]
[null,null,"D2399914","Base para helado-mix helado",1,{"$f":"ROW()","v":769},8,null,null,"2.1.3.03.02.057.01","Membresías",0,18]
[null,null,"D3466602","Base para raticidas (Bromadiolona)",1,{"$f":"ROW()","v":770},8,null,null,"2.1.3.03.02.057.02","Distintas a membresías",0,18]
[null,null,"D3729903","Bases en cerámica o porcelana para lámparas y pantallas",1,{"$f":"ROW()","v":771},8,null,null,"2.1.3.03.02.058.01","Membresías",0,18]
[null,null,"D3699044","Bases en filamentos de plástico para instalación de alfombras",1,{"$f":"ROW()","v":772},{"$f":"LEN(C772)","v":8},null,null,"2.1.3.03.02.058.02","Distintas a membresías",0,{"$f":"LEN(J772)","v":18}]
[null,null,"D3816003","Bases giratorias para muebles",1,{"$f":"ROW()","v":773},8,null,null,"2.1.3.03.02.059.01","Membresías",0,18]
[null,null,"D3814006","Bases metálicas para somieres",1,{"$f":"ROW()","v":774},8,null,null,"2.1.3.03.02.059.02","Distintas a membresías",0,18]
[null,null,"D4299931","Bases metálicas y soportes para electrodomésticos",1,{"$f":"ROW()","v":775},8,null,null,"2.1.3.03.02.060.01","Membresías",0,18]
[null,null,"D3339002","Bases nafténicas",1,{"$f":"ROW()","v":776},8,null,null,"2.1.3.03.02.060.02","Distintas a membresías",0,18]
[null,null,"D3465903","Bases para abonos y fertilizantes (Wuxal)",1,{"$f":"ROW()","v":777},8,null,null,"2.1.3.03.02.061.01","Membresías",0,18]
[null,null,"D4733007","Bases para micrófonos",1,{"$f":"ROW()","v":778},8,null,null,"2.1.3.03.02.061.02","Distintas a membresías",0,18]
[null,null,"D3532325","Bases para preparación de esmalte manicura",1,{"$f":"ROW()","v":779},8,null,null,"2.1.3.03.02.062.01","Membresías",0,18]
[null,null,"D3466111","Bases para preparación de insecticidas, fungicidas y herbicidas",1,{"$f":"ROW()","v":780},8,null,null,"2.1.3.03.02.062.02","Distintas a membresías",0,18]
[null,null,"D3527005","Bases para preparación de vacunas",1,{"$f":"ROW()","v":781},8,null,null,"2.1.3.03.02.063.01","Membresías",0,18]
[null,null,"D3339001","Bases parafínicas",1,{"$f":"ROW()","v":782},8,null,null,"2.1.3.03.02.063.02","Distintas a membresías",0,18]
[null,null,"D3339010","Bases pesadas para la producción de \"IFO\" (Intermediate Fuel Oils)",1,{"$f":"ROW()","v":783},8,null,null,"2.1.3.03.02.064.01","Membresías",0,18]
[null,null,"D3699068","Bases plásticas con rodachines",1,{"$f":"ROW()","v":784},8,null,null,"2.1.3.03.02.064.02","Distintas a membresías",0,18]
[null,null,"D3511025","Bases serigráficas",1,{"$f":"ROW()","v":785},8,null,null,"2.1.3.03.02.065.01","Membresías",0,18]
[null,null,"D3511029","Bases y masillas",1,{"$f":"ROW()","v":786},8,null,null,"2.1.3.03.02.065.02","Distintas a membresías",0,18]
[null,null,"D3511004","Bases y pinturas anticorrosivas",1,{"$f":"ROW()","v":787},8,null,null,"2.1.3.03.02.066.01","Membresías",0,18]
[null,null,"D3712906","Bases y/o tapas en fibra de vidrio para mesas",1,{"$f":"ROW()","v":788},8,null,null,"2.1.3.03.02.066.02","Distintas a membresías",0,18]
[null,null,"D3191402","Bastidores de madera",1,{"$f":"ROW()","v":789},8,null,null,"2.1.3.03.02.067.01","Membresías",0,18]
[null,null,"D4212004","Bastidores metálicos",1,{"$f":"ROW()","v":790},8,null,null,"2.1.3.03.02.067.02","Distintas a membresías",0,18]
[null,null,"D4912944","Bastidores metálicos para chasises de vehículos automotores",1,{"$f":"ROW()","v":791},8,null,null,"2.1.3.03.02.068.01","Membresías",0,18]
[null,null,"D3814050","Bastidores metálicos para muebles armables",1,{"$f":"ROW()","v":792},8,null,null,"2.1.3.03.02.068.02","Distintas a membresías",0,18]
[null,null,"D3892104","Bastones",1,{"$f":"ROW()","v":793},8,null,null,"2.1.3.03.02.069.01","Membresías",0,18]
[null,null,"D2823205","Batas de casa y baño para hombre",1,{"$f":"ROW()","v":794},8,null,null,"2.1.3.03.02.069.02","Distintas a membresías",0,18]
[null,null,"D2823413","Batas de casa y baño para mujer",1,{"$f":"ROW()","v":795},8,null,null,"2.1.3.03.02.070.01","Membresías",0,18]
[null,null,"D2823414","Batas de casa y baño para niña",1,{"$f":"ROW()","v":796},8,null,null,"2.1.3.03.02.070.02","Distintas a membresías",0,18]
[null,null,"D2823206","Batas de casa y baño para niño",1,{"$f":"ROW()","v":797},8,null,null,"2.1.3.03.02.071.01","Membresías",0,18]
[null,null,"D0153001","Batatas",1,{"$f":"ROW()","v":798},8,null,null,"2.1.3.03.02.071.02","Distintas a membresías",0,18]
[null,null,"D4641003","Baterías de pilas",1,{"$f":"ROW()","v":799},8,null,null,"2.1.3.03.02.072.01","Membresías",0,18]
[null,null,"D4641004","Baterías para automotores",1,{"$f":"ROW()","v":800},8,null,null,"2.1.3.03.02.072.02","Distintas a membresías",0,18]
[null,null,"D4641006","Baterías para motocicletas",1,{"$f":"ROW()","v":801},8,null,null,"2.1.3.03.02.073.01","Membresías",0,18]
[null,null,"D3938001","Baterías usadas",1,{"$f":"ROW()","v":802},8,null,null,"2.1.3.03.02.073.02","Distintas a membresías",0,18]
[null,null,"D3844006","Bates para béisbol",1,{"$f":"ROW()","v":803},8,null,null,"2.1.3.03.02.074.01","Membresías",0,18]
[null,null,"D4481605","Batidores y mezcladoras eléctricas",1,{"$f":"ROW()","v":804},8,null,null,"2.1.3.03.02.074.02","Distintas a membresías",0,18]
[null,null,"D1423001","Bauxita",1,{"$f":"ROW()","v":805},8,null,null,"2.1.3.03.02.075.01","Membresías",0,18]
[null,null,"D4419802","Bebederos (incluso automáticos)",1,{"$f":"ROW()","v":806},8,null,null,"2.1.3.03.02.075.02","Distintas a membresías",0,18]
[null,null,"D2399930","Bebidas a base de soja, almendras, mani y otros frutos oleaginosos - liquidas",1,{"$f":"ROW()","v":807},8,null,null,"2.1.3.03.02.076.01","Membresías",0,18]
[null,null,"D2399931","Bebidas a base de soja, almendras, mani y otros frutos oleaginosos - polvo",1,{"$f":"ROW()","v":808},8,null,null,"2.1.3.03.02.076.02","Distintas a membresías",0,18]
[null,null,"D2423003","Bebidas fermentadas",1,{"$f":"ROW()","v":809},8,null,null,"2.1.3.03.02.077.01","Membresías",0,18]
[null,null,"D2423004","Bebidas fermentadas en proceso",1,{"$f":"ROW()","v":810},8,null,null,"2.1.3.03.02.077.02","Distintas a membresías",0,18]
[null,null,"D2449001","Bebidas gaseosas no alcohólicas (maltas, gaseosas, etc.)",1,{"$f":"ROW()","v":811},8,null,null,"2.1.3.03.02.078.01","Membresías",0,18]
[null,null,"D2449002","Bebidas no alcohólicas sin gasificar-refrescos",1,{"$f":"ROW()","v":812},8,null,null,"2.1.3.03.02.078.02","Distintas a membresías",0,18]
[null,null,"D3411013","Benceno",1,{"$f":"ROW()","v":813},8,null,null,"2.1.3.03.02.079.01","Membresías",0,18]
[null,null,"D3331103","Bencina industrial",1,{"$f":"ROW()","v":814},8,null,null,"2.1.3.03.02.079.02","Distintas a membresías",0,18]
[null,null,"D1540201","Bentonita",1,{"$f":"ROW()","v":815},8,null,null,"2.1.3.03.02.080.01","Membresías",0,18]
[null,null,"D1540302","Bentonita elaborada",1,{"$f":"ROW()","v":816},8,null,null,"2.1.3.03.02.080.02","Distintas a membresías",0,18]
[null,null,"D3414026","Benzoato de bencilo",1,{"$f":"ROW()","v":817},8,null,null,"2.1.3.03.02.081.01","Membresías",0,18]
[null,null,"D3414028","Benzoato de sodio",1,{"$f":"ROW()","v":818},8,null,null,"2.1.3.03.02.081.02","Distintas a membresías",0,18]
[null,null,"D3415007","Benzocaína",1,{"$f":"ROW()","v":819},8,null,null,"2.1.3.03.02.082.01","Membresías",0,18]
[null,null,"D3414032","Benzonaftol",1,{"$f":"ROW()","v":820},8,null,null,"2.1.3.03.02.082.02","Distintas a membresías",0,18]
[null,null,"D4292121","Berbiquíes",1,{"$f":"ROW()","v":821},8,null,null,"2.1.3.03.02.083.01","Membresías",0,18]
[null,null,"D0123301","Berenjena",1,{"$f":"ROW()","v":822},8,null,null,"2.1.3.03.02.083.02","Distintas a membresías",0,18]
[null,null,"D0129004","Berro",1,{"$f":"ROW()","v":823},8,null,null,"2.1.3.03.02.084.01","Membresías",0,18]
[null,null,"D3525033","Betametasona",1,{"$f":"ROW()","v":824},8,null,null,"2.1.3.03.02.084.02","Distintas a membresías",0,18]
[null,null,"D3533301","Betunes",1,{"$f":"ROW()","v":825},8,null,null,"2.1.3.03.02.085.01","Membresías",0,18]
[null,null,"D3812204","Bibliotecas de madera",1,{"$f":"ROW()","v":826},8,null,null,"2.1.3.03.02.085.02","Distintas a membresías",0,18]
[null,null,"D3812103","Bibliotecas metálicas",1,{"$f":"ROW()","v":827},8,null,null,"2.1.3.03.02.086.01","Membresías",0,18]
[null,null,"D3424061","Bicarbonato de potasio",1,{"$f":"ROW()","v":828},8,null,null,"2.1.3.03.02.086.02","Distintas a membresías",0,18]
[null,null,"D3424060","Bicarbonato de sodio",1,{"$f":"ROW()","v":829},8,null,null,"2.1.3.03.02.087.01","Membresías",0,18]
[null,null,"D4949005","Bicicletas acuáticas en fibra de vidrio",1,{"$f":"ROW()","v":830},8,null,null,"2.1.3.03.02.087.02","Distintas a membresías",0,18]
[null,null,"D4992102","Bicicletas de carreras",1,{"$f":"ROW()","v":831},8,null,null,"2.1.3.03.02.088.01","Membresías",0,18]
[null,null,"D4992101","Bicicletas de turismo",1,{"$f":"ROW()","v":832},8,null,null,"2.1.3.03.02.088.02","Distintas a membresías",0,18]
[null,null,"D4992104","Bicicletas especiales para montañismo y similares",1,{"$f":"ROW()","v":833},8,null,null,"2.1.3.03.02.089.01","Membresías",0,18]
[null,null,"D4992105","Bicicletas para niños",1,{"$f":"ROW()","v":834},8,null,null,"2.1.3.03.02.089.02","Distintas a membresías",0,18]
[null,null,"D3425003","Bicromato de amonio",1,{"$f":"ROW()","v":835},8,null,null,"2.1.3.03.02.090.01","Membresías",0,18]
[null,null,"D3425002","Bicromato de potasio y sodio",1,{"$f":"ROW()","v":836},{"$f":"LEN(C836)","v":8},null,null,"2.1.3.03.02.090.02","Distintas a membresías",0,{"$f":"LEN(J836)","v":18}]
[null,null,"D3721002","Bidés de loza o porcelana",1,{"$f":"ROW()","v":837},8,null,null,"2.1.3.03.02.091.01","Membresías",0,18]
[null,null,"D3911012","Bilis concentrada de bovino",1,{"$f":"ROW()","v":838},8,null,null,"2.1.3.03.02.091.02","Distintas a membresías",0,18]
[null,null,"D3911011","Bilis líquida de bovino",1,{"$f":"ROW()","v":839},8,null,null,"2.1.3.03.02.092.01","Membresías",0,18]
[null,null,"D2922102","Billeteras, portachequeras y similares de cuero",1,{"$f":"ROW()","v":840},8,null,null,"2.1.3.03.02.092.02","Distintas a membresías",0,18]
[null,null,"D2922202","Billeteras, portachequeras y similares de material plástico",1,{"$f":"ROW()","v":841},8,null,null,"2.1.3.03.02.093.01","Membresías",0,18]
[null,null,"D3261001","Billetes de banco sin emitir",1,{"$f":"ROW()","v":842},8,null,null,"2.1.3.03.02.093.02","Distintas a membresías",0,18]
[null,null,"D3269001","Billetes para lotería",1,{"$f":"ROW()","v":843},8,null,null,"2.1.3.03.02.094.01","Membresías",0,18]
[null,null,"D4831401","Binoculares (incluidos los prismáticos)",1,{"$f":"ROW()","v":844},8,null,null,"2.1.3.03.02.094.02","Distintas a membresías",0,18]
[null,null,"D3549101","Biodiesel B100",1,{"$f":"ROW()","v":845},8,null,null,"2.1.3.03.02.095.01","Membresías",0,18]
[null,null,"D3336201","Biodiésel mezclado- B8, B10, B20, etc.",1,{"$f":"ROW()","v":846},8,null,null,"2.1.3.03.02.095.02","Distintas a membresías",0,18]
[null,null,"D3336301","Biodiesel Mezclado-REF.ECO.– B2, B3, B4, B5",1,{"$f":"ROW()","v":847},8,null,null,"2.1.3.03.02.096.01","Membresías",0,18]
[null,null,"D3423127","Bióxido de magnesio o peróxido de magnesio",1,{"$f":"ROW()","v":848},8,null,null,"2.1.3.03.02.096.02","Distintas a membresías",0,18]
[null,null,"D3422006","Bióxido de titanio o rutilo",1,{"$f":"ROW()","v":849},8,null,null,"2.1.3.03.02.097.01","Membresías",0,18]
[null,null,"D3421007","Bióxido o dióxido de carbono",1,{"$f":"ROW()","v":850},8,null,null,"2.1.3.03.02.097.02","Distintas a membresías",0,18]
[null,null,"D3422001","Bióxido, óxido blanco de zinc",1,{"$f":"ROW()","v":851},8,null,null,"2.1.3.03.02.098.01","Membresías",0,18]
[null,null,"D4299212","Bisagras",1,{"$f":"ROW()","v":852},8,null,null,"2.1.3.03.02.098.02","Distintas a membresías",0,18]
[null,null,"D4923113","Bisagras para automotores",1,{"$f":"ROW()","v":853},8,null,null,"2.1.3.03.02.099.01","Membresías",0,18]
[null,null,"D4299213","Bisagras y goznes",1,{"$f":"ROW()","v":854},8,null,null,"2.1.3.03.02.099.02","Distintas a membresías",0,18]
[null,null,"D4160301","Bismuto en bruto",1,{"$f":"ROW()","v":855},8,null,null,"2.1.3.03.02.100.01","Membresías",0,18]
[null,null,"D3414047","Bitartrato de potasio-cremor tártaro",1,{"$f":"ROW()","v":856},8,null,null,"2.1.3.03.02.100.02","Distintas a membresías",0,18]
[null,null,"D3414048","Bitartrato de sodio",1,{"$f":"ROW()","v":857},8,null,null,"2.1.3.03.02.101.01","Membresías",0,18]
[null,null,"D2349007","Bizcochos de harina de achira",1,{"$f":"ROW()","v":858},8,null,null,"2.1.3.03.02.101.02","Distintas a membresías",0,18]
[null,null,"D2349001","Bizcochos de harina de maíz",1,{"$f":"ROW()","v":859},8,null,null,"2.1.3.03.02.102.01","Membresías",0,18]
[null,null,"D2343002","Bizcochos y pasteles de dulce",1,{"$f":"ROW()","v":860},8,null,null,"2.1.3.03.02.102.02","Distintas a membresías",0,18]
[null,null,"D0296002","Blanco de ballena (esperma)",1,{"$f":"ROW()","v":861},8,null,null,"2.1.3.03.02.103.01","Membresías",0,18]
[null,null,"D0421215","Blanquillo, de cultivo, fresco o refrigerado",1,{"$f":"ROW()","v":862},8,null,null,"2.1.3.03.02.103.02","Distintas a membresías",0,18]
[null,null,"D0421207","Blanquillo, vivos",1,{"$f":"ROW()","v":863},8,null,null,"2.1.3.03.02.104.01","Membresías",0,18]
[null,null,"D8881201","Blindaje de partes y piezas para vehículos automotores",1,{"$f":"ROW()","v":864},8,null,null,"2.1.3.03.02.104.02","Distintas a membresías",0,18]
[null,null,"D3270112","Blocs de papel cuadriculado o rayado",1,{"$f":"ROW()","v":865},8,null,null,"2.1.3.03.02.105.01","Membresías",0,18]
[null,null,"D3270111","Blocs de papel sin impresión",1,{"$f":"ROW()","v":866},8,null,null,"2.1.3.03.02.105.02","Distintas a membresías",0,18]
[null,null,"D3633020","Bloque oftálmico, en bruto, de material plástico",1,{"$f":"ROW()","v":867},8,null,null,"2.1.3.03.02.106.01","Membresías",0,18]
[null,null,"D3735007","Bloquelon de arcilla",1,{"$f":"ROW()","v":868},8,null,null,"2.1.3.03.02.106.02","Distintas a membresías",0,18]
[null,null,"D3732003","Bloques de arcilla refractaria",1,{"$f":"ROW()","v":869},8,null,null,"2.1.3.03.02.107.01","Membresías",0,18]
[null,null,"D3754001","Bloques de concreto",1,{"$f":"ROW()","v":870},8,null,null,"2.1.3.03.02.107.02","Distintas a membresías",0,18]
[null,null,"D3754002","Bloques de concreto para entrepisos",1,{"$f":"ROW()","v":871},8,null,null,"2.1.3.03.02.108.01","Membresías",0,18]
[null,null,"D3754008","Bloques de escoria",1,{"$f":"ROW()","v":872},8,null,null,"2.1.3.03.02.108.02","Distintas a membresías",0,18]
[null,null,"D4315101","Bloques para motores",1,{"$f":"ROW()","v":873},8,null,null,"2.1.3.03.02.109.01","Membresías",0,18]
[null,null,"D2822404","Blusas de fibras artificiales y sintéticas en tejido de punto, para mujer",1,{"$f":"ROW()","v":874},8,null,null,"2.1.3.03.02.109.02","Distintas a membresías",0,18]
[null,null,"D2823613","Blusas de trabajo para hombre",1,{"$f":"ROW()","v":875},8,null,null,"2.1.3.03.02.110.01","Membresías",0,18]
[null,null,"D2823612","Blusas de trabajo para mujer",1,{"$f":"ROW()","v":876},8,null,null,"2.1.3.03.02.110.02","Distintas a membresías",0,18]
[null,null,"D2823615","Blusas para médicos y afines",1,{"$f":"ROW()","v":877},8,null,null,"2.1.3.03.02.111.01","Membresías",0,18]
[null,null,"D2823403","Blusas y camisas de algodón, para mujer",1,{"$f":"ROW()","v":878},8,null,null,"2.1.3.03.02.111.02","Distintas a membresías",0,18]
[null,null,"D2823401","Blusas y camisas de tejidos planos mezclados, para mujer",1,{"$f":"ROW()","v":879},8,null,null,"2.1.3.03.02.112.01","Membresías",0,18]
[null,null,"D2823404","Blusas y camisas en lino, para mujer",1,{"$f":"ROW()","v":880},8,null,null,"2.1.3.03.02.112.02","Distintas a membresías",0,18]
[null,null,"D2823402","Blusas, camisas para niña",1,{"$f":"ROW()","v":881},8,null,null,"2.1.3.03.02.113.01","Membresías",0,18]
[null,null,"D3219928","Bobinas de cartón",1,{"$f":"ROW()","v":882},8,null,null,"2.1.3.03.02.113.02","Distintas a membresías",0,18]
[null,null,"D4691103","Bobinas de encendido",1,{"$f":"ROW()","v":883},8,null,null,"2.1.3.03.02.114.01","Membresías",0,18]
[null,null,"D0421209","Bocachico, de cultivo, fresco o refrigerado",1,{"$f":"ROW()","v":884},8,null,null,"2.1.3.03.02.114.02","Distintas a membresías",0,18]
[null,null,"D0421102","Bocachico, fresco o refrigerado",1,{"$f":"ROW()","v":885},8,null,null,"2.1.3.03.02.115.01","Membresías",0,18]
[null,null,"D0421204","Bocachico, vivos",1,{"$f":"ROW()","v":886},8,null,null,"2.1.3.03.02.115.02","Distintas a membresías",0,18]
[null,null,"D2367099","Bocadillos de frutas n.c.p.",1,{"$f":"ROW()","v":887},8,null,null,"2.1.3.03.02.116.01","Membresías",0,18]
[null,null,"D2367007","Bocadillos de guayaba",1,{"$f":"ROW()","v":888},8,null,null,"2.1.3.03.02.116.02","Distintas a membresías",0,18]
[null,null,"D4299217","Bocelería",1,{"$f":"ROW()","v":889},8,null,null,"2.1.3.03.02.117.01","Membresías",0,18]
[null,null,"D4912936","Bocelería para automotores",1,{"$f":"ROW()","v":890},8,null,null,"2.1.3.03.02.117.02","Distintas a membresías",0,18]
[null,null,"D0429126","Bocón, fresco o refrigerado",1,{"$f":"ROW()","v":891},8,null,null,"2.1.3.03.02.118.01","Membresías",0,18]
[null,null,"D2826207","Boinas y cachuchas",1,{"$f":"ROW()","v":892},8,null,null,"2.1.3.03.02.118.02","Distintas a membresías",0,18]
[null,null,"D3856005","Bolas de cristal-canicas",1,{"$f":"ROW()","v":893},8,null,null,"2.1.3.03.02.119.01","Membresías",0,18]
[null,null,"D3844011","Bolas o pelotas de material plástico",1,{"$f":"ROW()","v":894},8,null,null,"2.1.3.03.02.119.02","Distintas a membresías",0,18]
[null,null,"D3859005","Boleras",1,{"$f":"ROW()","v":895},8,null,null,"2.1.3.03.02.120.01","Membresías",0,18]
[null,null,"D3269003","Boletería para teatro, rifas, etc.",1,{"$f":"ROW()","v":896},8,null,null,"2.1.3.03.02.120.02","Distintas a membresías",0,18]
[null,null,"D3891102","Bolígrafos",1,{"$f":"ROW()","v":897},8,null,null,"2.1.3.03.02.121.01","Membresías",0,18]
[null,null,"D3215205","Bolsa de papel y cartón para kárdex",1,{"$f":"ROW()","v":898},8,null,null,"2.1.3.03.02.121.02","Distintas a membresías",0,18]
[null,null,"D3649027","Bolsas (cojines) de material plástico con válvula dosificadora",1,{"$f":"ROW()","v":899},8,null,null,"2.1.3.03.02.122.01","Membresías",0,18]
[null,null,"D3627002","Bolsas de caucho para agua",1,{"$f":"ROW()","v":900},{"$f":"LEN(C900)","v":8},null,null,"2.1.3.03.02.122.02","Distintas a membresías",0,{"$f":"LEN(J900)","v":18}]
[null,null,"D3627003","Bolsas de caucho para hielo",1,{"$f":"ROW()","v":901},8,null,null,"2.1.3.03.02.123.01","Membresías",0,18]
[null,null,"D3641007","Bolsas de celofán",1,{"$f":"ROW()","v":902},8,null,null,"2.1.3.03.02.123.02","Distintas a membresías",0,18]
[null,null,"D3641008","Bolsas de celofán",1,{"$f":"ROW()","v":903},8,null,null,"2.1.3.03.02.124.01","Membresías",0,18]
[null,null,"D2718008","Bolsas de lona para dormir",1,{"$f":"ROW()","v":904},8,null,null,"2.1.3.03.02.124.02","Distintas a membresías",0,18]
[null,null,"D3641001","Bolsas de material plástico sin impresión",1,{"$f":"ROW()","v":905},8,null,null,"2.1.3.03.02.125.01","Membresías",0,18]
[null,null,"D3215202","Bolsas de papel",1,{"$f":"ROW()","v":906},8,null,null,"2.1.3.03.02.125.02","Distintas a membresías",0,18]
[null,null,"D3215203","Bolsas de papel",1,{"$f":"ROW()","v":907},8,null,null,"2.1.3.03.02.126.01","Membresías",0,18]
[null,null,"D4293120","Bolsas de papel aluminio",1,{"$f":"ROW()","v":908},8,null,null,"2.1.3.03.02.126.02","Distintas a membresías",0,18]
[null,null,"D4293121","Bolsas de papel aluminio",1,{"$f":"ROW()","v":909},8,null,null,"2.1.3.03.02.127.01","Membresías",0,18]
[null,null,"D3215204","Bolsas de papel impresas",1,{"$f":"ROW()","v":910},8,null,null,"2.1.3.03.02.127.02","Distintas a membresías",0,18]
[null,null,"D3641003","Bolsas impresas de material plástico",1,{"$f":"ROW()","v":911},8,null,null,"2.1.3.03.02.128.01","Membresías",0,18]
[null,null,"D3641006","Bolsas impresas de material plástico para empaque al vacío",1,{"$f":"ROW()","v":912},8,null,null,"2.1.3.03.02.128.02","Distintas a membresías",0,18]
[null,null,"D3641009","Bolsas impresas de papel celofán",1,{"$f":"ROW()","v":913},8,null,null,"2.1.3.03.02.129.01","Membresías",0,18]
[null,null,"D4912946","Bolsas inflables (air bag) y sus partes, piezas y componentes para  vehículos automotores             ",1,{"$f":"ROW()","v":914},8,null,null,"2.1.3.03.02.129.02","Distintas a membresías",0,18]
[null,null,"D2719001","Bolsas para ropa",1,{"$f":"ROW()","v":915},8,null,null,"2.1.3.03.02.130.01","Membresías",0,18]
[null,null,"D4815011","Bolsas plásticas (esterilizadas) especiales para medicina y cirugía",1,{"$f":"ROW()","v":916},8,null,null,"2.1.3.03.02.130.02","Distintas a membresías",0,18]
[null,null,"D4815016","Bolsas, compresas terapéuticas - (gel) frío/calor",1,{"$f":"ROW()","v":917},8,null,null,"2.1.3.03.02.131.01","Membresías",0,18]
[null,null,"D2715005","Bolsas, talegos y similares de dril",1,{"$f":"ROW()","v":918},8,null,null,"2.1.3.03.02.131.02","Distintas a membresías",0,18]
[null,null,"D2922109","Bolsas, tulas de cuero",1,{"$f":"ROW()","v":919},8,null,null,"2.1.3.03.02.132.01","Membresías",0,18]
[null,null,"D2922209","Bolsos de material plástico",1,{"$f":"ROW()","v":920},8,null,null,"2.1.3.03.02.132.02","Distintas a membresías",0,18]
[null,null,"D4474013","Bombas (dispositivos explosivos)",1,{"$f":"ROW()","v":921},8,null,null,"2.1.3.03.02.133.01","Membresías",0,18]
[null,null,"D4322005","Bombas de agua para automotores",1,{"$f":"ROW()","v":922},8,null,null,"2.1.3.03.02.133.02","Distintas a membresías",0,18]
[null,null,"D4322006","Bombas de gasolina para automotores",1,{"$f":"ROW()","v":923},8,null,null,"2.1.3.03.02.134.01","Membresías",0,18]
[null,null,"D4322003","Bombas manuales para líquidos",1,{"$f":"ROW()","v":924},8,null,null,"2.1.3.03.02.134.02","Distintas a membresías",0,18]
[null,null,"D4322001","Bombas para líquidos con motor de explosión",1,{"$f":"ROW()","v":925},8,null,null,"2.1.3.03.02.135.01","Membresías",0,18]
[null,null,"D4322007","Bombas para líquidos con motor de gasolina",1,{"$f":"ROW()","v":926},8,null,null,"2.1.3.03.02.135.02","Distintas a membresías",0,18]
[null,null,"D4322002","Bombas para líquidos con motor eléctrico",1,{"$f":"ROW()","v":927},8,null,null,"2.1.3.03.02.136.01","Membresías",0,18]
[null,null,"D4322099","Bombas para líquidos n.c.p.",1,{"$f":"ROW()","v":928},8,null,null,"2.1.3.03.02.136.02","Distintas a membresías",0,18]
[null,null,"D3856006","Bombas-globos de caucho",1,{"$f":"ROW()","v":929},8,null,null,"2.1.3.03.02.137.01","Membresías",0,18]
[null,null,"D4651004","Bombillas de mercurio",1,{"$f":"ROW()","v":930},8,null,null,"2.1.3.03.02.137.02","Distintas a membresías",0,18]
[null,null,"D4651005","Bombillas de sodio",1,{"$f":"ROW()","v":931},8,null,null,"2.1.3.03.02.138.01","Membresías",0,18]
[null,null,"D4651002","Bombillas incandescentes",1,{"$f":"ROW()","v":932},8,null,null,"2.1.3.03.02.138.02","Distintas a membresías",0,18]
[null,null,"D4651012","Bombillas infrarrojas",1,{"$f":"ROW()","v":933},8,null,null,"2.1.3.03.02.139.01","Membresías",0,18]
[null,null,"D4832401","Bombillas para flash",1,{"$f":"ROW()","v":934},8,null,null,"2.1.3.03.02.139.02","Distintas a membresías",0,18]
[null,null,"D4651007","Bombillos de gas (neón y similares)",1,{"$f":"ROW()","v":935},8,null,null,"2.1.3.03.02.140.01","Membresías",0,18]
[null,null,"D3816004","Bomper para muebles",1,{"$f":"ROW()","v":936},8,null,null,"2.1.3.03.02.140.02","Distintas a membresías",0,18]
[null,null,"D3261003","Bonos y títulos de acciones sin emitir",1,{"$f":"ROW()","v":937},8,null,null,"2.1.3.03.02.141.01","Membresías",0,18]
[null,null,"D3427011","Bórax-borato de sodio",1,{"$f":"ROW()","v":938},8,null,null,"2.1.3.03.02.141.02","Distintas a membresías",0,18]
[null,null,"D8821307","Bordado",1,{"$f":"ROW()","v":939},8,null,null,"2.1.3.03.02.142.01","Membresías",0,18]
[null,null,"D0159904","Bore",1,{"$f":"ROW()","v":940},8,null,null,"2.1.3.03.02.142.02","Distintas a membresías",0,18]
[null,null,"D3423109","Boro",1,{"$f":"ROW()","v":941},8,null,null,"2.1.3.03.02.143.01","  Membresías",0,18]
[null,null,"D0131906","Borojó",1,{"$f":"ROW()","v":942},8,null,null,"2.1.3.03.02.143.02","  Distintas a membresías",0,18]
[null,null,"D2149907","Borojó en conserva envasado",1,{"$f":"ROW()","v":943},8,null,null,"2.1.3.03.02.144.01","  Membresías",0,18]
[null,null,"D3627018","Borradores de caucho",1,{"$f":"ROW()","v":944},8,null,null,"2.1.3.03.02.144.02","  Distintas a membresías",0,18]
[null,null,"D2929004","Botas (licoreras) de cuero",1,{"$f":"ROW()","v":945},8,null,null,"2.1.3.03.02.145.01","Membresías",0,18]
[null,null,"D2933002","Botas altas de cuero para hombre",1,{"$f":"ROW()","v":946},8,null,null,"2.1.3.03.02.145.02","Distintas a membresías",0,18]
[null,null,"D2933004","Botas altas de cuero para mujer",1,{"$f":"ROW()","v":947},8,null,null,"2.1.3.03.02.146.01","            Membresías    ",0,18]
[null,null,"D2931001","Botas de caucho",1,{"$f":"ROW()","v":948},8,null,null,"2.1.3.03.02.146.02","            Distintas a membresías  ",0,18]
[null,null,"D2951001","Botas de caucho y/o plástico con puntera y/o plantilla de acero",1,{"$f":"ROW()","v":949},8,null,null,"2.1.3.03.02.147.01","            Membresías    ",0,18]
[null,null,"D2931005","Botas de material plástico",1,{"$f":"ROW()","v":950},8,null,null,"2.1.3.03.02.147.02","            Distintas a membresías  ",0,18]
[null,null,"D3719103","Botellas de vidrio de menos de un litro de capacidad",1,{"$f":"ROW()","v":951},8,null,null,"2.1.3.03.02.148.01","            Membresías    ",0,18]
[null,null,"D3719104","Botellas de vidrio de un litro y más de capacidad",1,{"$f":"ROW()","v":952},8,null,null,"2.1.3.03.02.148.02","            Distintas a membresías  ",0,18]
[null,null,"D3719102","Botellas de vidrio para bebidas no alcohólicas",1,{"$f":"ROW()","v":953},8,null,null,"2.1.3.03.02.149.01","            Membresías    ",0,18]
[null,null,"D0429125","Botellona, fresca o refrigerada",1,{"$f":"ROW()","v":954},8,null,null,"2.1.3.03.02.149.02","            Distintas a membresías  ",0,18]
[null,null,"D4949004","Botes deportivos en fibra de vidrio",1,{"$f":"ROW()","v":955},8,null,null,"2.1.3.03.02.150.01","            Membresías    ",0,18]
[null,null,"D4949002","Botes inflables de caucho",1,{"$f":"ROW()","v":956},8,null,null,"2.1.3.03.02.150.02","            Distintas a membresías  ",0,18]
[null,null,"D4949003","Botes inflables de material plástico",1,{"$f":"ROW()","v":957},8,null,null,"2.1.3.03.02.151.01","            Membresías    ",0,18]
[null,null,"D3529901","Botiquines para emergencia",1,{"$f":"ROW()","v":958},8,null,null,"2.1.3.03.02.151.02","            Distintas a membresías  ",0,18]
[null,null,"D3892301","Botones de material plástico",1,{"$f":"ROW()","v":959},8,null,null,"2.1.3.03.02.152.01","            Membresías    ",0,18]
[null,null,"D3892304","Botones de materiales de origen animal",1,{"$f":"ROW()","v":960},8,null,null,"2.1.3.03.02.152.02","            Distintas a membresías  ",0,18]
[null,null,"D3892305","Botones de materiales de origen vegetal",1,{"$f":"ROW()","v":961},8,null,null,"2.1.3.03.02.153.01","            Membresías    ",0,18]
[null,null,"D3892303","Botones metálicos",1,{"$f":"ROW()","v":962},8,null,null,"2.1.3.03.02.153.02","            Distintas a membresías  ",0,18]
[null,null,"D4939002","Boyas",1,{"$f":"ROW()","v":963},8,null,null,"2.1.3.03.02.154.01","            Membresías    ",0,18]
[null,null,"D2413104","Brandy",1,{"$f":"ROW()","v":964},{"$f":"LEN(C964)","v":8},null,null,"2.1.3.03.02.154.02","            Distintas a membresías  ",0,{"$f":"LEN(J964)","v":18}]
[null,null,"D4482201","Braseros",1,{"$f":"ROW()","v":965},8,null,null,"2.1.3.03.03.01","Membresías",0,14]
[null,null,"D2823702","Brasieres",1,{"$f":"ROW()","v":966},8,null,null,"2.1.3.03.03.02","Distintas a membresías",0,14]
[null,null,"D4817106","Brazos artificiales",1,{"$f":"ROW()","v":967},8,null,null,"2.1.3.04.01.001","Membresías",0,15]
[null,null,"D3350007","Brea de petróleo o betún de petróleo",1,{"$f":"ROW()","v":968},8,null,null,"2.1.3.04.01.002","Distintas a membresías",0,15]
[null,null,"D3454002","Brea-neme",1,{"$f":"ROW()","v":969},8,null,null,"2.1.3.04.02.001","Membresías",0,15]
[null,null,"D0131925","Breva",1,{"$f":"ROW()","v":970},8,null,null,"2.1.3.04.02.002","Distintas a membresías",0,15]
[null,null,"D2149905","Brevas en conserva envasadas",1,{"$f":"ROW()","v":971},8,null,null,"2.1.3.04.03.001","Membresías",0,15]
[null,null,"D2367015","Brevas rellenas",1,{"$f":"ROW()","v":972},8,null,null,"2.1.3.04.03.002","Distintas a membresías",0,15]
[null,null,"D4333206","Bridas para motorreductores",1,{"$f":"ROW()","v":973},8,null,null,"2.1.3.04.04.001","Membresías",0,15]
[null,null,"D3699059","Bridas, abrazaderas y similares de material plástico",1,{"$f":"ROW()","v":974},8,null,null,"2.1.3.04.04.002","Distintas a membresías",0,15]
[null,null,"D4481608","Brilladoras eléctricas domésticas",1,{"$f":"ROW()","v":975},8,null,null,"2.1.3.04.05.001","Membresías",0,15]
[null,null,"D4491902","Brilladoras eléctricas industriales y semindustriales",1,{"$f":"ROW()","v":976},8,null,null,"2.1.3.04.05.002","Distintas a membresías",0,15]
[null,null,"D3511022","Brilladores, desmanchadores y lustres en general",1,{"$f":"ROW()","v":977},8,null,null,"2.1.3.04.06.001","  Membresías    ",0,15]
[null,null,"D3451002","Briquetas de carbón vegetal",1,{"$f":"ROW()","v":978},8,null,null,"2.1.3.04.06.002","  Distintas a membresías",0,15]
[null,null,"D4292122","Brocas-barrenas",1,{"$f":"ROW()","v":979},8,null,null,"2.1.3.04.07.001","  Membresías  ",0,15]
[null,null,"D3899308","Brochas de afeitar",1,{"$f":"ROW()","v":980},8,null,null,"2.1.3.04.07.002","  Distintas a membresías",0,15]
[null,null,"D3899310","Brochas para pintar",1,{"$f":"ROW()","v":981},8,null,null,"2.1.3.04.08.001","  Membresías    ",0,15]
[null,null,"D4299704","Broches de gancho",1,{"$f":"ROW()","v":982},8,null,null,"2.1.3.04.08.002","  Distintas a membresías",0,15]
[null,null,"D3892306","Broches de presión",1,{"$f":"ROW()","v":983},8,null,null,"2.1.3.04.09.001","  Membresías      ",0,15]
[null,null,"D3892302","Broches plásticos",1,{"$f":"ROW()","v":984},8,null,null,"2.1.3.04.09.002","  Distintas a membresías",0,15]
[null,null,"D0121302","Brócolis",1,{"$f":"ROW()","v":985},8,null,null,"2.1.3.04.10.001","  Membresías    ",0,15]
[null,null,"D3424097","Bromhidratos n.c.p.",1,{"$f":"ROW()","v":986},8,null,null,"2.1.3.04.10.002","  Distintas a membresías",0,15]
[null,null,"D3423107","Bromo",1,{"$f":"ROW()","v":987},8,null,null,"2.1.3.05.01.001","Fondo de Programas Especiales Para la Paz: programa de reintegración social y económica Transferencias realizadas por la agencia para la reincorporación y la normalización - ARN, en virtud de la ley 368 de 1997, las cuáles constituyen un gasto cuyo objeto es la financiación de programas de paz encaminadas a fomentar la reincorporación a la vida civil de grupos alzados en armas, que demuestren su voluntad de incorporarse a la vida civil mediante su desmovilización y la dejación de armas.",0,15]
[null,null,"D3411019","Bromoformo",1,{"$f":"ROW()","v":988},8,null,null,"2.1.3.05.01.002","Transferir a la UPME Ley 143 de 1994 Gastos por concepto de transferencias a la Unidad Administrativa Especial de Planeación Minero-Energética, UPME, en virtud de la Ley 143 de 1994, en la cual se indica que el presupuesto de la UPME hará parte del Presupuesto General de la Nación.",0,15]
[null,null,"D4141303","Bronce en bloques y formas similares",1,{"$f":"ROW()","v":989},8,null,null,"2.1.3.05.01.003","Comisión de Regulación de Comunicaciones - CRC. Artículo 12 Ley 1507 de 2012 Transferencias a la Comisión de Regulación de Comunicaciones cuyas funciones están estipuladas por el artículo 12 de la Ley 1507 de 2012 y demás afines.",0,15]
[null,null,"D4821101","Brújulas o compases",1,{"$f":"ROW()","v":990},8,null,null,"2.1.3.05.01.004","Fondo de Capacitación y Publicaciones Contraloría General de la República - Decreto 267 de 2000 y Ley 1807 de 2016 Transferencias en virtud del Decreto 267 de 2000, por medio del cual se estableció la organización y funcionamiento de la Contraloría General de la República y demás, se estipuló que con cargo anualmente al Presupuesto General de la Nación para la financiación de la ejecución, el Fondo Cuenta de Publicaciones se estableció para la financiación y garantía de las publicaciones e impresos de diversa índole que deba realizar la Contraloría General de la República y de cualquiera de las etapas que al efecto se requiera, desde el proceso de producción hasta la comercialización y distribución.",0,15]
[null,null,"D0211201","Búfalos",1,{"$f":"ROW()","v":991},8,null,null,"2.1.3.05.01.005","Defensoría Pública (Ley 24 de 1992) Transferencias a la Defensoría Pública, cuya organización y funcionamiento se dictan en la Ley 24 de 1992. Esta entidad pública es parte del Ministerio Público, y tiene como función principal la promoción, el ejercicio y la divulgación de los Derechos Humanos.",0,15]
[null,null,"D2823813","Bufandas y accesorios similares de tejidos planos",1,{"$f":"ROW()","v":992},8,null,null,"2.1.3.05.01.006","Fondo para la Defensa de los Derechos e Intereses Colectivos -Ley 472 de 1998. Transferencias en virtud de la Ley 472 de 1998, por la cual se desarrolla el artículo 88 de la Constitución Política de Colombia en relación con el ejercicio de las acciones populares y de grupo y se dictan otras disposiciones; se estableció que uno de los recursos que financian el Fondo para la Defensa de los Derechos e Intereses Colectivos es el Presupuesto General de la Nación.",0,15]
[null,null,"D2823810","Bufandas y prendas similares de lana",1,{"$f":"ROW()","v":993},8,null,null,"2.1.3.05.01.007","Programa de protección a personas que se encuentran en situación de riesgo contra su vida, integridad, seguridad o libertad, por causas relacionadas con la violencia en Colombia Transferencias en virtud de la Ley 418 de 1997, cuyo objetivo es regular las acciones populares y las acciones de grupo contenidas en el artículo 88 de la Constitución Política de Colombia.",0,15]
[null,null,"D4332098","Bujes metálicos n.c.p.",1,{"$f":"ROW()","v":994},8,null,null,"2.1.3.05.01.008","Transferir a la Autoridad Nacional de Licencias Ambientales ANLA. Artículo 96 Ley 633 de 2000 Son las transferencias que realiza el Ministerio de Ambiente y Desarrollo sostenible a la Autoridad Nacional de Licencias Ambientales (ANLA) de los recursos que que obtiene por los servicios de evaluación y del seguimiento de la licencia ambiental, permisos, concesiones, autorizaciones y demás instrumentos de control y manejo ambiental establecidos en la ley y los reglamentos. Estos recursos son utilizados para sufragar los costos de evaluación y seguimiento en que deba incurrir el Ministerio para la prestación de estos servicios. Lo anterior, en virtud del artículo 96 de la Ley 633 de 2000.",0,15]
[null,null,"D4691105","Bujías de encendido",1,{"$f":"ROW()","v":995},8,null,null,"2.1.3.05.01.009","Transferir a la Agencia Nacional del Espectro artículo 31 Ley 1341 de 2009 y artículo 6o. del Decreto 4169 de 2011 Transferencias a la Agencia Nacional del Espectro (ANE), la cual fue creada por la Ley 1341 de 2009, como una Unidad Administrativa Especial del orden nacional, adscrita al Ministerio de Tecnologías de la Información y las Comunicaciones, y sus principales funciones giran en torno a brindar el soporte técnico para la gestión y la planeación, la vigilancia y control del espectro radioeléctrico. Teniendo en cuenta lo anterior, se estableció que una de las fuentes de recursos de esta agencia es lo dispuesto para la misma en el Presupuesto General de la Nación.",0,15]
[null,null,"D3719204","Bulbos de vidrio para bombillas",1,{"$f":"ROW()","v":996},8,null,null,"2.1.3.05.01.010","Transferir a la Superintendencia de Industria y Comercio Decretos 1130 y 1620 de 1999 y 2003. Leyes 1341 y 1369 de 2009 Transferencias de recursos financieros requeridos por la Superintendencia de Industria y Comercio para ejercer las funciones de protección de los usuarios de los servicios de comunicaciones, de acuerdo con los Decretos 1130 y 1620 de 1999 y 2003; al igual que las Leyes 1341 y 1369 de 2009.",0,15]
[null,null,"D0196107","Bulbos, tubérculos, rizomas",1,{"$f":"ROW()","v":997},8,null,null,"2.1.3.05.01.011","Programas para la participación ciudadana Transferencias en virtud del artículo 12 del Decreto 2893 de 2011, por el cual se establece que es función del Ministerio del Interior adelantar mediante la coordinación, formulación. Ejecución, seguimiento, y evaluación de las políticas públicas en materia de participación ciudadana.",0,15]
[null,null,"D4931601","Buque remolcador",1,{"$f":"ROW()","v":998},8,null,null,"2.1.3.05.01.012","Adjudicación y liberación judicial Transferencias en virtud de la Ley 75 de 1968, mediante la cual el Instituto Colombiano de Bienestar Familiar financia las actividades en cuanto a la adjudicación de bienes producto de las denuncias de bienes vacantes, mostrencos y vocaciones hereditarias y las demás modalidades de ingreso de bienes al ICBF. De igual forma, garantiza la eficaz administración, legalización y saneamiento de la información de los bienes muebles e inmuebles que ingresan o están en proceso de titulación a nombre del ICBF.",0,15]
[null,null,"D4931201","Buques cisterna",1,{"$f":"ROW()","v":999},8,null,null,"2.1.3.05.01.013","Atención rehabilitación al recluso Transferencias realizadas al Instituto Nacional Penitenciario y Carcelario (INPEC) con el fin de atender las condiciones mínimas de los reclusos en Colombia, tales como elementos de aseo por ejemplo, y los esfuerzos tendientes a generar procesos de rehabilitación para los mismos. Lo anterior, en virtud de las Leyes 65 de 1993, 599 de 2000, 55 de 1985, y 1709 de 2014.",0,15]
[null,null,"D4931405","Buques de apoyo logístico y ayuda humanitaria",1,{"$f":"ROW()","v":1000},8,null,null,"2.1.3.05.01.014","Implementación y desarrollo del sistema integral de tratamiento progresivo penitenciario Gastos por concepto de la implementación y el desarrollo del Sistema Integral de Tratamiento Progresivo Penitenciario, el cual busca atender con un enfoque diferencial por grupos a las personas quienes se encuentran recluidas con base en los principios de la prevención, la atención integral (asistencia social, en violencia, convivencia, etc.), entre otros. Lo anterior en virtud de las leyes 65 de 1993 y 1709 de 2014",0,15]
[null,null,"D4931904","Buques de guerra",1,{"$f":"ROW()","v":1001},8,null,null,"2.1.3.05.01.015","Servicio postpenitenciario Ley 65/93 Transferencias en virtud de la Ley 65 de 1993, Código Penitenciario y Carcelario, en el cual se estipuló como uno de los requisitos previos a la excarcelación la vinculación del futuro ex-reo al programa de servicio postpenitenciario (artículo 71), el cual se define como función del Instituto Nacional Penitenciario y Carcelario, y buscará la integración del liberado a la familia y a la sociedad.",0,15]
[null,null,"D4931404","Buques fluviales",1,{"$f":"ROW()","v":1002},8,null,null,"2.1.3.05.01.016","Fondo de Fomento Agropecuario Decreto Ley 1279 de 1994 Gastos de conformidad con la Ley 1279 de 1994, la cual creó el Fondo de Fomento Agropecuario con una cuenta separada, incluida en el presupuesto del Ministerio de Agricultura y Desarrollo Rural y manejado por la Dirección General de Control Presupuestal y Seguimiento. El objeto de este Fondo es impulsar las actividades que contribuyan al fomento del desarrollo del sector agropecuario y pesquero, y que hayan recibido concepto favorable del Comité de Gabinete del Ministro.",0,15]
[null,null,"D4931901","Buques guardacostas",1,{"$f":"ROW()","v":1003},8,null,null,"2.1.3.05.01.017","Fondo de Compensación Ambiental distribución comité fondo-Ministerio del Medio Ambiente artículo 24 Ley 344 de 1996. Gastos de conformidad con la Ley 344 de 1996, en virtud de la cual se creó el Fondo de Compensación Ambiental como una cuenta de la Nación, cuyos recursos deben ser distribuidos por el Ministerio de Ambiente y son iguales al 20% de los recursos percibidos por las Corporaciones Autónomas Regionales, con las excepciones estipuladas en el artículo 24 de la mencionada Ley.",0,15]
[null,null,"D2822801","Busos de algodón perchado, para deporte",1,{"$f":"ROW()","v":1004},8,null,null,"2.1.3.05.01.018","Transferencias para el programa de desmovilización Transferencias al Programa de Desmovilización, en virtud de los Decretos 128 de 2003 y 395 de 2007, el cual está orientado a la promoción de la desmovilización individual y reincorporación a la vida civil de los miembros de los grupos armados al margen de la ley, apoyo que se extiende al grupo familiar de cada desmovilizado. Desde el momento en que la persona se presenta a las autoridades, se debe prestar atención al desmovilizado y a su grupo familiar, cubriéndole en todo caso sus necesidades básicas como alojamiento, alimentación, vestuario, transporte, atención en salud, atención integral, recreación y deporte.",0,15]
[null,null,"D4912914","Bústeres para automotores",1,{"$f":"ROW()","v":1005},8,null,null,"2.1.3.05.01.019","Transferencia al Hospital Militar Central Transferencias en virtud de la Ley 352 de 1997, mediante la cual se estableció que uno de los recursos que financia las actividades del Hospital Militar Central son los cargos que a su favor se generen en el Presupuesto General de la Nación con el objetivo de llevar a cabo el servicio de salud, trauma de guerra y patologías en alta complejidad con estándares superiores de calidad.",0,15]
[null,null,"D3811217","Butacos de madera",1,{"$f":"ROW()","v":1006},8,null,null,"2.1.3.05.01.020","Fondo de Compensación Interministerial Conforme a la Ley 718 de 2001 el fondo cuenta con recursos de los ingresos corrientes de la Nación y cuya apropiación inicial se incorporará en el PGN.",0,15]
[null,null,"D3811211","Butacos de madera para la alcoba",1,{"$f":"ROW()","v":1007},8,null,null,"2.1.3.05.01.021","Gastos inherentes a la intervención administrativa parágrafo 3, art. 10, Decreto 4334 de 2008, art. 1 Decreto 1761 de 2009 Transferencias conforme al Decreto 4334 de 2008, parágrafo 3, por medio del cual la Superintendencia de Sociedades puede solicitar la devolución de los recursos relacionados con los honorarios del Agente Interventor, y los gastos propios de la intervención, con cargo a los recursos que el Ministerio de Hacienda y Crédito Público debe transferir con este propósito durante el término de la intervención.",0,15]
[null,null,"D3811209","Butacos en mimbre, bambú o similares",1,{"$f":"ROW()","v":1008},8,null,null,"2.1.3.05.01.022","Fondo para la Lucha Contra las Drogas Transferencias en virtud del Decreto Ley 200 de 2003, por el cual se determinan los objetivos y la estructura orgánica del Ministerio del Interior y de Justicia, y se dictan otras disposiciones, según el cual, artículo 29, \"el Fondo tiene por objeto exclusivo promover y financiar los planes y programas que se adelanten en materia de fortalecimiento y promoción del Sistema de Justicia y la Lucha Antidrogas, a través de diferentes organismos del Estado.\"",0,15]
[null,null,"D3811112","Butacos metálicos para alcoba",1,{"$f":"ROW()","v":1009},8,null,null,"2.1.3.05.01.023","Decisiones judiciales en contra de la Nación en la liquidación de entidades públicas del orden nacional",0,15]
[null,null,"D3811110","Butacos metálicos para restaurantes",1,{"$f":"ROW()","v":1010},8,null,null,"2.1.3.05.01.024","Convenio Policía Nacional - División carreteras Transferencias a la Policía Nacional - División Carreteras, en virtud de la Ley 105 de 1993, capítulo II, artículo 2, en la cual se establece como principio fundamental la seguridad de la población y el transporte en las carreteras.",0,15]
[null,null,"D1202003","Butano natural",1,{"$f":"ROW()","v":1011},8,null,null,"2.1.3.05.01.025","Apoyo Comité Interinstitucional de Alertas Tempranas CIAT Sentencia T-025 de 2004. Gastos para apoyar la financiación de los Comités Interinstitucionales de Alerta Temprana, los cuales fueron ordenados por la Corte Constitucional en su sentencia T-025 de 2004. Así, mientras persista la situación de emergencia se auspiciará la creación y permanencia de equipos interinstitucionales conformados por entidades estatales y gubernamentales del orden nacional, departamental y municipal, para la protección del desplazado y sus bienes patrimoniales.",0,15]
[null,null,"D3341002","Butanos",1,{"$f":"ROW()","v":1012},8,null,null,"2.1.3.05.01.026","Fondo Nacional de Seguridad y Convivencia Ciudadana -FONSECON Transferencias al Fondo Nacional de Seguridad y Convivencia Ciudadana, Fonsecon, el cual es una cuenta especial sin personería jurídica, administrado por el Ministerio del Interior (antes Ministerio del Interior y de Justicia), creado mediante la Ley 418 de Diciembre de 1997, modificado por el artículo 7 de la ley 1421 de 2010 y los artículos 1 y 2 del Decreto 399 de 2011, con recursos Ley 1106 de 2006. Su objeto es la financiación de proyectos y actividades orientadas a la preservación y conservación del orden público, para propiciar la seguridad y convivencia ciudadana.",0,15]
[null,null,"D3523007","Butazolidina-pirazolidina",1,{"$f":"ROW()","v":1013},8,null,null,"2.1.3.05.01.027","Fondo Nacional para la Lucha Contra la Trata de Personas. Ley 985 de 2005 y Decreto 4319 de 2006 Transferencias al Fondo Nacional para la Lucha contra la Trata de Personas, en virtud de la Ley 985 de 2005 y el Decreto 4319 de 2006, por medio de los cuales se establece que una de las fuentes específicas de dicha cuenta especial son las partidas que se le asignen en el Presupuesto General de la Nación. Este fondo tiene por objeto atender los gastos tendientes a propiciar la prevención, protección y asistencia de las víctimas y posibles víctimas de la trata de personas, el fortalecimiento de la investigación judicial y la acción policiva y el fortalecimiento de la cooperación internacional.",0,15]
[null,null,"D0213101","Caballos",1,{"$f":"ROW()","v":1014},8,null,null,"2.1.3.05.01.028","Fortalecimiento a la consulta previa. Convenio 169 OIT, Ley 21 de 1991, Ley 70 de 1993 Transferencias conforme a las leyes 21 de 1991 y 70 de 1993, estos recursos son destinados a financiar los procesos concernientes con el mecanismo de consulta previa para poblaciones como indígenas, comunidades negras, tribales, etc. Lo anterior con el ánimo de hacer partícipes a estas poblaciones de medidas legislativas o administrativas susceptibles de afectarles directamente, tal como lo advierte el Convenio 169 de la OIT",0,15]
[null,null,"D4324018","Cabezales de pozo especializados para la extracción de petróleo y gas",1,{"$f":"ROW()","v":1015},8,null,null,"2.1.3.05.01.029","Fortalecimiento a la gestión territorial y buen gobierno local Transferencias en virtud del Decreto 2893 de 2011, por el cual se modifican los objetivos, la estructura orgánica y funciones del Ministerio del Interior y se integra el Sector Administrativo del Interior. Las funciones del Ministerio se establecen en el artículo 18 del decreto mencionado anteriormente.",0,15]
[null,null,"D4921018","Cabinas en fibra de vidrio para automotores",1,{"$f":"ROW()","v":1016},8,null,null,"2.1.3.05.01.030","Implementación Ley 985/05 sobre trata de personas Transferencias realizadas por el Ministerio de Interior referentes a las obligaciones generadas por la implementación de la Ley 985 de 2005, en la cual se creó la Estrategia Nacional contra la Trata de Personas.",0,15]
[null,null,"D4299948","Cabinas metálicas especiales para aislar sonido (insonorizadas)",1,{"$f":"ROW()","v":1017},8,null,null,"2.1.3.05.01.031","Programa actualización de líderes sindicales Gastos por concepto del programa de actualización de líderes sindicales en cumplimiento con la constitución política y la Ley 278 de 1996, el cual busca ayudar a los sindicalizados en temas específicos por medio del fortalecimiento de las competencias y habilidades de estos en contextos nacional o internacional. Asimismo, este incluye la actualización del censo sindical.",0,15]
[null,null,"D4392304","Cabinas metálicas especiales para pintura de automóviles",1,{"$f":"ROW()","v":1018},8,null,null,"2.1.3.05.01.032","Educación de niñas y niños en situaciones especiales Transferencias realizadas por el Ministerio de Educación Nacional en virtud de la Constitución Política de Colombia, artículo 67, desarrollado por la Ley 115 de 1994 (Ley General de Educación) en la que se define y desarrolla la organización y la prestación de la educación formal en sus niveles preescolar, básica (primaria y secundaria) y media, no formal e informal, dirigida a niños y jóvenes en edad escolar, a adultos, a campesinos, a grupos étnicos, a personas con limitaciones físicas, sensoriales y psíquicas, con capacidades excepcionales, y a personas que requieran rehabilitación social.",0,15]
[null,null,"D3712909","Cabinas telefónicas en fibra de vidrio",1,{"$f":"ROW()","v":1019},8,null,null,"2.1.3.05.01.033","Mejoramiento de la enseñanza de las lenguas extranjeras en educación básica Corresponde a los gastos asociados a los programas de mejoramiento de la enseñanza de las lenguas extranjeras en los estudiantes que se encuentren en educación básica, en este sentido, por este rubro se entienden las erogaciones por concepto de los convenios que se presenten con el sector privado para este fin.",0,15]
[null,null,"D4299952","Cabinas telefónicas metálicas",1,{"$f":"ROW()","v":1020},8,null,null,"2.1.3.05.01.034","Fondo de programas especiales para la paz : Programa desmovilizados",0,15]
[null,null,"D4632001","Cable coaxial",1,{"$f":"ROW()","v":1021},8,null,null,"2.1.3.05.01.035","Plan de promoción de Colombia en el exterior Transnferencias realizadas por la Presidencia de la Reública y el Ministerio de Relaciones exteriores por concepto del plan de promoción de Colombia en el Exterior, el cual se fundamenta en el entendimiento de la cultura como la herramienta de promoción de la política exterior. Así, se consolida la diplomacia cultural con el fin de lograr el posicionamiento de Colombia en el mundo, por medio del fortalecimiento de las relaciones internacionales del país, el mejoramiento de la percepción de este favoreciendo el papel de la cultura.",0,15]
[null,null,"D4294202","Cable de alambre de aluminio",1,{"$f":"ROW()","v":1022},8,null,null,"2.1.3.05.01.036","Fondo de Protección de Justicia. Decreto 1890/99 y Decreto 200/03 Corresponde a los recursos destinados para el Fondo de Protección de Justicia cuyo objetivo es el financiamiento de la protección de funcionarios y exfuncionarios expuestos a niveles de riesgo por razón del ejercicio de funciones públicas, en especial de aquellos pertenecientes a la Justicia Especializada, los encargados de la investigación y juzgamiento de graves violaciones de los derechos humanos, y de altos funcionarios de la Rama Judicial y Ejecutiva, y del Ministerio Público.",0,15]
[null,null,"D4294201","Cable de alambre de cobre",1,{"$f":"ROW()","v":1023},8,null,null,"2.1.3.05.01.037","Fondo para los Notarios de Insuficientes Ingresos. Decreto 1672 de 1997 En virtud del Decreto 1672 de 1997, los recursos que eran destinados para mejorar las condiciones económicas de los Notarios de insuficientes ingresos previo a la entrada en vigencia de la mencionada ley serán administrados por medio del Fondo para los Notarios de Insuficientes Ingresos el cual será administrado por la Superintendencia de Notariado y Registro, y tendrá como objetivo el mismo que tenían antes los recursos destinados con el fin mencionado.",0,15]
[null,null,"D4294101","Cable de alambre de hierro o acero",1,{"$f":"ROW()","v":1024},8,null,null,"2.1.3.05.01.038","Fondo Empresarial - Ley 812 de 2003 Gastos de conformidad con la Ley 812 de 2003, en la cual se creó el Fondo Empresarial por la Superintendencia de Servicios Públicos, como patrimonio autónomo administrado por el Fondo Energético Nacional (hoy Financiera de Desarrollo Nacional) con el propósito de apoyar, de conformidad con sus disponibilidades, a las empresas que contribuyen al Fondo, en los procesos de liquidación ordenados por la Superintendencia de Servicios Públicos Domiciliarios.",0,15]
[null,null,"D4634005","Cable encauchetado para herramientas, maquinaria y equipo",1,{"$f":"ROW()","v":1025},8,null,null,"2.1.3.05.01.039","Deportación a extranjeros Transferencias realizadas por la Unidad Administrativa Especial Migración Colombia por concepto de procesos de deportación, el cual se entiende como la sanción oficial del país que consiste en enviar al infractor a su país de origen o de procedencia, impidiéndole su regreso por un término determinado, por haber incurrido en alguna falta en contra de la Ley migratoria.",0,15]
[null,null,"D4634004","Cable para antena de televisión",1,{"$f":"ROW()","v":1026},8,null,null,"2.1.3.05.01.040","Fondo para la Reparación de las Victimas (Art. 54 Ley 975 de 2005) Transferencias en virtud de la Ley 975 de 2005, artículo 54, en la cual se creó el Fondo para la Reparación de las Víctimas. Los recursos de este fondo se ejecutarán de acuerdo con las reglas del derecho privado. Además, se estableció que el Fondo se financia, entre otros, por recursos provenientes del Presupuesto General de la Nación. Asimismo, los recursos administrados por este Fondo estarán bajo la vigilancia de la Contraloría General de la República.",0,15]
[null,null,"D4635001","Cables aislados de alta tensión",1,{"$f":"ROW()","v":1027},8,null,null,"2.1.3.05.01.041","Préstamos directos (Ley 106/93) Gastos por concepto de préstamos a los empleados por parte del Fondo de Bienestar de la Contraloría General de la República, en virtud de la Ley 106 de 1993, por medio de la cual se estipula la organización y el funcionamiento de la Contraloría General de la República, se organiza el Fondo de Bienestar Social, y demás.",0,15]
[null,null,"D4634001","Cables aislados para conducción subterránea",1,{"$f":"ROW()","v":1028},{"$f":"LEN(C1028)","v":8},null,null,"2.1.3.05.01.042","Fondo Especial. Comisión Nacional de Búsqueda (Art. 18 Ley 971 de 2005) Transferencias en virtud de la Ley 971 de 2005, se creó el Fondo cuenta para el Funcionamiento de la Comisión Nacional de Búsqueda, el cual se configura dentro de la Defensoría del Pueblo, como un sistema separado de cuentas, para el manejo de los recursos provenientes de las donaciones, aportes y recursos que destinen las organizaciones y entidades privadas y públicas, nacionales y extranjeras.",0,{"$f":"LEN(J1028)","v":15}]
[null,null,"D4632002","Cables aislados para instalaciones telefónicas",1,{"$f":"ROW()","v":1029},8,null,null,"2.1.3.05.01.043","Fondo de Contingencias de las Entidades Estatales Transferencias en virtud de la Ley 1687 de 2013, artículo 80, en el cual se estableció que para la elaboración del presupuesto de la vigencia fiscal de 2015 las entidades que constituyan una sección del Presupuesto General de la Nación, deberán trasladar al Fondo de Contingencias de las Entidades Estatales, un porcentaje no menor al 20% del promedio de los tres (3) últimos años del monto ejecutado por Sentencias y Conciliaciones; y deberán hacerlo hasta completar el 120% del promedio de los tres (3) últimos años.",0,15]
[null,null,"D4636001","Cables de fibra óptica construidos por fibras enfundadas independientemente, incluso con conectores eléctricos incorporados o provistos de piezas de conexión",1,{"$f":"ROW()","v":1030},8,null,null,"2.1.3.05.01.044","Fondo para la Rehabilitación, Inversión Social y Lucha Contra el Crimen Organizado Transferencias conforme al Art 80 de la ley 1453 de 2011, en la cual se define al Fondo como una cuenta especial sin personería jurídica, cuyos recursos tienen señalada una destinación específica y cuya administración corresponde a la Dirección Nacional de Estupefacientes.",0,15]
[null,null,"D4294105","Cables para tensionamiento",1,{"$f":"ROW()","v":1031},8,null,null,"2.1.3.05.01.045","Provisión para el proceso electoral Transferencias en virtud del artículo 109 de la Constitución Política, modificado por el Acto Legislativo 1 de 2003, el cual establece que el Estado concurrirá a la financiación de los partidos y movimientos políticos con personería jurídica, de conformidad con la ley. En suma, las campañas que adelanten los partidos y movimientos con personería jurídica y los grupos significativos de ciudadanos que postulen candidatos serán financiadas con recursos estatales mediante el sistema de reposición por votos depositados.",0,15]
[null,null,"D4634002","Cables y alambres aislados para instalaciones eléctricas",1,{"$f":"ROW()","v":1032},8,null,null,"2.1.3.05.01.046","Apoyo a las disposiciones para garantizar el pleno ejercicio de los derechos de las personas con discapacidad. Ley 1618 de 2013 Transferencias conforme a la Ley 1618 de 2013 (Art 30) con el objetivo de garantizar y asegurar el ejercicio efectivo de los derechos de las personas con discapacidad, mediante la adopción de medidas de inclusión, acción afirmativa y de ajustes razonables y eliminando toda forma de discriminación por razón de discapacidad.",0,15]
[null,null,"D4634003","Cables y alambres aislados para instalaciones eléctricas",1,{"$f":"ROW()","v":1033},8,null,null,"2.1.3.05.01.047","Congreso de Medicina Legal y Ciencias Forenses",0,15]
[null,null,"D2731008","Cables y cordajes de fique",1,{"$f":"ROW()","v":1034},8,null,null,"2.1.3.05.01.048","Desarrollo de funciones de apoyo al sector agropecuario en ciencia, tecnología e innovación a cargo de CORPOICA a nivel nacional. Ley 1731 de 2014 Transferencias realizadas en virtud de la Ley 1731 de 2014, en la cual se indica que el Gobierno Nacional transferirá anualmente recursos del Presupuesto General de la Nación a la Corporación Colombiana de Investigación Agropecuaria (CORPOICA), para el desarrollo de sus funciones de apoyo al sector agropecuario en ciencia, tecnología e innovación.",0,15]
[null,null,"D2731010","Cables y cordajes de material plástico",1,{"$f":"ROW()","v":1035},8,null,null,"2.1.3.05.01.049","Comisión de búsqueda de personas desaparecidas Ley 589 de 2000 Transferencias en virtud de la Ley 589 de 2000, artículo 8, por medio de la cual se creó la Comisión Nacional y Permanente de Búsqueda de Personas Desaparecidas con el fin de apoyar y promover la investigación del delito de desaparición forzada, con pleno respeto de las competencias institucionales y de las facultades de los sujetos procesales. Así, las transferencias de este rubro corresponden a los recursos para el funcionamiento de esta.",0,15]
[null,null,"D2731009","Cables y cordajes de yute y fibras similares",1,{"$f":"ROW()","v":1036},8,null,null,"2.1.3.05.01.050","Gastos de administración de pensiones, nómina, archivo y otras actividades inherentes Decreto 4986 de 2007, Decreto 2721 de 2008 y Decreto 2601 de 2009 Transferencias conforme a los Decretos 4989 de 2007; 2721 de 2008 y 2601 de 2009, asignadas con el ánimo de cumplir con las obligaciones por gastos de administración de pensiones, nómina, archivo y otras actividades inherentes en relación con el pasivo pensional de las entidades: Instituto Colombiano de la Reforma Agraria, Incora en Liquidación; Caja de Crédito Agrario Industrial y Minero (Caja Agraria en liquidación); y Alcalis de Colombia.",0,15]
[null,null,"D0164001","Cacao en grano o crudo",1,{"$f":"ROW()","v":1037},8,null,null,"2.1.3.05.01.051","Recursos para la Corporación Autónoma Regional del Rio Grande de la Magdalena. Artículo 17 Ley 161 de 1994 Transferencias para garantizar el funcionamiento de la Corporación Autónoma Regional del Rio Grande de la Magdalena conforme al Art. 17 de la Ley 161 de 1997. La Corte Constitucional ha señalado que la naturaleza jurídica de la CAR hace que no sea del sector central, ni sector desentralizado por servicios ni una entidad territorial. Son entidades administrativas del orden nacional. Adicionalmnete, En la definición de la naturaleza jurídica de la CAR del rio grande de la Magdalena, se afirma que esta funciona como EICE sometida a las reglas de las sociedades anónimas, de conformidad con el artículo 1 de la Ley 161 de 1994. Por tal razón, el tratamiento de esta CAR en este concepto es el de una empresa pública no financiera.",0,15]
[null,null,"D2363001","Cacao en polvo",1,{"$f":"ROW()","v":1038},8,null,null,"2.1.3.05.01.052","Aportes Nación Corresponde a los recursos del Presupuesto de la Nación que el gobierno transfiere a las entidades descentralizadas del orden nacional con el objeto de contribuir a la atención de sus compromisos y al cumplimiento de sus funciones (Ministerio de Hacienda y Crédito Público, 2011).",0,15]
[null,null,"D2364001","Cacao en polvo con adición de azúcar",1,{"$f":"ROW()","v":1039},8,null,null,"2.1.3.05.01.053","Atención de procesos judiciales y reclamaciones administrativas del extinto DAS o su fondo rotatorio. Art. 238 Ley 1753 de 2015 - PND Transferencias realizadas conforme al Art. 238 de la Ley 1753 de 2015 en la que se autoriza la creación de un patrimonio autónomo administrado por la Fiduciaria La Previsora S.A con quien el Ministerio de Hacienda y Crédito Público suscribirá el contrato de fiducia mercantil respectivo, para la atención de los procesos judiciales, reclamaciones administrativas, laborales o contractuales en los cuales sea parte o destinatario el extinto Departamento Administrativo de Seguridad (DAS) o su Fondo Rotatorio, y que no guarden relación con funciones trasladadas a entidades receptoras de acuerdo con la naturaleza, objeto o sujeto procesal, o que por cualquier razón carezcan de autoridad administrativa responsable para su atención.",0,15]
[null,null,"D4291226","Cacerolas de aluminio",1,{"$f":"ROW()","v":1040},8,null,null,"2.1.3.05.01.054","Pagos beneficiarios Fundación San Juan de Dios derivados del fallo SU-484 2008 Corte Constitucional Transferencias en virtud de la sentencia de unificación, SU-484 de 2008, proferida por la Corte Constitucional, en la cual obligó a la Nación (además de a Bogotá Distrito Capital y a la Beneficencia de Cundinamarca solidariamente con el Departamento de Cundinamarca ) a reparar a los trabajadores vinculados con la Fundación San Juan de Dios, compuesta por Hospital San Juan de Dios e Instituto Materno Infantil por la violación a los derechos fundamentales al trabajo, al mínimo vital, a la vida y a la seguridad social. Esta transferencia está destinada al pago de las obligaciones generadas a partir de dicha sentencia.",0,15]
[null,null,"D4291209","Cacerolas esmaltadas",1,{"$f":"ROW()","v":1041},8,null,null,"2.1.3.05.01.055","Transferencias para la estrategia de interacción y dialogo permanente entre las autoridades de orden territorial, gobierno nacional y los ciudadanos",0,15]
[null,null,"D0421213","Cachama, de cultivo, fresca o refrigerada",1,{"$f":"ROW()","v":1042},8,null,null,"2.1.3.05.01.056","Defensa de los intereses del Estado en controversias internacionales",0,15]
[null,null,"D0421109","Cachama, fresca o refrigerada",1,{"$f":"ROW()","v":1043},8,null,null,"2.1.3.05.01.057","Fondo para la Modernización, Descongestión y Bienestar de la Administración de Justicia",0,15]
[null,null,"D0421201","Cachama, vivas",1,{"$f":"ROW()","v":1044},8,null,null,"2.1.3.05.01.058","Transferencia para entidades en proceso de liquidación",0,15]
[null,null,"D3416009","Cacodilato de sodio",1,{"$f":"ROW()","v":1045},8,null,null,"2.1.3.05.01.059","Fondo de la Dirección de Consulta Previa. Art. 161 Ley 1955 de 2019",0,15]
[null,null,"D0161002","Cacota de café",1,{"$f":"ROW()","v":1046},8,null,null,"2.1.3.05.01.060","Fondo de Mitigación de Emergencias - FOME Son las trasferencias al Fondo de Mitigación de Emergencias -FOME, como un fondo cuenta sin personería jurídica del Ministerio de Hacienda y Crédito Público.",0,15]
[null,null,"D4299102","Cadenas de cobre y otros metales no preciosos",1,{"$f":"ROW()","v":1047},8,null,null,"2.1.3.05.01.061","Administración, funcionamiento e infraestructura del Registro Nacional de Medidas Correctivas Corresponde a la transferencia del 15% del recaudo proveniente de las multas del Código Nacional de Policía y Convivencia, con destino a la Policía Nacional para el funcionamiento e infraestructura del Registro Nacional de Medidas Correctivas, como elemento necesario para garantizar la prevención a través del recaudo y almacenamiento de información detallada, georreferenciada y en tiempo real del estado de las multas en todo el territorio nacional, lo cual constituye un instrumento imprescindible para el cumplimiento de su función legal",0,15]
[null,null,"D4299101","Cadenas de hierro o acero",1,{"$f":"ROW()","v":1048},8,null,null,"2.1.3.05.01.062","Traslado de dividendos a órganos del PGN y la Nación Trasferencia en virtud de los beneficios generados por una empresa, a favor de entidades del PGN.",0,15]
[null,null,"D4355001","Cadenas transportadoras",1,{"$f":"ROW()","v":1049},8,null,null,"2.1.3.05.01.063","Transferencia a la Policía Nacional por Multas Código Nacional de Seguridad y Convivencia Corresponde a la transferencia del 40% del recaudo por concepto de multas de que trata el artículo 2.2.8.4.1.del Decreto 1284 de 2017 a la Policía Nacional para la materialización de las medidas correctivas impuestas por las autoridades de Policía.",0,15]
[null,null,"D0161004","Café cereza",1,{"$f":"ROW()","v":1050},8,null,null,"2.1.3.05.01.064","Devolución de aportes a la nación Constituye aquellas erogaciones que realizan las EICES y otras entidades públicas, cuando se ordena o solicita la devolución de aportes que ha realizado la nación.",0,15]
[null,null,"D2381201","Café consumo descafeinado",1,{"$f":"ROW()","v":1051},8,null,null,"2.1.3.05.01.065","Transferencia de regalías a la Agencia Nacional de Minería - Ley 756 de 2002 Transferencia que realiza GECELCA a la Agencia Nacional de minería, en virtud de la explotación de carbón de la mina las palmeras se hace necesario el pago de regalías y contraprestación adicional en marco de la Ley 756 de 2002",0,15]
[null,null,"D2381304","Café descafeinado molido",1,{"$f":"ROW()","v":1052},8,null,null,"2.1.3.05.01.066","Transferencia de ventas brutas a Corporaciones Autónomas Regionales y Parques Nacionales Naturales – Ley 1930 2018 art. 24 Transferencia del 3% de las ventas brutas a las corporaciones autónomas regionales y parques nacionales naturales de las empresas del sector eléctrico cuya potencia nominal instalada total supere los 10.000 kilovatios",0,15]
[null,null,"D2381303","Café descafeinado tostado en grano",1,{"$f":"ROW()","v":1053},8,null,null,"2.1.3.05.01.067","Servicio de policía en modalidad de vigilancia Corresponde a la transferencia del 15% a favor de la Policia Nacional. Dentro del 60 % de los recursos recaudados por concepto de multas del codigo nacional de seguridad y convivencia ciudadana, con destino al servicio de policia en la modalidad de vigilancia.",0,15]
[null,null,"D2381202","Café excelso descafeinado",1,{"$f":"ROW()","v":1054},8,null,null,"2.1.3.05.01.068","Administración, funcionamiento e infraestructura del Sistema Único de información de recaudo, registro y transacción de multas del Código Nacional de Seguridad y Convivencia Ciudadana Corresponde a la transferencia que realizan las administraciones distritales y/o municipales a favor del Ministerio del Interior del quince por ciento (15%) del recaudo por concepto de multas del Código Nacional de Seguridad y Convivencia Ciudadana, destinado a la administración, funcionamiento e infraestructura del Sistema Único de información para articular el recaudo, registro y transacción a nivel nacional por concepto de pago de multas impuesta por los inspectores de policía.",0,15]
[null,null,"D2382103","Café instantáneo aglomerado o atomizado",1,{"$f":"ROW()","v":1055},8,null,null,"2.1.3.05.01.069","Computadores para Educar - CPE (art. 39 Ley 1341 de 2009) Comprende la transferencia que el Fondo Único de Tecnologías de la Información y las Comunicaciones realiza a favor de la Asociación Computadores para Educar, con el fin de contribuir al mejoramiento de la calidad educativa, mediante la financiación de proyectos que promuevan el acceso, uso y apropiación de las tecnologías de la información y las comunicaciones, en virtud del artículo 39 de la Ley 1341 de 2009 modificado por el artículo 25 de la ley 1978 de 2019.",0,15]
[null,null,"D2382102","Café liofilizado",1,{"$f":"ROW()","v":1056},8,null,null,"2.1.3.05.01.999","Otras transferencias - Distribución previo concepto DGPPN Constituye una cuenta transitoria dado que al momento de la programación no se conoce el detalle de su objeto de gasto, y para su ejecución requiere del aval del Departamento Nacional de Planeación – DNP o del Ministerio de Hacienda y Crédito Público – MHCP bien sea para ejecutar gastos de inversión o de funcionamiento respectivamente.",0,15]
[null,null,"D2381302","Café molido",1,{"$f":"ROW()","v":1057},8,null,null,"2.1.3.05.02.001.01","Prestación de servicio educativo Son las transferencias de SGP educación destinada a la prestación del servicio, según la matrícula oficial y la ampliación de cobertura de las entidades territoriales certificadas. En el primer caso, el monto de recursos girado a cada entidad territorial es determinado por el Ministerio de Educación Nacional, de acuerdo con el número de estudiantes oficiales matriculados multiplicado por un valor determinado por las características de la prestación del servicio según niveles, zonas y modalidades. En el segundo caso, se reconoce el incremento de la matrícula oficial de un año a otro. Sin perjuicio de lo anterior, esta transferencia comprende un complemento a la asignación por alumno atendido, el cual se asigna a las entidades territoriales certificadas que no alcanzan a cubrir el costo del personal docente y administrativo.",0,18]
[null,null,"D0161001","Café pergamino",1,{"$f":"ROW()","v":1058},8,null,null,"2.1.3.05.02.001.02","Cancelación de prestaciones sociales del magisterio Son las transferencias del SGP educación destinada a la cancelación de las prestaciones sociales del magisterio. Estos recursos se transfieren a los Fondos de Pensiones Públicas Territoriales para atender las prestaciones del personal nacionalizado por la Ley 43 de 1975; los cuales, en virtud de la Ley 91 de 1989, no quedaron a cargo del Fondo Nacional de Prestaciones Sociales del Magisterio.",0,18]
[null,null,"D0161003","Café ripio",1,{"$f":"ROW()","v":1059},8,null,null,"2.1.3.05.02.001.03","Calidad Son las transferencias del SGP educación destinada a la calidad del servicio educativo. Estos recursos son distribuidos entre los distritos y municipios certificados y no certificados y las áreas no municipalizadas de los departamentos de Amazonas, Guainía y Vaupés, para que complementen el financiamiento de las actividades que contribuyan al mejoramiento de la calidad educativa.",0,18]
[null,null,"D2381301","Café tostado en grano",1,{"$f":"ROW()","v":1060},8,null,null,"2.1.3.05.02.002.01","Régimen subsidiado Son las transferencias de recursos del SGP salud destinados a financiar la afiliación al régimen subsidiado del Sistema de Seguridad Social en Salud de la población pobre y vulnerable. Esta financiación corresponde a los subsidios a la demanda que deben atender las entidades territoriales, de manera progresiva hasta lograr y sostener la cobertura total del aseguramiento.",0,18]
[null,null,"D2381101","Café trillado excelso",1,{"$f":"ROW()","v":1061},8,null,null,"2.1.3.05.02.002.02","Salud pública Son las transferencias de recursos del SGP salud destinados a la financiación de programas de salud pública. Esta transferencia tiene por objetivo financiar la ejecución de acciones de promoción y prevención en salud, la programación y ejecución del Plan de Intervenciones Colectivas, y el desarrollo de acciones de inspección, vigilancia y control del riesgo en el ambiente y la salud.",0,18]
[null,null,"D2381102","Café trillado inferior",1,{"$f":"ROW()","v":1062},8,null,null,"2.1.3.05.02.002.03","Prestación de servicio de salud Son las transferencias de recursos del SGP salud destinados a la prestación del servicio de salud a la población pobre en el monto no cubierto con subsidios a la demanda. De acuerdo con el artículo 58 de la Ley 715 de 2001, una vez saneados los aportes patronales, los saldos existentes pueden ser requeridos por la entidad territorial para la prestación de servicios de salud.",0,18]
[null,null,"D2381103","Café trillado pasilla",1,{"$f":"ROW()","v":1063},8,null,null,"2.1.3.05.02.002.06","Subsidio a la oferta Es la asignación de recursos para concurrir en la financiación de la operación de la prestación de servicios y tecnologías efectuadas por instituciones públicas o infraestructura pública administrada por terceros, ubicadas en zonas alejadas o de difícil acceso que sean monopolio en servicios trazadores y no sostenibles por venta de servicio",0,18]
[null,null,"D3525039","Cafeína y sus sales",1,{"$f":"ROW()","v":1064},8,null,null,"2.1.3.05.02.003","Participación para propósito general Son las transferencias de recursos que realiza la Nación a las entidades territoriales en el marco del SGP, correspondiente al 11,6% de la distribución sectorial.",0,15]
[null,null,"D4481616","Cafetera eléctrica para uso doméstico",1,{"$f":"ROW()","v":1065},8,null,null,"2.1.3.05.02.004.01","Alimentación escolar Son las transferencias de recursos del SGP destinados a la financiación de programas de alimentación escolar, correspondiente al 0,5% de los recursos.Los Programas de Alimentación Escolar entregan desayuno o almuerzo a niños, niñas y adolescentes escolarizados, prioritariamente entre los 5 y 9 años. Estos programas tienen por objetivo mejorar su capacidad de aprendizaje; contribuir a mejorar su estado nutricional; prevenir la deserción escolar; y promover hábitos alimentarios saludables, cumpliendo su papel de proyecto estratégico. Estos programas funcionan a través de convenios con los entes territoriales y contratos con operadores, tales como Asociaciones de Padres de Familia, Cooperativas y Fundaciones.",0,18]
[null,null,"D0131926","Caimo",1,{"$f":"ROW()","v":1066},8,null,null,"2.1.3.05.02.004.02","Municipios de la ribera del Río Magdalena Son las transferencias de recursos del SGP destinada a los Municipios cuyo territorio limitan con el Río Magdalena. Esta transferencia corresponde al 0,08% del SGP, y se distribuye en proporción a la ribera de cada municipio, según la certificación del Instituto Geográfico Agustín Codazzi (IGAC).",0,18]
[null,null,"D3215301","Cajas de cartón acanalado",1,{"$f":"ROW()","v":1067},8,null,null,"2.1.3.05.02.004.03","Resguardos indígenas Son las transferencias de recursos del SGP destinada a los resguardos indígenas. Esta transferencia equivalente al 0.52% del 100% de los recursos del SGP, los cuales son de libre destinación para la financiación de proyectos de inversión debidamente formulados e incluidos en los planes de vida, o de acuerdo con los usos y costumbres de los pueblos indígenas.",0,18]
[null,null,"D3215302","Cajas de cartón acanalado",1,{"$f":"ROW()","v":1068},8,null,null,"2.1.3.05.02.004.04","FONPET Son las transferencias de recursos del SGP realizadas por la Nación al FONPET, en virtud del artículo 2.2.5.9.1 del Decreto 2540 de 2015, el cual establece que del componente de Asignación Especial del SGP, se debe destinar el 2.9% para el FONPET de los departamentos, distritos y municipios existentes a 31 de diciembre del año inmediatamente anterior al cual se realiza la distribución, que cuentan con participación en el monto total del pasivo pensional.",0,18]
[null,null,"D3215305","Cajas de cartón liso",1,{"$f":"ROW()","v":1069},8,null,null,"2.1.3.05.02.005","Agua potable y saneamiento básico Son las transferencias de recursos que realiza la Nación a las entidades territoriales en el marco del SGP. Esta transferencia corresponde al 5,4% de la distribución sectorial del SGP, la cual está destinada a sector de agua potable y saneamiento básico.",0,15]
[null,null,"D3215306","Cajas de cartón liso",1,{"$f":"ROW()","v":1070},8,null,null,"2.1.3.05.02.006","Atención integral de la primera infancia Son las transferencias de recursos que realiza la Nación a las entidades territoriales, en el marco del SGP, destinada a la atención integral de la primera infancia. Estos recursos se asignan por el crecimiento de la economía en una cifra superior al 4%. Esta cuenta estuvo vigente durante el periodo de transición del SGP hasta 2016, se mantiene esta cuenta en el CCPET para efectos de registro de posibles saldos a favor.",0,15]
[null,null,"D3215307","Cajas de cartón litografiadas",1,{"$f":"ROW()","v":1071},8,null,null,"2.1.3.05.03.001.01.01.01","Funcionamiento de los órganos del SGR A través de este rubro la Comisión Rectora asignará recursos a los Órganos del Sistema General de Regalías, a los que hace referencia el artículo 3 de la Ley 2056 de 2020.",0,24]
[null,null,"D3215311","Cajas de cartón parafinadas",1,{"$f":"ROW()","v":1072},8,null,null,"2.1.3.05.03.001.01.01.02","Evaluación y monitoreo del licenciamiento ambiental A través de este rubro la Comisión Rectora asignará recursos al Ministerio de Ambiente. Art. 361 de la Constitución Política y 12 de la Ley 2056 de 2020.",0,24]
[null,null,"D4643003","Cajas de caucho para baterías",1,{"$f":"ROW()","v":1073},8,null,null,"2.1.3.05.03.001.01.01.03","Entidades del orden nacional que emiten conceptos técnicos A través de este rubro la Comisión Rectora asignará recursos a los Ministerios y Departamentos Administrativos o sus entidades Adscritas y vinculadas para emitir conceptos técnicos de proyectos de inversión, en el marco de lo dispuesto en los artículos 3 y 141 de la Ley 2056 de 2020.",0,24]
[null,null,"D4621205","Cajas de conexión eléctrica",1,{"$f":"ROW()","v":1074},8,null,null,"2.1.3.05.03.001.01.01.04","Fortalecimiento de las secretaría técnicas de los OCADS regionales, del OCAD para la paz y del OCAD de CTEI A través de este rubro la Comisión Rectora asignará recursos a las ST de los OCAD Regionales, Paz y CTeI, para el ejercicio de sus funciones, en el marco de lo dispuesto en el artículo 2.1.1.7.3. del Decreto 1821 de 2020.",0,24]
[null,null,"D4299304","Cajas de consignación nocturna",1,{"$f":"ROW()","v":1075},8,null,null,"2.1.3.05.03.001.01.01.05","Saldos a 31 de diciembre, para fortalecimiento de las oficinas de planeación y/o las secretarías técnicas de los órganos colegiados de administración y decisión municipales, departamentales, de las corporaciones autónomas regionales y de CORMAGDALENA A través de este rubro la Comisión Rectora asignará recursos a las ST de los OCAD municipales, departamentales, de las CAR y de Cormagdalena y/o las oficinas de planeación, para terminar la ejecución de sus compromisos, en el marco de lo dispuesto en el artículo 2.1.1.8.5. del Decreto 1821 de 2020.",0,24]
[null,null,"D4912916","Cajas de dirección para automotores",1,{"$f":"ROW()","v":1076},8,null,null,"2.1.3.05.03.001.01.01.06","Instancia de decisión de los pueblos y comunidades indígenas A través de este rubro la Comisión Rectora asignará recursos a la instancia de decisión de los pueblos y Comunidades Indígenas, en el marco de lo dispuesto en el artículo 12 de la Ley 2056 de 2020.",0,24]
[null,null,"D3170001","Cajas de madera para empaques",1,{"$f":"ROW()","v":1077},8,null,null,"2.1.3.05.03.001.01.01.07","Instancia de decisión de las comunidades negras, afrocolombianas, raizales y palenqueras A través de este rubro la Comisión Rectora asignará recursos a la instancia de decisión de las comunidades negras, afrocolombianas, raizales y Palenqueras para el ejercicio de sus funciones, en el marco de lo dispuesto en el artículo 12 de la Ley 2056 de 2020.",0,24]
[null,null,"D3649005","Cajas de material plástico",1,{"$f":"ROW()","v":1078},8,null,null,"2.1.3.05.03.001.01.01.08","Comisión nacional de diálogo del pueblo rrom o gitano A través de este rubro la Comisión Rectora asignará recursos a la Comisión Nacional del Pueblo Rrom o Gitano para el ejercicio de sus funciones, en el marco de lo dispuesto en el artículo 12 de la Ley 2056 de 2020.",0,24]
[null,null,"D3699048","Cajas de material plástico para teléfonos",1,{"$f":"ROW()","v":1079},8,null,null,"2.1.3.05.03.001.01.01.09","Contraloría General de la República - funciones de vigilancia y control fiscal A través de este rubro la Comisión Rectora asignará recursos a la Contraloría General de la República para el ejercicio de sus funciones de vigilancia y control fiscal, en el marco de lo dispuesto en los artículos 141 y 183 de la Ley 2056 de 2020.",0,24]
[null,null,"D3649001","Cajas de plástico espumado rígido para empaque",1,{"$f":"ROW()","v":1080},8,null,null,"2.1.3.05.03.001.01.01.10","Procuraduría General de la Nación - funciones de vigilancia y control fiscal A través de este rubro la Comisión Rectora asignará recursos a la Procuraduría General de la Nación, en el marco de lo dispuesto en los artículos 11 de la Ley 2072 de 2020 y 141 de la Ley 2056 de 2020.",0,24]
[null,null,"D3219910","Cajas de pulpa para empaque",1,{"$f":"ROW()","v":1081},8,null,null,"2.1.3.05.03.001.01.02.01","Fiscalización de la exploración y explotación de los yacimientos A través de este rubro el Ministerio de Minas y Energía les asignará recursos, en el marco de lo dispuesto en los artículos 12 y 141 de la Ley 2056 de 2020.",0,24]
[null,null,"D4912940","Cajas de velocidad para automóviles",1,{"$f":"ROW()","v":1082},8,null,null,"2.1.3.05.03.001.01.02.02","Conocimiento y cartografía geológica del subsuelo A través de este rubro el Ministerio de Minas y Energía les asignará recursos, en el marco de lo dispuesto en los artículos 12 y 141 de la Ley 2056 de 2020.",0,24]
[null,null,"D4912941","Cajas de velocidad para vehículos pesados",1,{"$f":"ROW()","v":1083},8,null,null,"2.1.3.05.03.001.01.02.03","Incentivo a la exploración y a la producción A través de este rubro el Ministerio de Minas y Energía les asignará recursos, en el marco de lo dispuesto en los artículos 12 y 141 de la Ley 2056 de 2020.",0,24]
[null,null,"D4332005","Cajas de velocidades",1,{"$f":"ROW()","v":1084},8,null,null,"2.1.3.05.03.001.02.01","Sistema de Seguimiento, Evaluación y Control - Departamento Nacional de Planeación (DNP) A través de este rubro se asignaron recursos al DNP en el artículo 3 de la Ley 2072 de 2020.",0,21]
[null,null,"D4299301","Cajas fuertes",1,{"$f":"ROW()","v":1085},8,null,null,"2.1.3.05.03.001.02.02","Contraloría General de la República (CGR) A través de este rubro se asignaron recursos a la CGR en el artículo 3 de la Ley 2072 de 2020.",0,21]
[null,null,"D4299305","Cajas metálicas para contadores de gas domiciliario",1,{"$f":"ROW()","v":1086},8,null,null,"2.1.3.05.03.001.02.03","Procuraduría General de la Nación (PGN) A través de este rubro se asignaron recursos a la PGN en el artículo 3 de la Ley 2072 de 2020.",0,21]
[null,null,"D4299915","Cajas metálicas para herramientas",1,{"$f":"ROW()","v":1087},8,null,null,"2.1.3.05.03.001.03.01.01","Asignaciones directas (20% del SGR) Objeto de Gasto creado en el artículo 4 de la Ley 2072 de 2020 con fundamento en el art. 22 de la Ley 2056 de 2020.",0,24]
[null,null,"D3756011","Cajas o cámaras de concreto",1,{"$f":"ROW()","v":1088},8,null,null,"2.1.3.05.03.001.03.01.02","Asignaciones directas anticipadas (5% del SGR) Objeto de Gasto creado en el artículo 4 de la Ley 2072 de 2020 con fundamento en el art. 22 de la Ley 2056 de 2020.",0,24]
[null,null,"D4694004","Cajas para instalaciones eléctricas",1,{"$f":"ROW()","v":1089},8,null,null,"2.1.3.05.03.001.03.01.03","Incentivo a la producción, exloración y formalización Objeto de Gasto creado en el artículo 4 de la Ley 2072 de 2020 con fundamento en el art. 22 de la Ley 2056 de 2020.",0,24]
[null,null,"D4299307","Cajas para medidores",1,{"$f":"ROW()","v":1090},8,null,null,"2.1.3.05.03.001.03.01.04","Gestión del riesgo y adaptación del cambio climático A tarvés de este rubro se incorporarán los recursos pendientes por ejecutar de los recursos asignados para este fín en la Ley 1942 de 2020",0,24]
[null,null,"D4849001","Cajas para relojes",1,{"$f":"ROW()","v":1091},8,null,null,"2.1.3.05.03.001.03.01.05","Decretos Legislativos 574 y 798 de 2020 Art. 2.1.1.1.5. del Decreto 2190 de 2018",0,24]
[null,null,"D4694005","Cajas para transferencias, contadores, etc.",1,{"$f":"ROW()","v":1092},{"$f":"LEN(C1092)","v":8},null,null,"2.1.3.05.03.001.03.02.01","Asignación para la inversión local según NBI y cuarta, quinta y sexta categoría Objeto de Gasto creado en el artículo 4 de la Ley 2072 de 2020 con fundamento en el Art. 48 de la Ley 2056 de 2020.",0,{"$f":"LEN(J1092)","v":24}]
[null,null,"D3649010","Cajas plásticas para el transporte y almacenamiento de productos alimenticios",1,{"$f":"ROW()","v":1093},8,null,null,"2.1.3.05.03.001.03.02.02","Asignación para la inversión local - Ambiente y desarrollo sostenible Objeto de Gasto creado en el artículo 4 de la Ley 2072 de 2020 con fundamento en el Art. 48 de la Ley 2056 de 2020.",0,24]
[null,null,"D3649009","Cajas plásticas para transporte de botellas",1,{"$f":"ROW()","v":1094},8,null,null,"2.1.3.05.03.001.03.02.03.01","Pueblos y comunidades indígenas Objeto de Gasto creado en el artículo 4 de la Ley 2072 de 2020 con fundamento en los Arts. 48 y 73 de la Ley 2056 de 2020.",0,27]
[null,null,"D3215304","Cajas plegadizas y estuches de cartón",1,{"$f":"ROW()","v":1095},8,null,null,"2.1.3.05.03.001.03.02.03.02","Pueblos y comunidades indígenas - ambiente y desarrollo sostenible Objeto de Gasto creado en el artículo 4 de la Ley 2072 de 2020 con fundamento en los Arts. 48 y 73 de la Ley 2056 de 2020.",0,27]
[null,null,"D4514103","Cajas registradoras sin conexión a computadoras o redes",1,{"$f":"ROW()","v":1096},8,null,null,"2.1.3.05.03.001.03.02.03.03","Comunidades NARP Objeto de Gasto creado en el artículo 4 de la Ley 2072 de 2020 con fundamento en los Arts. 48 y 88 de la Ley 2056 de 2020.",0,27]
[null,null,"D4643004","Cajas y cubiertas de material plástico para baterías",1,{"$f":"ROW()","v":1097},8,null,null,"2.1.3.05.03.001.03.02.03.04","Comunidades NARP - Ambiente y desarrollo sostenible Objeto de Gasto creado en el artículo 4 de la Ley 2072 de 2020 con fundamento en los Arts. 48 y 88 de la Ley 2056 de 2020.",0,27]
[null,null,"D3729901","Cajas y tapas en porcelana para registros",1,{"$f":"ROW()","v":1098},8,null,null,"2.1.3.05.03.001.03.02.03.05","Pueblo Rrom gitano Objeto de Gasto creado en el artículo 4 de la Ley 2072 de 2020 con fundamento en los Arts. 48 y 102 de la Ley 2056 de 2020.",0,27]
[null,null,"D0429127","Cajero, fresco o refrigerado",1,{"$f":"ROW()","v":1099},8,null,null,"2.1.3.05.03.001.03.02.03.06","Pueblo Rrom gitano - Ambiente y desarrollo sostenible Objeto de Gasto creado en el artículo 4 de la Ley 2072 de 2020 con fundamento en los Arts. 48 y 102 de la Ley 2056 de 2020.",0,27]
[null,null,"D4514201","Cajeros automáticos",1,{"$f":"ROW()","v":1100},8,null,null,"2.1.3.05.03.001.03.03.01","Asignación para la inversión regional - Departamentos Objeto de Gasto creado en el artículo 4 de la Ley 2072 de 2020 con fundamento en el Art. 44 de la Ley 2056 de 2020.",0,24]
[null,null,"D3649022","Cajitas (estuches) de material plástico para casetes, CD y similares",1,{"$f":"ROW()","v":1101},8,null,null,"2.1.3.05.03.001.03.03.02.01","Región Caribe Objeto de Gasto creado en el artículo 4 de la Ley 2072 de 2020 con fundamento en el Art. 44 de la Ley 2056 de 2020.",0,27]
[null,null,"D4293108","Cajitas de aluminio",1,{"$f":"ROW()","v":1102},8,null,null,"2.1.3.05.03.001.03.03.02.02","Región Centro - Oriente Objeto de Gasto creado en el artículo 4 de la Ley 2072 de 2020 con fundamento en el Art. 44 de la Ley 2056 de 2020.",0,27]
[null,null,"D4293103","Cajitas de hojalata",1,{"$f":"ROW()","v":1103},8,null,null,"2.1.3.05.03.001.03.03.02.03","Región Eje Cafetero Objeto de Gasto creado en el artículo 4 de la Ley 2072 de 2020 con fundamento en el Art. 44 de la Ley 2056 de 2020.",0,27]
[null,null,"D3170003","Cajitas de madera para empaques",1,{"$f":"ROW()","v":1104},8,null,null,"2.1.3.05.03.001.03.03.02.04","Región Pacífico Objeto de Gasto creado en el artículo 4 de la Ley 2072 de 2020 con fundamento en el Art. 44 de la Ley 2056 de 2020.",0,27]
[null,null,"D3742002","Cal hidratada",1,{"$f":"ROW()","v":1105},8,null,null,"2.1.3.05.03.001.03.03.02.05","Región Centro - Sur - Amazonía Objeto de Gasto creado en el artículo 4 de la Ley 2072 de 2020 con fundamento en el Art. 44 de la Ley 2056 de 2020.",0,27]
[null,null,"D3742001","Cal viva",1,{"$f":"ROW()","v":1106},8,null,null,"2.1.3.05.03.001.03.03.02.06","Región del Llano Objeto de Gasto creado en el artículo 4 de la Ley 2072 de 2020 con fundamento en el Art. 44 de la Ley 2056 de 2020.",0,27]
[null,null,"D3742003","Cal viva molida",1,{"$f":"ROW()","v":1107},8,null,null,"2.1.3.05.03.001.03.03.03","Asignación para la inversión regional - Parágrafo 8 transitorio del artículo 361 de la C.P. Arts. 205 de la Ley 2056 de 2020.",0,24]
[null,null,"D0123501","Calabazas y calabacines",1,{"$f":"ROW()","v":1108},8,null,null,"2.1.3.05.03.001.03.03.04","Asignación para la inversión regional - Gestión del riesgo y adaptación del cambio climático Arts. 205 de la Ley 2056 de 2020.",0,24]
[null,null,"D2341001","Calados, tostadas y productos similares",1,{"$f":"ROW()","v":1109},8,null,null,"2.1.3.05.03.001.03.03.05","Asignación para la inversión regional - Compensación beneficiarios de asignaciones directas año 2020 Arts. 205 de la Ley 2056 de 2020.",0,24]
[null,null,"D2128002","Calamares enlatados",1,{"$f":"ROW()","v":1110},8,null,null,"2.1.3.05.03.001.03.03.06","Asignación para la inversión regional – Departamentos art. 209 de la Ley 2056 de 2020 Art. 2.1.1.1.5. del Decreto 2190 de 2018",0,24]
[null,null,"D2821001","Calcetería para hombres de punto",1,{"$f":"ROW()","v":1111},8,null,null,"2.1.3.05.03.001.03.04","Asignación ambiental Objeto de Gasto creado en el artículo 4 de la Ley 2072 de 2020 con fundamento en el Art. 22 de la Ley 2056 de 2020.",0,21]
[null,null,"D2821003","Calcetería para mujer de punto",1,{"$f":"ROW()","v":1112},8,null,null,"2.1.3.05.03.001.03.05","Conservación de las áreas ambientales estratégicas y la lucha nacional contra la deforestación Objeto de Gasto creado en el artículo 4 de la Ley 2072 de 2020 con fundamento en el Art. 22 de la Ley 2056 de 2020.",0,21]
[null,null,"D2821002","Calcetería para niños de punto",1,{"$f":"ROW()","v":1113},8,null,null,"2.1.3.05.03.001.03.06.01","Asignación para la ciencia, tecnología e innovación - Convocatorias Objeto de Gasto creado en el artículo 4 de la Ley 2072 de 2020 con fundamento en los Arts. 22 y 52 de la Ley 2056 de 2020.",0,24]
[null,null,"D3423102","Calcio",1,{"$f":"ROW()","v":1114},8,null,null,"2.1.3.05.03.001.03.06.02","Asignación para la ciencia, tecnología e innovación - Ambiente y desarrollo sostenible - Convocatorias Objeto de Gasto creado en el artículo 4 de la Ley 2072 de 2020 con fundamento en los Arts. 22 y 52 de la Ley 2056 de 2020.",0,24]
[null,null,"D1619908","Calcita",1,{"$f":"ROW()","v":1115},8,null,null,"2.1.3.05.03.001.03.06.03","Asignación para la ciencia, tecnología e innovación - Convocatorias 2021 Objeto de Gasto creado en el artículo 4 de la Ley 2072 de 2020 con fundamento en los Arts. 22 y 52 de la Ley 2056 de 2020.",0,24]
[null,null,"D3263001","Calcomanías",1,{"$f":"ROW()","v":1116},8,null,null,"2.1.3.05.03.001.03.06.04","Asignación para la ciencia, tecnología e innovación - Convocatorias 2021 - Ambiente y desarrollo sostenible Objeto de Gasto creado en el artículo 4 de la Ley 2072 de 2020 con fundamento en los Arts. 22 y 52 de la Ley 2056 de 2020.",0,24]
[null,null,"D4482501","Calderas para calefacción",1,{"$f":"ROW()","v":1117},8,null,null,"2.1.3.05.03.001.03.07.01","Asignación para la paz Objeto de Gasto creado en el artículo 4 de la Ley 2072 de 2020 con fundamento en el Art. 22 de la Ley 2056 de 2020.",0,24]
[null,null,"D4232001","Calderas y generadores de vapor",1,{"$f":"ROW()","v":1118},8,null,null,"2.1.3.05.03.001.03.07.02","Incentivos a la producción Acto Legislativo 04 de 2017 Objeto de Gasto creado en el artículo 4 de la Ley 2072 de 2020 con fundamento en el Art. 361 de la Constitución Política, el Art. 57 de la Ley 2056 de 2020.",0,24]
[null,null,"D3263002","Calendarios y almanaques",1,{"$f":"ROW()","v":1119},8,null,null,"2.1.3.05.03.001.03.07.03","Asignación para la paz - Adelanto art. 361 de la C.P. Objeto de Gasto creado en el artículo 4 de la Ley 2072 de 2020 con fundamento en el Art. 361 de la Constitución Política y los Arts. 60 y 152 de la Ley 2056 de 2020",0,24]
[null,null,"D4221004","Calentadores de agua no eléctricos",1,{"$f":"ROW()","v":1120},8,null,null,"2.1.3.05.03.001.03.07.04","Proyectos de infraestructura de transporte para la implementación del Acuerdo Final, paragrafo 8° transitorio del art . 361 de la C.P Art. 361 de la Constitución Política.",0,24]
[null,null,"D4481704","Calentadores eléctricos de agua",1,{"$f":"ROW()","v":1121},8,null,null,"2.1.3.05.03.001.03.08","Corporación Autónoma Regional del Rio Grande de la Magdalena Art. 22 de la Ley 2056 de 2020, Art. 4 Ley 2072 de 2020.",0,21]
[null,null,"D4481703","Calentadores eléctricos de ambiente",1,{"$f":"ROW()","v":1122},8,null,null,"2.1.3.05.03.001.03.09","Emprendimiento y generación de empleo Art. 361 de la Constitución Política y Art. 22 de la Ley 2056 de 2020",0,21]
[null,null,"D4823305","Calibradores",1,{"$f":"ROW()","v":1123},8,null,null,"2.1.3.05.03.001.04","Fondo de Ahorro y Estabilización (FAE) Objeto de Gasto creado en el artículo 4 de la Ley 2072 de 2020 con fundamento en el Art. 22 de la Ley 2056 de 2020.",0,18]
[null,null,"D1522002","Caliza triturada o molida (para cal o cemento)",1,{"$f":"ROW()","v":1124},8,null,null,"2.1.3.05.03.001.05","Transferencias de regalías para ser ejecutadas por otras entidades A través de este rubro las entidades beneficiarias de Asignaciones Directas transfieren la ordenación del gasto de los recursos al ejecutor del proyecto de inversión.",0,18]
[null,null,"D1512004","Caliza triturada o molida (para construcción)",1,{"$f":"ROW()","v":1125},8,null,null,"2.1.3.05.04.001.01","Participación del Impuesto Nacional a la Explotación de Oro, Plata y Platino Son las transferencias de recursos por concepto de la participación de los municipios productores en el impuesto nacional por la explotación de oro, plata y platino, administrado y recaudado por la Nación. En virtud del artículo 152 de la Ley 488 de 1998, este impuesto se destina con exclusividad a los municipios productores.",0,18]
[null,null,"D2931002","Calzado de caucho impermeable para hombre",1,{"$f":"ROW()","v":1126},8,null,null,"2.1.3.05.04.001.02","Participación del Impuesto sobre vehículos automotores Es la transferencia de recursos por concepto de la participación de los municipios en el Impuesto sobre Vehículos Automotores. La administración y recaudo de este impuesto se encuentra a cargo de los Departamentos. De acuerdo con la Ley 488 de 1998, el 20% del impuesto en mención pertenece a los municipios.",0,18]
[null,null,"D2931003","Calzado de caucho impermeable para mujer",1,{"$f":"ROW()","v":1127},8,null,null,"2.1.3.05.04.001.03","Participación Providencia Son las transferencias que realiza el departamento de San Andrés, Providencia y Santa Catalina al municipio de Providencia por concepto de su participación en las rentas departamentales. De acuerdo con el artículo 310 de la Constitución Política, el municipio de Providencia tiene una participación del 20% del valor total de las rentas del departamento.",0,18]
[null,null,"D2931004","Calzado de caucho impermeable para niño",1,{"$f":"ROW()","v":1128},8,null,null,"2.1.3.05.04.001.04","Participación de la Sobretasa al consumo de cigarrillos y tabaco elaborado Son las transferencias por concepto de la participación de Bogotá D.C. en la sobretasa al consumo de cigarrillos y tabaco elaborado (Ley 1393 de 2010). De acuerdo con el artículo 7 de la Ley 1393 de 2010, los recursos de esta sobretasa son destinados al sector salud; específicamente, a la universalización en el aseguramiento, la unificación de los planes obligatorios de salud, y los excedentes, a la financiación de servicios prestados a la población pobre.",0,18]
[null,null,"D2932002","Calzado de caucho para baño",1,{"$f":"ROW()","v":1129},8,null,null,"2.1.3.05.04.001.05","Participación del Impuesto de registro Son las transferencias de recursos por concepto de la participación de Bogotá D.C. en el impuesto de registro. De acuerdo con la Ley 223 de 1995, las Oficinas de Registro de Instrumentos Públicos (ORIP) son las encargadas de liquidar y recaudar este impuesto, y posteriormente, de girar estos recursos a los departamentos. De acuerdo con el artículo 234 de la Ley en mención, el Distrito Capital tiene una participación en el 30% del impuesto de registro que se cause en su jurisdicción.",0,18]
[null,null,"D2949003","Calzado de caucho para deporte",1,{"$f":"ROW()","v":1130},8,null,null,"2.1.3.05.04.001.06","Participación del Impuesto adicional del 10% a las cajetillas de cigarrillos nacionales Es la transferencia de recursos por concepto de la participación de Bogotá D.C. en el impuesto adicional del 10% sobre el valor de cada una de las cajetillas de cigarrillos nacionales que se expendan al público (Ley 30 de 1971, Art. 2).De acuerdo con el artículo 78 de la Ley 181 de 1995, este impuesto es recaudado por las tesorerías departamentales. este artículo también establece que el valor efectivo de este impuesto debe ser girado al ente deportivo correspondiente.",0,18]
[null,null,"D2933009","Calzado de cuero para colegiales",1,{"$f":"ROW()","v":1131},8,null,null,"2.1.3.05.04.001.07","Participación del Impuesto al consumo de cigarrillos y tabaco Son las transferencias de recursos por concepto de la participación de Bogotá D.C. en el impuesto al consumo de cigarrillos y tabaco de producción nacional. De acuerdo con el artículo 213 de la Ley 223 de 1995, el Distrito Capital participa en un 20% del impuesto que se genere en el departamento de Cundinamarca.",0,18]
[null,null,"D2933001","Calzado de cuero para hombre",1,{"$f":"ROW()","v":1132},8,null,null,"2.1.3.05.04.001.08","Participación del Impuesto al degüello de ganado mayor (en los términos que lo defina la Ordenanza) Son las transferencias de recursos por concepto de la participación de los departamentos o municipios en el impuesto al degüello de ganado mayor, siempre que mediante ordenanza se haya cedido parcialmente este tributo.",0,18]
[null,null,"D2933003","Calzado de cuero para mujer",1,{"$f":"ROW()","v":1133},8,null,null,"2.1.3.05.04.001.09","Participación del IVA Antiguas intendencias y comisarías Son las transferencias de recursos que realiza la Nación (MHCP) por concepto de la cesión del IVA a los departamentos de Guaviare, Putumayo, Vaupés, Vichada, San Andrés Providencia y Santa Catalina, Amazonas, Arauca, Casanare y Guainía.",0,18]
[null,null,"D2933005","Calzado de cuero para niño o niña",1,{"$f":"ROW()","v":1134},8,null,null,"2.1.3.05.04.001.10","Participación de la Sobretasa al ACPM Son las transferencias de recursos por concepto de la participación de los departamentos y el Distrito Capital en la contribución nacional sobretasa al ACPM. De acuerdo con el artículo 117 de la Ley 488 de 1998, esta contribución es cobrada por la Nación y distribuida en un 50% para los departamentos y el Distrito Capital.",0,18]
[null,null,"D2933010","Calzado de cuero para protección",1,{"$f":"ROW()","v":1135},8,null,null,"2.1.3.05.04.001.11","Participación del Impuesto nacional al consumo del servicio de telefonía móvil Son las transferencias de recursos que realiza la Nación por concepto del impuesto nacional al consumo del servicio de telefonía móvil, en desarrollo del artículo 72 de la Ley 1607 de 2012 y el Estatuto Tributario. Este artículo establece que el 25% del recaudo del impuesto en mención debe ser transferido al Distrito Capital y a los departamentos.",0,18]
[null,null,"D2932003","Calzado de material plástico para baño",1,{"$f":"ROW()","v":1136},8,null,null,"2.1.3.05.04.001.12","Participación del IVA licores, vinos, aperitivos y similares Es la transferencia por concepto de la participación de Bogotá D.C. en el Impuesto al Valor Agregado (IVA) que grava los licores, vinos, aperitivos y similares. De acuerdo con la Ley 788 de 2002 y el Decreto 1150 de 2003, estos recursos deben destinarse en un 30% para el sector deporte y el 70% restante para el sector salud.",0,18]
[null,null,"D2932004","Calzado de material plástico para hombre",1,{"$f":"ROW()","v":1137},8,null,null,"2.1.3.05.04.001.13.01","Transferencia de la sobretasa ambiental a las Corporaciones Autónomas Regionales Son las transferencias de recursos de la sobretasa ambiental para las Corporaciones Autónomas Regionales (Art. 1. Decreto 1339 de 1994). De acuerdo con el Artículo 44 de la Ley 99 de 1993, el giro de estos recursos debe realizarse de forma trimestral y excepcionalmente, por anualidades antes del 30 de marzo de cada año siguiente al periodo de recaudo.",0,21]
[null,null,"D2932005","Calzado de material plástico para mujer",1,{"$f":"ROW()","v":1138},8,null,null,"2.1.3.05.04.001.13.02","Transferencia de la sobretasa ambiental a las Áreas Metropolitanas Son las transferencias de recursos de la sobretasa ambiental para las Áreas Metropolitanas.",0,21]
[null,null,"D2932007","Calzado de material plástico para niña",1,{"$f":"ROW()","v":1139},8,null,null,"2.1.3.05.04.001.14","Participación sobretasa a la gasolina - Fondo Subsidio Sobretasa a la Gasolina Es la transferencia de recursos que realizan los departamentos al Fondo de Subsidio de la Sobretasa a la Gasolina, por concepto del 5% de los recursos recaudados por concepto de esta sobretasa. Estos recursos se giran en virtud del artículo 130 de la Ley 488 de 1998.",0,18]
[null,null,"D2932006","Calzado de material plástico para niño",1,{"$f":"ROW()","v":1140},8,null,null,"2.1.3.05.04.001.15","Participación ambiental del recaudo del impuesto predial Son las transferencias de recursos por participación ambiental del recaudo del impuesto predial, que la Ley 99 de 1993, art. 44, autorizó a las entidades territoriales a transferir a las Áreas Metropolitanas y las Corporaciones Autónomas Regionales.",0,18]
[null,null,"D2934001","Calzado de tela para bebé",1,{"$f":"ROW()","v":1141},8,null,null,"2.1.3.05.04.001.16","Participación en Estampillas Son los ingresos que reciben algunas entidades públicas beneficiarias del recaudo de estampillas, por parte de alguna unidad del gobierno general. Estos recaudos por disposición legal están destinadas a un fin específico o para el fortalecimiento de un sector en particular.",0,18]
[null,null,"D2934002","Calzado de textiles y caucho para hombre",1,{"$f":"ROW()","v":1142},8,null,null,"2.1.3.05.04.002.01","Participación de aportes solidarios o contribuciones de solidaridad de servicios públicos Son las transferencias de recursos que realizan las Empresas de Servicios Públicos (ESP) a los Fondos de Solidaridad y Redistribución de Ingresos (FSRI), correspondiente a la diferencia entre las contribuciones solidarias recibidas y los subsidios cubiertos por la empresa (Ley 142 de 1994, art. 89, numeral 1).De acuerdo con el numeral 2 del artículo 89 de la Ley 142 de 1994, y el artículo 12 del Decreto 565 de 1996, las ESP son las encargadas de recaudar estas contribuciones y aplicarlas para el pago de subsidios. En caso de superávit, estos recursos deben ser girados a los FSRI del municipio donde se prestó el servicio.",0,18]
[null,null,"D2934003","Calzado de textiles y caucho para mujer",1,{"$f":"ROW()","v":1143},8,null,null,"2.1.3.05.04.002.02","Participación de la contribución parafiscal cultural Son las transferencias de recursos que realiza el Ministerio de Cultura a los municipios o distritos, por concepto de su derecho sobre la contribución parafiscal cultural. Esta contribución, creada mediante la Ley 1493 de 2011, es recaudada por el Ministerio de Cultura. De acuerdo con el artículo 12 de esta Ley, el Ministerio tiene la obligación de realizar el giro de recursos a las secretarías de hacienda municipales y distritales el mes inmediatamente siguiente a la fecha de recaudo de la contribución.",0,18]
[null,null,"D2934004","Calzado de textiles y caucho para niños",1,{"$f":"ROW()","v":1144},8,null,null,"2.1.3.05.04.002.03","Participación en contribución del Fondo Nacional de Universidades Estatales de Colombia Son las transferencias de recursos que realiza el Ministerio de Educación Nacional a las Universidades Estatales por su participación en la contribución del Fondo Nacional de Universidades Estatales de Colombia, en virtud la Ley 1697 de 2013. La distribución de recursos, luego de la promulgación de la ley mencionada, es la siguiente: en los primeros 5 años, el 70% de los recursos se destinan a la Universidad Nacional de Colombia y el 30% al resto de universidades estatales; al inicio del sexto año, la distribución se revierte, de tal manera que a la Universidad Nacional le corresponde el 30% y al resto de universidades estatales el 70%.",0,18]
[null,null,"D2934005","Calzado de textiles y plástico para hombre",1,{"$f":"ROW()","v":1145},8,null,null,"2.1.3.05.04.003.01","Participación de sanciones del impuesto sobre vehículos automotores Son las transferencias de recursos por concepto de la participación de los municipios en las sanciones impuestas por el incumplimiento de pago del Impuesto sobre Vehículos Automotores. La administración y recaudo de este impuesto se encuentra a cargo de los Departamentos. De acuerdo con la Ley 488 de 1998, el 20% del impuesto en mención pertenece a los municipios.",0,18]
[null,null,"D2934006","Calzado de textiles y plástico para mujer",1,{"$f":"ROW()","v":1146},8,null,null,"2.1.3.05.04.003.02","Participación de intereses de mora sobre el impuesto sobre vehículos automotores Son las transferencias de recursos por concepto de la participación de los municipios en los intereses por mora del impuesto sobre vehículos automotores. La administración y recaudo de este impuesto se encuentra a cargo de los Departamentos. De acuerdo con la Ley 488 de 1998, el 20% del impuesto en mención pertenece a los municipios.",0,18]
[null,null,"D2934007","Calzado de textiles y plástico para niños",1,{"$f":"ROW()","v":1147},8,null,null,"2.1.3.05.04.003.03","Participación de intereses de mora sobre la sobretasa ambiental Son las transferencias de recursos de los intereses recaudados por la mora en el pago de la sobretasa ambiental. De acuerdo con el artículo 2 del Decreto Reglamentario 1319 de 1994, los intereses que se causen por mora en el pago del IPU, también se causan para el pago y transferencia de la sobretasa ambiental.",0,18]
[null,null,"D2949002","Calzado deportivo de cuero",1,{"$f":"ROW()","v":1148},8,null,null,"2.1.3.05.04.004.01.01","Calizas, yesos, arcillas, gravas , minerales no metálicos y materiales de construcción Son las transferencias de recursos del régimen anterior de regalías derivados de la explotación y transporte de calizas, yesos, arcillas, gravas y otros minerales no metálicos, que reciben los departamentos, municipios y distritos productores y portuarios. (Art 38, Ley 141 de 1994)",0,21]
[null,null,"D4817103","Calzado ortopédico",1,{"$f":"ROW()","v":1149},8,null,null,"2.1.3.05.04.004.01.02","Carbón Son las transferencias de recursos del régimen anterior de regalías derivados de la explotación y transporte de carbón, que reciben los departamentos, municipios y distritos productores y portuarios. (Art 32, Ley 141 de 1994)",0,21]
[null,null,"D2952002","Calzado para protección (excepto de cuero)",1,{"$f":"ROW()","v":1150},8,null,null,"2.1.3.05.04.004.01.03","Hidrocarburos, petróleo y gas Son las transferencias de recursos del régimen anterior de regalías, derivados de la explotación y transporte de hidrocarburos, que reciben los departamentos, municipios y distritos productores y portuarios. (Art. 31, Ley 141 de 1994)",0,21]
[null,null,"D3626003","Calzones de caucho",1,{"$f":"ROW()","v":1151},8,null,null,"2.1.3.05.04.004.01.04","Níquel, hierro, cobre y demás minerales metálicos Son las transferencias de recursos del régimen anterior de regalías derivados de la explotación y transporte de Níquel, hierro y cobre, que reciben los departamentos, municipios y distritos productores y portuarios. (Art 33 y 34, Ley 141 de 1994)",0,21]
[null,null,"D4816004","Cámara hiperbárica",1,{"$f":"ROW()","v":1152},8,null,null,"2.1.3.05.04.004.01.05","Oro, plata, platino y piedras preciosas Son las transferencias de recursos del régimen anterior de regalías derivados de la explotación de oro, plata, platino y priedras preciosas, que reciben los departamentos, municipios y distritos productores. (Art 35 y 36, Ley 141 de 1994)",0,21]
[null,null,"D4221005","Cámaras de combustión para calentadores de agua no eléctricos",1,{"$f":"ROW()","v":1153},8,null,null,"2.1.3.05.04.004.01.06","Sal Son las transferencias de recursos del régimen anterior de regalías derivados de la explotación y transporte de sal, que reciben los departamentos, municipios y distritos productores y portuarios. (Art 37, Ley 141 de 1994)",0,21]
[null,null,"D4832201","Cámaras fotográficas",1,{"$f":"ROW()","v":1154},8,null,null,"2.1.3.05.05.001","Compensación por menor recaudo de los derechos de explotación del juego de apuestas permanentes Son las transferencias de recursos que realiza la Nación a los departamentos y el Distrito Capital por la disminución en términos constantes del recaudo por concepto de derechos de explotación del juego de las apuestas permanentes o chance. Esta transferencia se realiza siguiendo el giro de recursos previsto en el Decreto 2550 de 2012.",0,15]
[null,null,"D0436401","Camarones de agua dulce de cultivo, sin congelar",1,{"$f":"ROW()","v":1155},8,null,null,"2.1.3.05.05.002","Compensación Impuesto Predial Unificado territorios colectivos de comunidades negras Es la compensación que realiza la Nación por concepto de Impuesto Predial Unificado (IPU) a los municipios donde existan territorios colectivos de comunidades negras. De acuerdo con el artículo 255 del Plan Nacional de Desarrollo 2014-2018 \"Todos por un nuevo país\" (Ley 1753 de 2015), con cargo al Presupuesto General de la Nación, el MHCP debe girar anualmente el monto que dejen de recaudar por concepto del IPU, a los municipios donde existan territorios colectivos de comunidades negras.",0,15]
[null,null,"D0436301","Camarones de cultivo, sin congelar",1,{"$f":"ROW()","v":1156},{"$f":"LEN(C1156)","v":8},null,null,"2.1.3.05.05.003","Compensación Impuesto Predial Unificado resguardos indígenas Es la compensación que realiza la Nación por concepto de IPU a los municipios donde existan resguardos indígenas. De acuerdo con el artículo 184 de la Ley 233 de 1995, que modifica el artículo 24 de la Ley 44 de 1990, la Nación debe girar a los municipios el equivalente al IPU de los predios pertenecientes a los resguardos indígenas legalmente constituidos en su jurisdicción.",0,{"$f":"LEN(J1156)","v":15}]
[null,null,"D2127001","Camarones enlatados",1,{"$f":"ROW()","v":1157},8,null,null,"2.1.3.05.06.001.01","Derechos de monopolio de explotación de juegos novedosos Es el porcentaje de la transferencia que realiza Coljuegos a Municipios y distritos, de juegos novedosos distintos del loto en línea. Por lo menos el 75% de los recursos recibidos por las transferencias de derechos de juegos localizados, deben ser destinados a la inversión en salud. De acuerdo con el artículo 60 de la Ley 715 de 2001, los gastos de funcionamiento de las Direcciones Territoriales de Salud podrán financiarse con sus ingresos corrientes de libre destinación (ICLD) y podrán destinar hasta un 25% de las rentas cedidas para tal fin.",0,18]
[null,null,"D2125601","Camarones salados y secos",1,{"$f":"ROW()","v":1158},8,null,null,"2.1.3.05.06.001.02","Derechos de monopolio de explotación de Loto en línea Es la transferencia de recursos que realiza Coljuegos a municipios distritos de lotto en línea referidos en el artículo 2 de la Ley 728 de 2015. De acuerdo con este artículo, los recursos provenientes de Loto en línea administrados por Coljuegos, pueden ser asignados a las entidades territoriales para la financiación del régimen subsidiado de salud, una vez la entidad tenga cubierto su pasivo pensional en el FONPET.",0,18]
[null,null,"D0436101","Camarones sin congelar",1,{"$f":"ROW()","v":1159},8,null,null,"2.1.3.05.06.002","Derechos de monopolio de explotación de juegos localizados Es la transferencia de recursos que realiza Coljuegos a los municipios y distritos por concepto de los derechos de monopolio por explotación de los juegos de suerte y azar localizados. Se entiende por juegos localizados aquellos que operan con equipos y elementos de juegos en establecimientos de comercio; tales como: bingos, videobingos, esferódromos, máquinas tragamonedas y los operadores en casinos (Art. 32, Ley 643 de 2001 reglamentado por el Decreto 1278 de 2014).De acuerdo con el Artículo 8 del Decreto 1478 de 2014, estas rentas deben ser giradas mensualmente por Coljuegos a los municipuos y al Distrito Capital.",0,15]
[null,null,"D3814012","Camarotes de madera",1,{"$f":"ROW()","v":1160},8,null,null,"2.1.3.05.07.001","Apoyo a programas de desarrollo de la salud Ley 100 de 1993 Transferencias a Empresas Públicas departamentales dedicadas a actividades no financieras, en virtud de la Ley 100 de 1993, con el objeto de desarrollar programas en el desarrollo de la salud.",0,15]
[null,null,"D3814005","Camarotes metálicos",1,{"$f":"ROW()","v":1161},8,null,null,"2.1.3.05.07.002","Asistencia ancianos, niños adoptivos y población desprotegida Ley 1251 de 2002 Transferencias a Empresas Públicas departamentales dedicadas a actividades no financieras, en virtud de las Leyes 1251 de 2002, y 12 de 1991, las cuales amparan los derechos de los ancianos y niños adoptados, respectivamente. Esta transferencia se realiza con el ánimo de la protección de los derechos de estas personas, en general, de la población desprotegida.",0,15]
[null,null,"D3814008","Camas de madera",1,{"$f":"ROW()","v":1162},8,null,null,"2.1.3.05.07.003","Recursos a municipios, espectáculos públicos Art. 7 de la Ley 1493 del 26 de diciembre de 2011",0,15]
[null,null,"D3814015","Camas en mimbre, bambú o similares",1,{"$f":"ROW()","v":1163},8,null,null,"2.1.3.05.07.004","Suministro de medicamentos de leishmaniasis Transferencias de la Nación a las entidades territoriales por concepto de suministro de medicamentos para atender a los pacientes de leishimaniasis , en virtud de la Ley 715 de de 2001, la cual estipula en su artículo 42, numeral 2, que la Nación debe impulsar, coordinar, financiar, cofinanciar y evaluar programas, planes y proyectos de inversión en materia de salud, con recursos diferentes a los del Sistema General de Participaciones, tal como se evidencia en el Protocolo de Vigilancia en Salud Pública Leishmaniasis.",0,15]
[null,null,"D3814001","Camas metálicas",1,{"$f":"ROW()","v":1164},8,null,null,"2.1.3.05.07.005","Prevención de la farmacodependencia y de medicamentos de control especial Transferencias de la Nación a los departamentos en virtud del Decreto 205 de 2003, y la Resolución 1479 de 2006 del Ministerio de la Protección Social, con el fin de prevenir la farmacodependencia y fortalecer las medidas en torno a los medicamentos de control especial.",0,15]
[null,null,"D4818001","Camas metálicas para hospitales",1,{"$f":"ROW()","v":1165},8,null,null,"2.1.3.05.07.006","Departamento Archipiélago de San Andrés, Providencia y Santa Catalina (Ley 1a. de 1972) Transferencias al departamento Archipiélago de San Andrés, Providencia y Santa Catalina, en virtud de la Ley 1A de 1972, por medio de la cual se dictan disposicionales en un estatuto especial en el cual se establece la naturaleza jurídica, el régimen administrativo, el régimen de las entidades descentralizadas del orden intendencial, régimen fiscal y presupuestal.",0,15]
[null,null,"D2719008","Camas para mascotas, confeccionadas en tela",1,{"$f":"ROW()","v":1166},8,null,null,"2.1.3.05.07.007","Recursos para cofinanciación de coberturas en educación y salud de las entidades territoriales productoras, artículo 145 de la Ley 1530 de 2012 Transferencias que realiza la Nación para la financiación y cofinanciación de los programas y proyectos de alimentación escolar y régimen subsidiado que en virtud de las normas sobre regalías vigentes, antes de la expedición del Decreto 4923 de 2011 y la Ley 1530 de 2012, sean financiados con recursos de regalías directas por las entidades territoriales a que se refiere el inciso 2° del artículo 361 de la Constitución Política.",0,15]
[null,null,"D4299914","Cambriones para calzado",1,{"$f":"ROW()","v":1167},8,null,null,"2.1.3.05.07.008","Fondo de Desarrollo para la Guajira - FONDEG, artículo 19 Ley 677 de 2001 Transferencias en virtud del artículo 19 de la Ley 677 de 2001, por medio del cual la Nación cede la renta generada por concepto del impuesto único de ingreso a la mercancía importada a la Zona de Régimen Aduanera Especial de Maicao, Uribia, y Manaure, al departamento de La Guajira. Estos recursos se administran en el Fondo de Desarrollo para la Guajira (FONDEG), y deben ser destinados exclusivamente a obras de inversión social dentro del territorio de dicho departamento.",0,15]
[null,null,"D3611501","Camel back",1,{"$f":"ROW()","v":1168},8,null,null,"2.1.3.05.07.009","Recursos de oro y platino para los municipios productores Decreto 2173/92",0,15]
[null,null,"D4818007","Camillas metálicas",1,{"$f":"ROW()","v":1169},8,null,null,"2.1.3.05.07.010","Recursos a los municipios con resguardos indígenas Art. 24 Ley 44 de 1990, art. 184 Ley 223 de 1995",0,15]
[null,null,"D4911402","Camiones",1,{"$f":"ROW()","v":1170},8,null,null,"2.1.3.05.07.011","Aportes a programas de prevención y control de enfermedades transmitidas por vectores Transferencias de la Nación a los departamentos por concepto de aportes a los programas de prevención y control de enfermedades transmitidas por vectores, en virtud de la Ley 715 de 2001, la cual estipula en su artículo 42, numeral 2, que la Nación debe impulsar, coordinar, financiar, cofinanciar y evaluar programas, planes y proyectos de inversión en materia de salud, con recursos diferentes a los del Sistema General de Participaciones.",0,15]
[null,null,"D4911401","Camionetas",1,{"$f":"ROW()","v":1171},8,null,null,"2.1.3.05.07.012","Pueblo Nukak Maku (artículo 35 Decreto 1953 de 2014)",0,15]
[null,null,"D2822205","Camisas de fibras artificiales y sintéticas en tejido de punto para hombre",1,{"$f":"ROW()","v":1172},8,null,null,"2.1.3.05.07.013","Transferir a las entidades territoriales para apoyar la operación del programa de alimentación escolar Es la transferencia que realizan el Gobierno Nacional y las entidades territoriales por concepto de recursos para la financiación de los programas de alimentación escolar.",0,15]
[null,null,"D2822206","Camisas de fibras artificiales y sintéticas en tejido de punto para niño",1,{"$f":"ROW()","v":1173},8,null,null,"2.1.3.05.07.014","Recursos a los municipios con territorios colectivos de comunidades negras. Artículo 255 Ley 1753 de 2015",0,15]
[null,null,"D2823217","Camisas de paño para hombre",1,{"$f":"ROW()","v":1174},8,null,null,"2.1.3.05.07.015","Seguimiento, actualización de cálculos actuariales, diseño de admón. Financiera del pasivo pensional de las entidades territoriales (artículo 48 de la Ley 863/2003)",0,15]
[null,null,"D2823415","Camisas de paño para mujer",1,{"$f":"ROW()","v":1175},8,null,null,"2.1.3.05.07.016","Pago acreencias Ley 226 de 1995 Transferencias realizadas por la Nación para llevar a cabo procedimientos de enajenación de la propiedad accionaria de entidades que presten un servicio público, conforme al artículo 6 de la Ley 226 de 1995.",0,15]
[null,null,"D2823211","Camisas de tejidos planos de algodón para hombre",1,{"$f":"ROW()","v":1176},8,null,null,"2.1.3.05.07.017","Cumplimiento parágrafo único artículo 4° Ley 1393 de 2010. Compensación departamentos",0,15]
[null,null,"D2823212","Camisas de tejidos planos de algodón para niño",1,{"$f":"ROW()","v":1177},8,null,null,"2.1.3.05.07.018","Compensación de las disminuciones del recaudo por concepto de derechos de explotación del juego de apuestas permanentes. Decreto 2550 de 2012",0,15]
[null,null,"D2823213","Camisas de tejidos planos de fibras artificiales y sintéticas para hombre",1,{"$f":"ROW()","v":1178},8,null,null,"2.1.3.05.07.019","Cumplimiento parágrafo único artículo 4° Ley 1393 de 2010. Compensación Distrito Capital",0,15]
[null,null,"D2823214","Camisas de tejidos planos de fibras artificiales y sintéticas para niño",1,{"$f":"ROW()","v":1179},8,null,null,"2.1.3.05.07.020","Transferencia a departamentos, municipios y FONPET, recursos de juegos de suerte y azar - Ley 643 de 2001 Corresponde a las transferencias corrientes que realizan las empresas de lotería por concepto del veinticinco por ciento (25%) de los recursos de monopolio de juegos de suerte y azar para funcionamiento de las Secretarías de Salud de los departamentos.",0,15]
[null,null,"D2823216","Camisas de tejidos planos mezclados para hombre",1,{"$f":"ROW()","v":1180},8,null,null,"2.1.3.05.07.021","Distribución de recursos impuesto nacional al consumo sobre los servicios de telefonía móvil - sector cultura, Art 201 Ley 1819 de 2016",0,15]
[null,null,"D2823215","Camisas de tejidos planos mezclados para niño",1,{"$f":"ROW()","v":1181},8,null,null,"2.1.3.05.07.022","Organización y funcionamiento Departamento del Amazonas",0,15]
[null,null,"D2822501","Camiseta interior de algodón de punto",1,{"$f":"ROW()","v":1182},8,null,null,"2.1.3.05.07.023","Organización y funcionamiento Departamento del Guainía",0,15]
[null,null,"D2823219","Camisetas de tejido de fibras artificiales o sintéticas",1,{"$f":"ROW()","v":1183},8,null,null,"2.1.3.05.07.024","Organización y funcionamiento Departamento del Guaviare",0,15]
[null,null,"D2823218","Camisetas de tejido plano de algodón",1,{"$f":"ROW()","v":1184},8,null,null,"2.1.3.05.07.025","Organización y funcionamiento Departamento del Vaupés",0,15]
[null,null,"D4912920","Campana para automotores",1,{"$f":"ROW()","v":1185},8,null,null,"2.1.3.05.07.026","Organización y funcionamiento Departamento del Vichada",0,15]
[null,null,"D4911302","Camperos",1,{"$f":"ROW()","v":1186},8,null,null,"2.1.3.05.07.027","Participación IVA - Departamento Archipiélago de San Andrés Providencia y Santa Catalina",0,15]
[null,null,"D3698001","Canaletas plasticas para lineas de conducción eléctrica",1,{"$f":"ROW()","v":1187},8,null,null,"2.1.3.05.07.028","Participación IVA - Departamento del Amazonas",0,15]
[null,null,"D4123107","Canaletas, cubiertas y similares en lámina de hierro o acero, galvanizada o revestida",1,{"$f":"ROW()","v":1188},8,null,null,"2.1.3.05.07.029","Participación IVA - Departamento del Arauca",0,15]
[null,null,"D4291229","Canastas de alambre",1,{"$f":"ROW()","v":1189},8,null,null,"2.1.3.05.07.030","Participación IVA - Departamento del Casanare",0,15]
[null,null,"D3170002","Canastas de madera",1,{"$f":"ROW()","v":1190},8,null,null,"2.1.3.05.07.031","Participación IVA - Departamento del Guainía",0,15]
[null,null,"D3192302","Canastas de mimbre, caña, etc.",1,{"$f":"ROW()","v":1191},8,null,null,"2.1.3.05.07.032","Participación IVA - Departamento del Guaviare",0,15]
[null,null,"D4394402","Canastas para máquinas embotelladoras",1,{"$f":"ROW()","v":1192},8,null,null,"2.1.3.05.07.033","Participación IVA - Departamento del Putumayo",0,15]
[null,null,"D4291241","Canastillas y otros accesorios de aluminio para cocinas integrales",1,{"$f":"ROW()","v":1193},8,null,null,"2.1.3.05.07.034","Participación IVA - Departamento del Vaupés",0,15]
[null,null,"D3219914","Canastillas y similares de cartón",1,{"$f":"ROW()","v":1194},8,null,null,"2.1.3.05.07.035","Participación IVA - Departamento del Vichada",0,15]
[null,null,"D3649023","Canastillas y similares de material plástico para empaque de botella",1,{"$f":"ROW()","v":1195},8,null,null,"2.1.3.05.07.036","Transferir por regalías derivadas explotación de sal en Manaure - Guajira. Leyes 141 de 1994, 549 de 1993 y 863 de 2003.",0,15]
[null,null,"D3219908","Canastillas y similares de papel para repostería",1,{"$f":"ROW()","v":1196},8,null,null,"2.1.3.05.07.037","A instituciones de educación superior - establecimientos públicos del orden territorial - artículo 183 de la Ley 1955 de 2019",0,15]
[null,null,"D4299206","Candados",1,{"$f":"ROW()","v":1197},8,null,null,"2.1.3.05.07.038","Apoyo para el desarrollo de las actividades de docencia, investigación o extensión Corresponde a transferencias que realizan las universidades a entidades territoriales (municipios o departamentos) con el fin de aportar en el desarrollo de actividades de docencia, investigación o extensión, asi mismo, por ejemplo, la distribución de utilidades, o la financiación de proyectos, contrapartidas.",0,15]
[null,null,"D2392501","Canela elaborada",1,{"$f":"ROW()","v":1198},8,null,null,"2.1.3.05.07.039","Transferencia a Fondos Territoriales de Mitigación del Riesgo Corresponde al giro anual de recursos que deben realizar las entidades descentralizadas para la sostenibilidad del Fondo de Mitigación de Riesgos ordenado por un Acuerdo municipal.",0,15]
[null,null,"D0165501","Canela sin elaborar",1,{"$f":"ROW()","v":1199},8,null,null,"2.1.3.05.07.040","Transferencia de recursos para la descontaminación ambiental de Barrancabermeja Aquellos recursos que transfiere CORMAGDALENA a Barrancabermeja para efectos de la descontaminación ambiental, para tal efecto la junta directiva de la mencionada empresa, destinará no menos de 10 mil salarios mínimos mensuales.",0,15]
[null,null,"D2372103","Canelones",1,{"$f":"ROW()","v":1200},8,null,null,"2.1.3.05.07.041","Devolución de aportes a Entidades Territoriales Constituye aquellas erogaciones que realizan las EICES, cuando se ordena o solicita la devolución de aportes que han realizado las entidades territoriales.",0,15]
[null,null,"D0431101","Cangrejos sin congelar",1,{"$f":"ROW()","v":1201},8,null,null,"2.1.3.05.07.042","Transferencia de ventas brutas a municipios – Ley 1930 2018 art. 24 Transferencia del 3% de las ventas brutas a los municipios de las empresas del sector eléctrico cuya potencia nominal instalada total supere los 10.000 kilovatios",0,15]
[null,null,"D4293110","Cantinas metálicas de 10 litros y más",1,{"$f":"ROW()","v":1202},8,null,null,"2.1.3.05.07.043","Transferencia del recaudo del impuesto al consumo de productos de origen extranjero Corresponde a la transferencia que realiza el Fondo Cuenta del Impuesto al Consumo de productos de origen extranjero, administrado por la Federación Nacional de Departamentos, a favor de los departamentos y Bogotá. Por concepto de los recursos obtenidos por el recaudo del Impuesto al consumo de licores, cervezas y cigarrillos de origen extranjero.",0,15]
[null,null,"D0180201","Caña azucarera y/o panelera",1,{"$f":"ROW()","v":1203},8,null,null,"2.1.3.05.07.044","Transferencia de rendimientos financieros del recaudo del impuesto al consumo de productos de origen extranjero. Corresponde a la transferencia que realiza el Fondo Cuenta del Impuesto al Consumo de productos de origen extranjero, administrado por la Federación Nacional de Departamentos, a favor de los departamentos y Bogotá. Por concepto de los rendimientos financieros generados por el recaudo del Impuesto al consumo de licores, cervezas y cigarrillos de origen extranjero.",0,15]
[null,null,"D3914902","Caña molida - polvillo de caña",1,{"$f":"ROW()","v":1204},8,null,null,"2.1.3.05.08.001","Región Administrativa de Planificación Especial-RAPE Corresponde a la transferencias corrientes que se realizan a la Región Administrativa de Planificación Especial - RAPE. La RAPE-Región Central es un esquema asociativo de origen constitucional, creado al amparo del artículo 325 de la Carta Política y de la Ley Orgánica de Ordenamiento Territorial o Ley 1454 de 2011, previa autorización de las respectivas asambleas departamentales y el Concejo Distrital. Tiene la naturaleza jurídica de un esquema de asociación entre entidades territoriales, con personería jurídica, autonomía y patrimonio.",0,15]
[null,null,"D0192903","Cáñamo en rama o enriado",1,{"$f":"ROW()","v":1205},8,null,null,"2.1.3.05.09.001","Transferencias bienestar universitario (Ley 30 de 1992) Transferencias en virtud de la Ley 30 de 1992, mediante la cual las Instituciones de Educación Superior deben adelantar programas de bienestar entendidos como el conjunto de actividades que se orientan al desarrollo físico, psicoafectivo, espiritual y social de los estudiantes, docentes y personal administrativo, cuyo financiamiento se hará por medio del Fondo de Bienestar Universitario el cual se alimentará por recursos de la Nación, con cargo al Presupuesto General de la Nación, y de las entidades territoriales que puedan hacer aportes.",0,15]
[null,null,"D1540101","Caolín",1,{"$f":"ROW()","v":1206},8,null,null,"2.1.3.05.09.002","Actividades de promoción y desarrollo de la cultura-convenios sector público (Ley 397 de 1997) Transferencias en cabeza del Ministerio de Cultura a organizaciones del sector público, las cuales ejecuten programas culturales abiertas al público para la promoción y el desarrollo del patrimonio cultural, en virtud de la Ley 397 de 1997.",0,15]
[null,null,"D1540301","Caolín calcinado o elaborado",1,{"$f":"ROW()","v":1207},8,null,null,"2.1.3.05.09.003","Apoyo a las universidades públicas - descuento votaciones (Ley 403 de 1997) Transferencias que se realizan a las universidades públicas por el descuento realizado por el sufragio, lo anterior, conforme a la Ley 403 de 1997 y Ley 815 de 2013.",0,15]
[null,null,"D2832002","Capas de piel",1,{"$f":"ROW()","v":1208},8,null,null,"2.1.3.05.09.004","Transferencias de excedentes financieros del EOP Transferencias a la Nación y las Entidades Territoriales por concepto de excedentes financieros, en virtud del Estatuto Orgánico del Presupuesto.",0,15]
[null,null,"D0421104","Capaz, fresco o refrigerado",1,{"$f":"ROW()","v":1209},8,null,null,"2.1.3.05.09.005","Provisión para gastos institucionales y/o sectoriales contingentes- previo concepto DGPPN",0,15]
[null,null,"D2960005","Capelladas de lona para calzado",1,{"$f":"ROW()","v":1210},8,null,null,"2.1.3.05.09.006","Ley 30 de 1992, artículo 87 - distribución CESU Transferencias al Consejo Nacional de Educación Superior, CESU, cuyas principales funciones están relacionadas con la coordinación, planificación, recomendación y asesoría como organismo del Gobierno Nacional vinculado al Ministerio de Educación. El CESU es la máxima instancia colegiada y representativa para la orientación de políticas públicas en educación superior en Colombia. Fue creado por la Ley 30 de 1992 (por la cual se organiza el servicio público de la educación superior) como un organismo del Gobierno Nacional vinculado al Ministerio de Educación Nacional.",0,15]
[null,null,"D3696002","Caperuzas para lámparas",1,{"$f":"ROW()","v":1211},8,null,null,"2.1.3.05.09.007","Ley 37 de 1987 - aportes Conservatorio del Tolima. Gastos de conformidad con la Ley 37 de 1987, en la cual se estipula que el Gobierno Nacional debe incluir en el Presupuesto anual de cada vigencia una suma no menor a noventa millones de pesos con el objeto de que el \"Conservatorio de Música del Tolima\" pueda realizar sus objetivos y cumplir debidamente los programas académicos y culturales, artísticos y de extensión musical que a todos los niveles desarrolla.",0,15]
[null,null,"D4923110","Capó, techo, guardabarros y partes similares para carrocerías de vehículos",1,{"$f":"ROW()","v":1212},8,null,null,"2.1.3.05.09.008","Monitoreo y vigilancia educación superior para distribuir Transferencias al Ministerio de Educación para su distribución con el fin de financiar el monitoreo y la vigilancia de la educación superior, en virtud de la Ley 1324 de 2009.",0,15]
[null,null,"D3416025","Caprolactama",1,{"$f":"ROW()","v":1213},8,null,null,"2.1.3.05.09.009","Transferencia fondo de desarrollo de la educación superior FODESEP - artículo 91 Ley 30 de 1992 La presente transferencia responde a una de las fuentes de financiamiento del Fondo de Desarrollo de la Educación Superior, creado por la Ley 30 de 1992, artículo 89, definida como una entidad de economía mixta que se guía por el principio de la economía solidaria. Este puede estar compuestos por Instituciones de Educación Superior públicas (estatales u oficiales) y privadas, con los fines de financiar proyectos específicos de las mismas, y plantear y promover proyectos económicos en función del desempeño académico de estas.",0,15]
[null,null,"D4293207","Cápsulas metálicas para botellas",1,{"$f":"ROW()","v":1214},8,null,null,"2.1.3.05.09.010","Transferencia al Instituto de Seguros Sociales en Liquidación Decreto 2013 de 2012 Transferencias al Instituto de Seguros Sociales en liquidación en virtud del Decreto 2013 de 2012 por medio del cual se ordenó su supresión.",0,15]
[null,null,"D3899911","Cápsulas para envase de medicamentos",1,{"$f":"ROW()","v":1215},8,null,null,"2.1.3.05.09.011","Atención de desastres y emergencias en el territorio nacional -Fondo Nacional de Gestión del Riesgo de Desastres Transferencias al Fondo Nacional de Gestión de Riesgo de Desastres, cuyos fines son el interés público y la asistencia social, para a la atención de las necesidades que se originen en situaciones de desastre o de calamidad o de naturaleza similar. Sus objetivos generales son la negociación, obtención, recaudo, administración, inversión, gestión de instrumentos de protección financiera y distribución de los recursos financieros necesarios para la implementación y continuidad de la política de gestión del riesgo de desastres que incluya los procesos de conocimiento y reducción del riesgo de desastres y de manejo de desastres.",0,15]
[null,null,"D0294401","Capullos de gusano de seda",1,{"$f":"ROW()","v":1216},8,null,null,"2.1.3.05.09.012","Fondo de Reserva para la Estabilización de la Cartera Hipotecaria Banco de la República Transferencias al Fondo de Reserva para la Estabilización de la Cartera Hipotecaria, el cual se creó en virtud de la Ley 546 de 1999, es administrado por el Banco de la República, y tiene como propósito facilitar las condiciones para la financiación de vivienda referida al índice de precios al consumidor.",0,15]
[null,null,"D4472002","Carabinas",1,{"$f":"ROW()","v":1217},8,null,null,"2.1.3.05.09.013","Fondo Nacional de Emergencias Transferencias al Fondo Nacional de Emergencia, en virtud del Decreto 3489 de 1982, por el cual se reglamenta el título VIII de la Ley 09 de 1979 y el Decreto Ley 2341 en cuanto a desastres, y además establece que uno de los recursos que financia su funcionamiento son los asignados por la Ley del Presupuesto General de la Nación. Este fondo tiene como objeto financiar la adquisición de víveres, vestuario y menaje domésticos; carpas y demás elementos para campamento, herramientas, entre otros, con el fin de atender contingencias por parte de la Defensa Civil.",0,15]
[null,null,"D0131922","Carambolo, tiriguro, árbol del pepino",1,{"$f":"ROW()","v":1218},8,null,null,"2.1.3.05.09.014","A institutos de investigación Ley 99 de 1993 Transferencias al Instituto de Investigaciones Ambientales del Pacífico \"John Von Neumann\", en virtud de la Ley 99 de 1993, en la cual se establece que esta organización es una corporación civil sin ánimo de lucro, de carácter público pero sometida a las reglas de derecho privado, cuyo objeto es realizar y divulgar estudios e investigaciones científicas relacionadas con la realidad biológica, social y ecológica del litoral pacífico y del Chocó biogeográfico.",0,15]
[null,null,"D3215315","Carátulas para discos fonográficos y empaques similares",1,{"$f":"ROW()","v":1219},8,null,null,"2.1.3.05.09.015","A universidades para funcionamiento Ley 30 de 1992 artículo 86 Es la transferencia de recursos que realizan las entidades territoriales a las universidades públicas para financiar sus gastos de funcionamiento. Esta transferencia se realiza en virtud del artículo 86 de la Ley 30 de 1992 (modificado por el artículo 223 de la Ley 1753 de 2015), el cual establece que las universidades públcias recibirán de las entidades territoriales recursos para su financiación, los cuales siemrpe deben tener un incremento en pesos constantes a partir del presupuesto de gastos del año 1993.",0,15]
[null,null,"D3549901","Carbón activado",1,{"$f":"ROW()","v":1220},{"$f":"LEN(C1220)","v":8},null,null,"2.1.3.05.09.016","Tribunales de ética médica, odontología y enfermería Recursos destinados a la financiación del funcionamiento de los Tribunales de ética médica, odontología, y de enfermería, los cuales son entidades de orden legal que cumplen con una función pública cuya vigilancia recae sobre el Estado. Sus funciones se concentran en el conocimiento de los procesos disciplinarios ético-profesionales que se presenten por razón del ejercicio de la medicina, la odontología, y la enfermería en Colombia.",0,{"$f":"LEN(J1220)","v":15}]
[null,null,"D1101003","Carbón metalúrgico",1,{"$f":"ROW()","v":1221},8,null,null,"2.1.3.05.09.017","Consejo Nacional del Trabajo Social Transferencias al Consejo Nacional del Trabajo Social, el cual fue creado en virtud de la Ley 53 de 1997, reglamentado por el Decreto 2833 de 1981, cuyas funciones se centran en conocer, decidir, y resolver en torno a las denuncias de ética de los profesionales en trabajo social.",0,15]
[null,null,"D1101002","Carbón mineral triturado o molido",1,{"$f":"ROW()","v":1222},8,null,null,"2.1.3.05.09.018","Comisión Nacional Intersectorial de Aseguramiento de la Calidad de la Educación Superior - CONACES Transferencias a la Comisión Nacional Intersectorial de Aseguramiento de la Calidad de la Educación Superior -CONACES-, en virtud del Decreto 2230 de 2003. Las funciones de CONACES, estipuladas en el Decreto 1306 de 2009, son: la coordinación y orientación del aseguramiento de la calidad de la educación superior, la evaluación del cumplimiento de los requisitos para la creación de instituciones de educación superior, su transformación y redefinición, sus programas académicos y demás funciones que le sean asignadas por el Gobierno Nacional.",0,15]
[null,null,"D1101004","Carbón térmico",1,{"$f":"ROW()","v":1223},8,null,null,"2.1.3.05.09.019","Consejo Nacional de Acreditación - CNA Transferencias al Consejo Nacional de Acreditación, CNA, el cual tiene como función principal promover y ejecutar la política de acreditación adoptada por el Consejo Nacional de Educación Superior, CESU, y coordinar los respectivos procesos.",0,15]
[null,null,"D3451001","Carbón vegetal",1,{"$f":"ROW()","v":1224},8,null,null,"2.1.3.05.09.020","Consejo Nacional de Educación Superior - CESU (Ley 30 de 1992) Transferencias al Consejo Nacional de Educación Superior, CESU, cuyas principales funciones están relacionadas con la coordinación, planificación, recomendación y asesoría como organismo del Gobierno Nacional vinculado al Ministerio de Educación. El CESU es la máxima instancia colegiada y representativa para la orientación de políticas públicas en educación superior en Colombia. Fue creado por la Ley 30 de 1992 (por la cual se organiza el servicio público de la educación superior) como un organismo del Gobierno Nacional vinculado al Ministerio de Educación Nacional.",0,15]
[null,null,"D3424066","Carbonato artificial de plomo",1,{"$f":"ROW()","v":1225},8,null,null,"2.1.3.05.09.021","Apoyo para el funcionamiento del Colegio Miguel Antonio Caro - Transferencia al ICETEX Transferencias en virtud de la Ley 34 de 1969, por medio de la cual se aprobó el Convenio entre los Gobiernos de Colombia y España contenido en el Canje de Notas suscrito en Bogotá el día 7 de noviembre de 1968, \"el Colegio Mayor \"Miguel Antonio Caro\" quedará adscrito administrativamente al Instituto Colombiano de Especialización Técnica en el Exterior, y el Gobierno Nacional apropiará en cada una de las siguientes vigencias fiscales las sumas de dinero que sean necesarias para que el ICETEX pueda proveer adecuadamente a la administración y mantenimiento del citado Colegio\" ( Hoy en día, el Colegio está fuera de servicio, el dinero adjudicado se gasta en servicios de vigilancia, aseo y asesoría legal). El presente rubro corresponde a la transferencia de los mencionados recursos.",0,15]
[null,null,"D3424068","Carbonato de amonio",1,{"$f":"ROW()","v":1226},8,null,null,"2.1.3.05.09.022","Recursos a BANCOLDEX Transferencias al Banco de Comercio Exterior de Colombia S.A., Bancoldex, en el cual se creó el Fondo de Modernización e Innovación para las Micro, Pequeñas y Medianas Empresas. Este tiene por objeto aplicar instrumentos financieros y no financieros, estos últimos, mediante cofinanciación no reembolsable de programas, proyectos y actividades para la innovación, el fomento y promoción de este tipo de empresas. Lo anterior en virtud de la Ley 1450 de 2011.",0,15]
[null,null,"D1619907","Carbonato de bario natural o whiterita",1,{"$f":"ROW()","v":1227},8,null,null,"2.1.3.05.09.023","Recursos al Fondo Fílmico Colombia (FFC) - Ley 1556 de 2012 Transferencias al Fondo Fílmico Colombia, conforme a la Ley 1556 de 2012, en el marco del fomento de la actividad cinematográfica de Colombia, para promover el territorio nacional como elemento del patrimonio cultural para la filmación de audiovisuales y a través de estos, la actividad turística y la promoción de la imagen del país, así como el desarrollo de la industria cinematográfica.",0,15]
[null,null,"D3424064","Carbonato de bismuto",1,{"$f":"ROW()","v":1228},8,null,null,"2.1.3.05.09.024","Fondo de Defensa Técnica y Especializada de los Miembros de la Fuerza Pública Recursos destinados al Fondo de Defensa Técnica y Especializada de los miembros de la Fuerza Pública, el cual tiene por objeto financiar el Sistema de Defensa Técnica y Especializada de los miembros de la Fuerza Pública, que se encarga de proveer y facilitar a los miembros activos y retirados. de la Fuerza Pública, a solicitud del interesado, acceso oportuno, continuo, especializado e ininterrumpido a los servicios jurídicos que garanticen una adecuada representación judicial.",0,15]
[null,null,"D3424063","Carbonato de cal o calcio",1,{"$f":"ROW()","v":1229},8,null,null,"2.1.3.05.09.025","Cuerpos Consultivos Transferencias del Gobierno Nacional utilizadas para el funcionamiento de cada órgano consultivo.",0,15]
[null,null,"D3424067","Carbonato de cobalto",1,{"$f":"ROW()","v":1230},8,null,null,"2.1.3.05.09.026","Garantías para bonos hipotecarios y titularización para financiar cartera VIS. Artículo 30 Ley 546 de 1999 Transferencias en virtud de la Ley 546 de 1999, por medio de la cual el Gobierno Nacional, a través de FOGAFIN, otorga garantías para los bonos hipotecarios para financiar cartera VIS subsidiable y para títulos emitidos en procesos de titularización de cartera VIS subsidiable, que emitan los establecimientos de crédito, en los términos y con las condiciones que señale el Gobierno Nacional.",0,15]
[null,null,"D3424065","Carbonato de litio",1,{"$f":"ROW()","v":1231},8,null,null,"2.1.3.05.09.027","Aportes para la Corporación de Alta Tecnología para la Defensa",0,15]
[null,null,"D3424062","Carbonato de magnesio",1,{"$f":"ROW()","v":1232},8,null,null,"2.1.3.05.09.028","Ajuste IPC vigencias anteriores - Universidades",0,15]
[null,null,"D3424059","Carbonato de potasio",1,{"$f":"ROW()","v":1233},8,null,null,"2.1.3.05.09.029","Fondo para la Participación Ciudadana y el Fortalecimiento de la Democracia. Artículo 96 Ley 1757 de 2015 Transferencias que se realizan al Fondo para la Participación Ciudadana y el Fortalecimiento de la Democracia para la financiación y cofinanciación de planes, programas y proyectos de formación para la participación ciudadana o de participación ciudadana, lo anterior conforme al Artículo 96 de la Ley 1757 de 2015",0,15]
[null,null,"D3424058","Carbonato de sodio-soda ash",1,{"$f":"ROW()","v":1234},8,null,null,"2.1.3.05.09.030","Fondo Colombia en Paz (FCP) - Decreto 691/2017 Transferencias que se realizan al Fondo Colombia en Paz para realizar las acciones necesarias para en la implementación del Acuerdo Final para la Terminación del Conflicto y la Construcción de una Paz Estable y Duradera, lo anterior, conforme al Decreto 691 de 2017",0,15]
[null,null,"D1429002","Carbonato natural de plomo-cerusita",1,{"$f":"ROW()","v":1235},8,null,null,"2.1.3.05.09.031","Colegio Boyacá (Decreto 3176 de 2005 artículo 2) Transferencias al Colegio de Boyacá en virtud del Decreto 3176 de 2005, el cual sufrió el traspaso de ente adscrito al Ministerio de Educación Nacional al municipio de Tunja como establecimiento público. Lo anterior en función de que las instituciones educativas estatales deben ser departamentales, distritales o municipales y los establecimientos públicos educativos del orden nacional que funcionan con recursos del presupuesto nacional deberán ser traspasados con los recursos a las respectivas entidades territoriales, conservando su autonomía administrativa.",0,15]
[null,null,"D3424099","Carbonatos n.c.p.",1,{"$f":"ROW()","v":1236},8,null,null,"2.1.3.05.09.032","Instituto Tecnológico Metropolitano",0,15]
[null,null,"D4695001","Carbones para uso eléctrico",1,{"$f":"ROW()","v":1237},8,null,null,"2.1.3.05.09.033","Instituto Universitario de la Paz",0,15]
[null,null,"D3479003","Carboximetil celulosa",1,{"$f":"ROW()","v":1238},8,null,null,"2.1.3.05.09.034","Unidades Tecnológicas de Santander",0,15]
[null,null,"D4315104","Carburadores para automotores",1,{"$f":"ROW()","v":1239},8,null,null,"2.1.3.05.09.035","Institución Universitaria Antonio José Camacho-UNIAJC",0,15]
[null,null,"D3428002","Carburo de calcio",1,{"$f":"ROW()","v":1240},8,null,null,"2.1.3.05.09.036","Institución Universitaria de Envigado",0,15]
[null,null,"D3428003","Carburo de silicio",1,{"$f":"ROW()","v":1241},8,null,null,"2.1.3.05.09.037","Institución Universitaria Bellas Artes y Ciencias de Bolívar",0,15]
[null,null,"D0429128","Carduma, fresca o refrigerada",1,{"$f":"ROW()","v":1242},8,null,null,"2.1.3.05.09.038","Escuela Superior Tecnológica de Artes \"Débora Arango\"",0,15]
[null,null,"D3699022","Caretas de material plástico para protección",1,{"$f":"ROW()","v":1243},8,null,null,"2.1.3.05.09.039","Instituto Departamental de Bellas Artes",0,15]
[null,null,"D3842002","Caretas para buceo",1,{"$f":"ROW()","v":1244},8,null,null,"2.1.3.05.09.040","Politécnico Colombiano \"Jaime Isaza Cadavid\"",0,15]
[null,null,"D4442501","Cargadoras y palas cargadoras de carga frontal, autopropulsadas",1,{"$f":"ROW()","v":1245},8,null,null,"2.1.3.05.09.041","Tecnológico de Antioquia",0,15]
[null,null,"D2912004","Carnaza curtida",1,{"$f":"ROW()","v":1246},8,null,null,"2.1.3.05.09.042","Escuela Nacional del Deporte - Art. 51 Decreto 2845 de 1984",0,15]
[null,null,"D2912005","Carnaza semicurtida",1,{"$f":"ROW()","v":1247},8,null,null,"2.1.3.05.09.043","Transferencia a la Sociedad Fiduciaria de Desarrollo Agropecuario S.A. FIDUAGRARIA - Patrimonio autónomo de remanentes - INCODER en liquidación",0,15]
[null,null,"D0295501","Carnazas crudas",1,{"$f":"ROW()","v":1248},8,null,null,"2.1.3.05.09.044","Consejo Nacional de Juegos de Suerte y Azar, Art.46 Ley 643/01",0,15]
[null,null,"D2113201","Carne de búfalo, congelada",1,{"$f":"ROW()","v":1249},8,null,null,"2.1.3.05.09.045","Aseguramiento en salud (Leyes 100 de 1993, 1122 de 2007, 1393 de 2010, 1438 de 2011 y 1607 de 2012)",0,15]
[null,null,"D2111201","Carne de búfalo, fresca o refrigerada",1,{"$f":"ROW()","v":1250},8,null,null,"2.1.3.05.09.046","Prevención y promoción de la salud",0,15]
[null,null,"D2111801","Carne de caballo fresca o refrigerada",1,{"$f":"ROW()","v":1251},8,null,null,"2.1.3.05.09.047","Mejoramiento de la red de urgencias y atención de enfermedades catastróficas y accidentes de tráfico (servicios integrantes de salud)",0,15]
[null,null,"D2113801","Carne de caballo, congelada",1,{"$f":"ROW()","v":1252},8,null,null,"2.1.3.05.09.048","Aseguramiento en salud - entidades territoriales - impuesto al consumo de licores",0,15]
[null,null,"D2113601","Carne de caprinos, congelada",1,{"$f":"ROW()","v":1253},8,null,null,"2.1.3.05.09.049","Programas nacionales de investigación, asistencia técnica y desarrollo agropecuario. Convenio con CORPOICA",0,15]
[null,null,"D2111601","Carne de caprinos, fresca o refrigerada",1,{"$f":"ROW()","v":1254},8,null,null,"2.1.3.05.09.050","A institutos técnicos, tecnológicos y colegios mayores - Decreto 1052 de 2006",0,15]
[null,null,"D2111301","Carne de cerdo fresca o refrigerada",1,{"$f":"ROW()","v":1255},8,null,null,"2.1.3.05.09.051","Programas para el apoyo a las MYPIMES Ley 590 de 2000",0,15]
[null,null,"D2113301","Carne de cerdo, congelada",1,{"$f":"ROW()","v":1256},8,null,null,"2.1.3.05.09.052","Recursos para transferir a instituciones de educación superior públicas - Artículo 142 de la Ley 1819 de 2016 Son los recursos transferidos a los Fondos de Servicios Educativos de los establecimientos educativos de Preescolar, Básica y Media, beneficiarios de las transferencias de Gratuidad Educativa del Sistema General de Participaciones y demás aportes de las entidades territoriales.",0,15]
[null,null,"D2113401","Carne de conejo, congelada",1,{"$f":"ROW()","v":1257},8,null,null,"2.1.3.05.09.053","Fondos de Servicios Educativos de las Instituciones de Preescolar, Básica y Media Son los recursos transferidos a los Fondos de Servicios Educativos de los establecimientos educativos de Preescolar, Básica y Media, beneficiarios de las transferencias de Gratuidad Educativa del Sistema General de Participaciones y demás aportes de las entidades territoriales.",0,15]
[null,null,"D2111401","Carne de conejo, fresca o refrigerada",1,{"$f":"ROW()","v":1258},8,null,null,"2.1.3.05.09.054","A establecimientos públicos y unidades administrativas especiales Comprende las transferencias corrientes dirigidas a establecimientos públicos y unidades administrativas especiales.",0,15]
[null,null,"D2114102","Carne de gallina, congelada",1,{"$f":"ROW()","v":1259},8,null,null,"2.1.3.05.09.055","Apoyo para el desarrollo de las actividades de docencia, investigación o extensión Corresponde a las transferencias corrientes a instituciones de educación superior en el desarrollo de compromisos para el desarrollo de actividades de docencia, investigacion y extensión. EJM: Premio Otto de Greiff, distribución de excedentes, contrapartidas, etc.",0,15]
[null,null,"D2112102","Carne de gallina, fresca o refrigerada",1,{"$f":"ROW()","v":1260},8,null,null,"2.1.3.05.09.056","Fondo de Investigación en Salud Transferencias realizadas a la financiación de proyectos del Fondo de Investigación en Salud, para cada departamento y el Distrito Capital",0,15]
[null,null,"D2111501","Carne de ovinos fresca o refrigerada",1,{"$f":"ROW()","v":1261},8,null,null,"2.1.3.05.09.057","Pago de aportes sobre los voluntarios acreditados y activos del subsistema nacional de primera respuesta afiliados al SGRL - Decreto 1809 de 2020 Corresponde a la transferencia que realiza el Ministerio del Interior al Fondo Nacional de Gestión del Riesgo de Desastres (FNGRD) con el fin de realizar el pago de la ARL de los voluntarios acreditados y activos del subsistema nacional de primera respuesta",0,15]
[null,null,"D2113501","Carne de ovinos, congelada",1,{"$f":"ROW()","v":1262},8,null,null,"2.1.3.05.09.058","Fondo mujer emprende. Decreto Ley 810 de 2020 y Ley 2069 de 2020 Corresponde a un Patrimonio Autónomo creado mediante el Decreto Legislativo No. 810 de 2020, que de acuerdo con la Ley 2069 se denominará \"Fondo Mujer Emprende\", el cual en conjunto con las entidades del orden internacional, nacional, regional, municipal, públicas o privadas que considere, diseñará y ejecutará los planes, programas, iniciativas y herramientas para promover, apoyar y financiar el emprendimiento, formalización y fortalecimiento empresarial de las mujeres, con el fin de promover los emprendimientos y empresas de mujeres a nivel nacional.",0,15]
[null,null,"D2114201","Carne de pato, congelada",1,{"$f":"ROW()","v":1263},8,null,null,"2.1.3.05.09.059","Fondo de estabilización de precios de los combustibles – FEPC Transferencia corriente que ampara el reconocimiento y pago de la transferencia a favor del Fondo de Estabilización de Precios de los Combustibles, establecido en el Art, 69 de la Ley 1151 de 2007",0,15]
[null,null,"D2112201","Carne de pato, fresca o refrigerada",1,{"$f":"ROW()","v":1264},8,null,null,"2.1.3.05.09.060","Transferencias a Fondos de Desarrollo Local Corresponde a las transferencias que las administraciones distritales realizan a sus Fondos de Desarrollo Local en virtud de la Ley 1617 de 2013 y el Decreto Ley 1421 de 1993",0,15]
[null,null,"D2114401","Carne de pavo, congelada",1,{"$f":"ROW()","v":1265},8,null,null,"2.1.3.05.09.061","Fondo para la Promoción del Patrimonio, la Cultura, las Artes y la Creatividad -FONCULTURA - Ley 2070 de 2020 Corresponde a los recursos que serán transferidos por el Ministerio de Cultura, al Fondo Mixto Nacional de Promoción de la Cultura y las Artes \"Colombia Crea Talento, quien los administrará, y los cuales serán destinados a las Iniciativas y proyectos culturales, en virtud del artículo 63 de la Ley 397 de 1997 y del artículo 4° de la Ley 2070 de 2020.",0,15]
[null,null,"D2112401","Carne de pavo, fresca o refrigerada",1,{"$f":"ROW()","v":1266},8,null,null,"2.1.3.05.09.062","Fondo de Fomento para las Mujeres Rurales -FOMMUR, Ley 731 de 2002 Comprende las transferencias para promover el apoyo de planes, programas y proyectos de actividades rurales, que permitan la incorporación y consolidación de las mujeres rurales y sus organizaciones; que realiza el Ministerio de Agricultura y Desarrollo Rural al Fondo de Fomento para las Mujeres Rurales (FOMMUR) en virtud de la Ley 731 de 2002.",0,15]
[null,null,"D2122301","Carne de pescado congelada",1,{"$f":"ROW()","v":1267},8,null,null,"2.1.3.05.09.063","Fondo para el acceso a los insumos agropecuarios -FAIA, Ley 2183 de 2022 Comprende las transferencias que financiarán los mecanismos para contribuir al acceso en mejores condiciones a los insumos agropecuarios con énfasis en los pequeños y medianos productores y las mujeres rurales que realiza el Ministerio de Agricultura y Desarrollo Rural al Fondo para el Acceso a los Insumos Agropecuarios -FAIA en virtud de la Ley 2183 de 2022.",0,15]
[null,null,"D2122101","Carne de pescado fresca o refrigerada",1,{"$f":"ROW()","v":1268},8,null,null,"2.1.3.06.01","Créditos educativos de excelencia Gastos por concepto de créditos condonables para educación superior para los mejores estudiantes, ubicados en el decil más alto de cada grupo, en la prueba SABER PRO, además que pertenezcan a hogares evaluados en los niveles de SISBEN 1, 2 y 3 o su equivalente, y que hayan terminado el programa para el cual recibieron el mencionado crédito, lo anterior, conforme al decreto 2636 de 2012, Ley 1450 de 2011 – Art. 27 y Ley 1547 de 2012",0,11]
[null,null,"D2114101","Carne de pollo, congelada",1,{"$f":"ROW()","v":1269},8,null,null,"2.1.3.06.02","Transferencia convenios ICETEX",0,11]
[null,null,"D2112101","Carne de pollo, fresca o refrigerada",1,{"$f":"ROW()","v":1270},8,null,null,"2.1.3.06.03","Beneficios educativos a la comunidad universitaria Corresponde al gasto que realizan las IES por otorgamiento de becas a favor de sus estudiantes, siempre y cuando se trate del pago de matriculas a favor de otra universidad. Esta cuenta no registra el pago de matrícula en la misma universidad. Tambien excluye el pago de incentivos o estímulos de sostenimiento que se otorgan adicionales al pago de la matrícula, estos gastos se clasifican en la cuenta Apoyo socioeconómico a estudiantes. ",0,11]
[null,null,"D2113102","Carne de ternera, congelada",1,{"$f":"ROW()","v":1271},8,null,null,"2.1.3.07.01.001","Mesadas pensionales enfermos de lepra (Ley 148 de 1961) (de pensiones) Transferencias en virtud de la Ley 148 de 1961, la cual establece que en los términos de las disposiciones de las Leyes 40 de 1922, 86 de 1923, y 4 de 1930, los servidores públicos quienes en ejercicio de sus funciones hayan contraído lepra tienen derecho a ser reconocidos como beneficiaros del derecho a la pensión con cargo al tesoro nacional.",0,15]
[null,null,"D2111102","Carne de ternera, fresca o refrigerada",1,{"$f":"ROW()","v":1272},8,null,null,"2.1.3.07.01.002","Transferencia a Colpensiones para administración beneficios económicos periódicos (Otras prestaciones de jubilación) Transferencias a cargo del Ministerio de Hacienda y Crédito Público y las Entidades Territoriales, los cuales realizará el desembolso (transferencias) de los recursos de acuerdo con el plan de caja anual elaborado por la administradora del mecanismo BEPS (Beneficios Económicos Periódicos), que dependerá exclusivamente de las necesidades que deba atender según los subsidios y/o incentivos a otorgar en el respectivo año y que le permita tener un flujo eficiente de recursos. Lo anterior, se hace siempre en función de que la administradora del mecanismo BEPS reporte a más tardar el último día del mes de marzo de cada año, al Ministerio de Hacienda y Crédito Público y al Ministerio del Trabajo - Fondo de Riesgos Laborales, la provisión que deban hacer para el financiamiento y pago de los subsidios para la siguiente vigencia fiscal.",0,15]
[null,null,"D2113103","Carne industrial congelada",1,{"$f":"ROW()","v":1273},8,null,null,"2.1.3.07.01.003","Sostenimiento educativo hijos enfermos de lepra (Ley 148 de 1961) (no de pensiones) Transferencias en virtud de la Ley 148 de 1961, mediante la cual se estableció que corresponde al Ministerio de Salud orientar la futura actividad social de los hijos de los enfermos de lepra, y por tanto, al Gobierno Nacional, disponer de los medios y recursos para su cumplimiento. En este sentido, se ha producido el sostenimiento educativo, por medio de, por ejemplo, subsidios educativos.",0,15]
[null,null,"D2111103","Carne industrial fresca o refrigerada",1,{"$f":"ROW()","v":1274},8,null,null,"2.1.3.07.01.004","Subsidio enfermos de lepra (Decretos 0475 de 1954/ Decreto 1975 de 1957/ Ley 148 de 1961/ Ley 380 de 1997) (no de pensiones) Transferencias en virtud de los Decretos 0475 de 1954 y 1975 de 1957, y las Leyes 148 de 1961 y 380 de 1997, por medio de los cuales los enfermos de lepra y los llamados \"curados sociales\" tienen derecho a un subsidio de tratamiento equivalente a un salario mínimo mensual legal vigente, el cual se ajusta anualmente de acuerdo con la misma proporción de incremento del salario mínimo mensual.",0,15]
[null,null,"D2113101","Carne vacuna congelada",1,{"$f":"ROW()","v":1275},8,null,null,"2.1.3.07.01.005","Derechos de los soldados cuando reciben lesiones permanentes, literal f, Art. 40, Ley 48 de 1993 (no de pensiones) Transferencias de acuerdo con la Ley 48 de 1993, artículo 40, en la cual se establecieron, en su literal f, ciertos derechos para quienes hayan prestado el servicio militar obligatorio. En este sentido, ordenó que en la situación en que un soldado, en cumplimiento de su deber, sufra lesiones permanentes que le impidan desempeñarse normalmente, el Estado tiene la obligación de ofrecerle una capacitación que elija hasta el grado profesional de instrucción. La obligación del Estado cesará cuando el beneficiario rechace el ofrecimiento o cuando se deduzca su desinterés por su bajo rendimiento. En este mismo sentido, el Estado le pagará una asignación mensual equivalente a un salario mínimo mensual legal por el tiempo que dure desempleado. Esta obligación cesará cuando el Estado lo incorpore laboralmente o cuando el ofrecimiento sea rechazado sin justa causa por el beneficiario.",0,15]
[null,null,"D2111101","Carne vacuna fresca o refrigerada",1,{"$f":"ROW()","v":1276},8,null,null,"2.1.3.07.01.006","Subsidio veteranos guerra de Korea y conflicto con el Perú. Ley 683-2001 (no de pensiones) Transferencias en virtud de la Ley 683 de 2001, gracias a la cual los veteranos sobrevivientes de la Guerra de Corea y el Conflicto del Perú, que se encuentren en estado de indigencia, recibirán un subsidio mensual equivalente a dos Salarios Mínimos Mensuales Legales Vigentes, el cual será pagado por el Ministerio de Defensa Nacional, y cuyo control se realizará por parte de la Contraloría General de la República y el mencionado ministerio. De fallecer el veterano beneficiario, el último pago no reclamado se destinará para el pago de los servicios funerarios.",0,15]
[null,null,"D2118302","Carnes ahumadas",1,{"$f":"ROW()","v":1277},8,null,null,"2.1.3.07.01.007","Campañas control lepra (Ley 148 de 1961/ Ley 380 de 1997) (no de pensiones) Transferencias a Empresas Públicas departamentales dedicadas a actividades no financieras, en virtud de las Leyes 148 de 1961, y 380 de 1997, según las cuales la población que sufre dicha enfermedad debe tener condiciones especiales, además de realizar campañas para su control.",0,15]
[null,null,"D2118303","Carnes curadas",1,{"$f":"ROW()","v":1278},8,null,null,"2.1.3.07.01.008","Programa atención áreas marginadas y población dispersa (Ley 100 de 1993) (no de pensiones) Transferencias al programa de atención a población dispersa y en áreas marginadas, en servicios básicos como salud, con el fin de atender dichas personas.",0,15]
[null,null,"D2118301","Carnes deshidratadas",1,{"$f":"ROW()","v":1279},8,null,null,"2.1.3.07.01.009","Fondo Solidaridad en Salud Ley 1122 de 2007 (no de pensiones) Transferencias destinadas al Fondo de Solidaridad y Garantía, Fosyga, el cual financia en parte el regimen subsidiado de salud. Este se financia con los aportes del Gobierno Nacional y el uno punto cinco de la cotización del régimen (1,5%) contributivo y de los regímenes especiales y de excepción.",0,15]
[null,null,"D2118499","Carnes en conserva envasadas n.c.p.",1,{"$f":"ROW()","v":1280},8,null,null,"2.1.3.07.01.010","Implementación del sistema integral de salud en el sistema penitenciario (no de pensiones) Transferencias en virtud de la Ley 65 de 1993, por la cual se expide el Código Penitenciario y Carcelario; la Sentencia T-530 de 1999, donde se recalca que para que \"la obligación del Estado de velar por la salud del recluso se haga exigible, no es necesario que el interno esté afectado de tal manera que la situación involucre una amenaza de violación del derecho a la vida o de otro derecho fundamental\"; y la Ley 1709 de 2014, por medio de la cual se reforman algunos artículos de la Ley 65 de 1993; con el objeto de implementar el Sistema Integral de Salud en el Sistema Penitenciario.",0,15]
[null,null,"D2118411","Carnes frías preparadas, embutidas",1,{"$f":"ROW()","v":1281},8,null,null,"2.1.3.07.01.011","Atención integral a la población desplazada en cumplimiento de la Sentencia T-025 de 2004 (no de pensiones) Transferencias realizadas por el Ministerio del Interior para la atención integral de la población desplazada, en viturd de la Sentencia T-025 de 2004 de la Corte Constitucional.",0,15]
[null,null,"D2118412","Carnes frías preparadas, no embutidas",1,{"$f":"ROW()","v":1282},8,null,null,"2.1.3.07.01.012","Alimentación para internos Transferencias conforme a los Decretos 4151 de 2011 (Art. 8) y 1890 de 1999, en las cuáles se hace referencia a los recursos destinados a financiar el servicio de alimentación para la atención, por ejemplo, de los internos de los centros de reclusión del Orden Nacional del Instituto Nacional Penitenciario y Carcelario, INPEC.",0,15]
[null,null,"D2118901","Carnes preparadas no embutidas, ni envasadas (carnes apanadas)",1,{"$f":"ROW()","v":1283},8,null,null,"2.1.3.07.02.001.01","Mesadas pensionales con cargo a reservas (de pensiones)",0,18]
[null,null,"D0421212","Carpa, de cultivo, fresca o refrigerada",1,{"$f":"ROW()","v":1284},{"$f":"LEN(C1284)","v":8},null,null,"2.1.3.07.02.001.02","Mesadas pensionales a cargo de la entidad (de pensiones)",0,{"$f":"LEN(J1284)","v":18}]
[null,null,"D0421108","Carpa, fresca o refrigerada",1,{"$f":"ROW()","v":1285},8,null,null,"2.1.3.07.02.002.01","Cuotas partes pensionales con cargo a reservas (de pensiones)",0,18]
[null,null,"D0421203","Carpa, vivas",1,{"$f":"ROW()","v":1286},8,null,null,"2.1.3.07.02.002.02","Cuotas partes pensionales a cargo de la entidad (de pensiones)",0,18]
[null,null,"D2716001","Carpas de lona",1,{"$f":"ROW()","v":1287},8,null,null,"2.1.3.07.02.003.01","Bonos pensionales con cargo a reservas (de pensiones)",0,18]
[null,null,"D2716003","Carpas de lona de algodón plastificado",1,{"$f":"ROW()","v":1288},8,null,null,"2.1.3.07.02.003.02","Bonos pensionales a cargo de la entidad (de pensiones)",0,18]
[null,null,"D2716004","Carpas de tejidos planos de fibras artificiales y/o sintéticas",1,{"$f":"ROW()","v":1289},8,null,null,"2.1.3.07.02.004","Fondo Prestaciones de los Pensionados de las Empresas Productoras de Metales del Chocó Ley 50 de 1990 (de pensiones) Transferencias al Fondo de Prestaciones de los Pensionados de las Empresas Productoras de Metales Preciosos del Chocó, el cual fue creado en virtud de la Ley 50 de 1990, y reglamentado posteriormente por el Decreto 838 de 1991. En esta normatividad se estipuló que este fondo se encargaría del reconocimiento y pago de las pensiones de jubilación de los trabajadores de las empresas productoras de metales preciosos.",0,15]
[null,null,"D3170004","Carretes de madera",1,{"$f":"ROW()","v":1290},8,null,null,"2.1.3.07.02.005","Fondo Nacional de Prestaciones Sociales del Magisterio (de pensiones) Transferencias al Fondo Nacional de Prestaciones Sociales del Magisterio. En virtud de la Ley 91 de 1989, este fondo se encarga del reconocimiento y pago de las prestaciones sociales de los docentes nacionales y nacionalizados.",0,15]
[null,null,"D3649016","Carretes de material plástico",1,{"$f":"ROW()","v":1291},8,null,null,"2.1.3.07.02.006","Prestaciones convencionales (Otras prestaciones de jubilación) Transferencia a la Unidad de Pensiones del Fondo de Pasivo Social de Ferrocarriles Nacionales de Colombia, el cual en cumplimento de su objeto paga las prestaciones convencionales a los ex empleados de la empresa Ferrocarriles Nacionales de Colombia, en virtud del Decreto 1591 de 1989 y Art 11 de la Ley. 100.",0,15]
[null,null,"D4299923","Carretes metálicos",1,{"$f":"ROW()","v":1292},8,null,null,"2.1.3.07.02.007","Obligaciones convencionales pensionados del IDEMA (Otras prestaciones de jubilación) Transferencia de recursos destinados al pago de las obligaciones convencionales de los pensionados del Instituto de Mercadeo Agropecuario (IDEMA), en virtud del Decreto 1675 de 1997 y Art 11 de la Ley 100.",0,15]
[null,null,"D4299997","Carretes metálicos n.c.p",1,{"$f":"ROW()","v":1293},8,null,null,"2.1.3.07.02.008","Aportes previsión pensiones vejez jubilados (de pensiones) Aportes destinados a la conformación del capital que le permite al afiliado al sistema pensional financiar su pensión de vejez una vez cumpla los requisitos legales establecidos.",0,15]
[null,null,"D4993004","Carretillas de mano diferentes a las de fibra de vidrio",1,{"$f":"ROW()","v":1294},8,null,null,"2.1.3.07.02.009","Mesadas pensionales Hospital San Juan de Dios e Instituto Materno Infantil Transferencias en virtud de la Ley 60 de 1993, por medio de la cual se autorizó la Nación y las Entidades territoriales para concurrir con las instituciones de salud por motivos pensionales, entre otros, se firmaron los contratos 191 de 1995 y 799 de 1998. En este mismo sentido, la Ley 715 de 2001 (artículos 61, 62 y 63) suprimió el Fondo del Pasivo Prestacional del sector salud y trasladó las obligaciones a la Nación, Ministerio de Hacienda y Crédito Público. Asimismo, en virtud del Fallo de Unificación, SU-484 de 2008, de la Corte Constitucional se estableció que las pensiones causadas antes del 31 de diciembre de 1993 por la Fundación San Juan de Dios que comprende el Hospital San Juan de Dios y el Instituto Materno Infantil corresponden ser pagadas por la Nación, la cual lo realiza por medio del Fondo de Pasivo Social de Ferrocarriles Nacionales de Colombia.",0,15]
[null,null,"D4993003","Carretillas de mano en fibra de vidrio",1,{"$f":"ROW()","v":1295},8,null,null,"2.1.3.07.02.010.01","Incapacidades (no de pensiones)",0,18]
[null,null,"D4993002","Carritos metálicos manuales especiales para el transporte de mercancías",1,{"$f":"ROW()","v":1296},8,null,null,"2.1.3.07.02.010.02","Licencias de maternidad y paternidad (no de pensiones)",0,18]
[null,null,"D4993005","Carritos para la venta de comestibles",1,{"$f":"ROW()","v":1297},8,null,null,"2.1.3.07.02.011","Asignaciones de retiro (no de pensiones) Erogación de carácter prestacional, realizada por la Caja de Retiro de las Fuerzas Militares y la Caja de Sueldos de Retiro de la Policia Nacional, la cual está encaminada a la cobertura del riesgo que recae en el servidor que cesa en su labor, a través de un auxilio económico.",0,15]
[null,null,"D4993006","Carritos, minirremolques y otras formas especiales en fibra de vidrio",1,{"$f":"ROW()","v":1298},8,null,null,"2.1.3.07.02.012.01","Auxilios funerarios con cargo a reservas (no de pensiones)",0,18]
[null,null,"D4921005","Carrocerías cerradas para camiones-furgones",1,{"$f":"ROW()","v":1299},8,null,null,"2.1.3.07.02.012.02","Auxilios funerarios a cargo de la entidad",0,18]
[null,null,"D4921011","Carrocerías de estaca",1,{"$f":"ROW()","v":1300},8,null,null,"2.1.3.07.02.013","Aporte previsión social servicios médicos (Otras prestaciones de jubilación) Transferencia que realiza la Caja de Sueldos de Retiro de la Policía Nacional y Ministerio de Defensa Nacional para realizar el pago de los aportes patronales al Sistema General de Seguridad Social en Salud del personal pensionado y en asignación de retiro, correspondiente al 12,5% de la respectiva mesada pensional o sueldo de retiro, en virtud del Decreto 4433 de 2004 y las Leyes 1122 de 2007.",0,15]
[null,null,"D4921017","Carrocerías en madera para vehículos automotores",1,{"$f":"ROW()","v":1301},8,null,null,"2.1.3.07.02.014","Servicios médicos, educativos, recreativos, y culturales para funcionarios de la Contraloría General de la República (Art. 90 y 91 Ley 106 de 1993) (no de pensiones) Transferencia al Fondo de Bienestar Social de la Contraloría General de la República, en virtud de la Ley 106 de 1993, cuyo objeto se centra en: 1. Contribuir a la solución de las necesidades básicas de salud, educación y vivienda de los empleados de la Contraloría General de la República, 2. Desarrollar planes especiales de vivienda, educación y salud para los empleados de la Contraloría General de la República, 3. Desarrollar planes de crédito de salud, educación y vivienda para los empleados de la Contraloría General de la República y/o su cónyuge o compañero o compañera permanente, entre otros.",0,15]
[null,null,"D4921020","Carrocerías especiales con equipo para manipulación de mercancías",1,{"$f":"ROW()","v":1302},8,null,null,"2.1.3.07.02.015","Bienestar social del pensionado (Otras prestaciones de jubilación) Transferencias al Fondo de Previsión Social del Congreso de la República, en virtud de la Ley 33 de 1985, la cual ordenó la creación del fondo y asigno dentro de sus funciones el desarrollo de actividades de bienestar social, en este caso, del pensionado.",0,15]
[null,null,"D4921015","Carrocerías especiales para transporte de valores",1,{"$f":"ROW()","v":1303},8,null,null,"2.1.3.07.02.016","Indemnizaciones enfermedad general (no de pensiones) Transferencias en virtud del Decreto 2943 de 2013 por medio del cual se estableció que los primeros dos días de incapacidad provocada por enfermedad general, le corresponde pagarlos al empleador, sea este público o privado.",0,15]
[null,null,"D4921021","Carrocerías especiales para unidades médicas y odontológicas",1,{"$f":"ROW()","v":1304},8,null,null,"2.1.3.07.02.017","Promoción y prevención en salud (no de pensiones) Transferencias al Fondo de Ferrocarriles Nacionales - Salud, en virtud de la Ley 100 de 1993 y el Decreto 1591 de 1989, en los cuales se estipula la necesidad de realizar programas en prevención y promoción en salud y su financiación por parte del mencionado fondo, respectivamente.",0,15]
[null,null,"D4921014","Carrocerías metálicas para el transporte de cemento y similares",1,{"$f":"ROW()","v":1305},8,null,null,"2.1.3.07.02.018","Servicios médicos asistenciales (no de pensiones) Transferencias al Fondo de Ferrocarriles Nacionales - Salud, en virtud de la Ley 100 de 1993 y el Decreto 1591 de 1989, en los cuales se especifica que el mencionado fondo debe organizar y administrar las prestaciones asistenciales a que tengan derecho los empleados y los pensionados de la empresa Ferrocarriles Nacionales de Colombia.",0,15]
[null,null,"D4921013","Carrocerías metálicas para transporte de líquidos embotellados",1,{"$f":"ROW()","v":1306},8,null,null,"2.1.3.07.02.019","Servicios médicos convencionales (no de pensiones) Transferencias a los órganos por concepto de servicios médicos pactados en convenciones colectivas de trabajadores, por ejemplo, del Fondo de Ferrocarriles Nacionales de Colombia, el Instituto Nacional de Vías (Invias), y el Servicio Nacional de Aprendizaje, SENA, entre otros.",0,15]
[null,null,"D4921010","Carrocerías para ambulancias",1,{"$f":"ROW()","v":1307},8,null,null,"2.1.3.07.02.020","Programas de vivienda y otros (no de pensiones) Transferencias para financiar los programas de vivienda, principalmente, en este caso para el Instituto Colombiano Agropecuario, ICA, en virtud del Decreto 4765 de 2008.",0,15]
[null,null,"D4921009","Carrocerías para autobuses",1,{"$f":"ROW()","v":1308},8,null,null,"2.1.3.07.02.021","Prestaciones sociales (no de pensiones) Gastos por el pago de indeminización, por ejemplo, a los Oficiales y Suboficiales de las Fuerzas Militares y a los empleados públicos del Ministerio de Defensa e INPEC que presenten disminución de la capacidad sicofísica, por causa de enfermedad profesional o accidente de trabajo, determinada por la Dirección de Sanidad Militar.",0,15]
[null,null,"D4921001","Carrocerías para automóviles",1,{"$f":"ROW()","v":1309},8,null,null,"2.1.3.07.02.022","Transferir al Fondo de Solidaridad de la Caja de Vivienda Militar y de Policía. Numeral 5 parágrafo 2 artículo 1 Ley 1305 de 2009 (no de pensiones) Transferencias de acuerdo con la Ley 1305 de 2009, artículo 1, numeral 5, parágrafo 2, según la cual el servidor público de la Caja Promotora de Vivienda Militar y de Policía, en el evento en que fallezca, por cualquier causa, la Caja otorgará una única solución de vivienda a los beneficiarios del afiliado fallecido que queden disfrutando o no de asignación de retiro, pensión de sobrevivencia o sustitución, que así lo decida, de acuerdo con la ley, teniendo en cuenta la categoría de afiliación del causante, solución que si es del caso será entregada proporcionalmente respecto al porcentaje asignado a cada uno de los beneficiarios reconocidos como tales. Igual tratamiento se debe dar al afiliado que como consecuencia directa de actos del servicio o fuera de él, por acción directa del enemigo, en misión del servicio, o por una grave y comprobada enfermedad catastrófica o terminal sea retirado o desvinculado con o sin derecho al disfrute de pensión de invalidez, de acuerdo a lo dispuesto por la Junta Directiva de la Entidad.",0,15]
[null,null,"D4921003","Carrocerías para camionetas",1,{"$f":"ROW()","v":1310},8,null,null,"2.1.3.07.02.023","Indemnizaciones (no de pensiones) Gastos por concepto de pagos realizados a funcionarios a quienes con ocasión de la supresión o modificación de la planta de la entidad se les suprimió el empleo.En el caso del Departamento Administrativo de Seguridad, DAS, esto se realiza en virtud de la Ley 909 de 2004 (artículo 44).",0,15]
[null,null,"D4921002","Carrocerías para camperos",1,{"$f":"ROW()","v":1311},8,null,null,"2.1.3.07.02.024","Indemnizaciones y reconocimiento económico, Art 8 Ley 790 de 2002 (no de pensiones) Transferencias en virtud de la Ley 790 de 2002, artículo 8, por medio de la cual se creó el reconocimiento económico para la rehabilitación profesional y técnica. En este sentido, los empleados públicos de libre nombramiento y remoción de los niveles jerárquicos diferentes al directivo y las personas vinculadas por nombramiento provisional en cargos de carrera administrativa en los organismos y entidades de la rama ejecutiva del orden nacional, que sean retirados del servicio por supresión del cargo en desarrollo del Programa de Renovación de la Administración Pública, recibirán un reconocimiento económico destinado a su rehabilitación laboral, profesional y técnica. Este reconocimiento económico consistirá en una suma de dinero equivalente a un porcentaje no inferior al cincuenta por ciento (50%) de la asignación básica correspondiente al cargo suprimido, el cual se pagará en mensualidades durante un plazo no mayor a doce (12) meses, en los términos y condiciones que establezca la reglamentación que expida el Gobierno Nacional. Los ex empleados tendrán derecho a recibir el reconocimiento económico mencionado cuando acrediten una cualquiera de las siguientes circunstancias: a) Estar vinculado a un programa de formación técnica o profesional o de capacitación formal o informal; o b) Estar vinculado laboralmente a un empleador privado, en un cargo creado o suplido recientemente por el empleador, y que implique realmente un nuevo puesto de trabajo a partir de la entrada en vigencia de la presente ley. En este caso, dicho reconocimiento será directamente entregado al nuevo empleador siempre que tal vinculación laboral sea a través de un contrato a término indefinido o un contrato a un término no inferior a dos (2) años.",0,15]
[null,null,"D4921004","Carrocerías para microbuses",1,{"$f":"ROW()","v":1312},8,null,null,"2.1.3.07.02.025","Aportes convecionales a salud y auxilio funerarios Fondo Pasivo Social Empresa Puertos de Colombia (Otras prestaciones de jubilación) Transferencia en virtud del Decreto 4107 de 2011 el cual establece que las obligaciones por concepto de los aportes convencionales a salud y los auxilios funerarios, de los ex trabajadores del Fondo Pasivo Social de la Empresa Puertos de Colombia deben ser reconocidas por parte del Ministerio de la Protección Social, en tanto, estas fueran asumidos por la Unidad Especial Administrativa de Gestión Pensional y Contribuciones Parafiscales de la Protección Social (UGPP).",0,15]
[null,null,"D4921007","Carrocerías para remolques",1,{"$f":"ROW()","v":1313},8,null,null,"2.1.3.07.02.026","Atención en salud a población inimputable por trastorno mental (Ley 65 de 1993) (no de pensiones) Transferencias en virtud de la Ley 65 de 1993, por medio de la cual el Estado contará con personal médico especializado en los establecimientos de reclusión para inimputables por trastorno mental, con cargo al Presupuesto General de la Nación. De acuerdo con la misma ley, estos establecimientos tienen carácter asistencial, deben especializarse en tratamiento psiquiátrico, rehabilitación mental con miras a la inclusión familiar, social y laboral, por tanto, se requiere de dicho servicio médico especializado.",0,15]
[null,null,"D4994209","Carrocerías para triciclos-furgones",1,{"$f":"ROW()","v":1314},8,null,null,"2.1.3.07.02.027","Planes complementarios de salud Ley 314 de 1996 (no de pensiones) Transferencias en virtud de la Ley 314 de 1996 por medio de la cual se estableció que los planes complementarios de salud que resulten de la diferencia entre el Plan Integral de Salud que venía prestando Caprecom hasta la Ley 100 de 1993, como resultado de Convenciones Colectivas vigentes o que las modifiquen las entidades vinculadas al Ministerio de Comunicaciones, sus trabajadores y el Plan Obligatorio de Salud, POS, estarán a cargo del empleador.",0,15]
[null,null,"D4921008","Carrocerías para vehículos contra incendio",1,{"$f":"ROW()","v":1315},8,null,null,"2.1.3.07.02.028","Aporte patronal FAVI (Decreto 294 de 1981) (no de pensiones) Transferencias destinadas al pago de los aportes patronales del Fondo de Empleados para el ahorro, el bienestar y la vivienda en virtud del Decreto 294 de 1981, por medio del cual se aprobaron ciertos beneficios para los trabajadores de este fondo.",0,15]
[null,null,"D4921016","Carrocerías para vehículos recolectores de basura",1,{"$f":"ROW()","v":1316},8,null,null,"2.1.3.07.02.029","Fondo Nacional de Prestaciones Sociales del Magisterio (no de pensiones) Transferencia asignada al Fondo Nacional de Prestaciones Sociales del Magisterio, Fomag, por concepto de aportes a este fondo por parte de los afiliados docentes del Sistema General de Participaciones, con el fin garantizar la prestación de los servicios médico-asistenciales.",0,15]
[null,null,"D4921006","Carrocerías para volquetas",1,{"$f":"ROW()","v":1317},8,null,null,"2.1.3.07.02.030","Auxilio sindical (no de pensiones) La presente transferencia corresponde a recursos destinados a los diferentes auxilios contemplados en la Convención Colectiva de Trabajadores, tales como el auxilio por beneficio convencional, para la sede sindical, para el día internacional del trabajo, para gastos de transporte de la junta directiva nacional y subdirectivas, y de capacitación sindical.",0,15]
[null,null,"D4921012","Carrocerías-planchones especiales",1,{"$f":"ROW()","v":1318},8,null,null,"2.1.3.07.02.031","Programa de salud ocupacional (no de pensiones)",0,15]
[null,null,"D3856009","Carros a control remoto",1,{"$f":"ROW()","v":1319},8,null,null,"2.1.3.07.02.032","Bienestar social afiliados de la Caja de Retiro de las Fuerzas Militares y la Caja de Sueldos de Retiro de la Policía Nacional, Decretos 2002 y 2003 de 1984 (no de pensiones) Transferencias realizadas por la Caja de Retiro de las Fuerzas Militares y Caja de Sueldos de Retiro de la Policía Nacional, en virtud de los Decretos 2002 y 2003 de 1984, por concepto de campañas y programas de bienestar social de sus afiliados.",0,15]
[null,null,"D3851004","Carros de montar con batería",1,{"$f":"ROW()","v":1320},8,null,null,"2.1.3.07.02.033","Fondo de Pensiones Públicas de Nivel Nacional - pensiones Superintendencia de Valores (de pensiones) Transferencias destinadas al pago de las mesadas pensionales, por parte del Fondo de Pensiones Públicas del Nivel Nacional, Fopep, de aquellos quienes cumplieron con los requisitos de ley para obtener el derecho a la pensión y fueron reconocidas como tal por la Superintendencia de Valores.",0,15]
[null,null,"D3851002","Carros de pedal",1,{"$f":"ROW()","v":1321},8,null,null,"2.1.3.07.02.034","Fondo de Pensiones Públicas del Nivel Nacional - CAJANAL pensiones (de pensiones) Transferencias destinadas al pago de las mesadas pensionales, por parte del Fondo de Pensiones Públicas del Nivel Nacional, Fopep, de aquellos quienes cumplieron con los requisitos de ley para obtener el derecho a la pensión y fueron reconocidas como tal por la Caja Nacional de Prevención Social CAJANAL E.I.C.E.",0,15]
[null,null,"D4993001","Carros y aparatos análogos para transporte de loza",1,{"$f":"ROW()","v":1322},8,null,null,"2.1.3.07.02.035","Fondo de Pensiones Públicas del Nivel Nacional - CARBOCOL (de pensiones) Transferencias destinadas al pago de las mesadas pensionales, por parte del Fondo de Pensiones Públicas del Nivel Nacional, Fopep, de aquellos quienes cumplieron con los requisitos de ley para obtener el derecho a la pensión y fueron reconocidas como tal por Carbones de Colombia S.A. CARBOCOL.",0,15]
[null,null,"D4993007","Carros-canasta metálicos de supermercado",1,{"$f":"ROW()","v":1323},8,null,null,"2.1.3.07.02.036","Fondo de Pensiones Públicas del Nivel Nacional - pensiones Caja de Crédito Agrario Industrial y Minero (de pensiones) Transferencias destinadas al pago de las mesadas pensionales, por parte del Fondo de Pensiones Públicas del Nivel Nacional, Fopep, de aquellos quienes cumplieron con los requisitos de ley para obtener el derecho a la pensión y fueron reconocidas como tal por la Caja de Crédito Agrario Industrial y Minero (Caja Agraria en liquidación).",0,15]
[null,null,"D3262006","Carteles en screen",1,{"$f":"ROW()","v":1324},8,null,null,"2.1.3.07.02.037","Fondo de Pensiones Públicas del Nivel Nacional - pensiones FONPRENOR (de pensiones) Transferencias destinadas al pago de las mesadas pensionales, por parte del Fondo de Pensiones Públicas del Nivel Nacional, Fopep, de aquellos quienes cumplieron con los requisitos de ley para obtener el derecho a la pensión y fueron reconocidas como tal por el Fondo de Previsión Social de la Superintendencia de Notariado y Registro.",0,15]
[null,null,"D3262001","Carteles litografiados –afiches–",1,{"$f":"ROW()","v":1325},8,null,null,"2.1.3.07.02.038","Fondo de Pensiones Públicas del Nivel Nacional - pensiones Superindustria y Comercio (de pensiones) Transferencias destinadas al pago de las mesadas pensionales, por parte del Fondo de Pensiones Públicas del Nivel Nacional, Fopep, de aquellos quienes cumplieron con los requisitos de ley para obtener el derecho a la pensión y fueron reconocidas como tal por la Superintendencia de Industria y Comercio.",0,15]
[null,null,"D3262002","Carteles y avisos",1,{"$f":"ROW()","v":1326},8,null,null,"2.1.3.07.02.039","Fondo de Pensiones Públicas del Nivel Nacional - pensiones Supersociedades (de pensiones) Transferencias al Fondo Nacional de Pensiones Públicas del Nivel Nacional cuya destinación es el pago de mesadas pensionales de quienes cumplieron con los requisitos de ley para obtener el derecho a la pensión y además fueron reconocidos como tal por la Superintendencia de Sociedades, Corporación Social de la Superintendencia de Sociedades Corporanónimas.",0,15]
[null,null,"D2922101","Carteras de cuero",1,{"$f":"ROW()","v":1327},8,null,null,"2.1.3.07.02.040","Fondo de Pensiones Públicas del Nivel Nacional -pensiones CVC - EPSA (de pensiones) Transferencias destinadas al pago de las mesadas pensionales, por parte del Fondo de Pensiones Públicas del Nivel Nacional, Fopep, de aquellos quienes cumplieron con los requisitos de ley para obtener el derecho a la pensión y fueron reconocidas como tal por la Corporación Autónoma Regional del Valle del Cauca y la Empresa de Energía del Pacífico S.A. E.S.P.",0,15]
[null,null,"D2922201","Carteras de material plástico",1,{"$f":"ROW()","v":1328},8,null,null,"2.1.3.07.02.041","Fondo de Pensiones Públicas del Nivel Nacional-pensiones Fondo Pasivo Social Empresa Puertos de Colombia (de pensiones) Transferencias destinadas al pago de las mesadas pensionales, por parte del Fondo de Pensiones Públicas del Nivel Nacional, Fopep, de aquellos quienes cumplieron con los requisitos de ley para obtener el derecho a la pensión y fueron reconocidas como tal por el Fondo de Pasivo Social de la Empresa Puertos de Colombia.",0,15]
[null,null,"D3192304","Carteras y similares elaboradas en fibras duras vegetales",1,{"$f":"ROW()","v":1329},8,null,null,"2.1.3.07.02.042","Fondo de Pensiones Públicas del Nivel Nacional - pensiones Fondo Nacional de Caminos Vecinales (de pensiones) Transferencias en virtud del Decreto 1790 de 2003, en especial, el artículo 21, el cual estipula que el Fondo de Pensiones Públicas del Nivel Nacional, FOPEP, asumirá el pago de las pensiones legalmente reconocidas por el Fondo Nacional de Caminos Vecinales, FNCV y originadas en fallos judiciales, una vez el Consejo Asesor del Fondo de Pensiones Públicas de Nivel Nacional, FOPEP verifique el cumplimiento de los requerimientos que se efectúen para el efecto y autorice el respectivo traslado. En este sentido, las transferencias con cargo a este rubro se realizan con el ánimo de cumplir esta normatividad.",0,15]
[null,null,"D2922219","Carteras y similares elaboradas en tela",1,{"$f":"ROW()","v":1330},8,null,null,"2.1.3.07.02.043","Fondo de Pensiones Públicas del Nivel Nacional - pensiones MINERCOL LTDA. En liquidación (de pensiones) Transferencias en virtud del Decreto 254 de 2004, el cual estableció que el Fondo de Pensiones Públicas del Nivel Nacional, Fopep, asumirá el pago de las mesadas pensionales en los términos del artículo 2° del Decreto 1132 de 1994, el cual reglamenta el Fopep, correspondientes a las mesadas pensionales válidamente reconocidas por la Empresa Nacional Minera Limitada, Minercol Ltda.",0,15]
[null,null,"D3215102","Cartón acanalado-corrugado",1,{"$f":"ROW()","v":1331},8,null,null,"2.1.3.07.02.044","Fondo de Pensiones Públicas del Nivel Nacional - pensiones INCORA (de pensiones) Transferencias en virtud del Decreto 1292 de 2003, artículo 27, el Fondo de Pensiones Públicas del Nivel Nacional, Fopep, asumió el pago de las mesadas pensionales legalmente reconocidas por el Instituto Colombiano de Reforma Agraria, Incora.",0,15]
[null,null,"D3792015","Cartón de amianto",1,{"$f":"ROW()","v":1332},8,null,null,"2.1.3.07.02.045","Fondo de Pensiones Públicas del Nivel Nacional - pensiones INURBE (de pensiones) Transferencias en virtud del Decreto Ley 3571 de 2011, artículo 38, el cual estableció que el pago de las obligaciones pensionales legalmente reconocidas por el Instituto Nacional de Vivienda de Interés Social y Reforma Urbana, INURBE, deben ser realizadas por el Fondo de Pensiones Públicas del Nivel Nacional, Fopep. En función de que el Gobierno Nacional estableció por medio del Decreto 554 de 2003 la supresión y liquidación del INURBE.",0,15]
[null,null,"D3214301","Cartón esmaltado o estucado",1,{"$f":"ROW()","v":1333},8,null,null,"2.1.3.07.02.046","Fondo de Pensiones Públicas del Nivel Nacional - pensiones exfuncionarios ISS (de pensiones) Transferencias en virtud del Decreto 2013 de 2012, por medio del cual la Nación asumió el pasivo por las pensiones a cargo del Instituto de los Seguros Sociales en su calidad de empleador, en razón de sus actividades en las unidades del negocio de pensiones y la proporción del pasivo pensional de la administradora general del Instituto que venía financiando esta unidad, en la medida que los recursos propios del Instituto de Seguros Sociales en Liquidación no sean suficientes para atender dichas obligaciones. En este sentido, la administración de las mismas pasó a la Unidad Administrativa Especial de Gestión Pensional y Contribuciones Parafiscales de la Protección Social, UGPP, y en ese sentido, son pagadas por el Fondo de Pensiones Público del Orden Nacional, Fopep.",0,15]
[null,null,"D3214402","Cartón esmaltado o estucado",1,{"$f":"ROW()","v":1334},8,null,null,"2.1.3.07.02.047","Fondo de Pensiones Públicas del Nivel Nacional - pensiones Compañía de Fomento Cinematográfico - FOCINE (de pensiones) Transferencias en virtud del Decreto 2011 de 2012, en el cual se ordenó que la Unidad de Gestión Pensional y Contribuciones Parafiscales de la Protección Social (UGPP), y el Fondo de Pensiones Públicas del Nivel Nacional (FOPEP), asumieran la administración y el pago de las pensiones a cargo de la Caja de Previsión Social de Comunicaciones - Caprecom. La Compañía de Fomento Cinematográfico fue suprimida por medio del Decreto 2125 de 1992, razón por la cual el pago de sus pensiones se encontraba a cargo de Caprecom.",0,15]
[null,null,"D3213606","Cartón fibra",1,{"$f":"ROW()","v":1335},8,null,null,"2.1.3.07.02.048","Fondo de Pensiones Públicas del Nivel Nacional - Compañía de Informaciones Audiovisuales (de pensiones) Transferencias realizadas por la Unidad de Gestión Pensional y Contribuciones Parafiscales de la Protección Social (UGPP) y el Fondo de Pensiones Públicas del Nivel Nacional (FOPEP) por concepto de pago de pensiones a la nómina de la Compañía de Informaciones Audiovisuales, la cual estaba a cargo de la Caja de Previsión Social de Comunicaciones – Caprecom, en virtud del Decreto 2011 de 2012.",0,15]
[null,null,"D3213605","Cartón gris",1,{"$f":"ROW()","v":1336},8,null,null,"2.1.3.07.02.049","Fondo de Pensiones Públicas del Nivel Nacional - Caja de Previsión Social de Comunicaciones - CAPRECOM (de pensiones) Transferencias realizadas por la Unidad de Gestión Pensional y Contribuciones Parafiscales de la Protección Social (UGPP) y el Fondo de Pensiones Públicas del Nivel Nacional (FOPEP) por concepto de pago de pensiones a la nómina de la Caja de Previsión Social de Comunicaciones – Caprecom, en virtud del Decreto 2011 de 2012.",0,15]
[null,null,"D3213302","Cartón kraft",1,{"$f":"ROW()","v":1337},8,null,null,"2.1.3.07.02.050","Fondo de Pensiones Públicas del Nivel Nacional - Administración Postal Nacional - ADPOSTAL (de pensiones) Transferencias realizadas por la Unidad de Gestión Pensional y Contribuciones Parafiscales de la Protección Social (UGPP) y el Fondo de Pensiones Públicas del Nivel Nacional (FOPEP) por concepto de pago de pensiones a la nómina de la Administración Postal Nacional-ADPOSTAL la cual estaba a cargo de la Caja de Previsión Social de Comunicaciones – Caprecom, en virtud del Decreto 2011 de 2012.",0,15]
[null,null,"D3219998","Cartón n.c.p.",1,{"$f":"ROW()","v":1338},8,null,null,"2.1.3.07.02.051","Fondo de Pensiones Públicas del Nivel Nacional - Instituto Nacional de Radio y Televisión - INRAVISION (de pensiones) Transferencias realizadas por la Unidad de Gestión Pensional y Contribuciones Parafiscales de la Protección Social (UGPP) y el Fondo de Pensiones Públicas del Nivel Nacional (FOPEP) por concepto de pago de pensiones a la nómina del Instituto Nacional de Radio y Televisión INRAVISIÓN, el cual estaba a cargo de la Caja de Previsión Social de Comunicaciones – Caprecom, en virtud del Decreto 2011 de 2012.",0,15]
[null,null,"D3214801","Cartón parafinado",1,{"$f":"ROW()","v":1339},8,null,null,"2.1.3.07.02.052","Fondo de Pensiones Públicas del Nivel Nacional - Ministerio de Tecnologías de la Información y Comunicaciones (de pensiones) Transferencias realizadas por la Unidad de Gestión Pensional y Contribuciones Parafiscales de la Protección Social (UGPP) y el Fondo de Pensiones Públicas del Nivel Nacional (FOPEP) por concepto de pago de pensiones a la nómina del Ministerio de Tecnologías de la Información y Comunicaciones, el cual estaba a cargo de la Caja de Previsión Social de Comunicaciones – Caprecom, en virtud del Decreto 2011 de 2012.",0,15]
[null,null,"D3214810","Cartón parafinado y plastificado",1,{"$f":"ROW()","v":1340},8,null,null,"2.1.3.07.02.053","Fondo de Pensiones Públicas del Nivel Nacional - Empresa Nacional de Comunicaciones - TELECOM (de pensiones) Transferencias realizadas por la Unidad de Gestión Pensional y Contribuciones Parafiscales de la Protección Social (UGPP) y el Fondo de Pensiones Públicas del Nivel Nacional (FOPEP) por concepto de pago de pensiones a la nómina de la Empresa Nacional de Comunicaciones, la cual estaba a cargo de la Caja de Previsión Social de Comunicaciones – Caprecom, en virtud del Decreto 2011 de 2012.",0,15]
[null,null,"D3214809","Cartón plastificado",1,{"$f":"ROW()","v":1341},8,null,null,"2.1.3.07.02.054","Fondo de Pensiones Públicas del Nivel Nacional - Empresa de Telecomunicaciones del Tolima - TELETOLIMA (de pensiones) Transferencias realizadas por la Unidad de Gestión Pensional y Contribuciones Parafiscales de la Protección Social (UGPP) y el Fondo de Pensiones Públicas del Nivel Nacional (FOPEP) por concepto de pago de pensiones a la nómina de la Empresa de Telecomunicaciones del Tolima-TELETOLIMA, la cual estaba a cargo de la Caja de Previsión Social de Comunicaciones – Caprecom, en virtud del Decreto 2011 de 2012.",0,15]
[null,null,"D3699060","Cartuchos plásticos para impresora de computador",1,{"$f":"ROW()","v":1342},8,null,null,"2.1.3.07.02.055","Fondo de Pensiones Públicas del Nivel Nacional - Empresa de Telecomunicaciones del Huila - TELEHUILA (de pensiones) Transferencias realizadas por la Unidad de Gestión Pensional y Contribuciones Parafiscales de la Protección Social (UGPP) y el Fondo de Pensiones Públicas del Nivel Nacional (FOPEP) por concepto de pago de pensiones a la nómina de la Empresa de Telecomunicaciones del Huila-TELEHUILA, la cual estaba a cargo de la Caja de Previsión Social de Comunicaciones – Caprecom, en virtud del Decreto 2011 de 2012.",0,15]
[null,null,"D3212908","Cartulina Bristol",1,{"$f":"ROW()","v":1343},8,null,null,"2.1.3.07.02.056","Fondo de Pensiones Públicas del Nivel Nacional - Empresa de Telecomunicaciones de Nariño - TELENARIÑO (de pensiones) Transferencias realizadas por la Unidad de Gestión Pensional y Contribuciones Parafiscales de la Protección Social (UGPP) y el Fondo de Pensiones Públicas del Nivel Nacional (FOPEP) por concepto de pago de pensiones a la nómina de la Empresa de Telecomunicaciones de Nariño-TELENARIÑO, la cual estaba a cargo de la Caja de Previsión Social de Comunicaciones – Caprecom, en virtud del Decreto 2011 de 2012.",0,15]
[null,null,"D3212807","Cartulina brístol",1,{"$f":"ROW()","v":1344},8,null,null,"2.1.3.07.02.057","Fondo de Pensiones Públicas del Nivel Nacional - Empresa de Telecomunicaciones de Cartagena - TELECARTAGENA (de pensiones) Transferencias realizadas por la Unidad de Gestión Pensional y Contribuciones Parafiscales de la Protección Social (UGPP) y el Fondo de Pensiones Públicas del Nivel Nacional (FOPEP) por concepto de pago de pensiones a la nómina de la Empresa de Telecomunicaciones de Cartagena-TELECARTAGENA, la cual estaba a cargo de la Caja de Previsión Social de Comunicaciones – Caprecom, en virtud del Decreto 2011 de 2012.",0,15]
[null,null,"D3214302","Cartulina esmaltada o estucada",1,{"$f":"ROW()","v":1345},8,null,null,"2.1.3.07.02.058","Fondo de Pensiones Públicas del Nivel Nacional - Empresa de Telecomunicaciones de Santa Marta - TELESANTAMARTA (de pensiones) Transferencias realizadas por la Unidad de Gestión Pensional y Contribuciones Parafiscales de la Protección Social (UGPP) y el Fondo de Pensiones Públicas del Nivel Nacional (FOPEP) por concepto de pago de pensiones a la nómina de la Empresa de Telecomunicaciones de Santa Marta-TELESANTAMARTA, la cual estaba a cargo de la Caja de Previsión Social de Comunicaciones – Caprecom, en virtud del Decreto 2011 de 2012.",0,15]
[null,null,"D3212898","Cartulina n.c.p.",1,{"$f":"ROW()","v":1346},8,null,null,"2.1.3.07.02.059","Fondo de Pensiones Públicas del Nivel Nacional - Empresa de Telecomunicaciones de Armenia - TELEARMENIA (de pensiones) Transferencias realizadas por la Unidad de Gestión Pensional y Contribuciones Parafiscales de la Protección Social (UGPP) y el Fondo de Pensiones Públicas del Nivel Nacional (FOPEP) por concepto de pago de pensiones a la nómina de la Empresa de Telecomunicaciones de Armenia-TELEARMENIA, la cual estaba a cargo de la Caja de Previsión Social de Comunicaciones – Caprecom, en virtud del Decreto 2011 de 2012.",0,15]
[null,null,"D3212806","Cartulina opalina",1,{"$f":"ROW()","v":1347},8,null,null,"2.1.3.07.02.060","Fondo de Pensiones Públicas del Nivel Nacional - Empresa de Telecomunicaciones de Calarcá - TELECALARCA (de pensiones) Transferencias realizadas por la Unidad de Gestión Pensional y Contribuciones Parafiscales de la Protección Social (UGPP) y el Fondo de Pensiones Públicas del Nivel Nacional (FOPEP) por concepto de pago de pensiones a la nómina de la Empresa de Telecomunicaciones de Calarca-TELECALARCA, la cual estaba a cargo de la Caja de Previsión Social de Comunicaciones – Caprecom, en virtud del Decreto 2011 de 2012.",0,15]
[null,null,"D3212904","Cartulina opalina",1,{"$f":"ROW()","v":1348},{"$f":"LEN(C1348)","v":8},null,null,"2.1.3.07.02.061","Fondo de Pensiones Públicas del Nivel Nacional - mesadas pensionales INAT (de pensiones) Transferencias en virtud del Decreto 1291 de 2003, por medio de la cual se suprimió el Instituto Nacional de Adecuación de Tierras, INAT, y se ordenó el pago de las mesadas pensionales por parte del Fondo de Pensiones Públicas del Nivel Nacional, Fopep. Asimismo, el Decreto 885 de 2014 ordenó que la administración de dichas obligaciones debe realizarse por parte de la Unidad Administrativa Especial para la Gestión Pensional y Contribuciones Parafiscales de la Protección Social.",0,{"$f":"LEN(J1348)","v":15}]
[null,null,"D3214802","Cartulinas impregnadas y revestidas (pvp, wpc)",1,{"$f":"ROW()","v":1349},8,null,null,"2.1.3.07.02.062","Fondo de Pensiones Públicas del Nivel Nacional - mesadas pensionales - Zonas Francas (de pensiones) Transferencias por concepto de la administración, pago de los derechos y obligaciones pensionales de la nómina de Zonas Francas, cuyas obligaciones serán atendidas por la Unidad de Gestión Pensional y Parafiscales, UGPP, y las pensiones serán pagadas por el Fondo de Pensiones Públicas del Nivel Nacional, FOPEP, de acuerdo con el Decreto 1132 de 1994.",0,15]
[null,null,"D0429129","Casabito, fresco o refrigerado",1,{"$f":"ROW()","v":1350},8,null,null,"2.1.3.07.02.063","Fondo de Pensiones Públicas del Nivel Nacional - mesadas pensionales - Corporación Financiera del Transporte (Ley 51/90) (de pensiones) Transferencias destinadas al pago de mesadas pensionales de la Corporación Financiera del Transporte, en virtud del Decreto 2854 de 1991, por medio del cual, el Estado enajenó las acciones que estaban en cabeza del Ministerio de Desarrollo Económico, asimismo, se estableció que el Ministerio de Comercio, Industria y Turismo atiende las pensiones que venía reconociendo el Ministerio de Desarrollo Económico, el cual había asumido dichas obligaciones por medio del Decreto 1928 de 1991. Lo anterior en virtud de la Ley 51 de 1990, por medio de la cual se generaron disposiciones sobre el saneamiento de obligaciones del sector público.",0,15]
[null,null,"D3870201","Casas metálicas prefabricadas",1,{"$f":"ROW()","v":1351},8,null,null,"2.1.3.07.02.064","Fondo de Pensiones Públicas del Nivel Nacional - mesadas pensionales - Corporación Nacional del Turismo (de pensiones) Transferencias realizadas por el Fondo de Pensiones Públicas (FOPEP) por concepto de pago de pensiones a la nómina de la Corporación Nacional del Turismo, en virtud del Decreto 1671 de 1997, por medio del cual se suprimió la Corporación Nacional del Turismo, y se ordenó la enajenación de sus bienes.",0,15]
[null,null,"D3870101","Casas prefabricadas de madera, módulos y similares",1,{"$f":"ROW()","v":1352},8,null,null,"2.1.3.07.02.065","Fondo de Pensiones Públicas del Nivel Nacional - mesadas pensionales - CAPRESUB (de pensiones) Transferencias en virtud del Decreto 2398 de 2003, mediante el cual se ordenó la supresión y liquidación de la Caja de Previsión Social de la Superintendencia Bancaria, CAPRESUB, el pago de las obligaciones pensionales fueron asumidas por el Fondo de Pensiones Públicas del Nivel Nacional una vez el Consejo Asesor de este autorizara el respectivo traslado y verificara el cumplimiento de los requisitos. En este sentido, el Decreto 1212 de 2014 estableció que las funciones de la extinta CAPRESUB fueran asumidas por la Unidad Administrativa Especial de Gestión Pensional y Contribuciones Parafiscales de Protección Social, y el pago de las mesadas pensionales sea realizado por parte del Fopep.",0,15]
[null,null,"D3870401","Casas prefabricadas en fibro-cemento (mezcla de cemento con fibras diferentes al asbesto)",1,{"$f":"ROW()","v":1353},8,null,null,"2.1.3.07.02.066","Fondo de Pensiones Públicas del Nivel Nacional - mesadas pensionales - INEA (de pensiones) Transferencias en virtud del Decreto 1682 de 1997, mediante el cual se ordenó la supresión del Instituto de Ciencias Nucleares y Energías Alternativas, INEA, y se dispuso además que después de la liquidación sus bienes, obligaciones y archivos pasarían a la Nación. En este entendido, por medio del Decreto 822 de 2014 se estableció la competencia a la Unidad Administrativa Especial de Gestión Pensional y Contribuciones Parafiscales de la Protección Social , UGPP, para reconocer y administrar la nómina de pensionados, así como de que el pago de estas obligaciones se realice por medio del Fondo de Pensiones Públicas del Orden Nacional.",0,15]
[null,null,"D2191008","Cascarilla de algodón",1,{"$f":"ROW()","v":1354},8,null,null,"2.1.3.07.02.067","Fondo de Pensiones Públicas del Nivel Nacional - mesadas pensionales - INTRA (de pensiones) Transferencias realizadas por el Fondo de Pensiones Públicas a nivel nacional (FOPEP) por conceptos de pagos de pensiones de la nomina del Instituto Nacional de Transporte y Tránsito (INTRA), en virtud del Decreto 2171 de 1992, según el cual dicha institución fue suprimida y obligó al Ministerio de Transporte, por disposición del artículo 122 a asumir los derechos y obligaciones de esta.",0,15]
[null,null,"D3915101","Cascarilla de cacao",1,{"$f":"ROW()","v":1355},8,null,null,"2.1.3.07.02.068","Fondo de Pensiones Públicas del Nivel Nacional - mesadas pensionales - INVIAS (de pensiones) Transferencias por concepto de la administración, pago de los derechos y obligaciones pensionales de la nómima del Instituto Nacional de Vias, INVIAS, cuyas obligaciones serán atendidas por la Unidad de Gestión Pensional y Parafiscales, UGPP, y las pensiones serán pagadas por el Fondo de Pensiones Públicas del Nivel Nacional, FOPEP, de acuerdo con los Decretos 1132 de 1994, y 2350 de 2014.",0,15]
[null,null,"D2191009","Cascarilla de soja",1,{"$f":"ROW()","v":1356},8,null,null,"2.1.3.07.02.069","Fondo de Pensiones Públicas del Nivel Nacional - pensiones Positiva S.A. (Artículo 80 Ley 1753 de 2015 Plan Nacional de Desarrollo y Decreto 1437 de 2015) (de pensiones) Transferencias realizadas por el Fondo de Pensiones Públicas del Nivel Nacional (FOPEP) por concepto de pago de los derechos y obligaciones pensionales causadas por el Instituto de Seguros Sociales (ISS) pero que en el momento de entrada en vigencia de la normatividad estaban a cargo de Positiva S.A., en virtud de la Ley 1753 de 2015.",0,15]
[null,null,"D3915201","Cascarilla o cisco de café",1,{"$f":"ROW()","v":1357},8,null,null,"2.1.3.07.02.070","Fondo de Pensiones Públicas del Nivel Nacional - mesadas pensionales - Corporación Eléctrica de la Costa Atlántica S.A E.S.P CORELCA S.A E.S.P (de pensiones) Transferencias realizadas por el Fondo de Pensiones Públicas del nivel nacional (FOPEP), por concepto de pago de los derechos y obligaciones pensionales de la nómina de la Corporación Eléctrica de la Costa Atlántica S.A. E.S.P CORELCA E.S.P, en virtud del Decreto 130 de 2014.",0,15]
[null,null,"D3697102","Cascos de protección reforzados con fibra de vidrio",1,{"$f":"ROW()","v":1358},8,null,null,"2.1.3.07.02.071","Fondo de Pensiones Públicas del Nivel Nacional - mesadas pensionales - Promotora de Vacaciones y Recreación Social - PROSOCIAL - liquidada (de pensiones) Transferencias realizadas por el Fondo de Pensiones Públicas del nivel nacional (FOPEP), por concepto de pago de los derechos y obligaciones pensionales de la nómina de la Promotora de Vacaciones y Recreación Social-PROSOCIAL, en virtud del Decreto 1405 de 2017.",0,15]
[null,null,"D3697101","Cascos para obreros",1,{"$f":"ROW()","v":1359},8,null,null,"2.1.3.07.02.072","Mesadas pensionales - Zonas Francas (de pensiones)",0,15]
[null,null,"D2226001","Caseína",1,{"$f":"ROW()","v":1360},8,null,null,"2.1.3.07.02.073","Mesadas pensionales Concesión de Salinas (de pensiones) Transferencias en virtud del Decreto 2883 de 2001, artículo 4, según el cual la Nación, a través del Ministerio de Desarrollo Económico, asumió las obligaciones derivadas del Contrato de Concesión de Salinas del 2 de abril de 1970, con estricta sujeción a las actas de liquidación. Estas obligaciones son, entre otras, las derivadas de los compromisos pensionales.",0,15]
[null,null,"D3542001","Caseinato de calcio",1,{"$f":"ROW()","v":1361},8,null,null,"2.1.3.07.02.074","Mesadas pensionales de las Empresas de Obras Sanitarias EMPOS (de pensiones) Transferencias en virtud del artículo 149 de la Ley 100 de 1993, de acuerdo con el cual el pago de las mesadas pensionales de las Empresas de Obras Sanitarias, EMPOS, liquidadas corresponden desde entonces al Instituto de Seguros Sociales, motivo por el cual, la Nación realiza una asignación presupuestal para el pago de esta obligación.",0,15]
[null,null,"D3542013","Caseinato sódico o caseinato de sodio",1,{"$f":"ROW()","v":1362},8,null,null,"2.1.3.07.02.075","Mesadas pensionales del IDEMA (de pensiones) Transferencias asignadas para el pago de las mesadas pensionales del extinto Instituto de Mercadeo Agropecuario, Idema, el cual fue liquidado y suprimido en virtud del Decreto 1675 de 1997, que desarrolla la Ley 344 de 1996, y estipula en su artículo 9 que el pago de las mesadas a cargo del Idema, será asumido directamente por la Nación, a través de la entidad que defina el Gobierno Nacional.",0,15]
[null,null,"D4761003","Casetes grabados",1,{"$f":"ROW()","v":1363},8,null,null,"2.1.3.07.02.076","Mesadas pensionales ALCALIS de Colombia Ltda. En liquidación (de pensiones) Transferencias en virtud de los Decretos 805 de 2000, 1578 de 2001, y 2601 de 2009, por medio de los cuales se ordena a la Nación asumir las obligaciones pensionales a cargo de Alcalis de Colombia Ltda., en liquidación a partir del año 2000 respecto de las personas que figuran en el cálculo actuarial aprobado por la Superintendencia de Sociedades en el mes de octubre de 1999 correspondiente a la vigencia de 1998, por medio del Fondo de Pensiones Públicas del Nivel Nacional.",0,15]
[null,null,"D4753003","Casetes sin grabar",1,{"$f":"ROW()","v":1364},8,null,null,"2.1.3.07.02.077","Mesadas pensionales de la Superintendencia de Sociedades a través del FOPEP Transferencia de recursos que realiza la Superintendencia de Sociedades al Ministerio del Trabajo, en virtud del Decreto 3116 de 1997, el cuál señala que este último a través del Fondo de Pensiones Públicas del Nivel Nacional (FOPEP), debe realizar el pago de mesadas pensionales que estaban a cargo de la liquidada Corporación Social de la Superintendencia de Sociedades (Corporanónimas).",0,15]
[null,null,"D3891206","Casetes y cintas para impresoras de computadoras",1,{"$f":"ROW()","v":1365},8,null,null,"2.1.3.07.02.078","Recursos para transferir al Fondo Nacional de Prestaciones Sociales del Magisterio, previa revisión faltante de cesantías Transferencias en virtud de la Ley 91 de 1989, por medio de la cual se organiza el Fondo Nacional de Prestaciones Sociales del Magisterio, y se establecen los aportes de la Nación como una de las fuentes de recursos del fondo. En este sentido, esta transferencia se debe realizar, previa revisión del faltante por concepto del pago de cesantías adelantado por el Fomag.",0,15]
[null,null,"D4299937","Casquillos metálicos para lápices",1,{"$f":"ROW()","v":1366},8,null,null,"2.1.3.07.02.079","Auxilio mutuo (no de préstamos) (no de pensiones)",0,15]
[null,null,"D4474004","Casquillos para munición",1,{"$f":"ROW()","v":1367},8,null,null,"2.1.3.07.02.080","Compensación por muerte (no de pensiones)",0,15]
[null,null,"D3835003","Castañuelas",1,{"$f":"ROW()","v":1368},8,null,null,"2.1.3.07.02.081","Subsidio por invalidez (Otras prestaciones de jubilación) Corresponde al pago del subsidio de invalidez que realiza el Servicio Nacional de Aprendizaje (SENA) a los trabajadores oficiales que salgan pensionados por invalidez. Dicho subsidio corresponde a 2.5 SMMLV que es pagado por una sola vez y no constituye factor salarial para ningún caso. (Art. 98 de la Convención Colectiva de Trabajo, 2003-2004 y Art. 11 Ley 100).",0,15]
[null,null,"D3549923","Catalizadores para hidrogenación de aceites y grasas comestibles",1,{"$f":"ROW()","v":1369},8,null,null,"2.1.3.07.02.082","Bonificación para pensionados (Otras prestaciones de jubilación) Corresponde a la bonificación que reconoce y paga por única vez que tienen derecho los trabajadores oficiales del Servicio Nacional de Aprendizaje (SENA) una vez estos son pensionados.",0,15]
[null,null,"D3549924","Catalizadores para la elaboración de plásticos",1,{"$f":"ROW()","v":1370},8,null,null,"2.1.3.07.02.083","Fondo de Pensiones Públicas del Nivel Nacional - Ministerio de Obras Públicas y Transporte (de pensiones)",0,15]
[null,null,"D3262003","Catálogos, folletos y otras impresiones publicitarias",1,{"$f":"ROW()","v":1371},8,null,null,"2.1.3.07.02.089","Auxilio de incapacidad Corresponde al pago del auxilio de incapacidad que se realiza a favor del empleado con el fin de garantizar el 100% de su asignación durante el periodo de incapacidad, gasto que se ejecuta siempre y cuando este soportado en normatividad vigente.",0,15]
[null,null,"D3529102","Catguts y sus equivalentes para suturas",1,{"$f":"ROW()","v":1372},8,null,null,"2.1.3.07.02.090","Indemnización sustitutiva de pensiones Gastos destinados al reconocimiento de prestaciones económicas para las personas que habiendo cumplido con la edad mínima requerida para acceder a una pensión de vejez, no acreditan las cotizaciones mínimas para acceder a la prestación y declaran la imposibilidad de continuar cotizando al Sistema General de Pensiones.",0,15]
[null,null,"D3814007","Catres metálicos",1,{"$f":"ROW()","v":1373},8,null,null,"2.1.3.07.02.091","Auxilio familiar Corresponde al pago del auxilio para las personas que hacen parte del núcleo familiar, que se realiza a favor del empleado o sus dependientes con derecho a este, definido por la normativa de la Institución de Educación Superior.",0,15]
[null,null,"D3844020","Catres para camping",1,{"$f":"ROW()","v":1374},8,null,null,"2.1.3.07.02.092","Bono de salud docentes transitorios UTP Establecer a título de incentivo para los servidores de la Universidad un bono de bienestar Universitario para los Docentes Transitorios equivalente a los pagos efectuados al sistema de seguridad social en salud por parte del docente durante el periodo intersemestral.",0,15]
[null,null,"D3480002","Caucho butadieno acrilonitrilo",1,{"$f":"ROW()","v":1375},8,null,null,"2.1.3.07.02.093","Bonificación por Desgaste Físico Corresponde a la transferencia que realiza el Municipio de Yumbo por concepto de bonificación por desgaste físico a sus empleados con el objetivo de cumplir con lo pactado con el Sindicato de trabajadores.",0,15]
[null,null,"D3622003","Caucho espumado",1,{"$f":"ROW()","v":1376},8,null,null,"2.1.3.07.02.094","Auxilios Salud Visual Corresponde a las transferencias corrientes a favor del empleado y sus beneficiarios, para cubrir riesgos de salud visual. Incluye la adquisición de lentes, monturas, cirugías refractivas, oftalmológicas, entre otros.",0,15]
[null,null,"D3480001","Caucho estireno-butadieno-estireno",1,{"$f":"ROW()","v":1377},8,null,null,"2.1.3.07.02.095","Auxilios Salud Dental Corresponde a las transferencias corrientes a favor del empleado y sus beneficiarios, para cubrir riesgos sociales relacionados con la salud dental.",0,15]
[null,null,"D0195002","Caucho natural en formas primarias o en planchas, hojas o tiras",1,{"$f":"ROW()","v":1378},8,null,null,"2.1.3.07.02.096","Auxilios Salud Auditiva Corresponde a las transferencias corrientes a favor del empleado y sus beneficiarios, para cubrir riesgos sociales relacionados con la salud auditiva.",0,15]
[null,null,"D3621001","Caucho regenerado (recuperado)",1,{"$f":"ROW()","v":1379},8,null,null,"2.1.3.07.02.097","Auxilios Médicos Corresponde a las transferencias corrientes a favor del empleado y sus beneficiarios, para cubrir riesgos sociales relacionados con la salud. Incluye apoyo para la compra de medicamentos, cirugía y hospitalización, compensación de cuotas moderadoras y copagos, compra de aparatos ortopédicos, auxilios para hijos con limitaciones físicas y/o mentales, entre otros.",0,15]
[null,null,"D0124102","Caupí",1,{"$f":"ROW()","v":1380},8,null,null,"2.1.3.07.02.098","Auxilios Educativos Son las transferencias corrientes a favor del empleado o pensionado y sus beneficiarios para el apoyo al pago de matriculas de cualquier nivel educativo. También incluye las transferencias corrientes con destino a la compra de útiles, uniformes y demás elementos relacionados con la educación.",0,15]
[null,null,"D3912006","Cebada de tercera",1,{"$f":"ROW()","v":1381},8,null,null,"2.1.3.07.02.099","Auxilios para Recreación Corresponde a las transferencias corrientes a favor del empleado y sus beneficiarios, para cubrir gastos asociados con la recreación.",0,15]
[null,null,"D0115201","Cebada en grano, con cáscara",1,{"$f":"ROW()","v":1382},8,null,null,"2.1.3.07.02.100","Fondo de Pensiones Públicas del Nivel Nacional - Álcalis de Colombia Limitada (de pensiones) Comprende la transferencia que realiza el Ministerio del Trabajo como administrador del Fondo de Pensiones Públicas del Nivel Nacional, para atender el pago de la nómina de pensionados de la liquidada Álcalis de Colombia Limitada, en cumplimiento de lo dispuesto en el Decreto 1623 de 2020",0,15]
[null,null,"D2432002","Cebada malteada",1,{"$f":"ROW()","v":1383},8,null,null,"2.1.3.07.02.101","Fondo Nacional del Pasivo Pensional y Prestacional de la Electrificadora del Caribe S.A. E.S.P. – FONECA Corresponde a recursos del PGN transferidos por la Nación al patrimonio autónomo del “Fondo Nacional del Pasivo Pensional y Prestacional de la Electrificadora del Caribe S.A. E.S.P. – FONECA” apropiados para cubrir el déficit que se presenta en el pago del pasivo pensional de Electricaribe. La Transferencia de estos recursos se realizará a través de la Superintendencia de Servicios Públicos Domiciliarios para el cumplimiento de su objeto en los términos del artículo 315 de la Ley 1955 de 2019 y el Decreto 42 de 2020",0,15]
[null,null,"D0115202","Cebada pelada o perlada",1,{"$f":"ROW()","v":1384},8,null,null,"2.1.3.07.02.102","Transferencia al fondo de empleados (no de pensiones) Transferencia que realiza la empresa URRA para financiar el fondo de empleados, en marco de la clausula novena del pacto colectivo establecido por la empresa y sus trabajadores no sindicalizados.",0,15]
[null,null,"D2314002","Cebada perlada-mondada",1,{"$f":"ROW()","v":1385},8,null,null,"2.1.3.07.02.103","Fondo de Pensiones Públicas del Nivel Nacional - Instituto Nacional de los Recursos Naturales Renovables y del Ambiente - INDERENA (de pensiones) Comprende la transferencia que realiza el Ministerio del Trabajo como administrador del Fondo de Pensiones Públicas del Nivel Nacional, para atender el pago de la nómina de pensionados del Extinto INDERENA, en cumplimiento de lo dispuesto en el Decreto 1627 de 2021.",0,15]
[null,null,"D0125301","Cebolla cabezona (bulbo)",1,{"$f":"ROW()","v":1386},8,null,null,"2.1.3.07.02.104","Fondo de Pensiones Públicas del Nivel Nacional - Instituto de Mercadeo Agropecuario – IDEMA (de pensiones Comprende la transferencia que realiza el Ministerio del Trabajo como administrador del Fondo de Pensiones Públicas del Nivel Nacional, para atender el pago de la nómina de pensionados del extinto IDEMA, en cumplimiento de lo dispuesto en el Decreto 1859 de 2021 Artículo 2.2.10.46.1.",0,15]
[null,null,"D0125302","Cebolla larga (tallo)",1,{"$f":"ROW()","v":1387},8,null,null,"2.1.3.07.02.105","Fondo Nacional Pasivo Pensional y Prestacional de la Electrificadora del Caribe S.A E.S.P - FONECA (de pensiones) Corresponde a recursos del PGN transferidos por la Nación al patrimonio autónomo del “Fondo Nacional del Pasivo Pensional y Prestacional de la Electrificadora del Caribe S.A. E.S.P. – FONECA” apropiados para cubrir el déficit que se presenta en el pago del pasivo pensional de Electricaribe. La Transferencia de estos recursos se realizará a través de la Superintendencia de Servicios Públicos Domiciliarios para el cumplimiento de su objeto en los términos del artículo 315 de la Ley 1955 de 2019 y el Decreto 42 de 2020.",0,15]
[null,null,"D2134002","Cebollas conservadas en vinagre o ácido acético",1,{"$f":"ROW()","v":1388},8,null,null,"2.1.3.07.02.106","Auxilio funerario (Otras prestaciones de jubilación) Corresponde al gasto que se realiza de reconocimiento y pago de un auxilio funerario a la persona que compruebe haber sufragado los gastos de entierro de un pensionado, del Fondo de Previsión Social del Congreso de la República y del Fondo Pasivo Social de Ferrocarriles Nacionales de Colombia, Decreto 1755 de 1994.",0,15]
[null,null,"D2139302","Cebollas y ajos deshidratados",1,{"$f":"ROW()","v":1389},8,null,null,"2.1.3.07.02.107","Prestaciones económicas FONPRENOR - Ley 1668 de 1997 (Otras prestaciones de jubilación) Corresponde al pago de los derechos y obligaciones adquiridos por la Superintendencia de Notariado y Registro (SNR) del Fondo de Previsión Social de Notariado y Registro (FONPRENOR en liquidación) a las Administradoras de Fondo de Pensiones (AFPs) por las prestaciones económicas tales como las indemnizaciones sustitutivas, que válida y legalmente ostenten quienes fueron afiliados del extinto FONPRENOR (Decreto 1668 de 1997).",0,15]
[null,null,"D3845001","Cebos artificiales de pesca deportiva",1,{"$f":"ROW()","v":1390},8,null,null,"2.1.3.07.03.001","Fondo Nacional de Pensiones de las Entidades Territoriales Ley 549 de 1999 (de pensiones) Transferencias al Fondo de Pensiones Públicas del Orden Territorial, Fonpet, en virtud de la Ley 549 de 1999, por medio de la cual, se establece que la Nación aportará recursos para este fondo por concepto de enajenaciones de activos a privados, capitalizaciones, y demás que determina la Ley 549 de 1999.",0,15]
[null,null,"D3479010","Celofán",1,{"$f":"ROW()","v":1391},8,null,null,"2.1.3.07.03.002","Prestaciones convencionales pensionados Puertos de Colombia (Otras prestaciones de jubilación) Transferencia en virtud de la Ley 1 de 1991, por el cual se expide el Estatuto de Puertos Marítimos, se ordena la liquidación de la Empresa Puertos de Colombia y se establece que la Nación asumirá las obligaciones laborales generadas y las prestaciones convencionales reconocidas.",0,15]
[null,null,"D4212008","Celosías metálicas",1,{"$f":"ROW()","v":1392},8,null,null,"2.1.3.07.03.003","Transferencia obligaciones laborales reconocidas insolutas Empresas Sociales del Estado creadas por el Decreto 1750 de 2003 (No de pensiones) Corresponde a los recursos que son transferidos por parte del Ministerio de Salud y Protección Social a los Patrimonios Autónomos de Remanentes de las Empresas Sociales del Estado para el pago de sentencias de carácter laboral derivadas del proceso liquidatario de estas, en virtud del Decreto 1750 de 2003 y el Art. 1 Resolución 4070 de 2017.",0,15]
[null,null,"D3479007","Celuloide",1,{"$f":"ROW()","v":1393},8,null,null,"2.1.3.07.03.004","Financiación pensiones régimen de prima media con prestación definida Colpensiones Ley 1151 de 2007 (de pensiones) Transferencias realizadas por la nación para la financiación del pago de pensiones del régimen de prima media con prestación definida a cargo de la Administradora Colombiana de Pensiones, COLPENSIONES, en virtud de la Ley 1151 de 2007 y el Decreto 2011 de 2012.",0,15]
[null,null,"D3479001","Celulosa",1,{"$f":"ROW()","v":1394},8,null,null,"2.1.3.07.03.005","Otros recursos para seguridad social Transferencias de recursos para financiación de las variaciones positivas del monto de pensiones a cargo de la Nación, superiores al Índice de Precios al Consumidor (IPC) esperado, de acuerdo con la meta de inflación proporcionada por el Banco de la República.",0,15]
[null,null,"D3744002","Cemento blanco",1,{"$f":"ROW()","v":1395},8,null,null,"2.1.3.07.03.006","Concurrencia Nación pasivo pensional Leyes 1151/2007 y 1371/2009 (de pensiones) Transferencias generadas, en el marco de la concurrencia de la Nación al saneamiento del pasivo pensional, a la Universidad Nacional de Colombia, en calidad de Universidad Oficial. La Nación concurre en el pago del pasivo pensional de las universidades estatales del orden nacional que con anterioridad al 23 de diciembre de 1993 tenían a su cargo el reconocimiento y pago de pensiones directamente o a través de una caja con o sin personería jurídica. La concurrencia a cargo de la Nación será igual a la diferencia entre el valor del pasivo pensional menos el aporte a cargo de la respectiva universidad. Estas están destinadas al Fondo que atiende el pago del pasivo pensional de esta Universidad.",0,15]
[null,null,"D3744001","Cemento gris",1,{"$f":"ROW()","v":1396},8,null,null,"2.1.3.07.03.007","Pagos excepcionales de extrabajadores de la Fundación San Juan de Dios (de pensiones) Transferencias en virtud del Fallo de Unificación SU-484 de 2008, de la Corte Constitucional, en el cual se estableció que las pensiones causadas antes del 31 de diciembre de 1993 por la Fundación San Juan de Dios que comprende el Hospital San Juan de Dios y el Instituto Materno Infantil, corresponden ser pagadas por la Nación.",0,15]
[null,null,"D3529902","Cemento para prótesis dental",1,{"$f":"ROW()","v":1397},8,null,null,"2.1.3.07.03.008","Pasivo pensional Municipio Armero Guayabal (Ley 1478 de 2011 Decreto 2622 de 2014) (de pensiones) Transferencias de recursos a cargo de la nación por concetpo del pasivo pensional del extinto Municipio de Armero, en virtud de la Ley 1478 de 2011 y el Decreto 2622 de 2014.",0,15]
[null,null,"D3744099","Cementos especiales n.c.p. (excepto para prótesis)",1,{"$f":"ROW()","v":1398},8,null,null,"2.1.3.07.03.009","Prestaciones del sector salud (Ley 715/2001) (de pensiones) Transferencias de acuerdo con la Ley 715 de 2001, parágrafo 2 del artículo 49, en el cual se indica que se debe descontar el pago de valores prestacionales de pensiones del sector salud en relación con los recursos distribuidos a cada entidad territorial para la prestación del servicio de salud a la población pobre por atender, en lo no cubierto con subsidios a la demanda, en el marco del Sistema General de Participaciones, SGP.",0,15]
[null,null,"D3733001","Cementos y morteros refractarios",1,{"$f":"ROW()","v":1399},8,null,null,"2.1.3.07.03.010","Planes complementarios de salud Ley 314 de 1996 (no de pensiones) Transferencias realizadas por la nación, en virtud del Decreto 1750 de 2003, para el cumplimiento de las obligaciones laborales derivadas de la escición del Instituto de Seguros Sociales (ISS) y las Empresas Sociales del Estado (ESE) creadas en dicho Decreto.",0,15]
[null,null,"D3722110","Ceniceros de barro cocido",1,{"$f":"ROW()","v":1400},8,null,null,"2.1.3.07.03.011","Prestación humanitaria periódica Artículo 2.2.9.5.7 Decreto 600 de 2017 (no de pensiones) Transferencia en virtud del artículo 2.2.9.5.7 del Decreto 600 de 2017, el cual establece que el financiamiento y pago de la prestación humanitaria periódica provendrán del Presupuesto General de la Nación (PGN). Para lo cual, el Ministerio de Hacienda y Crédito Público apropiará anualmente los recursos que sean necesarios en el presupuesto del Ministerio de Trabajo y éste a su vez deberá realizar todas las actuaciones administrativas y presupuestales que correspondan para garantizar el pago de dicha prestación para las víctimas del conflicto armado en atención a las disposiciones de la Ley 418 de 1997.",0,15]
[null,null,"D3722108","Ceniceros de loza o porcelana",1,{"$f":"ROW()","v":1401},8,null,null,"2.1.3.07.03.012","Obligaciones laborales del Instituto de Seguros Sociales -ISS y Empresas Sociales del Estado- Decreto 1750 de 2003, en liquidación (de pensiones) Transferencias realizadas por la nación, en virtud del Decreto 1750 de 2003, para el cumplimiento de las obligaciones laborales derivadas de la escición del Instituto de Seguros Sociales (ISS) y las Empresas Sociales del Estado (ESE) creadas en dicho Decreto.",0,15]
[null,null,"D3719308","Ceniceros de vidrio",1,{"$f":"ROW()","v":1402},8,null,null,"2.1.3.07.03.013","Afiliación Riesgos Laborales contratistas Grado IV y V Corresponde al pago mensual de las cotizaciones al Sistema General de Riesgos Laborales que el contratante debe pagar, cuando la afiliación del contratista sea por riesgo IV o V.",0,15]
[null,null,"D4291219","Ceniceros metálicos",1,{"$f":"ROW()","v":1403},8,null,null,"2.1.3.07.04.001.01","  Incapacidades (No de pensiones) Corresponde a la transferencia corriente que hace el SGSSS a los afiliados del Régimen Contributivo en salud por concepto de incapacidades generadas en enfermedad general, de conformidad con las disposiciones legales vigentes.",0,18]
[null,null,"D3932001","Cenizas de zinc",1,{"$f":"ROW()","v":1404},8,null,null,"2.1.3.07.04.001.02","  Licencias de maternidad y paternidad (No de pensiones) Corresponde a la transferencia corriente que hace el SGSSS a los afiliados por concepto de licencias de maternidad y paternidad, de conformidad con las disposiciones legales vigentes.",0,18]
[null,null,"D0116201","Centeno en grano",1,{"$f":"ROW()","v":1405},8,null,null,"2.1.3.07.04.001.03","  Prestaciones económicas regímenes especial y de excepción Corresponde a la transferencia corriente que hace el SGSSS por concepto de incapacidades por enfermedad general, licencias de maternidad y paternidad, a favor de quienes están afiliados a los regímenes especial y/o de excepción, de conformidad con las disposiciones legales vigentes.",0,18]
[null,null,"D4722301","Centrales telefónicas",1,{"$f":"ROW()","v":1406},8,null,null,"2.1.3.07.04.001.04","  Indemnizaciones (no de pensiones) Corresponde al valor que reconoce el SGSSS a titulo de indemnización a los beneficiarios de la víctima que haya fallecido o a la victima por incapacidad permanente, como consecuencia de un accidente de tránsito (por un vehículo no identificado o un vehículo sin póliza de SOAT), de un evento terrorista, de un evento catastrófico de origen natural u otro evento aprobado por el Ministerio de Salud y Protección Social.",0,18]
[null,null,"D4422202","Cepilladoras de madera",1,{"$f":"ROW()","v":1407},8,null,null,"2.1.3.07.04.001.05","  Auxilio funerario (no de pensiones) Corresponde al valor que reconoce el SGSSS a titulo de auxilio funerario a los beneficiarios de la víctima que haya fallecido como consecuencia de un accidente de tránsito (por un vehículo no identificado o un vehículo sin póliza de SOAT), de un evento terrorista, de un evento catastrófico de origen natural u otro evento aprobado por el Ministerio de Salud y Protección Social.",0,18]
[null,null,"D4421601","Cepilladoras, pulidoras y biseladoras para metales",1,{"$f":"ROW()","v":1408},8,null,null,"2.1.3.07.04.002.01","    Pensión de Vejez (de pensiones) Corresponde al reconocimiento de pensiones de vejez o de jubilación, que realiza el Régimen de Prima Media con Prestación Definida y el Régimen de Ahorro Individual con Solidaridad, a quienes han cumplido las requisitos a los que se refiere Ley 100 de 1993.",0,18]
[null,null,"D3899313","Cepillos industriales",1,{"$f":"ROW()","v":1409},8,null,null,"2.1.3.07.04.002.02","    Pensión de Invalidez (de pensiones) Corresponde al reconocimiento de pensiones de invalidez que realiza el Régimen de Prima Media con Prestación Definida y el Régimen de Ahorro Individual con Solidaridad, a quienes han cumplido las requisitos a los que se refiere Ley 100 de 1993.",0,18]
[null,null,"D3899316","Cepillos para alambre de acero",1,{"$f":"ROW()","v":1410},8,null,null,"2.1.3.07.04.002.03","    Pensión de Sobrevivientes (de pensiones) Corresponde al reconocimiento de pensiones de sustitución o sobrevivientes, que realiza el Régimen de Prima Media con Prestación Definida y el Régimen de Ahorro Individual con Solidaridad, a quienes han cumplido las requisitos a los que se refiere Ley 100 de 1993.",0,18]
[null,null,"D3899304","Cepillos para brilladora",1,{"$f":"ROW()","v":1411},8,null,null,"2.1.3.07.04.002.04.01","      Indemnización de pensión de Vejez (de pensiones) Corresponde a las indemnizaciones que realiza el Régimen de Prima Media con prestación definida a quienes no cumplen las condiciones definidas en la Ley 100 para obtener una pensión por vejez",0,21]
[null,null,"D3899306","Cepillos para calzado",1,{"$f":"ROW()","v":1412},{"$f":"LEN(C1412)","v":8},null,null,"2.1.3.07.04.002.04.02","      Indemnización de pensión de Invalidez (de pensiones) Corresponde a las indemnizaciones que realiza el Régimen de Prima Media con prestación definida a quienes no cumplen las condiciones definidas en la Ley 100 para obtener una pensión por invalidez.",0,{"$f":"LEN(J1412)","v":21}]
[null,null,"D3899307","Cepillos para dientes",1,{"$f":"ROW()","v":1413},8,null,null,"2.1.3.07.04.002.04.03","      Indemnización de pensión de Sobrevivientes (de pensiones) Corresponde a las indemnizaciones que realiza el Régimen de Prima Media con prestación definida a quienes no cumplen las condiciones definidas en la Ley 100 para obtener una pensión por sobrevivientes.",0,21]
[null,null,"D3899303","Cepillos para lavar o fregar",1,{"$f":"ROW()","v":1414},8,null,null,"2.1.3.07.04.002.06","    Auxilios funerarios (no de pensiones) Corresponde a la prestación adicional que puede recibir la persona que compruebe haber sufragado los gastos de entierro de un afiliado o pensionado. Tendrá derecho a percibir un auxilio funerario equivalente al último salario base de cotización, o al valor correspondiente a la última mesada pensional recibida, según sea el caso, sin que este auxilio pueda ser inferior a cinco (5) salarios mínimos legales mensuales vigentes, ni superior a diez (10) veces dicho salario.",0,18]
[null,null,"D3899312","Cepillos para máquinas de limpieza de calles",1,{"$f":"ROW()","v":1415},8,null,null,"2.1.3.07.04.002.07","    Incapacidades (no de pensiones) Corresponde al pago de incapacidades laborales por enfermedad de origen común que debe reconocer la Administradora de Pensiones a sus afiliados a partir del día 181 de incapacidad y hasta el día 540.",0,18]
[null,null,"D3899319","Cepillos para mascotas",1,{"$f":"ROW()","v":1416},8,null,null,"2.1.3.07.04.003.01","    Subsidio por incapacidad temporal (no de pensiones) Corresponde a la prestación social que recibe todo afiliado al SGRL a quien se le defina una incapacidad temporal. Equivale al cien (100%) de su salario base de cotización, calculado desde el día siguiente el que ocurrió el accidente de trabajo y hasta el momento de su rehabilitación, readaptación o curación, o de la declaración de su incapacidad permanente parcial, invalidez o su muerte.",0,18]
[null,null,"D3899305","Cepillos para ropa",1,{"$f":"ROW()","v":1417},8,null,null,"2.1.3.07.04.003.02","    Indemnización por incapacidad permanente parcial (no de pensiones) Corresponde a la prestación social que recibe todo afiliado al SGRL a quien se le defina una incapacidad permanente parcial. Tiene derecho a que se le reconozca una indemnización en proporción al daño sufrido, a cargo de la entidad administradora de riesgos profesionales, en una suma no inferior a dos (2) salarios base de liquidación, ni superior a veinticuatro (24) veces su salario base de liquidación.",0,18]
[null,null,"D3899399","Cepillos para uso personal n.c.p.",1,{"$f":"ROW()","v":1418},8,null,null,"2.1.3.07.04.003.03","    Pensión de invalidez (de pensiones) Corresponde a la prestación social que recibe el afiliado al SGRL al que se le defina una invalidez. Para los efectos del Sistema General de Riesgos Profesionales, se considera inválida la persona que por causa de origen profesional, no provocada intencionalmente, hubiese perdido el cincuenta por ciento (50%) o más de su capacidad laboral de acuerdo con el Manual Único de Calificación de Invalidez vigente a la fecha de la calificación.",0,18]
[null,null,"D3899315","Cepillos y pinceles para maquillaje",1,{"$f":"ROW()","v":1419},8,null,null,"2.1.3.07.04.003.04","    Pensión de sobrevivientes (de pensiones) Si como consecuencia de un accidente de trabajo o de la enfermedad profesional sobreviene la muerte del afiliado, o muere un pensionado por riesgos profesionales, le corresponde al SGRL otorgar a las personas descritas en el artículo 47 de la Ley 100 de 1993 y su reglamentario, pensión de sobrevivientes.",0,18]
[null,null,"D0296001","Cera de abejas",1,{"$f":"ROW()","v":1420},8,null,null,"2.1.3.07.04.003.05","    Auxilio funerario (no de pensiones) Corresponde al auxilio funerario que otorga el SGRL a la persona que compruebe haber sufragado los gastos de entierro de un afiliado o de un pensionado por invalidez. El auxilio es igual el determinado en el artículo 86 de la Ley 100 de 1993.",0,18]
[null,null,"D2193101","Cera de laurel",1,{"$f":"ROW()","v":1421},8,null,null,"2.1.3.07.05.01","  Subsidio monetario Corresponde a la suma monetaria que las Cajas de Compensación Familiar deben pagar a los trabajadores que la ley considera beneficiarios, el cual es cancelado en función de cada una de las personas a cargo que dan derecho a percibirlo, pago que se efectúa de manera mensual, de acuerdo al departamento del país donde se cause el salario.Los cesantes beneficiarios de las prestaciones económicas que durante su última vinculación como dependientes estaban gozando de cuota monetaria de subsidio familiar, continuarán recibiéndola en las mismas condiciones y por igual número de personas a car­go, a partir del mes en que se paguen las cotizaciones a los sistemas de pensiones y salud.",0,14]
[null,null,"D3412002","Ceramidas",1,{"$f":"ROW()","v":1422},8,null,null,"2.1.3.07.05.02","  Subsidio en especie y servicios Corresponde al subsidio que otorgan las cajas de compensación familiar a sus afiliados y que es reconocido en alimentos, vestidos, becas de estudio, texto escolares, y demás frutos o géneros diferentes al dinero que determine la reglamentación de la ley. Así como los subsidios en servicios que se reconocen a través de la utilización de las obras y programas sociales que organicen las Cajas de Compensación Familiar dentro del orden de prioridades prescrito por la Ley.",0,14]
[null,null,"D3533201","Ceras artificiales",1,{"$f":"ROW()","v":1423},8,null,null,"2.1.3.07.05.03","  Bonos de alimentación   Corresponde a la prestación económica destinada a cubrir gastos alimenticios de acuerdo con las prioridades de consumo de cada beneficiario durante un período de cesantía determinado, respetando su libre elección y sus derechos como consumidor, conforme a lo señalado en el artículo 3° de la Ley 1480 de 2011.",0,14]
[null,null,"D2193102","Ceras de origen vegetal",1,{"$f":"ROW()","v":1424},8,null,null,"2.1.3.07.05.04","  Aportes a la seguridad social en salud y pensión Corresponde al pago de la cotización a los Sistemas de Salud y Pensiones del Sistema General de Seguridad Social Integral, reconocido a la población cesante.",0,14]
[null,null,"D3533202","Ceras para pisos",1,{"$f":"ROW()","v":1425},8,null,null,"2.1.3.07.05.05","  Incentivo económico por ahorro voluntario de cesantías Corresponde al beneficio monetario proporcional que reciben los trabajadores que voluntariamente realicen el ahorro de las cesantías. El beneficio está sujeto al tiempo de ahorro, al ingreso del trabajador y al monto del ahorro realizado. Las Cajas de Compensación Familiar liquidan el valor del beneficio mo­netario y junto con el ahorro y los rendimientos trasladados, los pagará al beneficiario conforme lo que haya indicado este en el formato de destinación de ahorro, en máximo seis (6) instalamentos. El pago se realizará a través de los mecanismos que utilice para reconocer la cuota monetaria de subsidio o cualquier otro que garantice la mayor agilidad para el disfrute del cesante.",0,14]
[null,null,"D4693903","Cercas eléctricas",1,{"$f":"ROW()","v":1426},8,null,null,"2.1.3.07.05.06","  Beneficios relacionados con el Mecanismo de Protección al Cesante (Dec. 488 de 2020) Corresponde a la transferencia económica que realizan las Cajas de Compensación Familiar para cubrir los gastos, de acuerdo con las necesidades y prioridades de consumo de cada beneficiario, por un valor de dos (2) salarios mínimos mensuales legales vigentes, divididos en tres (3) mensualidades iguales que se pagarán mientras dure la emergencia y, en todo caso, máximo por tres meses.",0,14]
[null,null,"D3897203","Cerdas y crines preparadas",1,{"$f":"ROW()","v":1427},8,null,null,"2.1.3.08.01","Medidas de protección UNP- apoyo de transporte, trasteo y de reubicación temporal Comprende los recursos que son transferidos por la Unidad Nacional de Protección (UNP) directamente a las personas acogidas a los programas de prevención y protección. Estos recursos son entregados como medidas de protección de conformidad con lo establecido en los numerales 3, 4 y 5 del Artículo 2.4.1.3.6 del Decreto 1066 de 2015.",0,11]
[null,null,"D2314012","Cereales expandidos",1,{"$f":"ROW()","v":1428},8,null,null,"2.1.3.08.02","Apoyo socieconómico a estudiantes Corresponde a los recursos economicos otorgados directamente a los estudiantes con con el fin de garantizar su permanencia academica y la participación en actividades que promueven la formacion integral.Ejemplo: Apoyo al transporte, apoyo a la alimentación y alojamiento, participación en eventos academicos, culturales y deportivos, salidas de campo, gastos de marcha, entre otros.",0,11]
[null,null,"D0134401","Cerezas",1,{"$f":"ROW()","v":1429},8,null,null,"2.1.3.08.03","Traslado de dividendos Trasferencia de dividendos a favor de los hogares.",0,11]
[null,null,"D2149903","Cerezas en conserva envasadas",1,{"$f":"ROW()","v":1430},8,null,null,"2.1.3.08.04","Actividades de promoción y desarrollo de la cultura Transferencia a las personas naturales, que ejecuten programas culturales para estimular la creación, la actividad artística y cultura, la investigación y el fortalecimiento de las expresiones culturales, en virtud de lo señalado en el artículo 71 de la Constitución Política y artículos 17 y 18 de la Ley 397 de 1997, mediante el otorgamiento de estímulos o incentivos",0,11]
[null,null,"D4299210","Cerraduras de combinación",1,{"$f":"ROW()","v":1431},8,null,null,"2.1.3.08.05","Indemnizaciones relacionadas con seguros de vida Son las transferencias de recursos que realizan las empresas aseguradoras a los beneficiarios de las indemnizaciones que se generan en el desarrollo de contratos de seguros de vida.",0,11]
[null,null,"D4299205","Cerraduras para muebles",1,{"$f":"ROW()","v":1432},8,null,null,"2.1.3.08.06","Estímulos y beneficios a los deportistas Son los recursos a través de los cuales las entidades territoriales apoyan a este nivel de población, con estímulos e incentivos a los deportistas del municipio o departamento, así como promocionar y hacer un reconocimiento a los que se han destacado.",0,11]
[null,null,"D4299203","Cerraduras para puertas",1,{"$f":"ROW()","v":1433},8,null,null,"2.1.3.08.07","Recursos para las Mesas de Participación de Víctimas Son los recursos destinados a garantizar la participación efectiva serán otorgados por las entidades del SNARIV, tanto del orden nacional como territorial, a los miembros de las Mesas y a los Representantes a los espacios de participación y subcomités.",0,11]
[null,null,"D4299204","Cerraduras para vehículos automotores",1,{"$f":"ROW()","v":1434},8,null,null,"2.1.3.08.08","Recursos para el mejoramiento de vivienda urbana y rural Recursos destinados para el mejoramiento de vivienda urbana y rural",0,11]
[null,null,"D2431001","Cerveza embotellada, tipo Pilsen",1,{"$f":"ROW()","v":1435},8,null,null,"2.1.3.09.01","Fortalecimiento de las asociaciones y ligas de consumidores (Ley 73 de 1981 y Decreto 1320 de 1982) Transferencias realizadas por la nación, en virtud de la Ley 73 de 1981 y el Decreto 1320 de 1982, por concepto de generación de convenios con asociaciones y ligas de consumidores, con el fin de fortalecer los derechos de los consumidores.",0,11]
[null,null,"D2431003","Cerveza en proceso",1,{"$f":"ROW()","v":1436},8,null,null,"2.1.3.09.02","Programas de rehabilitación para adultos ciegos - Convenio con el Centro de Rehabilitación Para Adultos Ciegos -CRAC- Transferencias realizadas por la nación, en virtud del artículo 355 de la Constitución Política, por concepto del convenio con el Centro de Rehabilitación para Adultos Ciegos (CRAC), con el fin de rehabilitar personas ciegas para su integración al medio familiar, laboral y social.",0,11]
[null,null,"D2431004","Cerveza enlatada",1,{"$f":"ROW()","v":1437},8,null,null,"2.1.3.09.03","Anticipos financiación estatal para las campañas electorales (art. 22 Ley 1475/2011 y art. transitorio 8 Acto Legislativo 02/2021) Transferencias realizadas a los partidos políticos o campañas políticas hasta de un ochenta por ciento (80%) de anticipo de la financiación estatal de las consultas o de las campañas electorales en las que participen, según lo dispuesto en el artículo 22 de la Ley 1475 de 2011.",0,11]
[null,null,"D2431002","Cerveza negra",1,{"$f":"ROW()","v":1438},8,null,null,"2.1.3.09.04","Financiación de partidos y campañas electorales (Ley 130/94, art. 3 acto legislativo 001/03) Transferencias para los Partidos Políticos y las campañas electorales, en virtud del Acto Legislativo 001 de 2003, por tanto, con el propósito de que todos los ciudadanos puedan materializar sus derechos políticos (en especial los dispuestos en la Ley 130 de 1994), el Estado concurrirá a la financiación de los partidos y movimientos políticos con personería jurídica, de conformidad con la ley. Además, las campañas que adelanten los partidos y movimientos con personería jurídica y los grupos significativos de ciudadanos que postulen candidatos serán financiadas con recursos estatales mediante el sistema de reposición por votos depositados.",0,11]
[null,null,"D0196102","Césped",1,{"$f":"ROW()","v":1439},8,null,null,"2.1.3.09.05","Asociación Colombiana de Universidades -ASCUN- Transferencias realizadas por la Nación a la institución sin ánimo de lucro Asociación Colombiana de Universidades (ASCUN), la cual tiene como objetivo contribuir, por medio de la generación de conocimiento, en las diferentes etapas de las políticas públicas de educación superior en Colombia.",0,11]
[null,null,"D3417098","Cetonas n.c.p.",1,{"$f":"ROW()","v":1440},8,null,null,"2.1.3.09.06","Financiación estatal previa de las campañas presidenciales Ley 996 de 2005 Transferencia realizada por la nación, en virtud del artículo 10 de la Ley 996 de 2005, por concepto de financiación estatal de campañas presidenciales de candidatos que cumplan con los requisitos establecidos por la Ley. La financiación estatal previa está compuesta por un anticipo del Estado, que comprende una parte para la financiación de la propaganda electoral y otra para la financiación de otros gastos de campaña.",0,11]
[null,null,"D2823614","Chalecos antibalas hechos principalmente de película plástica",1,{"$f":"ROW()","v":1441},8,null,null,"2.1.3.09.07","Centro Internacional de Física (Decreto 267 de 1984) Transferencias por parte de la Nación, en virtud del Decreto 267 de 1984 y el Decreto Ley 2869 de 1968, al Proyecto Especial para la promoción y el desarrollo de las ciencias físicas coordinado desde Colciencias (Departamento Administrativo de la Ciencia, Tecnología e Innovación). Los objetivos de este proyecto persiguen la consolidación de la investigación de la física pura y aplicada en Colombia articulando esta con los proyectos regionales latinoamericanos, principalmente.",0,11]
[null,null,"D2824103","Chalecos de cuero",1,{"$f":"ROW()","v":1442},8,null,null,"2.1.3.09.08","Centro Internacional de Investigaciones Médicas - CIDEIM (Decreto 578 de 1990) Transferencias realizadas por la nación, en virtud del Decreto 578 de 1990, al Proyecto Especial para la promoción y el desarrollo de la investigación en enfermedades tropicales propias del país o de la región. Estas asignaciones se realizan con el ánimo de promover y financiar la realización de actividades científicas y tecnológicas en el área de la salud a nivel nacional e internacional.",0,11]
[null,null,"D2822699","Chalecos de punto n.c.p. para dama",1,{"$f":"ROW()","v":1443},8,null,null,"2.1.3.09.09","Centro de Educación en Administración de Salud - CEADS - convenio Transferencias realizadas por la Nación por concepto de convenios con los Centros de Educación en Administración de Salud CEADS, los cuales fueron creados por el Decreto 2442 de 1982, con el objetivo de formar personal de nivel intermedio profesional en el área de salud.",0,11]
[null,null,"D2822698","Chalecos de tejido n.c.p. para hombre",1,{"$f":"ROW()","v":1444},8,null,null,"2.1.3.09.10","Fortalecimiento a los procesos organizativos y de concertación de las minorías étnicas con el fin de garantizar su integridad. Convenio 169 OIT, Ley 21 de 1991, Ley 70 de 1993. Transferencias realizadas por la Nación en virtud de la Ley 21 de 1991, por medio de la cual se aprueba el Convenio 169 de la OIT y Ley 70 de 1993, por la cual se desarrolla el artículo transitorio 55 de la Constitución Política, para el fortalecimiento y desarrollo de los procesos organizativos y de concertación de las minorías étnicas, con el fin de garantizar su integridad.",0,11]
[null,null,"D2719013","Chalecos reflectivos",1,{"$f":"ROW()","v":1445},8,null,null,"2.1.3.09.11","Fortalecimiento a los procesos organizativos y de concertación de las comunidades negras, afrocolombianas, raizales y palenqueras Transferencias en virtud de la Ley 21 de 1991, por medio de la cual se aprueba el Convenio 169 de la OIT; Ley 70 de 1993, por la cual se desarrolla el artículo transitorio 55 de la Constitución Política; y el Decreto 1320 de 1998, por el cual se reglamenta la consulta previa con las comunidades indígenas y negras para la explotación de los recursos naturales dentro de su territorio; con el fin de fortalecer los procesos organizativos y de concertación de las comunidades negras, afrocolombianas, raizales y palenqueras.",0,11]
[null,null,"D2719012","Chalecos salvavidas de material plástico",1,{"$f":"ROW()","v":1446},8,null,null,"2.1.3.09.12","Fortalecimiento a los procesos organizativos y de concertación de las comunidades indígenas, minorías y Rom Transferencias en virtud de la Ley 21 de 1991, por medio de la cual se aprueba el Convenio 169 de la OIT; el Decreto 1320 de 1998, por el cual se reglamenta la consulta previa con las comunidades indígenas y negras para la explotación de los recursos naturales dentro de su territorio; y la Sentencia Auto 004 de 26 de enero de 2009, por medio de la cual se blinda la protección de derechos fundamentales de personas e indígenas desplazados por el conflicto armado en el marco de superación del estado de cosas inconstitucional declarado en sentencia T-025 de 2004; con el fin de fortalecer los procesos organizativos y de concertación de las comunidades indígenas, minorías y rom.",0,11]
[null,null,"D2823814","Chalecos y prendas similares de tejidos planos",1,{"$f":"ROW()","v":1447},8,null,null,"2.1.3.09.13","Fortalecimiento institucional de la mesa permanente de concertación con los pueblos y organizaciones indígenas - Decreto 1397 de 1996 Transferencias realizadas por la Nación, en virtud del Decreto 1397 de 1996, que tiene por objeto concertar entre los pueblos y organizaciones, y el Estado todas las decisiones administrativas y legislativas susceptibles de afectarlos, evaluar la ejecución de la política indígena del Estado, y hacerle seguimiento al cumplimiento de los acuerdos a que allí se lleguen.",0,11]
[null,null,"D2823807","Chales y similares",1,{"$f":"ROW()","v":1448},8,null,null,"2.1.3.09.14","Actividades de promoción y desarrollo de la cultura - Convenios sector privado Transferencias en cabeza del Ministerio de Cultura a organizaciones del sector privado, las cuales ejecuten programas culturales abiertas al público para la promoción y el desarrollo del patrimonio cultural, en virtud de la Ley 397 de 1997.",0,11]
[null,null,"D0192909","Chambira, Cumaré, Corombolo",1,{"$f":"ROW()","v":1449},8,null,null,"2.1.3.09.15","Cuerpos Consultivos Transferencias del Gobierno Nacional utilizadas para el funcionamiento de cada órgano consultivo.",0,11]
[null,null,"D3465403","Champiñonaza",1,{"$f":"ROW()","v":1450},8,null,null,"2.1.3.09.16","Sobretasa bomberil - Cuerpos de Bomberos Voluntarios Corresponde a la transferencia del recaudo que realicen los municipios, distritos y departamentos en cumplimiento del artículo 37 de la Ley 1575 de 2012 como aporte para la gestión integral del riesgo contra incendio, los preparativos y atención de rescates en todas sus modalidades y la atención de incidentes con materiales peligrosos, a cuerpos de bomberos con naturaleza privada(voluntarios). Si la Unidad de bomberos es descentralizada territorial, se registrara en la cuenta A establecimientos públicos y unidades administrativas especiales.",0,11]
[null,null,"D0127001","Champiñones",1,{"$f":"ROW()","v":1451},8,null,null,"2.1.3.09.17","Actividades de promoción y desarrollo del Deporte Transferencias a organizaciones del sector privado, las cuales ejecuten programas de Recreación y Deporte abiertas al público para fomentar, patrocinar y dirigir la actividad deportiva en cualquiera de los niveles jerárquicos establecidos en el artículo 1 del Decreto 1228 de 1995.",0,11]
[null,null,"D3532208","Champú para alfombras",1,{"$f":"ROW()","v":1452},8,null,null,"2.1.3.09.18","Transferencia a Corporación Maloka de Ciencia, Tecnología e Innovación Corresponde a las transferencias que el Distrito Capital realiza a la Corporación Maloka",0,11]
[null,null,"D3532301","Champúes",1,{"$f":"ROW()","v":1453},8,null,null,"2.1.3.09.19","Transferencia a Corporación para el Desarrollo Regional \"Bogotá Región\" Corresponde a las transferencias que el Distrito Capital realiza a la Corporación Bogotá Región",0,11]
[null,null,"D2933008","Chancletas de cuero",1,{"$f":"ROW()","v":1454},8,null,null,"2.1.3.11.01.001","Recursos ADRES - Pago de deudas reconocidas del régimen subsidiado en salud Son las transferencias que realiza el Ministerio de Salud y Protección Social a las entidades territoriales para la financiación de la Unidad de Pago por Capitación (UPC) del Régimen Subsidiado en Salud. Estos recursos forman parte del ADRESS, y se giran en virtud de las disposiciones del artículo 44 de la Ley 1438 de 2011, el cual modifica el artículo 214 de la Ley 100 de 1993.",0,15]
[null,null,"D4121301","Chapa de acero inoxidable",1,{"$f":"ROW()","v":1455},8,null,null,"2.1.3.11.01.002","Recursos ADRES -Cofinanciación UPC régimen subsidiado Son las transferencias de recursos que realiza la Nación para la financiación de los proyectos de régimen subsidiado en salud a las entidades territoriales en cuyo territorio se adelanten explotaciones de recursos naturales no renovables, y municipios y distritos con puertos marítimos y fluviales por donde se transporten dichos recursos. Esta transferencia corresponde al desarrollo de las disposiciones del artículo 145 de la Ley 1530 de 2012, los cuales se distribuyen a partir de los criterios y metodologías del CONPES 151 de 2012.",0,15]
[null,null,"D4121302","Chapa de aceros especiales",1,{"$f":"ROW()","v":1456},8,null,null,"2.1.3.11.01.003","Transferencia Nacional -Financiación del régimen subsidiado en salud - Ley 1530 de 2012 Recursos provenientes de la compensación por la Unidad de Pago por Capitación - UPC que reciben los órganos del PGN que prestan servicios de aseguramiento en salud.",0,15]
[null,null,"D4123103","Chapa de hierro o acero galvanizada",1,{"$f":"ROW()","v":1457},8,null,null,"2.1.3.11.01.004","Compensación UPC-SSS Es la transferencia de recursos que realizan los municipios a los departamentos para cubrir las prestaciones en salud no cubiertas con subsidios a la demanda, a la universalización y a la unificación de los Planes Obligatorios de Saludo (POS). De acuerdo con el Artículo 39 de la Ley 1393 de 2010, los municipios deben girar los saldos de liquidación y los contratos para el aseguramiento en el régimen subsidiado, a más tardar seis meses después de terminado el período de ejecución de los respectivos contratos",0,15]
[null,null,"D4121101","Chapa de hierro o acero laminada en caliente (incluso por proceso de heliaceración)",1,{"$f":"ROW()","v":1458},8,null,null,"2.1.3.11.01.005","Saldos de liquidación de los contratos para el aseguramiento en el régimen subsidiado Corresponde a los giros que realizan las entidades territoriales a su cuenta del régimen subsidiado, para su cofinanciación, por concepto de recursos propios y rentas cedidas, con el fin de ser girados a las EPS para afiliar a aquellas personas que no han sido cubiertas con los recursos de la Nación o a los prestadores de servicios de salud por el pago de servicios que hayan sido capitados (Ley 1438 de 2011, art. 31)",0,15]
[null,null,"D4122101","Chapa de hierro o acero laminada en frío",1,{"$f":"ROW()","v":1459},8,null,null,"2.1.3.11.01.006","Transferencia territorial - Financiación del régimen subsidiado en salud - Ley 1438 de 2011 Corresponde a las transferencias de cofinanciación, recibidas de las entidades territoriales para su cuenta, por concepto de recursos propios y rentas cedidas, con el fin de ser girados a las EPS para afiliar a aquellas personas que no han sido cubiertas con los recursos de la Nación o a los prestadores de servicios de salud por el pago de servicios que hayan sido capitados (Ley 1438 de 2011, art. 31)",0,15]
[null,null,"D2824109","Chaquetas de cuero",1,{"$f":"ROW()","v":1460},8,null,null,"2.1.3.11.01.007","Transferencia Cajas de Compensación Familiar - Financiación del régimen subsidiado en salud Son las transferencias que recibe la ADRES de las Cajas de Compensación para la financiación del Régimen Subsidiado en Salud, por concepto del 5% de los recaudos del subsidio familiar que administran, salvo aquellas Cajas que obtengan un cuociente superior al 100% del recaudo del subsidio familiar del respectivo año, las cuales tendrán que destinar un 10% (Ley 100 de 1993, art. 217).",0,15]
[null,null,"D2824104","Chaquetas de cueros artificiales para hombre",1,{"$f":"ROW()","v":1461},8,null,null,"2.1.3.11.01.008","Transferencia de cotización del régimen contributivo Corresponde al giro de recursos que hacen directamente las EPS a la subcuenta de solidaridad de la ADRES, por concepto del 1,5% de la cotización del régimen contributivo (Ley 100 de 1993, art. 221).",0,15]
[null,null,"D2824106","Chaquetas de cueros artificiales para mujer",1,{"$f":"ROW()","v":1462},8,null,null,"2.1.3.11.01.009","Aportes de unidades del gobierno general para el financiamiento del SGSSS Corresponde al giro de recursos que hacen las unidades del gobierno general para la financiación del Sistema General de Seguridad Social en Salud, de acuerdo con los mandatos legales de la Ley 1393 de 2010 y la Ley 1753 de 2015.Esta cuenta incluye los recursos del Sistema General de Participaciones, los recursos derivados de la gestión de la Unidad de Gestión de Pensiones Parafiscales (UGPP) y de los recursos tributarios destinados a salud, y los demás definidos por la normatividad colombiana.Esta cuenta se debe desagregar de acuerdo con los conceptos de recursos con cargo a los cuales se financia el sistema.",0,15]
[null,null,"D2824105","Chaquetas de cueros artificiales para niño",1,{"$f":"ROW()","v":1463},8,null,null,"2.1.3.11.01.010","Unidad de pagos por capitación Corresponde a la transferencia de recursos que reciben las EPS de la ADRES (antes FOSYGA), en los casos en que el valor de las UPC sea mayor que el recaudo de las cotizaciones (Ley 100 de 1993, art. 205).",0,15]
[null,null,"D2823117","Chaquetas o sacos, excepto de cuero y plástico para hombre",1,{"$f":"ROW()","v":1464},8,null,null,"2.1.3.11.01.011","Reconocimiento y pago por el aseguramiento y demás prestaciones Corresponde al reconocimiento y pago a las EPS por el aseguramiento y demás prestaciones que se reconocen a los afiliados al Sistema General de Seguridad Social en Salud, incluido el pago de incapacidades por enfermedad de origen común que superen los quinientos cuarenta (540) días continuos (Ley 1753 de 2015, art. 67)",0,15]
[null,null,"D2823313","Chaquetas o sacos, excepto de cuero y plástico para mujer",1,{"$f":"ROW()","v":1465},8,null,null,"2.1.3.11.01.012","Reconocimiento y pago de incapacidades originadas en enfermedad profesional y accidente de trabajo Corresponde a la transferencia de recursos por compensación y pago de incapacidades originadas en enfermedad profesional y accidente de trabajo, reconocidas por las EPS a los afiliados al Sistema de Seguridad Social. Esta transferencia es financiada con cargo a recursos destinados para el pago de dichas contingencias en el respectivo régimen (Ley 100 de 1993, art. 206).",0,15]
[null,null,"D2823314","Chaquetas o sacos, excepto de cuero y plástico para niña",1,{"$f":"ROW()","v":1466},8,null,null,"2.1.3.11.01.013","Reconocimiento y pago de licencias de maternidad Corresponde al reconocimiento y pago por licencias de maternidad a los afiliados al Sistema de Seguridad Social que realiza el régimen contributivo a las EPS. Este reconocimiento se financia con la subcuenta de compensación de la ADRES, antes FOSYGA (Ley 100 de 1993, art. 207).",0,15]
[null,null,"D2823118","Chaquetas o sacos, excepto de cuero y plástico para niño",1,{"$f":"ROW()","v":1467},8,null,null,"2.1.3.11.01.014","Reconocimiento por atención de accidentes de trabajo y enfermedad profesional Corresponde a la financiación de la prestación de los servicios de salud derivados de enfermedad profesional y accidente de trabajo organizada por las EPS, por parte de la cotización del régimen de accidentes de trabajo y enfermedad profesional (Ley 100 de 1993, art. 208).",0,15]
[null,null,"D4912109","Chasises para autobuses",1,{"$f":"ROW()","v":1468},8,null,null,"2.1.3.11.01.015","Unidad de Pago por Capitación - régimen contributivo Corresponde a la transferencia que realiza ADRES por concepto de la Unidad de Pago por Capitación (UPC) del Régimen Contributivo en salud, en el marco del proceso de compensación.",0,15]
[null,null,"D4912101","Chasises para automóviles",1,{"$f":"ROW()","v":1469},8,null,null,"2.1.3.11.01.016","Programas de promoción y prevención en salud Corresponde a las transferencias que realiza ADRES por conceptos Per Cápita para Programas de Promoción y Prevención del Régimen Contributivo en salud.",0,15]
[null,null,"D4912105","Chasises para camiones",1,{"$f":"ROW()","v":1470},8,null,null,"2.1.3.11.01.017","Unidad de Pago por Capitación - régimen subsidiado en salud Corresponde a la transferencia que realiza ADRES a partir de la Liquidación mensual de afiliados al Régimen Subsidiado en salud.",0,15]
[null,null,"D4912103","Chasises para camionetas",1,{"$f":"ROW()","v":1471},8,null,null,"2.1.3.11.01.018","Servicios y tecnologías no financiados con UPC Corresponde a las transferencias que realiza ADRES como administradora de los recursos del SGSSS para cubrir servicios y tecnologías en salud no financiados con cargo a la Unidad de Pago por Capitación - UPC.",0,15]
[null,null,"D4912102","Chasises para camperos",1,{"$f":"ROW()","v":1472},8,null,null,"2.1.3.11.01.019","Programas del Ministerio de Salud y Protección social-fondos especiales Corresponde a las transferencias que realiza ADRES en el marco de los programas del Ministerio de Salud y Protección Social: Programas Especiales, Atención de Medidas en Política Sectorial, Programa Sistema Nacional de Residencias Medicas, Atención de Medidas en Política Sectorial.",0,15]
[null,null,"D4912104","Chasises para microbuses",1,{"$f":"ROW()","v":1473},8,null,null,"2.1.3.11.01.020","Reconocimiento rendimientos financieros cuentas de recaudo EPS Corresponde a la transferencia que realiza la ADRES de recursos apropiados por las EPS, derivadas de la conciliación.mensual de afiliados.",0,15]
[null,null,"D4912107","Chasises para remolques",1,{"$f":"ROW()","v":1474},8,null,null,"2.1.3.11.01.021","Apoyo financiero y fortalecimiento patrimonial a las entidades del sector salud Corresponde a las transferencias que realiza ADRES para financiar operaciones de fortalecimiento patrimonial de entidades del sector salud.",0,15]
[null,null,"D4912108","Chasises para vehículos contra incendio",1,{"$f":"ROW()","v":1475},8,null,null,"2.1.3.11.01.022","Con destinación determinada por MINSALUD Son las transferencias que realiza ADRES en el marco de los Programas del Ministerio de Salud y Protección Social de acuerdo con el Art. 2.6.4.4.4 Decreto 2265 de 2017",0,15]
[null,null,"D4912106","Chasises para volquetas",1,{"$f":"ROW()","v":1476},{"$f":"LEN(C1476)","v":8},null,null,"2.1.3.11.01.023","Pago obligaciones ESES con recursos FONSAET Corresponde a los giros que realiza la ADRES para asegurar el pago de las obligaciones por parte de las ESE que se encuentren en riesgo alto o medio conforme con lo previsto en el artículo 80 de la Ley 1438 de 2011 o que se encuentren intervenidas para administrar o liquidar por parte de la Superintendencia Nacional de Salud - SNS y las que adopten los programas de saneamiento fiscal y financiero, de conformidad con lo establecido en el artículo 50 de la Ley 1438 de 2011, modificado por el artículo 7 de la Ley 1608 de 2013, el Decreto 2651 de 2014 compilado en el presente Decreto.",0,{"$f":"LEN(J1476)","v":15}]
[null,null,"D3934001","Chatarra de acero",1,{"$f":"ROW()","v":1477},8,null,null,"2.1.3.11.02.001.01","Capitalización del Fondo Nacional de Prestaciones Sociales del Magisterio (FOMAG) Es la transferencia de recursos que realizan las entidades al Fondo Nacional de Prestaciones Sociales del Magisterio (FOMAG) para cubrir el pasivo pensional de las prestaciones diferentes a las consagradas en la Ley 100 de 1993.",0,18]
[null,null,"D3936301","Chatarra de aluminio",1,{"$f":"ROW()","v":1478},8,null,null,"2.1.3.11.02.001.02","Capitalización de otros patrimonios autónomos pensionales Es la transferencia de recursos que realizan las entidades a patrimonios autónomos distitnos del FOMAG para cubrir el pasivo pensional de las prestaciones diferentes a las consagradas en la Ley 100 de 1993.",0,18]
[null,null,"D3936101","Chatarra de cobre",1,{"$f":"ROW()","v":1479},8,null,null,"2.1.3.11.02.001.03","Transferencias de aportes por cambio de administradora de fondo de pensiones Corresponde a la transferencia de los aportes de pensiones, junto con sus rendimientos, que una Administradora de Fondo de Pensiones (AFP) debe girar a otra cuando el afiliado decide trasladarse de AFP.En esta cuenta también se registra el valor de los aportes que se transfieren al Fondo de Garantía de Pensión Mínima con ocasión del traslado del afiliado.",0,18]
[null,null,"D3934002","Chatarra de hierro",1,{"$f":"ROW()","v":1480},8,null,null,"2.1.3.11.03.001","Aportes de unidades del gobierno general para el financiamiento del SGRL Corresponde a la transferencia de los aportes que realiza el Presupuesto Nacional y las entidades territoriales al Fondo de Riesgos Laborales, de conformidad con el artículo 89 de la Ley 1295 de 1994. Los aportes que realizan las entidades territoriales están destinados a los planes de Prevención de Riesgos Laborales en sus respectivos territoriales.",0,15]
[null,null,"D3936102","Chatarra de latón",1,{"$f":"ROW()","v":1481},8,null,null,"2.1.3.11.03.002","Aportes de federaciones o agremiaciones para el financiamiento del SGRL Corresponde a la transferencia de los aportes que realiza las federaciones o agremiaciones al Fondo de Riesgos Laborales, de acuerdo con el artículo 89 de la Ley 1295 de 1994. Estos aportes se destinan a los planes de Prevención de Riesgos Laborales para sus afiliados",0,15]
[null,null,"D3934003","Chatarra de metales n.c.p",1,{"$f":"ROW()","v":1482},8,null,null,"2.1.3.11.03.003","Transferencia del recaudo de las cotizaciones Corresponde a la transferencia del porcentaje del recaudo de las cotizaciones a cargo de los empleadores a favor del Fondo de Riesgos Laborales, de acuerdo con lo estipulado en el artículo 89 de la Ley 1295 de 1994 y Ley 1562 de 2012",0,15]
[null,null,"D3936401","Chatarra de plomo",1,{"$f":"ROW()","v":1483},8,null,null,"2.1.3.12.01","Medidas de protección UNP-blindaje arquitectónico - enfoque diferencial Comprende la transferencia que debe realizar la Unidad Nacional de Protección (UNP) a productores de mercado, con el fin de garantizar a los hogares beneficiarios las medidas de protección establecidas en el Decreto 1066 de 2015, Artículo 2.4.1.3.6. Numeral 7.",0,11]
[null,null,"D2399903","Chicharrones empacados",1,{"$f":"ROW()","v":1484},8,null,null,"2.1.3.12.02","Bono de beneficios a comunidad universitaria Corresponde a las transferencias que realizan las IES a un productor de mercado con el fin de garantizar la entrega de bienes y servicios de consumo final a la comunidad universitaria.",0,11]
[null,null,"D2367005","Chicles",1,{"$f":"ROW()","v":1485},8,null,null,"2.1.3.12.03","Recursos para el mejoramiento de vivienda urbana y rural Recursos destinados para el mejoramiento de vivienda urbana y rural que se entregan a las empresas constructoras en nombre de los ciudadanos",0,11]
[null,null,"D0219201","Chigüiros",1,{"$f":"ROW()","v":1486},8,null,null,"2.1.3.13.01.001","Sentencias Comprende las transferencias corrientes que se deben realizar a otra unidad en acatamiento de una decisión judicial que pone fin a un pleito civil o a una causa criminal, resolviendo respectivamente los derechos de cada litigante y la condena o absolución del procesado (OSORIO, 2000).",0,15]
[null,null,"D4716004","Chips electrónicos",1,{"$f":"ROW()","v":1487},8,null,null,"2.1.3.13.01.002","Conciliaciones Comprende las transferencias corrientes que se deben realizar a otra unidad por una conciliación. Una conciliación es un mecanismo de solución de conflictos a través del cual, dos o más personas gestionan por sí mismas la solución de sus diferencias, con la ayuda de un tercero neutral y calificado, denominado conciliador.La conciliación es un procedimiento con una serie de etapas, a través de las cuales las personas que se encuentran involucradas en un conflicto desistible, transigible o determinado como conciliable por la ley, encuentran la manera de resolverlo a través de un acuerdo satisfactorio para ambas partes (Programa Nacional de Conciliación , 2017).",0,15]
[null,null,"D0131914","Chirimoya, chirimorriñon",1,{"$f":"ROW()","v":1488},8,null,null,"2.1.3.13.01.003","Laudos arbitrales Comprende las transferencias corrientes que deben realizarsea otra unidad en acatamiento de las sentencias que profieren los tribunales de arbitraje. Un laudo arbitral puede ser en derecho, en equidad o técnico (Ley 563 de 2012, Art. 1).",0,15]
[null,null,"D2365002","Chocolate en pasta amargo",1,{"$f":"ROW()","v":1489},8,null,null,"2.1.3.13.02.001","Fallos judiciales, decisiones cuasijudiciales y soluciones amistosas sistema interamericano de derechos humanos Transferencias en virtud de la Ley 16 de 1972, por medio de la cual se aprobó la Convención Americana sobre Derechos Humanos \"Pacto de San José de Costa Rica\". Por tal motivo y en virtud de los artículos 62 y 63.1 de la mencionada convención, la CIDH tiene plena competencia para conocer sobre cualquier caso y además para disponer que se garanticen o reparen derechos y el pago de una justa indemnización.",0,15]
[null,null,"D2365005","Chocolate en pasta con harina",1,{"$f":"ROW()","v":1490},8,null,null,"2.1.3.14.01","Del impuesto de registro Es la transferencia de recursos que realizan las entidades territoriales a sus cuentas de ahorro individual en el Fondo Nacional de Pensiones de las Entidades Territoriales (FONPET) por concepto del 20% del impuesto de registro. (Numeral 8 del Artículo 2 de la Ley 549 de 1999).",0,11]
[null,null,"D2365003","Chocolate en pasta dulce",1,{"$f":"ROW()","v":1491},8,null,null,"2.1.3.14.02","De los ingresos corrientes de los departamentos Es la transferencia de recursos que realizan las entidades territoriales a sus cuentas de ahorro individual en el Fondo Nacional de Pensiones de las Entidades Territoriales (FONPET) por concepto del 10% de los ingresos corrientes de libre destinación. (Numeral 9 del Artículo 2 de la Ley 549 de 1999).",0,11]
[null,null,"D2365004","Chocolate en polvo",1,{"$f":"ROW()","v":1492},8,null,null,"2.1.3.14.03","Por la venta de activos Son las transferencias que realizan las entidades territoriales a su cuenta individual de ahorro en el FONPET por concepto del 15% de la venta de activos al sector privado, en concordancia con el numeral 7 del artículo 2 de la Ley 549 de 1999.",0,11]
[null,null,"D2365007","Chocolate granulado",1,{"$f":"ROW()","v":1493},8,null,null,"2.1.3.14.04","Por acuerdos de pago Es la transferencia de recursos que realizan las entidades territoriales a sus cuentas de ahorro individual en el Fondo Nacional de Pensiones de las Entidades Territoriales (FONPET), como resultado de acuerdos de pago para cubrir la cartera de la entidad con este Fondo. La cartera corresponde al incumplimiento de los aportes territoriales previstos en el artículo 2 de la Ley 549 de 1999 (impuesto de registro, ingresos corrientes de libre destinación, y venta de activos). Los acuerdos de pago se realizan en virtud del artículo 10 de la Ley 549 de 1999 y el procedimiento dispuesto por el Ministerio de Hacienda y Crédito Público en la Resolución 4170 de 2012.",0,11]
[null,null,"D2823119","Chompas y prendas similares para hombre",1,{"$f":"ROW()","v":1494},8,null,null,"2.1.3.14.05","Aportes voluntarios",0,11]
[null,null,"D2823120","Chompas y prendas similares para niño",1,{"$f":"ROW()","v":1495},8,null,null,"2.1.3.15.01","Transferencias de recursos del subsidio familiar Corresponde a las transferencias que realiza una Caja de Compensación Familiar cuando después de pagar las cuotas monetarias que le corresponden no supere el porcentaje obligatorio del cincuenta y cinco por ciento (55%), la diferencia con respecto a la cuota de referencia será girada a las Cajas de Compensación Familiar cuyo porcentaje sea inferior al de la cuota de referencia, con el objeto de lograr la cuota monetaria equitativa al interior de cada departamento, teniendo en cuenta los criterios de ingresos, cuociente y nivel de desarrollo socioeconómico de los mismos. La Superintendencia del Subsidio Familiar o la entidad que haga sus veces con corte a diciembre 31 de cada año, determinará los valores objeto de esta transferencia.Esta cuenta aplica también para las transferencias de recursos administrados por las CCF en fondos y en los que la Ley prevea este tipo de operaciones.",0,11]
[null,null,"D0134901","Chontaduro",1,{"$f":"ROW()","v":1496},8,null,null,"2.1.3.15.02","Recursos del FOVIS - Programas de vivienda de interés prioritaria Las Cajas de Compensación Familiar podrán transferir recursos del FOVIS a los patrimonios que constituya Fonvivienda junto con las Cajas de Compensación Familiar y otras entidades públicas o las entidades que determine el Gobierno Nacional, para que en forma conjunta con recursos del Gobierno Nacional se desarrollen programas de vivienda de interés prioritaria dirigidos a los hogares con ingresos familiares de hasta dos (2) salarios mínimos legales mensuales vigentes conforme a la normatividad vigente.",0,11]
[null,null,"D2149904","Chontaduros en conserva envasados",1,{"$f":"ROW()","v":1497},8,null,null,"2.1.4.01.01","Gobiernos extranjeros Comprende las transferencias de capital dirigidas a gobiernos extranjeros. Son gobiernos extranjeros aquellos que se encuentran fuera del territorio económico colombiano y ejercen soberanía sobre un área determinada del resto del mundo.",0,11]
[null,null,"D2118409","Chorizos envasados",1,{"$f":"ROW()","v":1498},8,null,null,"2.1.4.01.02","Organizaciones internacionales Comprende las transferencias de capital dirigidas a organizaciones internacionales. Son organizaciones internacionales aquellas que cumplen con las siguientes características:SC: las transferencias de capital establecidas por leyes distintas a la Ley anual de Presupuesto o la Ley del Plan de Desarrollo, deben individualizarse plenamente. Por tanto, en caso de que el órgano del PGN registre gastos por una transferencia de capital distinta a las señaladas en cada subcuenta, porfavor comuníquese con la DGPPN del MHCP informando de la misma, con su respectivo soporte legal, para que se adicione la línea.NE: En la ejecución, las transferencias de capital deben presentarse individualmente por beneficiario.335• Sus miembros son Estados nacionales u otros organismos internacionales cuyos miembros son Estados nacionales.• Se establecen mediante acuerdos políticos formales entre sus miembros, que tiene el rango de tratados internacionales.• Su existencia es reconocida por ley en sus países miembros.• Se crean con una finalidad específica (Fondo Monetario Internacional, 2014, pág. 71).",0,11]
[null,null,"D2118405","Chorizos y longanizas",1,{"$f":"ROW()","v":1499},8,null,null,"2.1.4.02.01","Órganos del PGN Comprende las transferencias de capital dirigidas a un órgano del Presupuesto General de la Nación (PGN)",0,11]
[null,null,"D4332011","Chumaceras",1,{"$f":"ROW()","v":1500},8,null,null,"2.1.4.02.02","Entidades territoriales distintas de participaciones y compensaciones Comprende las transferencuas de capital dirigidas a una entidad territorial. Constituyen entidades territoriales, los departamentos, distritos, municipios o territorios indígenas (Cons. 1991, Art 286)",0,11]
[null,null,"D3627009","Chupas y accesorios de caucho para sanitarios",1,{"$f":"ROW()","v":1501},8,null,null,"2.1.4.02.03","Esquemas asociativos Comprende las transferencias de capital dirigidas a un esquema asociativo territorial. Constituyen esquemas asociativos territoriales las regiones administrativas y de planificación, las regiones de planeación y gestión, las asociaciones de departamentos, las áreas metropolitanas, las asociaciones de distritos especiales, las provincias administrativas y de planificación, y las asociaciones de municipios (Ley 1454 de 2011, Art. 10).",0,11]
[null,null,"D3627005","Chupos de caucho",1,{"$f":"ROW()","v":1502},8,null,null,"2.1.4.02.04","Entidades del gobierno general Comprende las transferencias de capital dirigida a una entidad del gobierno general.",0,11]
[null,null,"D3699056","Chupos de material plástico",1,{"$f":"ROW()","v":1503},8,null,null,"2.1.4.02.05.001","Capitalización de Positiva Compañía de Seguros S.A. Decreto 2066 de 2016",0,15]
[null,null,"D3427002","Cianuro de potasio",1,{"$f":"ROW()","v":1504},8,null,null,"2.1.4.02.05.002","Capitalización del Fondo Nacional de Garantías (FNG)",0,15]
[null,null,"D3427001","Cianuro de sodio",1,{"$f":"ROW()","v":1505},8,null,null,"2.1.4.02.05.003","Capitalización de empresas descentralizadas del nivel territorial",0,15]
[null,null,"D3411008","Ciclohexano (derivado del petróleo)",1,{"$f":"ROW()","v":1506},8,null,null,"2.1.4.02.05.004","A la Central de Inversiones CISA S.A. devoluciones por reliquidación de la cartera sísmica de Popayán Corresponde a la devolución por parte del Ministerio de Hacienda y Crédito Público –MHCP a través de la Central de Inversiones –CISA, según el procedimiento de devolución establecido por concepto de sobrantes una vez efectuada la reliquidación de los créditos a los clientes beneficiarios de la denominada Cartera Sísmica de Popayán en virtud de la Ley 132 de 1985 y Convenio Interadministrativo 8.001.2005 del 11 de marzo de 2005 entre MHCP y CISA cuyo objeto es que el MHCP enajena y se obliga a transferir el dominio y CISA adquiere y se obliga a pagar el precio de la denominada Cartera Sísmica de Popayán de créditos vigentes y vencidos con información demográfica",0,15]
[null,null,"D3411009","Ciclohexano (obtenido en los hornos de coque)",1,{"$f":"ROW()","v":1507},8,null,null,"2.1.4.03","Compensaciones de capital Comprende las transferencias de capital que deben realizarse a otra unidad para compensar los perjuicios relacionados con lesiones graves derivadas por catástrofes no cubiertas por pólizas de seguros.",0,8]
[null,null,"D3413911","Ciclohexanol",1,{"$f":"ROW()","v":1508},8,null,null,"2.1.4.04","Para la adquisición de activos no financieros Comprende las transferencias de capital dirigidas a los hogares para financiar la adquisición de activos no financieros.",0,8]
[null,null,"D0132901","Cidra, poncil",1,{"$f":"ROW()","v":1509},8,null,null,"2.1.4.05","Financiamiento de grandes déficit de los últimos años Comprende las transferencias de capital dirigidas a otra unidad para cubrir su déficit de los últimos dos años o más.",0,8]
[null,null,"D3753002","Cielo raso de yeso",1,{"$f":"ROW()","v":1510},8,null,null,"2.1.4.06.01","Aportes a FINDETER - subsidios para operaciones de redescuento para proyectos de inversión parágrafo único, numeral 3 Art. 270 del Estatuto Orgánico del Sistema Financiero",0,11]
[null,null,"D3160012","Cielorrasos de madera",1,{"$f":"ROW()","v":1511},8,null,null,"2.1.4.06.02","Pago servicio de la deuda externa Instituto Colombiano para el Fomento de la Educación Superior - ICFES",0,11]
[null,null,"D3160002","Cielos rasos de madera aglomerada recubiertos con otros materiales",1,{"$f":"ROW()","v":1512},8,null,null,"2.1.4.07","Indemnizaciones relacionadas con seguros no de vida Son las transferencias de recursos a cargo de las entidades por concepto de las indemnizaciones que se generan en el desarrollo de contratos de seguros no de vida, tras la ocurrencia de un siniestro.",0,8]
[null,null,"D3695006","Cielos rasos en lámina acrílica o plástica",1,{"$f":"ROW()","v":1513},8,null,null,"2.1.4.08.01","Fondo Nacional de Pensiones de las Entidades Territoriales (FONPET) Objeto de Gasto creado en el artículo 4 de la Ley 2072 de 2020 con fundamento en el Art. 22 de la Ley 2056 de 2020.",0,11]
[null,null,"D4212009","Cielos rasos en lámina metálica",1,{"$f":"ROW()","v":1514},8,null,null,"2.1.4.09","Planes departamentales para el manejo empresarial de los servicios de agua y saneamiento (PDA) Corresponde a los gastos para la formulación e implementación de los Planes Departamentales para el Manejo Empresarial de los Servicios de Agua y Saneamiento (PDA).",0,8]
[null,null,"D3692005","Cierres autoadhesivos",1,{"$f":"ROW()","v":1515},8,null,null,"2.1.5.01.00","Agricultura, silvicultura y productos de la pesca Son los gastos asociados a la adquisición de productos relacionados con la agricultura, la horticultura, la silvicultura y los productos de explotación forestal con el fin de utilizarlos como insumos en un proceso productivo o de comercialización. Incluye también la compra de animales o productos animales, y la compra de pescados o productos de la pesca.",0,11]
[null,null,"D4293213","Cierres-bridas-metálicas para tambores, canecas y similares",1,{"$f":"ROW()","v":1516},8,null,null,"2.1.5.01.01","Minerales; electricidad, gas y agua Son los gastos asociados a la adquisición de todo tipo de minerales incluidos el carbón, el petróleo, los concentrados de uranio y torio, los minerales metálicos, las piedras preciosas, entre otros, con el fin de utilizarlos como insumo en un proceso productivo o de comercialización. En esta cuenta también se registran los gastos por adquisición de energía eléctrica, gas de ciudad y agua caliente.",0,11]
[null,null,"D2502002","Cigarrillos con filtro",1,{"$f":"ROW()","v":1517},8,null,null,"2.1.5.01.02","Productos alimenticios, bebidas y tabaco; textiles, prendas de vestir y productos de cuero Son los gastos asociados a la adquisición de productos alimenticios como la carne; las preparaciones y conservas de pescados, frutas y hortalizas; los productos lácteos y ovoproductos; los productos de la molinería; y todo tipo de bebidas con el fin de utilizarlos como insumo en un proceso productivo o de comercialización. Esta sección incluye también la adquisición de hilados, tejidos, artículos textiles y dotación.",1,11]
[null,null,"D2502004","Cigarrillos semielaborados",1,{"$f":"ROW()","v":1518},8,null,null,"2.1.5.01.03","Otros bienes transportables (excepto productos metálicos, maquinaria y equipo) Son los gastos asociados a la adquisición de productos de madera; libros, diarios o publicaciones impresas; productos de refinación de petróleo y combustibles; productos químicos; productos de caucho y plástico; productos de vidrio; muebles; desechos; entre otros, con el fin de utilizarlos en un proceso productivo o de comercialización.",0,11]
[null,null,"D2502001","Cigarrillos sin filtro",1,{"$f":"ROW()","v":1519},8,null,null,"2.1.5.01.04","Productos metálicos, maquinaria y equipo Son los gastos asociados a la adquisición de metales básicos o productos metálicos elaborados; maquinaria de uso general o especial; máquinas para oficina y contabilidad; aparatos eléctricos; aparatos de radio, televisión y comunicaciones; aparatos médicos y equipo de transporte, con el fin de utilizarlos como insumo en un proceso productivo o de comercialización.",0,11]
[null,null,"D2502005","Cigarritos (puritos)",1,{"$f":"ROW()","v":1520},8,null,null,"2.1.5.02.05","Construcción y servicios de la construcción Son los gastos asociados a la adquisición de servicios de construcción como preparaciones de terreno, montaje de construcciones prefabricadas, instalaciones, servicios de terminación y acabados de edificios, entre otros, con el fin de utilizarlos como insumo en un proceso productivo o de comercialización",0,11]
[null,null,"D2502003","Cigarros (puros)",1,{"$f":"ROW()","v":1521},8,null,null,"2.1.5.02.06","Comercio y distribución; alojamiento; servicios de suministro de comidas y bebidas; servicios de transporte; y servicios de distribución de electricidad, gas y agua Son los gastos asociados a la adquisición de servicios de alojamiento; servicios de suministro de comidas y bebidas; servicios de transporte de pasajeros o de carga; servicios de mensajería y servicios de distribución de electricidad, gas y agua, con el fin de utilizarlos como insumo en un proceso productivo o de comercialización.",0,11]
[null,null,"D4332009","Cigüeñales",1,{"$f":"ROW()","v":1522},8,null,null,"2.1.5.02.07","Servicios financieros y servicios conexos; servicios inmobiliarios; y servicios de arrendamiento y leasing Son los gastos asociados a la adquisición de servicios financieros, seguros, servicios de mantenimiento de activos financieros, servicios inmobiliarios y arrendamientos, con el fin de utilizarlos como insumo en un proceso productivo o de comercialización.",0,11]
[null,null,"D0165403","Cilantro",1,{"$f":"ROW()","v":1523},8,null,null,"2.1.5.02.08","Servicios prestados a las empresas y servicios de producción Son los gastos asociados a la adquisición de servicios de investigación y desarrollo, servicios jurídicos y contables, servicios de consultoría, servicios de publicidad, servicios de impresión servicios de telecomunicaciones, servicios de limpieza, servicios de seguridad, servicios de mantenimiento, entre otros, con el fin de utilizarlos como insumo en un proceso productivo o de comercialización.",0,11]
[null,null,"D4292129","Cinceles y similares",1,{"$f":"ROW()","v":1524},8,null,null,"2.1.5.02.09","Servicios para la comunidad, sociales y personales Son los gastos asociados a la adquisición de servicios educativos, servicios de salud, servicios culturales y deportivos, servicios de tratamiento y recolección de desechos, servicios proporcionados por asociaciones, entre otros, con el fin de utilizarlos como insumo en un proceso productivo o de comercialización.",0,11]
[null,null,"D3416023","Cincofeno",1,{"$f":"ROW()","v":1525},8,null,null,"2.1.5.02.10","Viáticos de los funcionarios en comisión Son los pagos por concepto de viáticos que reciben los funcionarios y trabajadores de las entidades en comisión, para alojamiento y manutención cuando: a) deban desempeñar sus funciones en un lugar diferente a su sede habitual de trabajo, ya sea dentro o fuera del país, o b) deba atender transitoriamente actividades distintas a las inherentes al empleo del que es titular. Los viáticos de los funcionarios en comisión constituyen adquisición de servicios cuando se hayan percibido por un término inferior a ciento ochenta (180) días en el último año de servicio.",0,11]
[null,null,"D3692002","Cinta autoadhesiva",1,{"$f":"ROW()","v":1526},8,null,null,"2.1.6.01.01","A órganos del PGN Comprende los recursos financieros concedidos en calidad de préstamo a un órgano del PGN para el desarrollo de propósitos de política",0,11]
[null,null,"D4152303","Cinta cromoníquel",1,{"$f":"ROW()","v":1527},8,null,null,"2.1.6.01.02","A establecimientos públicos Comprende los recursos financieros concedidos en calidad de préstamo a un establecimiento público para el desarrollo de propósitos de política",0,11]
[null,null,"D3219924","Cinta de papel engomado",1,{"$f":"ROW()","v":1528},8,null,null,"2.1.6.01.03","A otras entidades del gobierno general Comprende los recursos financieros concedidos en calidad de préstamo a otra entidad del gobierno general, distinta de órganos del PGN y establecimientos públicos, para el desarrollo de propósitos de política",0,11]
[null,null,"D4753007","Cinta magnetofónica-matrices (máster) para reproducción",1,{"$f":"ROW()","v":1529},8,null,null,"2.1.6.01.04.001","Préstamos directos (Decreto Ley 1010/2000)",0,15]
[null,null,"D3649020","Cinta para liner de tapas",1,{"$f":"ROW()","v":1530},8,null,null,"2.1.6.01.04.002","Crédito hipotecario para sus empleados",0,15]
[null,null,"D3692004","Cinta plástica reflectiva",1,{"$f":"ROW()","v":1531},8,null,null,"2.1.6.01.04.003","Fondo de préstamos",0,15]
[null,null,"D3892403","Cinta textil con diente de cobre para cremallera",1,{"$f":"ROW()","v":1532},8,null,null,"2.1.6.01.04.004","Préstamos por calamidad doméstica",0,15]
[null,null,"D3892404","Cinta textil con diente de material plástico para cremalleras",1,{"$f":"ROW()","v":1533},8,null,null,"2.1.6.01.04.005","Fondo rotatorio del transporte",0,15]
[null,null,"D4291404","Cintas (filos) para máquinas de afeitar",1,{"$f":"ROW()","v":1534},8,null,null,"2.1.6.01.04.006","Programa de crédito de vivienda para los empleados de la Superintendencia de Sociedades (Decreto 1695 de 1997)",0,15]
[null,null,"D3692001","Cintas aislantes",1,{"$f":"ROW()","v":1535},8,null,null,"2.1.6.01.04.007","Préstamos Fondo Rotatorio de la Policía",0,15]
[null,null,"D3511032","Cintas especiales para estampación",1,{"$f":"ROW()","v":1536},8,null,null,"2.1.6.01.04.008","Préstamos directos - Ley 106 de 1993 Gastos por concepto de préstamos a los empleados por parte del Fondo de Bienestar de la Contraloría General de la República, en virtud de la Ley 106 de 1993, por medio de la cual se estipula la organización y el funcionamiento de la Contraloría General de la República, se organiza el Fondo de Bienestar Social, y demás.",0,15]
[null,null,"D4753005","Cintas magnéticas (para tarjetas de crédito y comerciales)",1,{"$f":"ROW()","v":1537},8,null,null,"2.1.6.01.04.009","Préstamos educativos",0,15]
[null,null,"D4761002","Cintas magnetofónicas grabadas",1,{"$f":"ROW()","v":1538},8,null,null,"2.1.6.01.04.010","Préstamos de consumo Gastos por concepto de préstamos a los empleados por parte de las entidades o de los Fondos de Bienestar de las mismas, para libre destinacion, arreglos locativos, créditos de urgencia.",0,15]
[null,null,"D4753002","Cintas magnetográficas sin grabar",1,{"$f":"ROW()","v":1539},8,null,null,"2.1.6.01.05","A empresas Comprende los recursos financieros concedidos en calidad de préstamo a una empresa para solventar sus necesidades de financiamiento y ejecutar políticas económicas y sociales.",0,11]
[null,null,"D4293204","Cintas metálicas –precintas– para embalaje",1,{"$f":"ROW()","v":1540},{"$f":"LEN(C1540)","v":8},null,null,"2.1.6.02.01","De organizaciones internacionales Comprende las erogaciones de las entidades realizadas a organismos internacionales por concepto de aportes para la adquisición de acciones.",0,{"$f":"LEN(J1540)","v":11}]
[null,null,"D3891204","Cintas para impresora",1,{"$f":"ROW()","v":1541},8,null,null,"2.1.6.02.02","De empresas públicas financieras Comprende los erogaciones de las entidades por concepto de adquisición de acciones de empresas públicas financieras. Las empresas públicas financieras son aquellas dedicadas a prestar servicios financieros y en las que el gobierno es propietario o ejerce el control mayoritario.",0,11]
[null,null,"D3891203","Cintas para máquinas de escribir y análogos",1,{"$f":"ROW()","v":1542},8,null,null,"2.1.6.02.03","De empresas públicas no financieras Comprende las erogaciones de las entidades por concepto de adquisición de accciones de empresas públicas no financieras. Las empresas públicas no financieras son aquellas dedicas a principalmente a la producción de mercado de bienes o servicios no financieros en las que el gobierno es propietario o ejerce el control mayoritario.",0,11]
[null,null,"D4292127","Cintas para sierra sinfín",1,{"$f":"ROW()","v":1543},8,null,null,"2.1.6.02.04","De empresas privadas financieras Comprende las erogaciones de las entidades realizadas a empresas privadas financieras por concepto de adquisición de acciones. Las empresas privadas financieras son aquellas residentes en Colombia que no están controladas por el gobierno y prestan servicios financieros.",0,11]
[null,null,"D3692007","Cintas pegantes (transparentes)",1,{"$f":"ROW()","v":1544},8,null,null,"2.1.6.02.05","De empresas privadas no financieras Comprende las erogaciones de las entidades realizadas a empresas privadas no financieras por concepto de adquisición de acciones. Las empresas privadas no financieras son aquellas residentes en Colombia que no están controladas por el gobierno, no prestan servicios financieros y son productores de mercado.",0,11]
[null,null,"D3692010","Cintas pegantes (transparentes) impresas",1,{"$f":"ROW()","v":1545},8,null,null,"2.1.6.03.01.001","Fondo de Cooperación y Asistencia Internacional (Ley 318 de 1996) Comprende las erogaciones de las entidades realizadas al Fondo de Cooperación y Asistencia Internacional por concepto de adquisición de otras participaciones de capital.",0,15]
[null,null,"D3649017","Cintas plásticas de seguridad para envase",1,{"$f":"ROW()","v":1546},8,null,null,"2.1.6.03.01.002","Fondo de Organismos Financieros Internacionales - FOFI, Ley 318 de 1996 Comprende las erogaciones de las entidades realizadas al Fondo de Organismos Financieros Internacionales - FOFI por concepto de adquisición de otras participaciones de capital.",0,15]
[null,null,"D3549952","Cintas y papeles especiales para corrección y borrado de textos",1,{"$f":"ROW()","v":1547},8,null,null,"2.1.6.03.03.001","Capitalización para el fortalecimiento de los canales públicos de televisión",0,15]
[null,null,"D3219905","Cintilla de seguridad para empaque de cigarrillos",1,{"$f":"ROW()","v":1548},8,null,null,"2.1.6.04","Adquisición de bonos y otros títulos emitidos Comprende los recursos destinados a la adquisición de bonos que las entidades pueden realizar para invertir sus excedentes de líquidez. Los excedentes de liquidez todos aquellos recursos que de manera inmediata no se destinen al desarrollo de las actividades que constituyen el objeto de las entidades.",0,8]
[null,null,"D2824201","Cinturones de cuero",1,{"$f":"ROW()","v":1549},8,null,null,"2.1.7.01.01","Cesantías definitivas Corresponde al pago por concepto cesantías retroactivas e interes de las mismas, que le hace el empleador al trabajador una vez finalice la relación laboral y cobija a los trabajadores del sector público vinculados antes del 30 de diciembre de 1996.Tratándose del pago deberá atenderlo la entidad en la que trabajador preste o prestó el servicio en forma personal; el pago se deberá hacer directamente al beneficiario de las mismas.",0,11]
[null,null,"D2929006","Cinturones de cuero para seguridad industrial",1,{"$f":"ROW()","v":1550},8,null,null,"2.1.7.01.02","Cesantías parciales Corresponde al pago parcial por concepto cesantías retroactivas e interes de las mismas, que le hace el empleador al trabajador para los fines determinados en la ley; cobija a los trabajadores del sector público vinculados antes del 31 de diciembre de 1996",0,11]
[null,null,"D2823811","Cinturones de lona",1,{"$f":"ROW()","v":1551},8,null,null,"2.1.7.01.03","Deuda cesantías soldados profesionales afiliados Caja Promotora de Vivienda Militar y de Policía - CPVMP",0,11]
[null,null,"D2823801","Cinturones de material textil",1,{"$f":"ROW()","v":1552},8,null,null,"2.1.7.01.04","Deuda cesantías policía nacional afiliados Caja Promotora de Vivienda Militar y de Policía - CPVMP",0,11]
[null,null,"D2824301","Cinturones de plástico",1,{"$f":"ROW()","v":1553},8,null,null,"2.1.7.02","Devolución del ahorro voluntario de los trabajadores Son los gastos asociados a la devolución de los recursos que reciben algunas entidades del PGSP por concepto de ahorros que hacen sus trabajadores de manera voluntaria.",0,8]
[null,null,"D4923103","Cinturones de seguridad para vehículos automotores",1,{"$f":"ROW()","v":1554},8,null,null,"2.1.7.03","Depósito en prenda La devolución de depósito en prenda comprende el reintegro que aplique sobre depósito original en prenda en contratos de arrendamiento o disposición no remunerada de activos fijos del Estado.",0,8]
[null,null,"D2823812","Cinturones elásticos",1,{"$f":"ROW()","v":1555},8,null,null,"2.1.7.04","Devoluciones tributarias Partida para uso del administrador tributario en la que se incorporan los saldos a favor generados en declaraciones de impuestos, en los casos en que estos no sean compensados mediante otro instrumento como los Títulos de devolución de Impuestos -TIDIS o contra el impuesto a cargo.",0,8]
[null,null,"D4716001","Circuitos (tarjetas) electrónicas especiales para microprocesadores",1,{"$f":"ROW()","v":1556},8,null,null,"2.1.7.05.01","Programas de saneamiento fiscal y financiero Empresas Sociales del Estado (ESE) Corresponde a los gastos realizados en el marco de los programas de saneamiento fiscal y financiero de las ESE, de acuerdo con el nivel de riesgo que determine el Ministerio de Protección Social, según la Ley 1141 de 2013. La Ley 1608 de 2013 establece que con los saldos de las cuentas maestras del régimen subsidiado de salud se pueden financiar los programas de saneamiento fiscl y financiero, siempre y cuando no sean requeridos para garantizar los compromisos y contingencias del Régimen Subsidiado de Salud (art. 3) El orden para atender las obligaciones es: a) pago de acreencias laborales, b) reestructuración y saneamiento de pasivos, c) adquisición de cartera, d) disposición de capital de trabajo, e) pago de cartera originada en las cuotas de recuperación por servicios prestados.",0,11]
[null,null,"D4713002","Circuitos de transistores para aparatos de radio, televisión, etc.",1,{"$f":"ROW()","v":1557},8,null,null,"2.1.7.05.02","Pago de indemnizaciones originadas en programas de saneamiento fiscal y financiero Corresponde a los pagos realizados por las entidades territoriales en el marco de los programas de saneamiento suscritos, de conformidad con la Ley 617 de 2000",0,11]
[null,null,"D4716003","Circuitos integrados (tecnología MOS)",1,{"$f":"ROW()","v":1558},8,null,null,"2.1.7.05.03","Pago de déficit fiscal, de pasivo laboral y prestacional en programas de saneamiento fiscal y financiero Corresponde a los gastos de las entidades territoriales para el pago de déficit fiscal, pasivo laboral y prestacional, realizados en el marco de programas de saneamiento fiscal y financiero",0,11]
[null,null,"D4713001","Circuitos integrados y/o impresos para aparatos de radio, televisión, etc.",1,{"$f":"ROW()","v":1559},8,null,null,"2.1.7.06.01","Gastos de personal Pagos de déficit fiscal de la vigencia anterior, por concepto de gastos de personal",0,11]
[null,null,"D3899908","Cirios litúrgicos y similares",1,{"$f":"ROW()","v":1560},8,null,null,"2.1.7.06.02","Adquisición de bienes y servicios Pagos de déficit fiscal de la vigencia anterior, por concepto de Adquisición de bienes y servicios",0,11]
[null,null,"D3899903","Cirios y velas de cera",1,{"$f":"ROW()","v":1561},8,null,null,"2.1.7.06.03","Transferencias corrientes Pagos de déficit fiscal de la vigencia anterior, por concepto de Transferencias corrientes",0,11]
[null,null,"D0134601","Ciruelas",1,{"$f":"ROW()","v":1562},8,null,null,"2.1.7.06.04","Transferencias de capital Pagos de déficit fiscal de la vigencia anterior, por concepto de Transferencias de capital",0,11]
[null,null,"D2149901","Ciruelas en conserva envasadas",1,{"$f":"ROW()","v":1563},8,null,null,"2.1.7.06.05","Adquisición de activos financieros Pagos de déficit fiscal de la vigencia anterior, por concepto de Adquisición de activos financieros",0,11]
[null,null,"D2141201","Ciruelas secas",1,{"$f":"ROW()","v":1564},8,null,null,"2.1.7.06.06","Gastos por tributos, tasas, derechos, multas, sanciones e intereses de mora Pagos de déficit fiscal de la vigencia anterior, por concepto de Gastos por tributos, tasas, derechos, multas, sanciones e intereses de mora",0,11]
[null,null,"D3832006","Cítaras",1,{"$f":"ROW()","v":1565},8,null,null,"2.1.7.06.07","Gastos de Comercialización y Producción Pagos de déficit fiscal de la vigencia anterior, por concepto de Gastos de Comercialización y Producción",0,11]
[null,null,"D4722304","Citófonos",1,{"$f":"ROW()","v":1566},8,null,null,"2.1.7.07","Compromisos adquiridos a 31 de diciembre de 2011 Corresponde al gasto que deben realizar las entidades territoriales y las Corporaciones Autonómas Regionales para garantizar el pago de compromisos adquiridos a 31 de diciembre de 2011, incluidas las vigencias futuras. Estos compromisos, debidamente certificados por el representante legal de la entidad, se atenderán prioritariamente con los recursos disponibles de regalías y compensaciones causados a 31 de diciembre de 2011. Cuando estos recursos fueran insuficientes para cubrir los compromisos, las entidades beneficiarias utilizarán los recursos que reciban de las Asignaciones Directas y la Asignación para la Inversión Local. De mantenerse algún faltante, las entidades beneficiarias podrán decidir si dichos compromisos se asumen con cargo a los recursos de la Asignación para la Inversión Regional o con sus recursos propios.",0,8]
[null,null,"D3414050","Citrato de calcio",1,{"$f":"ROW()","v":1567},8,null,null,"2.1.7.08","Devolución de recursos del SGSSS Corresponde a los gastos por concepto de valores incluidos en la Disponibilidad Inicial resultado de gastos ejecutados en vigencias anteriores y cuyo giro fue rechazado, recaudos que tras procesos de verificación o solicitudes de terceros se identificóque no pertenecen a la ADRES, entre otros.",0,8]
[null,null,"D3522006","Citrato de colina",1,{"$f":"ROW()","v":1568},8,null,null,"2.1.7.09.01","Devolución de saldos de pensión de Vejez (de pensiones) Corresponde a la devolución de los saldos abonados en la cuenta individual de ahorro pensional, que debe realizar el Régimen de Ahorro Individual con Solidaridad (RAIS) a quienes no cumplen las condiciones definidas en la Ley 100 para obtener una pensión por vejez.",0,11]
[null,null,"D3414052","Citrato de hierro",1,{"$f":"ROW()","v":1569},8,null,null,"2.1.7.09.02","Devolución de saldos de pensión de Invalidez (de pensiones) Corresponde a la devolución de los saldos abonados en la cuenta individual de ahorro pensional, que debe realizar el Régimen de Ahorro Individual con Solidaridad (RAIS) a quienes no cumplen las condiciones definidas en la Ley 100 para obtener una pensión por invalidez.",0,11]
[null,null,"D3414051","Citrato de sodio",1,{"$f":"ROW()","v":1570},8,null,null,"2.1.7.09.03","Devolución de saldos de pensión de Sobrevivientes (de pensiones) Corresponde a la devolución de los saldos abonados en la cuenta individual de ahorro pensional, que debe realizar el Régimen de Ahorro Individual con Solidaridad (RAIS) a quienes no cumplen las condiciones definidas en la Ley 100 para obtener una pensión por sobrevivientes.",0,11]
[null,null,"D2399301","Claras y yemas de huevo congeladas",1,{"$f":"ROW()","v":1571},8,null,null,"2.1.7.10","Disminuciones de pasivos derivados del sector salud Corresponde a los recursos destinados al saneamiento de pasivos acumulados de vigencias anteriores por conceptos como: Deuda de esfuerzo propio para la financiación de régimen subsidiado; prestación de servicios a PPNA, Migrantes y Atenciones No POS (Ley de Punto Final)",0,8]
[null,null,"D2399303","Claras y yemas de huevo deshidratadas",1,{"$f":"ROW()","v":1572},8,null,null,"2.1.8.01.01","Impuesto sobre la renta y complementarios Comprende las erogaciones por concepto del impuesto sobre la renta y complementarios integrado por los impuestos de renta y los complementarios de ganancias ocasionales y remesas. El impuesto sobre la renta grava todos los ingresos que obtenga un contribuyente en el año, que sean susceptibles de producir incremento neto del patrimonio en el momento de su percepción, siempre que no hayan sido expresamente exceptuados, y considerando los costos y gastos en que se incurre para producirlos. Incluye los pagos por vigencias anteriores.",0,11]
[null,null,"D4412703","Clasificadoras agrícolas (de frutas u otros productos agrícolas diferentes a semillas, granos y hortalizas)",1,{"$f":"ROW()","v":1573},8,null,null,"2.1.8.01.02","Impuesto sobre la renta para la equidad CREE Corresponde a las erogaciones por concepto del impuesto sobre la renta para la equidad CREE. Este impuesto corresponde al aporte con el que contribuyen las sociedades y personas jurídicas y asimiladas contribuyentes declarantes del impuesto sobre la renta y complementarios, en beneficio de los trabajadores, la generación de empleo, y la inversión social. También son sujetos pasivos las sociedades y entidades extranjeras contribuyentes declarantes del impuesto sobre la renta por sus ingresos de fuente nacional obtenidos mediante sucursales y establecimientos permanentes.Incluye los pagos por vigencias anteriores.",0,11]
[null,null,"D4412804","Clasificadoras agrícolas (de semillas, granos u hortalizas de vainas secas)",1,{"$f":"ROW()","v":1574},8,null,null,"2.1.8.01.03","Sobretasa CREE Corresponde las erogaciones por concepto del pago de la sobretasa CREE. Mediante la Ley 1739 de 2014 se creó la sobretasa CREE para los periodos gravables 2015-2018, la cual estará a cargo de los contribuyentes del impuesto sobre la renta para la equidad CREE (Ley 1739 de 2014, art. 21). La tarifa de la sobretasa se calcula solamente sobre el valor que exceda los primeros ochocientos millones de pesos ($800.000.000) de la base gravable sujeta al CREE, la cual aumenta de manera progresiva (Ley 1739 de 2014, art. 22).Incluye los pagos por vigencias anteriores.",0,11]
[null,null,"D0196202","Claveles",1,{"$f":"ROW()","v":1575},8,null,null,"2.1.8.01.04","Impuesto para preservar la seguridad democrática Corresponde a las erogaciones por concepto del impuesto para preservar la seguridad democrática. Este impuesto, de única causación, fundamentado en el artículo 213 de la CP y creado bajo la declaratoria de Estado de Conmoción Interior. Dicho impuesto está destinado a atender los gastos del PGN necesarios para preservar la seguridad democrática, su base gravable es el patrimonio líquido positivo poseído a 31 de agosto de 2001 y el sujeto pasivo lo constituye todo contribuyente obligado a presentar declaración de impuesto sobre la renta y complementarios (Decretos 1838 y 1949 de 2002)",0,11]
[null,null,"D2392601","Clavos de olor elaborados",1,{"$f":"ROW()","v":1576},8,null,null,"2.1.8.01.05","Impuesto al patrimonio Corresponde a las erogaciones por concepto del pago del impuesto al patrimonio. Este impuesto está a cargo de las personas jurídicas, naturales y sociedades de hecho, contribuyentes declarantes del impuesto sobre la renta, cuando el valor de su riqueza (patrimonio líquido), al 1° de enero de 2011, sea igual o superior a tres mil millones de pesos ($3.000.000.000) (Ley 1370 de 2009, arts. 1 y 2). Este impuesto se causó por una sola vez y su plazo de pago fueron ocho cuotas entre los años 2011 y 2014. Incluye los pagos por vigencias anteriores.",0,11]
[null,null,"D0165601","Clavos de olor sin elaborar",1,{"$f":"ROW()","v":1577},8,null,null,"2.1.8.01.06","Impuesto al patrimonio (Decreto legislativo 4825/2010) Corresponde a las erogaciones por concepto del pago del impuesto al patrimonio definido por el Decreto legislativo 4825 de 2010. Este impuesto especial fue creado para la conjuración y prevención de la extensión de los efectos del estado de emergencia declarado mediante el Decreto 4580 de 2010. Este impuesto al patrimonio está a cargo de las personas jurídicas, naturales y sociedades de hecho, contribuyentes declarantes del impuesto sobre la renta siempre y cuando el valor de su riqueza (patrimonio líquido), al 1° de enero de 2011, sea igual o superior a mil millones de pesos ($1.000.000.000) e inferior a tres mil millones de pesos ($3.000.000.000) (Decreto 4825 de 2010, arts. 1 y 2). Este impuesto se causó por una sola vez y su plazo de pago fueron ocho cuotas entre los años 2011 y 2014.",0,11]
[null,null,"D4294413","Clavos para herrar",1,{"$f":"ROW()","v":1578},8,null,null,"2.1.8.01.07","Sobretasa impuesto al patrimonio (Decreto legislativo 4825/2010) Corresponde al pago por concepto de la sobretasa al impuesto al patrimonio de que trata la Ley 1370 de 2009. Esta sobretasa está a cargo de las personas jurídicas, naturales y sociedades de hecho, contribuyentes declarantes del impuesto sobre la renta y su tarifa es del 25% del impuesto al patrimonio (Decreto 4825 de 2010, art. 9). Esta sobretasa al impuesto al patrimonio se causó por una sola vez y su plazo de pago fueron ocho cuotas entre los años 2011 y 2014. Incluye los pagos por vigencias anteriores.",0,11]
[null,null,"D4294408","Clavos y puntillas de hierro o acero",1,{"$f":"ROW()","v":1579},8,null,null,"2.1.8.01.08","Impuesto a la riqueza Comprende el gasto por el impuesto extraordinario a la riqueza, creado para los años 2015-2018. El Impuesto a la Riqueza se genera por la posesión de la misma al 1o de enero del año 2015, cuyo valor sea igual o superior a $1.000 millones de pesos. Para efectos de este gravamen, el concepto de riqueza es equivalente al total del patrimonio bruto del contribuyente poseído en la misma fecha menos las deudas a cargo del contribuyente vigentes en esa fecha",0,11]
[null,null,"D3743001","Clínker",1,{"$f":"ROW()","v":1580},8,null,null,"2.1.8.01.09","Impuesto nacional al consumo Corresponde al gasto por concepto del pago del impuesto nacional al consumo. Este impuesto grava la prestación o la venta al consumidor final, o la importación por parte del consumidor final, de bienes y servicios específicos (Ley 1819 de 2016, arts. 200 a 213).",0,11]
[null,null,"D4299502","Clips",1,{"$f":"ROW()","v":1581},8,null,null,"2.1.8.01.10","Impuesto de remate y adjudicaciones Corresponde al pago por concepto del gravamen a los remates de bienes muebles e inmuebles que se realicen por el Martillo, Juzgados Civiles, los Juzgados Laborales y demás entidades de los órdenes nacional, departamental y municipal. La tarifa de dicho impuesto es del cinco por ciento (5%) sobre el valor final del remate con destino al Fondo para la Modernización, Descongestión y Bienestar de la Administración de Justicia (Ley 1743 de 2014, art. 12).",0,11]
[null,null,"D3280001","Clisés para artes gráficas",1,{"$f":"ROW()","v":1582},8,null,null,"2.1.8.01.11","Impuesto de normalización tributaria La normalización tributaria es un impuesto complementario al impuesto a la renta cuya finalidad es permitir al contribuyente que normalice los activos que haya omitido, y se ponga a paz y salvo con el fisco.",0,11]
[null,null,"D3417007","Cloral o tricloroacetaldehído",1,{"$f":"ROW()","v":1583},8,null,null,"2.1.8.01.12","Impuesto al patrimonio (Ley 1943 de 2018) Gastos por el impuesto al patrimonio se genera por la posesión del mismo al 1° de enero del año 2019, cuyo valor sea igual o superior a cinco mil ($5.000) millones de pesos. Para efectos de este gravamen, el concepto de patrimonio es equivalente al patrimonio líquido, calculado tomando el total del patrimonio bruto del contribuyente persona natural poseído en la misma fecha menos las deudas a cargo del contribuyente vigentes en esa fecha.",0,11]
[null,null,"D3424008","Clorato de potasio",1,{"$f":"ROW()","v":1584},8,null,null,"2.1.8.01.13","Impuesto sobre aduanas y recargos Gastos generados por aduanas y recargos segunla normatividad. DECRETO 1165 DE 2019",0,11]
[null,null,"D3424009","Clorato de sodio",1,{"$f":"ROW()","v":1585},8,null,null,"2.1.8.01.14","Gravamen a los movimientos financieros Gastos generados a cargo de los usuarios del sistema financiero y de las entidades que lo conforman.",0,11]
[null,null,"D3416018","Clorferinamina",1,{"$f":"ROW()","v":1586},8,null,null,"2.1.8.01.51","Impuesto sobre vehículos automotores Corresponde a las erogaciones por concepto del pago del impuesto de vehículos automotores conforme a la Ley 488 de 1998. Este impuesto grava de forma anual la propiedad o posesión de vehículos automotores.",0,11]
[null,null,"D3415006","Clorhidrato de fenilefrina",1,{"$f":"ROW()","v":1587},8,null,null,"2.1.8.01.52","Impuesto predial unificado Comprende el gasto por concepto del impuesto predial unificado, el cual integra los siguientes gravámenes: - El impuesto predial, regulado en el Código de Régimen Municipal (Decreto 1333 de 1986) y demás normas complementarias (en especial las Leyes 14 de 983, 55 de 1985 y 75 de 1986); - El impuesto de parques y arborización, regulado en el Código de Régimen Municipal (Decreto 1333 de 1990); - El impuesto de estratificación socioeconómica creado por la Ley 9 de 1989. - La sobretasa de levantamiento catastral a que se refieren las Leyes 128 de 1941, 50 de 1984 y 9 de 1989 (Ley 44 de 1990, art. 1). Son sujetos pasivos de este impuesto, las unidades del PGSP tenedores de bienes inmuebles que no sean de uso público o que sean tenedores del título de arrendamiento, uso, usufructo y otra forma de explotación comercial de un bien de uso público ocupado por establecimientos mercantiles",0,11]
[null,null,"D3525098","Clorhidratos n.c.p.",1,{"$f":"ROW()","v":1588},8,null,null,"2.1.8.01.53","Impuesto de registro Corresponde a las erogaciones por el pago del impuesto de registro. Este impuesto grava la inscripción de actos, contratos o negocios jurídicos documentales en los cuales sean parte o beneficiarios los particulares y que, de conformidad con las disposiciones legales, deban registrarse en las Oficinas de Registro de Instrumentos Públicos (ORIP) o en las Cámaras de Comercio. (Ley 233 de 1995)",0,11]
[null,null,"D3423106","Cloro",1,{"$f":"ROW()","v":1589},8,null,null,"2.1.8.01.54","Impuesto de industria y comercio Comprende el gasto por el impuesto de Industria y Comercio - ICA, el cual recae sobre todas las actividades comerciales, industriales y de servicio que ejerzan o realicen en las respectivas jurisdicciones municipales, directa o indirectamente, los órganos del PGN, ya sea que se cumplan en forma permanente u ocasional, en inmuebles determinados, con establecimientos de comercio o sin ellos.",0,11]
[null,null,"D3473003","Cloroacetato de polivinilo",1,{"$f":"ROW()","v":1590},8,null,null,"2.1.8.01.55","Impuesto sobre delineación urbana Comprende el gasto por el impuesto de delineación urbana, cuyo hecho generador lo constituye la expedición de licencias para la construcción, ampliación, modificación, adecuación y reparación de obras y urbanización de terrenos que sean de propiedad de los órganos del presupuesto general del sector público - PGSP",0,11]
[null,null,"D3411018","Cloroformo",1,{"$f":"ROW()","v":1591},8,null,null,"2.1.8.01.56","Impuesto de alumbrado público Comprende el gasto por el impuesto de alumbrado público, cuyo hecho generador es el beneficio por la prestación del servicio de alumbrado público",0,11]
[null,null,"D3525066","Cloromicetina (cloranfenicol)",1,{"$f":"ROW()","v":1592},8,null,null,"2.1.8.01.57","Sobretasa bomberil Corresponde al gasto por el impuesto de sobretasa bomberil a favor de los municipios, distritos y departamentos.",0,11]
[null,null,"D3424015","Cloruro de aluminio",1,{"$f":"ROW()","v":1593},8,null,null,"2.1.8.01.58","Sobretasa ambiental Corresponde a la sobretasa que fijen los municipios y distritos, entre el 1.5 por mil y el 2.5 por mil sobre el avalúo de los bienes que sirven de base para liquidar el impuesto predial. Igualmente en competencia de los grandes centros urbanos, los municipios, distritos o áreas metropolitanas cuya población urbana fuere igual o superior a un millón de habitantes (1.000.000) ejercerán dentro del perímetro urbano las mismas funciones atribuidas a las Corporaciones Autónomas Regionales, en lo que fuere aplicable al medio ambiente urbano.",0,11]
[null,null,"D3465303","Cloruro de amonio",1,{"$f":"ROW()","v":1594},8,null,null,"2.1.8.01.59","Impuesto sobre teléfonos Corresponde al gasto por el impuesto sobre teléfonos urbanos. Este impuesto grava la asignación o uso del servicio de línea o número de teléfono urbano, por los usuarios de las empresas de teléfonos.",0,11]
[null,null,"D3424004","Cloruro de bario, zinc y estaño",1,{"$f":"ROW()","v":1595},8,null,null,"2.1.8.01.60","Impuesto de loterías foráneas Corresponde al gasto por el impuesto que grava el 10% del valor bruto de las ventas realizadas por una lotería en jurisdicción diferente a la propia. Se da a favor del Distrito Capital, cuando la venta se hace en la jurisdicción de Bogotá, y en los departamentos cuando la venta se hace en sus jurisdicciones.",0,11]
[null,null,"D3424003","Cloruro de calcio",1,{"$f":"ROW()","v":1596},8,null,null,"2.1.8.01.61","Impuesto a la publicidad exterior visual Corresponde al gasto por concepto del impuesto a la publicidad exterior visual. Este impuesto grava la colocación de toda publicidad exterior visual, como leyendas, inscripciones, dibujos, fotografías, signos o similares, visibles desde las vías de uso o dominio público, bien sean peatonales o vehiculares, terrestres, fluviales, marítimas o aéreas. La publicidad exterior visual de que trata este impuesto son aquellas que tienen una dimensión igual o superior a 8 metros cuadrados.",0,11]
[null,null,"D3424006","Cloruro de colbato",1,{"$f":"ROW()","v":1597},8,null,null,"2.1.8.01.62","Impuesto de transporte por oleoductos y gasoductos Corresponde a la erogación por concepto de impuesto de transporte por los oleoductos y gasoductos estipulados en los contratos y normas vigentes, incluyendo los de Ecopetrol. Se cobrará por trimestres vencidos y estará a cargo del propietario del crudo o gas, según sea el caso. El recaudo se distribuirá entre los municipios no productores cuyas jurisdicciones atraviesen los oleoductos o gasoductos en proporción al volumen y al kilometraje.",0,11]
[null,null,"D3522005","Cloruro de colina",1,{"$f":"ROW()","v":1598},8,null,null,"2.1.8.01.63","Impuesto Nacional al Carbono Corresponde al gasto por concepto de Impuesto Nacional al Carbono, gravamen que recae sobre el contenido de carbono de todos los combustibles fósiles, incluyendo todos los derivados de petróleo y todos los tipos de gas fósil que sean usados con fines energéticos, siempre que sean usados para combustión.",0,11]
[null,null,"D3424005","Cloruro de hierro",1,{"$f":"ROW()","v":1599},8,null,null,"2.1.8.01.64","Impuesto sobre las ventas Corresponde a los gastos por concepto de Impuesto al Valor Agregado- IVA, siempre que la entidad sea sujeto pasivo del impuesto.",0,11]
[null,null,"D3424002","Cloruro de magnesio",1,{"$f":"ROW()","v":1600},8,null,null,"2.1.8.01.99","Impuestos a favor de gobiernos extranjeros Son los gastos asociados a pagos obligatorios que debe realizar un órgano del PGN a otro gobierno en calidad de contribuyente, cuando se desarrollan actividades que así lo obliguen con dicha nación y sin que exista una retribución particular por parte de ese Estado.",0,11]
[null,null,"D3424007","Cloruro de manganeso",1,{"$f":"ROW()","v":1601},8,null,null,"2.1.8.02","Estampillas Comprende el gasto por estampillas. De acuerdo con la Sentencia C-768 de 2010 de la Corte Constitucional, las estampillas pertenecen a una especie de tasas parafiscales, dado que cumplen con las siguientes características: Constituyen un gravamen cuyo pago obligatorio deben realizar los usuarios de algunas operaciones o actividades que se realizan frente a organismos de carácter público; son de carácter excepcional en cuanto al sujeto pasivo del tributo; los recursos se revierten en beneficio de un sector específico; y están destinados a sufragar gastos en que incurran las entidades que desarrollan o prestan un servicio público, como función propia del Estado.",0,8]
[null,null,"D3411024","Cloruro de metileno",1,{"$f":"ROW()","v":1602},8,null,null,"2.1.8.03","Tasas y derechos administrativos Corresponden a los gastos que realizan las entidades derivados de la prestación directa y efectiva de un servicio público individualizado y específico (tasas), así como de las funciones regulatorias del gobierno (derechos administrativos).",0,8]
[null,null,"D3473004","Cloruro de policloruro de vinilo C.P.V.C.",1,{"$f":"ROW()","v":1603},8,null,null,"2.1.8.04.01","Cuota de fiscalización y auditaje Son los gastos asociados a la tarifa de control fiscal que cobra la Contraloría General de la República (CGR) a los organismos y entidades fiscalizadas, con el fin de asegurar su financiamiento de manera autónoma. La tarifa de esta contribución es equivalente a la de aplicar el factor que resulte de la fórmula de dividir el presupuesto de funcionamiento de la contraloría sobre la sumatoria del valor de los presupuestos de los organismos y entidades vigiladas, al valor de los presupuestos de cada organismo o entidad vigilada.",0,11]
[null,null,"D3473002","Cloruro de polivinilo",1,{"$f":"ROW()","v":1604},{"$f":"LEN(C1604)","v":8},null,null,"2.1.8.04.02","Contribución - Superintendencia Financiera de Colombia Son los gastos asociados a la contribución que exige la Superintendencia Financiera de Colombia a las entidades vigiladas, con el fin de asegurar su financiamiento de manera autónoma. La tarifa de esta contribución se aplica sobre el monto total de los activos, incluidos los ajustes integrales por inflación, que registre la entidad a 30 de junio y 31 de diciembre del año inmediatamente anterior.",0,{"$f":"LEN(J1604)","v":11}]
[null,null,"D3463101","Cloruro de potasio",1,{"$f":"ROW()","v":1605},8,null,null,"2.1.8.04.03","Contribución de valorización Son los gastos asociados al gravamen que genera los beneficios adquiridos por obras de interés público o por proyectos de infraestructura que realiza la Nación y sobre las propiedades raíces que se benefician con las obras de interés público que ejecutan los municipios",0,11]
[null,null,"D1620303","Cloruro de sodio puro",1,{"$f":"ROW()","v":1606},8,null,null,"2.1.8.04.04","Contribución sector eléctrico Son los recursos por contribución del sector eléctrico a las que se refiere el artículo 45 de la Ley 99 de 1993. De acuerdo con este artículo, las empresas generadoras de energía hidroeléctrica cuya potencia nóminal supera los 10.000 kilovatios, deben transferir el 6% de las ventas brutas de energia por generación propia de acuerdo con las distribuciones establecidas por la ley. En el caso de centrales térmicas el porcentaje de los recursos a transferir es del 4%.",0,11]
[null,null,"D3411023","Cloruro de vinilo",1,{"$f":"ROW()","v":1607},8,null,null,"2.1.8.04.05","Contribución - Superintendencia de Servicios Públicos Domiciliarios Con el fin de recuperar los costos del servicio de regulación que preste cada comisión, y los de control y vigilancia que preste el Superintendente, las entidades sometidas a su regulación, control y vigilancia, estarán sujetas a dos contribuciones, que se liquidarán y pagarán cada año. En el caso de la Superintendencia de Servicios Públicos Domiciliarios, el monto total de la contribución no podrá ser superior al 1% del valor de los gastos de funcionamiento excluyendo los gastos operativos, compras de electricidad, compras de combustibles y peajes, cuando hubiere lugar a ello, de la entidad regulada, incurrido el año anterior a aquel en que se haga el cobro, de acuerdo con los estados financieros de las mismas (Ley 143 de 1994, art. 22).",0,11]
[null,null,"D3424016","Cloruro férrico",1,{"$f":"ROW()","v":1608},8,null,null,"2.1.8.04.06","Contribución a la Comisión de Regulación de Energía y Gas - CREG Con el fin de recuperar los costos del servicio de regulación que presta cada comisión, las entidades sometidas a su regulación están sujetas a una contribución, que se liquida y paga cada año (Ley 142 de 1994. art 85). En el caso de la comisión de Regulación de Energía y Gas - CREG el monto total de la contribución no puede ser superarior al 1% del valor de los gastos de funcionamiento excluyendo los gastos operativos, compras de electricidad, cumpras de combustibles y peajes, cuando hubiere lugar a ello, de la entidad regulada, incurrido el año anterior a aquel en que se haga el cobro, de acuerdo con los estados fianncieros de las mismas (Ley 143 de 1994. art. 22)",0,11]
[null,null,"D3425013","Cloruro y bicloruro de mercurio-calomel",1,{"$f":"ROW()","v":1609},8,null,null,"2.1.8.04.07","Contribución de vigilancia - Superintendencia Nacional de Salud Corresponde al pago a la Superintendencia Nacional de Salud por concepto de tasa anual que deben cancelar las entidades de derecho público o privadas y las entidades sin ánimo de lucro, con excepción de las beneficencias y loterías cuya inspección y vigilancia corresponda a la Superintendencia Nacional de Salud (Ley 488 de 1998, art. 98).",0,11]
[null,null,"D3424096","Cloruros n.c.p.",1,{"$f":"ROW()","v":1610},8,null,null,"2.1.8.04.08","Contribución Fondo de Apoyo Financiero para la Energización de las Zonas No Interconectadas- FAZNI Corresponde al pago al realizado por los los agentes generadores del mercado mayorista de energía el valor correspondiente y entregará las sumas recaudadas, dentro de los tres (3) días siguientes a su recibo, en la cuenta del Ministerio de Hacienda y Crédito Público que para tal propósito este determine. El Administrador del Sistema de Intercambios Comerciales -ASIC",0,11]
[null,null,"D3526105","Coagulantes microbianos",1,{"$f":"ROW()","v":1611},8,null,null,"2.1.8.04.09","Contribución Superintendencia de Puertos y Transporte Son los gastos asociados a la Contribución Especial de Vigilancia, la cual tiene como fin cubrir los costos y gastos de funcionamiento e inversión de la entonces Superintendencia de Puertos y Transporte, hoy Superintendencia de Transporte, y que debe ser pagada anualmente por todas las personas naturales y jurídicas sometidas a su vigilancia, inspección y control.",0,11]
[null,null,"D3549926","Coagulantes y floculantes",1,{"$f":"ROW()","v":1612},8,null,null,"2.1.8.04.10","Contribución a RTVC y organizaciones regionales de televisión y radiodifusión Corresponde a los recursos girados a la RTVC, provenientes hasta el 25 de julio de 2019, del Fondo para el Desarrollo de la Televisión y los Contenidos, administrado como una cuenta especial a cargo de la ANTV. Luego, a partir de la Ley 1979 de 2019, articulo 34, provenientes del Fondo Único de Tecnologías de la Información y las Comunicaciones. Dichos recursos serán destinados a la prestación del servicio y el fortalecimiento de la radio y la televisión pública nacional, la administración, operación y mantenimiento de la red pública nacional de la radio y la televisión, la migración de los medios públicos a las plataformas convergentes, la producción de contenidos y la recuperación de la memoria de la radio y la televisión pública.; en el caso de la RTVC, pueden ser destinados a gastos de funcionamiento",0,11]
[null,null,"D4160101","Cobalto en bruto",1,{"$f":"ROW()","v":1613},8,null,null,"2.1.8.04.11","Contribución parafiscal para la promoción y el turismo La Contribución Parafiscal para la Promoción del Turismo, es un gravamen de carácter    obligatorio, creado   con   el   fin   de   fortalecer    la   promoción   y     la competitividad del turismo. La Contribución únicamente afecta al sector económico vinculado con la actividad turística.",0,11]
[null,null,"D2365001","Cobertura de chocolate",1,{"$f":"ROW()","v":1614},8,null,null,"2.1.8.04.12","Arancel judicial CSJ- Ley 1653 de 2013",0,11]
[null,null,"D2367006","Coberturas a base de azúcar para repostería",1,{"$f":"ROW()","v":1615},8,null,null,"2.1.8.04.13","Contribución - Fondo de Compensación Ambiental Son los gastos asociados al Fondo de Compensación Ambiental (FCA), el cual es un instrumento financiero de redistribución de recursos entre Corporaciones, con beneficio para aquellas que cuentan con menores posibilidades de generación de ingresos, incluyendo a las Corporaciones de Desarrollo Sostenible.",0,11]
[null,null,"D0426202","Cobia, de cultivo, fresca o refrigerada",1,{"$f":"ROW()","v":1616},8,null,null,"2.1.8.04.14","Contribucion - Comité permanente de Estratificacion Son los gastos asociados a la contribución por servicio de estratificación, que presta el Distrito o Municipio a las empresas comercializadoras de servicios públicos domiciliarios residenciales.",0,11]
[null,null,"D0426201","Cobia, vivas",1,{"$f":"ROW()","v":1617},8,null,null,"2.1.8.04.15","Contribución Adicional - Superintendencia de Servicios Públicos Domiciliarios Son los gastos por la Contribucion adicional a la Superintendencia de Servicios Publicos Domiciliario. Esta contribución es a partir del 1 enero de 2020 - hasta el 31 de diciembre de 2022.",0,11]
[null,null,"D2711001","Cobijas de algodón",1,{"$f":"ROW()","v":1618},8,null,null,"2.1.8.04.16","Contribución Comisiones Regulación de Agua Potable y Saneamiento Básico - CRA Con el fin de recuperar los costos del servicio de regulación que presta cada comisión, las entidades sometidas a su regulación están sujetas a una contribución, que se liquida y paga cada año (Ley 142 de 1994. art 85). Para definir los costos de los servicios de regulación la Comisión de Regulación de de Agua Potable y Saneamiento Básico (CRA) tiene en cuenta todos los gastos de funcionamiento, la depreciación, amortización u obsolescencia de sus activos, en el periodo anual respectivo y cobra solamente la tarifa que arroje el valor necesario para cubrir su presupuesto anual. En ningún caso, dicha tarifa puede exceder el 1% del valor de los gastos de funcionamiento, asociados al servicio sometido a regulación, de la entidad contribuyente en el año anterior a aquel en el que se haga el cobro, de acuerdo con sus estados financieros (Decreto 707 de 1995, art 1)",0,11]
[null,null,"D2718007","Cobijas de plumas",1,{"$f":"ROW()","v":1619},8,null,null,"2.1.8.04.17","Contribución - Superintendencia De Vigilancia y Seguridad Privada Los recursos necesarios para cubrir los gastos de funcionamiento e inversión que requiere la Superintendencia de Vigilancia y Seguridad Privda provienen de la contribución a cargo de las personas naturales o jurídicas que ejerzan o presten las actividades y los servicios sometidos a su control, inspección, y vigilancia. Para efectos de la contribución entiéndase por hecho generador el ejercicio de la actividad de industria de los servicios de vigilanica y seguridad privada que personas naturales y jurídicas desarrollen en el territorío nacional, en forma remunerada a favor de terceros o en beneficio propio, pudiendo ser dichos terceros personas jurídicas de derecho público o privado o personas naturales. Igualmente deben pagar esta contribución los servicios autorizados para desarrollar actividades de alto riesgo e interés público y las personas naturales que en forma remunerada presten servicios de asesoría, consultoría o investigación en seguridad privada (Ley 1151 de 2007. art. 16)",0,11]
[null,null,"D4141399","Cobre electrolítico en formas n.c.p.",1,{"$f":"ROW()","v":1620},8,null,null,"2.1.8.04.18","Contribución Superintendencia de Vigilancia y Seguridad Corresponde al pago de la licencia de funcionamiento del Departamento de Seguridad",0,11]
[null,null,"D4141301","Cobre en bloques y lingotes",1,{"$f":"ROW()","v":1621},8,null,null,"2.1.8.04.19","Contribución de vigilancia - Superintendencia de Industria y Comercio Corresponde al pago que realizan las Cámaras de Comercio anualmente a la Superintendencia de Industria y Comercio, en función de su labor de vigilancia y control, el 1% del presupuesto aprobado, en tres contados iguales pagaderos así: a) Primer contado a más tardar el 30 de marzo; b) Segundo contado a más tardar el 30 de junio; y tercer contado a más tardar el 30 de septiembre (Decreto 1687 de 2010)",0,11]
[null,null,"D0193006","Coca",1,{"$f":"ROW()","v":1622},8,null,null,"2.1.8.04.20","Aporte Sobre Pólizas de Seguros - Fondo Nacional de Bomberos de Colombia Corresponde al aporte que realizan las compañías aseguradoras al Fondo Nacional de Bomberos por concepto del dos por ciento (2%) liquidada sobre el valor de la póliza de seguros; este valor debe ser girado al Fondo Nacional de Bomberos dentro de los primeros diez (10) días del mes siguiente a la adquisición de las mencionadas pólizas.",0,11]
[null,null,"D3525037","Cocaína y sus sales",1,{"$f":"ROW()","v":1623},8,null,null,"2.1.8.04.21","FONSAT Corresponde a la contribución que realizan las compañías aseguradoras autorizadas para expedir el SOAT, constituidas por la diferencia entre el 20% del valor de las primas emitidas en el bimestre inmediatamente anterior y el monto definido por el Ministerio de Salud y Protección Social para cubrir el pago de las indemnizaciones correspondientes al amparo de gastos médicos, quirúrgicos, farmacéuticos, hospitalarios y el total de costos asociados al proceso de reconocimiento.",0,11]
[null,null,"D3899201","Coches para niños",1,{"$f":"ROW()","v":1624},8,null,null,"2.1.8.04.22","Contribución SOAT Corresponde a las contribuciones que realizan las compañías seguradoras al Fondo Nacional de Seguridad Vial, correspondientes al tres por ciento (3%) de las primas que recauden por la operación del SOAT.",0,11]
[null,null,"D3814030","Cocinas integrales",1,{"$f":"ROW()","v":1625},8,null,null,"2.1.8.04.23","Fondo Nacional de Riesgos Agropecuarios Corresponde a la contribución que realizan las compañías aseguradoras como porcentaje de los recursos provenientes de las primas pagadas en seguros agropecuarios a que se refiere la Ley 69 de 1993.",0,11]
[null,null,"D4482107","Cocinetas de gas",1,{"$f":"ROW()","v":1626},8,null,null,"2.1.8.04.24","Contribución - Fondo Especial de becas del Ministerio de Minas y Energía Corresponde a la erogación que se realiza mensualmente a favor del fondo especial de becas en el Ministerio de Minas y Petróleos. Para atender al sostenimiento de becas en el exterior, la suma de un tercio de centavo de dólar (US$ 1/3 centavos) por cada barril de petróleo obtenido en la explotación.",0,11]
[null,null,"D4481707","Cocinetas eléctricas",1,{"$f":"ROW()","v":1627},8,null,null,"2.1.8.04.25","Contribución - Superintendencia del Subsidio Familiar Las entidades sometidas a la vigilancia de la Superintendencia del Subsidio Familiar están obligadas a proveer, mediante contribución anual, los fondos necesarios para los gastos que ocasione el sostenimiento de la Superintendencia. El Superintendente fija por anualidades tal contribución como un porcentaje de los aportes totales pagados por los empleadores a las entidades sometidas a vigilancia, según los balances de su último ejercicio, empero no puede ser superior al uno por ciento (1%) del total de dichos aportes (Ley 25 de 1981, art. 19).",0,11]
[null,null,"D3337004","Cocinol (c.l.d.)",1,{"$f":"ROW()","v":1628},8,null,null,"2.1.8.04.26","Aportes financiación Sistema de Información Subsidio Familiar de Vivienda Comprende al aporte que realizan las Cajas de Compensación Familiar, equivalente al cero punto cinco por ciento (0,5%) de los recursos del presupuesto anual de los Fondo de Vivienda de Interés Social (FOVIS), así como de los aportes destinados por las entidades otorgantes del Subsidio Familiar de Vivienda. Estos recueros están destinados al financiamiento del Sistema de Información del Subsidio Familiar de Vivienda.",0,11]
[null,null,"D2142901","Coco rallado",1,{"$f":"ROW()","v":1629},8,null,null,"2.1.8.04.27","Contribución - Superintendencia de Sociedades Con el fin de cubrir los gastos de funcionamiento e inversión que requiere la Superintendencia de Sociedades, las sociedades sometidas a su vigilancia, control y regulación están sujetas a esta contribución. La Superintendencia de Sociedades, mediante resolución, establece la tarifa de la contribución a cobrar sobre el monto total de los activos, incluidos los ajustes integrales por inflación, que registre la sociedad a 31 de diciembre del año inmediatamente anterior, que podrá́ ser diferente según se trate de sociedades activas, en periodo preoperativo, en concordato, en reorganización o en liquidación (Ley 1429 de 2010, art. 44).",0,11]
[null,null,"D0219501","Cocodrilos, caimanes y babillas",1,{"$f":"ROW()","v":1630},8,null,null,"2.1.8.04.28","Contribución parafiscal contribución al turismo Contribución parafiscal con destino a la promoción y competitividad del turismo. La contribución estará a cargo de los aportantes previstos en el artículo 3º de la ley 1101 de 2006. Contribución que en ningún caso será trasladada al usuario.",0,11]
[null,null,"D0146001","Cocos",1,{"$f":"ROW()","v":1631},8,null,null,"2.1.8.05.01.001","Multas Superintendencias Corresponde al pago por penalidades pecuniarias que establecen las Superintendencias en el desarrollo de sus funciones de inspección y vigilancia sobre los sujetos de control definidos en su marco de competencias y por los hechos sancionables tipificados en la ley.",0,15]
[null,null,"D3525036","Codeína y sus sales",1,{"$f":"ROW()","v":1632},8,null,null,"2.1.8.05.01.002","Multas judiciales Corresponde al pago de penalidades pecuniarias que establecen los jueces a las partes y terceros en el marco de los procesos judiciales y arbitrales de todas las jurisdicciones, así como las impuestasen incidentes de desacato a fallos de acciones de tutela, son consignados a favor de la Rama Judicial, Consejo Superior de la Judicatura, con destino al Fondo para la Modernización, Descongestión y Bienestar de la Administración de Justicia.",0,15]
[null,null,"D0219401","Codornices",1,{"$f":"ROW()","v":1633},8,null,null,"2.1.8.05.01.003","Sanciones contractuales Comprende el gasto por penalidades pecuniarias que se imputan como consecuencia de acciones u omisiones relacionadas con una obligación contractual adquirida por la unidad ejecutora. (Ley 80 de 1993, Artículo 58). La imposición de multas, sanciones y declaratorias de incumplimiento las puede declarar cualquier entidad sometida al Estatuto General de Contratación de la Administración Pública, cuantificando los perjuicios del mismo, previo cumplimiento del procedimiento señalado en el Artículo 86 de la ley 1474 de 2011.",0,15]
[null,null,"D4299306","Cofres y alcancías metálicas de seguridad",1,{"$f":"ROW()","v":1634},8,null,null,"2.1.8.05.01.004","Sanciones administrativas Comprende el gasto por penalidades pecuniarias derivadas de la potestad sancionatoria de la Administración como medio necesario para cumplir las finalidades que le son propias o para alcanzar los objetivos que ella se ha trazado en el ejercicio de sus funciones. la potestad sancionatoria habilita a la administración para imponer a sus propios funcionarios y a los particulares el acatamiento de una disciplina cuya observancia propende indudablemente a la realización de sus cometidos; y a su vez, constituye un complemento de la potestad de mando, pues contribuye a asegurar el cumplimiento de las decisiones administrativas (Corte Constitucional, sentencia C-616 de 2002).",0,15]
[null,null,"D3627026","Cojinería de caucho espumado",1,{"$f":"ROW()","v":1635},8,null,null,"2.1.8.05.02","Intereses de mora Son los gastos asociados al retraso en que se incurre dentro de los plazos establecidos para el pago de una obligación. Los intereses de mora representan el resarcimiento tarifado o indemnización de los perjuicios que padece el acreedor por no tener consigo el dinero en la oportunidad debida",0,11]
[null,null,"D3699024","Cojinería de plástico espumado flexible",1,{"$f":"ROW()","v":1636},8,null,null,"2.2.1.01.01.001","Títulos valores Corresponde al pago del principal de la deuda externa adquirida por medio de la venta de títulos valores. Los títulos valores son documentos negociables que certifican o garantizan derechos o beneficios a su poseedor legal, y obligaciones de la unidad emisora del título, estos definen el plazo e intereses de la deuda.",0,15]
[null,null,"D3699032","Cojinetes-rodachines de material plástico",1,{"$f":"ROW()","v":1637},8,null,null,"2.2.1.01.02.001","Banca comercial Comprende el pago del principal de la deuda pública extranjera adquirida con un banco comercial. Un banco comercial es una institución financiera comercial que realiza operaciones de intermediación financiera, a través de la captación de dinero de ahentes económios, para darlo en préstamo a otros agentes económicos.",0,15]
[null,null,"D4291235","Coladores",1,{"$f":"ROW()","v":1638},8,null,null,"2.2.1.01.02.002","Banca de fomento Compren el pago del principal de la deuda pública externa adquirida mediante contrato empréstito con bancos de fomento externos. Un banco de fomento es una institución financiera que tiene por objeto financiar la elaboración y ejecución de proyectos de inversión en bienes de capital incluyendo además la prestación de asistencia técnica para esos proyectos.",0,15]
[null,null,"D2718003","Colchas de algodón",1,{"$f":"ROW()","v":1639},8,null,null,"2.2.1.01.02.003","Gobiernos Comprende el pago del principal de los recursos de crédito adquiridos mediante contratos de empréstito con otros gobiernos o líneas de crédito de gobierno a gobierno. Entiéndase por línea de crédito de gobierno a gobierno, aquel acuerdo mediante el cual un gobierno extranjero adquiere el compromiso de poner a disposición de las entidades de gobierno los recursos necesarios para la financiación de determinados proyectos, bienes o servicios.",0,15]
[null,null,"D2718004","Colchas de fibras artificiales y sintéticas",1,{"$f":"ROW()","v":1640},8,null,null,"2.2.1.01.02.004","Organismos multilaterales Comprende el pago del principal de los recursos de crédito adquiridos mediante contratos de empréstito con organismos multilaterales. Un organismo multilateral es creado con el objetivo de apoyar el desarrollo y crecimiento económico de los países menos desarrollados mediante la consecución y la movilización de recursos en condiciones favorables, así como la asistencia técnica en la preparación, ejecución y evaluación de programas y proyectos.",0,15]
[null,null,"D3815005","Colchones de algodón",1,{"$f":"ROW()","v":1641},8,null,null,"2.2.1.01.02.005","Cuenta especial de deuda externa Comprende el pago del principal de la deuda externa que el gobierno nacional asume, en su papel de garante, frente a las obligaciones que otras entidades estatales adquieren con acreedores externos. Este pago se realiza a través de la Cuenta Especial de Deuda Externa – CEDE, y en ella la Nación adquiere un derecho efectivo frente al deudor original.",0,15]
[null,null,"D3627017","Colchones de caucho neumáticos",1,{"$f":"ROW()","v":1642},8,null,null,"2.2.1.01.03.001","Proveedores Comprende el gasto por los créditos obtenidos con agentes residentes fuera del país, mediante los cuales se contrata la adquisición de bienes o servicios con plazo para su pago.",0,15]
[null,null,"D3815003","Colchones de espuma",1,{"$f":"ROW()","v":1643},8,null,null,"2.2.1.02.01.001","Títulos valores Incluye el pago de intereses de la deuda pública externa contraída por medio de títulos valores.",0,15]
[null,null,"D3815004","Colchones de lana",1,{"$f":"ROW()","v":1644},8,null,null,"2.2.1.02.02.001","Banca comercial Corresponde al pago de intereses que se reconocen sobre los recursos de crédito adquiridos mediante préstamos con bancos comerciales residentes fuera del país. Un banco comercial es un intermediario financiero que capta recursos de quienes tienen dinero disponible para colocarlos en manos de quienes lo necesitan.",0,15]
[null,null,"D3815099","Colchones n.c.p.",1,{"$f":"ROW()","v":1645},8,null,null,"2.2.1.02.02.002","Banca de fomento Corresponde al pago de intereses de la deuda pública externa adquirida mediante préstamos con bancos de fomento. Una entidad de fomento es una institución que capta recursos de los mercados externos e internos para promover sectores específicos de la economía, a través de la elaboración y ejecución de proyectos de inversión en bienes de capital, y la prestación de servicios de asistencia técnica necesarios para el desarrollo de los mismos.",0,15]
[null,null,"D3815002","Colchones resortados",1,{"$f":"ROW()","v":1646},8,null,null,"2.2.1.02.02.003","Gobiernos Corresponde al pago de los intereses de la deuda pública externa adquirida con otro gobierno para honrar líneas de crédito convenidas entre estos, las cuales se dirigen principalmente a financiar programas y proyectos de inversión. Se consideran gobiernos extranjeros aquellos que se encuentran fuera del territorio económico colombiano y ejercen soberanía sobre un área determinada del resto del mundo.",0,15]
[null,null,"D3815006","Colchonetas de plástico flexibles",1,{"$f":"ROW()","v":1647},8,null,null,"2.2.1.02.02.004","Organismos multilaterales Incluye el pago de los intereses de la deuda pública externa adquirida con organismos multilaterales. Los organismos multilaterales \"son organismos internacionales creados con el objetivo de apoyar el desarrollo y crecimiento económico de los países menos desarrollados mediante la consecución y la movilización de recursos en condiciones favorables, así como la asistencia técnica en la preparación, ejecución y evaluación de programas y proyectos\" (Departamento Nacional de Planeación, 2013, pág. 12).",0,15]
[null,null,"D3413906","Colesterol",1,{"$f":"ROW()","v":1648},8,null,null,"2.2.1.02.02.005","Cuenta especial de deuda externa Incluye el pago de los intereses que se reconocen sobre la deuda externa que el gobierno nacional asume, en su papel de garante, frente a las obligaciones que otras entidades estatales adquieren con acreedores externos. Este pago se realiza a través de la Cuenta Especial de Deuda Externa – CEDE, y en ella la Nación adquiere un derecho efectivo frente al deudor original. (Dirección General de Presupuesto Público Nacional, 2008, pág. 62)",0,15]
[null,null,"D0121301","Coliflores",1,{"$f":"ROW()","v":1649},8,null,null,"2.2.1.02.03","Otras cuentas por pagar Comprende el gasto por los intereses que se reconocen sobre la deuda pública externa contraída mediante operaciones de crédito público diferentes a los títulos de deuda y a los préstamos.",0,11]
[null,null,"D3899703","Collares de fantasía acabados",1,{"$f":"ROW()","v":1650},8,null,null,"2.2.1.02.04","Proveedores",0,11]
[null,null,"D3899711","Collares de fantasía semiacabados",1,{"$f":"ROW()","v":1651},8,null,null,"2.2.1.03.01.001","Títulos valores Incluye el pago de comisiones y otros cargos de la deuda pública externa contraída por medio de títulos valores",0,15]
[null,null,"D3479002","Colodión",1,{"$f":"ROW()","v":1652},8,null,null,"2.2.1.03.02.001","Banca comercial Corresponde al pago de comisiones y otros cargos de la deuda pública externa adquirida con bancos comerciales",0,15]
[null,null,"D3440002","Colofonia",1,{"$f":"ROW()","v":1653},8,null,null,"2.2.1.03.02.002","Banca de fomento Corresponde al pago de comisiones y otros cargos de la deuda pública externa adquirida con bancos de fomento.",0,15]
[null,null,"D3432004","Colorantes para alimentos",1,{"$f":"ROW()","v":1654},8,null,null,"2.2.1.03.02.003","Gobiernos Corresponde al pago de comisiones y otros cargos de la deuda pública externa adquirida con otro gobierno para honrar líneas de crédito convenidas entre estos, las cuales se dirigen principalmente a financiar programas y proyectos de inversión. Se consideran gobiernos extranjeros aquellos que se encuentran fuera del territorio económico colombiano y ejercen soberanía sobre un área determinada del resto del mundo.",0,15]
[null,null,"D3432008","Colorantes para bebidas",1,{"$f":"ROW()","v":1655},8,null,null,"2.2.1.03.02.004","Organismos multilaterales Incluye el pago de comisiones y otros cargos de la deuda pública externa adquirida con organismos multilaterales",0,15]
[null,null,"D3432006","Colorantes para cosméticos",1,{"$f":"ROW()","v":1656},8,null,null,"2.2.1.03.02.005","Cuenta especial de deuda externa Comprende el gasto por comisiones y otros gastos que se generan por la deuda externa que el gobierno nacional asume, en su papel de garante, frente a las obligaciones que otras entidades estatales adquieren con acreedores externos. Este pago se realiza a través de la Cuenta Especial de Deuda Externa – CEDE, y en ella la Nación adquiere un derecho efectivo frente al deudor original (Dirección General de Presupuesto Público Nacional, 2008, pág. 62).",0,15]
[null,null,"D3432009","Colorantes para drogas",1,{"$f":"ROW()","v":1657},8,null,null,"2.2.1.03.03","Otras cuentas por pagar Incluye el pago por comisiones y otros gastos que genera la deuda pública externa contraída mediante operaciones de crédito público diferentes a los títulos de deuda y a los préstamos.",0,11]
[null,null,"D3434007","Colorantes para plásticos",1,{"$f":"ROW()","v":1658},8,null,null,"2.2.2.01.01.001.01","Bonos agrarios Comprende el gasto por amortizaciones de los bonos agrarios que emite el gobierno nacional para efectuar el pago de los predios adquiridos por los campesinos de conformidad con lo dispuesto en la ley 160 de 1994. El monto de los bonos es definido previamente por el Instituto Colombiano de Desarrollo Rural – INCODER según la cantidad de tierra presupuestada para la compra en la vigencia.",0,18]
[null,null,"D3432005","Colorantes para repostería y confitería",1,{"$f":"ROW()","v":1659},8,null,null,"2.2.2.01.01.001.02","Bonos para la paz Comprende el gasto por amortizaciones de los bonos de solidaridad para la paz que emite el gobierno nacional para financiar programas y proyectos estructurados para la obtención de la paz a través del Fondo de Inversión para la Paz. Están obligados a realizar inversiones en dichos bonos las personas naturales cuyo patrimonio líquido a 31 de diciembre de 1998 exceda de doscientos diez millones de pesos ($210.000.000) y las personas jurídicas.",0,18]
[null,null,"D3431002","Colorantes para textiles",1,{"$f":"ROW()","v":1660},8,null,null,"2.2.2.01.01.001.03","Bonos de seguridad Comprende el gasto por amortizaciones de los bonos de seguridad que emite el gobierno nacional para financiar el gasto en defensa. Están obligados a realizar inversiones en dichos bonos las personas naturales cuyo patrimonio líquido determinado a 31 de diciembre de 1996, en su declaración del Impuesto sobre la Renta y Complementarios, exceda la suma de ciento cincuenta millones de pesos ($ 150.000.000), y las personas jurídicas",0,18]
[null,null,"D3434004","Colores de cromo",1,{"$f":"ROW()","v":1661},8,null,null,"2.2.2.01.01.001.04","Títulos de reducción de deuda (TRD) Comprende el gasto por amortizaciones de los Títulos de reducción de deuda - TRD que emite el gobierno nacional para efectuar abonos sobre los saldos vigentes en deudas para la financiación de vivienda a largo plazo. Están obligados a realizar inversiones en dichos títulos todos los Establecimientos de crédito, las sociedades de capitalización, las compañías de seguros, los fondos comunes ordinarios, especiales y de inversión administrados por sociedades fiduciarias, los fondos de valores administrados por sociedades comisionistas de bolsa y los fondos de inversión administrados por las sociedades administradoras de inversión.",0,18]
[null,null,"D3434003","Colores ferrociánicos",1,{"$f":"ROW()","v":1662},8,null,null,"2.2.2.01.01.001.05","TES clase B Comprende el gasto por amortizaciones de los Títulos de Tesorería - TES Clase B que emite el Gobierno Nacional mediante los mecanismos de subasta, operación convenida u operación forzosa, para financiar apropiaciones presupuestales. Los TES Clase B pueden ser administrados directamente por la Nación o ésta puede celebrar con el Banco de la República o con otras entidades nacionales o extranjeras, contratos de administración fiduciaria para la edición, emisión, colocación y garantía de los mismos",0,18]
[null,null,"D3434005","Colores minerales en polvo",1,{"$f":"ROW()","v":1663},8,null,null,"2.2.2.01.01.001.06","Otros bonos y títulos emitidos Comprende el gasto por amortizaciones de títulos o bonos no clasificables en los rubros anteriores",0,18]
[null,null,"D3511024","Colores para cerámica",1,{"$f":"ROW()","v":1664},8,null,null,"2.2.2.01.02.001","Nación Corresponde al pago del principal de la deuda pública interna adquirida con la Nación, por medio de préstamos.",0,15]
[null,null,"D3512002","Colores para pintura artística",1,{"$f":"ROW()","v":1665},8,null,null,"2.2.2.01.02.002.01","Banco de la República Comprende el gasto por amortizaciones de los recursos de crédito adquiridos mediante préstamos con el Banco de la República, el cual tiene, entre sus funciones, ser prestamista de última instancia del Gobierno Nacional. Los créditos otorgados por el Banco de la República a la Nación sólo se permiten en casos de extrema necesidad, y deben ser aprobados por todos los miembros de la Junta directiva del Banco.",0,18]
[null,null,"D3511021","Colores vitrificables",1,{"$f":"ROW()","v":1666},8,null,null,"2.2.2.01.02.002.02.01","Cuentas inactivas en entidades financieras Comprende el gasto por la amortización de los saldos de las cuentas corrientes o de ahorro que la DGCPTN debe retornar a las entidades financieras cuando el titular solicite el retiro total o parcial de la cuenta que haya permanecido inactiva por un período mayor a un año y no superen el valor equivalente a dos Unidades de Poder Adquisitivo Constante (UPAC) (Decreto 2331 de 1998, art. 36).",0,21]
[null,null,"D3860001","Columpios",1,{"$f":"ROW()","v":1667},8,null,null,"2.2.2.01.02.002.02.02","Deuda asumida Comprende el gasto por la amortización de los recursos de crédito adquiridos mediante préstamos por entidades del Estado con bancos comerciales residentes en el territorio colombiano que fueron asumidos por la Dirección General de Crédito Público y Tesoro Nacional (DGCPTN) del Ministerio de Hacienda y Crédito Público (Decreto 1068 de 2015).",0,21]
[null,null,"D1102001","Combustible aglomerado de carbón de hulla",1,{"$f":"ROW()","v":1668},{"$f":"LEN(C1668)","v":8},null,null,"2.2.2.01.02.002.02.03","Banca comercial Comprenden los gastos por la amortización de préstamos de banca comercial no clasificados en otra parte.",0,{"$f":"LEN(J1668)","v":21}]
[null,null,"D3337001","Combustóleo fuel oil núm. 6",1,{"$f":"ROW()","v":1669},8,null,null,"2.2.2.01.02.002.03","Banca de fomento Comprende el gasto por amortizaciones de los recursos de crédito adquiridos mediante préstamos con bancos de fomento internos. Una entidad de fomento es una institución que capta recursos de los mercados externos e internos para promover sectores específicos de la economía, a través de la elaboración y ejecución de proyectos de inversión en bienes de capital, y la prestación de servicios de asistencia técnica necesarios para el desarrollo de los mismos.",0,18]
[null,null,"D4419804","Comederos (incluso automáticos)",1,{"$f":"ROW()","v":1670},8,null,null,"2.2.2.01.02.002.04","Institutos de Desarrollo Departamental y/o Municipal Comprende el gasto por amortizaciones los recursos de crédito adquiridos mediante préstamos con los Institutos de Desarrollo Departamental y/o municipal.",0,18]
[null,null,"D4419401","Comederos y bebederos para gallineros",1,{"$f":"ROW()","v":1671},8,null,null,"2.2.2.01.02.003","Otras entidades no financieras Comprende el gasto por amortizaciones los recursos de crédito adquiridos mediante préstamos con otras entidades no dedicadas a actividades financieras",0,15]
[null,null,"D0429201","Comelón-lisa-cometa, fresca o refrigerada",1,{"$f":"ROW()","v":1672},8,null,null,"2.2.2.01.03.001","Proveedores Comprende el gasto por el principal de los créditos obtenidos con agentes residentes en el territorio colombiano, mediante los cuales se contrata la adquisición de bienes o servicios con plazo para su pago.",0,15]
[null,null,"D2314099","Comestibles a base de cereales n.c.p.",1,{"$f":"ROW()","v":1673},8,null,null,"2.2.2.01.03.002.01","Sentencias o conciliaciones en mora Corresponde al gasto asociado al pago de las obligaciones originadas en sentencias o conciliaciones debidamente ejecutoriadas y los intereses derivados de las mismas que se encuentren en mora en su pago, a la fecha de la expedición de la Ley 1955 de 2018. (Art. 53 de la Ley 1599 de 2018).",0,18]
[null,null,"D2399917","Comestibles a base de harinas, almidones y/o especias",1,{"$f":"ROW()","v":1674},8,null,null,"2.2.2.01.03.002.02","CAPRECOM proceso liquidatorio Corresponde al gasto asociado al pago de las obligaciones reconocidas como deuda en el proceso liquidatario de la Caja de Previsión Social del Sector de las Comunicaciones (CAPRECOM)",0,18]
[null,null,"D2392401","Comino elaborado",1,{"$f":"ROW()","v":1675},8,null,null,"2.2.2.01.03.002.03","FOMAG salud Corresponde al gasto asociado con el pago de las obligaciones derivadas de los contratos de salud del Fondo Nacional de Prestaciones del Magisterio (FOMAG) liquidados en la vigencia 2019",0,18]
[null,null,"D0165402","Comino sin elaborar",1,{"$f":"ROW()","v":1676},8,null,null,"2.2.2.01.03.002.04","Acuerdos de pago de servicios y tecnología en salud Corresponde al gasto derivado de reconocer como deuda pública los acuerdos de pago de la Administradora de los Recursos del Sistema General de Seguridad Social en Salud (ADRES) con las Empresas Promotoras de Salud (EPS) para atender el pago previo y/o acreencias por servicios y tecnologías en salud con cargo a la Unidad de Pago por Capitación (UPC) del Régimen Contributivo prestados únicamente hasta el 31 de diciembre de 2019",0,18]
[null,null,"D3814011","Cómodas-armarios de madera",1,{"$f":"ROW()","v":1677},8,null,null,"2.2.2.01.03.002.05","Sostenibilidad financiera SGSSS contributivo Corresponde al gasto asociado al pago de las obligaciones reconocidas como deuda derivadas de los servicios y tecnologías de salud no financiados con cargo a la Unidad de Pago por Capitación (UPC) del Régimen Contributivo",0,18]
[null,null,"D4823201","Compases",1,{"$f":"ROW()","v":1678},8,null,null,"2.2.2.01.03.002.06","Sector eléctrico Corresponde al gasto en que incurre la Nación al reconocer como deuda pública del Presupuesto General de la Nación (PGN), las obligaciones originadas por los saldos por menores tarifas del sector eléctrico que hayan sido causados a 31 de diciembre de 2019. Este reconocimiento operará por única vez y será reconocido y pagado con cargo al presupuesto del servicio de la deuda pública del PGN",0,18]
[null,null,"D4823306","Compases para mecánica",1,{"$f":"ROW()","v":1679},8,null,null,"2.2.2.01.03.002.07","Sector gas combustible Corresponde al gasto en que incurre la Nación al reconocer como deuda pública del Presupuesto General de la Nación (PGN), las obligaciones originadas por los saldos por menores tarifas del sector gas combustible que hayan sido causados a 31 de diciembre de 2019. Este reconocimiento operará por única vez y será reconocido y pagado con cargo al presupuesto del servicio de la deuda pública del PGN (",0,18]
[null,null,"D3525020","Complemento vitamínico en polvo o jalea",1,{"$f":"ROW()","v":1680},8,null,null,"2.2.2.02.01.001.01","Bonos agrarios Comprende el gasto por interes de los bonos agrarios que emite el gobierno nacional para efectuar el pago de los predios adquiridos por los campesinos de conformidad con lo dispuesto en la Ley 160 de 1994. El monto de los bonos es definido previamente por el Instituto Colombiano de Desarrollo Rural – INCODER según la cantidad de tierra presupuestada para la compra en la vigencia.",0,18]
[null,null,"D4912945","Componentes para bastidores de chasis, para vehículos automotores",1,{"$f":"ROW()","v":1681},8,null,null,"2.2.2.02.01.001.02","Bonos para la paz Comprende el gasto por intereses de los bonos de solidaridad para la paz que emite el gobierno nacional para financiar programas y proyectos estructurados para la obtención de la paz a través del Fondo de Inversión para la Paz. Están obligados a realizar inversiones en dichos bonos las personas naturales cuyo patrimonio líquido a 31 de diciembre de 1998 exceda de doscientos diez millones de pesos ($210.000.000) y las personas jurídicas.",0,18]
[null,null,"D2399102","Compotas a base de carne",1,{"$f":"ROW()","v":1682},8,null,null,"2.2.2.02.01.001.03","Bonos de seguridad Comprende el gasto por intereses de los bonos de seguridad que emite el gobierno nacional para financiar el gasto en defensa. Están obligados a realizar inversiones en dichos bonos las personas naturales cuyo patrimonio líquido determinado a 31 de diciembre de 1996, en su declaración del Impuesto sobre la Renta y Complementarios, exceda la suma de ciento cincuenta millones de pesos ($ 150.000.000), y las personas jurídicas",0,18]
[null,null,"D2149404","Compotas de frutas",1,{"$f":"ROW()","v":1683},8,null,null,"2.2.2.02.01.001.04","Títulos de reducción de deuda (TRD) Comprende el gasto por intereses de los Títulos de reducción de deuda - TRD que emite el gobierno nacional para efectuar abonos sobre los saldos vigentes en deudas para la financiación de vivienda a largo plazo. Están obligados a realizar inversiones en dichos títulos todos los Establecimientos de crédito, las sociedades de capitalización, las compañías de seguros, los fondos comunes ordinarios, especiales y de inversión administrados por sociedades fiduciarias, los fondos de valores administrados por sociedades comisionistas de bolsa y los fondos de inversión administrados por las sociedades administradoras de inversión.",0,18]
[null,null,"D2399101","Compotas de legumbres",1,{"$f":"ROW()","v":1684},8,null,null,"2.2.2.02.01.001.05","TES clase B Comprende el gasto por intereses de los Títulos de Tesorería - TES Clase B que emite el Gobierno Nacional mediante los mecanismos de subasta, operación convenida u operación forzosa, para financiar apropiaciones presupuestales. Los TES Clase B pueden ser administrados directamente por la Nación o ésta puede celebrar con el Banco de la República o con otras entidades nacionales o extranjeras, contratos de administración fiduciaria para la edición, emisión, colocación y garantía de los mismos",0,18]
[null,null,"D4323002","Compresores eléctricos",1,{"$f":"ROW()","v":1685},8,null,null,"2.2.2.02.01.001.06","Otros bonos y títulos emitidos Comprende el gasto por intereses de títulos o bonos no clasificables en los rubros anteriores",0,18]
[null,null,"D4323001","Compresores, bombas y otras máquinas de aire y gas, no eléctricas",1,{"$f":"ROW()","v":1686},8,null,null,"2.2.2.02.01.002","Operaciones temporales de tesorería Comprende el gasto por intereses que se reconocen por préstamos transitorios de los recursos de los fondos que administra la Dirección General de Crédito Público y Tesoro Nacional.",0,15]
[null,null,"D4219010","Compuertas metálicas",1,{"$f":"ROW()","v":1687},8,null,null,"2.2.2.02.02.001","Nación Comprende el gasto por intereses que se reconocen sobre los préstamos adquiridos con la Nación.",0,15]
[null,null,"D3549928","Compuestos aislantes para calderas",1,{"$f":"ROW()","v":1688},8,null,null,"2.2.2.02.02.002.01","Banco de la República Comprende el gasto por intereses que se reconocen sobre los recursos de crédito adquiridos mediante préstamos con el Banco de la República, el cual tiene, entre sus funciones, ser prestamista de última instancia del Gobierno Nacional",0,18]
[null,null,"D3480003","Compuestos de cauchos sintéticos (compuesto de goma termoplástico)",1,{"$f":"ROW()","v":1689},8,null,null,"2.2.2.02.02.002.02.01","Cuentas inactivas en entidades financieras Comprende el gasto por los intereses devengados de los saldos de las cuentas corrientes o de ahorro que la DGCPTN debe retornar a las entidades financieras cuando el titular solicite el retiro total o parcial de la cuenta que haya permanecido inactiva por un período mayor a un año y no superen el valor equivalente a dos Unidades de Poder Adquisitivo Constante (UPAC) (Decreto 2331 de 1998, art. 36).",0,21]
[null,null,"D3416027","Compuestos heterocíclicos",1,{"$f":"ROW()","v":1690},8,null,null,"2.2.2.02.02.002.02.02","Deuda asumida Comprende el gasto de por intereses que se reconocen sobre los recursos de crédito adquiridos mediante préstamos por entidades del Estado con bancos comerciales residentes en el territorio colombiano, que fueron asumidos por la Dirección General de Crédito Público y Tesoro Nacional (DGCPTN) del Ministerio de Hacienda y Crédito Público (Decreto 1068 de 2015).",0,21]
[null,null,"D3417099","Compuestos orgánicos n.c.p.",1,{"$f":"ROW()","v":1691},8,null,null,"2.2.2.02.02.002.02.03","Banca comercial Comprende los gastos por pago de intereses que se reconocen sobre préstamos otorgados a las entidades públicas, no clasificados en otra parte.",0,21]
[null,null,"D3511028","Compuestos para el tratamiento de lentes oftálmicos (lacas)",1,{"$f":"ROW()","v":1692},8,null,null,"2.2.2.02.02.002.03","Banca de fomento Comprende el gasto por intereses que se reconocen sobre los recursos de crédito adquiridos mediante préstamos con bancos de fomento internos. Una entidad de fomento es una institución que capta recursos de los mercados externos e internos para promover sectores específicos de la economía, a través de la elaboración y ejecución de proyectos de inversión en bienes de capital, y la prestación de servicios de asistencia técnica necesarios para el desarrollo de los mismos.",0,18]
[null,null,"D3479099","Compuestos plásticos n.c.p.",1,{"$f":"ROW()","v":1693},8,null,null,"2.2.2.02.02.002.04","Institutos de Desarrollo Departamental y/o Municipal Comprende el gasto por intereses los recursos de crédito adquiridos mediante préstamos con los Institutos de Desarrollo Departamental y/o municipal.",0,18]
[null,null,"D3479015","Compuestos plásticos vinílicos",1,{"$f":"ROW()","v":1694},8,null,null,"2.2.2.02.02.003","Otras entidades no financieras Comprende el gasto por intereses los recursos de crédito adquiridos mediante préstamos con oras entidades no dedicadas a actividades financieras.",0,15]
[null,null,"D2365008","Concentrado de chocolate",1,{"$f":"ROW()","v":1695},8,null,null,"2.2.2.02.03.001","Cuenta Única Nacional Comprende el gasto en que incurre la Dirección General de Crédito Público y Tesoro Nacional (DGCPTN) por concepto del reconocimiento y pago de los rendimientos derivados del manejo y las inversiones realizadas con los recursos que hayan tenido disponibles en el Sistema de Cuenta Única Nacional (SCUN)",0,15]
[null,null,"D2399927","Concentrado de coco",1,{"$f":"ROW()","v":1696},8,null,null,"2.2.2.02.03.002","Fondos administrados DTN Comprende el gasto por intereses en que incurre la Dirección General de Crédito Público y Tesoro Nacional (DGCPTN) del Ministerio de Hacienda y Crédito Público debe reconocer sobre los recursos de los Fondos que administra y que son producto de la gestión, manejo e inversión de dichos recursos, en los instrumentos autorizados según sea el régimen de inversión aplicable",0,15]
[null,null,"D2355003","Concentrado de panela",1,{"$f":"ROW()","v":1697},8,null,null,"2.2.2.03.01.001.01","Bonos para la paz Comprende el gasto por comisiones y otros gastos de los bonos de solidaridad para la paz que emite el gobierno nacional para financiar programas y proyectos estructurados para la obtención de la paz a través del Fondo de Inversión para la Paz. Están obligados a realizar inversiones en dichos bonos las personas naturales cuyo patrimonio líquido a 31 de diciembre de 1998 exceda de doscientos diez millones de pesos ($210.000.000) y las personas jurídicas.",0,18]
[null,null,"D2413108","Concentrados de brandy",1,{"$f":"ROW()","v":1698},8,null,null,"2.2.2.03.01.001.02","Bonos de seguridad Comprende el gasto por comisiones y otros gastos de los bonos de seguridad que emite el gobierno nacional para financiar el gasto en defensa. Están obligados a realizar inversiones en dichos bonos las personas naturales cuyo patrimonio líquido determinado a 31 de diciembre de 1996, en su declaración del Impuesto sobre la Renta y Complementarios, exceda la suma de ciento cincuenta millones de pesos ($ 150.000.000), y las personas jurídicas",0,18]
[null,null,"D2399922","Concentrados de frutas empacados para preparación de sorbetes y similares",1,{"$f":"ROW()","v":1699},8,null,null,"2.2.2.03.01.001.03","TES clase B Comprende el gasto por comisiones y otros gastos de los Títulos de Tesorería - TES Clase B que emite el Gobierno Nacional mediante los mecanismos de subasta, operación convenida u operación forzosa, para financiar apropiaciones presupuestales. Los TES Clase B pueden ser administrados directamente por la Nación o ésta puede celebrar con el Banco de la República o con otras entidades nacionales o extranjeras, contratos de administración fiduciaria para la edición, emisión, colocación y garantía de los mismos",0,18]
[null,null,"D2413109","Concentrados de ron (ron para rectificar)",1,{"$f":"ROW()","v":1700},8,null,null,"2.2.2.03.01.001.04","Otros bonos y títulos emitidos Comprende el gasto por comisiones y otros gastos de títulos o bonos no clasificables en los rubros anteriores",0,18]
[null,null,"D2413107","Concentrados de whisky",1,{"$f":"ROW()","v":1701},8,null,null,"2.2.2.03.02.001","Nación Comprende el gasto por comisiones y otros gastos que generan los préstamos adquiridos con la nación",0,15]
[null,null,"D2399208","Concentrados deshidratados de carne para sopas y caldos",1,{"$f":"ROW()","v":1702},8,null,null,"2.2.2.03.02.002.01","Banco de la República Comprende el gasto por comisiones y otros gastos que se generan por la obtención de recursos de crédito mediante préstamos con el Banco de la República, el cual tiene, entre sus funciones, ser prestamista de última instancia del Gobierno Nacional",0,18]
[null,null,"D2399209","Concentrados deshidratados de gallina para sopas y caldos",1,{"$f":"ROW()","v":1703},8,null,null,"2.2.2.03.02.002.02","Banca comercial Comprende el gasto por comisiones y otros gastos que se generan por la obtención de recursos de crédito mediante préstamos con bancos comerciales residentes en el territorio colombiano. Un banco comercial es un intermediario financiero que capta recursos de quienes tienen dinero disponible para colocarlos en manos de quienes lo necesitan",0,18]
[null,null,"D2399507","Concentrados deshidratados para salsas",1,{"$f":"ROW()","v":1704},8,null,null,"2.2.2.03.02.002.03","Banca de fomento Comprende el gasto por comisiones y otros gastos que se generan por la obtención de recursos de crédito mediante préstamos con bancos de fomento internos. Una entidad de fomento es una institución que capta recursos de los mercados externos e internos para promover sectores específicos de la economía, a través de la elaboración y ejecución de proyectos de inversión en bienes de capital, y la prestación de servicios de asistencia técnica necesarios para el desarrollo de los mismos",0,18]
[null,null,"D1424203","Concentrados minerales de iridio",1,{"$f":"ROW()","v":1705},8,null,null,"2.2.2.03.02.002.04","Institutos de Desarrollo Departamental y/o Municipal Comprende el gasto por comisiones y otros gastos de los recursos de crédito adquiridos mediante préstamos con los Institutos de Desarrollo Departamental y/o municipal.",0,18]
[null,null,"D2399907","Concentrados para bebidas no alcohólicas",1,{"$f":"ROW()","v":1706},8,null,null,"2.2.2.03.02.003","Otras entidades no financieras Comprende el gasto por comisiones y otros gastos de los recursos de crédito adquiridos mediante préstamos con otras instituciones no dedicadas a actividades financieras",0,15]
[null,null,"D2413199","Concentrados para licores n.c.p.",1,{"$f":"ROW()","v":1707},8,null,null,"2.2.2.03.03","Otras cuentas por pagar Incluye el pago por comisiones y otros gastos que genera la deuda pública interna contraída mediante operaciones de crédito público diferentes a los títulos de deuda y a los préstamos.",0,11]
[null,null,"D3549921","Concentrados para plásticos",1,{"$f":"ROW()","v":1708},8,null,null,"2.2.2.04","Aportes al fondo de contingencias Comprende los aportes que deben hacer las entidades al Fondo de Contingencias de las Entidades Estatales con el fin de atender las obligaciones contingentes de las mismas. Entiéndase por obligaciones contingentes aquéllas en virtud de las cuales una Entidad estipula contractualmente a favor de su contratista, el pago de una suma de dinero, determinada o determinable a partir de factores identificados, por la ocurrencia de un hecho futuro e incierto.",0,8]
[null,null,"D3514006","Concentrados para tintas",1,{"$f":"ROW()","v":1709},8,null,null,"2.2.2.05.01","Tipo A Corresponde a las erogaciones para el pago de los bonos pensionales de tipo A, cuyo pago se considera servicio de la deuda, en virtud del artículo 72 de la Ley 617 del 2000. Los bonos pensionales de Tipo A, son aquellos titulos de deuda pública emitidos a favor de las cuentas individuales de las personas que se trasladan al régimen de ahorro individual. (Decreto 1299 de 1994 y Decreto 2337 de 1996)",0,11]
[null,null,"D3434009","Concentrados pigmentantes para elaborar pinturas",1,{"$f":"ROW()","v":1710},8,null,null,"2.2.2.05.02","Tipo B Corresponde a las erogaciones para el pago de los bonos pensionales de tipo B, cuyo pago se considera servicio de la deuda, en virtud del artículo 72 de la Ley 617 del 2000. Los bonos pensionales tipo B son aquellos que se expiden a favor de los funcionarios que se trasladon al Régimen de prima edia con Prestación Definina. (Decreto 1314 de 1994)",0,11]
[null,null,"D4711101","Condensadores eléctricos para uso industrial",1,{"$f":"ROW()","v":1711},8,null,null,"2.3.1.01.01.001.01","Sueldo básico El sueldo básico corresponde a la parte del salario que se mantiene fija y se paga periódicamente de acuerdo con las funciones y responsabilidades, los requisitos de conocimientos, la experiencia requerida para su ejercicio, la denóminación y el grado establecidos en la nomenclatura, y la escala del respectivo nivel (art. 13, Decreto 1042 de 1978). El sueldo básico se paga sin tener en cuenta adicionales de horas extra, primas y otros factores eventuales o fijos que aumentan sus ingresos.La Ley 4 de 1992 establece el reconocimiento de una asignación básica de acuerdo con la nomenclatura y remuneración de los niveles de empleo.",0,18]
[null,null,"D4711102","Condensadores para motores de combustión interna",1,{"$f":"ROW()","v":1712},8,null,null,"2.3.1.01.01.001.02","Horas extras, dominicales, festivos y recargos Es la retribución fija que se reconoce al personal con el que existe relación laboral por concepto de trabajo suplementario y realizado en horas adicionales a la jornada ordinaria establecida por las disposiciones legales vigentes. Incluye: horas extras diurnas, horas extras nocturnas, y el trabajo ocasional en días dominicales y festivos. (Decreto 1042 de 1978).",0,18]
[null,null,"D4711201","Condensadores y transformadores para radio y televisión",1,{"$f":"ROW()","v":1713},8,null,null,"2.3.1.01.01.001.03","Gastos de representación Es la asignación complementaria del sueldo, que se reconoce excepcional y restrictivamente a empleados de alto nivel jerárquico por el cumplimiento de sus funciones (Corte Constitucional, Sentencia C-461/2004). Los gastos de representación tienen por finalidad que los empleados de nivel directivo desempeñen sus funciones de acuerdo con la importancia de la representación que ostentan. Esta asignación se caracteriza por ser un beneficio personal en gracia de la posición, jerarquía, dignidad y responsabilidades señaladas al cargo.",0,18]
[null,null,"D2399599","Condimentos compuestos n.c.p.",1,{"$f":"ROW()","v":1714},8,null,null,"2.3.1.01.01.001.04","Subsidio de alimentación Es la retribución fija que se reconoce al personal con el que la entidad tiene una relación laboral, tales como empleados públicos, trabajadores oficiales y aquel de las sociedades de economía mixta y particulares cuyo gasto de personal se haga con cargo a los recursos públicos a su cargo, como auxilio para la provisión de su alimento. Este factor es un pago habitual y periódico de una suma de dinero para apoyar la manutención y provisión de alimentos del empleado.No se tendrá derecho a este subsidio cuando el funcionario disfrute de vacaciones, se encuentre en uso de licencia, suspendido o cuando la entidad suministre el servicio (art. 12, Decreto 229 de 2016).El subsidio de alimentación fue creado mediante el Decreto 627 de 2007, y está regulado por el la Ley 4 de 1992 y el Decreto 1397 de 2010.",0,18]
[null,null,"D2399597","Condimentos y aliños n.c.p.",1,{"$f":"ROW()","v":1715},8,null,null,"2.3.1.01.01.001.05","Auxilio de transporte Es el pago que se hace al personal con el que la entidad tiene una relación laboral, tales como empleados públicos, trabajadores oficiales y aquel de las sociedades de economía mixta y particulares cuyo gasto de personal se haga con cargo a los recursos públicos a su cargo que devenguen un sueldo mensual básico hasta de dos veces el salario mínimo legal vigente (Decreto 2732 del 2014). Este auxilio tiene como fin cubrir el traslado del trabajador desde el sector de su residencia hasta el sitio de su trabajo y viceversa.No se tiene derecho a este auxilio cuando el funcionario disfrute de vacaciones, se encuentre en uso de licencia, suspendido en el ejercicio de sus funciones o cuando la entidad suministre el servicio (art. 13, Decreto 229 de 2016).La Ley 15 de 1959, el Decreto 1374 de 2010 y el Decreto 5054 de 2009 regulan el auxilio de transporte.",0,18]
[null,null,"D3757006","Conductos de asbesto-cemento-condulines",1,{"$f":"ROW()","v":1716},8,null,null,"2.3.1.01.01.001.06","Prima de servicio Es la retribución fija que se paga en el mes de julio de cada año correspondiente a 15 días de trabajo por cada año laborado, o proporcionalmente si el empleado laboró como mínimo por seis meses en la entidad. (art. 58, Decreto 1042 de 1978).El Decreto 1042 de 1978 establece la prima de servicios para los funcionarios del nivel nacional y el Decreto 2351 de 2014 establece la prima de servicios para los empleados públicos departamentales, distritales y municipales.Esta prima se liquida sobre los siguientes factores de salario:a) El sueldo básico fijado por la ley para el respectivo cargo. b) Los incrementos salariales por antigüedad. c) Los gastos de representación. d) Los auxilios de alimentación y transporte. e) La bonificación por servicios prestados",0,18]
[null,null,"D3756004","Conductos de concreto-condulines",1,{"$f":"ROW()","v":1717},8,null,null,"2.3.1.01.01.001.07","Bonificación por servicios prestados Es la retribución pagadera cada vez que el empleado cumple un año continuo de servicio en una misma entidad, la cual es equivalente al cincuenta por ciento (50%) del valor conjunto de la asignación básica determinada por la ley para el respectivo cargo, sumada a los incrementos por antigüedad y los gastos de representación. Se paga en un plazo de veinte días después del cumplimiento de los requisitos para recibir la bonificación (art. 45,47 y 48, Decreto 1042 de 1978).El Decreto 2418 de 2015 regula la bonificación por servicios prestados para los empleados públicos del nivel territorial.",0,18]
[null,null,"D3712803","Conductos de fibra de vidrio",1,{"$f":"ROW()","v":1718},8,null,null,"2.3.1.01.01.001.08.01","Prima de navidad Es la retribución correspondiente a un mes de salario que se reconoce a los empleados con los que la entidad tiene una relación laboral, por ocasión de la navidad. Esta prima es pagadera la primera quincena del mes de diciembre, por la cuantía del mes, o proporcionalmente al tiempo laborado.Cuando el empleado público, trabajador oficial u otro no ha servido durante todo el año, tiene derecho a la mencionada prima de navidad en proporción al tiempo laborado, a razón de una doceava parte por cada mes completo de servicios, que se liquida y paga con base en el último salario devengado, o en el último promedio mensual, si fuere variable equivalente a un mes de remuneración liquidado o un porcentaje proporcional al tiempo laborado (Decreto 1045 de 1978, art. 32).El reconocimiento de la prima de navidad como prestación social, se establece en el Decreto 1045 de 1978 (art. 32). El Decreto 1919 de 2002 establece que los empleados públicos de las entidades territoriales tienen derecho a las prestaciones sociales definidas para los empleados de la rama ejecutiva del nivel nacional. Por su parte, los soldados profesionales tienen derecho a percibir esta prima equivalente al cincuenta por ciento (50%) del salario básico devengado en el mes de noviembre del respectivo año más la prima de antigüedad. A su vez, los Oficiales, Suboficiales, Agentes y empleados públicos del Ministerio de Defensa, de las Fuerzas Militares y de la Policía Nacional tienen derecho a recibir esta prima (Decreto anual de salarios).",0,21]
[null,null,"D4233002","Conductos de humo metálicos (chimeneas)",1,{"$f":"ROW()","v":1719},8,null,null,"2.3.1.01.01.001.08.02","Prima de vacaciones Corresponde al reconocimiento que otorga la ley al personnal con el que la entidad tenga relación laboral, con el fin de brindarles mayores recursos económicos para gozar del periodo de vacaciones. Esta prima es equivalente a quince (15) días de salario por cada año trabajado y debe pagarse dentro de los cinco (5) días hábiles anteriores a la fecha señalada para la iniciación del descanso remunerado, salvo lo que se disponga en normas o estipulaciones especiales. La prima de vacaciones no se perderá en los casos en que se autorizare el pago de vacaciones en dinero (Decreto 1045 de 1978, arts. 24 a 29).",0,21]
[null,null,"D4219099","Conductos n.c.p. de lámina metálica",1,{"$f":"ROW()","v":1720},8,null,null,"2.3.1.01.01.001.09","Prima Técnica salarial Es un reconocimiento económico a servidores públicos que desempeñen cargos altamente calificados cuyas funciones demanden la aplicación de conocimientos técnicos o científicos, o la realización de labores de dirección o de especial responsabilidad. Asimismo, la prima técnica reconoce el desempeño de los servidores en su cargo.Se considera como factor salarial, la prima técnica por formación avanzada y experiencia altamente calificada, también conocida como prima técnica por estudio y experiencia, la cual se otorga a los empleados que acrediten estudios de formación avanzada o cinco años de experiencia calificada, en los cargos de nivel directivo, ejecutivo, profesional, jefes de oficina asesora y nivel asesor.",0,18]
[null,null,"D4219011","Conductos para acondicionamiento de aire y calefacción",1,{"$f":"ROW()","v":1721},8,null,null,"2.3.1.01.01.001.10","Viáticos de los funcionarios en comisión Son los pagos que reciben los funcionarios y trabajadores en comisión, para alojamiento y manutención, cuando: a) deban desempeñar sus funciones en un lugar diferente a su sede habitual de trabajo, ya sea dentro o fuera del país, o b) deba atender transitoriamente actividades oficiales distintas a las inherentes al empleo de que es titular (Departamento Administrativo de la Función Pública, 2007).Los viáticos de los funcionarios en comisión constituyen factor salarial para efectos de la liquidación de cesantías y pensiones cuando se hayan percibido por un término superior a ciento ochenta (180) días en el último año de servicio (art. 45, Decreto 1045 de 1978).",0,18]
[null,null,"D4219012","Conductos para basuras",1,{"$f":"ROW()","v":1722},8,null,null,"2.3.1.01.01.001.11","Remuneración diputados Es la remuneración reconocida a los diputados por su asistencia a las sesiones de la Asamblea Departamental, la cual está regulada por la Ley 1871 de 2017.",0,18]
[null,null,"D4633002","Conectores y terminales para sistemas eléctricos de automotores",1,{"$f":"ROW()","v":1723},8,null,null,"2.3.1.01.01.001.12","Aguinaldo Comprende los gastos asociados al pago anual que la Empresa Metro de Medellín realiza a los sus empleados de planta y que es considerado como un factor salarial común.",0,18]
[null,null,"D0219101","Conejos",1,{"$f":"ROW()","v":1724},8,null,null,"2.3.1.01.01.001.13","Auxilio de conectividad digital Corresponde al pago de auxilio de conectividad digital que de manera temporal y transitoria se reconocerá y pagará a los servidores públicos que devenguen hasta dos (2) salarios mínimos legalesmensuales vigentes y que desarrollen su labor en su domicilio. Este auxilio se reconocerá mientras esté vigente la emergencia sanitaria declarada por el Ministerio de Salud y de Protección Social con ocasión de la pandemia derivada del Coronavirus (COVID-19) y corresponderá al valor establecido para el auxilio de transporte.El auxilio de conectividad y el auxilio de transporte no son acumulables y no será aplicable a los trabajadores que se desempeñan en la modalidad de teletrabajo, a quienes les seguirán siendoaplicables las disposiciones de la Ley 1221 de 2008 (Art. 1, Decreto Legislativo 771 de 2020).",0,18]
[null,null,"D2367016","Confites blandos",1,{"$f":"ROW()","v":1725},8,null,null,"2.3.1.01.01.001.14","Salario Integral Segun el artículo 132 del Código Sustantivo del Trabajo permite que se acuerde libremente el salario en sus diversas modalidades, como por unidad de tiempo, por obra,  a destajo o por tarea, siempre y cuando se respete el salario mínimo. En el caso que el salario ordinario sea superior a 10 salarios mínimos legales mensuales, el salario será integral y compensará de antemano las prestaciones sociales, recargos y beneficios como el trabajo nocturno, extraordinario o dominical y festivo, exceptuando las vacaciones. De igual forma, el articulo 127 del Código Sustantivo del Trabajo, que establece el salario como todo aquello que recibe el trabajador como contraprestación directa del servicio.",0,18]
[null,null,"D2366001","Confites de chocolate",1,{"$f":"ROW()","v":1726},8,null,null,"2.3.1.01.01.002.01.01","Escalafón diplomático Corresponde a los sueldos de los funcionarios públicos de Carrera Diplomática y Consular. El valor de la asignación básica de dichos funcionarios dependerá de la categoría de Carrera Diplomática y Consular en la cual estén escalafonados conforme a las disposiciones del Decreto 274 de 2000.",0,21]
[null,null,"D2367001","Confites sin chocolate",1,{"$f":"ROW()","v":1727},8,null,null,"2.3.1.01.01.002.01.02.01","Comisión de servicios Corresponde a los sueldos de funcionarios públicos que están en comisión de servicios. De acuerdo con el art. 2 del Decreto 2004 de 1997, una comisión de servicios se puede conferir únicamente en los siguientes casos:- Para tramitar o negociar asuntos que a juicio del Gobierno Nacional revistan especial interés para el país.- Para suscribir convenios o acuerdos con otros gobiernos u organismos internacionales.",0,24]
[null,null,"D2399915","Confites y chicles sin azúcar",1,{"$f":"ROW()","v":1728},8,null,null,"2.3.1.01.01.002.01.02.02","Comisión de estudios Corresponde a los sueldos de funcionarios públicos que están en comisión de estudios. Para conferir una comisión de estudios, el objeto de la misma debe guardar relación con los fines de la entidad o con las funciones inherentes al cargo que desempeña el servidor público y ser superior a un mes (art. 2, Decreto 1050 de 1997).Se podrá conferir comisión de estudios en el exterior al servidor público que tenga por lo menos un (1) año continuo de servicio en la respectiva entidad. A su vez, el comisionado se comprometerá mediante convenio a prestar sus servicios a la entidad que otorga la comisión o a cualquier otra entidad del Estado, por el doble del tiempo de duración de la comisión (Decreto 3555 de 2007).",0,24]
[null,null,"D4391306","Congeladores de uso industrial y comercial",1,{"$f":"ROW()","v":1729},8,null,null,"2.3.1.01.01.002.02","Prima de actividad Reconocimiento económico que hace la ley a los empleados públicos del Ministerio de Defensa y de la Policía Nacional, mientras permanezcan en el desempeño de sus funciones. Esta prima es equivalente al cuarenta y nueve punto cinco por ciento (49.5%) del sueldo básico mensual del funcionario (art. 38, Decreto 1214 de 1990, modificado por el art. 30 del Decreto 984 de 2017).",0,18]
[null,null,"D4964002","Conjunto C.K.D. para aeronaves",1,{"$f":"ROW()","v":1730},8,null,null,"2.3.1.01.01.002.03","Prima especial de servicios Reconocimiento económico que hace la ley a los magistrados del Consejo Superior de la Judicatura, de la Corte Suprema de Justicia, de la Corte Constitucional, del Consejo de Estado, el Procurador General de la Nación, el Contralor General de la República, el Fiscal General de la Nación, el Defensor del Pueblo y el Registrador Nacional del Estado Civil con el fin de igualar los ingresos percibidos por estos funcionarios, con aquellos que reciben los miembros del Congreso, sin que en ningún caso los supere. El Gobierno podrá fijar la misma prima para los ministros de despacho, los Generales y Almirantes de la Fuerza Pública (art. 15, Ley 4 de 1992).Esta prima reemplaza en su totalidad y deja sin efecto cualquier otra prima a que tengan derecho dichos funcionarios, con excepción de la prima de navidad (art. 5, Decreto 10 de 1993).",0,18]
[null,null,"D4694001","Conjunto interior aislante para bujías",1,{"$f":"ROW()","v":1731},8,null,null,"2.3.1.01.01.002.04","Prima semestral Es el pago que se realiza en el mes de junio y diciembre, denóminado prima semestral, a los funcionarios que cumplan con los requisitos establecidos por la ley, y pagadera en conformidad con las disposiciones legales. Por ejemplo:a. La Superintendencia de Sociedades realiza el pago de la prima semestral a los beneficiarios del régimen especial de prestaciones económicas de los empleados afiliados a Corpoanónimas (entidad liquidada), en virtud de lo establecido por el art. 12 del Decreto 1695 de 1997. b) El artículo 2 de la Ley 55 de 1987, establece el reconocimiento de una prima semestral para los empleados del Congreso nacional, pagadera en junio y diciembre de cada año.c) El Acuerdo Distrital 25 de 1990 establece el pago de una prima semestral a los empleados y trabajadores de la Administración Central del Distrito, que hayan laborado durante el primer semestre del año y proporcionalmente a quienes laboren por lo menos tres (3) meses completos de ese semestre, y que equivale a treinta y siete (37) días de salario.",0,18]
[null,null,"D2823326","Conjuntos de tejidos planos de fibras mezcladas, para mujer",1,{"$f":"ROW()","v":1732},{"$f":"LEN(C1732)","v":8},null,null,"2.3.1.01.01.002.05","Prima ascensional Reconocimiento que hace la ley a favor de los Magistrados y Fiscales de Tribunal, que reúnan los requisitos constitucionales para el ejercicio de la magistratura de la Corte Suprema de Justicia, y a favor de los Fiscales de Juzgado Superior, Jueces Superiores, de Menores y de Circuito que reúnan los requisitos constitucionales para ser Magistrados de Tribunal Superior (art. 3, Decreto 903 de 1969).El Consejo Superior de la Administración de Justicia, para determinar la cuantía individual de la prima (que no podrá ser mayor al cinco por ciento (5%) de la asignación mensual), tendrá en cuenta la antigüedad y la calidad de los requisitos constitucionales exigidos para el desempeño del cargo superior, a la época en que el peticionario haya tomado posesión del mismo (Decreto 760 de 1970).",0,{"$f":"LEN(J1732)","v":18}]
[null,null,"D2823327","Conjuntos de tejidos planos de fibras mezcladas, para niña",1,{"$f":"ROW()","v":1733},8,null,null,"2.3.1.01.01.002.06","Primas extraordinarias Corresponde al pago por concepto de primas legalmente otorgadas, que constituyen factor salarial y que serán pagaderas únicamente en los términos, condiciones y las veces que se establezca en su ley de creación.",0,18]
[null,null,"D4722302","Conmutadores telefónicos",1,{"$f":"ROW()","v":1734},8,null,null,"2.3.1.01.01.002.07","Prima mensual Es el pago mensual equivalente al incentivo económico por los servicios prestados. Pago no menor al treinta por ciento (30%), ni mayor al sesenta por ciento (60%) del salario básico mensual.",0,18]
[null,null,"D3219919","Conos de cartón",1,{"$f":"ROW()","v":1735},8,null,null,"2.3.1.01.01.002.08","Auxilio especial de transporte Es el pago por concepto de auxilio especial de transporte a los beneficiarios establecidos por la ley, de acuerdo con las disposiciones legales correspondientes.Por ejemplo, el artículo 3 del Decreto 192 de 2014 dispone que tienen derecho a este subsidio, los servidores públicos del Instituto Nacional de Medicina Legal y Ciencias Forenses que se desempeñen en funciones de mensajería. Asimismo, el artículo 32 del Decreto 717 de 1978 establece que reconocerá el auxilio especial de transporte a los citadores que prestan sus servicios en los Despachos Judiciales y a los Asistentes sociales de los Juzgados de ejecución de Penas y Medidas de Seguridad, para adolescentes, de Familia y promiscuos de Familia. No incluye: •La prima especial de transporte establecida en el Decreto 51 de 1998, posteriormente establecida en el Decreto 3254 de 2002, el cual fue derogado por el Decreto 26 de 2004. De acuerdo con el artículo 1 del Decreto 3254 de 2002, esta prima consistía en el reconocimiento económico de una prima equivalente a $500.000 para los Secretarios Generales del Senado, Cámara y los Secretarios de la Comisiones Constitucionales Permanentes",0,18]
[null,null,"D0165901","Conos de lúpulo",1,{"$f":"ROW()","v":1736},8,null,null,"2.3.1.01.01.002.09","Bonificación por comisión especial de servicio Reconocimiento que hace la ley a los empleados del Departamento Administrativo de Seguridad - DAS que deban cumplir comisiones especiales de servicio fuera del país. Dichos empleados tendrán derecho a percibir una bonificación mensual en dólares o proporcional al tiempo de la comisión, hasta por el quince por ciento (15%) de su asignación básica mensual a razón de un dólar por cada cinco pesos ($5) (art. 6, Decreto 1933 de 1989).",0,18]
[null,null,"D3699045","Conos plásticos",1,{"$f":"ROW()","v":1737},8,null,null,"2.3.1.01.01.002.10.01","Beneficios a los empleados a corto plazo",0,21]
[null,null,"D2342005","Conos y similares para helados",1,{"$f":"ROW()","v":1738},8,null,null,"2.3.1.01.01.002.10.02","Beneficios a los empleados a largo plazo",0,21]
[null,null,"D4826301","Contadores de electricidad",1,{"$f":"ROW()","v":1739},8,null,null,"2.3.1.01.01.002.11","Bonificación por compensación La bonificación por compensación es el pago que se realiza a los funcionarios públicos determinados por la ley, para la nivelación de su salario. Por ejemplo, la bonificación por compensación creada por el Decreto 610 de 1998, es el pago mensual, equivalente al ochenta por ciento (80%) de la asignación básica más los demás ingresos laborales. Los beneficiarios de esta bonificación son: los magistrados de las altas Cortes, secretarios generales de las mismas, Fiscales delegados ante Tribunales del distrito, y otros funcionarios de la rama judicial. De acuerdo con el Decreto 1102 de 2012, que venían percibiendo la bonificación de gestión judicial para la fecha del Decreto mencionado, reciben el presente beneficio. Incluye: •La prima individual de compensación creada por el Decreto 4669 de 2006. Según lo establecido por el artículo 11 del Decreto 4669 de 2006, los servidores públicos del Instituto Nacional de Medicina Legal y Ciencias Forenses:[…]que fueren incorporados con una asignación básica mensual inferior a la que venían percibiendo, una prima individual de compensación, de carácter personal, que nivele sus ingresos con los que venían percibiendo por concepto de asignación básica mensual, de conformidad con lo establecido en el artículo 2o del Decreto 384 de 2006, la que devengarán mientras permanezcan en el mismo empleo. (Decreto 4669, 2006) Esta prima constituye factor salarial para liquidar prestaciones sociales, y firma parte de la asignación básica para efectos pensionales (Decreto 4669, 2006). Otro ejemplo es la bonificación por compensación creada por el Decreto Ley 4064 de 2011, donde los funcionarios del DAS incorporados a la Unidad Administrativa Especial Migración Colombia, en un empleo al cual corresponde una asignación básica inferior al valor de la asignación básica y la prima de riesgo que vienen percibiendo, la diferencia se reconocerá con una bonificación mensual individual por compensación que se entiende integrada a la asignación básica y por lo tanto constituye factor salarial para todos los efectos legales.",0,18]
[null,null,"D4826403","Contadores de producción",1,{"$f":"ROW()","v":1740},8,null,null,"2.3.1.01.01.002.12.01","Beneficios a los empleados a corto plazo",0,21]
[null,null,"D4826302","Contadores para agua",1,{"$f":"ROW()","v":1741},8,null,null,"2.3.1.01.01.002.12.02","Beneficios a los empleados a largo plazo",0,21]
[null,null,"D4922101","Contenedores para transporte de fluidos",1,{"$f":"ROW()","v":1742},8,null,null,"2.3.1.01.01.002.13","Prima especial Reconocimiento que hace la ley a los funcionarios de la planta externa del Ministerio de Comercio, Industria y Turismo (art. 4, Decreto 4971 de 2009) y a los funcionarios que presten sus servicios en las misiones colombianas permanentes acreditadas en el exterior (art. 4, Decreto 3357 de 2009).Esta prima se paga en forma mensual y constituye factor salarial para todos los efectos, incluyendo los aportes al Sistema Integral de Seguridad Social.",0,18]
[null,null,"D4922103","Contenedores para transporte de materiales",1,{"$f":"ROW()","v":1743},8,null,null,"2.3.1.01.01.002.14","Bonificación cuerpo custodia y vigilancia Es una bonificación que se reconoce a los oficiales logísticos y de tratamiento penitenciario pertenecientes al Cuerpo de Custodia y Vigilancia Penitenciaria y Carcelaria Nacional del Instituto Nacional Penitenciario y Carcelario -INPEC-, de manera mensual a partir del primero (1) de enero de 2015, calculado sobre la asignación básica mensual correspondiente al empleo (art. 2, Decreto 1268 de 2015).De acuerdo al art. 4 del Decreto 1268 de 2015, la bonificación constituye factor salarial para todos los efectos legales y los aportes obligatorios sobre los pagos que se efectúen por ese concepto, se realizarán de conformidad con las disposiciones legales vigentes.",0,18]
[null,null,"D4922102","Contenedores removibles para basura",1,{"$f":"ROW()","v":1744},8,null,null,"2.3.1.01.01.002.15","Bonificación personal administrativo Es una bonificación que se reconoce al personal administrativo del Instituto Nacional Penitenciario y Carcelario INPEC, una bonificación que se reconocerá mensualmente a partir del primero (1) de enero de 2015, calculado sobre la asignación básica mensual correspondiente al empleo que desempeñe.De acuerdo al art. 4 del Decreto 1268 de 2015 la bonificación constituye factor salarial para todos los efectos legales y los aportes obligatorios sobre los pagos que se efectúen por ese concepto, se realizarán de conformidad con las disposiciones legales vigentes.",0,18]
[null,null,"D4693904","Control de acceso a cajeros automáticos",1,{"$f":"ROW()","v":1745},8,null,null,"2.3.1.01.01.002.16","Sobresueldo Reconocimiento económico que hace la ley a los controladores de tránsito aéreo y supervisores de tránsito aéreo debidamente acreditados por el Centro de Estudios Aeronáuticos y pertenecientes al área de control de Tránsito Aéreo de la Unidad Administrativa Especial de Aeronáutica Civil en razón del volumen de operación de control de tráfico aéreo. El porcentaje del sobresueldo se fija de acuerdo con la categoría del aeropuerto donde el funcionario preste el servicio (Decreto 313 de 2018, art. 8).",0,18]
[null,null,"D4740205","Control remoto para televisión, betamax, equipo de sonido y similares",1,{"$f":"ROW()","v":1746},8,null,null,"2.3.1.01.01.002.17","Prima de productividad Reconocimiento económico que hace la ley a los empleados de la Rama Judicial, de la Fiscalía General de la Nación y del Instituto Nacional de Medicina Legal y Ciencias Forenses para mejorar la productividad. Esta prima es equivalente al cincuenta por ciento (50%) de la remuneración mensual, pagadera en el mes de diciembre de cada año (Decreto 2460 de 2006; modificado por el Decreto 3899 de 2008).",0,18]
[null,null,"D4621305","Controles eléctricos industriales para voltajes inferiores o iguales a 1000 V",1,{"$f":"ROW()","v":1747},8,null,null,"2.3.1.01.01.002.18","Prima de desgaste y alto riesgo visual Reconocimiento económico que hace el Distrito de Bogotá a los bacteriólogos que presten sus servicios a las diferentes entidades y dependencias del distrito.",0,18]
[null,null,"D4621404","Controles eléctricos industriales para voltajes superiores a 1000 V",1,{"$f":"ROW()","v":1748},8,null,null,"2.3.1.01.01.002.19","Reserva especial del ahorro Corresponde al reconocimiento mensual que realiza la Superintendencia de Sociedades, la Superintendencia de Industria y Comercio, la Superintendencia Financiera de Colombia y el Instituto Nacional de Metrología a favor de sus empleados, con el fin de incentivar el ahorro de estos. Este reconocimiento es equivalente al 65% del sueldo básico, prima de antigüedad, prima técnica, gastos de representación y el incremento de salario por antigüedad (según corresponda).",0,18]
[null,null,"D3719306","Copas de vidrio",1,{"$f":"ROW()","v":1749},8,null,null,"2.3.1.01.01.002.20","Prima de localización (Artículo 8 Decreto 415 de 1979) Corresponde la prima que reconoce el Servicio Nacional de Aprendizaje (SENA) a los empleados públicos que presten sus servicios en el Centro Náutico Pesquero de Buenaventura, en la ciudad de Barrancabermeja, en el Departamento del Chocó y en la región de Urabá, donde existen sedes permanentes del SENA, en los Departamentos del César y la Guajira o en Centros Fijos de los Territorios Nacionales. Esta prima se fijó en1.500.00 mensuales, incrementándose anualmente en un 20%, constituye parte integral de la asignación básica mensual de los empleos del SENA y en ningún caso se podrá recibir viáticos y prima de localización simultáneamente",0,18]
[null,null,"D2823707","Copas prehormadas para brasier",1,{"$f":"ROW()","v":1750},8,null,null,"2.3.1.01.01.002.21.01","Beneficios a los empleados a corto plazo Recursos destinados al pago a que tienen derecho los empleados públicos al cumplirse cinco años de antigüedad de servicios prestados en un trabajo, según lo estipulado en la ley. de acuerdo con la entidad y régimen salarial que rija para el mismo.“El quinquenio es un beneficio laboral que se reconoce con ocasión de la prestación del servicio por un lapso determinado, sin que manera alguna cubra riesgo o necesidad alguno del empleado. Motivo por el cual, en concepto de esta Oficina, el quinquenio es Salario o Remuneración”. (Concepto 11547 de 2002 Departamento Administrativo de la Función Pública). Asi mismo puede corresponder a un beneficio salarial especial al trabajador en el marco de una convención o Pacto Colectivo, siempre que cumpla con cinco (5) años de servicio continuo en la entidad.",0,21]
[null,null,"D3479032","Copolímeros",1,{"$f":"ROW()","v":1751},8,null,null,"2.3.1.01.01.002.21.02","Beneficios a los empleados a largo plazo Recursos destinados al pago a que tienen derecho los empleados públicos al cumplirse cinco años de antigüedad de servicios prestados en un trabajo, según lo estipulado en la ley. de acuerdo con la entidad y régimen salarial que rija para el mismo.“El quinquenio es un beneficio laboral que se reconoce con ocasión de la prestación del servicio por un lapso determinado, sin que manera alguna cubra riesgo o necesidad alguno del empleado. Motivo por el cual, en concepto de esta Oficina, el quinquenio es Salario o Remuneración”. (Concepto 11547 de 2002 Departamento Administrativo de la Función Pública). Asi mismo puede corresponder a un beneficio salarial especial al trabajador en el marco de una convención o Pacto Colectivo, siempre que preste sus servicios entre 5 y 15 años a la Entidad o mayor a 15 años.",0,21]
[null,null,"D0149201","Copra",1,{"$f":"ROW()","v":1752},8,null,null,"2.3.1.01.01.002.22","Remuneración adicional Corresponde a remuneración a la que tienen derecho los empleados al servicio de la Contraloría General de la República que laboren ordinariamente en los departamentos creados por el Artículo 309207de la Constitución Política y en el Departamento del Caquetá. Esta remuneración es equivalente al 8% de la asignación básica mensual que les corresponde",0,18]
[null,null,"D3310101","Coque de carbón",1,{"$f":"ROW()","v":1753},8,null,null,"2.3.1.01.01.002.23","Prima capacitación no acogidos Reconocimiento que hace la ley a Magistrados del Tribunal, Jueces Superiores, de menores o circuitos en razón de estudios de post-grado, obra de investigación científica publicada o ejercicio de la docencia universitaria, todo en materias relacionadas con su cargo y especialidad (Art. 3, Decreto 903 de 1969 y Decreto 717 de 1978).El Consejo Superior de la administración de justicia para la determinación individual del monto de la prima de capacitación, que puede ascender hasta el 10% de la respectiva asignación mensual, analizará en singular cada factor invocado y demostrado, teniendo en cuenta la naturaleza, pertinencia, duración e intensidad, abundancia y pertinencia de la obra científica; y la antigüedad, perseverancia, rendimiento y pertinencia del ejercicio del magisterio (Art. 4 del Decreto 760 de 1970).",0,18]
[null,null,"D3350008","Coque de petróleo",1,{"$f":"ROW()","v":1754},8,null,null,"2.3.1.01.01.002.24","Prima del nivel ejecutivo Corresponde a la prima a la que tiene derecho el personal del nivel ejecutivo de la Policía Nacional en servicio activo. Es equivalente al 20% de la asignación básica mensual, no tiene carácter salarial para ningún efecto, con excepción de la prima de navidad",0,18]
[null,null,"D2823804","Corbatas",1,{"$f":"ROW()","v":1755},8,null,null,"2.3.1.01.01.002.25","Prima de retorno a la experiencia Es el reconocimiento económico que hace la ley al personal del nivel ejecutivo de la Policía Nacional por cada año de servicio que permanezca en el mismo grado de acuerdo con el porcentaje del sueldo básico",0,18]
[null,null,"D3192201","Corcho aglomerado en barras o láminas",1,{"$f":"ROW()","v":1756},8,null,null,"2.3.1.01.01.002.26","Prima de vuelo",0,18]
[null,null,"D3192101","Corcho en barras y láminas no aglomerado",1,{"$f":"ROW()","v":1757},8,null,null,"2.3.1.01.01.002.27","Prima de carestía Reconocimiento que se hace en el mes de abril de cada año a los trabajadores oficiales vinculados a 31 de diciembre del año inmediatamente anterior de una prima de carestía, de conformidad con lo previsto en la convención colectiva de trabajo vigente.. NE : Concepto exclusivo Universidad Nacional de Colombia",0,18]
[null,null,"D3192102","Corcho granulado",1,{"$f":"ROW()","v":1758},8,null,null,"2.3.1.01.01.002.28","Bonificación cargo académico administrativo Reconocimiento de bonificación mensual a los docentes que por acto administrativo desempeñan cargos académico administrativos en funciones directivas.",0,18]
[null,null,"D0322001","Corcho natural, en bruto o simplemente preparado",1,{"$f":"ROW()","v":1759},8,null,null,"2.3.1.01.01.002.29","Bonificación bienestar universitario Corresponde al pago a los servidores públicos según Acuerdo CSU 005 de 1998, aplica para docentes de carrera universitaria.NE: Aplica para la Universidad Nacional de Colombia.",0,18]
[null,null,"D3845002","Corchos y flotadores para pesca deportiva",1,{"$f":"ROW()","v":1760},8,null,null,"2.3.1.01.01.002.30","Cuatrienio Recursos destinados al pago a que tienen derecho los empleados públicos al cumplirse Cuatro años de antigüedad de servicios prestados en un trabajo, según lo estipulado en la ley.",0,18]
[null,null,"D2731006","Cordelería de fibras artificiales y sintéticas",1,{"$f":"ROW()","v":1761},8,null,null,"2.3.1.01.01.002.31","Bonificación Pedagógica Docentes Prescolar, Básica y Media La bonificación pedagógica será reconocida para docentes y directivos docentes de entidades territoriales, pagadera una sola vez al año de acuerdo con los porcentajes indicados; cuando el docente o directivo docente cumpla un año continúo de servicio efectivamente prestado; constituye factor salarial y no tendrá efectos retroactivos.",0,18]
[null,null,"D2731004","Cordelería delgada de fique",1,{"$f":"ROW()","v":1762},8,null,null,"2.3.1.01.01.002.32","Sobresueldo docentes y directivos docentes Prescolar, Básica y Media Es la asignación adicional para docentes de prescolar vinculados en este nivel antes del 23 de febrero de 1984 y que permanezca sin solución de continuidad desempeñándose en el mismo cargo, equivalente al quince por ciento (15%) calculado sobre la asignación básica mensual. Dicha asignación adicional dejará de percibirse al cambiar de nivel educativo.",0,18]
[null,null,"D2731005","Cordelería delgada de yute y fibras similares",1,{"$f":"ROW()","v":1763},8,null,null,"2.3.1.01.01.002.33","Bonificación Educadores de Básica y Media Corresponde a la bonificación para los servidores públicos docentes y directivos docentes al servicio del Estado en los niveles de preescolar, básica y media, regidos por el Decreto Ley 2277 de 1979, el Decreto Ley 1278 de 2002 o la Sección 4, Capítulo 5, Título 3, Parte 3 del Decreto 1075 de 2015, Único Reglamentario del Sector Educación, y pagados con cargo al Sistema General de Participaciones, una bonificación, que se reconocerá mensualmente a partir del primero (01) de enero de 2020 y hasta el treinta y uno (31) diciembre de 2020, mientras el servidor público permanezca en el servicio.",0,18]
[null,null,"D2731002","Cordelería ordinaria de algodón",1,{"$f":"ROW()","v":1764},8,null,null,"2.3.1.01.01.002.34","Prima de clima o de calor Es el reconocimiento económico que se realiza a los empleados públicos que desempeñan sus funciones en condiciones climáticas desfavorables para su salud, de acuerdo con las condiciones legales.",0,18]
[null,null,"D2731007","Cordón de fibras textiles con cubierta plástica no impregnada",1,{"$f":"ROW()","v":1765},8,null,null,"2.3.1.01.01.002.35","Prima Movil Es el reconocimiento económico que se realiza a los empleados públicos que desempeñan sus funciones como operadores de maquinaria pesada (especial I y especial II), en el marco de una Convención colectiva.",0,18]
[null,null,"D3545010","Cordón o mecha detonante",1,{"$f":"ROW()","v":1766},8,null,null,"2.3.1.01.01.002.36","Prima de vida cara Corresponde al pago que realiza el municipio de Medellín en el marco de la Convención Colectiva firmada con los Trabajadores Oficiales del municipio.",0,18]
[null,null,"D3792002","Cordones de asbesto",1,{"$f":"ROW()","v":1767},8,null,null,"2.3.1.01.01.002.37","Prima de Riesgo Prima creada por convención colectiva para los trabajadores que manipulan explosivos en la Industria Militar. La cual corresponderá a dos salarios básico por cada año de servicio",0,18]
[null,null,"D2719006","Cordones para calzado de materias textiles",1,{"$f":"ROW()","v":1768},8,null,null,"2.3.1.01.01.002.38","Remuneración Sorteo Semanal Corresponde a la remuneración que realiza la lotería de Cundinamarca a los trabajadores que participen en las labores de la realización semanal de sorteos.",0,18]
[null,null,"D1632204","Corindón",1,{"$f":"ROW()","v":1769},8,null,null,"2.3.1.01.01.002.39","Vacaciones Corresponde al reconocimiento que por mera liberalidad realiza el empleador al trabajador por concepto de vacaciones cuando estas se consideran como un factor salarial, en aplicación de lo establecido en el código sustantivo de trabajo.",0,18]
[null,null,"D3796001","Corindón artificial",1,{"$f":"ROW()","v":1770},8,null,null,"2.3.1.01.01.002.40","Distinción Son los reconocimientos que se otorgan al Patrullero en servicio activo, por su tiempo de servicio, buen comportamiento y profesionalización, previo el lleno de los requisitos dispuestos en la Ley 2179 de 2021.",0,18]
[null,null,"D0149103","Corozo",1,{"$f":"ROW()","v":1771},8,null,null,"2.3.1.01.02.001","Aportes a la seguridad social en pensiones Son los pagos por concepto de contribución social que hacen los empleadores a los fondos de seguridad social en pensiones. Este pago se realiza en virtud de la Ley 100 de 1993, por medio de la cual se creó el Sistema de Seguridad Social de Pensiones, y se estableció la obligatoriedad de la afiliación de todos los empleados al sistema.Este aporte tiene como finalidad garantizar a la población el amparo contra las contingencias derivadas de la vejez, la invalidez y la muerte, mediante el reconocimiento de las pensiones y prestaciones correspondientes (Ley 100 de 1993, art. 10).",0,15]
[null,null,"D3624003","Correas de caucho para sistemas de transmisión de automotores",1,{"$f":"ROW()","v":1772},8,null,null,"2.3.1.01.02.002","Aportes a la seguridad social en salud Son los pagos por concepto de contribución social que hacen los empleadores a las Entidades Promotoras en Salud (EPS) para el cubrimiento de riesgos de salud de sus empleados. Este pago se realiza en virtud de la Ley 100 de 1993, la cual creó el Sistema de Seguridad Social en Salud y estableció como deberes del empleador realizar cumplidamente los aportes correspondientes.",0,15]
[null,null,"D3624001","Correas de caucho para transmisión",1,{"$f":"ROW()","v":1773},8,null,null,"2.3.1.01.02.003","Aportes de cesantías Es la contribución por cesantías, que el empleador está obligado a pagar en razón de un mes de sueldo o jornal por cada año de servicio de su empleado, proporcionalmente fraccionado. Este aporte tiene como fin cubrir o prever las necesidades que se originan al trabajador al momento de quedar cesante. (Departamento Administrativo de la Función Pública, 2012).Los aportes a los fondos administradores de cesantías entraron en vigor para entidades territoriales con la Ley 344 de 1996. Así mismo, la Ley 432 de 1998 permitió que el personal del nivel territorial se afiliara al Fondo Nacional del Ahorro.",0,15]
[null,null,"D2929002","Correas de transmisión de cuero",1,{"$f":"ROW()","v":1774},8,null,null,"2.3.1.01.02.004","Aportes a cajas de compensación familiar Son los pagos por concepto de la contribución social que hacen los empleadores a las Cajas de Compensación familiar para el cubrimiento del subsidio familiar y de vivienda.",0,15]
[null,null,"D2799803","Correas transportadoras o de transmisión tejidas de algodón",1,{"$f":"ROW()","v":1775},8,null,null,"2.3.1.01.02.005","Aportes generales al sistema de riesgos laborales Son los pagos por concepto de contribución social que hacen los empleadores a una Administradora de Riesgos Laborales (ARL), según elección, liquidación y las tablas de riesgo establecidas legalmente; para el cubrimiento de las prestaciones económicas y asistenciales derivadas de un accidente de trabajo o una enfermedad profesional (Ley 100 de 1993; Decreto 1295 de 1994).El monto de las cotizaciones no podrá ser inferior al 0.348%, ni superior al 8.7%, de la base de cotización de los trabajadores a cargo del respectivo empleador (Decreto 1295 de 1994, art.18). Este pago se realiza en virtud de la Ley 100 de 1993, la cual creó el sistema General de Riesgos laborales, y el Decreto 1295 de 1994, el cual establece: […] c) Todos los empleadores deben afiliarse al Sistema General de Riesgos Profesionales. […] d) La afiliación de los trabajadores dependientes es obligatoria para todos los empleadores. […]El empleador que no afilie a sus trabajadores al Sistema General de Riesgos Profesionales, además de las sanciones legales, será responsable de las prestaciones que se otorgan en este decreto (Decreto 1295 de 1994, art. 4).",0,15]
[null,null,"D2921105","Correas, bozales, arneses y similares para mascotas",1,{"$f":"ROW()","v":1776},8,null,null,"2.3.1.01.02.006","Aportes al ICBF Son los pagos por concepto de contribución parafiscal que hacen los empleadores al Instituto Colombiano de Bienestar Familiar (ICBF). Esta contribución está destinada a atender la creación y sostenimiento de centros de atención integral al preescolar, para menores de 7 años hijos del personal con quien la entidad tiene una relación laboral (Ley 27 de 1974; modificado por Ley 89 de 1998, art. 1)",0,15]
[null,null,"D2921201","Correas, bozales, arneses y similares para mascotas elaborados en cualquier material excepto cuero",1,{"$f":"ROW()","v":1777},8,null,null,"2.3.1.01.02.007","Aportes al SENA Es la contribución parafiscal a pagar por la Nación (por intermedio de los Ministerios, Departamentos Administrativos y Superintendencias), los establecimientos públicos, las empresas industriales y comerciales y las empresas de economía mixta de las órdenes nacional, departamental, Intendencias, distrital y municipal, y los empleados que ocupen uno o más trabajadores permanentes al SENA. Los aportes para la Nación son equivalentes al 0,5% de la nómina mensual de salarios y están destinados a programas específicos de formación profesional acelerada, durante la prestación del servicio militar obligatorio. Los aportes de los demás contribuyentes son equivalentes al 2% de las nóminas respectivas (Ley 21 de 1982, arts. 7 a 12). De acuerdo con la Ley 223 de 1995, las universidades públicas no están obligadas a realizar aportes al SENA (Ley 223 de 1995, art. 181).",0,15]
[null,null,"D4817101","Corsés ortopédicos",1,{"$f":"ROW()","v":1778},8,null,null,"2.3.1.01.02.008","Aportes a la ESAP Contribución parafiscal a pagar por la Nación, los departamentos, intendencias, comisarías, el Distrito Especial de Bogotá y los municipios empleadores a la ESAP. La Ley establece el porcentaje a pagar, el cual se calcula sobre los pagos por concepto de salarios (Ley 21 de 1982, art. 8).",0,15]
[null,null,"D4412101","Cortadoras de césped-máquina (con tractor)",1,{"$f":"ROW()","v":1779},8,null,null,"2.3.1.01.02.009","Aportes a escuelas industriales e institutos técnicos Son los pagos por concepto de contribución parafiscal que hacen los empleadores a favor de las escuelas industriales e institutos técnicos. Este aporte es equivalente al 0,5% de la nómina mensual de salarios de los contribuyentes (Ley 21 de 1982, art. 11)",0,15]
[null,null,"D4412103","Cortadoras manuales de césped con motor",1,{"$f":"ROW()","v":1780},8,null,null,"2.3.1.01.02.010","Aporte subsidio de vivienda fuerzas militares y policía Es el aporte a pagar por los empleados públicos y, según lo contratado, los trabajadores oficiales de determinados niveles o condiciones salariales en la cuantía y condiciones señaladas en el Decreto 353 de 1994, la Ley 973 de 2005 y la Ley 1305 de 2009. Estos recursos son administrados por la Caja Promotora de Vivienda Militar y de Policía. De acuerdo con el artículo 19 de la Ley 973 de 2005, el pago a la Caja Promotora de vivienda y de Policía debe transferirse en la misma fecha en la que se realizan las consignaciones de los aportes al 180 sistema general de pensiones y de seguridad social en salud.Adicionalmente, el artículo 20 de la ley en mención, dispone que: En todas las entidades empleadoras de los afiliados a la Caja Promotora de Vivienda Militar y de Policía, será obligatorio incluir en sus anteproyectos de presupuestos las partidas necesarias que serán transferidas a la Caja Promotora de Vivienda Militar y de Policía, por concepto de aportes de cesantías de los afiliados a dicha entidad para atender las cesantías de la respectiva vigencia (Ley 973 de 2005).",0,15]
[null,null,"D4291502","Cortaúñas, pinzas y similares",1,{"$f":"ROW()","v":1781},8,null,null,"2.3.1.01.03.001.01","Vacaciones Es el pago por el descanso remunerado a que tiene derecho el empleado después de un año de labor en la entidad. Esta retribución se reconoce a los empleados por la totalidad de días de vacaciones y corresponde a quince (15) días de trabajo, y será pagado al menos cinco (5) días con antelación a la fecha señalada para iniciar el goce del descanso remunerado (Decreto 1045 de 1978, arts. 18 y 48).",0,18]
[null,null,"D2960001","Cortes (capelladas) de cuero para calzado",1,{"$f":"ROW()","v":1782},8,null,null,"2.3.1.01.03.001.02","Indemnización por vacaciones Corresponde a la compensación en dinero a la que tiene derecho el empleado por vacaciones causadas, pero no disfrutadas. En principio, la compensación en dinero de las vacaciones está prohibida, en tanto estas constituyen un derecho del que gozan todos los trabajadores como quiera que el reposo es una condición mínima que ofrece la posibilidad de que el empleado renueve la fuerza y la dedicación para el desarrollo de sus actividades (Corte Constitucional, Sentencia C-598/1997).Por ello, el reconocimiento de la indemnización por vacaciones se limita a los siguientes casos: •Cuando el jefe del respectivo organismo así lo estime necesario para evitar perjuicios en el servicio público, evento en el cual sólo puede autorizar la compensación en dinero de las vacaciones correspondientes a un año. •Cuando el empleado público o trabajador oficial quede retirado definitivamente del servicio sin haber disfrutado de las vacaciones causadas hasta entonces (Decreto 1045 de 1978, art. 20).",0,18]
[null,null,"D2960006","Cortes de lona para calzado",1,{"$f":"ROW()","v":1783},8,null,null,"2.3.1.01.03.001.03","Bonificación especial de recreación Es la retribución que se reconoce a los empleados por cada periodo de vacaciones en el momento de iniciar el disfrute del respectivo periodo vacacional. La cuantía de la bonificación por recreación equivale a dos días de la asignación básica mensual que le corresponda al empleado.Esta bonificación no constituirá factor de salario para ningún efecto legal y se pagará por lo menos con cinco (5) días hábiles de antelación a la fecha de inicio en el evento que se disfrute del descanso remunerado (Decreto 229 de 2016, art. 16).",0,18]
[null,null,"D0313201","Cortezas de cadillo o balso",1,{"$f":"ROW()","v":1784},8,null,null,"2.3.1.01.03.001.04","Subsidio Familiar Es la prestación social pagadera en dinero, especie y servicios a los empleados públicos y trabajadores oficiales públicos de medianos y menores ingresos en proporción al número de personas a cargo.",0,18]
[null,null,"D0193001","Cortezas medicinales",1,{"$f":"ROW()","v":1785},8,null,null,"2.3.1.01.03.002","Bonificación de dirección Es la retribución económica reconocida a determinados funcionarios del Estado, quienes desempeñan labores relacionadas con la dirección.",0,15]
[null,null,"D3525031","Corticosterona",1,{"$f":"ROW()","v":1786},8,null,null,"2.3.1.01.03.003","Bonificación de dirección para gobernadores y alcaldes Es la retribución económica reconocida a gobernadores y alcaldes creada por el decreto 4353 de 2004 (modificado por el Decreto 1390 de 2008), pagadera en tres pagos contados iguales durante el año, en los meses de abril, agosto y diciembre del respectivo año.",0,15]
[null,null,"D4212012","Cortinas enrollables metálicas",1,{"$f":"ROW()","v":1787},8,null,null,"2.3.1.01.03.004","Bonificación de gestión territorial para alcaldes Es una retribución pagadera anualmente a los alcaldes, en dos contados iguales durante el año, en los meses de junio y diciembre. Para los alcaldes de los municipios de categoría especia, primera, segunda y tercera esta bonificación equivale al 100% de la asignación básica más gastos de representación. Para los alcaldes de los municipios de categoría cuarta, quinta y sexta, esta bonificación equivale al 150% de la asignación básica más gastos de representación.",0,15]
[null,null,"D3694014","Cortinas plásticas",1,{"$f":"ROW()","v":1788},8,null,null,"2.3.1.01.03.005","Reconocimiento por permanencia en el servicio público - Bogotá D.C. Es la retribución a la que tienen derecho los funcionarios , por prestar sus servicios por periodos de 5 años consecutivos, sin interrupciones, y por haber desempeñado más funciones con corrección y competencia.",0,15]
[null,null,"D2713001","Cortinas y colgaduras",1,{"$f":"ROW()","v":1789},8,null,null,"2.3.1.01.03.006","Honorarios concejales Es el pago de los honorarios reconocidos a los concejales por su asistencia a las sesiones del Concejo Municipal.De acuerdo con el Consejo de Estado (Concepto N° 1760 del 10 de agosto de 2006), los honorarios recibidos por los concejales no tienen calidad jurídica de salario, razón por la cual no son considerados para la liquidación de los aportes parafiscales.",0,15]
[null,null,"D3525030","Cortisona",1,{"$f":"ROW()","v":1790},8,null,null,"2.3.1.01.03.007","Honorarios ediles Es el pago de los honorarios reconocidos a los ediles del distritos por su asistencia a las sesiones y comisiones permanentes.",0,15]
[null,null,"D0429103","Corvina, fresca o refrigerada",1,{"$f":"ROW()","v":1791},8,null,null,"2.3.1.01.03.008","Subsidio de transporte a personeros Es el pago del subsidio de transporte que se reconoce a los personeros municipales, en virtud del artículo 36 de la Ley 1551 de 2012. De acuerdo con el artículo en mención, en los municipios de categoría tercera, cuarta, quinta y sexta, los personeros tienen derecho a un subsidio de 6 salaríos mínimos mensuales legales por una única vez al inicio de su periodo.",0,15]
[null,null,"D4412901","Cosechadoras motorizadas",1,{"$f":"ROW()","v":1792},8,null,null,"2.3.1.01.03.009","Prima técnica no salarial Comprende la prima técnica por evaluación del desempeño y la prima técnica automática.La prima técnica por evaluación de desempeño se otorga a funcionarios directivos, jefes de oficina asesora o asesores que obtienen un porcentaje correspondiente al 90%, como mínimo, del total de la última evaluación del desempeño, correspondiente a un periodo no inferior a 3 meses en el ejercicio del cargo en propiedad (Decreto 1164 de 2012). No puede ser superior al 50% de la asignación básica mensual del empleado al que se le asigna la prima.Por su parte, la prima técnica automática es otorgada a altos funcionarios, en virtud de las calidades excepcionales del ejercicio de sus funciones. Equivale al 50% del sueldo y los gastos de representación de los empleados.De acuerdo con el artículo 7 del Decreto 1661 de 1991, no constituyen factor salarial: la prima técnica por evaluación de desempeño y la prima técnica automática.",0,15]
[null,null,"D4412903","Cosechadoras no motorizadas",1,{"$f":"ROW()","v":1793},8,null,null,"2.3.1.01.03.010","Bonificación especial por servicios de seguridad a ex presidentes Corresponde al pago que se les hace a los funcionarios de las Fuerzas Militares, de la Policía Nacional y el Departamento Administrativo de Seguridad, asignados de forma permanente en la prestación de servicios para garantizar la seguridad de los ex presidentes de la República y sus cónyuges sobrevivientes, equivalente al 30% de la asignación básica mensual que reciben.El pago de esta bonificación se hará con cargo al presupuesto de la entidad a la cual se encuentre vinculado el funcionario (art. 4, Decreto 1700 de 2010).",0,15]
[null,null,"D4412201","Cosechadoras-trilladoras combinadas (motorizadas)",1,{"$f":"ROW()","v":1794},8,null,null,"2.3.1.01.03.011","Bonificación especial por servicios de comisión en Presidencia Corresponde al pago de una asignación mensual adicional, equivalente al 60% del suelo básico mensual, que se reconoce al personal del Ministerio de Defensa, de las Fuerzas Militares, de la Policía Nacional y de la Unidad Nacional de Protección (UNP), que preste sus servicios en comisión en el Departamento Administrativo de la Presidencia de la República, bien sea en la Casa Militar o en la Secretaría para la Seguridad del Presidente y de la familia presidencial, aun por fuera de la sede habitual de residencia de la familia presidencial. En iguales condiciones, tendrán derecho a esta bonificación, los soldados que presten el servicio en el Palacio Presidencial-Casa de Nariño.Para tener derecho al reconocimiento y pago de la bonificación, el personal debe haber prestado el servicio total o parcialmente en jornadas de trabajos extras diurnas o nocturnas y previa certificación del Secretario para la Seguridad del Presidente, sobre la prestación del servicio o del Jefe de la Casa Militar de Palacio, o el Jefe de Guarnición, en cada caso (art. 1, Decreto 1794 de 2012).",0,15]
[null,null,"D3891115","Crayones",1,{"$f":"ROW()","v":1795},8,null,null,"2.3.1.01.03.012","Prima de riesgo Reconocimiento que hace la ley a los funcionarios que prestan servicios de alto riesgo, en los siguientes términos:- Para los conductores de los Ministros y Directores de Departamento Administrativos la prima de riesgo será equivalente al veinte por ciento (20%) de la asignación básica mensual (Decreto 229 de 2016, art. 8)- Para los conductores del Ministro de Defensa Nacional, el Comandante General de las Fuerzas Militares, los Comandantes de Fuerza y del Director General de la Policía Nacional la prima de riesgo será del 20% de la asignación básica mensual (Decreto 214 de 2016, art. 33).- Para el personal de los organismos de seguridad del Estado en comisión en los establecimientos de reclusión del Instituto Nacional Penitenciario y Carcelario -INPEC la prima de riesgo corresponderá al 30% de la asignación básica mensual (Decreto 229 de 2016, art. 34).- Para el personal de la Imprenta Distrital, guardianes de la cárcel distrital, personal de vigilancia de la Secretaría de Tránsito y Transportes, radio operadores de la Administración Central, Técnicos en Salud Ocupacional, operadores de equipos, auxiliares de ingeniería y técnicos de la división de ingeniería de la Secretaría de Tránsito y Transportes. Empleados de publicaciones de la Secretaría de Educación, operarios de la Fábrica de Pupitres San Blas y Fábrica de Tiza de la Secretaría de Educación con más de cinco (5) años de servicio la prima de riesgo se paga de manera mensual y corresponde a un 5% por ciento de la asignación básica mensual más de un 1% por cada año adicional a los primeros cinco (5) años de servicio, sin que exceda el veinticinco (25%) por ciento.En todos los casos, esta prima no constituye factor salarial para ningún efecto legal.",0,15]
[null,null,"D2212001","Crema de leche",1,{"$f":"ROW()","v":1796},{"$f":"LEN(C1796)","v":8},null,null,"2.3.1.01.03.013","Prima de gestión Reconocimiento que hace la ley a algunos servidores públicos, en los siguientes términos:- A los negociadores internacionales, correspondiente al 50% de la asignación básica y los gastos de representación (Decreto 229 de 2016, art. 3). - Al Director de la Unidad de Información y Análisis Financiero, correspondiente al 50% de la asignación básica mensual (Decreto 229 de 2016, art. 3).-A los empleados públicos del Congreso, conforme a lo dispuesto en el artículo 5 del Decreto 230 de 2016.En todos los casos, esta prima no constituye factor salarial para ningún efecto legal.",0,{"$f":"LEN(J1796)","v":15}]
[null,null,"D0221102","Crema de leche cruda (nata)",1,{"$f":"ROW()","v":1797},8,null,null,"2.3.1.01.03.014","Prima de dirección Es el reconocimiento económico que sustituye la prima técnica para los ministros de despacho y directores de departamentos administrativos; a excepción de la prima técnica por estudios de formación avanzada y experiencia altamente calificada (Decreto 1101 de 2015).De acuerdo con el artículo 2 del decreto 1028 de 2015, los oficiales de las Fuerzas Militares y de la Policía Nacional en los grados de Almirante y General tendrán derecho a la Prima de Dirección, en las mismas condiciones que los ministros de despacho.Tienen derecho a la prima técnica los demás funcionarios que legalmente se establezcan como beneficiarios.",0,15]
[null,null,"D3532307","Crema de tocador",1,{"$f":"ROW()","v":1798},8,null,null,"2.3.1.01.03.015","Prima geográfica Corresponde a una asignación sin carácter salarial, otorgada a los funcionarios cuyos cargos estén ubicados en zonas de difícil acceso, clima malsano o alto riesgo por violencia, pagadera mientras subsistan tales factores. Por ejemplo: el Decreto 2372 de 1994 otorga la prima geográfica a los funcionarios de la Registraduría Nacional del Estado Civil que presten sus servicios en dichas zonas.",0,15]
[null,null,"D3892308","Cremalleras de material plástico",1,{"$f":"ROW()","v":1799},8,null,null,"2.3.1.01.03.016","Prima de costo de vida Reconocimiento que hace la ley a los servidores públicos del Ministerio de Relaciones Exteriores y del Ministerio de Comercio, Industria y Turismo que se encuentren prestando servicios en el exterior con el fin de equiparar el ingreso real en pesos de dichos funcionarios a las condiciones económicas y cambiarias de los países de destino (art. 5, Decreto 3357 de 2009 y art. 5, Decreto 4971 de 2009).Este pago no se traduce en un incremento neto del patrimonio del funcionario, por lo tanto, no tiene carácter remuneratorio.",0,15]
[null,null,"D3892307","Cremalleras metálicas",1,{"$f":"ROW()","v":1800},8,null,null,"2.3.1.01.03.017","Prima de localización y vivienda Reconocimiento que hace la ley a los miembros del Congreso. Esta prima se paga de forma mensual, no se considera factor salarial, y es equivalente a setecientos mil pesos ($ 700.000.00) (art. 2, Decreto 801 de 1992).",0,15]
[null,null,"D3532317","Cremas bronceadoras y protectoras para la piel",1,{"$f":"ROW()","v":1801},8,null,null,"2.3.1.01.03.018","Prima de capacitación Reconocimiento que hace la ley a Magistrados de Tribunal, Fiscales o Jueces Superiores, de Menores o de Circuito en razón de estudios de post-grado, obra de investigación científica publicada o ejercicio de la docencia universitaria, todo en materias relacionadas con su cargo y especialidad (Decreto 903 e 1969, art. 3).Para determinar la cuantía individual de la prima, que puede ascender hasta el diez por ciento de la respectiva asignación mensual, el Consejo Superior de la Administración de Justicia analizará en singular cada factor invocado y demostrado, teniendo en cuenta la naturaleza, pertinencia, duración e intensidad, abundancia y pertinencia de la obra científica; y la antigüedad, perseverancia, rendimiento y pertinencia del ejercicio del magisterio (art. 4, Decreto 760 de 1970).Así mismo, es el pago por concepto de prima de capacitación que tiene derecho los miembros del Cuerpo de Custodia y Vigilancia Carcelaria. Reconocida en la Ley 32 de 1986 y en las normas que el Gobierno Nacional expida en desarrollo de la Ley 4ª de 1992.",0,15]
[null,null,"D3454003","Creosotas y otros derivados del alquitrán",1,{"$f":"ROW()","v":1802},8,null,null,"2.3.1.01.03.019","Prima de clima o prima de calor Es el reconocimiento económico que se realiza a los empleados públicos que desempeñan sus funciones en condiciones climáticas desfavorables para su salud, de acuerdo con las condiciones legales.",0,15]
[null,null,"D3911013","Crines",1,{"$f":"ROW()","v":1803},8,null,null,"2.3.1.01.03.020","Estímulos a los empleados del Estado Es el pago de incentivos pecuniarios a los empleados públicos, que tienen por objetivo elevar los niveles de eficiencia, satisfacción, desarrollo y bienestar en el desempeño sus funciones. Lo anterior, en el marco de los programas de incentivos que contempla el sistema de estímulos para los empleados del Estado, regulado por el Decreto 1567 de 1998.No incluye:•Incentivos no pecuniarios establecidos en los planes institucionales según lo dispuesto en el Decreto 1567 de 1998.",0,15]
[null,null,"D3734002","Crisoles refractarios",1,{"$f":"ROW()","v":1804},8,null,null,"2.3.1.01.03.021","Remuneración electoral De acuerdo con el Decreto 1434 de 1982, es el pago a los funcionarios de planta (o ex funcionarios que hubiesen laborado en el periodo pre-electoral) de la Registraduría Nacional del Estado Civil, correspondiente al 150% de su asignación básica mensual.Esta prima se paga una sola vez en cada año electoral, en el mes siguiente la celebración de la última elección del respectivo año (Decreto 1103 de 2015). Esta prima no aplica al Registrador Nacional.",0,15]
[null,null,"D8873104","Cromado, niquelado y electrobrillado de metales comunes",1,{"$f":"ROW()","v":1805},8,null,null,"2.3.1.01.03.022","Prima de instalación Reconocimiento que hace la ley a los Oficiales, Suboficiales, Personal del Nivel ejecutivo de la Policía Nacional y los empleados públicos del Ministerio de Defensa, que se encuentren casados, en unión marital permanente o con hijos a su cargo; cuando el traslado o la comisión permanente sea al interior del país (Decreto 1028 de 2015). El pago de la prima de instalación se realiza de conformidad con las disposiciones legales correspondientes.De acuerdo con el artículo 76 de la Ley 32 de 1986, son beneficiarios de la prima de instalación, los miembros del Cuerpo de Custodia y Vigilancia Penitenciaria Nacional que sean trasladados de una localidad a otra, siempre y cuando la solicitud del traslado no la haya realizado el empleado.En cumplimiento a lo establecido en artículo 3° del Decreto Ley 4064 de 2011, Migración Colombia reconoce a los funcionarios incorporados del DAS, la prima de instalación establecida en el artículo 5 del Decreto 1933 de 1989.",0,15]
[null,null,"D3254001","Cromos y estampas",1,{"$f":"ROW()","v":1806},8,null,null,"2.3.1.01.03.023","Prima de coordinación Es el pago que se realiza a los empleados públicos y trabajadores oficiales que “tengan planta global y que tengan a su cargo la coordinación o supervisión de grupos internos de trabajo, creados mediante resolución del jefe del organismo respectivo” (Decreto 1101 de 2015).El pago de esta prima es reconocido a los empleados de los Ministerios, Departamentos Administrativos, Superintendencias, Establecimientos Públicos, Corporaciones Autónomas Regionales y de Desarrollo Sostenible, las Empresas Sociales del Estado y las Unidades Administrativas Especiales (Decreto 1101, 2015). Esta prima debe ser reconocida a los funcionarios que la ley determine como beneficiarios.Para el caso del Distrito de Bogotá, este reconocimiento se otorga de manera mensual y equivale a un veinte por ciento (20%) adicional al valor de la asignación básica mensual del empleo del cual sean titulares, durante el tiempo en que ejerzan tales funciones.",0,15]
[null,null,"D2125901","Crustáceos congelados",1,{"$f":"ROW()","v":1807},8,null,null,"2.3.1.01.03.024","Prima de alta gestión De acuerdo con el Decreto 1094 de 2015, la prima de alta gestión es el pago equivalente a “la diferencia entre los ingresos laborales totales anuales recibidos por el Contralor General de la República y los Ingresos laborales totales anuales del Auditor General, sin que en ningún caso los supere” (Decreto 1094 de 2015).Por otro lado, el Decreto 1093 de 2015, reconoce el pago de una prima de alta gestión equivalente al 20% de la asignación básica mensual de los siguientes funcionarios de la Contraloría General de la República: Contralor Delegado, Director de Oficina, Secretario Privado, Director y Gerente.",0,15]
[null,null,"D0439101","Crustáceos de mar",1,{"$f":"ROW()","v":1808},8,null,null,"2.3.1.01.03.025","Prima de alto mando Pago que se realiza a los Oficiales de las Fuerzas Militares, los Generales y los Almirantes de la Policía Nacional de acuerdo con lo dispuesto por el Decreto 1028 de 2015; el cual establece:\" los Oficiales de las Fuerzas Militares y de la Policía Nacional en los grados de General y Almirante, percibirán por todo concepto una asignación mensual igual a la que devenguen los Ministros del Despacho como asignación básica y gastos de representación, en todo tiempo, distribuida así: el cuarenta y cinco por ciento (45%) como sueldo básico y el cincuenta y cinco por ciento (55%) como prima de alto mando.",0,15]
[null,null,"D3270110","Cuadernos escolares plastificados con espiral",1,{"$f":"ROW()","v":1809},8,null,null,"2.3.1.01.03.026","Prima de instalación en el exterior Prima que se reconoce a los Oficiales y Suboficiales de las Fuerzas Militares en servicio activo y a los empleados públicos del Ministerio de Defensa, que sean trasladados o destinados en comisión permanente al exterior del país y tengan por ello que cambiar de guarnición o lugar de residencia.",0,15]
[null,null,"D3270109","Cuadernos escolares plastificados o no (sin espiral)",1,{"$f":"ROW()","v":1810},8,null,null,"2.3.1.01.03.027","Prima de alojamiento en el exterior Prima que se otorga a los Oficiales y Suboficiales de la Policía Nacional en servicio activo, casados o viudos con hijos, que desempeñen comisiones permanentes en el exterior, tendrán derecho mientras cumplan la comisión, siempre y cuando lleven a su familia a residir a la nueva sede, a gozar de una prima mensual de alojamiento hasta del siete por ciento (7%) del sueldo básico correspondiente a su grado, liquidada en dólares a razón de un dólar por cada peso.Los Oficiales y Suboficiales solteros y los casados o viudos que no lleven a su familia a la respectiva sede cuando desempeñen comisiones permanentes en el exterior, tendrán derecho a una prima de alojamiento hasta del cinco por ciento (5%) del sueldo básico correspondiente a su grado, que se pagará en dólares a razón de un dólar por cada peso (Decreto 1212 de 1990).",0,15]
[null,null,"D3896101","Cuadros enmarcados en madera",1,{"$f":"ROW()","v":1811},8,null,null,"2.3.1.01.03.028","Vivienda para embajadores Gasto generado en la situación en la que un funcionario escalafonado en la Categoría de Embajador fuere designado Cónsul General o en Comisión para Situaciones Especiales, en un cargo correspondiente a una categoría inmediatamente inferior en el escalafón de la carrera. A dicho funcionario, se le reconoce como beneficio adicional para vivienda en el exterior, una suma de dinero equivalente al treinta por ciento (30%) de la asignación básica mensual del cargo de destino en el exterior (Decreto 274 de 2000).",0,15]
[null,null,"D4621301","Cuadros, paneles, consolas, armarios y demás soportes equipados para el corte, seccionamiento, protección, derivación, empalme o conexión de circuitos eléctricos, para control y distribución de electricidad de voltajes no superiores a 1000 V",1,{"$f":"ROW()","v":1812},8,null,null,"2.3.1.01.03.029","Bonificación por seguro de vida colectivo Gastos por bonificación individual mensual con destino al Fondo de Solidaridad del Ministerio de Defensa Nacional-Seguro de Vida Colectivo. Son beneficiaros de esta bonificación:- Oficiales y Suboficiales de las Fuerzas Militares y de la Policía Nacional- Personal del Nivel Ejecutivo de la Policía Nacional- Agentes de los Cuerpos Profesionales de la Policía Nacional, personal civil del Ministerio de Defensa, de las Fuerzas Militares y la Policía Nacional- Los Alférez, Guardiamarinas, Pilotines, los cadetes, los alumnos de las Escuelas de Formación de Suboficiales- Nivel Ejecutivo de la Policía Nacional, los Soldados, Auxiliares de Policía Bachilleres, Grumetes de las Fuerzas Militares- Personal del Cuerpo Auxiliar de la Policía Nacional.",0,15]
[null,null,"D2225102","Cuajada",1,{"$f":"ROW()","v":1813},8,null,null,"2.3.1.01.03.030","Bonificación licenciamiento Es el pago obligatorio al que tiene derecho todo colombiano que se encuentre prestando el servicio militar como concepto de una última bonificación que será equivalente a un salario mínimo mensual vigente (Ley 48, 1993).",0,15]
[null,null,"D3417013","Cuajo",1,{"$f":"ROW()","v":1814},8,null,null,"2.3.1.01.03.031","Bonificación dragoneante Recursos destinados al reconocimiento (bonificación) de los agentes de policía que sean reconocidos como dragoneantes. Esta bonificación es reconocida mientras los agentes ostenten dicha distinción (Decreto 1028, 2015).",0,15]
[null,null,"D4391302","Cuartos fríos",1,{"$f":"ROW()","v":1815},8,null,null,"2.3.1.01.03.032","Bonificación agente cuerpo profesional especial Pago al que tienen derecho los Agentes del Cuerpo Profesional Especial por concepto de bonificación del treinta por ciento (30%) de su sueldo básico mensual, la cual se incrementará en un diez por ciento (10%) por cada año de servicio en este cuerpo, sin sobrepasar el ciento por ciento (100%) de dicho sueldo básico (Ley 21 de 1979).",0,15]
[null,null,"D1639901","Cuarzo o sílice",1,{"$f":"ROW()","v":1816},8,null,null,"2.3.1.01.03.033","Bonificación buena conducta Es el pago a la bonificación contemplada en el art. 43 del Decreto 1213 de 1990, el cual establece: \"los Agentes de la Policía Nacional en servicio activo que completen períodos quinquenales continuos de servicio y observen buena conducta durante los mismos, tendrán derecho a una recompensa por cada cinco (5) años de servicio, equivalente a la totalidad de los haberes en actividad, devengados en el último mes en que cumplan el quinquenio\".Incluye también la jineta de buena conducta que se reconoce legalmente a los suboficiales que durante un período de tres (3) años consecutivos no registran en su folio de vida ninguna sanción disciplinaria. En este caso, según lo dispuesto en el artículo 47 de la Ley 836 de 2003, por cada período de tres (3) años en las mismas condiciones se otorga una nueva jineta, y a partir de la tercera jineta se disminuye el período a dos (2) años.El período de tres (3) o dos (2) años se cuenta de acuerdo con el lapso de evaluación establecido en el Reglamento de Evaluación y Clasificación para el personal de las Fuerzas Militares.",0,15]
[null,null,"D1639102","Cuarzo o sílice triturado o molido",1,{"$f":"ROW()","v":1817},8,null,null,"2.3.1.01.03.034","Partida alimentación Recursos destinados a financiar la partida diaria de alimentación para el personal de soldados e infantes de marina de las Fuerzas Militares y personal del Cuerpo Auxiliar de la Policía Nacional.",0,15]
[null,null,"D4293115","Cubas de acero inoxidable",1,{"$f":"ROW()","v":1818},8,null,null,"2.3.1.01.03.035","Partida alimentación orden público y cobertura de fronteras Gastos por concepto de alimentación de los oficiales, suboficiales y agentes de las Fuerzas Militares y de la Policía Nacional que presten sus servicios, en áreas donde se desarrollen operaciones especiales para restablecer el orden público y de cobertura de fronteras (Decretos 1211 y 1214 de 1990).",0,15]
[null,null,"D4221003","Cubas de lámina metálica",1,{"$f":"ROW()","v":1819},8,null,null,"2.3.1.01.03.036","Bonificación de actividad judicial Reconocimiento económico al buen desempeño de los jueces, fiscales y procuradores judiciales, creado en virtud del Decreto 3131 de 2005. Esta bonificación constituye factor para efectos de determinar el ingreso base de cotización del Sistema General de Pensiones, y de acuerdo con laLey 797 de 2003, para la cotización al Sistema General de Seguridad Social en Salud (Decreto 3900 de 2008, art. 1) mas no para determinar elementos salariales ni prestaciones sociales.",0,15]
[null,null,"D3170006","Cubas de madera",1,{"$f":"ROW()","v":1820},8,null,null,"2.3.1.01.03.037","Bonificación especial personal secuestrado Recursos destinados a financiar la bonificación especial de los Oficiales y Suboficiales de las Fuerzas Militares que se hayan encontrado en cautiverio, de acuerdo con la Ley 1279 de 2009 y sus decretos reglamentarios.",0,15]
[null,null,"D4393201","Cubas y demás recipientes para cocimiento y enfriamiento (excepto para alimentos y bebidas)",1,{"$f":"ROW()","v":1821},8,null,null,"2.3.1.01.03.038","Prima de traslado Corresponde a los recursos destinados al pago de un auxilio de traslado equivalente a la mitad del sueldo básico (para el caso de la Registraduría Nacional del Estado Civil), por concepto de los gastos de traslado, cuando un funcionario es nombrado con carácter permanente para ocupar un cargo en otro municipio.",0,15]
[null,null,"D4483107","Cubiertas de estufas eléctricas para empotrar",1,{"$f":"ROW()","v":1822},8,null,null,"2.3.1.01.03.039","Servicios prestados por vacaciones personal titular rama jurisdiccional y Fiscalía Recursos destinados al pago de los servicios prestados por quienes suplieron temporalmente las funciones del personal titular de la Rama Jurisdiccional y la Fiscalía General de la Nación.",0,15]
[null,null,"D3270107","Cubiertas para libros",1,{"$f":"ROW()","v":1823},8,null,null,"2.3.1.01.03.040","Alimentación alumnos Gastos por concepto de alimentación de los alumnos, particularmente, del Departamento Administrativo de Seguridad, otorgado a estos durante la realización de los cursos de detective.",0,15]
[null,null,"D3694007","Cubiertos de material plástico",1,{"$f":"ROW()","v":1824},8,null,null,"2.3.1.01.03.041","Bonificación alumnos Es el reconocimiento económico correspondiente al 20% de la asignación básica mensual del cargo de dragoneante 4114 grado 11 del INPEC, como bonificación mensual para los estudiantes de la Escuela Penitenciaria Nacional Enrique Low Murtra.Asimismo, son los recursos destinados a los Alféreces, Guardiamarinas y Pilotines de las Escuelas de Formación de Oficiales y los Alumnos de las Escuelas de Formación de Suboficiales, los cuales tiene derecho a una bonificación mensual de acuerdo con las disposiciones legales vigentes.",0,15]
[null,null,"D0159905","Cubios",1,{"$f":"ROW()","v":1825},8,null,null,"2.3.1.01.03.042","Subsidio familiar Es el pago de la prestación social reconocida a diferentes rangos de las Fuerzas Militares y Policías, y al cuerpo de custodia y vigilancia penitenciaria y carcelaria nacional, por concepto de subsidio familiar de acuerdo con las condiciones dispuestas legalmente.Por ejemplo, el subsidio familiar se le reconoce al personal del nivel ejecutivo de la Policía Nacional en servicio activo; en proporción del número de personas a cargo y su remuneración mensual (Decreto 1091 de 1995). Este subsidio familiar está a cargo del Instituto para la Seguridad Social y Bienestar de la Policía Nacional.En el caso de los soldados, el artículo 11 del Decreto 1794 de 2000, les reconoce como subsidio familiar un pago equivalente al 4% de su salario básico mensual más la prima de antigüedad.Por último, para el cuerpo de custodia y vigilancia penitenciaria y carcelaria nacional, constituye el derecho a un pago del siete por ciento (7%) adicional al subsidio familiar a que tienen derecho los funcionarios de acuerdo con las normas vigentes. Dicho reconocimiento no constituye factor salarial y se paga por unidad familiar (Decreto 446 de 1994, art. 15).",0,15]
[null,null,"D2718001","Cubrelechos",1,{"$f":"ROW()","v":1826},8,null,null,"2.3.1.01.03.043.01","Beneficios a los empleados a corto plazo",0,18]
[null,null,"D3824011","Cucharas de plata",1,{"$f":"ROW()","v":1827},8,null,null,"2.3.1.01.03.043.02","Beneficios a los empleados a largo plazo",0,18]
[null,null,"D4291602","Cucharas metálicas",1,{"$f":"ROW()","v":1828},8,null,null,"2.3.1.01.03.044","Incentivos laborales DIAN Incluye el pago de los incentivos al desempeño en fiscalización y cobranzas y los incentivos por desempeño grupal que se reconocen a los empleados de la Unidad Especial de Impuestos y Aduanas Nacionales - DIAN, en virtud de lo dispuesto por el Decreto 1268 de 1999 y el Decreto 4050 de 2005.",0,15]
[null,null,"D3191201","Cucharas y artículos análogos de madera",1,{"$f":"ROW()","v":1829},8,null,null,"2.3.1.01.03.045","Prima de seguridad Gastos por concepto de la prima liquidada para aquellos empleados del Instituto Nacional Penitenciario y Carcelario - INPEC que presten sus servicios en centros o pabellones de alta seguridad, equivalente hasta el cincuenta por ciento (50%) de la asignación o sueldo básico mensual, que no podrá exceder el monto fijado en la Ley. Esta prima no constituye factor salarial para ningún efecto legal (Decreto 1029 de 2013).",0,15]
[null,null,"D3699035","Cucharitas dosificadoras de material plástico para medicamentos y usos análogos",1,{"$f":"ROW()","v":1830},8,null,null,"2.3.1.01.03.046","Prima de vigilantes instructores Los miembros del Cuerpo de Custodia y Vigilancia del Instituto Nacional Penitenciario y Carcelario - INPEC, que acrediten título de idoneidad y ejerzan las funciones de instructores, tendrán derecho, previo concepto del Director General del INPEC a disfrutar de una prima del diez por ciento (10%) mensual sobre el sueldo básico, que no constituye factor salarial, mas cumplan simultáneamente las funciones de vigilancia y enseñanza (Decreto 446 de 1994).",0,15]
[null,null,"D4291603","Cucharitas metálicas",1,{"$f":"ROW()","v":1831},8,null,null,"2.3.1.01.03.047","Bonificación servicio militar Los bachilleres que prestan el servicio militar obligatorio en el Instituto Nacional Penitenciario y Carcelario - INPEC, tendrán derecho a una bonificación que será determinada por el Gobierno Nacional (Decreto 407 de 1994).",0,15]
[null,null,"D4291604","Cucharones metálicos sin esmaltar (excepto los de aluminio)",1,{"$f":"ROW()","v":1832},8,null,null,"2.3.1.01.03.048","Bonificación por trabajo y servicios internos Corresponde al gasto que realiza el Instituto Nacional Penitenciario y Carcelario –INPEC como contraprestación por los servicios realizados por los internos, en desarrollo de los programas de trabajo y actividades productivas establecidas y administradas de forma directa por la entidad, que son reconocidos como derecho de las personas procesadas que se encuentran en un centro reclusorio (Ley 65 de 1993 y Decreto 1758 de 2015).NE :De acuerdo con la Corte Constitucional en Sentencia T-1077/05: “esta aproximación al sistema de estímulos económicos (bonificaciones) por trabajo o servicios que se aplica en los Centros Penitenciarios permite sacar algunas conclusiones de interés para la resolución de los asuntos bajo examen. (i) La bonificación es concebida como un estímulo que no alcanza una cobertura general, para toda la población carcelaria, estando sometida a una reglamentación orientada a introducir criterios de racionalidad y equidad para su asignación; (ii) su ámbito de aplicación es la modalidad de trabajo por administración directa; (iii) corresponde a la Dirección General, determinar las actividades que convocan tal incentivo y asignar de manera global los cupos para cada Establecimiento Penitenciario; (iv) corresponde a los Directores de los Establecimientos, en coordinación con la Junta de evaluación de trabajo, estudio y enseñanza, reglamentar internamente la distribución de los cupos asignados, que tiene una cobertura muy limitada en relación con el número de internos que se dedica a cada una de las actividades que se incentivan; (v) para la asignación de las bonificaciones debe mediar la autorización de la Junta de evaluación de trabajo, estudio y enseñanza.”",0,15]
[null,null,"D4291608","Cucharones, espumaderas y similares de aluminio",1,{"$f":"ROW()","v":1833},8,null,null,"2.3.1.01.03.049","Seguro de muerte en actividad Los miembros del Cuerpo de Custodia y Vigilancia Penitenciaria y Carcelaria Nacional, gozan de un seguro por muerte equivalente a quince (15) mensualidades del último salario devengado.El valor de dicho seguro será equivalente a treinta (30) mensualidades del último salario devengado, en el evento de que la muerte sea como consecuencia de accidente de trabajo o enfermedad profesional y excluye la indemnización a que se refieren los artículos 16 y 23 del Decreto 1848 de 1969, a menos que el accidente o enfermedad profesional se hayan ocasionado por culpa imputable a la entidad empleadora, en cuyo caso habrá lugar a la indemnización total y ordinaria por perjuicio.Si prosperare esta indemnización se descontará de su cuantía el valor de las prestaciones e indemnizaciones en dinero pagadas en razón de los expresados infortunios de trabajo (Decreto 407 de 1994).",0,15]
[null,null,"D4291607","Cucharones, espumaderas y similares esmaltados",1,{"$f":"ROW()","v":1834},8,null,null,"2.3.1.01.03.050","Prima de orden público Reconocimiento económico que hace la ley a los Oficiales y Suboficiales de las Fuerzas Militares que prestan sus servicios en lugares donde se desarrollan operaciones militares para restablecer el orden público. Esta prima mensual es equivalente al veinticinco por ciento (25%) del sueldo básico y las zonas y condiciones para su pago las define el Ministerio de Defensa Nacional (Decreto 1211 de 1990, art. 98).Incluye también el reconocimiento económico que hace la ley a los empleados del Departamento Administrativo de Seguridad – DAS incorporados a la Unidad Nacional de Protección, que prestan sus servicios permanentemente en zonas del país afectadas por graves alteraciones del orden público (Decreto 1933 de 1989, art. 2 y Decreto 4067 de 2011, art.3).",0,15]
[null,null,"D0429202","Cuchas-coroncoros, fresca o refrigerada",1,{"$f":"ROW()","v":1835},8,null,null,"2.3.1.01.03.051","Bonificación para gastos personales del Batallón Guardia Presidencial y de los Batallones de Policía Militar Reconocimiento económico que hace la ley a los Soldados del Batallón Guardia Presidencial y de los Batallones de Policía Militar que hayan terminado el curso básico de esta especialidad. Dichos funcionarios tienen derecho a una bonificación mensual adicional para gastos personales equivalente a dieciocho mil ciento dos pesos ($18.102) m/cte, respectivamente (Decreto anual de salarios).",0,15]
[null,null,"D4291301","Cuchillos de mesa",1,{"$f":"ROW()","v":1836},8,null,null,"2.3.1.01.03.052","Bonos escolares y navideños Reconocimiento de las entidades a sus funcionarios de planta en cumplimiento de una negociación colectiva, a pagar un subsidio escolar a cada uno de los hijos de los trabajadores oficiales y cualquier grado de escolaridad. Incluye de igual forma el reconocimiento dque haga la entidad por bonos de navidad en el mes de diciembre, al funcionario o a los hijos menores de 18 años del mismo.",0,15]
[null,null,"D3824010","Cuchillos de plata",1,{"$f":"ROW()","v":1837},8,null,null,"2.3.1.01.03.053","Bonificación edecanes Bonificación adicional que reconoce la ley a los oficiales de las Fuerzas Militares y de la Policía Nacional destacados como edecanes al servicio del Presidente y del Vicepresidente de la República. (Decretos 83 y 837 de 1995, art. 1).",0,15]
[null,null,"D4291302","Cuchillos para cocina",1,{"$f":"ROW()","v":1838},8,null,null,"2.3.1.01.03.054","Prima de bucería Reconocimiento económico que hace la ley a los Oficiales y Suboficiales de la Armada Nacional que hayan obtenido patente que los acredite como buzos y que realicen dicha actividad por hora o fracción mayor de cuarenta y cinco (45) minutos en actos del servicio (Decreto 1211 de 1990, art. 88).",0,15]
[null,null,"D4291303","Cuchillos para uso industrial",1,{"$f":"ROW()","v":1839},8,null,null,"2.3.1.01.03.055","Prima comandos Reconocimiento económico que hace la ley a los Oficiales de las Fuerzas Militares a quienes se les otorga el título de Comando Especial Terrestre en el Ejército, Comando Anfibio o de Selva en la Armada y Comando Especial Aéreo en la Fuerza Aérea, y se desempeñan dentro de ellos. Esta prima es equivalente al veinte por ciento (20%) del sueldo básico mensual correspondiente a su grado, de acuerdo con reglamentación que expida el Gobierno (Decreto 1211 de 1990, art. 90).",0,15]
[null,null,"D2314004","Cuchuco de cebada",1,{"$f":"ROW()","v":1840},8,null,null,"2.3.1.01.03.056","Prima de Estado Mayor y academia superior Reconocimiento económico que hace la ley a los Oficiales de las Fuerzas Militares en servicio activo con título de Oficial de Estado Mayor. Esta prima corresponde al veinte por ciento (20%) del sueldo básico (Decreto 1211 de 1990, art. 92).",0,15]
[null,null,"D2314005","Cuchuco de maíz",1,{"$f":"ROW()","v":1841},8,null,null,"2.3.1.01.03.057","Prima submarinista Reconocimiento económico que hace la ley a los Oficiales y Suboficiales de la Armada Nacional que presten sus servicios a bordo de submarinos como integrantes de su tripulación. Esta prima es equivalente al diez por ciento (10%) del sueldo básico correspondiente al grado del funcionario y a un diez por ciento (10%) adicional mientras estén navegando (Decreto 1211 de 1990, art. 101).",0,15]
[null,null,"D2314008","Cuchuco de trigo",1,{"$f":"ROW()","v":1842},8,null,null,"2.3.1.01.03.058","Prima de salto Reconocimiento económico que hace la ley a los Oficiales y Suboficiales de las Fuerzas Militares que hayan sido instruidos como paracaidistas y que realicen saltos en actos de su servicio. Esta prima es equivalente a un quince por ciento (15%) del sueldo básico mensual correspondiente a su grado, porcentaje que aumenta en un uno por ciento (1%) por cada veinte (20) saltos efectuados, hasta completar ciento veinte (120). De ciento veinte (120) saltos en adelante, sólo se computa un medio por ciento (0.5%) por cada veinte (20) saltos adicionales, sin que el total de la prima de salto en paracaídas pueda exceder del sueldo básico mensual correspondiente al grado (Decreto 1211 de 1990, art. 99).",0,15]
[null,null,"D3836001","Cuerdas para instrumentos musicales",1,{"$f":"ROW()","v":1843},8,null,null,"2.3.1.01.03.059","Prima de vuelo Reconocimiento económico que hace la ley a los Oficiales y Suboficiales de la Aviación del Ejército, los Oficiales de la Aviación Naval y Suboficiales de Mantenimiento Aeronáutico en la Armada, los Oficiales de Vuelo y Suboficiales Técnicos de la Fuerza Aérea en desempeño de sus funciones como tripulantes de aeronaves militares y otra clase de aeronaves al servicio de las Fuerzas Militares, siempre que comprueben haber volado durante un mínimo de cuatro (4) horas mensuales. Esta prima es equivalente al veinte por ciento (20%) del sueldo básico mensual correspondiente al respectivo grado, porcentaje que aumenta en un uno por ciento (1%) por cada cien (100) horas de vuelo, hasta completar tres mil (3.000) horas. De tres mil (3.000) horas en adelante sólo se computa el medio por ciento (0.5%) por cada cien (100) horas adicionales, sin que el total de la prima de vuelo pueda exceder el sueldo básico del Oficial o Suboficial. Los Oficiales Generales de vuelo de la Fuerza Aérea pueden percibir esta prima sin necesidad de cumplir con el requisito de horas mínimas de vuelo. Así mismo, según lo dispuesto por ley, las horas voladas en aeronaves de turbo-reacción se computarán doble, siempre que éstas sean de combate o de entrenamiento de combate (Decreto 1211 de 1990, art. 103).",0,15]
[null,null,"D3911007","Cuernos",1,{"$f":"ROW()","v":1844},8,null,null,"2.3.1.01.03.060","Prima especialista Reconocimiento económico que hace la ley a los Suboficiales de las Fuerzas Militares en servicio activo que adquieran una especialidad técnica mediante un curso cuya duración mínima sea de mil seiscientas (1.600) horas de clase o cuarenta y ocho (48) semanas de instrucción. Esta prima es equivalente al diez por ciento (10%) del sueldo básico mensual correspondiente a su grado, siempre y cuando se desempeñen en la respectiva especialidad. Los Suboficiales en los grados de Sargento Mayor, Suboficial Jefe Técnico y Suboficial Técnico Jefe, por el solo hecho de obtener estos grados, tienen derecho a la prima de especialista (Decreto 1211 de 1990, art. 91).",0,15]
[null,null,"D2913002","Cuero curtido de caprinos",1,{"$f":"ROW()","v":1845},8,null,null,"2.3.1.01.03.061","Prima oficiales superiores Reconocimiento económico que hace la ley a los Oficiales de las Fuerzas Militares y de la Policía Nacional, en los grados de Teniente General y Almirante de Escuadra, de Mayor General y Vicealmirante, de Brigadier General y Contralmirante, y de Coronel y Capitán de Navío. Los oficiales con estos grados tienen derecho a primas mensuales equivalentes al cincuenta y cuatro por ciento (54%), al cincuenta y tres punto treinta y dos por ciento (53.32%), al cuarenta y siete punto ochenta por ciento (47.80%) y al treinta y seis punto ochenta y uno por ciento (36.81%), respectivamente, sobre lo que en todo tiempo devenguen los Ministros del Despacho como asignación básica y gastos de representación (Decreto anual de salarios).",0,15]
[null,null,"D2913001","Cuero curtido de oveja",1,{"$f":"ROW()","v":1846},8,null,null,"2.3.1.01.03.062","Prima cuerpo administrativo Reconocimiento económico que hace la ley a los Oficiales del Cuerpo Administrativo de las Fuerzas Militares que prestan los servicios profesionales de su especialidad por tiempo completo. Esta prima es equivalente al cuarenta por ciento (40%) del sueldo básico correspondiente a su grado (Decreto 1211 de 1990, art. 96).",0,15]
[null,null,"D2913003","Cuero curtido de porcino",1,{"$f":"ROW()","v":1847},8,null,null,"2.3.1.01.03.063","Bonificación aeronáutica Reconocimiento económico que hace la ley a todos los servidores públicos de la Unidad Administrativa Especial de Aeronáutica Civil. Esta bonificación es equivalente al doscientos veinticinco por ciento (225%) de la asignación básica mensual señalada para el respectivo empleo y se reconoce en dos (2) contados iguales, en los meses de enero y septiembre de cada año (Decreto 313 de 2018, art. 17).",0,15]
[null,null,"D2912002","Cuero curtido delgado de ganado vacuno",1,{"$f":"ROW()","v":1848},8,null,null,"2.3.1.01.03.064","Prima de productividad Reconocimiento económico que hace la ley a los servidores públicos de la Unidad Administrativa Especial de Aeronáutica Civil que cumplan con los indicadores de productividad previamente establecidos. Esta prima se reconoce bimestralmente durante los meses de febrero, abril, junio, agosto, octubre y diciembre y no puede ser inferior al 80% de la asignación básica del empleado (Decreto 313 de 2018, art. 16).",0,15]
[null,null,"D2912006","Cuero curtido grueso de ganado vacuno (crupón)",1,{"$f":"ROW()","v":1849},8,null,null,"2.3.1.01.03.065","Bonificación judicial Reconocimiento económico que hace la ley a los servidores públicos de la Dirección Ejecutiva de Administración Judicial, las Direcciones Seccionales de la Rama Judicial, los servidores de la Justicia Penal Militar y los servidores de la Fiscalía General de la Nación durante la prestación de sus servicios. Esta bonificación constituye factor para efectos de determinar el ingreso base de cotización del Sistema General de Pensiones y del Sistema General de Seguridad Social en Salud, mas no para determinar elementos salariales ni prestaciones sociales (Decreto 0384 de 2013, Decreto 022 de 2014 y Decreto 1014 de 2017).",0,15]
[null,null,"D2913004","Cuero recuperado (aglomerado)",1,{"$f":"ROW()","v":1850},8,null,null,"2.3.1.01.03.066","Bonificación por servicios de protección y vigilancia Reconocimiento económico que hace la ley al personal del servicio de protección y vigilancia de la Rama Judicial, al personal de las Fuerzas Militares y de la Policía Nacional que presta el servicio de protección y vigilancia al Comandante General de las Fuerzas Militares, Comandantes de Fuerza y Director General de la Policía Nacional, a los Expresidentes de la República, a los Ministros del Despacho, a los Directores de Departamento Administrativo del orden nacional, al Procurador General de la Nación, al Contralor General de la República, al Defensor del Pueblo, al Auditor General de la República, al personal que presta este servicio a los oficiales generales y de insignia en sus diferentes grados, y a los miembros de la Policía Nacional que prestan el servicio de protección y vigilancia a los Honorables Congresistas (Decreto anual de salarios).",0,15]
[null,null,"D2911001","Cueros agamuzados",1,{"$f":"ROW()","v":1851},8,null,null,"2.3.1.01.03.067","Prima mensual oficiales y suboficiales Reconocimiento económico que hace la ley a los Oficiales de las Fuerzas Militares y de la Policía Nacional y en servicio activo que ostentan los grados de Teniente Coronel y Capitán de Fragata; y a los Suboficiales de las Fuerzas Militares y de la Policía Nacional en servicio activo que ostentan el grado de Sargento Primero en el Ejército Nacional o su equivalente en las demás fuerzas. Esta prima mensual, sin carácter salarial ni prestacional, es equivalente a dos punto setenta y siete por ciento (2.77%) y a uno punto noventa y dos por ciento (1.92%) respectivamente, de lo que en todo tiempo devenguen los Ministros del Despacho como asignación básica y gastos de representación (Decreto 1017 de 2013, art. 4).",0,15]
[null,null,"D2911003","Cueros charolados y barnizados",1,{"$f":"ROW()","v":1852},8,null,null,"2.3.1.01.03.068","Prima secretarial Corresponde al reconocimiento que se le otorga los empleados públicos que desempeñen el cargo de secretario, en el nivel administrativo, el cual es equivalente al 2% de la asignación básica mensual. Dicho valor no constituye factor salarial para ningún efecto legal.",0,15]
[null,null,"D2912001","Cueros curtidos gruesos para suela (crupón)",1,{"$f":"ROW()","v":1853},8,null,null,"2.3.1.01.03.069","Apoyo de sostenimiento aprendices SENA Corresponde a las erogaciones como contraprestación por los servicios prestados por alumnos aprendices del Servicio Nacional de Aprendizaje (SENA) a través de los contratos de aprendizaje. Uno de los elementos característicos de los contratos de aprendizaje es el reconocimiento y pago al aprendiz de un apoyo del sostenimiento mensual, el cual tiene como fin garantizar el proceso de aprendizaje",0,15]
[null,null,"D0295101","Cueros de bovino frescos",1,{"$f":"ROW()","v":1854},8,null,null,"2.3.1.01.03.070","Remuneración profesores militares Corresponde la remuneración económica que se reconoce a los militares de planta permanente que prestan servicio de docencia de forma ocasional en los Institutos de Formación y Centros de Capacitación o educación de las Fuerzas Militares. Esta remuneración se reconoce al profesor militar por cada hora de clase dictada y corresponde a un porcentaje determinado y liquidado sobre el salario básico mensual. de acuerdo con la categoría a cargo del mismo",0,15]
[null,null,"D0295102","Cueros de bovinos secos",1,{"$f":"ROW()","v":1855},8,null,null,"2.3.1.01.03.071","Prima por dependientes Corresponde al reconocimiento mensual que realiza la Superintendencia de Sociedades, la Superintendencia de Industria y Comercio, la Superintendencia Financiera de Colombia y el Instituto Nacional de Metrología a favor de los empleados que adscriban beneficiarios que dependan económicamente y cumpla con los requisitos establecidos por ley",0,15]
[null,null,"D0295902","Cueros de ganado porcino",1,{"$f":"ROW()","v":1856},8,null,null,"2.3.1.01.03.072","Prima de matrimonio Corresponde a la prima que reconoce y paga por única vez la Superintendencia de Sociedades, la Superintendencia de Industria y Comercio, la Superintendencia Financiera de Colombia, el Instituto Nacional de Metrología y el Servicio Nacional de Aprendizaje (SENA) a los funcionarios que contraigan matrimonio, de acuerdo con las disposiciones normativas que aplican para cada entidad",0,15]
[null,null,"D0295401","Cueros frescos de caprino",1,{"$f":"ROW()","v":1857},8,null,null,"2.3.1.01.03.073","Prima de nacimiento Corresponde a la prima que reconoce y paga por única vez la Superintendencia de Sociedades, la Superintendencia de Industria y Comercio, la Superintendencia Financiera de Colombia, el Instituto Nacional de Metrología y el Servicio Nacional de Aprendizaje (SENA) a los funcionarios por el nacimiento de un hijo de acuerdo con las disposiciones normativas que aplican para cada entidad",0,15]
[null,null,"D2911004","Cueros impermeabilizados",1,{"$f":"ROW()","v":1858},8,null,null,"2.3.1.01.03.074","Prima semestral Corresponde a una prestación económica equivalente a un mes de del sueldo que tuvieren los empleados al 30 de junio y 31 de diciembre respectivamente, pagaderos los 15 primeros días de junio y diciembre de cada año, en las entidades y regímenes especiales en las que es reconocida.",0,15]
[null,null,"D2911002","Cueros repujados",1,{"$f":"ROW()","v":1859},8,null,null,"2.3.1.01.03.075","Prima de actividad Corresponde al pago de la prima de actividad que se reconoce y paga a los funcionarios que hayan laborado durante un año continuo en la entidad. Esta prima es equivalente a 15 días del sueldo básico mensual, y es reconocida cuando el interesado acredite la autorización para el disfrute de vacaciones o su compensación en dinero",0,15]
[null,null,"D0295201","Cueros y pieles de equinos",1,{"$f":"ROW()","v":1860},{"$f":"LEN(C1860)","v":8},null,null,"2.3.1.01.03.076","Gastos de representación Corresponde al reconocimiento que hace el Ministerio de Relaciones Exteriores a los Embajadores, jefes de Misión Permanente, cónsules Generales Centrales y los Encargados de Negocios para atender las actividades diplomáticas propias de su cargo en el exterior -En esta cuenta también se pueden registrar la prestación social pagada en consideración al alto grado de responsabilidad, compromiso, liderazgo e imagen (relaciones públicas) que representa el cargo de la Vicepresidencia y los más altos del nivel ejecutivo - Directores, SATENA por mera liberalidad podrá otorgar mensualmente una suma equivalente a Gastos de Representación, la cual no constituye salario y no tendrá incidencia en la liquidación y pago de prestaciones sociales o indemnizaciones, conforme a lo dispuesto en el artículo 15 de la Ley 50 de 1990, modificatorio del artículo 128 del Código Sustantivo del Trabajo.Los gastos de representación tienen como fin, compensar los gastos y erogaciones en que incurren ciertos cargos en consideración a su jerarquía y posición organizacional dentro de la empresa, necesarios en la representación de la entidad en actividades frente a clientes, entidades gubernamentales u oficiales y público en general, en beneficio comercial empresarial o de imagen de la entidad.",0,{"$f":"LEN(J1860)","v":15}]
[null,null,"D4299919","Cuerpos moledores",1,{"$f":"ROW()","v":1861},8,null,null,"2.3.1.01.03.077","Subsidio de anteojos Corresponde al beneficio que se otorga a los funcionarios, con el fin de subsidiar la adquisición de lentes y/o monturas.",0,15]
[null,null,"D4411201","Cultivadoras motorizadas",1,{"$f":"ROW()","v":1862},8,null,null,"2.3.1.01.03.078","Remuneración adicional de antiguos territorios nacionales Corresponde a una remuneración adicional otorgada a los empleados del Instituto Nacional de Medicina Legal y Ciencias Forenses que trabajen ordinariamente en los departamentos creados en el Artículo 309 de la Constitución Política. Esta remuneración es equivalente al 8% de la asignación básica mensual y se percibirá por cada mes completo de servicio y no constituye factor salarial para ningún efecto legal (",0,15]
[null,null,"D4411202","Cultivadoras no motorizadas",1,{"$f":"ROW()","v":1863},8,null,null,"2.3.1.01.03.079","Prima de alimentación Corresponde a la remuneración que se reconoce, como concepto de prima alimentaria.",0,15]
[null,null,"D3527004","Cultivo de bacterias-probióticos",1,{"$f":"ROW()","v":1864},8,null,null,"2.3.1.01.03.080","Viáticos y menaje de funcionarios del servicio exterior Corresponde al beneficio que se otorga en dinero a los funcionarios pertenecientes a la Carrera Diplomática y Consular o de Libre Nombramiento y Remoción del Ministerio de Relaciones Exteriores,245que, en ejercicio de sus funciones, requieran desplazarse al exterior o de un país extranjero a otro o entre ciudades distintas del mismo país",0,15]
[null,null,"D3814014","Cunas en mimbre, bambú o similares",1,{"$f":"ROW()","v":1865},8,null,null,"2.3.1.01.03.081","Prima de localización Corresponde a la prima que reconoce el Servicio Nacional de Aprendizaje (SENA) a sus Trabajadores Oficiales. Esta prima es equivalente a ocho y medio (8.5) días de salario mínimo legal vigente en las regionales que están establecidas por el SENA o llegaren a establecerse",0,15]
[null,null,"D3899202","Cunas portátiles (abuelitas) y similares",1,{"$f":"ROW()","v":1866},8,null,null,"2.3.1.01.03.082","Subvención de transporte Los soldados del ejército o su equivalente en la Fuerza Pública y los auxiliares del cuerpo de custodia del INPEC, llamados al servicio, una vez licenciado o desacuartelado, tienen derecho a la subvención de la partida de transporte, en el momento del otorgamiento del permiso anual o en caso de calamidad domestica comprobada o catástrofe que haya podido afectar gravemente a su familia",0,15]
[null,null,"D4141398","Cuproaleaciones n.c.p.",1,{"$f":"ROW()","v":1867},8,null,null,"2.3.1.01.03.083","Auxilio de movilización Corresponde a los recursos destinados por concepto de auxilio de movilización al que tienen derecho los funcionarios de la entidad.",0,15]
[null,null,"D0219202","Curíes (cuyes)",1,{"$f":"ROW()","v":1868},8,null,null,"2.3.1.01.03.084","Prima mensual Corresponde a la prima a la que tienen derecho los oficiales de las Fuerzas Militares y de la Policía Nacional, a partir de su ascenso al grado de Coronel o Capitán de Navío hasta el grado de General o Almirante, mientras permanezcan en servicio activo. Esta prima es equivalente a los 16.5% del sueldo básico, sin perjuicio de la asignación básica y primas mensuales fijadas en las disposiciones legales vigentes",0,15]
[null,null,"D3433098","Curtientes n.c.p.",1,{"$f":"ROW()","v":1869},8,null,null,"2.3.1.01.03.085","Partida especial de gastos de viaje Corresponde a la partida otorgada a los oficiales y suboficiales de las Tripulaciones de las Unidades de Flote, destinado en comisión colectiva transitoria al exterior, para visitas operacionales, de transporte, construcción, reparación o de cortesía",0,15]
[null,null,"D0131903","Curubas",1,{"$f":"ROW()","v":1870},8,null,null,"2.3.1.01.03.086","Auxilio especial de transporte Comprende el reconocimiento y pago del auxilio especial de transporte que realiza el Servicio Nacional de Aprendizaje (SENA) a favor de todos sus trabajadores oficiales. Este auxilio es equivalente al auxilio de transporte decretado por el gobierno, sin embargo, se reconoce de manera independiente al salario devengado por el Trabajador. Cuando el trabajador oficial compruebe tener uno o más hijos estudiando y estos dependan económicamente de él, el SENA pagará mensualmente por cada trabajador oficial247un subsidio extralegal de transporte equivalente al (100%) del auxilio decretado por el Gobierno",0,15]
[null,null,"D0123902","Cuya",1,{"$f":"ROW()","v":1871},8,null,null,"2.3.1.01.03.087","Bonificación por compensación Corresponde al pago que se realiza a los funcionarios públicos determinados por la Ley, para la nivelación de sus ingresos respecto de equivalentes en otros sectores de referencia, este reconocimiento solamente constituye factor salarial para efectos de determinar el Ingreso Base de Cotización (IBC) del Sistema General de Pensiones, y para la cotización al Sistema General de Seguridad Social en Salud, más no para determinar elementos salariales ni prestaciones sociales",0,15]
[null,null,"D4292209","Dados para terrajear",1,{"$f":"ROW()","v":1872},8,null,null,"2.3.1.01.03.088","Prima especial de servicios Reconocimiento económico del 30% del salario básico mensual que hace la ley a los magistrados del Consejo Superior de la Judicatura, de la Corte Suprema de Justicia, de la Corte Constitucional, del Consejo de Estado, el Procurador General de la Nación, el Contralor General de la República, el Fiscal General de la Nación, el Defensor del Pueblo y el Registrador Nacional del Estado Civil con el fin de igualar los ingresos percibidos por estos funcionarios, con aquellos que reciben los miembros del Congreso, sin que en ningún caso los supere.El Gobierno podrá fijar la misma prima para los ministros de despacho, los Generales y Almirantes de la Fuerza Pública. Esta bonificación constituye factor para efectos de determinar el Ingreso Base de Cotización (IBC) del Sistema General de Pensiones, y para la cotización al Sistema General de Seguridad Social en Salud, mas no para determinar elementos salariales ni prestaciones sociales",0,15]
[null,null,"D0131401","Dátil",1,{"$f":"ROW()","v":1873},8,null,null,"2.3.1.01.03.089","Prima especial Art. 14 Ley 4 de 1992 Comprende la prima que es reconocida a los magistrados de todo orden de los Tribunales Superiores de Distrito Judicial y Contencioso Administrativo, agentes del Ministerio Público delegados ante la Rama Judicial y para los jueces de la República, incluidos los magistrados y fiscales del Tribunal Superior Militar, Auditores de Guerra y Jueces de Instrucción Penal Militar, excepto los que opten por la escala de salarios de la Fiscalía General de la Nación, con efectos a partir del 1 de enero de 1993.Igualmente tendrán derecho a percibir esta prima los delegados departamentales del Registrador Nacional del Estado Civil, los registradores del distrito capital y los niveles directivo y asesor de la249Registraduría Nacional del Estado Civil, no podrá ser inferior al 30% ni superior al 60% del salario básico",0,15]
[null,null,"D4823303","Decámetros",1,{"$f":"ROW()","v":1874},8,null,null,"2.3.1.01.03.090","Prima de carabinero Prima a favor del personal de nivel ejecutivo de la Policía Nacional, que ostente la especialidad de carabinero o policía rural y preste sus servicios en las áreas reglamentadas por la Dirección General de la Policía Nacional. Esta prima es equivalente al 5% del sueldo básico, y no tiene carácter salarial para ningún efecto",0,15]
[null,null,"D8853401","Decorado de cerámica",1,{"$f":"ROW()","v":1875},8,null,null,"2.3.1.01.03.091","Bonificación especial por servicios de comisión en la DIAN Corresponde a bonificación especial no constitutiva de factor salarial, equivalente a una asignación mensual adicional equivalente al 30% del sueldo básico mensual, que se reconoce al personal uniformado de la Policía Nacional que preste sus servicios en comisión en la Unidad Administrativa Especial Dirección de Impuestos y Aduanas Nacionales – DIAN.Para tener derecho al reconocimiento y pago de la bonificación especial, el personal uniformado debe haber prestado el servicio total o parcialmente en actividades encaminadas al soporte y apoyo en actuaciones aduaneras, tributarias y cambiarias dirigidas a la lucha contra el contrabando, el lavado de activos y la evasión fiscal y previa certificación del Director de Gestión de Recursos y Administración económica de la DIAN, sobre la prestación del servicio",0,15]
[null,null,"D2823611","Delantales",1,{"$f":"ROW()","v":1876},8,null,null,"2.3.1.01.03.092","Indemnizacion compensatorio horas extra Reconocimiento en dinero de los días compensatorios que sehubieren causado hasta la fecha de publicación del Decreto emitido por el DAFP , a favor de cada empleado público, siempre que exista disponibilidad presupuestal y no se afecten los recursos para el pago de horas extras que se vayan a causar en el resto de la presente vigencia.",0,15]
[null,null,"D4817109","Dentaduras artificiales y aparatos análogos",1,{"$f":"ROW()","v":1877},8,null,null,"2.3.1.01.03.093","Prima o auxilio de Maternidad Es el reconocimiento que se hace a las trabajadoras oficiales y a las esposas o compañeras de los trabajadores oficiales con motivo del nacimiento de un hijo. El valor se establece por convención colectiva de trabajo vigente.",0,15]
[null,null,"D3532308","Dentífricos",1,{"$f":"ROW()","v":1878},8,null,null,"2.3.1.01.03.094","Prima de Transporte y Manutención Corresponde a la prima que se reconoce a los Servidores Públicos que laboran en determinadas dependencias o en cualquier zona rural del Municipio de Medellín",0,15]
[null,null,"D4293113","Depósitos metálicos para combustibles",1,{"$f":"ROW()","v":1879},8,null,null,"2.3.1.01.03.095","Prima de Matrimonio Corresponde al reconocimiento que se hace a los trabajadores (as) oficiales, que durante su vinculación al Municipio de Medellín, contraigan matrimonio válidamente celebrado",0,15]
[null,null,"D3339099","Derivados n.c.p. de petróleo",1,{"$f":"ROW()","v":1880},8,null,null,"2.3.1.01.03.096","Bonificación cargo academico administrativo Reconocimiento de bonificacion mensual a los docentes que por acto administrativo desempeñen cargos academicos y administrativos con funciones directivas.",0,15]
[null,null,"D4412303","Desbrozadora (guadañadora)",1,{"$f":"ROW()","v":1881},8,null,null,"2.3.1.01.03.097","Bonificacion por productividad academica Estas bonificaciones se realizan una sola vez y corresponden a actividades especificas de productividad academica y no contemplan pagos genericos indiscriminados",0,15]
[null,null,"D4412801","Descerezadoras de café",1,{"$f":"ROW()","v":1882},8,null,null,"2.3.1.01.03.098","Bonificación Educadores de Básica y Media Bonificaciones no constitutivas de salario a los docentes y directivos al servicio del estado en niveles de preescolar, basica y media. Se reconoce anualmente, durante el tiempo que el funcionario permanezca en el servicio.",0,15]
[null,null,"D4451101","Descremadoras de leche",1,{"$f":"ROW()","v":1883},8,null,null,"2.3.1.01.03.099","Bonificacion Sindical Corresponde al pago en procesos de negociacion sindical que se destinan a los servidores publicos. No constitutivas de salario.",0,15]
[null,null,"D3921401","Desechos de algodón",1,{"$f":"ROW()","v":1884},8,null,null,"2.3.1.01.03.100","Trienios Recursos destinados al oago que tienen derecho los empleados publicos al cumplir tres años de antiguedad de servicios prestados en un trabajo, segun lo estipulado por la ley.",0,15]
[null,null,"D3929001","Desechos de cerámica, loza, porcelana, ladrillo y similares",1,{"$f":"ROW()","v":1885},8,null,null,"2.3.1.01.03.101","Bonificación Zona de Difícil Acceso docentes Prescolar, Básica y Media Los docentes y directivos docentes que laboren en establecimientos educativos estatales, cuyas sedes estén ubicadas en zonas rurales de difícil acceso, tendrán derecho a una bonificación equivalente al quince por ciento (15%) del salario básico mensual que devenguen. Esta bonificación no constituye factor salarial ni prestacional para ningún efecto, se pagará mensualmente, y se causará únicamente durante el tiempo laborado en el año académico.",0,15]
[null,null,"D2129902","Desechos de crustáceos y moluscos",1,{"$f":"ROW()","v":1886},8,null,null,"2.3.1.01.03.102","Bonificación Grado 14 docentes Prescolar, Básica y Media Es la bonificación que reciben los Docentes o Directivos Docentes de niveles preescolar, básica y media regidos por el Decreto Ley 2277/1979 y que hagan parte del grado 14 de Escalafón Nacional Docente. Para docentes activos equivale en 2016 al 10% de la ABM y 2017 y siguientes al 15% Asignación básica mensual. Para quienes se retiren del servicio por renuncia voluntaria o por retiro forzoso (edad permitida) equivale a un mes de Asignación Básica Mensual se pagará una sola vez cuando sea efectivamente desvinculado del servicio",0,15]
[null,null,"D3922002","Desechos de cuero",1,{"$f":"ROW()","v":1887},8,null,null,"2.3.1.01.03.103","Reconocimiento Adicional por gestión directivos docentes Prescolar, Básica y Media El rector que durante el año cumpla con el indicador de gestión, tanto en el componente de permanencia como en el de calidad, y reporte oportunamente la información en el SIMAT, recibirá un reconocimiento adicional equivalente a su última asignación básica mensual que devengó al final del año lectivo, el cual no constituye factor salarial. El porcentaje de deserción intraanual del establecimiento educativo no podrá ser superior al tres por ciento (3%).",0,15]
[null,null,"D3921604","Desechos de fibra sintética",1,{"$f":"ROW()","v":1888},8,null,null,"2.3.1.01.03.104","Incentivo por Jubilación Recursos destinados al pago a que tienen derecho los empleados públicos y trabajadores oficiales según acuerdo colectivo , el cual es recibido en la liquidación al momento de pensionarse. Estos derechos pueden derivarse de acuerdos de convención colectiva.",0,15]
[null,null,"D3921601","Desechos de hilados artificiales y sintéticos",1,{"$f":"ROW()","v":1889},8,null,null,"2.3.1.01.03.105","Prima de Coordinación Académica y Disciplina Reconocimiento a Coordinadores Académicos y de Disciplina con dos jornadas. A los Coordinadores Académicos y de Disciplina de que trata el artículo anterior, a quienes se les asignen dos (2) jornadas, se les reconocerá el valor correspondiente a diez (10) horas cátedra semanales y un máximo de cuarenta (40) horas mensuales, e implicará una permanencia mínima de ocho (8) horas diarias en el Instituto. La liquidación se hará con base en el valor asignado a la hora cátedra establecida en el decreto del escalafón nacional docente para los docentes vinculados a la Nación.",0,15]
[null,null,"D3921402","Desechos de hilados de algodón",1,{"$f":"ROW()","v":1890},8,null,null,"2.3.1.01.03.106","Remuneración por defunción",0,15]
[null,null,"D3921602","Desechos de hilados de fibras artificiales o sintéticas",1,{"$f":"ROW()","v":1891},8,null,null,"2.3.1.01.03.107","Auxilios Salud Visual Corresponde a la remuneración que percibe el empleado, en cumplimiento de acuerdos laborales, para la adquisición de lentes, monturas, cirugías refractivas, oftalmológicas, entre otros.",0,15]
[null,null,"D2619003","Desechos de hilados y tejidos de fibras duras vegetales",1,{"$f":"ROW()","v":1892},8,null,null,"2.3.1.01.03.108","Auxilios Salud Dental Corresponde a la remuneración que percibe el empleado, en cumplimiento de acuerdos laborales, para cubrir gastos de salud dental.",0,15]
[null,null,"D3914901","Desechos de la destilación de azúcares y alcoholes - vinaza",1,{"$f":"ROW()","v":1893},8,null,null,"2.3.1.01.03.109","Auxilios Salud Auditiva Corresponde a la remuneración que percibe el empleado, en cumplimiento de acuerdos laborales, para cubrir gastos de salud auditiva.",0,15]
[null,null,"D3921201","Desechos de lana",1,{"$f":"ROW()","v":1894},8,null,null,"2.3.1.01.03.110","Auxilios Médicos Corresponde a la remuneración que percibe el empleado, en cumplimiento de acuerdos laborales, para cubrir gastos relacionados con la salud.",0,15]
[null,null,"D3927002","Desechos de material plástico",1,{"$f":"ROW()","v":1895},8,null,null,"2.3.1.01.03.111","Auxilios Educativos Corresponde a la remuneración que percibe el empleado, en cumplimiento de acuerdos laborales, para cubrir gastos educativos.",0,15]
[null,null,"D3924001","Desechos de papel kraft, plegadizas y cartón corrugado",1,{"$f":"ROW()","v":1896},8,null,null,"2.3.1.01.03.112","Auxilios por Antigüedad Corresponde al beneficio extralegal por antigüedad que se reconoce en el marco de un acuerdo laboral.",0,15]
[null,null,"D3924002","Desechos de papel o cartón blanco",1,{"$f":"ROW()","v":1897},8,null,null,"2.3.1.01.03.113","Auxilios para Recreación Corresponde a la remuneración que percibe el empleado, en cumplimiento de acuerdos laborales, para cubrir gastos de bienestar.",0,15]
[null,null,"D3924003","Desechos de papel periódico, directorios y similares",1,{"$f":"ROW()","v":1898},8,null,null,"2.3.1.01.03.114","Auxilios para Desplazamiento Corresponde a la remuneración que percibe el empleado, en cumplimiento de acuerdos laborales, para cubrir gastos de desplazamiento.",0,15]
[null,null,"D2129901","Desechos de pescado no comestibles",1,{"$f":"ROW()","v":1899},8,null,null,"2.3.1.01.03.115","Prima compensatoria Corresponde al beneficio extralegal por concepto de prima compensatoria que se reconoce al empleado en el marco del acuerdo laboral.",0,15]
[null,null,"D3711103","Desechos de vidrio",1,{"$f":"ROW()","v":1900},8,null,null,"2.3.1.01.03.116","Bonificación por Alto Riesgo Corresponde a la bonificación por alto riesgo que se reconoce al empleado en el marco de acuerdos de negociación colectiva.",0,15]
[null,null,"D3549935","Desincrustantes",1,{"$f":"ROW()","v":1901},8,null,null,"2.3.1.01.03.117","Prima Especial Corresponde al pago por concepto de prima especial que se reconoce al empleado en el marco de una Convención Colectiva. - Tambien Comprende el reconocimiento y pago por concepto de la prima especial establecida como no factor salarial y que no deberá ser incluida como factor para la liquidación del ingreso base de cotización en el sistema de seguridad social integral para los funcionarios del Ministerio Público, en virtud de los artículos del 3-9, 12-13 y 18 del Decreto 186 y el artículo 6 del Decreto 196 de 2014.",0,15]
[null,null,"D3549929","Desincrustantes para calderas",1,{"$f":"ROW()","v":1902},8,null,null,"2.3.1.01.03.118","Prima de antigüedad Corresponde a los pagos que realiza la Empresa URRA S.A en marco de la clausula séptima de la convención colectiva de trabajo entre la EICE y sus trabajadores no sindicalizados. Esta prima aplicará para las vigencias 2017-2022",0,15]
[null,null,"D3466401","Desinfectantes",1,{"$f":"ROW()","v":1903},8,null,null,"2.3.1.01.03.119","Bonificación especial de gestión Corresponde a los pagos que realiza la Empresa URRA S.A en marco de la clausula séptima de la convención colectiva de trabajo entre la EICE y sus trabajadores no sindicalizados. Esta bonificación aplicará para las vigencias 2017-2022",0,15]
[null,null,"D3532324","Desodorantes líquidos de tocador",1,{"$f":"ROW()","v":1904},8,null,null,"2.3.1.01.03.120","Prima de vacaciones extralegal Corresponde por concepto de la prima de vacaciones extralegal a los empleados de la empresa URRÁ S.A, definida en la convención colectiva de trabajo entre la EICE y sus trabajadores no sindicalizados. Esta prima aplicará para las vigencias 2017-2022. Los pagos de esta prestación social son diferentes a los pagos por concepto de vacaciones.",0,15]
[null,null,"D3532323","Desodorantes sólidos de tocador",1,{"$f":"ROW()","v":1905},8,null,null,"2.3.1.01.03.121","Bonificación permanente extralegal La Empresa y el trabajador, en aplicación a lo establecido en el artículo 128 del Código Sustantivo del Trabajo, podrán acordar contractualmente y por escrito, beneficios habituales otorgados en forma extralegal, que no constituye para ningún efecto salario y no tendrá incidencia en la liquidación y pago de prestaciones sociales o indemnizaciones.Estas bonificaciones extralegales constituyen un reconocimiento que hace la Alta Dirección para aquellos trabajadores de la empresa, qué por razón de sus actividades, compromisos, disponibilidad, condiciones de empleo, entre otros factores, contribuyen al cumplimiento y fortalecimiento de los objetivos de la Empresa.",0,15]
[null,null,"D3549910","Desoxidantes de metales",1,{"$f":"ROW()","v":1906},8,null,null,"2.3.1.01.03.122","Prima extralegal por disponibilidad base operacional Adicional a la remuneración básica mensual pactada en el contrato de trabajo, SATENA podrá asignar una prima extralegal por mera liberalidad para aquellos cargos que, con ocasión a sus funciones y responsabilidades, conlleven inmerso actividades de dirección, confianza y manejo y que tengan a cargo la coordinación de una base operacional – comercial de la empresa.Este Auxilio extralegal “Prima de Disponibilidad base operacional-comercial SATENA”, no constituye salario y no tendrá incidencia en la liquidación y pago de prestaciones sociales o indemnizaciones, conforme a lo dispuesto en el artículo 15 de la Ley 50 de 1990, modificatorio del artículo 128 del Código Sustantivo del Trabajo.",0,15]
[null,null,"D3919001","Desperdicios alimenticios ya vencidos no aptos para el consumo humano n.c.p.",1,{"$f":"ROW()","v":1907},8,null,null,"2.3.1.01.03.123","Bonificación extralegal por dirección para los directores militares La Bonificación Extralegal por Dirección se pagará al Presidente, Vicepresidente y Directores Militares de SATENA, esta Bonificación no constituye salario y no tendrá incidencia en la liquidación y pago de prestaciones sociales o indemnizaciones, conforme a lo dispuesto en el artículo 15 de la Ley 50 de 1990, modificatorio del artículo 128 del Código Sustantivo del Trabajo.",0,15]
[null,null,"D3936501","Desperdicios y chatarra de zinc",1,{"$f":"ROW()","v":1908},8,null,null,"2.3.1.01.03.124","Prima de Instrucción Corresponde a la prima que reconoce SATENA al trabajador, que, en consideración a su idoneidad esté en capacidad de impartir instrucciones y/o capacitaciones a personal de Pilotos, Copilotos, Auxiliares de Vuelo y Despachadores (según el caso), y que constituyen actividades adicionales a las funciones propias de su cargo y por fuera de su jornada laboral, siempre y cuando se enmarque dentro de las labores de instrucción y/o entrenamiento. Este Auxilio extralegal, no constituye salario y no tendrá incidencia en la liquidación y pago de prestaciones sociales o indemnizaciones, conforme a lo dispuesto en el artículo 15 de la Ley 50 de 1990, modificatorio del artículo 128 del Código Sustantivo del Trabajo.",0,15]
[null,null,"D3924004","Desperdicios y desechos de papel o cartón blanco sin clasificar",1,{"$f":"ROW()","v":1909},8,null,null,"2.3.1.01.03.126","Participación en utilidades Corresponde a la participación en utilidades que una empresa otorga a sus empleados, en el marco de acuerdos laborales.",0,15]
[null,null,"D3933201","Desperdicios y desechos de platino",1,{"$f":"ROW()","v":1910},8,null,null,"2.3.1.01.03.127","Bonificación a la excelencia Remuneración equivalente a tres (3) asignaciones básicas, que tienen derecho el Patrullero de Policía y Patrullero del Nivel Ejecutivo en servicio activo por cada cinco (5) años continuos de servicio que cumpla en el grado, en virtud del Decreto 668 y 669 de 2022",0,15]
[null,null,"D2115201","Despojos comestibles de búfalo, frescos, refrigerados o congelados",1,{"$f":"ROW()","v":1911},8,null,null,"2.3.1.01.03.128","Bonificación por permanencia Bonificación mensual que se otorga a los mandos del nivel ejecutivo de la Policía Nacional, que una vez cumplan los requisitos para su asignación de retiro, decidan continuar como miembros de la institución, en virtud de la Ley 2179 de 2021",0,15]
[null,null,"D2123401","Despojos comestibles de pescado y otros animales marinos y de agua dulce",1,{"$f":"ROW()","v":1912},8,null,null,"2.3.1.01.03.129","Bonificación para la asistencia familiar Bonificación a la que tienen derecho el personal del Nivel ejecutivo y Patrullero de Policía en servicio activo, por estado civil de casado o unión marital de hecho y por el primer y segundo hijo, en virtud de la Ley 2179 de 2021",0,15]
[null,null,"D3911010","Despojos y desechos de animales, no aptos para el consumo humano",1,{"$f":"ROW()","v":1913},8,null,null,"2.3.1.01.04.001","Otros gastos de personal - previo concepto DGPPN Esta cuenta es de programación presupuestal y registra el monto de los gastos de personal por incremento salarial que resulta del ajuste del poder adquisitivo y demás criterios de programación impartidos para consideración, si los hubiera (Sentencia 1433 de 2000).",0,15]
[null,null,"D4292119","Destornilladores",1,{"$f":"ROW()","v":1914},8,null,null,"2.3.1.02.01.001.01","Sueldo básico El sueldo básico corresponde a la parte del salario que se mantiene fija y se paga periódicamente de acuerdo con las funciones y responsabilidades, los requisitos de conocimientos, la experiencia requerida para su ejercicio, la denóminación y el grado establecidos en la nomenclatura, y la escala del respectivo nivel (art. 13, Decreto 1042 de 1978). El sueldo básico se paga sin tener en cuenta adicionales de horas extra, primas y otros factores eventuales o fijos que aumentan sus ingresos.La Ley 4 de 1992 establece el reconocimiento de una asignación básica de acuerdo con la nomenclatura y remuneración de los niveles de empleo.",0,18]
[null,null,"D3549955","Destupidores de cañería",1,{"$f":"ROW()","v":1915},8,null,null,"2.3.1.02.01.001.02","Horas extras, dominicales, festivos y recargos Es la retribución fija que se reconoce a los empleados por concepto de trabajo suplementario y realizado en horas adicionales a la jornada ordinaria establecida por las disposiciones legales vigentes. Incluye: horas extras diurnas, horas extras nocturnas, y el trabajo ocasional en días dominicales y festivos. (Decreto 1042 de 1978).De acuerdo con la jurisprudencia del Consejo de Estado (Sentencia 01841 de 2011) en materia de horas extras, a las entidades territoriales les aplica las disposiciones establecidas en el Decreto 1042 de 1978.",0,18]
[null,null,"D3532201","Detergentes en polvo",1,{"$f":"ROW()","v":1916},8,null,null,"2.3.1.02.01.001.03","Gastos de representación Es la asignación complementaria del sueldo, que se reconoce excepcional y restrictivamente a empleados de alto nivel jerárquico por el cumplimiento de sus funciones (Decreto 1042 de 1978, Ley 4 de 1992 y Decreto 1396 de 2010). Los gastos de representación tienen por finalidad que los empleados de nivel directivo desempeñen sus funciones de acuerdo con la importancia de la representación que ostentan. Esta asignación se caracteriza por ser un beneficio personal en gracia de la posición, jerarquía, dignidad y responsabilidades señaladas al cargo.De acuerdo la DAFP (2009), para el orden territorial, el reconocimiento de gastos de representación es exclusivo para los alcaldes y gobernadores.",0,18]
[null,null,"D3532202","Detergentes líquidos",1,{"$f":"ROW()","v":1917},8,null,null,"2.3.1.02.01.001.04","Subsidio de alimentación Es la retribución fija que se reconoce a los empleados como auxilio para la provisión de su alimento. Este factor es un pago habitual y periódico de una suma de dinero para apoyar la manutención y provisión de alimentos del empleado.Para las entidades del PGSP, no se tendrá derecho a este subsidio cuando el funcionario disfrute de vacaciones, se encuentre en uso de licencia, suspendido o cuando la entidad suministre el servicio (art. 12, Decreto 229 de 2016).El subsidio de alimentación fue creado mediante el Decreto 627 de 2007, y está regulado por el la Ley 4 de 1992 y el Decreto 1397 de 2010.",0,18]
[null,null,"D3532203","Detergentes sólidos",1,{"$f":"ROW()","v":1918},8,null,null,"2.3.1.02.01.001.05","Auxilio de transporte Es el pago que se hace al personal con el que la entidad tiene una relación laboral, tales como empleados públicos, trabajadores oficiales y aquel de las sociedades de economía mixta y particulares cuyo gasto de personal se haga con cargo a los recursos públicos a su cargo que devenguen un sueldo mensual básico hasta de dos veces el salario mínimo legal vigente (Decreto 2732 del 2014). Este auxilio tiene como fin cubrir el traslado del trabajador desde el sector de su residencia hasta el sitio de su trabajo y viceversa.No se tiene derecho a este auxilio cuando el funcionario disfrute de vacaciones, se encuentre en uso de licencia, suspendido en el ejercicio de sus funciones o cuando la entidad suministre el servicio (art. 13, Decreto 229 de 2016).La Ley 15 de 1959, el Decreto 1374 de 2010 y el Decreto 5054 de 2009 regulan el auxilio de transporte para servidores públicos en los términos y cuantía establecida por el gobierno.",0,18]
[null,null,"D3545008","Detonadores para minería",1,{"$f":"ROW()","v":1919},8,null,null,"2.3.1.02.01.001.06","Prima de servicio Es la retribución fija que se paga el mes de julio de cada año correspondiente a 15 días de trabajo por cada año laborado, o proporcionalmente si el empleado laboró como mínimo por seis meses en la entidad. (art. 58, Decreto 1042 de 1978).El Decreto 1042 de 1978 establece la rpima de servicios para los funcionarios del nivel nacional y el Decreto 2351 de 2014 establece la prima de servicios para los empleados públicos departamentales, distritales y municipales.",0,18]
[null,null,"D3525027","Dexametasona",1,{"$f":"ROW()","v":1920},8,null,null,"2.3.1.02.01.001.07","Bonificación por servicios prestados Es la retribución pagadera cada vez que el empleado cumple un año continuo de servicio en una misma entidad. La cual es equivalente al cincuenta por ciento (50%) del valor conjunto de la asignación básica determinada por la ley para el respectivo cargo, sumada a los incrementos por antigüedad y los gastos de representación. Se paga en un plazo de veinte días después del cumplimiento de los requisitos para recibir la bonificación (art. 45,47 y 48, Decreto 1042 de 1978).El Decreto 2418 de 2015 regula la bonificación por servicios prestados para los empleados públicos del nivel territorial.",0,18]
[null,null,"D2322008","Dextrina",1,{"$f":"ROW()","v":1921},8,null,null,"2.3.1.02.01.001.08.01","Prima de navidad Es la retribución correspondiente a un mes de salario que se reconoce a los empleados públicos y trabajadores oficiales por ocasión de la navidad. Esta prima es pagadera la primera quincena del mes de diciembre, por la cuantía del mes, o proporcionalmente al tiempo laborado.El reconocimiento de la prima de navidad como prestación social, se establece en el Decreto 1045 de 1978 (art. 32). El Decreto 1919 de 2002 establece que los empleados públicos de las entidades territoriales tienen derecho a las prestaciones sociales definidas para los empleados de la rama ejecutiva del nivel nacional. ",0,21]
[null,null,"D2321203","Dextrosa",1,{"$f":"ROW()","v":1922},8,null,null,"2.3.1.02.01.001.08.02","Prima de vacaciones Corresponde al reconocimiento que otorga la ley al personal con el que la entidad tenga relación laboral, con el fin de brindarles mayores recursos económicos para gozar del periodo de vacaciones. Esta prima es equivalente a quince (15) días de salario por cada año trabajado y debe pagarse dentro de los cinco (5) días hábiles anteriores a la fecha señalada para la iniciación del descanso remunerado, salvo lo que se disponga en normas o estipulaciones especiales. La prima de vacaciones no se perderá en los casos en que se autorizare el pago de vacaciones en dinero (Decreto 1045 de 1978, arts. 24 a 29).El reconocimiento de la prima de navidad como prestación social, se establece en el Decreto 1045 de 1978 (art. 24), el cual parte de los Decretos 174 y 230 de 1975. El Decreto 1919 de 2002 establece que los empleados públicos de las entidades territoriales tienen derecho a las prestaciones sociales definidas para los empleados de la rama ejecutiva del nivel nacional.",0,21]
[null,null,"D2321208","Dextrosa con adición de edulcorante",1,{"$f":"ROW()","v":1923},8,null,null,"2.3.1.02.01.001.09","Prima técnica salarial Es un reconocimiento económico a servidores públicos que desempeñen cargos altamente calificados cuyas funciones demanden la aplicación de conocimientos técnicos o científicos, o la realización de labores de dirección o de especial responsabilidad. Asimismo, la prima técnica reconoce el desempeño de los servidores en su cargo.Se considera como factor salarial, la prima técnica por formación avanzada y experiencia altamente calificada, también conocida como prima técnica por estudio y experiencia, la cual se otorga a los empleados que acrediten estudios de formación avanzada o cinco años de experiencia calificada, en los cargos de nivel directivo, ejecutivo, profesional, jefes de oficina asesora y nivel asesor.La prima técnica está regulada por los Decretos: 1016/1991, 1624/1991, 1661/1991, 2164/1991, 1336/2003, 2177/2006 y 1164/2012.",0,18]
[null,null,"D4299925","Diales metálicos",1,{"$f":"ROW()","v":1924},{"$f":"LEN(C1924)","v":8},null,null,"2.3.1.02.01.001.10","Viáticos de los funcionarios en comisión Son los pagos que reciben los funcionarios y trabajadores en comisión, para alojamiento y manutención, cuando: a) deban desempeñar sus funciones en un lugar diferente a su sede habitual de trabajo, ya sea dentro o fuera del país, o b) deba atender transitoriamente actividades oficiales distintas a las inherentes al empleo de que es titular (Departamento Administrativo de la Función Pública, 2007).Los viáticos de los funcionarios en comisión constituyen factor salarial para efectos de la liquidación de cesantías y pensiones cuando se hayan percibido por un término superior a ciento ochenta (180) días en el último año de servicio (art. 45, Decreto 1045 de 1978).",0,{"$f":"LEN(J1924)","v":18}]
[null,null,"D3822002","Diamantes pulidos o tallados",1,{"$f":"ROW()","v":1925},8,null,null,"2.3.1.02.01.001.11","Auxilio de conectividad digital Corresponde al pago de auxilio de conectividad digital que de manera temporal y transitoria se reconocerá y pagará a los servidores públicos que devenguen hasta dos (2) salarios mínimos legalesmensuales vigentes y que desarrollen su labor en su domicilio. Este auxilio se reconocerá mientras esté vigente la emergencia sanitaria declarada por el Ministerio de Salud y de Protección Social con ocasión de la pandemia derivada del Coronavirus (COVID-19) y corresponderá al valor establecido para el auxilio de transporte.El auxilio de conectividad y el auxilio de transporte no son acumulables y no será aplicable a los trabajadores que se desempeñan en la modalidad de teletrabajo, a quienes les seguirán siendoaplicables las disposiciones de la Ley 1221 de 2008 (Art. 1, Decreto Legislativo 771 de 2020).",0,18]
[null,null,"D3222001","Diccionarios y enciclopedias, incluso publicadas en fascículos",1,{"$f":"ROW()","v":1926},8,null,null,"2.3.1.02.01.002.01.01","Escalafón diplomático Corresponde a los sueldos de los funcionarios públicos de Carrera Diplomática y Consular. El valor de la asignación básica de dichos funcionarios dependerá de la categoría de Carrera Diplomática y Consular en la cual estén escalafonados conforme a las disposiciones del Decreto 274 de 2000.",0,21]
[null,null,"D4817104","Dientes artificiales",1,{"$f":"ROW()","v":1927},8,null,null,"2.3.1.02.01.002.01.02.01","Comisión de servicios Corresponde a los sueldos de funcionarios públicos que están en comisión de servicios. De acuerdo con el art. 2 del Decreto 2004 de 1997, una comisión de servicios se puede conferir únicamente en los siguientes casos:- Para tramitar o negociar asuntos que a juicio del Gobierno Nacional revistan especial interés para el país.- Para suscribir convenios o acuerdos con otros gobiernos u organismos internacionales.",0,24]
[null,null,"D3336102","Diésel marino-búnker",1,{"$f":"ROW()","v":1928},8,null,null,"2.3.1.02.01.002.01.02.02","Comisión de estudios Corresponde a los sueldos de funcionarios públicos que están en comisión de estudios. Para conferir una comisión de estudios, el objeto de la misma debe guardar relación con los fines de la entidad o con las funciones inherentes al cargo que desempeña el servidor público y ser superior a un mes (art. 2, Decreto 1050 de 1997).Se podrá conferir comisión de estudios en el exterior al servidor público que tenga por lo menos un (1) año continuo de servicio en la respectiva entidad. A su vez, el comisionado se comprometerá mediante convenio a prestar sus servicios a la entidad que otorga la comisión o a cualquier otra entidad del Estado, por el doble del tiempo de duración de la comisión (Decreto 3555 de 2007).",0,24]
[null,null,"D3336103","Diésel oil ACPM (fuel gas gasoil marine gas)",1,{"$f":"ROW()","v":1929},8,null,null,"2.3.1.02.01.002.02","Prima de actividad Reconocimiento que hace la ley a los empleados públicos del Ministerio de Defensa y de la Policía Nacional, mientras permanezcan en el desempeño de sus funciones. Esta prima es equivalente al cuarenta y nueve punto cinco por ciento (49.5%) del sueldo básico mensual del funcionario (art. 38, Decreto 1214 de 1990, modificado por el art. 30 del Decreto 984 de 2017).",0,18]
[null,null,"D3525060","Digitalina",1,{"$f":"ROW()","v":1930},8,null,null,"2.3.1.02.01.002.03","Prima especial de servicios Reconocimiento que hace la ley a los magistrados del Consejo Superior de la Judicatura, de la Corte Suprema de Justicia, de la Corte Constitucional, del Consejo de Estado, el Procurador General de la Nación, el Contralor General de la República, el Fiscal General de la Nación, el Defensor del Pueblo y el Registrador Nacional del Estado Civil con el fin de igualar los ingresos percibidos por estos funcionarios, con aquellos que reciben los miembros del Congreso, sin que en ningún caso los supere. El Gobierno podrá fijar la misma prima para los ministros de despacho, los Generales y Almirantes de la Fuerza Pública (art. 15, Ley 4 de 1992).Esta prima reemplaza en su totalidad y deja sin efecto cualquier otra prima a que tengan derecho dichos funcionarios, con excepción de la prima de navidad (art. 5, Decreto 10 de 1993).",0,18]
[null,null,"D3525067","Dihidroestreptomicina",1,{"$f":"ROW()","v":1931},8,null,null,"2.3.1.02.01.002.04","Prima semestral Es el pago que se realiza en el mes de junio y diciembre, denóminado prima semestral, a los funcionarios que cumplan con los requisitos establecidos por la ley, y pagadera en conformidad con las disposiciones legales. Por ejemplo:a. La Superintendencia de Sociedades realiza el pago de la prima semestral a los beneficiarios del régimen especial de prestaciones económicas de los empleados afiliados a Corpoanónimas (entidad liquidada), en virtud de lo establecido por el art. 12 del Decreto 1695 de 1997. b) El artículo 2 de la Ley 55 de 1987, establece el reconocimiento de una prima semestral para los empleados del Congreso nacional, pagadera en junio y diciembre de cada año.c) El Acuerdo Distrital 25 de 1990 establece el pago de una prima semestral a los empleados y trabajadores de la Administración Central del Distrito, que hayan laborado durante el primer semestre del año y proporcionalmente a quienes laboren por lo menos tres (3) meses completos de ese semestre, y que equivale a treinta y siete (37) días de salario.",0,18]
[null,null,"D3415014","Diisocianatos-desmophens-desmodurs",1,{"$f":"ROW()","v":1932},8,null,null,"2.3.1.02.01.002.05","Prima ascensional Reconocimiento que hace la ley a favor de los Magistrados y Fiscales de Tribunal, que reúnan los requisitos constitucionales para el ejercicio de la magistratura de la Corte Suprema de Justicia, y a favor de los Fiscales de Juzgado Superior, Jueces Superiores, de Menores y de Circuito que reúnan los requisitos constitucionales para ser Magistrados de Tribunal Superior (art. 3, Decreto 903 de 1969).El Consejo Superior de la Administración de Justicia, para determinar la cuantía individual de la prima (que no podrá ser mayor al cinco por ciento (5%) de la asignación mensual), tendrá en cuenta la antigüedad y la calidad de los requisitos constitucionales exigidos para el desempeño del cargo superior, a la época en que el peticionario haya tomado posesión del mismo (Decreto 760 de 1970).",0,18]
[null,null,"D3899706","Dijes y similares",1,{"$f":"ROW()","v":1933},8,null,null,"2.3.1.02.01.002.06","Primas extraordinarias Corresponde al pago por concepto de primas legalmente otorgadas, que constituyen factor salarial y que serán pagaderas únicamente en los términos, condiciones y las veces que se establezca en su ley de creación.",0,18]
[null,null,"D3511037","Diluyentes para parafinas",1,{"$f":"ROW()","v":1934},8,null,null,"2.3.1.02.01.002.07","Prima mensual Es el pago mensual equivalente al incentivo económico por los servicios prestados. Pago no menor al treinta por ciento (30%), ni mayor al sesenta por ciento (60%) del salario básico mensual.",0,18]
[null,null,"D3511035","Diluyentes para pinturas",1,{"$f":"ROW()","v":1935},8,null,null,"2.3.1.02.01.002.08","Auxilio especial de transporte Es el pago por concepto de auxilio especial de transporte a los beneficiarios establecidos por la ley, de acuerdo con las disposiciones legales correspondientes.Por ejemplo, el artículo 3 del Decreto 192 de 2014 dispone que tienen derecho a este subsidio, los servidores públicos del Instituto Nacional de Medicina Legal y Ciencias Forenses que se desempeñen en funciones de mensajería.",0,18]
[null,null,"D3511038","Diluyentes para tintas",1,{"$f":"ROW()","v":1936},8,null,null,"2.3.1.02.01.002.09","Bonificación por comisión especial de servicio Reconocimiento que hace la ley a los empleados del Departamento Administrativo de Seguridad - DAS que deban cumplir comisiones especiales de servicio fuera del país. Dichos empleados tendrán derecho a percibir una bonificación mensual en dólares o proporcional al tiempo de la comisión, hasta por el quince por ciento (15%) de su asignación básica mensual a razón de un dólar por cada cinco pesos ($5) (art. 6, Decreto 1933 de 1989).",0,18]
[null,null,"D3414039","Dimetilisoftalato (DMI)",1,{"$f":"ROW()","v":1937},8,null,null,"2.3.1.02.01.002.10.01","Beneficios a los empleados a corto plazo",0,21]
[null,null,"D3523006","Dimetilpirazolona",1,{"$f":"ROW()","v":1938},8,null,null,"2.3.1.02.01.002.10.02","Beneficios a los empleados a largo plazo",0,21]
[null,null,"D3414037","Dimetiltereftalato (DMT)",1,{"$f":"ROW()","v":1939},8,null,null,"2.3.1.02.01.002.11","Bonificación por compensación La bonificación por compensación es el pago que se realiza a los funcionarios públicos determinados por la ley, para la nivelación de su salario.Por ejemplo, la bonificación por compensación creada por el Decreto 610 de 1998, es el pago mensual, equivalente al ochenta por ciento (80%) de la asignación básica más los demás ingresos laborales. Los beneficiarios de esta bonificación son: los magistrados de las altas Cortes, secretarios generales de las mismas, Fiscales delegados ante Tribunales del distrito, y otros funcionarios de la rama judicial. De acuerdo con el Decreto 1102 de 2012, que venían percibiendo la bonificación de gestión judicial para la fecha del Decreto mencionado, reciben el presente beneficio. Incluye: •La prima individual de compensación creada por el Decreto 4669 de 2006. Según lo establecido por el artículo 11 del Decreto 4669 de 2006, los servidores públicos del Instituto Nacional de Medicina Legal y Ciencias Forenses:[…]que fueren incorporados con una asignación básica mensual inferior a la que venían percibiendo, una prima individual de compensación, de carácter personal, que nivele sus ingresos con los que venían percibiendo por concepto de asignación básica mensual, de conformidad con lo establecido en el artículo 2o del Decreto 384 de 2006, la que devengarán mientras permanezcan en el mismo empleo. (Decreto 4669, 2006) Esta prima constituye factor salarial para liquidar prestaciones sociales, y firma parte de la asignación básica para efectos pensionales (Decreto 4669, 2006). Otro ejemplo es la bonificación por compensación creada por el Decreto Ley 4064 de 2011, donde los funcionarios del DAS incorporados a la Unidad Administrativa Especial Migración Colombia, en un empleo al cual corresponde una asignación básica inferior al valor de la asignación básica y la prima de riesgo que vienen percibiendo, la diferencia se reconocerá con una bonificación mensual individual por compensación que se entiende integrada a la asignación básica y por lo tanto constituye factor salarial para todos los efectos legales.",0,18]
[null,null,"D3545003","Dinamita",1,{"$f":"ROW()","v":1940},8,null,null,"2.3.1.02.01.002.12.01","Beneficios a los empleados a corto plazo Corresponde al pago por los incrementos de salario por antigüedad que aplica a todos los servidores públicos que fueron vinculados con anterioridad a la expedición del decreto Ley 1042 de 1978, art 49. Son los pagos que se aplica a los empleados que permanezcan en el mismo cargo al iniciar el tercer año.",0,21]
[null,null,"D4715001","Diodos",1,{"$f":"ROW()","v":1941},8,null,null,"2.3.1.02.01.002.12.02","Beneficios a los empleados a largo plazo Corresponde al pago por los incrementos de salario por antigüedad que aplica a todos los servidores públicos que fueron vinculados con anterioridad a la expedición del decreto Ley 1042 de 1978, art 49. Son los pagos que se aplica a los empleados que permanezcan en el mismo cargo del quinto año en adelante.",0,21]
[null,null,"D3421011","Dióxido de azufre, óxido sulfuroso o anídrido sulfuroso",1,{"$f":"ROW()","v":1942},8,null,null,"2.3.1.02.01.002.13","Prima especial Reconocimiento que hace la ley a los funcionarios de la planta externa del Ministerio de Comercio, Industria y Turismo (art. 4, Decreto 4971 de 2009) y a los funcionarios que presten sus servicios en las misiones colombianas permanentes acreditadas en el exterior (art. 4, Decreto 3357 de 2009).Esta prima se paga en forma mensual y constituye factor salarial para todos los efectos, incluyendo los aportes al Sistema Integral de Seguridad Social.",0,18]
[null,null,"D1619906","Dióxido de manganeso natural",1,{"$f":"ROW()","v":1943},8,null,null,"2.3.1.02.01.002.14","Bonificación cuerpo custodia y vigilancia Es una bonificación que se reconoce a los oficiales logísticos y de tratamiento penitenciario pertenecientes al Cuerpo de Custodia y Vigilancia Penitenciaria y Carcelaria Nacional del Instituto Nacional Penitenciario y Carcelario -INPEC-, de manera mensual a partir del primero (1) de enero de 2015, calculado sobre la asignación básica mensual correspondiente al empleo (art. 2, Decreto 1268 de 2015).De acuerdo al art. 4 del Decreto 1268 de 2015, la bonificación constituye factor salarial para todos los efectos legales y los aportes obligatorios sobre los pagos que se efectúen por ese concepto, se realizarán de conformidad con las disposiciones legales vigentes.",0,18]
[null,null,"D3423118","Dióxido de silicio",1,{"$f":"ROW()","v":1944},8,null,null,"2.3.1.02.01.002.15","Bonificación personal administrativo Es una bonificación que se reconoce al personal administrativo del Instituto Nacional Penitenciario y Carcelario INPEC, una bonificación que se reconocerá mensualmente a partir del primero (1) de enero de 2015, calculado sobre la asignación básica mensual correspondiente al empleo que desempeñe.De acuerdo al art. 4 del Decreto 1268 de 2015 la bonificación constituye factor salarial para todos los efectos legales y los aportes obligatorios sobre los pagos que se efectúen por ese concepto, se realizarán de conformidad con las disposiciones legales vigentes.",0,18]
[null,null,"D3523008","Dipirona",1,{"$f":"ROW()","v":1945},8,null,null,"2.3.1.02.01.002.16","Sobresueldo Reconocimiento económico que hace la ley a los controladores de tránsito aéreo y supervisores de tránsito aéreo debidamente acreditados por el Centro de Estudios Aeronáuticos y pertenecientes al área de control de Tránsito Aéreo de la Unidad Administrativa Especial de Aeronáutica Civil en razón del volumen de operación de control de tráfico aéreo. El porcentaje del sobresueldo se fija de acuerdo con la categoría del aeropuerto donde el funcionario preste el servicio (Decreto 313 de 2018, art. 8).",0,18]
[null,null,"D3523004","Dipirona-metilmelubrina",1,{"$f":"ROW()","v":1946},8,null,null,"2.3.1.02.01.002.17","Prima de desgaste y alto riesgo visual Reconocimiento económico que hace el Distrito de Bogotá a los bacteriólogos que presten sus servicios a las diferentes entidades y dependencias del distrito.",0,18]
[null,null,"D3223001","Directorios telefónicos y similares, impresos",1,{"$f":"ROW()","v":1947},8,null,null,"2.3.1.02.01.002.18","Prima de productividad Reconocimiento económico que hace la ley a los empleados de la Rama Judicial, de la Fiscalía General de la Nación y del Instituto Nacional de Medicina Legal y Ciencias Forenses para mejorar la productividad. Esta prima es equivalente al cincuenta por ciento (50%) de la remuneración mensual, pagadera en el mes de diciembre de cada año (Decreto 2460 de 2006; modificado por el Decreto 3899 de 2008).",0,18]
[null,null,"D4754001","Disco compacto grabable",1,{"$f":"ROW()","v":1948},8,null,null,"2.3.1.02.01.002.19","Reserva especial del ahorro Corresponde al reconocimiento mensual que realiza la Superintendencia de Sociedades, la Superintendencia de Industria y Comercio, la Superintendencia Financiera de Colombia y el Instituto Nacional de Metrología a favor de sus empleados, con el fin de incentivar el ahorro de estos. Este reconocimiento es equivalente al 65% del sueldo básico, prima de antigüedad, prima técnica, gastos de representación y el incremento de salario por antigüedad",0,18]
[null,null,"D4761004","Discos compactos grabados",1,{"$f":"ROW()","v":1949},8,null,null,"2.3.1.02.01.002.20","Prima de localización (Artículo 8 Decreto 415 de 1979) Corresponde la prima que reconoce el Servicio Nacional de Aprendizaje (SENA) a los empleados públicos que presten sus servicios en el Centro Náutico Pesquero de Buenaventura, en la ciudad de Barrancabermeja, en el Departamento del Chocó y en la región de Urabá, donde existen sedes permanentes del SENA, en los Departamentos del César y la Guajira o en Centros Fijos de los Territorios Nacionales. Esta prima se fijó en1.500.00 mensuales, incrementándose anualmente en un 20%, constituye parte integral de la asignación básica mensual de los empleos del SENA y en ningún caso se podrá recibir viáticos y prima de localización simultáneamente",0,18]
[null,null,"D4153404","Discos de aluminio",1,{"$f":"ROW()","v":1950},8,null,null,"2.3.1.02.01.002.21","Quinquenios Recursos destinados al pago a que tienen derecho los empleados públicos al cumplirse cinco años de antigüedad de servicios prestados en un trabajo, según lo estipulado en la ley. de acuerdo con la entidad y régimen salarial que rija para el mismo.“El quinquenio es un beneficio laboral que se reconoce con ocasión de la prestación del servicio por un lapso determinado, sin que manera alguna cubra riesgo o necesidad alguno del empleado. Motivo por el cual, en concepto de esta Oficina, el quinquenio es Salario o Remuneración”. (Concepto 11547 de 2002 Departamento Administrativo de la Función Pública).",0,18]
[null,null,"D4761001","Discos grabados para gramófono",1,{"$f":"ROW()","v":1951},8,null,null,"2.3.1.02.01.002.22","Beneficios a los empleados a largo plazo",0,18]
[null,null,"D4761005","Discos láser grabados",1,{"$f":"ROW()","v":1952},8,null,null,"2.3.1.02.01.002.23","Remuneración adicional Corresponde a remuneración a la que tienen derecho los empleados al servicio de la Contraloría General de la República que laboren ordinariamente en los departamentos creados por el Artículo 309207de la Constitución Política y en el Departamento del Caquetá. Esta remuneración es equivalente al 8% de la asignación básica mensual que les corresponde",0,18]
[null,null,"D4740103","Discos marcadores de material plástico para teléfonos",1,{"$f":"ROW()","v":1953},8,null,null,"2.3.1.02.01.002.24","Prima de capacitación no acogidos Reconocimiento que hace la ley a Magistrados del Tribunal, Jueces Superiores, de menores o circuitos en razón de estudios de post-grado, obra de investigación científica publicada o ejercicio de la docencia universitaria, todo en materias relacionadas con su cargo y especialidad (Art. 3, Decreto 903 de 1969 y Decreto 717 de 1978).El Consejo Superior de la administración de justicia para la determinación individual del monto de la prima de capacitación, que puede ascender hasta el 10% de la respectiva asignación mensual, analizará en singular cada factor invocado y demostrado, teniendo en cuenta la naturaleza, pertinencia, duración e intensidad, abundancia y pertinencia de la obra científica; y la antigüedad, perseverancia, rendimiento y pertinencia del ejercicio del magisterio (Art. 4 del Decreto 760 de 1970).",0,18]
[null,null,"D4753001","Discos matrices para grabación",1,{"$f":"ROW()","v":1954},8,null,null,"2.3.1.02.01.002.25","Prima del nivel ejecutivo Corresponde a la prima a la que tiene derecho el personal del nivel ejecutivo de la Policía Nacional en servicio activo. Es equivalente al 20% de la asignación básica mensual, no tiene carácter salarial para ningún efecto, con excepción de la prima de navidad",0,18]
[null,null,"D3791001","Discos o piedras de esmeril",1,{"$f":"ROW()","v":1955},8,null,null,"2.3.1.02.01.002.26","Prima de retorno a la experiencia Es el reconocimiento económico que hace la ley al personal del nivel ejecutivo de la Policía Nacional por cada año de servicio que permanezca en el mismo grado de acuerdo con el porcentaje del sueldo básico",0,18]
[null,null,"D4411501","Discos para arados",1,{"$f":"ROW()","v":1956},8,null,null,"2.3.1.02.01.002.27","Prima de vuelo",0,18]
[null,null,"D2799804","Discos para brillar y/o pulir elaborados con materiales textiles",1,{"$f":"ROW()","v":1957},8,null,null,"2.3.1.02.01.002.28","Prima de carestía Reconocimiento que se hace en el mes de abril de cada año a los trabajadores oficiales vinculados a 31 de diciembre del año inmediatamente anterior de una prima de carestía, de conformidad con lo previsto en la convención colectiva de trabajo vigente.. NE : Concepto exclusivo Universidad Nacional de Colombia",0,18]
[null,null,"D4912905","Discos para embragues de automotores",1,{"$f":"ROW()","v":1958},8,null,null,"2.3.1.02.01.002.29","Bonificación cargo académico administrativo Reconocimiento de bonificación mensual a los docentes que por acto administrativo desempeñan cargos académico administrativos en funciones directivas.",0,18]
[null,null,"D4912908","Discos para frenos de automotores",1,{"$f":"ROW()","v":1959},8,null,null,"2.3.1.02.01.002.30","Bonificación bienestar universitario Corresponde al pago a los servidores públicos según Acuerdo CSU 005 de 1998, aplica para docentes de carrera universitaria.NE: Aplica para la Universidad Nacional de Colombia.",0,18]
[null,null,"D4292132","Discos para sierras circulares",1,{"$f":"ROW()","v":1960},8,null,null,"2.3.1.02.01.002.31","Cuatrienios Recursos destinados al pago a que tienen derecho los empleados públicos al cumplirse Cuatro años de antigüedad de servicios prestados en un trabajo, según lo estipulado en la ley.",0,18]
[null,null,"D4753006","Discos vírgenes para gramófonos",1,{"$f":"ROW()","v":1961},8,null,null,"2.3.1.02.01.002.32","Bonificación Pedagógica Docentes Prescolar, Básica y Media La bonificación pedagógica será reconocida para docentes y directivos docentes de entidades territoriales, pagadera una sola vez al año de acuerdo con los porcentajes indicados; cuando el docente o directivo docente cumpla un año continúo de servicio efectivamente prestado; constituye factor salarial y no tendrá efectos retroactivos.",0,18]
[null,null,"D2823607","Disfraces",1,{"$f":"ROW()","v":1962},8,null,null,"2.3.1.02.01.002.33","Sobresueldo docentes y directivos docentes Prescolar, Básica y Media Es la asignación adicional para docentes de prescolar vinculados en este nivel antes del 23 de febrero de 1984 y que permanezca sin solución de continuidad desempeñándose en el mismo cargo, equivalente al quince por ciento (15%) calculado sobre la asignación básica mensual. Dicha asignación adicional dejará de percibirse al cambiar de nivel educativo.",0,18]
[null,null,"D3335005","Disolventes alifat N. 1, 2 y 3 derivados del petróleo",1,{"$f":"ROW()","v":1963},8,null,null,"2.3.1.02.01.002.34","Bonificación Educadores de Básica y Media Corresponde a la bonificación para los servidores públicos docentes y directivos docentes al servicio del Estado en los niveles de preescolar, básica y media, regidos por el Decreto Ley 2277 de 1979, el Decreto Ley 1278 de 2002 o la Sección 4, Capítulo 5, Título 3, Parte 3 del Decreto 1075 de 2015, Único Reglamentario del Sector Educación, y pagados con cargo al Sistema General de Participaciones, una bonificación, que se reconocerá mensualmente a partir del primero (01) de enero de 2020 y hasta el treinta y uno (31) diciembre de 2020, mientras el servidor público permanezca en el servicio.",0,18]
[null,null,"D3335099","Disolventes n.c.p. derivados del petróleo",1,{"$f":"ROW()","v":1964},8,null,null,"2.3.1.02.01.002.35","Prima de vida cara Corresponde al pago que realiza el municipio de Medellín en el marco de la Convención Colectiva firmada con los Trabajadores Oficiales del municipio.",0,18]
[null,null,"D4393402","Dispensadores para líquidos",1,{"$f":"ROW()","v":1965},8,null,null,"2.3.1.02.01.002.36","Prima de clima o de calor Es el reconocimiento económico que se realiza a los empleados públicos que desempeñan sus funciones en condiciones climáticas desfavorables para su salud, de acuerdo con las condiciones legales.",0,18]
[null,null,"D4393401","Dispensadores-monederos de mercancía menuda (cigarrillos, golosinas)",1,{"$f":"ROW()","v":1966},8,null,null,"2.3.1.02.01.002.37","Prima Móvil Es el reconocimiento económico que se realiza a los empleados públicos que desempeñan sus funciones como operadores de maquinaria pesada (especial I y especial II), en el marco de una Convención colectiva.",0,18]
[null,null,"D3549903","Dispersantes para textiles",1,{"$f":"ROW()","v":1967},8,null,null,"2.3.1.02.01.002.38","Prima de Riesgo Prima creada por convención colectiva para los trabajadores que manipulan explosivos en la Industria Militar. La cual corresponderá a dos salarios básico por cada año de servicio",0,18]
[null,null,"D4621298","Dispositivos protectores eléctricos n.c.p.",1,{"$f":"ROW()","v":1968},8,null,null,"2.3.1.02.01.002.39","Remuneración Sorteo Semanal Corresponde a la remuneración que realiza la lotería de Cundinamarca a los trabajadores que participen en las labores de la realización semanal de sorteos.",0,18]
[null,null,"D4715002","Dispositivos semiconductores fotosensibles (diodos emisores de luz) - LEDS",1,{"$f":"ROW()","v":1969},8,null,null,"2.3.1.02.01.002.40","Vacaciones Corresponde al reconocimiento que por mera liberalidad realiza el empleador al trabajador por concepto de vacaciones cuando estas se consideran como un factor salarial, en aplicación de lo establecido en el código sustantivo de trabajo.",0,18]
[null,null,"D3699054","Distintivos para identificación personal",1,{"$f":"ROW()","v":1970},8,null,null,"2.3.1.02.01.002.41","Distinción Son los reconocimientos que se otorgan al Patrullero en servicio activo, por su tiempo de servicio, buen comportamiento y profesionalización, previo el lleno de los requisitos dispuestos en la Ley 2179 de 2021.",0,18]
[null,null,"D4691102","Distribuidores eléctricos para vehículos automóviles",1,{"$f":"ROW()","v":1971},8,null,null,"2.3.1.02.02.001","Aportes a la seguridad social en pensiones Son los pagos por concepto de contribución social que hacen los empleadores a los fondos de seguridad social en pensiones. Este pago se realiza en virtud de la Ley 100 de 1993, por medio de la cual se creó el Sistema de Seguridad Social de Pensiones, y se estableció la obligatoriedad de la afiliación de todos los empleados al sistema.Este aporte tiene como finalidad garantizar a la población el amparo contra las contingencias derivadas de la vejez, la invalidez y la muerte, mediante el reconocimiento de las pensiones y prestaciones correspondientes (Ley 100 de 1993, art. 10).",0,15]
[null,null,"D4691106","Distribuidores para automotores",1,{"$f":"ROW()","v":1972},8,null,null,"2.3.1.02.02.002","Aportes a la seguridad social en salud Son los pagos por concepto de contribución social que hacen los empleadores a las Entidades Promotoras en Salud (EPS) para el cubrimiento de riesgos de salud de sus empleados. Este pago se realiza en virtud de la Ley 100 de 1993, la cual creó el Sistema de Seguridad Social en Salud y estableció como deberes del empleador realizar cumplidamente los aportes correspondientes.",0,15]
[null,null,"D3160008","Divisiones de madera",1,{"$f":"ROW()","v":1973},8,null,null,"2.3.1.02.02.003","Aportes de cesantías Es la contribución de cesantías, que el empleador está obligado a pagar en razón de un mes de sueldo o jornal por cada año de servicio de su empleado, proporcionalmente fraccionado. Este aporte tiene como fin cubrir o prever las necesidades que se originan al trabajador al momento de quedar cesante. (Departamento Administrativo de la Función Pública, 2012).Los aportes a los fondos administradores de cesantías entraron en vigor para entidades territoriales con la Ley 344 de 1996. Así mismo, la Ley 432 de 1998 permitió que el personal del nivel territorial se afiliara al Fondo Nacional del Ahorro.",0,15]
[null,null,"D3695005","Divisiones de material plástico",1,{"$f":"ROW()","v":1974},8,null,null,"2.3.1.02.02.004","Aportes a cajas de compensación familiar Son los pagos por concepto de contribución social que hacen los empleadores a las cajas de Compensación familiar para el cubrimiento del subsidio familiar y de vivienda.",0,15]
[null,null,"D3719903","Divisiones de vidrio para baño",1,{"$f":"ROW()","v":1975},8,null,null,"2.3.1.02.02.005","Aportes generales al sistema de riesgos laborales Son los pagos por concepto de contribución social que hacen los empleadores a una Administradora de Riesgos Laborales (ARL), según elección, liquidación y las tablas de riesgo establecidas legalmente; para el cubrimiento de las prestaciones económicas y asistenciales derivadas de un accidente de trabajo o una enfermedad profesional (Ley 100 de 1993; Decreto 1295 de 1994).El monto de las cotizaciones no podrá ser inferior al 0.348%, ni superior al 8.7%, de la base de cotización de los trabajadores a cargo del respectivo empleador (Decreto 1295 de 1994, art.18). Este pago se realiza en virtud de la Ley 100 de 1993, la cual creó el sistema General de Riesgos laborales, y el Decreto 1295 de 1994, el cual establece: […] c) Todos los empleadores deben afiliarse al Sistema General de Riesgos Profesionales. […] d) La afiliación de los trabajadores dependientes es obligatoria para todos los empleadores. […]El empleador que no afilie a sus trabajadores al Sistema General de Riesgos Profesionales, además de las sanciones legales, será responsable de las prestaciones que se otorgan en este decreto (Decreto 1295 de 1994, art. 4).",0,15]
[null,null,"D3712908","Divisiones en fibra de vidrio",1,{"$f":"ROW()","v":1976},8,null,null,"2.3.1.02.02.006","Aportes al ICBF Son los pagos por concepto de contribución parafiscal que hacen los empleadores al Instituto Colombiano de Bienestar Familiar (ICBF). Esta contribución está destinada a atender la creación y sostenimiento de centros de atención integral al preescolar, para menores de 7 años hijos de empleados públicos y de trabajadores oficiales y privados",0,15]
[null,null,"D4212010","Divisiones para baño",1,{"$f":"ROW()","v":1977},8,null,null,"2.3.1.02.02.007","Aportes al SENA Es la contribución parafiscal a pagar por la Nación (por intermedio de los Ministerios, Departamentos Administrativos y Superintendencias), los establecimientos públicos, las empresas industriales y comerciales y las empresas de economía mixta de las órdenes nacional, departamental, Intendencias, distrital y municipal, y los empleados que ocupen uno o más trabajadores permanentes47 al SENA. Los aportes para la Nación son equivalentes al 0,5% de la nómina mensual de salarios y están destinados a programas específicos de formación profesional acelerada, durante la prestación del servicio militar obligatorio. Los aportes de los demás contribuyentes son equivalentes al 2% de las nóminas respectivas (Ley 21 de 1982, arts. 7 a 12). De acuerdo con la Ley 223 de 1995, las universidades públicas no están obligadas a realizar aportes al SENA (Ley 223 de 1995, art. 181).",0,15]
[null,null,"D3812107","Divisiones, módulos metálicos para oficina y usos análogos",1,{"$f":"ROW()","v":1978},8,null,null,"2.3.1.02.02.008","Aportes a la ESAP Contribución parafiscal a pagar por la Nación, los departamentos, intendencias, comisarías, el Distrito Especial de Bogotá y los municipios empleadores a la ESAP. La Ley establece el porcentaje a pagar, el cual se calcula sobre los pagos por concepto de salarios (Ley 21 de 1982, art. 8).",0,15]
[null,null,"D3549925","Dodecilbenceno (alcano) tridecilbenceno",1,{"$f":"ROW()","v":1979},8,null,null,"2.3.1.02.02.009","Aportes a escuelas industriales e institutos técnicos Son los pagos por concepto de contribución parafiscal que hacen los empleadores a favor de las escuelas industriales e institutos técnicos. Este aporte es equivalente al 0,5% de la nómina mensual de salarios de los contribuyentes (Ley 21 de 1982, art. 11)",0,15]
[null,null,"D1633001","Dolomita (cruda)",1,{"$f":"ROW()","v":1980},8,null,null,"2.3.1.02.02.010","Aporte subsidio de vivienda fuerzas militares y policía Son los pagos por concepto de contribución que hacen los empleadores para otorgar el subsidio de vivienda de las Fuerzas Militares y la Policía",0,15]
[null,null,"D3745001","Dolomita elaborada",1,{"$f":"ROW()","v":1981},8,null,null,"2.3.1.02.03.001.01","Vacaciones Es el pago por el descanso remunerado a que tiene derecho el empleado después de un año de labor en la entidad. Esta retribución se reconoce a los empleados por la totalidad de días de vacaciones y corresponde a quince (15) días de trabajo, y será pagado al menos cinco (5) días con antelación a la fecha señalada para iniciar el goce del descanso remunerado (Decreto 1045 de 1978, arts. 18 y 48).",0,18]
[null,null,"D0429203","Doncella, fresca o refrigerada",1,{"$f":"ROW()","v":1982},8,null,null,"2.3.1.02.03.001.02","Indemnización por vacaciones Corresponde a la compensación en dinero a la que tiene derecho el empleado por vacaciones causadas, pero no disfrutadas. En principio, la compensación en dinero de las vacaciones está prohibida, en tanto estas constituyen un derecho del que gozan todos los trabajadores como quiera que el reposo es una condición mínima que ofrece la posibilidad de que el empleado renueve la fuerza y la dedicación para el desarrollo de sus actividades (Corte Constitucional, Sentencia C-598/1997).",0,18]
[null,null,"D0421216","Dorada, de cultivo, fresca o refrigerada",1,{"$f":"ROW()","v":1983},8,null,null,"2.3.1.02.03.001.03","Bonificación especial de recreación Es la retribución que se reconoce a los empleados por cada periodo de vacaciones en el momento de iniciar el disfrute del respectivo periodo vacacional. La cuantía de la bonificación por recreación equivale a dos días de la asignación básica mensual que le corresponda al empleado.Esta bonificación no constituirá factor de salario para ningún efecto legal y se pagará por lo menos con cinco (5) días hábiles de antelación a la fecha de inicio en el evento que se disfrute del descanso remunerado (Decreto 229 de 2016, art. 16).",0,18]
[null,null,"D0421208","Dorada, vivos",1,{"$f":"ROW()","v":1984},8,null,null,"2.3.1.02.03.001.04","Bonificación de dirección para altos funcionarios del Estado Es la retribución económica reconocida a determinados funcionarios del Estado, quienes desempeñan labores relacionadas con la dirección, la cual es equivalente a cuatro (4) veces la remuneración de asignación básica mensual, más los gastos de representación y la prima técnica. Esta prima se paga en dos contados: 30 de junio y 30 de diciembre del respectivo año (Decreto 3150 de 2005). De acuerdo con el Decreto 2699 de 2012, son beneficiarios de la bonificación de dirección: •Ministros, •Directores de Departamento Administrativo; •Alto comisionado en la Consejería Presidencial para la Paz, •Alto Consejero Presidencial, •Secretario Privado de la Presidencia de la República, •Secretarios de la Presidencia de la República, •Consejero Presidencial, •Director de Programa Presidencial, •Consejero Auxiliar 1125, •Subdirector General, •Subdirector de Operaciones, •Alto Asesor de Seguridad Nacional, •Director de Programa Presidencial \"Colombia Joven\", •Jefes de Oficina, •Jefes de Área y Asesores Grados 13 y 14 de la Presidencia de la República; •Secretarios Generales de Ministerios y Departamentos Administrativos, •Directores Administrativo o Financiero o Técnico u Operativo de Ministerio y Departamento Administrativo, •Directores, Gerentes o Presidentes de Establecimientos Públicos, •Director de la Unidad Administrativa Especial de la Aeronáutica Civil, •Director de la Unidad Administrativa Especial de Impuestos y Aduanas Nacionales, •Directores de Unidades Administrativas Especiales con Personería Jurídica, •Oficiales de las Fuerzas Militares o de la Policía Nacional destinados en Comisión para desempeñar las funciones de Jefe de la Casa Militar, •Presidente del Instituto Colombiano de Crédito Educativo y Estudios Técnicos en el Exterior Mariano Ospina Pérez - ICETEX, •Director General del Instituto Colombiano para la Evaluación de la Educación - ICFES, •Gerente General de la Sociedad Hotel San Diego S. A Hotel Tequendama, Gerente de la Industria Militar - INDUMIL, •Gerente de la Caja Promotora de Vivienda Militar, •Presidente del Servicio Aéreo a Territorios Nacionales - SATENA. •Gerente de la Corporación de la Industria Aeronáutica Colombiana - ClAC, •Director General de la Caja de Previsión Social de Comunicaciones - CAPRECOM, •Comisionado de la Comisión Nacional del Servicio Civil - CNSC, •Secretarios Generales del Senado de la República y Cámara de Representantes Grado 14, Subsecretarios Generales Grado 12, Secretarios de las Comisiones Constitucionales y legales Permanentes Grado 12 y Subsecretarios de las Comisiones Constitucionales y Legales. Para los siguientes funcionarios, la bonificación de dirección equivale a cuatro meses la asignación básica más los gastos de representación:•Director General de la Unidad Administrativa Especial de Gestión Pensional y Contribuciones Parafiscales de la Protección Social - UGPP- •Director General y Presidente de Agencia Estatal de Naturaleza Especial, Gerente y Presidente las entidades que se rigen por el Decreto 508 de 2012 y por las disposiciones que la modifiquen, •Presidente de la Empresa Colombiana de Petróleos S. A Ecopetrol S. A, •Gerente General del Fondo Financiero de Proyectos de Desarrollo - FONADE,•Presidente de la Financiera de Desarrollo Territorial S. A - FINDETER, •Presidente de la Previsora S. A, Compañía de Seguros, •Presidente Fiduciaria La Previsora S. A FIDUPREVISORA, •Presidente de Positiva Compañía de Seguros S.A, •Presidente de la Central de Inversiones S. A – CISA, •Presidente de la Administradora Colombiana de Pensiones COLPENSIONES",0,18]
[null,null,"D0429115","Dorado, fresco o refrigerado",1,{"$f":"ROW()","v":1985},8,null,null,"2.3.1.02.03.002","Prima técnica no salarial Comprende la prima técnica por evaluación del desempeño y la prima técnica automática.La prima técnica por evaluación de desempeño se otorga a funcionarios directivos, jefes de oficina asesora o asesores que obtienen un porcentaje correspondiente al 90%, como mínimo, del total de la última evaluación del desempeño, correspondiente a un periodo no inferior a 3 meses en el ejercicio del cargo en propiedad (Decreto 1164 de 2012). No puede ser superior al 50% de la asignación básica mensual del empleado al que se le asigna la prima.Por su parte, la prima técnica automática es otorgada a altos funcionarios, en virtud de las calidades excepcionales del ejercicio de sus funciones. Equivale al 50% del sueldo y los gastos de representación de los empleados.De acuerdo con el artículo 7 del Decreto 1661 de 1991, no constituyen factor salarial: la prima técnica por evaluación de desempeño y la prima técnica automática.",0,15]
[null,null,"D0421103","Dorado-blanco pobre, Apuy, fresco o refrigerado",1,{"$f":"ROW()","v":1986},8,null,null,"2.3.1.02.03.003","Bonificación especial por servicios de seguridad a ex presidentes Corresponde al pago que se les hace a los funcionarios de las Fuerzas Militares, de la Policía Nacional y el Departamento Administrativo de Seguridad, asignados de forma permanente en la prestación de servicios para garantizar la seguridad de los ex presidentes de la República y sus cónyuges sobrevivientes, equivalente al 30% de la asignación básica mensual que reciben.El pago de esta bonificación se hará con cargo al presupuesto de la entidad a la cual se encuentre vinculado el funcionario (art. 4, Decreto 1700 de 2010).",0,15]
[null,null,"D0429116","Dormilonas, frescas o refrigeradas",1,{"$f":"ROW()","v":1987},8,null,null,"2.3.1.02.03.004","Bonificación especial por servicios de comisión en Presidencia Corresponde al pago de una asignación mensual adicional, equivalente al 60% del suelo básico mensual, que se reconoce al personal del Ministerio de Defensa, de las Fuerzas Militares, de la Policía Nacional y de la Unidad Nacional de Protección (UNP), que preste sus servicios en comisión en el Departamento Administrativo de la Presidencia de la República, bien sea en la Casa Militar o en la Secretaría para la Seguridad del Presidente y de la familia presidencial, aun por fuera de la sede habitual de residencia de la familia presidencial. En iguales condiciones, tendrán derecho a esta bonificación, los soldados que presten el servicio en el Palacio Presidencial-Casa de Nariño.Para tener derecho al reconocimiento y pago de la bonificación, el personal debe haber prestado el servicio total o parcialmente en jornadas de trabajos extras diurnas o nocturnas y previa certificación del Secretario para la Seguridad del Presidente, sobre la prestación del servicio o del Jefe de la Casa Militar de Palacio, o el Jefe de Guarnición, en cada caso (art. 1, Decreto 1794 de 2012).",0,15]
[null,null,"D2661006","Driles de algodón, con un peso inferior o igual a 200 g/m2 y con un contenido de algodón superior o igual al 85% en peso",1,{"$f":"ROW()","v":1988},{"$f":"LEN(C1988)","v":8},null,null,"2.3.1.02.03.005","Prima de riesgo Reconocimiento que hace la ley a los funcionarios que prestan servicios de alto riesgo, en los siguientes términos:- Para los conductores de los Ministros y Directores de Departamento Administrativos la prima de riesgo será equivalente al veinte por ciento (20%) de la asignación básica mensual (Decreto 229 de 2016, art. 8)- Para los conductores del Ministro de Defensa Nacional, el Comandante General de las Fuerzas Militares, los Comandantes de Fuerza y del Director General de la Policía Nacional la prima de riesgo será del 20% de la asignación básica mensual (Decreto 214 de 2016, art. 33).- Para el personal de los organismos de seguridad del Estado en comisión en los establecimientos de reclusión del Instituto Nacional Penitenciario y Carcelario -INPEC la prima de riesgo corresponderá al 30% de la asignación básica mensual (Decreto 229 de 2016, art. 34).- Para el personal de la Imprenta Distrital, guardianes de la cárcel distrital, personal de vigilancia de la Secretaría de Tránsito y Transportes, radio operadores de la Administración Central, Técnicos en Salud Ocupacional, operadores de equipos, auxiliares de ingeniería y técnicos de la división de ingeniería de la Secretaría de Tránsito y Transportes. Empleados de publicaciones de la Secretaría de Educación, operarios de la Fábrica de Pupitres San Blas y Fábrica de Tiza de la Secretaría de Educación con más de cinco (5) años de servicio la prima de riesgo se paga de manera mensual y corresponde a un 5% por ciento de la asignación básica mensual más de un 1% por cada año adicional a los primeros cinco (5) años de servicio, sin que exceda el veinticinco (25%) por cientoEn todos los casos, esta prima no constituye factor salarial para ningún efecto legal.",0,{"$f":"LEN(J1988)","v":15}]
[null,null,"D2662002","Driles de algodón, con un peso superior a 200 g/m2 y con un contenido de algodón superior o igual al 85% en peso",1,{"$f":"ROW()","v":1989},8,null,null,"2.3.1.02.03.006","Prima de gestión Reconocimiento que hace la ley a algunos servidores públicos, en los siguientes términos:- A los negociadores internacionales, correspondiente al 50% de la asignación básica y los gastos de representación (Decreto 229 de 2016, art. 3). - Al Director de la Unidad de Información y Análisis Financiero, correspondiente al 50% de la asignación básica mensual (Decreto 229 de 2016, art. 3).-A los empleados públicos del Congreso, conforme a lo dispuesto en el artículo 5 del Decreto 230 de 2016.",0,15]
[null,null,"D4481705","Duchas eléctricas",1,{"$f":"ROW()","v":1990},8,null,null,"2.3.1.02.03.007","Prima de dirección Es el reconocimiento económico que sustituye la prima técnica para los ministros de despacho y directores de departamentos administrativos; a excepción de la prima técnica por estudios de formación avanzada y experiencia altamente calificada (Decreto 1101 de 2015).De acuerdo con el artículo 2 del decreto 1028 de 2015, los oficiales de las Fuerzas Militares y de la Policía Nacional en los grados de Almirante y General tendrán derecho a la Prima de Dirección, en las mismas condiciones que los ministros de despacho.Tienen derecho a la prima técnica los demás funcionarios que legalmente se establezcan como beneficiarios.",0,15]
[null,null,"D4291102","Duchas metálicas",1,{"$f":"ROW()","v":1991},8,null,null,"2.3.1.02.03.008","Prima geográfica Corresponde a una asignación sin carácter salarial, otorgada a los funcionarios cuyos cargos estén ubicados en zonas de difícil acceso, clima malsano o alto riesgo por violencia, pagadera mientras subsistan tales factores. Por ejemplo: el Decreto 2372 de 1994 otorga la prima geográfica a los funcionarios de la Registraduría Nacional del Estado Civil que presten sus servicios en dichas zonas.",0,15]
[null,null,"D3693005","Duchas plásticas",1,{"$f":"ROW()","v":1992},8,null,null,"2.3.1.02.03.009","Prima de costo de vida Reconocimiento que hace la ley a los servidores públicos del Ministerio de Relaciones Exteriores y del Ministerio de Comercio, Industria y Turismo que se encuentren prestando servicios en el exterior con el fin de equiparar el ingreso real en pesos de dichos funcionarios a las condiciones económicas y cambiarias de los países de destino (art. 5, Decreto 3357 de 2009 y art. 5, Decreto 4971 de 2009).Este pago no se traduce en un incremento neto del patrimonio del funcionario, por lo tanto, no tiene carácter remuneratorio.",0,15]
[null,null,"D2149908","Dulces a base de frutas (postres sin leche)",1,{"$f":"ROW()","v":1993},8,null,null,"2.3.1.02.03.010","Prima de localización y vivienda Reconocimiento que hace la ley a los miembros del Congreso. Esta prima se paga de forma mensual, no se considera factor salarial, y es equivalente a setecientos mil pesos ($ 700.000.00) (art. 2, Decreto 801 de 1992).",0,15]
[null,null,"D2367003","Dulces y chupetas macizos",1,{"$f":"ROW()","v":1994},8,null,null,"2.3.1.02.03.011","Prima de capacitación Reconocimiento que hace la ley a Magistrados de Tribunal, Fiscales o Jueces Superiores, de Menores o de Circuito en razón de estudios de post-grado, obra de investigación científica publicada o ejercicio de la docencia universitaria, todo en materias relacionadas con su cargo y especialidad (Decreto 903 e 1969, art. 3).Para determinar la cuantía individual de la prima, que puede ascender hasta el diez por ciento de la respectiva asignación mensual, el Consejo Superior de la Administración de Justicia analizará en singular cada factor invocado y demostrado, teniendo en cuenta la naturaleza, pertinencia, duración e intensidad, abundancia y pertinencia de la obra científica; y la antigüedad, perseverancia, rendimiento y pertinencia del ejercicio del magisterio (art. 4, Decreto 760 de 1970).Es el pago por concepto de prima de capacitación que tiene derecho los miembros del Cuerpo de Custodia y Vigilancia Carcelaria. Reconocida en la Ley 32 de 1986 y en las normas que el Gobierno Nacional expida en desarrollo de la Ley 4ª de 1992.",0,15]
[null,null,"D0134501","Durazno",1,{"$f":"ROW()","v":1995},8,null,null,"2.3.1.02.03.012","Prima de clima o prima de calor Es el reconocimiento económico que se realiza a los empleados públicos que desempeñan sus funciones en condiciones climáticas desfavorables para su salud, de acuerdo con las condiciones legales.",0,15]
[null,null,"D2149201","Duraznos en conserva envasados",1,{"$f":"ROW()","v":1996},8,null,null,"2.3.1.02.03.013","Estímulos a los empleados del Estado Es el pago de incentivos pecuniarios a los empleados públicos, que tienen por objetivo elevar los niveles de eficiencia, satisfacción, desarrollo y bienestar en el desempeño sus funciones. Lo anterior, en el marco de los programas de incentivos que contempla el sistema de estímulos para los empleados del Estado, regulado por el Decreto 1567 de 1998.No incluye:•Incentivos no pecuniarios establecidos en los planes institucionales según lo dispuesto en el Decreto 1567 de 1998.",0,15]
[null,null,"D4125302","Eclisas",1,{"$f":"ROW()","v":1997},8,null,null,"2.3.1.02.03.014","Remuneración electoral De acuerdo con el Decreto 1434 de 1982, es el pago a los funcionarios de planta (o ex funcionarios que hubiesen laborado en el periodo pre-electoral) de la Registraduría Nacional del Estado Civil, correspondiente al 150% de su asignación básica mensual.Esta prima se paga una sola vez en cada año electoral, en el mes siguiente la celebración de la última elección del respectivo año (Decreto 1103 de 2015). Esta prima no aplica al Registrador Nacional.",0,15]
[null,null,"D3525059","Efedrina",1,{"$f":"ROW()","v":1998},8,null,null,"2.3.1.02.03.015","Prima de instalación Reconocimiento que hace la ley a los Oficiales, Suboficiales, Personal del Nivel ejecutivo de la Policía Nacional y los empleados públicos del Ministerio de Defensa, que se encuentren casados, en unión marital permanente o con hijos a su cargo; cuando el traslado o la comisión permanente sea al interior del país (Decreto 1028 de 2015). El pago de la prima de instalación se realiza de conformidad con las disposiciones legales correspondientes.De acuerdo con el artículo 76 de la Ley 32 de 1986, son beneficiarios de la prima de instalación, los miembros del Cuerpo de Custodia y Vigilancia Penitenciaria Nacional que sean trasladados de una localidad a otra, siempre y cuando la solicitud del traslado no la haya realizado el empleado.En cumplimiento a lo establecido en artículo 3° del Decreto Ley 4064 de 2011, Migración Colombia reconoce a los funcionarios incorporados del DAS, la prima de instalación establecida en el artículo 5 del Decreto 1933 de 1989.",0,15]
[null,null,"D4912906","Ejes –trenes– para automotores",1,{"$f":"ROW()","v":1999},8,null,null,"2.3.1.02.03.016","Prima de coordinación Es el pago que se realiza a los empleados públicos y trabajadores oficiales que “tengan planta global y que tengan a su cargo la coordinación o supervisión de grupos internos de trabajo, creados mediante resolución del jefe del organismo respectivo” (Decreto 1101 de 2015).El pago de esta prima es reconocido a los empleados de los Ministerios, Departamentos Administrativos, Superintendencias, Establecimientos Públicos, Corporaciones Autónomas Regionales y de Desarrollo Sostenible, las Empresas Sociales del Estado y las Unidades Administrativas Especiales (Decreto 1101, 2015). Esta prima debe ser reconocida a los funcionarios que la ley determine como beneficiarios.Para el caso del Distrito de Bogotá, este reconocimiento se otorga de manera mensual y equivale a un veinte por ciento (20%) adicional al valor de la asignación básica mensual del empleo del cual sean titulares, durante el tiempo en que ejerzan tales funciones",0,15]
[null,null,"D4112105","Ejes y otras piezas torneadas de hierro y acero",1,{"$f":"ROW()","v":2000},8,null,null,"2.3.1.02.03.017","Prima de alta gestión De acuerdo con el Decreto 1094 de 2015, la prima de alta gestión es el pago equivalente a “la diferencia entre los ingresos laborales totales anuales recibidos por el Contralor General de la República y los Ingresos laborales totales anuales del Auditor General, sin que en ningún caso los supere” (Decreto 1094 de 2015).Por otro lado, el Decreto 1093 de 2015, reconoce el pago de una prima de alta gestión equivalente al 20% de la asignación básica mensual de los siguientes funcionarios de la Contraloría General de la República: Contralor Delegado, Director de Oficina, Secretario Privado, Director y Gerente.",0,15]
[null,null,"D3337002","Electrocombustible (combustóleo para electrificadoras)",1,{"$f":"ROW()","v":2001},8,null,null,"2.3.1.02.03.018","Prima de alto mando Pago que se realiza a los Oficiales de las Fuerzas Militares, los Generales y los Almirantes de la Policía Nacional de acuerdo con lo dispuesto por el Decreto 1028 de 2015; el cual establece: \" los Oficiales de las Fuerzas Militares y de la Policía Nacional en los grados de General y Almirante, percibirán por todo concepto una asignación mensual igual a la que devenguen los Ministros del Despacho como asignación básica y gastos de representación, en todo tiempo, distribuida así: el cuarenta y cinco por ciento (45%) como sueldo básico y el cincuenta y cinco por ciento (55%) como prima de alto mando.",0,15]
[null,null,"D4695002","Electrodos de carbón y grafito",1,{"$f":"ROW()","v":2002},8,null,null,"2.3.1.02.03.019","Prima de instalación en el exterior Prima que se reconoce a los Oficiales y Suboficiales de las Fuerzas Militares en servicio activo y a los empleados públicos del Ministerio de Defensa, que sean trasladados o destinados en comisión permanente al exterior del país y tengan por ello que cambiar de guarnición o lugar de residencia.",0,15]
[null,null,"D4295004","Electrodos de cobre",1,{"$f":"ROW()","v":2003},8,null,null,"2.3.1.02.03.020","Prima de alojamiento en el exterior Prima que se otorga a los Oficiales y Suboficiales de la Policía Nacional en servicio activo, casados o viudos con hijos, que desempeñen comisiones permanentes en el exterior, tendrán derecho mientras cumplan la comisión, siempre y cuando lleven a su familia a residir a la nueva sede, a gozar de una prima mensual de alojamiento hasta del siete por ciento (7%) del sueldo básico correspondiente a su grado, liquidada en dólares a razón de un dólar por cada peso.Los Oficiales y Suboficiales solteros y los casados o viudos que no lleven a su familia a la respectiva sede cuando desempeñen comisiones permanentes en el exterior, tendrán derecho a una prima de alojamiento hasta del cinco por ciento (5%) del sueldo básico correspondiente a su grado, que se pagará en dólares a razón de un dólar por cada peso (Decreto 1212 de 1990).",0,15]
[null,null,"D4295001","Electrodos de plomo",1,{"$f":"ROW()","v":2004},8,null,null,"2.3.1.02.03.021","Vivienda para embajadores Gasto generado en la situación en la que un funcionario escalafonado en la Categoría de Embajador fuere designado Cónsul General o en Comisión para Situaciones Especiales, en un cargo correspondiente a una categoría inmediatamente inferior en el escalafón de la carrera. A dicho funcionario, se le reconoce como beneficio adicional para vivienda en el exterior, una suma de dinero equivalente al treinta por ciento (30%) de la asignación básica mensual del cargo de destino en el exterior (Decreto 274 de 2000).",0,15]
[null,null,"D4295003","Electrodos de zinc",1,{"$f":"ROW()","v":2005},8,null,null,"2.3.1.02.03.022","Bonificación por seguro de vida colectivo Gastos por bonificación individual mensual con destino al Fondo de Solidaridad del Ministerio de Defensa Nacional-Seguro de Vida Colectivo. Son beneficiaros de esta bonificación:- Oficiales y Suboficiales de las Fuerzas Militares y de la Policía Nacional- Personal del Nivel Ejecutivo de la Policía Nacional- Agentes de los Cuerpos Profesionales de la Policía Nacional, personal civil del Ministerio de Defensa, de las Fuerzas Militares y la Policía Nacional- Los Alférez, Guardiamarinas, Pilotines, los cadetes, los alumnos de las Escuelas de Formación de Suboficiales- Nivel Ejecutivo de la Policía Nacional, los Soldados, Auxiliares de Policía Bachilleres, Grumetes de las Fuerzas Militares- Personal del Cuerpo Auxiliar de la Policía Nacional.",0,15]
[null,null,"D4295005","Electrodos metálicos",1,{"$f":"ROW()","v":2006},8,null,null,"2.3.1.02.03.023","Bonificación licenciamiento Es el pago obligatorio al que tiene derecho todo colombiano que se encuentre prestando el servicio militar como concepto de una última bonificación que será equivalente a un salario mínimo mensual vigente (Ley 48, 1993).",0,15]
[null,null,"D4693905","Electroimanes",1,{"$f":"ROW()","v":2007},8,null,null,"2.3.1.02.03.024","Bonificación dragoneante Recursos destinados al reconocimiento (bonificación) de los agentes de policía que sean reconocidos como dragoneantes. Esta bonificación es reconocida mientras los agentes ostenten dicha distinción (Decreto 1028, 2015).",0,15]
[null,null,"D3754006","Elementos de granito-mármol aglomerado para construcción",1,{"$f":"ROW()","v":2008},8,null,null,"2.3.1.02.03.025","Bonificación agente cuerpo profesional especial Pago al que tienen derecho los Agentes del Cuerpo Profesional Especial por concepto de bonificación del treinta por ciento (30%) de su sueldo básico mensual, la cual se incrementará en un diez por ciento (10%) por cada año de servicio en este cuerpo, sin sobrepasar el ciento por ciento (100%) de dicho sueldo básico (Ley 21 de 1979).",0,15]
[null,null,"D3769002","Elementos de piedra aserrada o tallada para construcción",1,{"$f":"ROW()","v":2009},8,null,null,"2.3.1.02.03.026","Bonificación buena conducta Es el pago a la bonificación contemplada en el art. 3 del Decreto 1213 de 1990, el cual establece: \"los Agentes de la Policía Nacional en servicio activo que completen períodos quinquenales continuos de servicio y observen buena conducta durante los mismos, tendrán derecho a una recompensa por cada cinco (5) años de servicio, equivalente a la totalidad de los haberes en actividad, devengados en el último mes en que cumplan el quinquenio\".Incluye también la jineta de buena conducta que se reconoce legalmente a los suboficiales que durante un período de tres (3) años consecutivos no registran en su folio de vida ninguna sanción disciplinaria. En este caso, según lo dispuesto en el artículo 47 de la Ley 836 de 2003, por cada período de tres (3) años en las mismas condiciones se otorga una nueva jineta, y a partir de la tercera jineta se disminuye el período a dos (2) años.El período de tres (3) o dos (2) años se cuenta de acuerdo con el lapso de evaluación establecido en el Reglamento de Evaluación y Clasificación para el personal de las Fuerzas Militares.",0,15]
[null,null,"D4817110","Elementos especiales para aparatos de prótesis dental",1,{"$f":"ROW()","v":2010},8,null,null,"2.3.1.02.03.027","Partida alimentación Recursos destinados a financiar la partida diaria de alimentación para el personal de soldados e infantes de marina de las Fuerzas Militares y personal del Cuerpo Auxiliar de la Policía Nacional.",0,15]
[null,null,"D4740204","Elementos especiales para elaboración de agujas para tocadiscos y similares",1,{"$f":"ROW()","v":2011},8,null,null,"2.3.1.02.03.028","Partida alimentación orden público y cobertura de fronteras Gastos por concepto de alimentación de los oficiales, suboficiales y agentes de las Fuerzas Militares y de la Policía Nacional que presten sus servicios, en áreas donde se desarrollen operaciones especiales para restablecer el orden público y de cobertura de fronteras (Decretos 1211 y 1214 de 1990).",0,15]
[null,null,"D4299990","Elementos metálicos n.c.p. para ornamentación",1,{"$f":"ROW()","v":2012},8,null,null,"2.3.1.02.03.029","Bonificación de actividad judicial Reconocimiento económico al buen desempeño de los jueces, fiscales y procuradores judiciales, creado en virtud del Decreto 3131 de 2005. Esta bonificación constituye factor para efectos de determinar el ingreso base de cotización del Sistema General de Pensiones, y de acuerdo con laLey 797 de 2003, para la cotización al Sistema General de Seguridad Social en Salud (Decreto 3900 de 2008, art. 1) mas no para determinar elementos salariales ni prestaciones sociales.",0,15]
[null,null,"D3843098","Elementos n.c.p. para competiciones de atletismo",1,{"$f":"ROW()","v":2013},8,null,null,"2.3.1.02.03.030","Bonificación de dirección Es la retribución económica reconocida a determinados funcionarios del Estado, quienes desempeñan labores relacionadas con la dirección.",0,15]
[null,null,"D3844098","Elementos n.c.p. para juegos deportivos",1,{"$f":"ROW()","v":2014},8,null,null,"2.3.1.02.03.031","Bonificación especial personal secuestrado Recursos destinados a financiar la bonificación especial de los Oficiales y Suboficiales de las Fuerzas Militares que se hayan encontrado en cautiverio, de acuerdo con la Ley 1279 de 2009 y sus decretos reglamentarios.",0,15]
[null,null,"D3899915","Elementos para exposición y venta de mercancías",1,{"$f":"ROW()","v":2015},8,null,null,"2.3.1.02.03.032","Prima de traslado Corresponde a los recursos destinados al pago de un auxilio de traslado equivalente a la mitad del sueldo básico (para el caso de la Registraduría Nacional del Estado Civil), por concepto de los gastos de traslado, cuando un funcionario es nombrado con carácter permanente para ocupar un cargo en otro municipio.",0,15]
[null,null,"D3755001","Elementos prefabricados de cemento para la construcción",1,{"$f":"ROW()","v":2016},8,null,null,"2.3.1.02.03.033","Alimentación alumnos Gastos por concepto de alimentación de los alumnos, particularmente, del Departamento Administrativo de Seguridad, otorgado a estos durante la realización de los cursos de detective.",0,15]
[null,null,"D3423198","Elementos químicos n.c.p.",1,{"$f":"ROW()","v":2017},8,null,null,"2.3.1.02.03.034","Bonificación alumnos Es el reconocimiento económico correspondiente al 20% de la asignación básica mensual del cargo de dragoneante 4114 grado 11 del INPEC, como bonificación mensual para los estudiantes de la Escuela Penitenciaria Nacional Enrique Low Murtra.Asimismo, son los recursos destinados a los Alféreces, Guardiamarinas y Pilotines de las Escuelas de Formación de Oficiales y los Alumnos de las Escuelas de Formación de Suboficiales, los cuales tiene derecho a una bonificación mensual de acuerdo con las disposiciones legales vigentes.",0,15]
[null,null,"D4322008","Elevadores de líquidos (arietes hidráulicos)",1,{"$f":"ROW()","v":2018},8,null,null,"2.3.1.02.03.035","Subsidio familiar Es el pago de la prestación social reconocida a diferentes rangos de las Fuerzas Militares y Policías, y al cuerpo de custodia y vigilancia penitenciaria y carcelaria nacional, por concepto de subsidio familiar de acuerdo con las condiciones dispuestas legalmente.Por ejemplo, el subsidio familiar se le reconoce al personal del nivel ejecutivo de la Policía Nacional en servicio activo; en proporción del número de personas a cargo y su remuneración mensual (Decreto 1091 de 1995). Este subsidio familiar está a cargo del Instituto para la Seguridad Social y Bienestar de la Policía Nacional.En el caso de los soldados, el artículo 11 del Decreto 1794 de 2000, les reconoce como subsidio familiar un pago equivalente al 4% de su salario básico mensual más la prima de antigüedad.Por último, para el cuerpo de custodia y vigilancia penitenciaria y carcelaria nacional, constituye el derecho a un pago del siete por ciento (7%) adicional al subsidio familiar a que tienen derecho los funcionarios de acuerdo con las normas vigentes. Dicho reconocimiento no constituye factor salarial y se paga por unidad familiar (Decreto 446 de 1994, art. 15).",0,15]
[null,null,"D4354002","Elevadores eléctricos de carga",1,{"$f":"ROW()","v":2019},8,null,null,"2.3.1.02.03.036.01","Beneficios a los empleados a corto plazo",0,18]
[null,null,"D4351001","Elevadores mecánicos",1,{"$f":"ROW()","v":2020},8,null,null,"2.3.1.02.03.036.02","Beneficios a los empleados a largo plazo",0,18]
[null,null,"D4691110","Elevavidrios para automotores",1,{"$f":"ROW()","v":2021},8,null,null,"2.3.1.02.03.037","Incentivos laborales DIAN Incluye el pago de los incentivos al desempeño en fiscalización y cobranzas y los incentivos por desempeño grupal que se reconocen a los empleados de la Unidad Especial de Impuestos y Aduanas Nacionales - DIAN, en virtud de lo dispuesto por el Decreto 1268 de 1999 y el Decreto 4050 de 2005.",0,15]
[null,null,"D4931403","Embarcaciones menores de carga",1,{"$f":"ROW()","v":2022},8,null,null,"2.3.1.02.03.038","Prima de seguridad Gastos por concepto de la prima liquidada para aquellos empleados del Instituto Nacional Penitenciario y Carcelario - INPEC que presten sus servicios en centros o pabellones de alta seguridad, equivalente hasta el cincuenta por ciento (50%) de la asignación o sueldo básico mensual, que no podrá exceder el monto fijado en la Ley. Esta prima no constituye factor salarial para ningún efecto legal (Decreto 1029 de 2013).",0,15]
[null,null,"D4931402","Embarcaciones menores de pasajeros",1,{"$f":"ROW()","v":2023},8,null,null,"2.3.1.02.03.039","Prima de vigilantes instructores Los miembros del Cuerpo de Custodia y Vigilancia del Instituto Nacional Penitenciario y Carcelario - INPEC, que acrediten título de idoneidad y ejerzan las funciones de instructores, tendrán derecho, previo concepto del Director General del INPEC a disfrutar de una prima del diez por ciento (10%) mensual sobre el sueldo básico, que no constituye factor salarial, mas cumplan simultáneamente las funciones de vigilancia y enseñanza (Decreto 446 de 1994).",0,15]
[null,null,"D4931501","Embarcaciones menores para pesca",1,{"$f":"ROW()","v":2024},8,null,null,"2.3.1.02.03.040","Bonificación servicio militar Los bachilleres que prestan el servicio militar obligatorio en el Instituto Nacional Penitenciario y Carcelario - INPEC, tendrán derecho a una bonificación que será determinada por el Gobierno Nacional (Decreto 407 de 1994).",0,15]
[null,null,"D4613103","Embobinado de inducidos para motores",1,{"$f":"ROW()","v":2025},8,null,null,"2.3.1.02.03.041","Bonificación por trabajo y servicios internos Corresponde al gasto que realiza el Instituto Nacional Penitenciario y Carcelario –INPEC como contraprestación por los servicios realizados por los internos, en desarrollo de los programas de trabajo y actividades productivas establecidas y administradas de forma directa por la entidad, que son reconocidos como derecho de las personas procesadas que se encuentran en un centro reclusorio (Ley 65 de 1993 y Decreto 1758 de 2015).NE:De acuerdo con la Corte Constitucional en Sentencia T-1077/05: “esta aproximación al sistema de estímulos económicos (bonificaciones) por trabajo o servicios que se aplica en los Centros Penitenciarios permite sacar algunas conclusiones de interés para la resolución de los asuntos bajo examen. (i) La bonificación es concebida como un estímulo que no alcanza una cobertura general, para toda la población carcelaria, estando sometida a una reglamentación orientada a introducir criterios de racionalidad y equidad para su asignación; (ii) su ámbito de aplicación es la modalidad de trabajo por administración directa; (iii) corresponde a la Dirección General, determinar las actividades que convocan tal incentivo y asignar de manera global los cupos para cada Establecimiento Penitenciario; (iv) corresponde a los Directores de los Establecimientos, en coordinación con la Junta de evaluación de trabajo, estudio y enseñanza, reglamentar internamente la distribución de los cupos asignados, que tiene una cobertura muy limitada en relación con el número de internos que se dedica a cada una de las actividades que se incentivan; (v) para la asignación de las bonificaciones debe mediar la autorización de la Junta de evaluación de trabajo, estudio y enseñanza.”",0,15]
[null,null,"D4332002","Embragues",1,{"$f":"ROW()","v":2026},8,null,null,"2.3.1.02.03.042","Seguro de muerte en actividad Los miembros del Cuerpo de Custodia y Vigilancia Penitenciaria y Carcelaria Nacional, gozan de un seguro por muerte equivalente a quince (15) mensualidades del último salario devengado.El valor de dicho seguro será equivalente a treinta (30) mensualidades del último salario devengado, en el evento de que la muerte sea como consecuencia de accidente de trabajo o enfermedad profesional y excluye la indemnización a que se refieren los artículos 16 y 23 del Decreto 1848 de 1969, a menos que el accidente o enfermedad profesional se hayan ocasionado por culpa imputable a la entidad empleadora, en cuyo caso habrá lugar a la indemnización total y ordinaria por perjuicio.Si prosperare esta indemnización se descontará de su cuantía el valor de las prestaciones e indemnizaciones en dinero pagadas en razón de los expresados infortunios de trabajo (Decreto 407 de 1994).",0,15]
[null,null,"D4912903","Embragues para automotores",1,{"$f":"ROW()","v":2027},8,null,null,"2.3.1.02.03.043","Prima de orden público Reconocimiento que hace la ley a los empleados del Departamento Administrativo de Seguridad – DAS que presten sus servicios permanentemente en zonas del país afectadas por graves alteraciones del orden público (Decreto 1933 de 1989).En cumplimiento a lo establecido en artículo 3° del Decreto Ley 4067 de 2011, la Unidad Nacional de Protección reconoce a los funcionarios incorporados del DAS, la prima de orden público establecida en el artículo 2° del Decreto 1933 de 1989.",0,15]
[null,null,"D2118413","Embutidos dietéticos",1,{"$f":"ROW()","v":2028},8,null,null,"2.3.1.02.03.044","Prima secretarial Corresponde al reconocimiento que se le otorga los empleados públicos que desempeñen el cargo de secretario, en el nivel administrativo, el cual es equivalente al 2% de la asignación básica mensual. Dicho valor no constituye factor salarial para ningún efecto legal",0,15]
[null,null,"D3525041","Emetina y sus sales",1,{"$f":"ROW()","v":2029},8,null,null,"2.3.1.02.03.045","Bonificación para gastos personales del Batallón Guardia Presidencial y de los Batallones de Policía Militar Reconocimiento económico que hace la ley a los Soldados del Batallón Guardia Presidencial y de los Batallones de Policía Militar que hayan terminado el curso básico de esta especialidad. Dichos funcionarios tienen derecho a una bonificación mensual adicional para gastos personales equivalente a dieciocho mil ciento dos pesos ($18.102) m/cte, respectivamente (Decreto anual de salarios).",0,15]
[null,null,"D3219913","Empaques de cartón para huevos",1,{"$f":"ROW()","v":2030},8,null,null,"2.3.1.02.03.046","Bonos escolares y navideños Reconocimiento de las entidades a sus funcionarios de planta en cumplimiento de una negociación colectiva, a pagar un subsidio escolar a cada uno de los hijos de los trabajadores oficiales y cualquier grado de escolaridad. Incluye de igual forma el reconocimiento dque haga la entidad por bonos de navidad en el mes de diciembre, al funcionario o a los hijos menores de 18 años del mismo.",0,15]
[null,null,"D3219938","Empaques de cartón para huevos",1,{"$f":"ROW()","v":2031},8,null,null,"2.3.1.02.03.047","Bonificación edecanes Bonificación adicional que reconoce la ley a los oficiales de las Fuerzas Militares y de la Policía Nacional destacados como edecanes al servicio del Presidente y del Vicepresidente de la República. (Decretos 83 y 837 de 1995, art. 1).",0,15]
[null,null,"D3192203","Empaques de corcho",1,{"$f":"ROW()","v":2032},8,null,null,"2.3.1.02.03.048","Prima de bucería Reconocimiento económico que hace la ley a los Oficiales y Suboficiales de la Armada Nacional que hayan obtenido patente que los acredite como buzos y que realicen dicha actividad por hora o fracción mayor de cuarenta y cinco (45) minutos en actos del servicio (Decreto 1211 de 1990, art. 88).",0,15]
[null,null,"D3641004","Empaques de material plástico para equipo de venoclisis",1,{"$f":"ROW()","v":2033},8,null,null,"2.3.1.02.03.049","Prima comandos Reconocimiento económico que hace la ley a los Oficiales de las Fuerzas Militares a quienes se les otorga el título de Comando Especial Terrestre en el Ejército, Comando Anfibio o de Selva en la Armada y Comando Especial Aéreo en la Fuerza Aérea, y se desempeñan dentro de ellos. Esta prima es equivalente al veinte por ciento (20%) del sueldo básico mensual correspondiente a su grado, de acuerdo con reglamentación que expida el Gobierno (Decreto 1211 de 1990, art. 90).",0,15]
[null,null,"D3215313","Empaques especiales para accesorios y suministros quirúrgicos",1,{"$f":"ROW()","v":2034},8,null,null,"2.3.1.02.03.050","Prima de Estado Mayor y academia superior Reconocimiento económico que hace la ley a los Oficiales de las Fuerzas Militares en servicio activo con título de Oficial de Estado Mayor. Esta prima corresponde al veinte por ciento (20%) del sueldo básico (Decreto 1211 de 1990, art. 92).",0,15]
[null,null,"D3215314","Empaques especiales para ampolletas, inyecciones y similares",1,{"$f":"ROW()","v":2035},8,null,null,"2.3.1.02.03.051","Prima submarinista Reconocimiento económico que hace la ley a los Oficiales y Suboficiales de la Armada Nacional que presten sus servicios a bordo de submarinos como integrantes de su tripulación. Esta prima es equivalente al diez por ciento (10%) del sueldo básico correspondiente al grado del funcionario y a un diez por ciento (10%) adicional mientras estén navegando (Decreto 1211 de 1990, art. 101).",0,15]
[null,null,"D4912937","Empaques –felpas– para automotores",1,{"$f":"ROW()","v":2036},8,null,null,"2.3.1.02.03.052","Prima de salto Reconocimiento económico que hace la ley a los Oficiales y Suboficiales de las Fuerzas Militares que hayan sido instruidos como paracaidistas y que realicen saltos en actos de su servicio. Esta prima es equivalente a un quince por ciento (15%) del sueldo básico mensual correspondiente a su grado, porcentaje que aumenta en un uno por ciento (1%) por cada veinte (20) saltos efectuados, hasta completar ciento veinte (120). De ciento veinte (120) saltos en adelante, sólo se computa un medio por ciento (0.5%) por cada veinte (20) saltos adicionales, sin que el total de la prima de salto en paracaídas pueda exceder del sueldo básico mensual correspondiente al grado (Decreto 1211 de 1990, art. 99).",0,15]
[null,null,"D3649012","Empaques plásticos termoformados",1,{"$f":"ROW()","v":2037},8,null,null,"2.3.1.02.03.053","Prima de vuelo Reconocimiento económico que hace la ley a los Oficiales y Suboficiales de la Aviación del Ejército, los Oficiales de la Aviación Naval y Suboficiales de Mantenimiento Aeronáutico en la Armada, los Oficiales de Vuelo y Suboficiales Técnicos de la Fuerza Aérea en desempeño de sus funciones como tripulantes de aeronaves militares y otra clase de aeronaves al servicio de las Fuerzas Militares, siempre que comprueben haber volado durante un mínimo de cuatro (4) horas mensuales. Esta prima es equivalente al veinte por ciento (20%) del sueldo básico mensual correspondiente al respectivo grado, porcentaje que aumenta en un uno por ciento (1%) por cada cien (100) horas de vuelo, hasta completar tres mil (3.000) horas. De tres mil (3.000) horas en adelante sólo se computa el medio por ciento (0.5%) por cada cien (100) horas adicionales, sin que el total de la prima de vuelo pueda exceder el sueldo básico del Oficial o Suboficial. Los Oficiales Generales de vuelo de la Fuerza Aérea pueden percibir esta prima sin necesidad de cumplir con el requisito de horas mínimas de vuelo. Así mismo, según lo dispuesto por ley, las horas voladas en aeronaves de turbo-reacción se computarán doble, siempre que éstas sean de combate o de entrenamiento de combate (Decreto 1211 de 1990, art. 103).",0,15]
[null,null,"D3649014","Empaques termoformados para medicamentos",1,{"$f":"ROW()","v":2038},8,null,null,"2.3.1.02.03.054","Prima especialista Reconocimiento económico que hace la ley a los Suboficiales de las Fuerzas Militares en servicio activo que adquieran una especialidad técnica mediante un curso cuya duración mínima sea de mil seiscientas (1.600) horas de clase o cuarenta y ocho (48) semanas de instrucción. Esta prima es equivalente al diez por ciento (10%) del sueldo básico mensual correspondiente a su grado, siempre y cuando se desempeñen en la respectiva especialidad. Los Suboficiales en los grados de Sargento Mayor, Suboficial Jefe Técnico y Suboficial Técnico Jefe, por el solo hecho de obtener estos grados, tienen derecho a la prima de especialista (Decreto 1211 de 1990, art. 91).",0,15]
[null,null,"D4333204","Empaques y empaquetaduras de amianto para automotores",1,{"$f":"ROW()","v":2039},8,null,null,"2.3.1.02.03.055","Prima oficiales superiores Reconocimiento económico que hace la ley a los Oficiales de las Fuerzas Militares y de la Policía Nacional, en los grados de Teniente General y Almirante de Escuadra, de Mayor General y Vicealmirante, de Brigadier General y Contralmirante, y de Coronel y Capitán de Navío. Los oficiales con estos grados tienen derecho a primas mensuales equivalentes al cincuenta y cuatro por ciento (54%), al cincuenta y tres punto treinta y dos por ciento (53.32%), al cuarenta y siete punto ochenta por ciento (47.80%) y al treinta y seis punto ochenta y uno por ciento (36.81%), respectivamente, sobre lo que en todo tiempo devenguen los Ministros del Despacho como asignación básica y gastos de representación (Decreto anual de salarios).",0,15]
[null,null,"D4333205","Empaques y empaquetaduras de corcho-caucho para automotores",1,{"$f":"ROW()","v":2040},8,null,null,"2.3.1.02.03.056","Prima cuerpo administrativo Reconocimiento económico que hace la ley a los Oficiales del Cuerpo Administrativo de las Fuerzas Militares que prestan los servicios profesionales de su especialidad por tiempo completo. Esta prima es equivalente al cuarenta por ciento (40%) del sueldo básico correspondiente a su grado (Decreto 1211 de 1990, art. 96).",0,15]
[null,null,"D4333202","Empaques y empaquetaduras de felbesto para automotores",1,{"$f":"ROW()","v":2041},8,null,null,"2.3.1.02.03.057","Bonificación aeronáutica Reconocimiento económico que hace la ley a todos los servidores públicos de la Unidad Administrativa Especial de Aeronáutica Civil. Esta bonificación es equivalente al doscientos veinticinco por ciento (225%) de la asignación básica mensual señalada para el respectivo empleo y se reconoce en dos (2) contados iguales, en los meses de enero y septiembre de cada año (Decreto 313 de 2018, art. 17).",0,15]
[null,null,"D4392403","Empaques y empaquetaduras de papel o cartón para automotores",1,{"$f":"ROW()","v":2042},8,null,null,"2.3.1.02.03.058","Prima de productividad Reconocimiento económico que hace la ley a los servidores públicos de la Unidad Administrativa Especial de Aeronáutica Civil que cumplan con los indicadores de productividad previamente establecidos. Esta prima se reconoce bimestralmente durante los meses de febrero, abril, junio, agosto, octubre y diciembre y no puede ser inferior al 80% de la asignación básica del empleado (Decreto 313 de 2018, art. 16).",0,15]
[null,null,"D4333203","Empaques y empaquetaduras metaloplásticas para automotores",1,{"$f":"ROW()","v":2043},8,null,null,"2.3.1.02.03.059","Bonificación judicial Reconocimiento económico que hace la ley a los servidores públicos de la Dirección Ejecutiva de Administración Judicial, las Direcciones Seccionales de la Rama Judicial, los servidores de la Justicia Penal Militar y los servidores de la Fiscalía General de la Nación durante la prestación de sus servicios. Esta bonificación constituye factor para efectos de determinar el ingreso base de cotización del Sistema General de Pensiones y del Sistema General de Seguridad Social en Salud, mas no para determinar elementos salariales ni prestaciones sociales (Decreto 0384 de 2013, Decreto 022 de 2014 y Decreto 1014 de 2017).",0,15]
[null,null,"D4392402","Empaques, empaquetaduras de corcho para automotores",1,{"$f":"ROW()","v":2044},8,null,null,"2.3.1.02.03.060","Bonificación por servicios de protección y vigilancia Reconocimiento económico que hace la ley al personal del servicio de protección y vigilancia de la Rama Judicial, al personal de las Fuerzas Militares y de la Policía Nacional que presta el servicio de protección y vigilancia al Comandante General de las Fuerzas Militares, Comandantes de Fuerza y Director General de la Policía Nacional, a los Expresidentes de la República, a los Ministros del Despacho, a los Directores de Departamento Administrativo del orden nacional, al Procurador General de la Nación, al Contralor General de la República, al Defensor del Pueblo, al Auditor General de la República, al personal que presta este servicio a los oficiales generales y de insignia en sus diferentes grados, y a los miembros de la Policía Nacional que prestan el servicio de protección y vigilancia a los Honorables Congresistas (Decreto anual de salarios).",0,15]
[null,null,"D3792006","Empaquetaduras de asbesto",1,{"$f":"ROW()","v":2045},8,null,null,"2.3.1.02.03.061","Prima mensual oficiales y suboficiales Reconocimiento económico que hace la ley a los Oficiales de las Fuerzas Militares y de la Policía Nacional y en servicio activo que ostentan los grados de Teniente Coronel y Capitán de Fragata; y a los Suboficiales de las Fuerzas Militares y de la Policía Nacional en servicio activo que ostentan el grado de Sargento Primero en el Ejército Nacional o su equivalente en las demás fuerzas. Esta prima mensual, sin carácter salarial ni prestacional, es equivalente a dos punto setenta y siete por ciento (2.77%) y a uno punto noventa y dos por ciento (1.92%) respectivamente, de lo que en todo tiempo devenguen los Ministros del Despacho como asignación básica y gastos de representación (Decreto 1017 de 2013, art. 4).",0,15]
[null,null,"D4392401","Empaquetaduras para motores de vehículos automotores",1,{"$f":"ROW()","v":2046},8,null,null,"2.3.1.02.03.062","Apoyo de sostenimiento aprendices SENA Corresponde a las erogaciones como contraprestación por los servicios prestados por alumnos aprendices del Servicio Nacional de Aprendizaje (SENA) a través de los contratos de aprendizaje. Uno de los elementos característicos de los contratos de aprendizaje es el reconocimiento y pago al aprendiz de un apoyo del sostenimiento mensual, el cual tiene como fin garantizar el proceso de aprendizaje",0,15]
[null,null,"D8912202","Empastado de libros",1,{"$f":"ROW()","v":2047},8,null,null,"2.3.1.02.03.063","Remuneración profesores militares Corresponde la remuneración económica que se reconoce a los militares de planta permanente que prestan servicio de docencia de forma ocasional en los Institutos de Formación y Centros de Capacitación o educación de las Fuerzas Militares. Esta remuneración se reconoce al profesor militar por cada hora de clase dictada y corresponde a un porcentaje determinado y liquidado sobre el salario básico mensual. de acuerdo con la categoría a cargo del mismo",0,15]
[null,null,"D0219302","Emúes",1,{"$f":"ROW()","v":2048},8,null,null,"2.3.1.02.03.064","Prima por dependientes Corresponde al reconocimiento mensual que realiza la Superintendencia de Sociedades, la Superintendencia de Industria y Comercio, la Superintendencia Financiera de Colombia y el Instituto Nacional de Metrología a favor de los empleados que adscriban beneficiarios que dependan económicamente y cumpla con los requisitos establecidos por ley",0,15]
[null,null,"D3549958","Emulsificante para alimentos",1,{"$f":"ROW()","v":2049},8,null,null,"2.3.1.02.03.065","Prima de matrimonio Corresponde a la prima que reconoce y paga por única vez la Superintendencia de Sociedades, la Superintendencia de Industria y Comercio, la Superintendencia Financiera de Colombia, el Instituto Nacional de Metrología y el Servicio Nacional de Aprendizaje (SENA) a los funcionarios que contraigan matrimonio, de acuerdo con las disposiciones normativas que aplican para cada entidad",0,15]
[null,null,"D3543001","Emulsiones engrasantes para cueros",1,{"$f":"ROW()","v":2050},8,null,null,"2.3.1.02.03.066","Prima de nacimiento Corresponde a la prima que reconoce y paga por única vez la Superintendencia de Sociedades, la Superintendencia de Industria y Comercio, la Superintendencia Financiera de Colombia, el Instituto Nacional de Metrología y el Servicio Nacional de Aprendizaje (SENA) a los funcionarios por el nacimiento de un hijo de acuerdo con las disposiciones normativas que aplican para cada entidad",0,15]
[null,null,"D3479033","Emulsiones sintéticas",1,{"$f":"ROW()","v":2051},8,null,null,"2.3.1.02.03.067","Prima semestral Corresponde a una prestación económica equivalente a un mes de del sueldo que tuvieren los empleados al 30 de junio y 31 de diciembre respectivamente, pagaderos los 15 primeros días de junio y diciembre de cada año, en las entidades y regímenes especiales en las que es reconocida.",0,15]
[null,null,"D2791201","Encajes de algodón",1,{"$f":"ROW()","v":2052},{"$f":"LEN(C2052)","v":8},null,null,"2.3.1.02.03.068","Prima de actividad Corresponde al pago de la prima de actividad que se reconoce y paga a los funcionarios que hayan laborado durante un año continuo en la entidad. Esta prima es equivalente a 15 días del sueldo básico mensual, y es reconocida cuando el interesado acredite la autorización para el disfrute de vacaciones o su compensación en dinero",0,{"$f":"LEN(J2052)","v":15}]
[null,null,"D2791203","Encajes de fibras artificiales y/o sintéticas",1,{"$f":"ROW()","v":2053},8,null,null,"2.3.1.02.03.069","Gastos de representación Corresponde al reconocimiento que hace el Ministerio de Relaciones Exteriores a los Embajadores, jefes de Misión Permanente, cónsules Generales Centrales y los Encargados de Negocios para atender las actividades diplomáticas propias de su cargo en el exterior -En esta cuenta también se pueden registrar la prestación social pagada en consideración al alto grado de responsabilidad, compromiso, liderazgo e imagen (relaciones públicas) que representa el cargo de la Vicepresidencia y los más altos del nivel ejecutivo - Directores, SATENA por mera liberalidad podrá otorgar mensualmente una suma equivalente a Gastos de Representación, la cual no constituye salario y no tendrá incidencia en la liquidación y pago de prestaciones sociales o indemnizaciones, conforme a lo dispuesto en el artículo 15 de la Ley 50 de 1990, modificatorio del artículo 128 del Código Sustantivo del Trabajo.Los gastos de representación tienen como fin, compensar los gastos y erogaciones en que incurren ciertos cargos en consideración a su jerarquía y posición organizacional dentro de la empresa, necesarios en la representación de la entidad en actividades frente a clientes, entidades gubernamentales u oficiales y público en general, en beneficio comercial empresarial o de imagen de la entidad.",0,15]
[null,null,"D3899404","Encendedores",1,{"$f":"ROW()","v":2054},8,null,null,"2.3.1.02.03.070","Subsidio de anteojos Corresponde al beneficio que se otorga a los funcionarios, con el fin de subsidiar la adquisición de lentes y/o monturas.",0,15]
[null,null,"D8873102","Enchapado y revestimiento de metales comunes",1,{"$f":"ROW()","v":2055},8,null,null,"2.3.1.02.03.071","Remuneración adicional de antiguos territorios nacionales Corresponde a una remuneración adicional otorgada a los empleados del Instituto Nacional de Medicina Legal y Ciencias Forenses que trabajen ordinariamente en los departamentos creados en el Artículo 309 de la Constitución Política. Esta remuneración es equivalente al 8% de la asignación básica mensual y se percibirá por cada mes completo de servicio y no constituye factor salarial para ningún efecto legal (",0,15]
[null,null,"D3816001","Enchapes (fichas) de cuero, hueso, coco y similares para muebles",1,{"$f":"ROW()","v":2056},8,null,null,"2.3.1.02.03.072","Prima de alimentación Corresponde a la remuneración que se reconoce, como concepto de prima alimentaria.",0,15]
[null,null,"D3737004","Enchapes de arcilla para construcción",1,{"$f":"ROW()","v":2057},8,null,null,"2.3.1.02.03.073","Viáticos y menaje de funcionarios del servicio exterior Corresponde al beneficio que se otorga en dinero a los funcionarios pertenecientes a la Carrera Diplomática y Consular o de Libre Nombramiento y Remoción del Ministerio de Relaciones Exteriores,245que, en ejercicio de sus funciones, requieran desplazarse al exterior o de un país extranjero a otro o entre ciudades distintas del mismo país",0,15]
[null,null,"D4621207","Enchufes para máquinas y similares para voltajes inferiores o iguales a 1000 V",1,{"$f":"ROW()","v":2058},8,null,null,"2.3.1.02.03.074","Prima de localización Corresponde a la prima que reconoce el Servicio Nacional de Aprendizaje (SENA) a sus Trabajadores Oficiales. Esta prima es equivalente a ocho y medio (8.5) días de salario mínimo legal vigente en las regionales que están establecidas por el SENA o llegaren a establecerse",0,15]
[null,null,"D4621204","Enchufes para voltajes inferiores o iguales a 1000 V",1,{"$f":"ROW()","v":2059},8,null,null,"2.3.1.02.03.075","Subvención de transporte Los soldados del ejército o su equivalente en la Fuerza Pública y los auxiliares del cuerpo de custodia del INPEC, llamados al servicio, una vez licenciado o desacuartelado, tienen derecho a la subvención de la partida de transporte, en el momento del otorgamiento del permiso anual o en caso de calamidad domestica comprobada o catástrofe que haya podido afectar gravemente a su familia",0,15]
[null,null,"D4621212","Enchufes y clavijas de material plástico para voltajes inferiores o iguales a 1000 V",1,{"$f":"ROW()","v":2060},8,null,null,"2.3.1.02.03.076","Auxilio de movilización Corresponde a los recursos destinados por concepto de auxilio de movilización al que tienen derecho los funcionarios de la entidad.",0,15]
[null,null,"D2134004","Encurtidos",1,{"$f":"ROW()","v":2061},8,null,null,"2.3.1.02.03.077","Prima mensual Corresponde a la prima a la que tienen derecho los oficiales de las Fuerzas Militares y de la Policía Nacional, a partir de su ascenso al grado de Coronel o Capitán de Navío hasta el grado de General o Almirante, mientras permanezcan en servicio activo. Esta prima es equivalente a los 16.5% del sueldo básico, sin perjuicio de la asignación básica y primas mensuales fijadas en las disposiciones legales vigentes",0,15]
[null,null,"D3526103","Endulzantes sintéticos educolorantes",1,{"$f":"ROW()","v":2062},8,null,null,"2.3.1.02.03.078","Partida especial de gastos de viaje Corresponde a la partida otorgada a los oficiales y suboficiales de las Tripulaciones de las Unidades de Flote, destinado en comisión colectiva transitoria al exterior, para visitas operacionales, de transporte, construcción, reparación o de cortesía",0,15]
[null,null,"D0192904","Enea",1,{"$f":"ROW()","v":2063},8,null,null,"2.3.1.02.03.079","Auxilio especial de transporte Comprende el reconocimiento y pago del auxilio especial de transporte que realiza el Servicio Nacional de Aprendizaje (SENA) a favor de todos sus trabajadores oficiales. Este auxilio es equivalente al auxilio de transporte decretado por el gobierno, sin embargo, se reconoce de manera independiente al salario devengado por el Trabajador. Cuando el trabajador oficial compruebe tener uno o más hijos estudiando y estos dependan económicamente de él, el SENA pagará mensualmente por cada trabajador oficial247un subsidio extralegal de transporte equivalente al (100%) del auxilio decretado por el Gobierno",0,15]
[null,null,"D4391303","Enfriadores de botellas de uso industrial y comercial",1,{"$f":"ROW()","v":2064},8,null,null,"2.3.1.02.03.080","Bonificación por compensación Corresponde al pago que se realiza a los funcionarios públicos determinados por la Ley, para la nivelación de sus ingresos respecto de equivalentes en otros sectores de referencia, este reconocimiento solamente constituye factor salarial para efectos de determinar el Ingreso Base de Cotización (IBC) del Sistema General de Pensiones, y para la cotización al Sistema General de Seguridad Social en Salud, más no para determinar elementos salariales ni prestaciones sociales",0,15]
[null,null,"D4954002","Enganches para vehículos de ferrocarril",1,{"$f":"ROW()","v":2065},8,null,null,"2.3.1.02.03.081","Prima especial de servicios Reconocimiento económico del 30% del salario básico mensual que hace la ley a los magistrados del Consejo Superior de la Judicatura, de la Corte Suprema de Justicia, de la Corte Constitucional, del Consejo de Estado, el Procurador General de la Nación, el Contralor General de la República, el Fiscal General de la Nación, el Defensor del Pueblo y el Registrador Nacional del Estado Civil con el fin de igualar los ingresos percibidos por estos funcionarios, con aquellos que reciben los miembros del Congreso, sin que en ningún caso los supere.El Gobierno podrá fijar la misma prima para los ministros de despacho, los Generales y Almirantes de la Fuerza Pública. Esta bonificación constituye factor para efectos de determinar el Ingreso Base de Cotización (IBC) del Sistema General de Pensiones, y para la cotización al Sistema General de Seguridad Social en Salud, mas no para determinar elementos salariales ni prestaciones sociales",0,15]
[null,null,"D4516003","Engrapadoras para oficina",1,{"$f":"ROW()","v":2066},8,null,null,"2.3.1.02.03.082","Prima especial Art. 14 Ley 4 de 1992 Comprende la prima que es reconocida a los magistrados de todo orden de los Tribunales Superiores de Distrito Judicial y Contencioso Administrativo, agentes del Ministerio Público delegados ante la Rama Judicial y para los jueces de la República, incluidos los magistrados y fiscales del Tribunal Superior Militar, Auditores de Guerra y Jueces de Instrucción Penal Militar, excepto los que opten por la escala de salarios de la Fiscalía General de la Nación, con efectos a partir del 1 de enero de 1993.Igualmente tendrán derecho a percibir esta prima los delegados departamentales del Registrador Nacional del Estado Civil, los registradores del distrito capital y los niveles directivo y asesor de la249Registraduría Nacional del Estado Civil, no podrá ser inferior al 30% ni superior al 60% del salario básico",0,15]
[null,null,"D8882401","Ensamble de aeronaves",1,{"$f":"ROW()","v":2067},8,null,null,"2.3.1.02.03.083","Prima de carabinero Prima a favor del personal de nivel ejecutivo de la Policía Nacional, que ostente la especialidad de carabinero o policía rural y preste sus servicios en las áreas reglamentadas por la Dirección General de la Policía Nacional. Esta prima es equivalente al 5% del sueldo básico, y no tiene carácter salarial para ningún efecto",0,15]
[null,null,"D8881101","Ensamble de unidades C.K.D. para automóviles",1,{"$f":"ROW()","v":2068},8,null,null,"2.3.1.02.03.084","Bonificación especial por servicios de comisión en la DIAN Corresponde a bonificación especial no constitutiva de factor salarial, equivalente a una asignación mensual adicional equivalente al 30% del sueldo básico mensual, que se reconoce al personal uniformado de la Policía Nacional que preste sus servicios en comisión en la Unidad Administrativa Especial Dirección de Impuestos y Aduanas Nacionales – DIAN.Para tener derecho al reconocimiento y pago de la bonificación especial, el personal uniformado debe haber prestado el servicio total o parcialmente en actividades encaminadas al soporte y apoyo en actuaciones aduaneras, tributarias y cambiarias dirigidas a la lucha contra el contrabando, el lavado de activos y la evasión fiscal y previa certificación del Director de Gestión de Recursos y Administración económica de la DIAN, sobre la prestación del servicio",0,15]
[null,null,"D8881102","Ensamble de unidades C.K.D. para vehículos pesados",1,{"$f":"ROW()","v":2069},8,null,null,"2.3.1.02.03.085","Indemnización compensatorio horas extra Reconocimiento en dinero de los días compensatorios que se hubieren causado hasta la fecha de publicación del Decreto emitido por el DAFP , a favor de cada empleado público, siempre que exista disponibilidad presupuestal y no se afecten los recursos para el pago de horas extras que se vayan a causar en el resto de la presente vigencia.",0,15]
[null,null,"D2792204","Entretelas",1,{"$f":"ROW()","v":2070},8,null,null,"2.3.1.02.03.086","Prima o auxilio de Maternidad Es el reconocimiento que se hace a las trabajadoras oficiales y a las esposas o compañeras de los trabajadores oficiales con motivo del nacimiento de un hijo. El valor se establece por convención colectiva de trabajo vigente.",0,15]
[null,null,"D3649003","Envase de material plástico de 1000 cm3 y más",1,{"$f":"ROW()","v":2071},8,null,null,"2.3.1.02.03.087","Prima de Transporte y Manutención Corresponde a la prima que se reconoce a los Servidores Públicos que laboran en determinadas dependencias o en cualquier zona rural del Municipio de Medellín",0,15]
[null,null,"D3649008","Envase de material plástico para drogas y cosméticos",1,{"$f":"ROW()","v":2072},8,null,null,"2.3.1.02.03.088","Prima de Matrimonio Corresponde al reconocimiento que se hace a los trabajadores (as) oficiales, que durante su vinculación al Municipio de Medellín, contraigan matrimonio válidamente celebrado",0,15]
[null,null,"D4293119","Envases atomizadores metálicos",1,{"$f":"ROW()","v":2073},8,null,null,"2.3.1.02.03.089","Bonificación cargo académico administrativo Reconocimiento de bonificación mensual a los docentes que por acto administrativo desempeñen cargos académicos y administrativos con funciones directivas.",0,15]
[null,null,"D4293117","Envases de aluminio",1,{"$f":"ROW()","v":2074},8,null,null,"2.3.1.02.03.090","Bonificación por productividad académica Estas bonificaciones se realizan una sola vez y corresponden a actividades especificas de productividad académica y no contemplan pagos genéricos indiscriminados",0,15]
[null,null,"D4293106","Envases de aluminio de 1000 cm3 y más",1,{"$f":"ROW()","v":2075},8,null,null,"2.3.1.02.03.091","Bonificación Educadores de Básica y Media Bonificaciones no constitutivas de salario a los docentes y directivos al servicio del estado en niveles de preescolar, básica y media. Se reconoce anualmente, durante el tiempo que el funcionario permanezca en el servicio.",0,15]
[null,null,"D4293107","Envases de aluminio hasta de 1 000 cm3",1,{"$f":"ROW()","v":2076},8,null,null,"2.3.1.02.03.092","Bonificación Sindical Corresponde al pago en procesos de negociación sindical que se destinan a los servidores públicos. No constitutivas de salario.",0,15]
[null,null,"D4293104","Envases de aluminio para drogas y similares",1,{"$f":"ROW()","v":2077},8,null,null,"2.3.1.02.03.093","Trienios Recursos destinados al pago que tienen derecho los empleados públicos al cumplir tres años de antigüedad de servicios prestados en un trabajo, según lo estipulado por la ley.",0,15]
[null,null,"D3215318","Envases de cartón y hojalata",1,{"$f":"ROW()","v":2078},8,null,null,"2.3.1.02.03.094","Bonificación Zona de Difícil Acceso docentes Prescolar, Básica y Media Los docentes y directivos docentes que laboren en establecimientos educativos estatales, cuyas sedes estén ubicadas en zonas rurales de difícil acceso, tendrán derecho a una bonificación equivalente al quince por ciento (15%) del salario básico mensual que devenguen. Esta bonificación no constituye factor salarial ni prestacional para ningún efecto, se pagará mensualmente, y se causará únicamente durante el tiempo laborado en el año académico.",0,15]
[null,null,"D4293102","Envases de hojalata de 1 000 cm3 y más",1,{"$f":"ROW()","v":2079},8,null,null,"2.3.1.02.03.095","Bonificación Grado 14 docentes Prescolar, Básica y Media Es la bonificación que reciben los Docentes o Directivos Docentes de niveles preescolar, básica y media regidos por el Decreto Ley 2277/1979 y que hagan parte del grado 14 de Escalafón Nacional Docente. Para docentes activos equivale en 2016 al 10% de la ABM y 2017 y siguientes al 15% Asignación básica mensual. Para quienes se retiren del servicio por renuncia voluntaria o por retiro forzoso (edad permitida) equivale a un mes de Asignación Básica Mensual se pagará una sola vez cuando sea efectivamente desvinculado del servicio",0,15]
[null,null,"D4293101","Envases de hojalata hasta de 1.000 cm3",1,{"$f":"ROW()","v":2080},8,null,null,"2.3.1.02.03.096","Reconocimiento Adicional por gestión directivos docentes Prescolar, Básica y Media El rector que durante el año cumpla con el indicador de gestión, tanto en el componente de permanencia como en el de calidad, y reporte oportunamente la información en el SIMAT, recibirá un reconocimiento adicional equivalente a su última asignación básica mensual que devengó al final del año lectivo, el cual no constituye factor salarial. El porcentaje de deserción intraanual del establecimiento educativo no podrá ser superior al tres por ciento (3%).",0,15]
[null,null,"D3649002","Envases de material plástico de menos de 1000 cm3",1,{"$f":"ROW()","v":2081},8,null,null,"2.3.1.02.03.097","Incentivo por Jubilación Recursos destinados al pago a que tienen derecho los empleados públicos y trabajadores oficiales según acuerdo colectivo , el cual es recibido en la liquidación al momento de pensionarse. Estos derechos pueden derivarse de acuerdos de convención colectiva.",0,15]
[null,null,"D3215309","Envases de papel o cartón impermeabilizados",1,{"$f":"ROW()","v":2082},8,null,null,"2.3.1.02.03.098","Prima de Coordinación Académica y Disciplina Reconocimiento a Coordinadores Académicos y de Disciplina con dos jornadas. A los Coordinadores Académicos y de Disciplina de que trata el artículo anterior, a quienes se les asignen dos (2) jornadas, se les reconocerá el valor correspondiente a diez (10) horas cátedra semanales y un máximo de cuarenta (40) horas mensuales, e implicará una permanencia mínima de ocho (8) horas diarias en el Instituto. La liquidación se hará con base en el valor asignado a la hora cátedra establecida en el decreto del escalafón nacional docente para los docentes vinculados a la Nación.",0,15]
[null,null,"D3215310","Envases de papel o cartón impermeabilizados",1,{"$f":"ROW()","v":2083},8,null,null,"2.3.1.02.03.099","Remuneración por defunción",0,15]
[null,null,"D3649098","Envases n.c.p. de material plástico",1,{"$f":"ROW()","v":2084},8,null,null,"2.3.1.02.03.100","Auxilios Salud Visual Corresponde a la remuneración que percibe el empleado, en cumplimiento de acuerdos laborales, para la adquisición de lentes, monturas, cirugías refractivas, oftalmológicas, entre otros.",0,15]
[null,null,"D3719199","Envases n.c.p. de vidrio",1,{"$f":"ROW()","v":2085},8,null,null,"2.3.1.02.03.101","Auxilios Salud Dental Corresponde a la remuneración que percibe el empleado, en cumplimiento de acuerdos laborales, para cubrir gastos de salud dental.",0,15]
[null,null,"D3649013","Envases plásticos desechables para productos alimenticios y bebidas",1,{"$f":"ROW()","v":2086},8,null,null,"2.3.1.02.03.102","Auxilios Salud Auditiva Corresponde a la remuneración que percibe el empleado, en cumplimiento de acuerdos laborales, para cubrir gastos de salud auditiva.",0,15]
[null,null,"D3649033","Envases tubulares flexibles para dentífricos, champús, cremas y productos similares",1,{"$f":"ROW()","v":2087},8,null,null,"2.3.1.02.03.103","Auxilios Médicos Corresponde a la remuneración que percibe el empleado, en cumplimiento de acuerdos laborales, para cubrir gastos relacionados con la salud.",0,15]
[null,null,"D3219927","Envolturas de papel impresas para confites",1,{"$f":"ROW()","v":2088},8,null,null,"2.3.1.02.03.104","Auxilios Educativos Corresponde a la remuneración que percibe el empleado, en cumplimiento de acuerdos laborales, para cubrir gastos educativos.",0,15]
[null,null,"D3219925","Envolturas para cigarrillos",1,{"$f":"ROW()","v":2089},8,null,null,"2.3.1.02.03.105","Auxilios por Antigüedad Corresponde al beneficio extralegal por antigüedad que se reconoce en el marco de un acuerdo laboral.",0,15]
[null,null,"D3219205","Envolturas y sobres de papel laminado",1,{"$f":"ROW()","v":2090},8,null,null,"2.3.1.02.03.106","Auxilios para Recreación Corresponde a la remuneración que percibe el empleado, en cumplimiento de acuerdos laborales, para cubrir gastos de bienestar.",0,15]
[null,null,"D3417014","Enzimas",1,{"$f":"ROW()","v":2091},8,null,null,"2.3.1.02.03.107","Auxilios para Desplazamiento Corresponde a la remuneración que percibe el empleado, en cumplimiento de acuerdos laborales, para cubrir gastos de desplazamiento.",0,15]
[null,null,"D4324017","Equipo (árbol de navidad) especializado para la extracción de petróleo y gas",1,{"$f":"ROW()","v":2092},8,null,null,"2.3.1.02.03.108","Prima compensatoria Corresponde al beneficio extralegal por concepto de prima compensatoria que se reconoce al empleado en el marco del acuerdo laboral.",0,15]
[null,null,"D4491403","Equipo de encuadernación",1,{"$f":"ROW()","v":2093},8,null,null,"2.3.1.02.03.109","Bonificación por Alto Riesgo Corresponde a la bonificación por alto riesgo que se reconoce al empleado en el marco de acuerdos de negociación colectiva.",0,15]
[null,null,"D4732105","Equipo de sonido integrado",1,{"$f":"ROW()","v":2094},8,null,null,"2.3.1.02.03.110","Prima Especial Corresponde al pago por concepto de prima especial que se reconoce al empleado en el marco de una Convención Colectiva. - Tambien Comprende el reconocimiento y pago por concepto de la prima especial establecida como no factor salarial y que no deberá ser incluida como factor para la liquidación del ingreso base de cotización en el sistema de seguridad social integral para los funcionarios del Ministerio Público, en virtud de los artículos del 3-9, 12-13 y 18 del Decreto 186 y el artículo 6 del Decreto 196 de 2014.",0,15]
[null,null,"D4391202","Equipo industrial o comercial para acondicionamiento de aire y calefacción",1,{"$f":"ROW()","v":2095},8,null,null,"2.3.1.02.03.111","Prima de antigüedad Corresponde a los pagos que realiza la Empresa URRA S.A en marco de la clausula séptima de la convención colectiva de trabajo entre la EICE y sus trabajadores no sindicalizados. Esta prima aplicará para las vigencias 2017-2022",0,15]
[null,null,"D4816005","Equipo médico para gases medicinales",1,{"$f":"ROW()","v":2096},8,null,null,"2.3.1.02.03.112","Bonificación especial de gestión Corresponde a los pagos que realiza la Empresa URRA S.A en marco de la clausula séptima de la convención colectiva de trabajo entre la EICE y sus trabajadores no sindicalizados. Esta bonificación aplicará para las vigencias 2017-2022",0,15]
[null,null,"D4391109","Equipo para destilar, fraccionar, evaporar y secar, excepto para alimentos",1,{"$f":"ROW()","v":2097},8,null,null,"2.3.1.02.03.113","Prima de vacaciones extralegal Corresponde por concepto de la prima de vacaciones extralegal a los empleados de la empresa URRÁ S.A, definida en la convención colectiva de trabajo entre la EICE y sus trabajadores no sindicalizados. Esta prima aplicará para las vigencias 2017-2022. Los pagos de esta prestación social son diferentes a los pagos por concepto de vacaciones.",0,15]
[null,null,"D4391301","Equipo para fabricar hielo",1,{"$f":"ROW()","v":2098},8,null,null,"2.3.1.02.03.114","Bonificación permanente extralegal La Empresa y el trabajador, en aplicación a lo establecido en el artículo 128 del Código Sustantivo del Trabajo, podrán acordar contractualmente y por escrito, beneficios habituales otorgados en forma extralegal, que no constituye para ningún efecto salario y no tendrá incidencia en la liquidación y pago de prestaciones sociales o indemnizaciones.Estas bonificaciones extralegales constituyen un reconocimiento que hace la Alta Dirección para aquellos trabajadores de la empresa, qué por razón de sus actividades, compromisos, disponibilidad, condiciones de empleo, entre otros factores, contribuyen al cumplimiento y fortalecimiento de los objetivos de la Empresa.",0,15]
[null,null,"D4391401","Equipo para filtración de gases",1,{"$f":"ROW()","v":2099},8,null,null,"2.3.1.02.03.115","Prima extralegal por disponibilidad base operacional Adicional a la remuneración básica mensual pactada en el contrato de trabajo, SATENA podrá asignar una prima extralegal por mera liberalidad para aquellos cargos que, con ocasión a sus funciones y responsabilidades, conlleven inmerso actividades de dirección, confianza y manejo y que tengan a cargo la coordinación de una base operacional – comercial de la empresa.Este Auxilio extralegal “Prima de Disponibilidad base operacional-comercial SATENA”, no constituye salario y no tendrá incidencia en la liquidación y pago de prestaciones sociales o indemnizaciones, conforme a lo dispuesto en el artículo 15 de la Ley 50 de 1990, modificatorio del artículo 128 del Código Sustantivo del Trabajo.",0,15]
[null,null,"D4419101","Equipo para la fabricación de vinos",1,{"$f":"ROW()","v":2100},8,null,null,"2.3.1.02.03.116","Bonificación extralegal por dirección para los directores militares La Bonificación Extralegal por Dirección se pagará al Presidente, Vicepresidente y Directores Militares de SATENA, esta Bonificación no constituye salario y no tendrá incidencia en la liquidación y pago de prestaciones sociales o indemnizaciones, conforme a lo dispuesto en el artículo 15 de la Ley 50 de 1990, modificatorio del artículo 128 del Código Sustantivo del Trabajo.",0,15]
[null,null,"D4816003","Equipo para masajes (hidromasajes, vacumterapia, etc.)",1,{"$f":"ROW()","v":2101},8,null,null,"2.3.1.02.03.117","Prima de Instrucción Corresponde a la prima que reconoce SATENA al trabajador, que, en consideración a su idoneidad esté en capacidad de impartir instrucciones y/o capacitaciones a personal de Pilotos, Copilotos, Auxiliares de Vuelo y Despachadores (según el caso), y que constituyen actividades adicionales a las funciones propias de su cargo y por fuera de su jornada laboral, siempre y cuando se enmarque dentro de las labores de instrucción y/o entrenamiento. Este Auxilio extralegal, no constituye salario y no tendrá incidencia en la liquidación y pago de prestaciones sociales o indemnizaciones, conforme a lo dispuesto en el artículo 15 de la Ley 50 de 1990, modificatorio del artículo 128 del Código Sustantivo del Trabajo.",0,15]
[null,null,"D4451606","Equipo para panadería (excepto hornos)",1,{"$f":"ROW()","v":2102},8,null,null,"2.3.1.02.03.118","Participación en utilidades Corresponde a la participación en utilidades que una empresa otorga a sus empleados, en el marco de acuerdos laborales.",0,15]
[null,null,"D4443001","Equipo para pavimentación",1,{"$f":"ROW()","v":2103},8,null,null,"2.3.1.02.03.119","Reconocimiento por permanencia en el servicio público - Bogotá D.C. Es la retribución a la que tienen derecho los funcionarios, por prestar sus servicios por periodos de 5 años consecutivos, sin interrupciones, y por haber desempeñado más funciones con corrección y competencia.",0,15]
[null,null,"D4415001","Equipo para riego artificial",1,{"$f":"ROW()","v":2104},8,null,null,"2.3.1.02.03.120","Bonificación a la excelencia Remuneración equivalente a tres (3) asignaciones básicas, que tienen derecho el Patrullero de Policía y Patrullero del Nivel Ejecutivo en servicio activo por cada cinco (5) años continuos de servicio que cumpla en el grado, en virtud del Decreto 668 y 669 de 2022",0,15]
[null,null,"D4611202","Equipo para subestaciones eléctricas",1,{"$f":"ROW()","v":2105},8,null,null,"2.3.1.02.03.121","Bonificación por permanencia Bonificación mensual que se otorga a los mandos del nivel ejecutivo de la Policía Nacional, que una vez cumplan los requisitos para su asignación de retiro, decidan continuar como miembros de la institución, en virtud de la Ley 2179 de 2021",0,15]
[null,null,"D4451304","Equipo para trilla de arroz",1,{"$f":"ROW()","v":2106},8,null,null,"2.3.1.02.03.122","Bonificación para la asistencia familiar Bonificación a la que tienen derecho el personal del Nivel ejecutivo y Patrullero de Policía en servicio activo, por estado civil de casado o unión marital de hecho y por el primer y segundo hijo, en virtud de la Ley 2179 de 2021",0,15]
[null,null,"D4691201","Equipos de alumbrado para vehículos automotores (excepto unidades selladas)",1,{"$f":"ROW()","v":2107},8,null,null,"2.3.1.02.04.001","Otros gastos de personal - previo concepto DGPPN Esta cuenta es de programación presupuestal y registra el monto de los gastos de personal por incremento salarial que resulta del ajuste del poder adquisitivo y demás criterios de programación impartidos para consideración, si los hubiera (Sentencia 1433 de 2000).",0,15]
[null,null,"D4733004","Equipos de amplificación de sonido",1,{"$f":"ROW()","v":2108},8,null,null,"2.3.2.01.01.001.01.01","Edificios utilizados para residencia Es la adquisición de edificios utilizados para residencia incluidas las construcciones asociadas.",0,21]
[null,null,"D4352002","Equipos de manipulación mecánica y carga de productos (puentes grúas fijos y móviles, cables aéreos y similares)",1,{"$f":"ROW()","v":2109},8,null,null,"2.3.2.01.01.001.01.02","Casas flotantes Es la adquisición de casas flotantes para residencia.",0,21]
[null,null,"D4391203","Equipos de refrigeración y calefacción para automotores",1,{"$f":"ROW()","v":2110},8,null,null,"2.3.2.01.01.001.01.03","Barcazas Es la adquisición de Barcazas para residencia.",0,21]
[null,null,"D4815007","Equipos de venoclisis y análogos",1,{"$f":"ROW()","v":2111},8,null,null,"2.3.2.01.01.001.01.04","Viviendas móviles Es la adquisición de viviendas móviles para residencia.",0,21]
[null,null,"D4692902","Equipos electrónicos especiales para peajes",1,{"$f":"ROW()","v":2112},8,null,null,"2.3.2.01.01.001.01.05","Coches habitación Es la adquisición de coches habitación para residencia.",0,21]
[null,null,"D4443002","Equipos especiales para la construcción de puentes, viaductos, etc.",1,{"$f":"ROW()","v":2113},8,null,null,"2.3.2.01.01.001.01.06","Monumentos públicos considerados principalmente como viviendas Es la adquisiciónd e monumentos públicos considerados principalmente residenciales.",0,21]
[null,null,"D4621216","Equipos especializados (Kits) para instalaciones y trabajos de conexión eléctrica",1,{"$f":"ROW()","v":2114},8,null,null,"2.3.2.01.01.001.01.07","Viviendas para personal militar Es la adquisición de viviendas para uso exclusivo de personal militar.",0,21]
[null,null,"D4815017","Equipos especializados (Kits) para uso médico y quirúrgico",1,{"$f":"ROW()","v":2115},8,null,null,"2.3.2.01.01.001.01.08","Construcciones prefabricadas Es la adquisición de construcciones prefabricadas para residencia.",0,21]
[null,null,"D4813005","Equipos especializados (Kits) para uso odontológico",1,{"$f":"ROW()","v":2116},{"$f":"LEN(C2116)","v":8},null,null,"2.3.2.01.01.001.01.09","Otros edificios utilizados como residencia Es la adquisición de edificios utilizados como residencia que no se clasifican en las cuentas anteriores",0,{"$f":"LEN(J2116)","v":21}]
[null,null,"D4392303","Equipos extintores de incendios",1,{"$f":"ROW()","v":2117},8,null,null,"2.3.2.01.01.001.02.01","Monumentos públicos no residenciales",0,21]
[null,null,"D4415002","Equipos hidroneumáticos",1,{"$f":"ROW()","v":2118},8,null,null,"2.3.2.01.01.001.02.02","Edificios industriales Es la adquisición de edificaciones destinadas a actividades de producción y montaje de instalaciones industriales. Esta categoría incluye: fabricas, plantas y talleres, los edificios agricolas, incluidos los silos y otras instalaciones de almacenamieto.",0,21]
[null,null,"D4391108","Equipos intercambiadores de calor para usos industriales.",1,{"$f":"ROW()","v":2119},8,null,null,"2.3.2.01.01.001.02.03","Edificios comerciales Es la adquisición de edificaciones utilizadas principalmente en el comercio al por mayor y al por menor. esta categoria incluye: centros comerciales, grandes almacenes, tiendas independientes y boutiques, mercados interiores, etc. Los almacenes, las salas de exposiciones, los edificios de oficinas, edificios bancarios, las terminales aéreas, ferroviarias o de transporte terrestre, parqueaderos y estaciones de servicio y gasolineras.",0,21]
[null,null,"D4462202","Equipos para lavanderías",1,{"$f":"ROW()","v":2120},8,null,null,"2.3.2.01.01.001.02.04","Edificios públicos de entretenimiento Es la adquisición de edificios públicos de entretenimiento. Esta categoría incluye: salas de cine, teatros, salas de conciertos, salas de baile y discotecas.",0,21]
[null,null,"D4815002","Equipos pericraneales y otros similares para medicina y cirugía",1,{"$f":"ROW()","v":2121},8,null,null,"2.3.2.01.01.001.02.05","Edificios de hoteles Es la adquisición de edificios de hoteles. Esta categoría incluye: moteles, posadas, hostales y edificios similares.",0,21]
[null,null,"D4721101","Equipos radiotelefónicos de comunicaciones",1,{"$f":"ROW()","v":2122},8,null,null,"2.3.2.01.01.001.02.06","Restaurantes Es la adquisición de restaurantes.",0,21]
[null,null,"D4721102","Equipos radiotelegráficos de comunicaciones",1,{"$f":"ROW()","v":2123},8,null,null,"2.3.2.01.01.001.02.07","Edificios educativos Es la adquisición de edificios educativos. Esta categoría incluye: escuelas, colegios, universidades, bibliotecas, archivos y museos.",0,21]
[null,null,"D4721201","Equipos transmisores de radiodifusión",1,{"$f":"ROW()","v":2124},8,null,null,"2.3.2.01.01.001.02.08","Edificios relacionados con salud Es la adquisición de edificios relacionados con la salud. Esta categoría incluye: hospitales, clínicas y sanatorios, contiene también las clínicas veterinarias.",0,21]
[null,null,"D4721202","Equipos transmisores de televisión",1,{"$f":"ROW()","v":2125},8,null,null,"2.3.2.01.01.001.02.09","Prisiones Es la adquisición de edificios exclusivamente para la reclusión de prisioneros.",0,21]
[null,null,"D4394202","Equipos y partes para tratamiento de aguas",1,{"$f":"ROW()","v":2126},8,null,null,"2.3.2.01.01.001.02.10","Edificios y estructuras para fines militares Es la adquisición de edificios y estructuras para fines militares",0,21]
[null,null,"D3525048","Ergonovina",1,{"$f":"ROW()","v":2127},8,null,null,"2.3.2.01.01.001.02.11","Instalaciones recreativas Es la adquisición de instalaciones recreativas. Esta categoría incluye: pistas de hielo, gimnasios, pistas cubiertas de tenis, pabellones deportivos, entre otros.",0,21]
[null,null,"D3525055","Ergotamina",1,{"$f":"ROW()","v":2128},8,null,null,"2.3.2.01.01.001.02.12","Centros de convenciones y congresos Es la adquisición de centros de convenciones y congresos.",0,21]
[null,null,"D3525064","Eritromicina",1,{"$f":"ROW()","v":2129},8,null,null,"2.3.2.01.01.001.02.13","Edificios agrícolas no residenciales Es la adquisición de edificios agrícolas no residenciales.",0,21]
[null,null,"D3160009","Escaleras de madera",1,{"$f":"ROW()","v":2130},8,null,null,"2.3.2.01.01.001.02.14","Otros edificios no residenciales Es la adquisición de otros edificios no residenciales.",0,21]
[null,null,"D3191406","Escaleras de mano de madera",1,{"$f":"ROW()","v":2131},8,null,null,"2.3.2.01.01.001.03.01","Monumentos públicos Corresponde a la construcción de monumentos públicos.",0,21]
[null,null,"D4299916","Escaleras metálicas de mano",1,{"$f":"ROW()","v":2132},8,null,null,"2.3.2.01.01.001.03.02","Autopistas, carreteras, calles Corresponde a la construcción de autopistas, carreteras, calles, etc.",0,21]
[null,null,"D4299918","Escaleras metálicas para empotrar",1,{"$f":"ROW()","v":2133},8,null,null,"2.3.2.01.01.001.03.03","Ferrocarriles Corresponde a la construcción o adquisición de ferrocarriles.",0,21]
[null,null,"D3899302","Escobas",1,{"$f":"ROW()","v":2134},8,null,null,"2.3.2.01.01.001.03.04","Pistas de aterrizaje Corresponde a la construcción de pistas de aterrizaje.",0,21]
[null,null,"D3899317","Escobas barreprados",1,{"$f":"ROW()","v":2135},8,null,null,"2.3.2.01.01.001.03.05","Puentes Corresponde a la construcción de puentes.",0,21]
[null,null,"D3899301","Escobas y cepillos de material plástico",1,{"$f":"ROW()","v":2136},8,null,null,"2.3.2.01.01.001.03.06","Carreteras elevadas Corresponde a la construcción de carreteras elevadas.",0,21]
[null,null,"D4695003","Escobillas para motores y generadores",1,{"$f":"ROW()","v":2137},8,null,null,"2.3.2.01.01.001.03.07","Túneles Corresponde a la construcción de tuneles.",0,21]
[null,null,"D4473002","Escopetas",1,{"$f":"ROW()","v":2138},8,null,null,"2.3.2.01.01.001.03.08","Acueductos y otros conductos de suministros de aguas, excepto gasoductos Corresponde a la construcción o adquisición de acueductos y otros conductos de suministros de aguas, excepto gasoductos.",0,21]
[null,null,"D3525045","Escopolamina",1,{"$f":"ROW()","v":2139},8,null,null,"2.3.2.01.01.001.03.09","Puertos, vías navegables e instalaciones conexas Corresponde a la construcción de puertos, vías navegables e instalaciones conexas.",0,21]
[null,null,"D3931001","Escoria de alto horno",1,{"$f":"ROW()","v":2140},8,null,null,"2.3.2.01.01.001.03.10","Represas Corresponde a la construcción de represas.",0,21]
[null,null,"D3310102","Escoria de carbón",1,{"$f":"ROW()","v":2141},8,null,null,"2.3.2.01.01.001.03.11","Sistemas de riego y obras hidráulicas Corresponde a la construcción o adquisición de Sistemas de riego y obras hidráulicas.",0,21]
[null,null,"D3931002","Escoria fina de alto horno",1,{"$f":"ROW()","v":2142},8,null,null,"2.3.2.01.01.001.03.12","Tuberías de larga distancia Corresponde a la construcción o adquisición de tuberías de larga distancia.",0,21]
[null,null,"D3812201","Escritorios de madera",1,{"$f":"ROW()","v":2143},8,null,null,"2.3.2.01.01.001.03.13","Obras para la comunicación de larga distancia y las líneas eléctricas (cables) Corresponde a la construcción de obras para la comunicación de larga distancia y las líneas eléctricas (cables).",0,21]
[null,null,"D3812210","Escritorios de madera",1,{"$f":"ROW()","v":2144},8,null,null,"2.3.2.01.01.001.03.14","Gasoductos y oleoductos Corresponde a la construcción o adquisición de gasoductos y oleoductos.",0,21]
[null,null,"D3812208","Escritorios de mimbre, bambú o similares",1,{"$f":"ROW()","v":2145},8,null,null,"2.3.2.01.01.001.03.15","Cables locales y obras conexas Corresponde a la construcción o adquisición de cables locales y obras conexas.",0,21]
[null,null,"D3812101","Escritorios metálicos",1,{"$f":"ROW()","v":2146},8,null,null,"2.3.2.01.01.001.03.16","Alcantarillas y plantas de tratamiento de agua Corresponde a la construcción de alcantarillas y plantas de tratamiento de agua.",0,21]
[null,null,"D3899707","Escudos y botones de fantasía",1,{"$f":"ROW()","v":2147},8,null,null,"2.3.2.01.01.001.03.17","Construcciones en minas y plantas industriales Corresponde a las construcciones en minas y plantas industriales.",0,21]
[null,null,"D3541002","Esencias",1,{"$f":"ROW()","v":2148},8,null,null,"2.3.2.01.01.001.03.18","Construcciones deportivas al aire libre Corresponde a las construcciones deportivas al aire libre.",0,21]
[null,null,"D3525049","Eserina-eseridina",1,{"$f":"ROW()","v":2149},8,null,null,"2.3.2.01.01.001.03.19","Otras obras de ingeniería civil Corresponde a la construcción de otras obras de ingeniería civil.",0,21]
[null,null,"D4333101","Esferas y rodillos para cojinetes",1,{"$f":"ROW()","v":2150},8,null,null,"2.3.2.01.01.001.04","Mejoras de tierras y terrenos Corresponde a los gastos realizados para la adquisición de mejoras de tierra. Las mejoras de tierra son el resultado de acciones que dan lugar a mejoras importantes en la calidad, cantidad o productividad de la tierra, o que impidan su deterioro.Incluye:*Recuperación, desmonte de tierras y cerramiento del terreno.*Creación de pozos y abrevaderos que son parte integral de las tierras.No incluye:*Costos de limpieza y preparación de terrenos cuando están asociados a la adquisición deedificaciones nuevas.*Construcción de malecones, diques, barreras contra inundaciones, entre otros, destinados amejorar la calidad y cantidad de la tierra adyacente a ellos.*Construcción de sistemas de riego principales.",0,18]
[null,null,"D2732008","Eslinga",1,{"$f":"ROW()","v":2151},8,null,null,"2.3.2.01.01.002.01","Buques de guerra Corresponden a los gastos por adquisición de buques de guerra.",0,18]
[null,null,"D8873101","Esmaltado de metales comunes",1,{"$f":"ROW()","v":2152},8,null,null,"2.3.2.01.01.002.02","Submarinos Corresponden a los gastos por adquisición de submarinos.",0,18]
[null,null,"D3532310","Esmalte para uñas y líquidos para manicura",1,{"$f":"ROW()","v":2153},8,null,null,"2.3.2.01.01.002.03","Aeronaves militares Corresponden a los gastos por adquisición de aeronaves militares.",0,18]
[null,null,"D3511026","Esmaltes cerámicos (vidriados cerámicos)",1,{"$f":"ROW()","v":2154},8,null,null,"2.3.2.01.01.002.04","Tanques Corresponden a los gastos por adquisición de tanques.",0,18]
[null,null,"D3511005","Esmaltes de impresión tamigráfica (screen)",1,{"$f":"ROW()","v":2155},8,null,null,"2.3.2.01.01.002.05","Dispositivos de transporte Corresponden a los gastos por adquisición de dispositivos de transporte.",0,18]
[null,null,"D3511003","Esmaltes de uso general",1,{"$f":"ROW()","v":2156},8,null,null,"2.3.2.01.01.002.06","Lanzamisiles Corresponden a los gastos por adquisición de lanzamisiles.",0,18]
[null,null,"D3511006","Esmaltes industriales horneables",1,{"$f":"ROW()","v":2157},8,null,null,"2.3.2.01.01.002.07","Otros sistemas de armamentos Corresponden a los gastos por adquisición de otros sistemas de armamentos.",0,18]
[null,null,"D1631001","Esmeraldas sin tallar",1,{"$f":"ROW()","v":2158},8,null,null,"2.3.2.01.01.003.01.01","Motores y turbinas y sus partes",0,21]
[null,null,"D3822003","Esmeraldas talladas",1,{"$f":"ROW()","v":2159},8,null,null,"2.3.2.01.01.003.01.02","Bombas, compresores, motores de fuerza hidráulica y motores de potencia neumática y válvulas y sus partes y piezas",0,21]
[null,null,"D3791007","Esmeril en polvo",1,{"$f":"ROW()","v":2160},8,null,null,"2.3.2.01.01.003.01.03","Cojines, engranajes, ruedas de ficción y elementos de transmisión y sus partes y piezas",0,21]
[null,null,"D3527015","Esparadrapo",1,{"$f":"ROW()","v":2161},8,null,null,"2.3.2.01.01.003.01.04","Hornos y quemadores para alimentación de hogares y sus partes y piezas",0,21]
[null,null,"D4411401","Esparcidoras de abono motorizadas",1,{"$f":"ROW()","v":2162},8,null,null,"2.3.2.01.01.003.01.05","Equipos de elevación y manipulación y sus partes y piezas",0,21]
[null,null,"D0121101","Espárragos",1,{"$f":"ROW()","v":2163},8,null,null,"2.3.2.01.01.003.01.06","Otras máquinas para usos generales y sus partes y piezas",0,21]
[null,null,"D2139907","Espárragos en conserva",1,{"$f":"ROW()","v":2164},8,null,null,"2.3.2.01.01.003.02.01","Maquinaria agropecuaria o silvícola y sus partes y piezas",0,21]
[null,null,"D3525044","Esparteína",1,{"$f":"ROW()","v":2165},8,null,null,"2.3.2.01.01.003.02.02","Máquinas herramientas y sus partes, piezas y accesorios",0,21]
[null,null,"D3711602","Espejos enmarcados",1,{"$f":"ROW()","v":2166},8,null,null,"2.3.2.01.01.003.02.03","Maquinaria para la industria metalúrgica y sus partes y piezas",0,21]
[null,null,"D3711603","Espejos para automotores",1,{"$f":"ROW()","v":2167},8,null,null,"2.3.2.01.01.003.02.04","Maquinaria para la minería, la explotación de canteras y la construcción y sus partes y piezas",0,21]
[null,null,"D3711601","Espejos sin marco",1,{"$f":"ROW()","v":2168},8,null,null,"2.3.2.01.01.003.02.05","Maquinaria para la elaboración de alimentos, bebidas y tabaco, y sus partes y piezas",0,21]
[null,null,"D3711604","Espejos sin marco",1,{"$f":"ROW()","v":2169},8,null,null,"2.3.2.01.01.003.02.06","Maquinaria para la fabricación de textiles, prendas de vestir y artículos de cuero, y sus partes y piezas",0,21]
[null,null,"D0429131","Espejuelo-jorobado-palometa, frescos o refrigerados",1,{"$f":"ROW()","v":2170},8,null,null,"2.3.2.01.01.003.02.07","Aparatos de uso doméstico y sus partes y piezas",0,21]
[null,null,"D0121501","Espinaca",1,{"$f":"ROW()","v":2171},8,null,null,"2.3.2.01.01.003.02.08","Otra maquinaria para usos especiales y sus partes y piezas",0,21]
[null,null,"D3699007","Espiral de plástico para cuadernos y usos análogos",1,{"$f":"ROW()","v":2172},8,null,null,"2.3.2.01.01.003.03.01","Máquinas para oficina y contabilidad, y sus partes y accesorios",0,21]
[null,null,"D3627007","Esponjas de caucho",1,{"$f":"ROW()","v":2173},8,null,null,"2.3.2.01.01.003.03.02","Maquinaria de informática y sus partes, piezas y accesorios",0,21]
[null,null,"D4291231","Esponjas y esponjillas metálicas",1,{"$f":"ROW()","v":2174},8,null,null,"2.3.2.01.01.003.04.01","Motores, generadores y transformadores eléctricos y sus partes y piezas",0,21]
[null,null,"D3694015","Esponjas y similares de plástico espumado flexible",1,{"$f":"ROW()","v":2175},8,null,null,"2.3.2.01.01.003.04.02","Aparatos de control eléctrico y distribución de electricidad y sus partes y piezas",0,21]
[null,null,"D4291605","Espumaderas y similares metálicas sin esmaltar (excepto las de aluminio)",1,{"$f":"ROW()","v":2176},8,null,null,"2.3.2.01.01.003.04.03","Hilos y cables aislados; cable de fibra óptica",0,21]
[null,null,"D3549937","Espumantes para bebidas",1,{"$f":"ROW()","v":2177},8,null,null,"2.3.2.01.01.003.04.04","Acumuladores, pilas y baterías primarias y sus partes y piezas",0,21]
[null,null,"D0196108","Esquejes e injertos no silvícolas",1,{"$f":"ROW()","v":2178},8,null,null,"2.3.2.01.01.003.04.05","Lámparas eléctricas de incandescencia o descarga; lámparas de arco, equipo para alumbrado eléctrico; sus partes y piezas",0,21]
[null,null,"D3816002","Esquineros, tapizados y demás partes y accesorios para corrales de bebés",1,{"$f":"ROW()","v":2179},8,null,null,"2.3.2.01.01.003.04.06","Otro equipo eléctrico y sus partes y piezas",0,21]
[null,null,"D4621215","Estabilizadores eléctricos",1,{"$f":"ROW()","v":2180},{"$f":"LEN(C2180)","v":8},null,null,"2.3.2.01.01.003.05.01","Válvulas y tubos electrónicos; componentes electrónicos; sus partes y piezas",0,{"$f":"LEN(J2180)","v":21}]
[null,null,"D3549938","Estabilizantes para bebidas y alimentos",1,{"$f":"ROW()","v":2181},8,null,null,"2.3.2.01.01.003.05.02","Aparatos transmisores de televisión y radio; televisión, video y cámaras digitales; teléfonos",0,21]
[null,null,"D3549919","Estabilizantes para resinas artificiales",1,{"$f":"ROW()","v":2182},8,null,null,"2.3.2.01.01.003.05.03","Radiorreceptores y receptores de televisión; aparatos para la grabación y reproducción de sonido y video; micrófonos, altavoces, amplificadores, etc.",0,21]
[null,null,"D3261005","Estampillas de correo, timbre nacional y otras",1,{"$f":"ROW()","v":2183},8,null,null,"2.3.2.01.01.003.05.04","Partes y piezas de los productos de las clases 4721 a 4733 y 4822",0,21]
[null,null,"D2719002","Estandartes y banderas",1,{"$f":"ROW()","v":2184},8,null,null,"2.3.2.01.01.003.05.05","Discos, cintas, dispositivos de almacenamiento en estado sólido no volátiles y otros medios, no grabados",0,21]
[null,null,"D3814049","Estanterías metálicas amovibles",1,{"$f":"ROW()","v":2185},8,null,null,"2.3.2.01.01.003.05.06","Grabaciones de audio, video y otros discos, cintas y otros medios físicos",0,21]
[null,null,"D3814038","Estantes de madera",1,{"$f":"ROW()","v":2186},8,null,null,"2.3.2.01.01.003.05.07","Tarjetas con bandas magnéticas o plaquetas (chip)",0,21]
[null,null,"D4818005","Estantes metálicos para hospitales",1,{"$f":"ROW()","v":2187},8,null,null,"2.3.2.01.01.003.06.01","Aparatos médicos y quirúrgicos y aparatos ortésicos y protésicos",0,21]
[null,null,"D4144301","Estaño en bloques y lingotes",1,{"$f":"ROW()","v":2188},8,null,null,"2.3.2.01.01.003.06.02","Instrumentos y aparatos de medición, verificación, análisis, de navegación y para otros fines (excepto instrumentos ópticos); instrumentos de control de procesos industriales, sus partes, piezas y accesorios",0,21]
[null,null,"D4313301","Estatorreactores, pulsorreactores y cohetes",1,{"$f":"ROW()","v":2189},8,null,null,"2.3.2.01.01.003.06.03","Instrumentos ópticos y equipo fotográfico; partes, piezas y accesorios",0,21]
[null,null,"D3414022","Estearato de calcio",1,{"$f":"ROW()","v":2190},8,null,null,"2.3.2.01.01.003.06.04","Relojes y sus partes y piezas",0,21]
[null,null,"D3414017","Estearato de glicerilo",1,{"$f":"ROW()","v":2191},8,null,null,"2.3.2.01.01.003.07.01","Vehículos automotores, remolques y semirremolques; y sus partes, piezas y accesorios",0,21]
[null,null,"D3414023","Estearato de magnesio",1,{"$f":"ROW()","v":2192},8,null,null,"2.3.2.01.01.003.07.02","Carrocerías (incluso cabinas) para vehículos automotores; remolques y semirremolques; y sus partes, piezas y accesorios",0,21]
[null,null,"D3414024","Estearato de sodio",1,{"$f":"ROW()","v":2193},8,null,null,"2.3.2.01.01.003.07.03","Buques",0,21]
[null,null,"D3414025","Estearato de zinc",1,{"$f":"ROW()","v":2194},8,null,null,"2.3.2.01.01.003.07.04","Embarcaciones para deportes y recreo",0,21]
[null,null,"D3414098","Estearatos n.c.p.",1,{"$f":"ROW()","v":2195},8,null,null,"2.3.2.01.01.003.07.05","Locomotoras y material rodante de ferrocarril y tranvía, y sus partes y piezas",0,21]
[null,null,"D3412001","Estearina (ácido esteárico comercial)",1,{"$f":"ROW()","v":2196},8,null,null,"2.3.2.01.01.003.07.06","Aeronaves y naves espaciales, y sus partes y piezas",0,21]
[null,null,"D3414016","Éster butílico",1,{"$f":"ROW()","v":2197},8,null,null,"2.3.2.01.01.003.07.07.01","Motocicletas y sidecares (vehículos laterales a las motocicletas)",0,24]
[null,null,"D3418001","Éster fosfórico",1,{"$f":"ROW()","v":2198},8,null,null,"2.3.2.01.01.003.07.07.02","Bicicletas y sillones de ruedas para discapacitados",0,24]
[null,null,"D3192301","Esteras de fibras duras vegetales",1,{"$f":"ROW()","v":2199},8,null,null,"2.3.2.01.01.003.07.07.03","Vehículos n.c.p. sin propulsión mecánica",0,24]
[null,null,"D3414030","Esteres del ácido acrílico (metil-etil-butil acrilatos)",1,{"$f":"ROW()","v":2200},8,null,null,"2.3.2.01.01.003.07.07.04","Partes y piezas para los productos de las clases 4991 y 4992",0,24]
[null,null,"D3414099","Ésteres n.c.p.",1,{"$f":"ROW()","v":2201},8,null,null,"2.3.2.01.01.003.08.01","Armas Gastos asociados a la adquisición de armas.",0,21]
[null,null,"D3440003","Estergum (goma para chicle)",1,{"$f":"ROW()","v":2202},8,null,null,"2.3.2.01.01.003.08.02","Equipo de alojamiento y campaña Gastos asociados a la adquisición de equipo de alojamiento y campaña.",0,21]
[null,null,"D4355002","Estibadoras hidráulicas",1,{"$f":"ROW()","v":2203},8,null,null,"2.3.2.01.01.003.08.03","Equipo de inteligencia Gastos asociados a la adquisición de equipo de inteligencia.",0,21]
[null,null,"D3649035","Estibas plásticas para transporte de mercancías",1,{"$f":"ROW()","v":2204},8,null,null,"2.3.2.01.01.003.08.04","Equipo militar y de seguridad Gastos asociados a la adquisición de equipo militar y de seguridad.",0,21]
[null,null,"D3891101","Estilógrafos",1,{"$f":"ROW()","v":2205},8,null,null,"2.3.2.01.01.003.08.05","Equipo policía judicial Gastos asociados a la adquisición de equipo policía judicial.",0,21]
[null,null,"D3411012","Estireno",1,{"$f":"ROW()","v":2206},8,null,null,"2.3.2.01.01.003.08.06","Equipo antimotines Gastos asociados a la adquisición de equipo antimotines.",0,21]
[null,null,"D2832003","Estolas de piel",1,{"$f":"ROW()","v":2207},8,null,null,"2.3.2.01.01.003.08.07","Otros equipos Gastos asociados a la adquisición de armas.",0,21]
[null,null,"D4294410","Estoperoles",1,{"$f":"ROW()","v":2208},8,null,null,"2.3.2.01.01.004.01.01.01","Asientos",0,24]
[null,null,"D3416008","Estovarsol",1,{"$f":"ROW()","v":2209},8,null,null,"2.3.2.01.01.004.01.01.02","Muebles del tipo utilizado en la oficina",0,24]
[null,null,"D3525026","Estradiol",1,{"$f":"ROW()","v":2210},8,null,null,"2.3.2.01.01.004.01.01.03","Muebles de madera, del tipo usado en la cocina",0,24]
[null,null,"D0129003","Estragón",1,{"$f":"ROW()","v":2211},8,null,null,"2.3.2.01.01.004.01.01.04","Otros muebles N.C.P.",0,24]
[null,null,"D3525063","Estreptomicina",1,{"$f":"ROW()","v":2212},8,null,null,"2.3.2.01.01.004.01.01.05","Somieres, colchones con muebles, rellenos o guarnecidos interiormente con cualquier material, de caucho o plásticos celulares, recubiertos o no",0,24]
[null,null,"D3525043","Estricnina",1,{"$f":"ROW()","v":2213},8,null,null,"2.3.2.01.01.004.01.01.06","Partes y piezas de muebles",0,24]
[null,null,"D0325002","Estropajo (Luffa cylindrica)",1,{"$f":"ROW()","v":2214},8,null,null,"2.3.2.01.01.004.01.02","Instrumentos musicales Gastos por adquisición de instrumentos musicales.",0,21]
[null,null,"D4835202","Estructuras (almas) para monturas de material plástico para anteojos",1,{"$f":"ROW()","v":2215},8,null,null,"2.3.2.01.01.004.01.03","Artículos de deporte Gastos por adquisición de artículos de deporte.",0,21]
[null,null,"D4219096","Estructuras metálicas n.c.p.",1,{"$f":"ROW()","v":2216},8,null,null,"2.3.2.01.01.004.01.04","Antigüedades u otros objetos de arte Gastos por adquisición de antigüedades u otros objetos de arte.",0,21]
[null,null,"D4211004","Estructuras metálicas para antenas parabólicas",1,{"$f":"ROW()","v":2217},8,null,null,"2.3.2.01.01.005.01.01.01","Animales de cría Son los gastos asociados a la adquisición de animales de cría.",0,24]
[null,null,"D4219008","Estructuras metálicas para edificaciones (excepto para establos y gallineros)",1,{"$f":"ROW()","v":2218},8,null,null,"2.3.2.01.01.005.01.01.02","Ganado lechero Son los gastos asociados a la adquisición de ganado lechero.",0,24]
[null,null,"D4219004","Estructuras metálicas para establos",1,{"$f":"ROW()","v":2219},8,null,null,"2.3.2.01.01.005.01.01.03","Animales de tiro Son los gastos asociados a la adquisición de animales de tiro.",0,24]
[null,null,"D4219005","Estructuras metálicas para gallineros",1,{"$f":"ROW()","v":2220},8,null,null,"2.3.2.01.01.005.01.01.04","Animales utilizados para la producción de lana Son los gastos asociados a la adquisición de animales utilizados para la producción de lana.",0,24]
[null,null,"D4219018","Estructuras metálicas para plataformas flotantes de perforación",1,{"$f":"ROW()","v":2221},8,null,null,"2.3.2.01.01.005.01.01.05","Animales empleados para el transporte Son los gastos asociados a la adquisición de animales empleados para el transporte.",0,24]
[null,null,"D4211001","Estructuras metálicas para puentes y viaductos",1,{"$f":"ROW()","v":2222},8,null,null,"2.3.2.01.01.005.01.01.06","Animales empleados para las carreras Son los gastos asociados a la adquisición de animales empleados para las carreras.",0,24]
[null,null,"D4211003","Estructuras metálicas para torres de conducción eléctrica y usos análogos",1,{"$f":"ROW()","v":2223},8,null,null,"2.3.2.01.01.005.01.01.07","Animales empleados para el esparcimiento Son los gastos asociados a la adquisición de animales empleados para el esparcimiento.",0,24]
[null,null,"D3532329","Estuches con seda para higiene dental",1,{"$f":"ROW()","v":2224},8,null,null,"2.3.2.01.01.005.01.01.08","Otros animales que generan productos en forma repetida Son los gastos asociados a la adquisición de otros animales que generan productos de forma repetida.",0,24]
[null,null,"D2922114","Estuches de cuero para instrumentos musicales",1,{"$f":"ROW()","v":2225},8,null,null,"2.3.2.01.01.005.01.02.01","Árboles frutales Son los gastos asociados a la adquisición de árboles frutales.",0,24]
[null,null,"D2922115","Estuches de cuero para máquinas de escribir, computadores y análogos",1,{"$f":"ROW()","v":2226},8,null,null,"2.3.2.01.01.005.01.02.02","Árboles cultivados por sus nueces Son los gastos asociados a la adquisición de árboles cultivados por sus nueces.",0,24]
[null,null,"D2922204","Estuches de material plástico para gafas",1,{"$f":"ROW()","v":2227},8,null,null,"2.3.2.01.01.005.01.02.03","Árboles cultivados por su savia Son los gastos asociados a la adquisición de árboles cultivados por su savia.",0,24]
[null,null,"D2922213","Estuches de material plástico para instrumentos musicales",1,{"$f":"ROW()","v":2228},8,null,null,"2.3.2.01.01.005.01.02.04","Árboles cultivados por su resina Son los gastos asociados a la adquisición de árboles cultivados por su resina.",0,24]
[null,null,"D2922214","Estuches de material plástico para máquinas de escribir, computadores y análogos",1,{"$f":"ROW()","v":2229},8,null,null,"2.3.2.01.01.005.01.02.05","Árboles cultivados por su corteza u hojas Son los gastos asociados a la adquisición de árboles cultivados por su corteza u hojas.",0,24]
[null,null,"D3191302","Estuches para joyas",1,{"$f":"ROW()","v":2230},8,null,null,"2.3.2.01.01.005.01.02.06","Otros árboles, cultivos y plantas que generan productos en forma repetida Son los gastos asociados a la adquisición de otros árboles, cultivos y plantas que generan productos en forma repetida.",0,24]
[null,null,"D2922222","Estuches portacasetes, CD y similares, elaborados en cuero artificial",1,{"$f":"ROW()","v":2231},8,null,null,"2.3.2.01.01.005.02.01","Investigación y desarrollo Son los gastos asociados al trabajo creativo llevado a cabo de forma sistemática para incrementar el acervo de conocimientos y el uso de los mismos para idear nuevas aplicaciones (Fondo Monetario Internacional, 2014, pág. 203).No incluye: •Gastos por investigación y desarrollo que no generen un beneficio económico para su propietario.•Capital humano",0,21]
[null,null,"D3649006","Estuches y cajitas de material plástico",1,{"$f":"ROW()","v":2232},8,null,null,"2.3.2.01.01.005.02.02.01","Costos de las perforaciones de prueba y sondeo realizadas Corresponde a los gastos asociados a los costos de las perforaciones de prueba y sondeo realizadas.",0,24]
[null,null,"D2922111","Estuches, costureros y similares de cuero",1,{"$f":"ROW()","v":2233},8,null,null,"2.3.2.01.01.005.02.02.02","Costos de precalificación Corresponde a los gastos asociados a los costos de precalificación.",0,24]
[null,null,"D2922210","Estuches, costureros y similares de material plástico",1,{"$f":"ROW()","v":2234},8,null,null,"2.3.2.01.01.005.02.02.03","Obtención de licencias, adquisición y avalúos Corresponde a los gastos asociados a la obtención de licencias, adquisición y avalúos.",0,24]
[null,null,"D3532328","Estuches-kits de cosméticos",1,{"$f":"ROW()","v":2235},8,null,null,"2.3.2.01.01.005.02.02.04","Costos de transporte Corresponde a los gastos asociados a los costos de transporte.",0,24]
[null,null,"D3511033","Estuco",1,{"$f":"ROW()","v":2236},8,null,null,"2.3.2.01.01.005.02.02.05","Otros costos de evaluación y explotación minera Corresponde a los gastos asociados a otros costos de evaluación y explotación minera.",0,24]
[null,null,"D4482101","Estufas –cocinas– de gas domésticas",1,{"$f":"ROW()","v":2237},8,null,null,"2.3.2.01.01.005.02.03.01.01","Paquetes de software Son los gastos asociados a la adquisición de paquetes de software.",0,27]
[null,null,"D4482102","Estufas –cocinas– de gasolina",1,{"$f":"ROW()","v":2238},8,null,null,"2.3.2.01.01.005.02.03.01.02","Gastos de desarrollo Son los gastos asociados al desarrollo de programas de informática.",0,27]
[null,null,"D4482103","Estufas –cocinas– de petróleo",1,{"$f":"ROW()","v":2239},8,null,null,"2.3.2.01.01.005.02.03.02","Bases de datos Son los gastos asociados a la adquisición de archivos de datos organizados que permiten un accesoeficaz a los recursos y al uso de los datos",0,24]
[null,null,"D4481706","Estufas –cocinas– eléctricas domésticas",1,{"$f":"ROW()","v":2240},8,null,null,"2.3.2.01.01.005.02.04","Originales de entretenimiento, literatura y arte Son los gastos asociados a la adquisición de películas, grabaciones sonoras, manuscritos, cintas y modelos originales que llevan gravadas o incorporadas representaciones teatrales, programas de radio y televisión, interpretaciones musicales, eventos deportivos y producciones literarias o artísticas",0,21]
[null,null,"D4451504","Estufas –cocinas eléctricas– industriales",1,{"$f":"ROW()","v":2241},8,null,null,"2.3.2.01.01.005.02.05","Otros productos de propiedad intelectual Son los gastos asociados a la adquisición de nueva información o de conocimiento especializado no clasificables en los rubros anteriores, cuyo uso se encuentre restringido a los órganos que han establecido derechos de propiedad sobre la información o a otras unidades que han sido autorizadas por los dueños",0,21]
[null,null,"D4451503","Estufas –cocinas– industriales de ACPM",1,{"$f":"ROW()","v":2242},8,null,null,"2.3.2.01.02.001","Joyas y artículos conexos Corresponde a las adquisiciones de oro no monetario y otras piedras y metales preciosos que no se prevé emplear como materiales y suministros en procesos productivos. También incluye las joyas de considerable valor diseñadas con piedras y metales preciosos.",0,15]
[null,null,"D4482106","Estufas integrales",1,{"$f":"ROW()","v":2243},8,null,null,"2.3.2.01.02.002","Antigüedades u otros objetos de arte Corresponde a las adquisiciones de pinturas, esculturas y otros objetos reconocidos como obras de arte o antigüedades mantenidos primordialmente como depósito de valor a través del tiempo.",0,15]
[null,null,"D4482105","Estufas-cocinas a carbón y leña domésticas",1,{"$f":"ROW()","v":2244},{"$f":"LEN(C2244)","v":8},null,null,"2.3.2.01.02.003","Otros objetos valiosos Corresponde a la adquisición de colecciones de estampillas, monedas, porcelana china, libros y otros diversos objetos de valor.",0,{"$f":"LEN(J2244)","v":15}]
[null,null,"D4393202","Estufas-cocinas de gas industriales",1,{"$f":"ROW()","v":2245},8,null,null,"2.3.2.01.03.001","Tierras y terrenos Son los gastos asociados a la adquisición del suelo propiamente dicho sobre el que se han establecido derechos de propiedad y del cual se pueden derivar beneficios económicos para sus propietarios por su tenencia o uso.Incluye:*Cubierta del suelo*Aguas superficiales asociadasNo incluye:*Edificios y otras estructuras construidas en la tierra o a través de ella, como carreteras,edificios de oficinas y túneles.*Mejoras de la tierra y los costos de transferencias de propiedad de la tierra.*Viñedos, huertos y otras plantaciones de árboles, animales y cultivos.*Recursos biológicos no cultivados.* Recursos de agua debajo de la tierra.",0,15]
[null,null,"D1202002","Etano natural",1,{"$f":"ROW()","v":2246},8,null,null,"2.3.2.01.03.002","Recursos biológicos no cultivados Son los gastos asociados a la adquisición de animales, aves, peces y plantas que producen productos una sola vez o de forma repetida y sobre los que se ejercen derechos de propiedad, pero cuyo crecimiento natural o regeneración no está bajo el control, responsabilidad y gestión directa de ninguna unidad. Incluye:*Animales de laboratorio cuyo precio sea significativo o se espere que participen en los procesos de producción por más de un año.",0,15]
[null,null,"D3413102","Etanol anhidro desnaturalizado-alcohol carburante",1,{"$f":"ROW()","v":2247},8,null,null,"2.3.2.01.04","Gastos reservados Corresponde a la adquisición de activos que se realizan para la financiación de actividades de inteligencia, contrainteligencia, investigación criminal, protección de testigos e informantes. (Ministerio de Hacienda y Crédito Público, 2011, pág. 258).NE: Se incluye este objeto de gasto al interior de esta categoría teniendo en cuenta que la Ley 1097 de 2006 contempla la adquisición de activos bajo la denominación gastos reservados. Sin embargo, no deben confundirse dado que, económicamente las adquisiciones de activos, tienen un efecto sobre el patrimonio de las unidades y por esta razón no son deben ser consideradas como gastos.",0,11]
[null,null,"D3413103","Etanol anhidro desnaturalizado-alcohol carburante E100",1,{"$f":"ROW()","v":2248},8,null,null,"2.3.2.02.01.000","Agricultura, silvicultura y productos de la pesca Son los gastos asociados a la adquisición de productos relacionados con la agricultura, la horticultura, la silvicultura y los productos de explotación forestal. Incluye también la compra de animales o productos animales, y la compra de pescados o productos de la pesca.",0,15]
[null,null,"D3417001","Éter etílico",1,{"$f":"ROW()","v":2249},8,null,null,"2.3.2.02.01.001","Minerales; electricidad, gas y agua Son los gastos asociados a la adquisición de todo tipo de minerales incluidos el carbón, el petróleo, los concentrados de uranio y torio, los minerales metálicos, las piedras preciosas, entre otros. En esta cuenta también se registran los gastos por adquisición de energía eléctrica, gas de ciudad y agua caliente.",0,15]
[null,null,"D3417095","Éteres n.c.p.",1,{"$f":"ROW()","v":2250},8,null,null,"2.3.2.02.01.002","Productos alimenticios, bebidas y tabaco; textiles, prendas de vestir y productos de cuero Son los gastos asociados a la adquisición de productos alimenticios como la carne; las preparaciones y conservas de pescados, frutas y hortalizas; los productos lácteos y ovoproductos; los productos de la molinería; y todo tipo de bebidas. Esta sección incluye también la adquisición de hilados, tejidos, artículos textiles y dotación.",0,15]
[null,null,"D3415001","Etilendiamina",1,{"$f":"ROW()","v":2251},8,null,null,"2.3.2.02.01.003","Otros bienes transportables (excepto productos metálicos, maquinaria y equipo) Son los gastos asociados a la adquisición de productos de madera; libros, diarios o publicaciones impresas; productos de refinación de petróleo y combustibles; productos químicos; productos de caucho y plástico; productos de vidrio; muebles; desechos; entre otros.",1,15]
[null,null,"D3413919","Etilenglicol",1,{"$f":"ROW()","v":2252},8,null,null,"2.3.2.02.01.004","Productos metálicos, maquinaria y equipo Son los gastos asociados a la adquisición de metales básicos, productos metálicos elaborados y paquetes de software.No incluye:*La adquisición de programas informáticos y bases de datos que representan un activo fijo.",1,15]
[null,null,"D3411004","Etileno",1,{"$f":"ROW()","v":2253},8,null,null,"2.3.2.02.01.010.01","Municiones",0,18]
[null,null,"D3413913","Etilhexanol, 2-etilhexanol o alcohol 2-etilhexílico",1,{"$f":"ROW()","v":2254},8,null,null,"2.3.2.02.01.010.02","Misiles",0,18]
[null,null,"D3415013","Etil-metil-cetoxima (butanona oxima)",1,{"$f":"ROW()","v":2255},8,null,null,"2.3.2.02.01.010.03","Cohetes",0,18]
[null,null,"D2791107","Etiquetas de textiles",1,{"$f":"ROW()","v":2256},8,null,null,"2.3.2.02.01.010.04","Bombas",0,18]
[null,null,"D2791108","Etiquetas de textiles",1,{"$f":"ROW()","v":2257},8,null,null,"2.3.2.02.01.010.05","Otros elementos militares de un solo uso",0,18]
[null,null,"D3219701","Etiquetas en blanco",1,{"$f":"ROW()","v":2258},8,null,null,"2.3.2.02.02.005","Construcción y servicios de la construcción Son los gastos asociados a la adquisición de servicios de construcción como preparaciones de terreno, montaje de construcciones prefabricadas, instalaciones, servicios de terminación y acabados de edificios, entre otros.",0,15]
[null,null,"D3219702","Etiquetas impresas",1,{"$f":"ROW()","v":2259},8,null,null,"2.3.2.02.02.006","Comercio y distribución; alojamiento; servicios de suministro de comidas y bebidas; servicios de transporte; y servicios de distribución de electricidad, gas y agua Son los gastos asociados a la adquisición de servicios de alojamiento; servicios de suministro de comidas y bebidas; servicios de transporte de pasajeros o de carga; servicios de mensajería y servicios de distribución de electricidad, gas y agua.",1,15]
[null,null,"D3219703","Etiquetas impresas autoadhesivas de papel",1,{"$f":"ROW()","v":2260},8,null,null,"2.3.2.02.02.007","Servicios financieros y servicios conexos; servicios inmobiliarios; y servicios de arrendamiento y leasing Son los gastos asociados a la adquisición de servicios financieros, seguros, servicios de mantenimiento de activos financieros, servicios inmobiliarios y arrendamientos.",1,15]
[null,null,"D4482601","Evaporador o difusor eléctrico",1,{"$f":"ROW()","v":2261},8,null,null,"2.3.2.02.02.008","Servicios prestados a las empresas y servicios de producción Son los gastos asociados a la adquisición de servicios de investigación y desarrollo, servicios jurídicos y contables, servicios de consultoría, servicios de publicidad, servicios de impresión servicios de telecomunicaciones, servicios de limpieza, servicios de seguridad, servicios de mantenimiento, entre otros.",1,15]
[null,null,"D4394108","Evaporadores industriales de aire forzado",1,{"$f":"ROW()","v":2262},8,null,null,"2.3.2.02.02.009","Servicios para la comunidad, sociales y personales Son los gastos asociados a la adquisición de servicios educativos, servicios de salud, servicios culturales y deportivos, servicios de tratamiento y recolección de desechos, servicios proporcionados por asociaciones, entre otros.",1,15]
[null,null,"D3525057","Evonomina",1,{"$f":"ROW()","v":2263},8,null,null,"2.3.2.02.02.010","Viáticos de los funcionarios en comisión Son los pagos por concepto de viáticos que reciben los funcionarios y trabajadores de las entidades en comisión, para alojamiento y manutención cuando: a) deban desempeñar sus funciones en un lugar diferente a su sede habitual de trabajo, ya sea dentro o fuera del país, o b) deba atender transitoriamente actividades distintas a las inherentes al empleo del que es titular. Los viáticos de los funcionarios en comisión constituyen adquisición de servicios cuando se hayan percibido por un término inferior a ciento ochenta (180) días en el último año de servicio.",0,15]
[null,null,"D3270113","Exfoliadores y similares",1,{"$f":"ROW()","v":2264},8,null,null,"2.3.2.02.03","Gastos imprevistos Corresponde a gastos excepcionales, de carácter eventual o fortuito y de inaplazable e imprescindible realización para el funcionamiento del Estado. Este rubro no se puede utilizar para registrar gastos por concepto de adquisición de bienes y servicios ya clasificados, ni para completar partidas insuficientes",0,11]
[null,null,"D4299944","Exhibidores de alambre",1,{"$f":"ROW()","v":2265},8,null,null,"2.3.2.02.04","Gastos reservados Corresponde a los gastos que se realizan para la financiación de actividades de inteligencia, contrainteligencia, investigación criminal, protección de testigos e informantes. También incluye los gastos que se realicen para expedir nuevos documentos de identificación para garantizar la identidad de cobertura de los servidores públicos que ejecuten actividades de inteligencia y contrainteligencia,",0,11]
[null,null,"D4481606","Exprimidores eléctricos",1,{"$f":"ROW()","v":2266},8,null,null,"2.3.3.01.01.001","Transferencia de recursos al Patrimonio Autónomo Fideicomiso de Promoción de Exportaciones - PROEXPORT. Artículo 33 Ley 1328 de 2009 La Nación, a través del Ministerio de Comercio, Industria y Turismo podrá transferir recursos destinados a la promoción de las exportaciones, la inversión extranjera y el turismo, al patrimonio autónomo Fideicomiso de Promoción de Exportaciones –Proexport– Colombia, para el cumplimiento de sus funciones.",0,15]
[null,null,"D4291202","Exprimidores, batidoras y similares manuales",1,{"$f":"ROW()","v":2267},8,null,null,"2.3.3.01.01.002","Transferencia FONTUR artículo 21 Ley 1558 de 2012 Comprende los recursos señalados en el artículo 1o y 8o de la Ley 1101 de 2006, así como los asignados en el Presupuesto Nacional para la infraestructura turística, promoción y la competitividad Turística, y el recaudo del Impuesto al Turismo, los cuales formarán parte de los recursos del Fondo de Promoción Turística que en adelante llevará el nombre de Fondo Nacional de Turismo (Fontur) y se constituirá como Patrimonio Autónomo con personería jurídica y tendrá como función principal el recaudo, la administración y ejecución de sus recursos.Como parte de la infraestructura turística, las cámaras de comercio en asocio con el Fondo Nacional de Turismo, la Nación, las entidades territoriales, con otras entidades públicas o privadas, o individualmente, continuarán destinando recursos de origen público o privado provenientes del desarrollo de sus actividades a la creación y operación de centros de eventos y convenciones y de recintos feriales mediante la celebración de eventos, congresos y actividades feriales, con el fin de que contribuyan a la generación de empleo y al desarrollo turístico de sus regiones.",0,15]
[null,null,"D4621208","Extensiones (conectores) para uso eléctrico",1,{"$f":"ROW()","v":2268},8,null,null,"2.3.3.01.02.001","Subvenciones a SATENA S.A. como único operador de rutas sociales. (Art. 240 Ley 1753 de 2015) Con el fin promover la prestación del servicio de transporte aéreo en las regiones de difícil acceso y conectividad, el Gobierno Nacional podrá otorgar subvenciones a Satena S.A., a través del presupuesto del Ministerio de Defensa Nacional para la prestación del servicio público esencial de transporte aéreo en aquellas rutas sociales en las cuales Satena S.A. sea el único operador. El Gobierno Nacional, previo a la realización de un estudio, reglamentará las rutas y condiciones de estas subvenciones, que en ningún caso podrán ser superiores al déficit que registre la empresa como resultado de atender las denominadas rutas sociales en las cuales opere de manera exclusiva.",0,15]
[null,null,"D3843002","Extensores para gimnasia",1,{"$f":"ROW()","v":2269},8,null,null,"2.3.3.01.02.002","Transferencia a la Sociedad de Activos Especiales SAE - S.A.S - artículo 90 Ley 1708 de 2014 El Fondo para la Rehabilitación, Inversión Social y Lucha contra el Crimen Organizado (Frisco) es una cuenta especial sin personería jurídica administrada por la Sociedad de Activos Especiales S.A.S. (SAE), sociedad de economía mixta del orden nacional autorizada por la ley, de naturaleza única y sometida al régimen del derecho privado, de acuerdo con las políticas trazadas por el Consejo Nacional de Estupefacientes o su equivalente, con el objetivo de fortalecer el sector justicia, la inversión social, la política de drogas, el desarrollo rural, la atención y reparación a víctimas de actividades ilícitas, y todo aquello que sea necesario para tal finalidad.",0,15]
[null,null,"D4392302","Extinguidores de incendio",1,{"$f":"ROW()","v":2270},8,null,null,"2.3.3.01.02.003","Subvenciones a empresas de transporte masivo Comprende las erogaciones que realizan las entidades territoriales a empresa de transporte masivo, para cubrir el deficit de la operación que puedan presentarse.",0,15]
[null,null,"D2382101","Extracto de café",1,{"$f":"ROW()","v":2271},8,null,null,"2.3.3.01.02.004.01","Subsidios de acueducto Comprende las erogaciones que realizan las entidades territoriales a empresas prestadoras de servicios públicos, para los subsidios en acueducto.",0,18]
[null,null,"D2399904","Extracto de lúpulo",1,{"$f":"ROW()","v":2272},8,null,null,"2.3.3.01.02.004.02","Subsidios de alcantarillado Comprende las erogaciones que realizan las entidades territoriales a empresas prestadoras de servicios públicos, para los subsidios en aseo.",0,18]
[null,null,"D4481502","Extractores de olores de uso doméstico",1,{"$f":"ROW()","v":2273},8,null,null,"2.3.3.01.02.004.03","Subsidios de aseo Comprende las erogaciones que realizan las entidades territoriales a empresas prestadoras de servicios públicos, para los subsidios en alcantarillado.",0,18]
[null,null,"D2399993","Extractos blandos y fluidos n.c.p.",1,{"$f":"ROW()","v":2274},8,null,null,"2.3.3.01.02.004.04","Mínimo vital Corresponde a la erogación que realizan las entidades territoriales a las empresas de servicios públicos para otorgar 6 metros cúbicos de agua, sin costo, para los usuarios residenciales de los Estratos 1 y 2",0,18]
[null,null,"D2399995","Extractos de frutas n.c.p.",1,{"$f":"ROW()","v":2275},8,null,null,"2.3.3.01.02.005","Transferencias para Empresas Sociales del Estado Son las transferencias que realizan las entidades de Gobierno Nacional o Territorial, que son recibidas por las empresas sociales del estado con el fin de prestar servicios de salud ejerciendo influencia en sus niveles de producción o en los precios de los bienes y servicios que estas producen o venden, sin la obligación de ser facturados y sin contraprestación por los recursos recibidos.",0,15]
[null,null,"D3527001","Extractos de hígado",1,{"$f":"ROW()","v":2276},8,null,null,"2.3.3.01.02.006","Estímulos a la producción cinematográfica y audiovisual Corresponde a los estímulos, incentivos y contraprestaciones que otorgan el Fondo Filmico Colombia y el Fondo de Desarrollo Cinematográfico a personas jurídicas públicas para la producción, coproducción de obras cinematográficas y audiovisuales.",0,15]
[null,null,"D2399905","Extractos de malta",1,{"$f":"ROW()","v":2277},8,null,null,"2.3.3.01.04.001","Transferencia a los proveedores de redes y servicios de telecomunicaciones Art 58 de Ley 1450 de 2011 Son las transferencias destinadas a promover a los proveedores de redes y servicios de telecomunicaciones fijas y móviles a ofrecer planes de internet de banda ancha social para usuarios pertenecientes a estratos socioeconómicos 1 y 2.",0,15]
[null,null,"D2399994","Extractos de vegetales n.c.p.",1,{"$f":"ROW()","v":2278},8,null,null,"2.3.3.01.04.002","Programa de seguros para el sector exportador Transferencias por concepto de seguros para el sector exportador, derivados de los contratos interadministrativos que suscriban la Nación, a través del Ministerio de Hacienda y Crédito Público, y el Banco de Comercio Exterior, para atender las obligaciones con las entidades aseguradoras por concepto de pago de los siniestros derivados de los riesgos políticos y extraordinarios en los términos contractuales, así como los costos de las acciones judiciales o extrajudiciales para procurar el recobro de los montos pagados a los beneficiarios de las respectivas pólizas, a título de indemnización, sumas que serán reembolsadas junto con sus intereses con cargo al Presupuesto General de la Nación.",0,15]
[null,null,"D2399996","Extractos saporíferos n.c.p.",1,{"$f":"ROW()","v":2279},8,null,null,"2.3.3.01.04.003","Incentivo a las inversiones en hidrocarburos y minería - certificado de reembolso tributario (CERT). Artículo 365 de la Ley 1819 de 2016",0,15]
[null,null,"D3432001","Extractos tánicos de mangle",1,{"$f":"ROW()","v":2280},8,null,null,"2.3.3.01.04.004.01","Subsidios de acueducto Comprende las erogaciones que realizan las entidades territoriales a empresas prestadoras de servicios públicos, para los subsidios en acueducto.",0,18]
[null,null,"D3432002","Extractos tánicos de quebracho",1,{"$f":"ROW()","v":2281},8,null,null,"2.3.3.01.04.004.02","Subsidios de alcantarillado Comprende las erogaciones que realizan las entidades territoriales a empresas prestadoras de servicios públicos, para los subsidios en aseo.",0,18]
[null,null,"D3432003","Extractos tánicos de roble",1,{"$f":"ROW()","v":2282},8,null,null,"2.3.3.01.04.004.03","Subsidios de aseo Comprende las erogaciones que realizan las entidades territoriales a empresas prestadoras de servicios públicos, para los subsidios en alcantarillado.",0,18]
[null,null,"D3432099","Extractos tánicos n.c.p.",1,{"$f":"ROW()","v":2283},8,null,null,"2.3.3.01.04.004.04","Mínimo vital Corresponde a la erogación que realizan las entidades territoriales a las empresas de servicios públicos para otorgar 6 metros cúbicos de agua, sin costo, para los usuarios residenciales de los Estratos 1 y 2",0,18]
[null,null,"D2509002","Extractos y esencias de tabaco",1,{"$f":"ROW()","v":2284},8,null,null,"2.3.3.01.04.005","Transferencias a los Administradores de Infraestructura Pública Corresponde a los recursos de subsidios a la oferta, que son los recursos asignados para concurrir en la financiación de la operación de la prestación de servicios y tecnologías efectuadas por instituciones públicas o la infraestructura pública administrada por terceros, ubicadas en zonas alejadas o de difícil acceso que sean monopolio en servicios trazadores y no sostenibles por venta de servicios.",0,15]
[null,null,"D8874201","Fabricación y ensamble de computadores y microcomputadores",1,{"$f":"ROW()","v":2285},8,null,null,"2.3.3.01.04.006","Estímulos a la producción cinematográfica y audiovisual Corresponde a los estímulos, incentivos y contraprestaciones que otorgan el Fondo Filmico Colombia y el Fondo de Desarrollo Cinematográfico a personas naturales y jurídicas privadas para la producción y coproducción de obras cinematográficas y audiovisuales.",0,15]
[null,null,"D4817102","Fajas ortopédicas",1,{"$f":"ROW()","v":2286},8,null,null,"2.3.3.02.01.001","Campaña y control antituberculosis Transferencias a Empresas Públicas departamentales dedicadas a actividades no financieras, en virtud de las Leyes 15 de 1925, y 84 de 1948, con el objeto de realizar campañas y controles antituberculosis.",0,15]
[null,null,"D2823701","Fajas y corsés no ortopédicos",1,{"$f":"ROW()","v":2287},8,null,null,"2.3.3.02.01.002","Plan nacional de salud rural Transferencias a Empresas Públicas departamentales dedicadas a actividades no financieras, en virtud de la Ley 100 de 1993, en la cual se remarca la prioridad de la atención de la población rural en servicios de salud, con el objeto de implementar el Plan para esta población específica.",0,15]
[null,null,"D2824107","Faldas de cuero",1,{"$f":"ROW()","v":2288},8,null,null,"2.3.3.02.01.003","Programa emergencia sanitaria Transferencias a Empresas Públicas departamentales dedicadas a actividades no financieras, en virtud de la Resolución 6 de 2011 del Ministerio de Agricultura y Desarrollo Rural, por medio de la cual se creó el Programa para la Atención de Emergencias Sanitarias y Fitosanitarias.",0,15]
[null,null,"D2823330","Faldas de lino para dama",1,{"$f":"ROW()","v":2289},8,null,null,"2.3.3.02.01.004","Financiación de beneficiarios del régimen subsidiado en salud. Art 10 ley 1122 de 2007",0,15]
[null,null,"D2823325","Faldas de paño",1,{"$f":"ROW()","v":2290},8,null,null,"2.3.3.02.01.005","Transferencia al Instituto Nacional de Cancerología",0,15]
[null,null,"D2823329","Faldas de tejidos planos de algodón",1,{"$f":"ROW()","v":2291},8,null,null,"2.3.3.02.01.006","Transferencia al Sanatorio de Contratación",0,15]
[null,null,"D2823399","Faldas de tejidos planos n.c.p. para mujer o niña",1,{"$f":"ROW()","v":2292},8,null,null,"2.3.3.02.01.007","Transferencia al Sanatorio de Agua de Dios",0,15]
[null,null,"D2823331","Faldas para niña",1,{"$f":"ROW()","v":2293},8,null,null,"2.3.3.02.01.008","Transferencia al Centro Dermatológico Federico Lleras Acosta",0,15]
[null,null,"D4651001","Faros –unidades selladas– para vehículos automóviles",1,{"$f":"ROW()","v":2294},8,null,null,"2.3.3.02.01.009","Financiamiento de gastos de administración, funcionamiento y operación de ADRES - Gestión General - artículo 66 de la Ley 1753 de 2015 Corresponde a los recursos que gira la unidad ejecutora Administración de recursos del SGSSS a la unidad de gestión general para el financiamiento y operación los cuáles serán hasta el 0,5% con situación de fondos, en marco del Artículo 66 de la Ley 1753 de 2015",0,15]
[null,null,"D3891205","Fechadores y numeradores",1,{"$f":"ROW()","v":2295},8,null,null,"2.3.3.02.01.010","Traslado de dividendos",0,15]
[null,null,"D2322001","Fécula de maíz",1,{"$f":"ROW()","v":2296},8,null,null,"2.3.3.02.01.999","Transferencias a empresas del sector no clasificadas previamente",0,15]
[null,null,"D2322006","Fécula de plátano",1,{"$f":"ROW()","v":2297},8,null,null,"2.3.3.02.02.001","Transferencias al sector agrícola y sector industrial para apoyo a la producción - Artículo 1 Ley 16/90 y artículo 1 Ley 101/93; Ley 795/03",0,15]
[null,null,"D2322098","Féculas de cereales n.c.p.",1,{"$f":"ROW()","v":2298},8,null,null,"2.3.3.02.02.002","Traslado de dividendos",0,15]
[null,null,"D0131907","Feijoa",1,{"$f":"ROW()","v":2299},8,null,null,"2.3.3.02.02.999","Transferencias a empresas del sector no clasificadas previamente",0,15]
[null,null,"D1639908","Feldespatos",1,{"$f":"ROW()","v":2300},8,null,null,"2.3.3.02.03.001","Subsidio liquidaciones Leyes 550 de 1999 y 1116 de 2006. Transferencias en virtud de la Ley 1116 2006, artículo 122, la cual estableció que aquellas liquidaciones en las cuales no existan recursos suficientes para atender gastos de archivo y remuneración de los liquidadores, sus honorarios serán subsidiados con el dinero proveniente de las contribuciones que sufragan las sociedades vigiladas por la Superintendencia de Sociedades.",0,15]
[null,null,"D1639107","Feldespatos molido o granulado",1,{"$f":"ROW()","v":2301},8,null,null,"2.3.3.02.03.002","Cruce de cuentas por concepto de obligaciones de los organismos y entidades del Gobierno Nacional con empresas de servicios públicos y entidades territoriales para el pago de servicios públicos, impuesto predial Transferencias en virtud del artículo 44 de la Ley 1737 del 2 de diciembre de 2014, y el artículo 48 del Decreto 2710 del 26 de diciembre de 2014, en los cuales se detallan las apropiaciones y se clasifican y definen los gastos para la vigencia del 1 de enero a 31 de diciembre de 2015, se establece que: en caso de que queden saldo en contra de la Nación con otros órganos públicos, esta podrá sufragarlos a través de títulos de deuda pública, sin que implique una operación presupuestal alguna.",0,15]
[null,null,"D3522013","Fenacetina",1,{"$f":"ROW()","v":2302},8,null,null,"2.3.3.02.03.003","Transferir a Colpensiones - costas judiciales antigua ISS Decreto 0553 de 2015 Transferencias conforme al decreto 0553 de 2015, por medio del cual se adoptan medidas con ocasión del cierre de la liquidación del Instituto de Seguros Sociales – ISSS en liquidación y se dictan otras disposiciones.",0,15]
[null,null,"D3523011","Fenobarbital",1,{"$f":"ROW()","v":2303},8,null,null,"2.3.3.02.03.004","Transferencia a Coljuegos",0,15]
[null,null,"D3413925","Fenoles",1,{"$f":"ROW()","v":2304},8,null,null,"2.3.3.02.03.005","Traslado de dividendos",0,15]
[null,null,"D3523001","Fenolftaleína",1,{"$f":"ROW()","v":2305},8,null,null,"2.3.3.02.03.999","Transferencias a empresas del sector no clasificadas previamente",0,15]
[null,null,"D3411028","Fenolsulfato de zinc",1,{"$f":"ROW()","v":2306},8,null,null,"2.3.3.02.04.001","Fundación Colegio Mayor de San Bartolomé (Ley 72/83) Transferencias de la Nación a la la Fundación Colegio Mayor de San Bartolomé, en virtud de la Ley 72 de 1983. Este es un establecimiento de educación primaria y secundaria de la Compañía de Jesús, considerado el colegio más antiguo de Colombia, pues ha funcionado ininterrumpidamente desde 1604. La mencionada Ley autoriza al Gobierno Nacional para prorrogar hasta por el término de 90 años, contados a partir del 1 de enero de 1984, el contrato celebrado entre la Nación colombiana y la Fundación Colegio Mayor de San Bartolomé.",0,15]
[null,null,"D3523012","Fenotiazina",1,{"$f":"ROW()","v":2307},8,null,null,"2.3.3.02.04.002","Traslado de dividendos",0,15]
[null,null,"D4111599","Ferroaleaciones n.c.p.",1,{"$f":"ROW()","v":2308},{"$f":"LEN(C2308)","v":8},null,null,"2.3.3.02.04.999","Transferencias a empresas del sector no clasificadas previamente",0,{"$f":"LEN(J2308)","v":15}]
[null,null,"D3427003","Ferrocianuro de potasio",1,{"$f":"ROW()","v":2309},8,null,null,"2.3.3.02.05.001","Transferencia a FOGAFIN aval guardadores Ley 1306/09 Transferencias en el marco de la protección de personas con discapacidad mental y del régimen de la representación legal de incapaces emancipados en virtud de la Ley 1306 de 2009, la cual estipula que todos aquellos quienes ejerzan el cargo de guardador (aquel quien cuida a la persona con discapacidad mental y administra los bienes de esta) deberán contar con una póliza de seguros por el monto equivalente o mayor a lo que dispone el juez. En este sentido, cuando un guardador no tenga capacidad económica para otorgar las contragarantías exigidas por la entidad fiadora, ni inmuebles para hipotecar, el Juez con conocimiento de causa podrá relevarlo del cargo, pero si considera conveniente para el pupilo que el guardador asuma, el Fondo de Garantías de Instituciones Financieras (FOGAFIN) avalará al obligado, directamente o ante la entidad fiadora. El presente rubro corresponde a los recursos transferidos con el propósito de generar dicho tipo de aval.",0,15]
[null,null,"D3427004","Ferrocianuro de sodio",1,{"$f":"ROW()","v":2310},8,null,null,"2.3.3.02.05.002","Transferencia a FOGAFIN para administración de negocios fiduciarios. Decreto 2555 de 2010 Transferencias en virtud del Decreto 2555 de 2010, en el cual se establece que cuando subsistan procesos o situaciones jurídicas no definidas, en razón de las cuales la liquidación del negocio fiduciario respectivo no se pueda realizar, este deberá ser entregado al Fondo de Garantías de Instituciones Financieras, FOGAFIN. Este podrá contratar con sociedades fiduciarias en funcionamiento la administración de los negocios fiduciarios que reciba. El presente rubro corresponde a los recursos transferidos con el objeto de hacer posible dicha administración.",0,15]
[null,null,"D4111301","Ferrocromo y sus productos",1,{"$f":"ROW()","v":2311},8,null,null,"2.3.3.02.05.003","Transferencias a FOGAFIN, pasivos contingentes derivados de la venta de acciones Banco Popular y Banco de Colombia . art 31. Ley 35 de 1993, Decreto 2049 de 1993 y 1118 de 1995 Transferencia conforme a la Ley 35 de 1993; Decreto 2049 de 1993 y 1118 de 1995, por medio de los cuales se reglamenta y estableces las condiciones de la venta de acciones públicas que se realizan por instituciones financiera. La Nación o sus entidades descentralizadas podrán contratar con el Fondo de Garantías de Instituciones Financieras el avalúo, preparación del programa así como la orientación, administración o manejo de la enajenación de las acciones y bonos",0,15]
[null,null,"D4111201","Ferromanganeso y sus productos",1,{"$f":"ROW()","v":2312},8,null,null,"2.3.3.02.05.004","Apertura y/u operación oficinas de la red social del Banco Agrario a nivel nacional. Ley 795 de 2003 Transferencias realizadas por la Nación, con objeto de financiar la apertura y/u operación de la Red Social del Banco Agrario a Nivel Nacional, en virtud del artículo 47 de la Ley 795 de 2003.",0,15]
[null,null,"D4111401","Ferroníquel y sus productos",1,{"$f":"ROW()","v":2313},8,null,null,"2.3.3.02.05.005","Cubrimiento del riesgo del deslizamiento del salario mínimo - Decreto 036 de 2015 Transferencias que realiza la Nación a las aseguradoras para garantizar las pensiones mínimas ante el riesgo del \"delizamiento\" que presentan las pensiones de renta vitalicia inmediata y renta vitalicia diferida, en virtud del Decreto 036 de 2015.",0,15]
[null,null,"D4111501","Ferrosilicio y sus productos",1,{"$f":"ROW()","v":2314},8,null,null,"2.3.3.02.05.006","Traslado de dividendos Trasferencia de dividendos a favor de socios dedicados a actividades financieras y de seguros.",0,15]
[null,null,"D2617001","Fibra cardada o peinada de yute",1,{"$f":"ROW()","v":2315},8,null,null,"2.3.3.02.05.007","Recursos a favor de Central de Inversiones S.A Corresponde a la transferencia que realiza CORMAGDALENA S.A, por concepto de la cartera que tiene a cargo la Central de Inversiones CISA entidad adscrita al ministerio de hacienda cedida por el Departamento Nacional de Planeación.",0,15]
[null,null,"D0192102","Fibra de algodón",1,{"$f":"ROW()","v":2316},8,null,null,"2.3.3.02.05.999","Transferencias a empresas del sector no clasificadas previamente",0,15]
[null,null,"D3921501","Fibra de algodón a partir de retal textil",1,{"$f":"ROW()","v":2317},8,null,null,"2.3.3.02.06.001","Transferir al operador oficial de los servicios de franquicia postal y telegráfica Transferencias en virtud de la Ley 1369 de 2009, por medio de la cual se establece el régimen de los servicios postales y se dictan otras disposiciones, e indica que el Servicio Postal Universal prestado por el Operador Oficial o Concesionario de Correo se financiará con entre otros las apropiaciones incluidas en el Presupuesto General de la Nación de cada vigencia.",0,15]
[null,null,"D2616002","Fibra de algodón recuperada",1,{"$f":"ROW()","v":2318},8,null,null,"2.3.3.02.06.002","Transferencia para financiamiento del servicio postal universal",0,15]
[null,null,"D3551004","Fibra de polipropileno",1,{"$f":"ROW()","v":2319},8,null,null,"2.3.3.02.06.003","Transferencia a RTVC y organizaciones regionales de televisión -Ley 14 de 1991 Corresponde a la transferencia corriente que realizan los organismos descentralizados a RTVC y las organizaciones regionales de televisión, con destino al auspicio, colaboración o patrocinio de la cadena tres o canal cultural y con destino a su programación cultural.",0,15]
[null,null,"D3712101","Fibra de vidrio",1,{"$f":"ROW()","v":2320},8,null,null,"2.3.3.02.06.004","Traslado de dividendos",0,15]
[null,null,"D3219911","Fibra –lámina– prensada y vulcanizada",1,{"$f":"ROW()","v":2321},8,null,null,"2.3.3.02.06.005","A Radio Televisión Nacional de Colombia (RTVC) artículo 45 Ley 1978 de 2019 Corresponde a la transferencia que realiza el Fondo Único de las Tecnologías de la Información y las Comunicaciones (FUTIC) a Radio Televisión Nacional de Colombia (RTVC) para la prestación del servicio y el fortalecimiento de la radio y la televisión pública nacional, la administración, operación y mantenimiento de la red pública nacional de la radio y la televisión, la migración de los medios públicos a las plataformas convergentes, la producción de contenidos y la recuperación de la memoria de la radio y la televisión pública. (Ley 1978 de 2019, artículo 45).",0,15]
[null,null,"D3553004","Fibra sintética continua no texturizada de nailon – filamento liso",1,{"$f":"ROW()","v":2322},8,null,null,"2.3.3.02.06.006","Transferencia para actividades complementarias a la producción cinematográfica Corresponde a las transferencias que realiza el Fondo de Desarrollo Cinematográfico para la concesión de estímulos directos, encaminados a promover el cine colombiano, distintos a los destinados a la producción, tales como formación, promoción, fortalecimiento del patrimonio fílmico, investigación, divulgación y acceso, protección al derecho de autor.",0,15]
[null,null,"D3553002","Fibra sintética continua no texturizada de poliéster – filamento liso",1,{"$f":"ROW()","v":2323},8,null,null,"2.3.3.02.06.999","Transferencias a empresas del sector no clasificadas previamente",0,15]
[null,null,"D3553001","Fibra sintética continua preorientada de poliéster – poy",1,{"$f":"ROW()","v":2324},8,null,null,"2.3.3.02.07.001","Fortalecimiento organizacional de las entidades religiosas y las organizaciones basadas en la fe como actores sociales trascendentes en el marco de la Ley 133 de 1994 Transferencia conforme a la Ley 133 de 1994 en la cual se establece que el Estado reconoce la diversidad de creencias religiosas, así como, el derecho a la libertad religiosa y de cultos, entre otros.",0,15]
[null,null,"D3553005","Fibra sintética continua texturizada de nailon – filamento texturizado",1,{"$f":"ROW()","v":2325},8,null,null,"2.3.3.02.07.002","Apoyo para el fomento al empleo Corresponde a los pagos que se realizan por concepto de apoyos reconocidos a personas jurídicas, naturales, consorcios, uniones temporales, patrimonios autónomos y cooperativas que demuestren su calidad de empleadores mediante la Planilla Integrada de Liquidación de Aportes - Pila. Dicho apoyo está determinado en una cuantía equivalente al 25% de un (1) salario mínimo legal mensual vigente (SMMLV) por trabajadores adicionales entre los 18 y 28 años de edad vinculados en la vigencia 2021, el cual se hará efectivo durante 12 periodos y será ejecutado dentro de las vigencias fiscales 2021 y 2022 en virtud de las disposiciones del Decreto 688 de 2021",0,15]
[null,null,"D3553003","Fibra sintética continua texturizada de poliéster – filamento texturizado",1,{"$f":"ROW()","v":2326},8,null,null,"2.3.3.02.07.003","Traslado de dividendos",0,15]
[null,null,"D3551002","Fibra sintética discontinua cortada de poliéster (staple)",1,{"$f":"ROW()","v":2327},8,null,null,"2.3.3.02.07.999","Transferencias a empresas del sector no clasificadas previamente",0,15]
[null,null,"D3551003","Fibra sintética discontinua en cable de poliéster (tow)",1,{"$f":"ROW()","v":2328},8,null,null,"2.3.3.02.08.001","Transferencia a Artesanías de Colombia S.A.",0,15]
[null,null,"D2622001","Fibras artificiales cortas o discontinuas cardadas o peinadas",1,{"$f":"ROW()","v":2329},8,null,null,"2.3.3.02.08.002","Traslado de dividendos",0,15]
[null,null,"D3921603","Fibras artificiales y sintéticas recuperadas",1,{"$f":"ROW()","v":2330},8,null,null,"2.3.3.02.08.999","Transferencias a empresas del sector no clasificadas previamente",0,15]
[null,null,"D3551001","Fibras artificiales y/o sintéticas sin cardar ni peinar",1,{"$f":"ROW()","v":2331},8,null,null,"2.3.3.02.09.001","Transferencia a la Corporación Autónoma Regional del Rio Grande de la Magdalena - CORMAGDALENA Transferencias para garantizar el funcionamiento de la Corporación Autónoma Regional del Rio Grande de la Magdalena conforme al Art. 17 de la Ley 161 de 1997. La Corte Constitucional ha señalado que la naturaleza jurídica de la CAR hace que no sea del sector central, ni sector desentralizado por servicios ni una entidad territorial. Son entidades administrativas del orden nacional. Adicionalmnete, En la definición de la naturaleza jurídica de la CAR del rio grande de la Magdalena, se afirma que esta funciona como EICE sometida a las reglas de las sociedades anónimas, de conformidad con el artículo 1 de la Ley 161 de 1994. Por tal razón, el tratamiento de esta CAR en este concepto es el de una empresa pública no financiera.",0,15]
[null,null,"D2619001","Fibras de fique-pita",1,{"$f":"ROW()","v":2332},8,null,null,"2.3.3.02.09.002","Traslado de dividendos",0,15]
[null,null,"D2619002","Fibras de lino",1,{"$f":"ROW()","v":2333},8,null,null,"2.3.3.02.09.999","Transferencias a empresas del sector no clasificadas previamente",0,15]
[null,null,"D2621001","Fibras sintéticas cortas o discontinuas, cardadas o peinadas",1,{"$f":"ROW()","v":2334},8,null,null,"2.3.3.02.10.001","Traslado de dividendos Trasferencia en virtud de los beneficios generados por una empresa, a favor de socios dedicados a el suministro de electricidad, gas, vapor y aire acondicionado.",0,15]
[null,null,"D3551005","Fibras sintéticas discontinuas en mecha de poliéster (TOP)",1,{"$f":"ROW()","v":2335},8,null,null,"2.3.3.02.10.999","Transferencias a empresas del sector no clasificadas previamente",0,15]
[null,null,"D2371001","Fideos, macarrones y similares",1,{"$f":"ROW()","v":2336},8,null,null,"2.3.3.02.11.001","Traslado de dividendos",0,15]
[null,null,"D3792004","Fieltro de asbesto",1,{"$f":"ROW()","v":2337},8,null,null,"2.3.3.02.11.999","Transferencias a empresas del sector no clasificadas previamente",0,15]
[null,null,"D3712801","Fieltro de lana de vidrio",1,{"$f":"ROW()","v":2338},8,null,null,"2.3.3.02.12.001","Traslado de dividendos",0,15]
[null,null,"D3712802","Fieltro de lana de vidrio impregnado con tela asfáltica",1,{"$f":"ROW()","v":2339},8,null,null,"2.3.3.02.12.999","Transferencias a empresas del sector no clasificadas previamente",0,15]
[null,null,"D3792016","Fieltro impregnado de asbesto",1,{"$f":"ROW()","v":2340},8,null,null,"2.3.3.02.13.001","Traslado de dividendos",0,15]
[null,null,"D2792104","Fieltros de algodón",1,{"$f":"ROW()","v":2341},8,null,null,"2.3.3.02.13.999","Transferencias a empresas del sector no clasificadas previamente",0,15]
[null,null,"D2792106","Fieltros de fibras artificiales y sintéticas",1,{"$f":"ROW()","v":2342},8,null,null,"2.3.3.02.14.001","Traslado de dividendos",0,15]
[null,null,"D2792105","Fieltros de lana",1,{"$f":"ROW()","v":2343},8,null,null,"2.3.3.02.14.999","Transferencias a empresas del sector no clasificadas previamente",0,15]
[null,null,"D2792101","Fieltros de pelo fino",1,{"$f":"ROW()","v":2344},8,null,null,"2.3.3.02.15.001","Traslado de dividendos",0,15]
[null,null,"D2792102","Fieltros delgados de lana y pelos",1,{"$f":"ROW()","v":2345},8,null,null,"2.3.3.02.15.999","Transferencias a empresas del sector no clasificadas previamente",0,15]
[null,null,"D2792103","Fieltros gruesos de lana y pelos",1,{"$f":"ROW()","v":2346},8,null,null,"2.3.3.02.16.001","Traslado de dividendos",0,15]
[null,null,"D3899102","Figuras de animales para pesebre y otras",1,{"$f":"ROW()","v":2347},8,null,null,"2.3.3.02.16.999","Transferencias a empresas del sector no clasificadas previamente",0,15]
[null,null,"D3722203","Figuras decorativas y artísticas de loza o porcelana",1,{"$f":"ROW()","v":2348},8,null,null,"2.3.3.02.17.001","Traslado de dividendos",0,15]
[null,null,"D3699061","Figuras decorativas y artísticas de material plástico",1,{"$f":"ROW()","v":2349},8,null,null,"2.3.3.02.17.999","Transferencias a empresas del sector no clasificadas previamente",0,15]
[null,null,"D3722208","Figuras y artículos decorativos y artísticos-artesanías",1,{"$f":"ROW()","v":2350},8,null,null,"2.3.3.02.18.001","Traslado de dividendos",0,15]
[null,null,"D3761003","Figuras y elementos decorativos en mármol",1,{"$f":"ROW()","v":2351},8,null,null,"2.3.3.02.18.999","Transferencias a empresas del sector no clasificadas previamente",0,15]
[null,null,"D4834202","Fijadores fotográficos",1,{"$f":"ROW()","v":2352},8,null,null,"2.3.3.03.02.001.01","Membresías",0,18]
[null,null,"D3532304","Fijadores líquidos para el cabello",1,{"$f":"ROW()","v":2353},8,null,null,"2.3.3.03.02.001.02","Distintas a membresías",0,18]
[null,null,"D3532305","Fijadores semisólidos para el cabello",1,{"$f":"ROW()","v":2354},8,null,null,"2.3.3.03.02.002.01","Membresías",0,18]
[null,null,"D3556001","Filamento de acetato de celulosa",1,{"$f":"ROW()","v":2355},8,null,null,"2.3.3.03.02.002.02","Distintas a membresías",0,18]
[null,null,"D4160202","Filamentos de tungsteno",1,{"$f":"ROW()","v":2356},8,null,null,"2.3.3.03.02.003.01","Membresías",0,18]
[null,null,"D2122202","Filetes de atún congelados",1,{"$f":"ROW()","v":2357},8,null,null,"2.3.3.03.02.003.02","Distintas a membresías",0,18]
[null,null,"D2122201","Filetes de pescado congelados (excepto de atún)",1,{"$f":"ROW()","v":2358},8,null,null,"2.3.3.03.02.004.01","Membresías",0,18]
[null,null,"D4391502","Filtros de aceite",1,{"$f":"ROW()","v":2359},8,null,null,"2.3.3.03.02.004.02","Distintas a membresías",0,18]
[null,null,"D4391505","Filtros de aceite para automotores",1,{"$f":"ROW()","v":2360},8,null,null,"2.3.3.03.02.005.01","Membresías",0,18]
[null,null,"D4391503","Filtros de aire diferentes a los de automotores",1,{"$f":"ROW()","v":2361},8,null,null,"2.3.3.03.02.005.02","Distintas a membresías",0,18]
[null,null,"D4391504","Filtros de aire para automotores",1,{"$f":"ROW()","v":2362},8,null,null,"2.3.3.03.02.006.01","Membresías",0,18]
[null,null,"D4391506","Filtros de combustible para automotores",1,{"$f":"ROW()","v":2363},8,null,null,"2.3.3.03.02.006.02","Distintas a membresías",0,18]
[null,null,"D4391501","Filtros de gasolina diferentes a los de automotores",1,{"$f":"ROW()","v":2364},8,null,null,"2.3.3.03.02.007.01","Membresías",0,18]
[null,null,"D2719007","Filtros de material textil, para usos técnicos e industriales",1,{"$f":"ROW()","v":2365},8,null,null,"2.3.3.03.02.007.02","Distintas a membresías",0,18]
[null,null,"D3219923","Filtros de papel y cartón",1,{"$f":"ROW()","v":2366},8,null,null,"2.3.3.03.02.008.01","Membresías",0,18]
[null,null,"D4391405","Filtros de vidrio para aire acondicionado",1,{"$f":"ROW()","v":2367},8,null,null,"2.3.3.03.02.008.02","Distintas a membresías",0,18]
[null,null,"D3899407","Filtros para cigarrillos",1,{"$f":"ROW()","v":2368},8,null,null,"2.3.3.03.02.009.01","Membresías",0,18]
[null,null,"D4391406","Filtros para control de emisión de gases para vehículos automotores",1,{"$f":"ROW()","v":2369},8,null,null,"2.3.3.03.02.009.02","Distintas a membresías",0,18]
[null,null,"D4391407","Filtros para industrias y laboratorios",1,{"$f":"ROW()","v":2370},8,null,null,"2.3.3.03.02.010.01","Membresías",0,18]
[null,null,"D4717302","Filtros para radio y televisión.",1,{"$f":"ROW()","v":2371},8,null,null,"2.3.3.03.02.010.02","Distintas a membresías",0,18]
[null,null,"D4391402","Filtros y depuradores para agua",1,{"$f":"ROW()","v":2372},{"$f":"LEN(C2372)","v":8},null,null,"2.3.3.03.02.011.01","Membresías",0,{"$f":"LEN(J2372)","v":18}]
[null,null,"D0192901","Fique",1,{"$f":"ROW()","v":2373},8,null,null,"2.3.3.03.02.011.02","Distintas a membresías",0,18]
[null,null,"D4151403","Flejes de cobre",1,{"$f":"ROW()","v":2374},8,null,null,"2.3.3.03.02.012.01","Membresías",0,18]
[null,null,"D4122201","Flejes de hierro o acero laminados en frío",1,{"$f":"ROW()","v":2375},8,null,null,"2.3.3.03.02.012.02","Distintas a membresías",0,18]
[null,null,"D3133001","Flejes de madera, rodrigones hendidos y estacas (Madera sin elaborar)",1,{"$f":"ROW()","v":2376},8,null,null,"2.3.3.03.02.013.01","Membresías",0,18]
[null,null,"D4121201","Flejes y planchuelas de hierro o acero laminados en caliente",1,{"$f":"ROW()","v":2377},8,null,null,"2.3.3.03.02.013.02","Distintas a membresías",0,18]
[null,null,"D0169801","Flor de Jamaica",1,{"$f":"ROW()","v":2378},8,null,null,"2.3.3.03.02.014.01","Membresías",0,18]
[null,null,"D3722202","Floreros de loza o porcelana",1,{"$f":"ROW()","v":2379},8,null,null,"2.3.3.03.02.014.02","Distintas a membresías",0,18]
[null,null,"D3719309","Floreros de vidrio",1,{"$f":"ROW()","v":2380},8,null,null,"2.3.3.03.02.015.01","Membresías",0,18]
[null,null,"D0193003","Flores y hojas medicinales",1,{"$f":"ROW()","v":2381},8,null,null,"2.3.3.03.02.015.02","Distintas a membresías",0,18]
[null,null,"D3899906","Flores, frutas y análogos artificiales",1,{"$f":"ROW()","v":2382},8,null,null,"2.3.3.03.02.016.01","Membresías",0,18]
[null,null,"D3899905","Flores, frutas y análogos de material plástico",1,{"$f":"ROW()","v":2383},8,null,null,"2.3.3.03.02.016.02","Distintas a membresías",0,18]
[null,null,"D3423105","Flúor",1,{"$f":"ROW()","v":2384},8,null,null,"2.3.3.03.02.017.01","Membresías",0,18]
[null,null,"D1619903","Fluorita",1,{"$f":"ROW()","v":2385},8,null,null,"2.3.3.03.02.017.02","Distintas a membresías",0,18]
[null,null,"D3424001","Fluoruro de calcio",1,{"$f":"ROW()","v":2386},8,null,null,"2.3.3.03.02.018.01","Membresías",0,18]
[null,null,"D3424020","Fluoruro de potasio o fluoruro potásico",1,{"$f":"ROW()","v":2387},8,null,null,"2.3.3.03.02.018.02","Distintas a membresías",0,18]
[null,null,"D3424013","Fluoruro-bifluoruro de sodio",1,{"$f":"ROW()","v":2388},8,null,null,"2.3.3.03.02.019.01","Membresías",0,18]
[null,null,"D3522015","Flutamida",1,{"$f":"ROW()","v":2389},8,null,null,"2.3.3.03.02.019.02","Distintas a membresías",0,18]
[null,null,"D3215317","Fólderes",1,{"$f":"ROW()","v":2390},8,null,null,"2.3.3.03.02.020.01","Membresías",0,18]
[null,null,"D3699005","Fólderes de material plástico",1,{"$f":"ROW()","v":2391},8,null,null,"2.3.3.03.02.020.02","Distintas a membresías",0,18]
[null,null,"D4292126","Forjas de fuelle",1,{"$f":"ROW()","v":2392},8,null,null,"2.3.3.03.02.021.01","Membresías",0,18]
[null,null,"D3417006","Formaldehídos-formol, formalina",1,{"$f":"ROW()","v":2393},8,null,null,"2.3.3.03.02.021.02","Distintas a membresías",0,18]
[null,null,"D4219013","Formaletas en chapa metálica",1,{"$f":"ROW()","v":2394},8,null,null,"2.3.3.03.02.022.01","Membresías",0,18]
[null,null,"D2826102","Formas (campanas) de fieltro de lana para sombreros",1,{"$f":"ROW()","v":2395},8,null,null,"2.3.3.03.02.022.02","Distintas a membresías",0,18]
[null,null,"D2826101","Formas (campanas) de fieltro de pelos finos para sombreros",1,{"$f":"ROW()","v":2396},8,null,null,"2.3.3.03.02.023.01","Membresías",0,18]
[null,null,"D3270201","Formas continuas",1,{"$f":"ROW()","v":2397},8,null,null,"2.3.3.03.02.023.02","Distintas a membresías",0,18]
[null,null,"D3270202","Formas continuas",1,{"$f":"ROW()","v":2398},8,null,null,"2.3.3.03.02.024.01","Membresías",0,18]
[null,null,"D3270203","Formas continuas para contabilidad",1,{"$f":"ROW()","v":2399},8,null,null,"2.3.3.03.02.024.02","Distintas a membresías",0,18]
[null,null,"D3699036","Formas de plástico para sillas",1,{"$f":"ROW()","v":2400},8,null,null,"2.3.3.03.02.025.01","Membresías",0,18]
[null,null,"D3699004","Formas didácticas de material plástico",1,{"$f":"ROW()","v":2401},8,null,null,"2.3.3.03.02.025.02","Distintas a membresías",0,18]
[null,null,"D3712911","Formas didácticas en fibra de vidrio",1,{"$f":"ROW()","v":2402},8,null,null,"2.3.3.03.02.026.01","Membresías",0,18]
[null,null,"D3191415","Formas didácticas en madera",1,{"$f":"ROW()","v":2403},8,null,null,"2.3.3.03.02.026.02","Distintas a membresías",0,18]
[null,null,"D4299913","Formas en acero para zapatería",1,{"$f":"ROW()","v":2404},8,null,null,"2.3.3.03.02.027.01","Membresías",0,18]
[null,null,"D3719603","Formas especiales de vidrio para semáforos",1,{"$f":"ROW()","v":2405},8,null,null,"2.3.3.03.02.027.02","Distintas a membresías",0,18]
[null,null,"D4483201","Formas estampadas de lámina metálica para estufas",1,{"$f":"ROW()","v":2406},8,null,null,"2.3.3.03.02.028.01","Membresías",0,18]
[null,null,"D4696103","Formas estándar en acero para bujías",1,{"$f":"ROW()","v":2407},8,null,null,"2.3.3.03.02.028.02","Distintas a membresías",0,18]
[null,null,"D3892401","Formas metálicas para botones",1,{"$f":"ROW()","v":2408},8,null,null,"2.3.3.03.02.029.01","Membresías",0,18]
[null,null,"D3261002","Formas para cheques y letras",1,{"$f":"ROW()","v":2409},8,null,null,"2.3.3.03.02.029.02","Distintas a membresías",0,18]
[null,null,"D3414005","Formiato de calcio",1,{"$f":"ROW()","v":2410},8,null,null,"2.3.3.03.02.030.01","Membresías",0,18]
[null,null,"D3414004","Formiato de sodio",1,{"$f":"ROW()","v":2411},8,null,null,"2.3.3.03.02.030.02","Distintas a membresías",0,18]
[null,null,"D4292116","Formones y similares",1,{"$f":"ROW()","v":2412},8,null,null,"2.3.3.03.02.031.01","Membresías",0,18]
[null,null,"D3270204","Formularios",1,{"$f":"ROW()","v":2413},8,null,null,"2.3.3.03.02.031.02","Distintas a membresías",0,18]
[null,null,"D3649030","Forros (empaques) especiales de polivinilo",1,{"$f":"ROW()","v":2414},8,null,null,"2.3.3.03.02.032.01","Membresías",0,18]
[null,null,"D2929009","Forros de cuero para muebles",1,{"$f":"ROW()","v":2415},8,null,null,"2.3.3.03.02.032.02","Distintas a membresías",0,18]
[null,null,"D3699018","Forros de material plástico para electrodomésticos",1,{"$f":"ROW()","v":2416},8,null,null,"2.3.3.03.02.033.01","Membresías",0,18]
[null,null,"D3699003","Forros plásticos para cuadernos",1,{"$f":"ROW()","v":2417},8,null,null,"2.3.3.03.02.033.02","Distintas a membresías",0,18]
[null,null,"D3699021","Forros protectores plásticos para colchones",1,{"$f":"ROW()","v":2418},8,null,null,"2.3.3.03.02.034.01","Membresías",0,18]
[null,null,"D2719003","Forros, pijamas y productos similares para vehículos automotores",1,{"$f":"ROW()","v":2419},8,null,null,"2.3.3.03.02.034.02","Distintas a membresías",0,18]
[null,null,"D3464201","Fosfato de amonio",1,{"$f":"ROW()","v":2420},8,null,null,"2.3.3.03.02.035.01","Membresías",0,18]
[null,null,"D3424054","Fosfato de calcio",1,{"$f":"ROW()","v":2421},8,null,null,"2.3.3.03.02.035.02","Distintas a membresías",0,18]
[null,null,"D3424069","Fosfato de hierro",1,{"$f":"ROW()","v":2422},8,null,null,"2.3.3.03.02.036.01","Membresías",0,18]
[null,null,"D3424070","Fosfato de magnesio",1,{"$f":"ROW()","v":2423},8,null,null,"2.3.3.03.02.036.02","Distintas a membresías",0,18]
[null,null,"D3424053","Fosfato de potasio",1,{"$f":"ROW()","v":2424},8,null,null,"2.3.3.03.02.037.01","Membresías",0,18]
[null,null,"D3424051","Fosfato de sodio",1,{"$f":"ROW()","v":2425},8,null,null,"2.3.3.03.02.037.02","Distintas a membresías",0,18]
[null,null,"D3464301","Fosfato di-monobásico amónico",1,{"$f":"ROW()","v":2426},8,null,null,"2.3.3.03.02.038.01","Membresías",0,18]
[null,null,"D3424052","Fosfato trisódico",1,{"$f":"ROW()","v":2427},8,null,null,"2.3.3.03.02.038.02","Distintas a membresías",0,18]
[null,null,"D3416024","Fosfato-difosfato-cloroquina",1,{"$f":"ROW()","v":2428},8,null,null,"2.3.3.03.02.039.01","Membresías",0,18]
[null,null,"D3423110","Fósforo (elemento químico)",1,{"$f":"ROW()","v":2429},8,null,null,"2.3.3.03.02.039.02","Distintas a membresías",0,18]
[null,null,"D3423101","Fósforo rojo",1,{"$f":"ROW()","v":2430},8,null,null,"2.3.3.03.02.040.01","Membresías",0,18]
[null,null,"D3899801","Fósforos o cerillas",1,{"$f":"ROW()","v":2431},8,null,null,"2.3.3.03.02.040.02","Distintas a membresías",0,18]
[null,null,"D3229905","Fotonovelas, historietas, horóscopos y juegos de azar, publicados en fascículos, folletos, hojas sueltas e impresos similares",1,{"$f":"ROW()","v":2432},8,null,null,"2.3.3.03.02.041.01","Membresías",0,18]
[null,null,"D3229904","Fotonovelas, historietas, horóscopos y juegos de azar, publicados en forma de libros impresos",1,{"$f":"ROW()","v":2433},8,null,null,"2.3.3.03.02.041.02","Distintas a membresías",0,18]
[null,null,"D3649004","Frascos comprimibles de material plástico",1,{"$f":"ROW()","v":2434},8,null,null,"2.3.3.03.02.042.01","Membresías",0,18]
[null,null,"D3719101","Frascos pequeños de vidrio para perfumería, farmacia y laboratorio",1,{"$f":"ROW()","v":2435},8,null,null,"2.3.3.03.02.042.02","Distintas a membresías",0,18]
[null,null,"D2711002","Frazadas de lana",1,{"$f":"ROW()","v":2436},{"$f":"LEN(C2436)","v":8},null,null,"2.3.3.03.02.043.01","Membresías",0,{"$f":"LEN(J2436)","v":18}]
[null,null,"D4482104","Freidoras de gas",1,{"$f":"ROW()","v":2437},8,null,null,"2.3.3.03.02.043.02","Distintas a membresías",0,18]
[null,null,"D4451502","Freidores industriales eléctricos",1,{"$f":"ROW()","v":2438},8,null,null,"2.3.3.03.02.044.01","Membresías",0,18]
[null,null,"D4693901","Frenos electromagnéticos para automotores",1,{"$f":"ROW()","v":2439},8,null,null,"2.3.3.03.02.044.02","Distintas a membresías",0,18]
[null,null,"D4421401","Fresadoras, perforadoras y máquinas análogas para metales",1,{"$f":"ROW()","v":2440},8,null,null,"2.3.3.03.02.045.01","Membresías",0,18]
[null,null,"D0135401","Fresas",1,{"$f":"ROW()","v":2441},8,null,null,"2.3.3.03.02.045.02","Distintas a membresías",0,18]
[null,null,"D0170101","Fríjol seco",1,{"$f":"ROW()","v":2442},8,null,null,"2.3.3.03.02.046.01","Membresías",0,18]
[null,null,"D2139501","Fríjoles envasados",1,{"$f":"ROW()","v":2443},8,null,null,"2.3.3.03.02.046.02","Distintas a membresías",0,18]
[null,null,"D0124101","Fríjoles verdes",1,{"$f":"ROW()","v":2444},8,null,null,"2.3.3.03.02.047.01","Membresías",0,18]
[null,null,"D3511023","Fritas",1,{"$f":"ROW()","v":2445},8,null,null,"2.3.3.03.02.047.02","Distintas a membresías",0,18]
[null,null,"D2321204","Fructosa-levulosa",1,{"$f":"ROW()","v":2446},8,null,null,"2.3.3.03.02.048.01","Membresías",0,18]
[null,null,"D2149301","Fruta congelada en trozos",1,{"$f":"ROW()","v":2447},8,null,null,"2.3.3.03.02.048.02","Distintas a membresías",0,18]
[null,null,"D2367009","Frutas cristalizadas",1,{"$f":"ROW()","v":2448},8,null,null,"2.3.3.03.02.049.01","Membresías",0,18]
[null,null,"D2141903","Frutas deshidratadas",1,{"$f":"ROW()","v":2449},8,null,null,"2.3.3.03.02.049.02","Distintas a membresías",0,18]
[null,null,"D2149999","Frutas en conserva envasadas n.c.p.",1,{"$f":"ROW()","v":2450},8,null,null,"2.3.3.03.02.050.01","Membresías",0,18]
[null,null,"D2366002","Frutas recubiertas de chocolate y/u otros productos de confitería y repostería",1,{"$f":"ROW()","v":2451},8,null,null,"2.3.3.03.02.050.02","Distintas a membresías",0,18]
[null,null,"D2149601","Frutas y nueces conservadas provisionalmente",1,{"$f":"ROW()","v":2452},8,null,null,"2.3.3.03.02.051.01","Membresías",0,18]
[null,null,"D0149101","Fruto de palma africana",1,{"$f":"ROW()","v":2453},8,null,null,"2.3.3.03.02.051.02","Distintas a membresías",0,18]
[null,null,"D4391308","Fuentes de agua-aparatos",1,{"$f":"ROW()","v":2454},8,null,null,"2.3.3.03.02.052.01","Membresías",0,18]
[null,null,"D4324015","Fuentes de sifón",1,{"$f":"ROW()","v":2455},8,null,null,"2.3.3.03.02.052.02","Distintas a membresías",0,18]
[null,null,"D3545009","Fulminantes para armas de fuego",1,{"$f":"ROW()","v":2456},8,null,null,"2.3.3.03.02.053.01","Membresías",0,18]
[null,null,"D3414042","Fumarato ferroso",1,{"$f":"ROW()","v":2457},8,null,null,"2.3.3.03.02.053.02","Distintas a membresías",0,18]
[null,null,"D4415003","Fumigadoras para agricultura y ganadería",1,{"$f":"ROW()","v":2458},8,null,null,"2.3.3.03.02.054.01","Membresías",0,18]
[null,null,"D4415006","Fumigadoras plásticas para agricultura y ganadería",1,{"$f":"ROW()","v":2459},8,null,null,"2.3.3.03.02.054.02","Distintas a membresías",0,18]
[null,null,"D3699041","Fumigadoras y análogos de material plástico para uso doméstico",1,{"$f":"ROW()","v":2460},8,null,null,"2.3.3.03.02.055.01","Membresías",0,18]
[null,null,"D2922112","Fundas de cuero para herramientas y cuchillos",1,{"$f":"ROW()","v":2461},8,null,null,"2.3.3.03.02.055.02","Distintas a membresías",0,18]
[null,null,"D2922212","Fundas de material plástico para armas de fuego",1,{"$f":"ROW()","v":2462},8,null,null,"2.3.3.03.02.056.01","Membresías",0,18]
[null,null,"D2922211","Fundas de material plástico para herramientas",1,{"$f":"ROW()","v":2463},8,null,null,"2.3.3.03.02.056.02","Distintas a membresías",0,18]
[null,null,"D2712002","Fundas para almohadas y cojines",1,{"$f":"ROW()","v":2464},8,null,null,"2.3.3.03.02.057.01","Membresías",0,18]
[null,null,"D2712004","Fundas para almohadas y cojines infantiles",1,{"$f":"ROW()","v":2465},8,null,null,"2.3.3.03.02.057.02","Distintas a membresías",0,18]
[null,null,"D2922113","Fundas para armas de fuego",1,{"$f":"ROW()","v":2466},8,null,null,"2.3.3.03.02.058.01","Membresías",0,18]
[null,null,"D2714002","Fundas para muebles",1,{"$f":"ROW()","v":2467},8,null,null,"2.3.3.03.02.058.02","Distintas a membresías",0,18]
[null,null,"D3549911","Fundentes",1,{"$f":"ROW()","v":2468},8,null,null,"2.3.3.03.02.059.01","Membresías",0,18]
[null,null,"D3466201","Fungistáticos en polvo para alimentos concentrados de animales",1,{"$f":"ROW()","v":2469},8,null,null,"2.3.3.03.02.059.02","Distintas a membresías",0,18]
[null,null,"D4921019","Furgones en fibra de vidrio",1,{"$f":"ROW()","v":2470},8,null,null,"2.3.3.03.02.060.01","Membresías",0,18]
[null,null,"D4621201","Fusibles eléctricos para voltajes inferiores o iguales a 1000 V",1,{"$f":"ROW()","v":2471},8,null,null,"2.3.3.03.02.060.02","Distintas a membresías",0,18]
[null,null,"D4621101","Fusibles eléctricos para voltajes superiores a 1000 V",1,{"$f":"ROW()","v":2472},8,null,null,"2.3.3.03.02.061.01","Membresías",0,18]
[null,null,"D4472001","Fusiles",1,{"$f":"ROW()","v":2473},8,null,null,"2.3.3.03.02.061.02","Distintas a membresías",0,18]
[null,null,"D2823123","Gabardinas para hombre",1,{"$f":"ROW()","v":2474},8,null,null,"2.3.3.03.02.062.01","Membresías",0,18]
[null,null,"D2823317","Gabardinas para mujer",1,{"$f":"ROW()","v":2475},8,null,null,"2.3.3.03.02.062.02","Distintas a membresías",0,18]
[null,null,"D2823318","Gabardinas para niña",1,{"$f":"ROW()","v":2476},8,null,null,"2.3.3.03.02.063.01","Membresías",0,18]
[null,null,"D2823124","Gabardinas para niño",1,{"$f":"ROW()","v":2477},8,null,null,"2.3.3.03.02.063.02","Distintas a membresías",0,18]
[null,null,"D3814066","Gabinetes decorativos de madera para relojes de pared",1,{"$f":"ROW()","v":2478},8,null,null,"2.3.3.03.02.064.01","Membresías",0,18]
[null,null,"D3814028","Gabinetes metálicos para cocina",1,{"$f":"ROW()","v":2479},8,null,null,"2.3.3.03.02.064.02","Distintas a membresías",0,18]
[null,null,"D3814059","Gabinetes metálicos para cuartos de baño",1,{"$f":"ROW()","v":2480},8,null,null,"2.3.3.03.02.065.01","Membresías",0,18]
[null,null,"D4818006","Gabinetes metálicos para hospitales",1,{"$f":"ROW()","v":2481},8,null,null,"2.3.3.03.02.065.02","Distintas a membresías",0,18]
[null,null,"D3813001","Gabinetes, módulos de madera para cocina integral",1,{"$f":"ROW()","v":2482},8,null,null,"2.3.3.03.02.066.01","Membresías",0,18]
[null,null,"D2342003","Galletas dulces",1,{"$f":"ROW()","v":2483},8,null,null,"2.3.3.03.02.066.02","Distintas a membresías",0,18]
[null,null,"D2349009","Galletas saladas",1,{"$f":"ROW()","v":2484},8,null,null,"2.3.3.03.02.067.01","Membresías",0,18]
[null,null,"D0215102","Gallinas",1,{"$f":"ROW()","v":2485},8,null,null,"2.3.3.03.02.067.02","Distintas a membresías",0,18]
[null,null,"D0215501","Gallinas de Guinea o pintadas o gallinetas",1,{"$f":"ROW()","v":2486},8,null,null,"2.3.3.03.02.068.01","Membresías",0,18]
[null,null,"D3465402","Gallinaza",1,{"$f":"ROW()","v":2487},8,null,null,"2.3.3.03.02.068.02","Distintas a membresías",0,18]
[null,null,"D8873103","Galvanizado de metales comunes",1,{"$f":"ROW()","v":2488},8,null,null,"2.3.3.03.02.069.01","Membresías",0,18]
[null,null,"D0211101","Ganado bovino",1,{"$f":"ROW()","v":2489},8,null,null,"2.3.3.03.02.069.02","Distintas a membresías",0,18]
[null,null,"D0212301","Ganado caprino",1,{"$f":"ROW()","v":2490},8,null,null,"2.3.3.03.02.070.01","Membresías",0,18]
[null,null,"D0212201","Ganado ovino",1,{"$f":"ROW()","v":2491},8,null,null,"2.3.3.03.02.070.02","Distintas a membresías",0,18]
[null,null,"D0214001","Ganado porcino",1,{"$f":"ROW()","v":2492},8,null,null,"2.3.3.03.02.071.01","Membresías",0,18]
[null,null,"D4294415","Ganchos",1,{"$f":"ROW()","v":2493},8,null,null,"2.3.3.03.02.071.02","Distintas a membresías",0,18]
[null,null,"D4291230","Ganchos de alambre para ropa",1,{"$f":"ROW()","v":2494},8,null,null,"2.3.3.03.02.072.01","Membresías",0,18]
[null,null,"D3191416","Ganchos de madera para ropa",1,{"$f":"ROW()","v":2495},8,null,null,"2.3.3.03.02.072.02","Distintas a membresías",0,18]
[null,null,"D3699015","Ganchos de material plástico para ropa",1,{"$f":"ROW()","v":2496},8,null,null,"2.3.3.03.02.073.01","Membresías",0,18]
[null,null,"D4299703","Ganchos de nodriza",1,{"$f":"ROW()","v":2497},8,null,null,"2.3.3.03.02.073.02","Distintas a membresías",0,18]
[null,null,"D4299501","Ganchos legajadores metálicos",1,{"$f":"ROW()","v":2498},8,null,null,"2.3.3.03.02.074.01","Membresías",0,18]
[null,null,"D3699006","Ganchos legajadores plásticos",1,{"$f":"ROW()","v":2499},8,null,null,"2.3.3.03.02.074.02","Distintas a membresías",0,18]
[null,null,"D4299917","Ganchos y accesorios metálicos para tejas, canales, bajantes",1,{"$f":"ROW()","v":2500},{"$f":"LEN(C2500)","v":8},null,null,"2.3.3.03.02.075.01","Membresías",0,{"$f":"LEN(J2500)","v":18}]
[null,null,"D0215301","Gansos",1,{"$f":"ROW()","v":2501},8,null,null,"2.3.3.03.02.075.02","Distintas a membresías",0,18]
[null,null,"D2139902","Garbanzos envasados",1,{"$f":"ROW()","v":2502},8,null,null,"2.3.3.03.02.076.01","Membresías",0,18]
[null,null,"D0124901","Garbanzos verdes",1,{"$f":"ROW()","v":2503},8,null,null,"2.3.3.03.02.076.02","Distintas a membresías",0,18]
[null,null,"D0170301","Garbanzos, secos",1,{"$f":"ROW()","v":2504},8,null,null,"2.3.3.03.02.077.01","Membresías",0,18]
[null,null,"D3719105","Garrafas y garrafones de vidrio",1,{"$f":"ROW()","v":2505},8,null,null,"2.3.3.03.02.077.02","Distintas a membresías",0,18]
[null,null,"D3466104","Garrapaticidas y otros antiparasitarios de uso externo",1,{"$f":"ROW()","v":2506},8,null,null,"2.3.3.03.02.078.01","Membresías",0,18]
[null,null,"D3466103","Garrapaticidas y otros antiparasitarios para usos externos",1,{"$f":"ROW()","v":2507},8,null,null,"2.3.3.03.02.078.02","Distintas a membresías",0,18]
[null,null,"D3310203","Gas de alto horno o gas de productor",1,{"$f":"ROW()","v":2508},8,null,null,"2.3.3.03.02.079.01","Membresías",0,18]
[null,null,"D3310201","Gas de coque (proceso de coquización)",1,{"$f":"ROW()","v":2509},8,null,null,"2.3.3.03.02.079.02","Distintas a membresías",0,18]
[null,null,"D3310202","Gas de coque (proceso metalúrgico)",1,{"$f":"ROW()","v":2510},8,null,null,"2.3.3.03.02.080.01","Membresías",0,18]
[null,null,"D1202001","Gas natural (rico)",1,{"$f":"ROW()","v":2511},8,null,null,"2.3.3.03.02.080.02","Distintas a membresías",0,18]
[null,null,"D3341001","Gas propano-gas licuado de petróleo (G.L.P.)",1,{"$f":"ROW()","v":2512},8,null,null,"2.3.3.03.02.081.01","Membresías",0,18]
[null,null,"D3342901","Gas seco",1,{"$f":"ROW()","v":2513},8,null,null,"2.3.3.03.02.081.02","Distintas a membresías",0,18]
[null,null,"D3527012","Gasa esterilizada",1,{"$f":"ROW()","v":2514},8,null,null,"2.3.3.03.02.082.01","Membresías",0,18]
[null,null,"D3411099","Gases n.c.p. (excepto los halógenos)",1,{"$f":"ROW()","v":2515},8,null,null,"2.3.3.03.02.082.02","Distintas a membresías",0,18]
[null,null,"D3411022","Gases refrigerantes-freón, frigen, etc.",1,{"$f":"ROW()","v":2516},8,null,null,"2.3.3.03.02.083.01","Membresías",0,18]
[null,null,"D3336101","Gasóleo",1,{"$f":"ROW()","v":2517},8,null,null,"2.3.3.03.02.083.02","Distintas a membresías",0,18]
[null,null,"D3332001","Gasolina aviación - avgas",1,{"$f":"ROW()","v":2518},8,null,null,"2.3.3.03.02.084.01","Membresías",0,18]
[null,null,"D3331101","Gasolina motor corriente",1,{"$f":"ROW()","v":2519},8,null,null,"2.3.3.03.02.084.02","Distintas a membresías",0,18]
[null,null,"D3331301","Gasolina motor corriente mezclada con etanol - E10, E20, etc.",1,{"$f":"ROW()","v":2520},8,null,null,"2.3.3.03.02.085.01","Membresías",0,18]
[null,null,"D3331102","Gasolina motor extra",1,{"$f":"ROW()","v":2521},8,null,null,"2.3.3.03.02.085.02","Distintas a membresías",0,18]
[null,null,"D3331302","Gasolina motor extra mezclada con etanol - E8, E20",1,{"$f":"ROW()","v":2522},8,null,null,"2.3.3.03.02.086.01","Membresías",0,18]
[null,null,"D3331105","Gasolina motor extra Ron",1,{"$f":"ROW()","v":2523},8,null,null,"2.3.3.03.02.086.02","Distintas a membresías",0,18]
[null,null,"D3331104","Gasolina natural",1,{"$f":"ROW()","v":2524},8,null,null,"2.3.3.03.02.087.01","Membresías",0,18]
[null,null,"D4351002","Gatos hidráulicos",1,{"$f":"ROW()","v":2525},8,null,null,"2.3.3.03.02.087.02","Distintas a membresías",0,18]
[null,null,"D4351004","Gatos mecánicos",1,{"$f":"ROW()","v":2526},8,null,null,"2.3.3.03.02.088.01","Membresías",0,18]
[null,null,"D4351003","Gatos neumáticos",1,{"$f":"ROW()","v":2527},8,null,null,"2.3.3.03.02.088.02","Distintas a membresías",0,18]
[null,null,"D2399908","Gelatina neutra-potable",1,{"$f":"ROW()","v":2528},8,null,null,"2.3.3.03.02.089.01","Membresías",0,18]
[null,null,"D2399909","Gelatinas y pudines preparados",1,{"$f":"ROW()","v":2529},8,null,null,"2.3.3.03.02.089.02","Distintas a membresías",0,18]
[null,null,"D4391102","Generadores de gases",1,{"$f":"ROW()","v":2530},8,null,null,"2.3.3.03.02.090.01","Membresías",0,18]
[null,null,"D4611201","Generadores eléctricos de corriente alterna (alternadores)",1,{"$f":"ROW()","v":2531},8,null,null,"2.3.3.03.02.090.02","Distintas a membresías",0,18]
[null,null,"D4611102","Generadores eléctricos de corriente continua",1,{"$f":"ROW()","v":2532},8,null,null,"2.3.3.03.02.091.01","Membresías",0,18]
[null,null,"D4691101","Generadores y alternadores eléctricos para vehículos automóviles",1,{"$f":"ROW()","v":2533},8,null,null,"2.3.3.03.02.091.02","Distintas a membresías",0,18]
[null,null,"D2799709","Géneros laminados",1,{"$f":"ROW()","v":2534},8,null,null,"2.3.3.03.02.092.01","Membresías",0,18]
[null,null,"D3525075","Gentamicina",1,{"$f":"ROW()","v":2535},8,null,null,"2.3.3.03.02.092.02","Distintas a membresías",0,18]
[null,null,"D2792205","Geotextil no tejido (tela no tejida en fibra sintética)",1,{"$f":"ROW()","v":2536},8,null,null,"2.3.3.03.02.093.01","Membresías",0,18]
[null,null,"D2672006","Geotextil tejido de polipropileno (100% polipropileno)",1,{"$f":"ROW()","v":2537},8,null,null,"2.3.3.03.02.093.02","Distintas a membresías",0,18]
[null,null,"D2314006","Gérmenes de cereales",1,{"$f":"ROW()","v":2538},8,null,null,"2.3.3.03.02.094.01","Membresías",0,18]
[null,null,"D2413103","Ginebra",1,{"$f":"ROW()","v":2539},8,null,null,"2.3.3.03.02.094.02","Distintas a membresías",0,18]
[null,null,"D3457101","Glicerina cruda",1,{"$f":"ROW()","v":2540},8,null,null,"2.3.3.03.02.095.01","Membresías",0,18]
[null,null,"D3457201","Glicerina semielaborada",1,{"$f":"ROW()","v":2541},8,null,null,"2.3.3.03.02.095.02","Distintas a membresías",0,18]
[null,null,"D3418004","Glicerofosfato de calcio",1,{"$f":"ROW()","v":2542},8,null,null,"2.3.3.03.02.096.01","Membresías",0,18]
[null,null,"D3418006","Glicerofosfato de magnesio (glicerofosfato magnésico)",1,{"$f":"ROW()","v":2543},8,null,null,"2.3.3.03.02.096.02","Distintas a membresías",0,18]
[null,null,"D3418003","Glicerofosfato de potasio",1,{"$f":"ROW()","v":2544},8,null,null,"2.3.3.03.02.097.01","Membresías",0,18]
[null,null,"D3418002","Glicerofosfato de sodio",1,{"$f":"ROW()","v":2545},8,null,null,"2.3.3.03.02.097.02","Distintas a membresías",0,18]
[null,null,"D3415004","Glicola o glicocola o glicina",1,{"$f":"ROW()","v":2546},8,null,null,"2.3.3.03.02.098.01","Membresías",0,18]
[null,null,"D3416005","Glicolarsanilato de bismuto glicobiarsol",1,{"$f":"ROW()","v":2547},8,null,null,"2.3.3.03.02.098.02","Distintas a membresías",0,18]
[null,null,"D3413915","Glicoles",1,{"$f":"ROW()","v":2548},8,null,null,"2.3.3.03.02.099.01","Membresías",0,18]
[null,null,"D3416012","Glifosato, N-(fosfonometil) glicina",1,{"$f":"ROW()","v":2549},8,null,null,"2.3.3.03.02.099.02","Distintas a membresías",0,18]
[null,null,"D3251201","Globos terráqueos o celestes",1,{"$f":"ROW()","v":2550},8,null,null,"2.3.3.03.02.100.01","Membresías",0,18]
[null,null,"D3414054","Gluconato de calcio",1,{"$f":"ROW()","v":2551},8,null,null,"2.3.3.03.02.100.02","Distintas a membresías",0,18]
[null,null,"D3414056","Gluconato de hierro",1,{"$f":"ROW()","v":2552},8,null,null,"2.3.3.03.02.101.01","Membresías",0,18]
[null,null,"D3414055","Gluconato de sodio",1,{"$f":"ROW()","v":2553},8,null,null,"2.3.3.03.02.101.02","Distintas a membresías",0,18]
[null,null,"D2321201","Glucosa con alto contenido de fructosa (mayor o igual al 20% en peso)",1,{"$f":"ROW()","v":2554},8,null,null,"2.3.3.03.02.102.01","Membresías",0,18]
[null,null,"D2321202","Glucosa con bajo contenido de fructosa (menor al 20% en peso)",1,{"$f":"ROW()","v":2555},8,null,null,"2.3.3.03.02.102.02","Distintas a membresías",0,18]
[null,null,"D3525050","Glucósidos",1,{"$f":"ROW()","v":2556},8,null,null,"2.3.3.03.02.103.01","Membresías",0,18]
[null,null,"D3522002","Glutamato de calcio",1,{"$f":"ROW()","v":2557},8,null,null,"2.3.3.03.02.103.02","Distintas a membresías",0,18]
[null,null,"D3522001","Glutamato de sodio",1,{"$f":"ROW()","v":2558},8,null,null,"2.3.3.03.02.104.01","Membresías",0,18]
[null,null,"D3417008","Glutaraldehído (aldehído glutárico, 1,5 pentanodiona)",1,{"$f":"ROW()","v":2559},8,null,null,"2.3.3.03.02.104.02","Distintas a membresías",0,18]
[null,null,"D2322099","Gluten de cereales n.c.p.",1,{"$f":"ROW()","v":2560},8,null,null,"2.3.3.03.02.105.01","Membresías",0,18]
[null,null,"D0321902","Goma arábiga",1,{"$f":"ROW()","v":2561},8,null,null,"2.3.3.03.02.105.02","Distintas a membresías",0,18]
[null,null,"D0321901","Goma laca",1,{"$f":"ROW()","v":2562},8,null,null,"2.3.3.03.02.106.01","Membresías",0,18]
[null,null,"D0321903","Goma tragacanto",1,{"$f":"ROW()","v":2563},8,null,null,"2.3.3.03.02.106.02","Distintas a membresías",0,18]
[null,null,"D3479030","Goma xantan o goma xántica",1,{"$f":"ROW()","v":2564},{"$f":"LEN(C2564)","v":8},null,null,"2.3.3.03.02.107.01","Membresías",0,{"$f":"LEN(J2564)","v":18}]
[null,null,"D2367004","Gomas y masmelos",1,{"$f":"ROW()","v":2565},8,null,null,"2.3.3.03.02.107.02","Distintas a membresías",0,18]
[null,null,"D3545004","Gomas, gelatinas y otros preparados químicos similares para la preparación de explosivos",1,{"$f":"ROW()","v":2566},8,null,null,"2.3.3.03.02.108.01","Membresías",0,18]
[null,null,"D3697202","Gorros de baño",1,{"$f":"ROW()","v":2567},8,null,null,"2.3.3.03.02.108.02","Distintas a membresías",0,18]
[null,null,"D4815012","Goteros",1,{"$f":"ROW()","v":2568},8,null,null,"2.3.3.03.02.109.01","Membresías",0,18]
[null,null,"D4732104","Grabadoras de cinta magnetofónica",1,{"$f":"ROW()","v":2569},8,null,null,"2.3.3.03.02.109.02","Distintas a membresías",0,18]
[null,null,"D3795001","Grafito artificial",1,{"$f":"ROW()","v":2570},8,null,null,"2.3.3.03.02.110.01","Membresías",0,18]
[null,null,"D1639907","Grafito natural en bruto",1,{"$f":"ROW()","v":2571},8,null,null,"2.3.3.03.02.110.02","Distintas a membresías",0,18]
[null,null,"D1639106","Grafito natural triturado y/o molido",1,{"$f":"ROW()","v":2572},8,null,null,"2.3.3.03.02.111.01","Membresías",0,18]
[null,null,"D2367008","Grageas de azúcar",1,{"$f":"ROW()","v":2573},8,null,null,"2.3.3.03.02.111.02","Distintas a membresías",0,18]
[null,null,"D4732103","Gramófonos-tocadiscos",1,{"$f":"ROW()","v":2574},8,null,null,"2.3.3.03.02.112.01","Membresías",0,18]
[null,null,"D4474005","Granadas",1,{"$f":"ROW()","v":2575},8,null,null,"2.3.3.03.02.112.02","Distintas a membresías",0,18]
[null,null,"D0131917","Granadilla, pasionaria, percha amarilla",1,{"$f":"ROW()","v":2576},8,null,null,"2.3.3.03.02.113.01","Membresías",0,18]
[null,null,"D4111702","Granalla",1,{"$f":"ROW()","v":2577},8,null,null,"2.3.3.03.02.113.02","Distintas a membresías",0,18]
[null,null,"D1632203","Granate",1,{"$f":"ROW()","v":2578},8,null,null,"2.3.3.03.02.114.01","Membresías",0,18]
[null,null,"D1513002","Granito",1,{"$f":"ROW()","v":2579},8,null,null,"2.3.3.03.02.114.02","Distintas a membresías",0,18]
[null,null,"D3912003","Granza - triturado de arroz",1,{"$f":"ROW()","v":2580},8,null,null,"2.3.3.03.02.115.01","Membresías",0,18]
[null,null,"D3912099","Granza de cereales y/o leguminosas n.c.p.",1,{"$f":"ROW()","v":2581},8,null,null,"2.3.3.03.02.115.02","Distintas a membresías",0,18]
[null,null,"D4299504","Grapas de alambre para engrapadoras de oficina",1,{"$f":"ROW()","v":2582},8,null,null,"2.3.3.03.02.116.01","Membresías",0,18]
[null,null,"D4294499","Grapas metálicas n.c.p.",1,{"$f":"ROW()","v":2583},8,null,null,"2.3.3.03.02.116.02","Distintas a membresías",0,18]
[null,null,"D4294412","Grapas para cercas",1,{"$f":"ROW()","v":2584},8,null,null,"2.3.3.03.02.117.01","Membresías",0,18]
[null,null,"D3699038","Grapas plásticas",1,{"$f":"ROW()","v":2585},8,null,null,"2.3.3.03.02.117.02","Distintas a membresías",0,18]
[null,null,"D2224103","Grasa de mantequilla (butter fat)",1,{"$f":"ROW()","v":2586},8,null,null,"2.3.3.03.02.118.01","Membresías",0,18]
[null,null,"D2152201","Grasa de pollo fundida y refinada",1,{"$f":"ROW()","v":2587},8,null,null,"2.3.3.03.02.118.02","Distintas a membresías",0,18]
[null,null,"D2151103","Grasa de pollo y otras aves de corral, sin fundir",1,{"$f":"ROW()","v":2588},8,null,null,"2.3.3.03.02.119.01","Membresías",0,18]
[null,null,"D2151401","Grasa sin fundir de ovino",1,{"$f":"ROW()","v":2589},8,null,null,"2.3.3.03.02.119.02","Distintas a membresías",0,18]
[null,null,"D2151201","Grasa sin fundir de vacuno",1,{"$f":"ROW()","v":2590},8,null,null,"2.3.3.03.02.120.01","Membresías",0,18]
[null,null,"D2151102","Grasas de cerdo, sin fundir",1,{"$f":"ROW()","v":2591},8,null,null,"2.3.3.03.02.120.02","Distintas a membresías",0,18]
[null,null,"D2169302","Grasas de origen vegetal hidrogenadas",1,{"$f":"ROW()","v":2592},8,null,null,"2.3.3.03.02.121.01","Membresías",0,18]
[null,null,"D3338003","Grasas lubricantes",1,{"$f":"ROW()","v":2593},8,null,null,"2.3.3.03.02.121.02","Distintas a membresías",0,18]
[null,null,"D3338001","Grasas lubricantes en bruto-básicos",1,{"$f":"ROW()","v":2594},8,null,null,"2.3.3.03.02.122.01","Membresías",0,18]
[null,null,"D4394901","Graseras no automáticas, para lubricación",1,{"$f":"ROW()","v":2595},8,null,null,"2.3.3.03.02.122.02","Distintas a membresías",0,18]
[null,null,"D1532005","Gravas (excepto silíceas)",1,{"$f":"ROW()","v":2596},8,null,null,"2.3.3.03.02.123.01","Membresías",0,18]
[null,null,"D1532008","Gravas naturales",1,{"$f":"ROW()","v":2597},8,null,null,"2.3.3.03.02.123.02","Distintas a membresías",0,18]
[null,null,"D1532004","Gravilla",1,{"$f":"ROW()","v":2598},8,null,null,"2.3.3.03.02.124.01","Membresías",0,18]
[null,null,"D4481602","Grecas",1,{"$f":"ROW()","v":2599},8,null,null,"2.3.3.03.02.124.02","Distintas a membresías",0,18]
[null,null,"D4324001","Grifos y llaves plásticas",1,{"$f":"ROW()","v":2600},8,null,null,"2.3.3.03.02.125.01","Membresías",0,18]
[null,null,"D4324004","Grifos-llaves-metálicas",1,{"$f":"ROW()","v":2601},8,null,null,"2.3.3.03.02.125.02","Distintas a membresías",0,18]
[null,null,"D2313002","Grits de arroz",1,{"$f":"ROW()","v":2602},8,null,null,"2.3.3.03.02.126.01","Membresías",0,18]
[null,null,"D2313003","Grits de maíz",1,{"$f":"ROW()","v":2603},8,null,null,"2.3.3.03.02.126.02","Distintas a membresías",0,18]
[null,null,"D4931902","Grúa flotante",1,{"$f":"ROW()","v":2604},8,null,null,"2.3.3.03.02.127.01","Membresías",0,18]
[null,null,"D4352001","Grúas de levantamiento",1,{"$f":"ROW()","v":2605},8,null,null,"2.3.3.03.02.127.02","Distintas a membresías",0,18]
[null,null,"D4292102","Guadañas",1,{"$f":"ROW()","v":2606},8,null,null,"2.3.3.03.02.128.01","Membresías",0,18]
[null,null,"D0131924","Guamo",1,{"$f":"ROW()","v":2607},8,null,null,"2.3.3.03.02.128.02","Distintas a membresías",0,18]
[null,null,"D0131902","Guanábanas",1,{"$f":"ROW()","v":2608},8,null,null,"2.3.3.03.02.129.01","Membresías",0,18]
[null,null,"D2823802","Guantes de algodón",1,{"$f":"ROW()","v":2609},8,null,null,"2.3.3.03.02.129.02","Distintas a membresías",0,18]
[null,null,"D3626001","Guantes de caucho",1,{"$f":"ROW()","v":2610},8,null,null,"2.3.3.03.02.130.01","Membresías",0,18]
[null,null,"D3626004","Guantes de cirugía",1,{"$f":"ROW()","v":2611},8,null,null,"2.3.3.03.02.130.02","Distintas a membresías",0,18]
[null,null,"D2824202","Guantes de cuero",1,{"$f":"ROW()","v":2612},8,null,null,"2.3.3.03.02.131.01","Membresías",0,18]
[null,null,"D2823803","Guantes de fibras artificiales y sintéticas",1,{"$f":"ROW()","v":2613},8,null,null,"2.3.3.03.02.131.02","Distintas a membresías",0,18]
[null,null,"D3899918","Guantes industriales",1,{"$f":"ROW()","v":2614},8,null,null,"2.3.3.03.02.132.01","Membresías",0,18]
[null,null,"D3844001","Guantes para boxeo",1,{"$f":"ROW()","v":2615},8,null,null,"2.3.3.03.02.132.02","Distintas a membresías",0,18]
[null,null,"D3844097","Guantes para deportes n.c.p.",1,{"$f":"ROW()","v":2616},8,null,null,"2.3.3.03.02.133.01","Membresías",0,18]
[null,null,"D2824401","Guantes plásticos desechables",1,{"$f":"ROW()","v":2617},8,null,null,"2.3.3.03.02.133.02","Distintas a membresías",0,18]
[null,null,"D3627015","Guardaescobas de caucho",1,{"$f":"ROW()","v":2618},8,null,null,"2.3.3.03.02.134.01","Membresías",0,18]
[null,null,"D3814013","Guardarropas-clósets",1,{"$f":"ROW()","v":2619},8,null,null,"2.3.3.03.02.134.02","Distintas a membresías",0,18]
[null,null,"D8823301","Guarnecido y punteado de calzado",1,{"$f":"ROW()","v":2620},8,null,null,"2.3.3.03.02.135.01","Membresías",0,18]
[null,null,"D2799103","Guata de algodón",1,{"$f":"ROW()","v":2621},8,null,null,"2.3.3.03.02.135.02","Distintas a membresías",0,18]
[null,null,"D2799104","Guata de fibras artificiales y/o sintéticas",1,{"$f":"ROW()","v":2622},8,null,null,"2.3.3.03.02.136.01","Membresías",0,18]
[null,null,"D2799198","Guata de fibras duras vegetales n.c.p.",1,{"$f":"ROW()","v":2623},8,null,null,"2.3.3.03.02.136.02","Distintas a membresías",0,18]
[null,null,"D2799101","Guata de fique",1,{"$f":"ROW()","v":2624},8,null,null,"2.3.3.03.02.137.01","Membresías",0,18]
[null,null,"D2799102","Guata de yute",1,{"$f":"ROW()","v":2625},8,null,null,"2.3.3.03.02.137.02","Distintas a membresías",0,18]
[null,null,"D3214901","Guatas y napas de celulosa impregnada",1,{"$f":"ROW()","v":2626},8,null,null,"2.3.3.03.02.138.01","Membresías",0,18]
[null,null,"D0129001","Guatila",1,{"$f":"ROW()","v":2627},8,null,null,"2.3.3.03.02.138.02","Distintas a membresías",0,18]
[null,null,"D0131901","Guayabas",1,{"$f":"ROW()","v":2628},{"$f":"LEN(C2628)","v":8},null,null,"2.3.3.03.02.139.01","Membresías",0,{"$f":"LEN(J2628)","v":18}]
[null,null,"D3417002","Guayacol",1,{"$f":"ROW()","v":2629},8,null,null,"2.3.3.03.02.139.02","Distintas a membresías",0,18]
[null,null,"D0429132","Guayaipe y medregal, frescos o refrigerados",1,{"$f":"ROW()","v":2630},8,null,null,"2.3.3.03.02.140.01","Membresías",0,18]
[null,null,"D4294104","Guayas de alambre de hierro o acero",1,{"$f":"ROW()","v":2631},8,null,null,"2.3.3.03.02.140.02","Distintas a membresías",0,18]
[null,null,"D2949001","Guayos de cuero",1,{"$f":"ROW()","v":2632},8,null,null,"2.3.3.03.02.141.01","Membresías",0,18]
[null,null,"D3899103","Guirnaldas, farolillos y artículos de fantasía",1,{"$f":"ROW()","v":2633},8,null,null,"2.3.3.03.02.141.02","Distintas a membresías",0,18]
[null,null,"D3832002","Guitarras",1,{"$f":"ROW()","v":2634},8,null,null,"2.3.3.03.02.142.01","Membresías",0,18]
[null,null,"D0131918","Gulupa",1,{"$f":"ROW()","v":2635},8,null,null,"2.3.3.03.02.142.02","Distintas a membresías",0,18]
[null,null,"D0219902","Gusanos de seda",1,{"$f":"ROW()","v":2636},8,null,null,"2.3.3.03.02.143.01","Membresías",0,18]
[null,null,"D0170201","Habas",1,{"$f":"ROW()","v":2637},8,null,null,"2.3.3.03.02.143.02","Distintas a membresías",0,18]
[null,null,"D0124301","Habas verdes",1,{"$f":"ROW()","v":2638},8,null,null,"2.3.3.03.02.144.01","Membresías",0,18]
[null,null,"D0121901","Habichuelas",1,{"$f":"ROW()","v":2639},8,null,null,"2.3.3.03.02.144.02","Distintas a membresías",0,18]
[null,null,"D2139906","Habichuelas en conserva",1,{"$f":"ROW()","v":2640},8,null,null,"2.3.3.03.02.145.01","Membresías",0,18]
[null,null,"D2823606","Hábitos para religiosas",1,{"$f":"ROW()","v":2641},8,null,null,"2.3.3.03.02.145.02","Distintas a membresías",0,18]
[null,null,"D4292104","Hachas, hachuelas y similares",1,{"$f":"ROW()","v":2642},8,null,null,"2.3.3.03.02.146.01","          Membresías",0,18]
[null,null,"D2719011","Hamacas de tejidos planos de algodón confeccionadas en máquina",1,{"$f":"ROW()","v":2643},8,null,null,"2.3.3.03.02.146.02","          Distintas a membresías",0,18]
[null,null,"D2732002","Hamacas tejidas de algodón anudadas a mano",1,{"$f":"ROW()","v":2644},8,null,null,"2.3.3.03.02.147.01","          Membresías      ",0,18]
[null,null,"D2732006","Hamacas tejidas de fibras artificiales y sintéticas",1,{"$f":"ROW()","v":2645},8,null,null,"2.3.3.03.02.147.02","          Distintas a membresías  ",0,18]
[null,null,"D2732004","Hamacas tejidas de fibras duras vegetales",1,{"$f":"ROW()","v":2646},8,null,null,"2.3.3.03.02.148.01","          Membresías      ",0,18]
[null,null,"D2192003","Harina de achira",1,{"$f":"ROW()","v":2647},8,null,null,"2.3.3.03.02.148.02","          Distintas a membresías  ",0,18]
[null,null,"D2332001","Harina de alfalfa",1,{"$f":"ROW()","v":2648},8,null,null,"2.3.3.03.02.149.01","          Membresías      ",0,18]
[null,null,"D2312003","Harina de arroz",1,{"$f":"ROW()","v":2649},8,null,null,"2.3.3.03.02.149.02","          Distintas a membresías  ",0,18]
[null,null,"D2312004","Harina de avena",1,{"$f":"ROW()","v":2650},8,null,null,"2.3.3.03.02.150.01","          Membresías      ",0,18]
[null,null,"D2125902","Harina de camarón",1,{"$f":"ROW()","v":2651},8,null,null,"2.3.3.03.02.150.02","          Distintas a membresías  ",0,18]
[null,null,"D2119001","Harina de carne",1,{"$f":"ROW()","v":2652},8,null,null,"2.3.3.03.02.151.01","          Membresías      ",0,18]
[null,null,"D2129102","Harina de despojos de pescado",1,{"$f":"ROW()","v":2653},8,null,null,"2.3.3.03.02.151.02","          Distintas a membresías  ",0,18]
[null,null,"D2317004","Harina de frutas",1,{"$f":"ROW()","v":2654},8,null,null,"2.3.3.03.02.152.01","          Membresías      ",0,18]
[null,null,"D3911006","Harina de huesos",1,{"$f":"ROW()","v":2655},8,null,null,"2.3.3.03.02.152.02","          Distintas a membresías  ",0,18]
[null,null,"D2317003","Harina de leguminosas",1,{"$f":"ROW()","v":2656},8,null,null,"2.3.3.03.02.153.01","          Membresías      ",0,18]
[null,null,"D2312001","Harina de maíz",1,{"$f":"ROW()","v":2657},8,null,null,"2.3.3.03.02.153.02","          Distintas a membresías  ",0,18]
[null,null,"D2312002","Harina de maíz precocido",1,{"$f":"ROW()","v":2658},8,null,null,"2.3.3.03.02.154.01","          Membresías      ",0,18]
[null,null,"D2399506","Harina de mostaza",1,{"$f":"ROW()","v":2659},8,null,null,"2.3.3.03.02.154.02","          Distintas a membresías  ",0,18]
[null,null,"D2129101","Harina de ostras",1,{"$f":"ROW()","v":2660},8,null,null,"2.3.3.03.03.01","Membresías",0,14]
[null,null,"D2312099","Harina de otros cereales n.c.p.",1,{"$f":"ROW()","v":2661},8,null,null,"2.3.3.03.03.02","Distintas a membresías",0,14]
[null,null,"D2192002","Harina de palmiste",1,{"$f":"ROW()","v":2662},8,null,null,"2.3.3.04.01.001","Membresías",0,15]
[null,null,"D2192001","Harina de soya",1,{"$f":"ROW()","v":2663},8,null,null,"2.3.3.04.01.002","Distintas a membresías",0,15]
[null,null,"D2317001","Harina de yuca",1,{"$f":"ROW()","v":2664},8,null,null,"2.3.3.04.02.001","Membresías",0,15]
[null,null,"D2123301","Harina o polvo de pescado",1,{"$f":"ROW()","v":2665},8,null,null,"2.3.3.04.02.002","Distintas a membresías",0,15]
[null,null,"D2312005","Harinas de maíz de segunda y de tercera",1,{"$f":"ROW()","v":2666},8,null,null,"2.3.3.04.03.001","Membresías",0,15]
[null,null,"D2119002","Harinas de plumas de aves",1,{"$f":"ROW()","v":2667},8,null,null,"2.3.3.04.03.002","Distintas a membresías",0,15]
[null,null,"D2311002","Harinas de trigo de segunda y de tercera",1,{"$f":"ROW()","v":2668},8,null,null,"2.3.3.04.04.001","Membresías",0,15]
[null,null,"D2311001","Harinas finas de trigo",1,{"$f":"ROW()","v":2669},8,null,null,"2.3.3.04.04.002","Distintas a membresías",0,15]
[null,null,"D2313001","Harinas gruesas de trigo-sémolas y semolinas",1,{"$f":"ROW()","v":2670},8,null,null,"2.3.3.04.05.001","Membresías",0,15]
[null,null,"D2317002","Harinas precocidas",1,{"$f":"ROW()","v":2671},8,null,null,"2.3.3.04.05.002","Distintas a membresías",0,15]
[null,null,"D3899406","Hebillas de material plástico",1,{"$f":"ROW()","v":2672},8,null,null,"2.3.3.04.06.001","Membresías",0,15]
[null,null,"D4299706","Hebillas metálicas",1,{"$f":"ROW()","v":2673},8,null,null,"2.3.3.04.06.002","Distintas a membresías",0,15]
[null,null,"D2227001","Helados de leche",1,{"$f":"ROW()","v":2674},8,null,null,"2.3.3.04.07.001","Membresías",0,15]
[null,null,"D2149909","Helados y paletas a base de frutas",1,{"$f":"ROW()","v":2675},8,null,null,"2.3.3.04.07.002","Distintas a membresías",0,15]
[null,null,"D4964003","Hélices y rotores, y sus partes de globos y dirigibles; de planeadores, de alas volantes, de helicópteros",1,{"$f":"ROW()","v":2676},8,null,null,"2.3.3.04.08.001","Membresías",0,15]
[null,null,"D4962101","Helicópteros",1,{"$f":"ROW()","v":2677},8,null,null,"2.3.3.04.08.002","Distintas a membresías",0,15]
[null,null,"D3527003","Hemoglobina",1,{"$f":"ROW()","v":2678},8,null,null,"2.3.3.04.09.001","Membresías",0,15]
[null,null,"D4299939","Herraduras",1,{"$f":"ROW()","v":2679},8,null,null,"2.3.3.04.09.002","Distintas a membresías",0,15]
[null,null,"D3699014","Herrajes de material plástico",1,{"$f":"ROW()","v":2680},8,null,null,"2.3.3.04.10.001","Membresías",0,15]
[null,null,"D4299216","Herrajes metálicos (manijas) para ventanería (excepto las de vehículos)",1,{"$f":"ROW()","v":2681},8,null,null,"2.3.3.04.10.002","Distintas a membresías",0,15]
[null,null,"D4912924","Herrajes metálicos para tableros de vehículos automotores",1,{"$f":"ROW()","v":2682},8,null,null,"2.3.3.05.01.001","Fondo de Programas Especiales Para la Paz: programa de reintegración social y económica Transferencias realizadas por la agencia para la reincorporación y la normalización - ARN, en virtud de la ley 368 de 1997, las cuáles constituyen un gasto cuyo objeto es la financiación de programas de paz encaminadas a fomentar la reincorporación a la vida civil de grupos alzados en armas, que demuestren su voluntad de incorporarse a la vida civil mediante su desmovilización y la dejación de armas.",0,15]
[null,null,"D4299215","Herrajes para baúles, maletas, carteras, calzado y confecciones",1,{"$f":"ROW()","v":2683},8,null,null,"2.3.3.05.01.002","Transferir a la UPME Ley 143 de 1994 Gastos por concepto de transferencias a la Unidad Administrativa Especial de Planeación Minero-Energética, UPME, en virtud de la Ley 143 de 1994, en la cual se indica que el presupuesto de la UPME hará parte del Presupuesto General de la Nación.",0,15]
[null,null,"D4299505","Herrajes para pastas de argolla y similares",1,{"$f":"ROW()","v":2684},8,null,null,"2.3.3.05.01.003","Comisión de Regulación de Comunicaciones - CRC. Artículo 12 Ley 1507 de 2012 Transferencias a la Comisión de Regulación de Comunicaciones cuyas funciones están estipuladas por el artículo 12 de la Ley 1507 de 2012 y demás afines.",0,15]
[null,null,"D4423201","Herramientas eléctricas de mano, excepto soldadores",1,{"$f":"ROW()","v":2685},8,null,null,"2.3.3.05.01.004","Fondo de Capacitación y Publicaciones Contraloría General de la República - Decreto 267 de 2000 y Ley 1807 de 2016 Transferencias en virtud del Decreto 267 de 2000, por medio del cual se estableció la organización y funcionamiento de la Contraloría General de la República y demás, se estipuló que con cargo anualmente al Presupuesto General de la Nación para la financiación de la ejecución, el Fondo Cuenta de Publicaciones se estableció para la financiación y garantía de las publicaciones e impresos de diversa índole que deba realizar la Contraloría General de la República y de cualquiera de las etapas que al efecto se requiera, desde el proceso de producción hasta la comercialización y distribución.",0,15]
[null,null,"D4292199","Herramientas n.c.p. para carpintería",1,{"$f":"ROW()","v":2686},8,null,null,"2.3.3.05.01.005","Defensoría Pública (Ley 24 de 1992) Transferencias a la Defensoría Pública, cuya organización y funcionamiento se dictan en la Ley 24 de 1992. Esta entidad pública es parte del Ministerio Público, y tiene como función principal la promoción, el ejercicio y la divulgación de los Derechos Humanos.",0,15]
[null,null,"D4292299","Herramientas n.c.p. para construcción",1,{"$f":"ROW()","v":2687},8,null,null,"2.3.3.05.01.006","Fondo para la Defensa de los Derechos e Intereses Colectivos -Ley 472 de 1998. Transferencias en virtud de la Ley 472 de 1998, por la cual se desarrolla el artículo 88 de la Constitución Política de Colombia en relación con el ejercicio de las acciones populares y de grupo y se dictan otras disposiciones; se estableció que uno de los recursos que financian el Fondo para la Defensa de los Derechos e Intereses Colectivos es el Presupuesto General de la Nación.",0,15]
[null,null,"D4292298","Herramientas n.c.p. para mecánica",1,{"$f":"ROW()","v":2688},8,null,null,"2.3.3.05.01.007","Programa de protección a personas que se encuentran en situación de riesgo contra su vida, integridad, seguridad o libertad, por causas relacionadas con la violencia en Colombia Transferencias en virtud de la Ley 418 de 1997, cuyo objetivo es regular las acciones populares y las acciones de grupo contenidas en el artículo 88 de la Constitución Política de Colombia.",0,15]
[null,null,"D4421699","Herramientas n.c.p. para troquelado de metales",1,{"$f":"ROW()","v":2689},8,null,null,"2.3.3.05.01.008","Transferir a la Autoridad Nacional de Licencias Ambientales ANLA. Artículo 96 Ley 633 de 2000 Son las transferencias que realiza el Ministerio de Ambiente y Desarrollo sostenible a la Autoridad Nacional de Licencias Ambientales (ANLA) de los recursos que que obtiene por los servicios de evaluación y del seguimiento de la licencia ambiental, permisos, concesiones, autorizaciones y demás instrumentos de control y manejo ambiental establecidos en la ley y los reglamentos. Estos recursos son utilizados para sufragar los costos de evaluación y seguimiento en que deba incurrir el Ministerio para la prestación de estos servicios. Lo anterior, en virtud del artículo 96 de la Ley 633 de 2000.",0,15]
[null,null,"D3413924","Hexaclorofeno",1,{"$f":"ROW()","v":2690},8,null,null,"2.3.3.05.01.009","Transferir a la Agencia Nacional del Espectro artículo 31 Ley 1341 de 2009 y artículo 6o. del Decreto 4169 de 2011 Transferencias a la Agencia Nacional del Espectro (ANE), la cual fue creada por la Ley 1341 de 2009, como una Unidad Administrativa Especial del orden nacional, adscrita al Ministerio de Tecnologías de la Información y las Comunicaciones, y sus principales funciones giran en torno a brindar el soporte técnico para la gestión y la planeación, la vigilancia y control del espectro radioeléctrico. Teniendo en cuenta lo anterior, se estableció que una de las fuentes de recursos de esta agencia es lo dispuesto para la misma en el Presupuesto General de la Nación.",0,15]
[null,null,"D3415009","Hexametilentetramina (hexamina-urotropina) HMTA uso industrial",1,{"$f":"ROW()","v":2691},8,null,null,"2.3.3.05.01.010","Transferir a la Superintendencia de Industria y Comercio Decretos 1130 y 1620 de 1999 y 2003. Leyes 1341 y 1369 de 2009 Transferencias de recursos financieros requeridos por la Superintendencia de Industria y Comercio para ejercer las funciones de protección de los usuarios de los servicios de comunicaciones, de acuerdo con los Decretos 1130 y 1620 de 1999 y 2003; al igual que las Leyes 1341 y 1369 de 2009.",0,15]
[null,null,"D3411001","Hexano",1,{"$f":"ROW()","v":2692},{"$f":"LEN(C2692)","v":8},null,null,"2.3.3.05.01.011","Programas para la participación ciudadana Transferencias en virtud del artículo 12 del Decreto 2893 de 2011, por el cual se establece que es función del Ministerio del Interior adelantar mediante la coordinación, formulación. Ejecución, seguimiento, y evaluación de las políticas públicas en materia de participación ciudadana.",0,{"$f":"LEN(J2692)","v":15}]
[null,null,"D3413917","Hexilenglicol",1,{"$f":"ROW()","v":2693},8,null,null,"2.3.3.05.01.012","Adjudicación y liberación judicial Transferencias en virtud de la Ley 75 de 1968, mediante la cual el Instituto Colombiano de Bienestar Familiar financia las actividades en cuanto a la adjudicación de bienes producto de las denuncias de bienes vacantes, mostrencos y vocaciones hereditarias y las demás modalidades de ingreso de bienes al ICBF. De igual forma, garantiza la eficaz administración, legalización y saneamiento de la información de los bienes muebles e inmuebles que ingresan o están en proceso de titulación a nombre del ICBF.",0,15]
[null,null,"D4324011","Hidrantes",1,{"$f":"ROW()","v":2694},8,null,null,"2.3.3.05.01.013","Atención rehabilitación al recluso Transferencias realizadas al Instituto Nacional Penitenciario y Carcelario (INPEC) con el fin de atender las condiciones mínimas de los reclusos en Colombia, tales como elementos de aseo por ejemplo, y los esfuerzos tendientes a generar procesos de rehabilitación para los mismos. Lo anterior, en virtud de las Leyes 65 de 1993, 599 de 2000, 55 de 1985, y 1709 de 2014.",0,15]
[null,null,"D3525058","Hidrastina",1,{"$f":"ROW()","v":2695},8,null,null,"2.3.3.05.01.014","Implementación y desarrollo del sistema integral de tratamiento progresivo penitenciario Gastos por concepto de la implementación y el desarrollo del Sistema Integral de Tratamiento Progresivo Penitenciario, el cual busca atender con un enfoque diferencial por grupos a las personas quienes se encuentran recluidas con base en los principios de la prevención, la atención integral (asistencia social, en violencia, convivencia, etc.), entre otros. Lo anterior en virtud de las leyes 65 de 1993 y 1709 de 2014",0,15]
[null,null,"D3423128","Hidrato de hidrazina (levoxin)",1,{"$f":"ROW()","v":2696},8,null,null,"2.3.3.05.01.015","Servicio postpenitenciario Ley 65/93 Transferencias en virtud de la Ley 65 de 1993, Código Penitenciario y Carcelario, en el cual se estipuló como uno de los requisitos previos a la excarcelación la vinculación del futuro ex-reo al programa de servicio postpenitenciario (artículo 71), el cual se define como función del Instituto Nacional Penitenciario y Carcelario, y buscará la integración del liberado a la familia y a la sociedad.",0,15]
[null,null,"D3545006","Hidrogeles explosivos",1,{"$f":"ROW()","v":2697},8,null,null,"2.3.3.05.01.016","Fondo de Fomento Agropecuario Decreto Ley 1279 de 1994 Gastos de conformidad con la Ley 1279 de 1994, la cual creó el Fondo de Fomento Agropecuario con una cuenta separada, incluida en el presupuesto del Ministerio de Agricultura y Desarrollo Rural y manejado por la Dirección General de Control Presupuestal y Seguimiento. El objeto de este Fondo es impulsar las actividades que contribuyan al fomento del desarrollo del sector agropecuario y pesquero, y que hayan recibido concepto favorable del Comité de Gabinete del Ministro.",0,15]
[null,null,"D3421001","Hidrógeno",1,{"$f":"ROW()","v":2698},8,null,null,"2.3.3.05.01.017","Fondo de Compensación Ambiental distribución comité fondo-Ministerio del Medio Ambiente artículo 24 Ley 344 de 1996. Gastos de conformidad con la Ley 344 de 1996, en virtud de la cual se creó el Fondo de Compensación Ambiental como una cuenta de la Nación, cuyos recursos deben ser distribuidos por el Ministerio de Ambiente y son iguales al 20% de los recursos percibidos por las Corporaciones Autónomas Regionales, con las excepciones estipuladas en el artículo 24 de la mencionada Ley.",0,15]
[null,null,"D4444008","Hidrolavadoras",1,{"$f":"ROW()","v":2699},8,null,null,"2.3.3.05.01.018","Transferencias para el programa de desmovilización Transferencias al Programa de Desmovilización, en virtud de los Decretos 128 de 2003 y 395 de 2007, el cual está orientado a la promoción de la desmovilización individual y reincorporación a la vida civil de los miembros de los grupos armados al margen de la ley, apoyo que se extiende al grupo familiar de cada desmovilizado. Desde el momento en que la persona se presenta a las autoridades, se debe prestar atención al desmovilizado y a su grupo familiar, cubriéndole en todo caso sus necesidades básicas como alojamiento, alimentación, vestuario, transporte, atención en salud, atención integral, recreación y deporte.",0,15]
[null,null,"D3413923","Hidroquinona",1,{"$f":"ROW()","v":2700},8,null,null,"2.3.3.05.01.019","Transferencia al Hospital Militar Central Transferencias en virtud de la Ley 352 de 1997, mediante la cual se estableció que uno de los recursos que financia las actividades del Hospital Militar Central son los cargos que a su favor se generen en el Presupuesto General de la Nación con el objetivo de llevar a cabo el servicio de salud, trauma de guerra y patologías en alta complejidad con estándares superiores de calidad.",0,15]
[null,null,"D3424036","Hidrosulfato de sodio",1,{"$f":"ROW()","v":2701},8,null,null,"2.3.3.05.01.020","Fondo de Compensación Interministerial Conforme a la Ley 718 de 2001 el fondo cuenta con recursos de los ingresos corrientes de la Nación y cuya apropiación inicial se incorporará en el PGN.",0,15]
[null,null,"D3424037","Hidrosulfito de sodio",1,{"$f":"ROW()","v":2702},8,null,null,"2.3.3.05.01.021","Gastos inherentes a la intervención administrativa parágrafo 3, art. 10, Decreto 4334 de 2008, art. 1 Decreto 1761 de 2009 Transferencias conforme al Decreto 4334 de 2008, parágrafo 3, por medio del cual la Superintendencia de Sociedades puede solicitar la devolución de los recursos relacionados con los honorarios del Agente Interventor, y los gastos propios de la intervención, con cargo a los recursos que el Ministerio de Hacienda y Crédito Público debe transferir con este propósito durante el término de la intervención.",0,15]
[null,null,"D3424035","Hidrosulfuro de sodio",1,{"$f":"ROW()","v":2703},8,null,null,"2.3.3.05.01.022","Fondo para la Lucha Contra las Drogas Transferencias en virtud del Decreto Ley 200 de 2003, por el cual se determinan los objetivos y la estructura orgánica del Ministerio del Interior y de Justicia, y se dictan otras disposiciones, según el cual, artículo 29, \"el Fondo tiene por objeto exclusivo promover y financiar los planes y programas que se adelanten en materia de fortalecimiento y promoción del Sistema de Justicia y la Lucha Antidrogas, a través de diferentes organismos del Estado.\"",0,15]
[null,null,"D3423124","Hidróxido de aluminio",1,{"$f":"ROW()","v":2704},8,null,null,"2.3.3.05.01.023","Decisiones judiciales en contra de la Nación en la liquidación de entidades públicas del orden nacional",0,15]
[null,null,"D3465201","Hidróxido de amonio-solución de amonio-agua amoniacal",1,{"$f":"ROW()","v":2705},8,null,null,"2.3.3.05.01.024","Convenio Policía Nacional - División carreteras Transferencias a la Policía Nacional - División Carreteras, en virtud de la Ley 105 de 1993, capítulo II, artículo 2, en la cual se establece como principio fundamental la seguridad de la población y el transporte en las carreteras.",0,15]
[null,null,"D3422011","Hidróxido de calcio",1,{"$f":"ROW()","v":2706},8,null,null,"2.3.3.05.01.025","Apoyo Comité Interinstitucional de Alertas Tempranas CIAT Sentencia T-025 de 2004. Gastos para apoyar la financiación de los Comités Interinstitucionales de Alerta Temprana, los cuales fueron ordenados por la Corte Constitucional en su sentencia T-025 de 2004. Así, mientras persista la situación de emergencia se auspiciará la creación y permanencia de equipos interinstitucionales conformados por entidades estatales y gubernamentales del orden nacional, departamental y municipal, para la protección del desplazado y sus bienes patrimoniales.",0,15]
[null,null,"D3422005","Hidróxido de colbato",1,{"$f":"ROW()","v":2707},8,null,null,"2.3.3.05.01.026","Fondo Nacional de Seguridad y Convivencia Ciudadana -FONSECON Transferencias al Fondo Nacional de Seguridad y Convivencia Ciudadana, Fonsecon, el cual es una cuenta especial sin personería jurídica, administrado por el Ministerio del Interior (antes Ministerio del Interior y de Justicia), creado mediante la Ley 418 de Diciembre de 1997, modificado por el artículo 7 de la ley 1421 de 2010 y los artículos 1 y 2 del Decreto 399 de 2011, con recursos Ley 1106 de 2006. Su objeto es la financiación de proyectos y actividades orientadas a la preservación y conservación del orden público, para propiciar la seguridad y convivencia ciudadana.",0,15]
[null,null,"D3423125","Hidróxido de magnesio",1,{"$f":"ROW()","v":2708},8,null,null,"2.3.3.05.01.027","Fondo Nacional para la Lucha Contra la Trata de Personas. Ley 985 de 2005 y Decreto 4319 de 2006 Transferencias al Fondo Nacional para la Lucha contra la Trata de Personas, en virtud de la Ley 985 de 2005 y el Decreto 4319 de 2006, por medio de los cuales se establece que una de las fuentes específicas de dicha cuenta especial son las partidas que se le asignen en el Presupuesto General de la Nación. Este fondo tiene por objeto atender los gastos tendientes a propiciar la prevención, protección y asistencia de las víctimas y posibles víctimas de la trata de personas, el fortalecimiento de la investigación judicial y la acción policiva y el fortalecimiento de la cooperación internacional.",0,15]
[null,null,"D3423123","Hidróxido de potasio (potasa cáustica)",1,{"$f":"ROW()","v":2709},8,null,null,"2.3.3.05.01.028","Fortalecimiento a la consulta previa. Convenio 169 OIT, Ley 21 de 1991, Ley 70 de 1993 Transferencias conforme a las leyes 21 de 1991 y 70 de 1993, estos recursos son destinados a financiar los procesos concernientes con el mecanismo de consulta previa para poblaciones como indígenas, comunidades negras, tribales, etc. Lo anterior con el ánimo de hacer partícipes a estas poblaciones de medidas legislativas o administrativas susceptibles de afectarles directamente, tal como lo advierte el Convenio 169 de la OIT",0,15]
[null,null,"D3423122","Hidróxido de sodio (soda, sosa, cáustica, lejía sódica)",1,{"$f":"ROW()","v":2710},8,null,null,"2.3.3.05.01.029","Fortalecimiento a la gestión territorial y buen gobierno local Transferencias en virtud del Decreto 2893 de 2011, por el cual se modifican los objetivos, la estructura orgánica y funciones del Ministerio del Interior y se integra el Sector Administrativo del Interior. Las funciones del Ministerio se establecen en el artículo 18 del decreto mencionado anteriormente.",0,15]
[null,null,"D3522011","Hidróxido de xilocaína",1,{"$f":"ROW()","v":2711},8,null,null,"2.3.3.05.01.030","Implementación Ley 985/05 sobre trata de personas Transferencias realizadas por el Ministerio de Interior referentes a las obligaciones generadas por la implementación de la Ley 985 de 2005, en la cual se creó la Estrategia Nacional contra la Trata de Personas.",0,15]
[null,null,"D3416021","Hidroxiquinoleína",1,{"$f":"ROW()","v":2712},8,null,null,"2.3.3.05.01.031","Programa actualización de líderes sindicales Gastos por concepto del programa de actualización de líderes sindicales en cumplimiento con la constitución política y la Ley 278 de 1996, el cual busca ayudar a los sindicalizados en temas específicos por medio del fortalecimiento de las competencias y habilidades de estos en contextos nacional o internacional. Asimismo, este incluye la actualización del censo sindical.",0,15]
[null,null,"D2441002","Hielo",1,{"$f":"ROW()","v":2713},8,null,null,"2.3.3.05.01.032","Educación de niñas y niños en situaciones especiales Transferencias realizadas por el Ministerio de Educación Nacional en virtud de la Constitución Política de Colombia, artículo 67, desarrollado por la Ley 115 de 1994 (Ley General de Educación) en la que se define y desarrolla la organización y la prestación de la educación formal en sus niveles preescolar, básica (primaria y secundaria) y media, no formal e informal, dirigida a niños y jóvenes en edad escolar, a adultos, a campesinos, a grupos étnicos, a personas con limitaciones físicas, sensoriales y psíquicas, con capacidades excepcionales, y a personas que requieran rehabilitación social.",0,15]
[null,null,"D3421006","Hielo seco-bióxido de carbono solidificado",1,{"$f":"ROW()","v":2714},8,null,null,"2.3.3.05.01.033","Mejoramiento de la enseñanza de las lenguas extranjeras en educación básica Corresponde a los gastos asociados a los programas de mejoramiento de la enseñanza de las lenguas extranjeras en los estudiantes que se encuentren en educación básica, en este sentido, por este rubro se entienden las erogaciones por concepto de los convenios que se presenten con el sector privado para este fin.",0,15]
[null,null,"D0193002","Hierbas medicinales",1,{"$f":"ROW()","v":2715},8,null,null,"2.3.3.05.01.034","Fondo de programas especiales para la paz : Programa desmovilizados",0,15]
[null,null,"D4219006","Hierro armado para construcción de estructuras",1,{"$f":"ROW()","v":2716},8,null,null,"2.3.3.05.01.035","Plan de promoción de Colombia en el exterior Transnferencias realizadas por la Presidencia de la Reública y el Ministerio de Relaciones exteriores por concepto del plan de promoción de Colombia en el Exterior, el cual se fundamenta en el entendimiento de la cultura como la herramienta de promoción de la política exterior. Así, se consolida la diplomacia cultural con el fin de lograr el posicionamiento de Colombia en el mundo, por medio del fortalecimiento de las relaciones internacionales del país, el mejoramiento de la percepción de este favoreciendo el papel de la cultura.",0,15]
[null,null,"D4111601","Hierro esponja",1,{"$f":"ROW()","v":2717},8,null,null,"2.3.3.05.01.036","Fondo de Protección de Justicia. Decreto 1890/99 y Decreto 200/03 Corresponde a los recursos destinados para el Fondo de Protección de Justicia cuyo objetivo es el financiamiento de la protección de funcionarios y exfuncionarios expuestos a niveles de riesgo por razón del ejercicio de funciones públicas, en especial de aquellos pertenecientes a la Justicia Especializada, los encargados de la investigación y juzgamiento de graves violaciones de los derechos humanos, y de altos funcionarios de la Rama Judicial y Ejecutiva, y del Ministerio Público.",0,15]
[null,null,"D4126104","Hierro figurado para la construcción",1,{"$f":"ROW()","v":2718},8,null,null,"2.3.3.05.01.037","Fondo para los Notarios de Insuficientes Ingresos. Decreto 1672 de 1997 En virtud del Decreto 1672 de 1997, los recursos que eran destinados para mejorar las condiciones económicas de los Notarios de insuficientes ingresos previo a la entrada en vigencia de la mencionada ley serán administrados por medio del Fondo para los Notarios de Insuficientes Ingresos el cual será administrado por la Superintendencia de Notariado y Registro, y tendrá como objetivo el mismo que tenían antes los recursos destinados con el fin mencionado.",0,15]
[null,null,"D0131501","Higos frescos",1,{"$f":"ROW()","v":2719},8,null,null,"2.3.3.05.01.038","Fondo Empresarial - Ley 812 de 2003 Gastos de conformidad con la Ley 812 de 2003, en la cual se creó el Fondo Empresarial por la Superintendencia de Servicios Públicos, como patrimonio autónomo administrado por el Fondo Energético Nacional (hoy Financiera de Desarrollo Nacional) con el propósito de apoyar, de conformidad con sus disponibilidades, a las empresas que contribuyen al Fondo, en los procesos de liquidación ordenados por la Superintendencia de Servicios Públicos Domiciliarios.",0,15]
[null,null,"D2367014","Higos rellenos",1,{"$f":"ROW()","v":2720},8,null,null,"2.3.3.05.01.039","Deportación a extranjeros Transferencias realizadas por la Unidad Administrativa Especial Migración Colombia por concepto de procesos de deportación, el cual se entiende como la sanción oficial del país que consiste en enviar al infractor a su país de origen o de procedencia, impidiéndole su regreso por un término determinado, por haber incurrido en alguna falta en contra de la Ley migratoria.",0,15]
[null,null,"D2141904","Higos secos",1,{"$f":"ROW()","v":2721},8,null,null,"2.3.3.05.01.040","Fondo para la Reparación de las Victimas (Art. 54 Ley 975 de 2005) Transferencias en virtud de la Ley 975 de 2005, artículo 54, en la cual se creó el Fondo para la Reparación de las Víctimas. Los recursos de este fondo se ejecutarán de acuerdo con las reglas del derecho privado. Además, se estableció que el Fondo se financia, entre otros, por recursos provenientes del Presupuesto General de la Nación. Asimismo, los recursos administrados por este Fondo estarán bajo la vigilancia de la Contraloría General de la República.",0,15]
[null,null,"D4825103","Higrómetros",1,{"$f":"ROW()","v":2722},8,null,null,"2.3.3.05.01.041","Préstamos directos (Ley 106/93) Gastos por concepto de préstamos a los empleados por parte del Fondo de Bienestar de la Contraloría General de la República, en virtud de la Ley 106 de 1993, por medio de la cual se estipula la organización y el funcionamiento de la Contraloría General de la República, se organiza el Fondo de Bienestar Social, y demás.",0,15]
[null,null,"D2637005","Hilados crudos de algodón, con un contenido de algodón inferior al 85% en peso",1,{"$f":"ROW()","v":2723},8,null,null,"2.3.3.05.01.042","Fondo Especial. Comisión Nacional de Búsqueda (Art. 18 Ley 971 de 2005) Transferencias en virtud de la Ley 971 de 2005, se creó el Fondo cuenta para el Funcionamiento de la Comisión Nacional de Búsqueda, el cual se configura dentro de la Defensoría del Pueblo, como un sistema separado de cuentas, para el manejo de los recursos provenientes de las donaciones, aportes y recursos que destinen las organizaciones y entidades privadas y públicas, nacionales y extranjeras.",0,15]
[null,null,"D2636003","Hilados crudos de algodón, con un contenido de algodón superior o igual al 85% en peso",1,{"$f":"ROW()","v":2724},8,null,null,"2.3.3.05.01.043","Fondo de Contingencias de las Entidades Estatales Transferencias en virtud de la Ley 1687 de 2013, artículo 80, en el cual se estableció que para la elaboración del presupuesto de la vigencia fiscal de 2015 las entidades que constituyan una sección del Presupuesto General de la Nación, deberán trasladar al Fondo de Contingencias de las Entidades Estatales, un porcentaje no menor al 20% del promedio de los tres (3) últimos años del monto ejecutado por Sentencias y Conciliaciones; y deberán hacerlo hasta completar el 120% del promedio de los tres (3) últimos años.",0,15]
[null,null,"D2637004","Hilados de algodón cardado, con un contenido de algodón inferior al 85% en peso",1,{"$f":"ROW()","v":2725},8,null,null,"2.3.3.05.01.044","Fondo para la Rehabilitación, Inversión Social y Lucha Contra el Crimen Organizado Transferencias conforme al Art 80 de la ley 1453 de 2011, en la cual se define al Fondo como una cuenta especial sin personería jurídica, cuyos recursos tienen señalada una destinación específica y cuya administración corresponde a la Dirección Nacional de Estupefacientes.",0,15]
[null,null,"D2636002","Hilados de algodón cardado, con un contenido de algodón superior o igual al 85% en peso",1,{"$f":"ROW()","v":2726},8,null,null,"2.3.3.05.01.045","Provisión para el proceso electoral Transferencias en virtud del artículo 109 de la Constitución Política, modificado por el Acto Legislativo 1 de 2003, el cual establece que el Estado concurrirá a la financiación de los partidos y movimientos políticos con personería jurídica, de conformidad con la ley. En suma, las campañas que adelanten los partidos y movimientos con personería jurídica y los grupos significativos de ciudadanos que postulen candidatos serán financiadas con recursos estatales mediante el sistema de reposición por votos depositados.",0,15]
[null,null,"D2637002","Hilados de algodón mezclados con fibras textiles, con un contenido de algodón inferior al 85% en peso",1,{"$f":"ROW()","v":2727},8,null,null,"2.3.3.05.01.046","Apoyo a las disposiciones para garantizar el pleno ejercicio de los derechos de las personas con discapacidad. Ley 1618 de 2013 Transferencias conforme a la Ley 1618 de 2013 (Art 30) con el objetivo de garantizar y asegurar el ejercicio efectivo de los derechos de las personas con discapacidad, mediante la adopción de medidas de inclusión, acción afirmativa y de ajustes razonables y eliminando toda forma de discriminación por razón de discapacidad.",0,15]
[null,null,"D2637001","Hilados de algodón mezclados, con un contenido de algodón inferior al 85% en peso",1,{"$f":"ROW()","v":2728},8,null,null,"2.3.3.05.01.047","Congreso de Medicina Legal y Ciencias Forenses",0,15]
[null,null,"D2637003","Hilados de algodón peinado, con un contenido de algodón inferior al 85% en peso",1,{"$f":"ROW()","v":2729},8,null,null,"2.3.3.05.01.048","Desarrollo de funciones de apoyo al sector agropecuario en ciencia, tecnología e innovación a cargo de CORPOICA a nivel nacional. Ley 1731 de 2014 Transferencias realizadas en virtud de la Ley 1731 de 2014, en la cual se indica que el Gobierno Nacional transferirá anualmente recursos del Presupuesto General de la Nación a la Corporación Colombiana de Investigación Agropecuaria (CORPOICA), para el desarrollo de sus funciones de apoyo al sector agropecuario en ciencia, tecnología e innovación.",0,15]
[null,null,"D2636001","Hilados de algodón peinado, con un contenido de algodón superior o igual al 85% en peso",1,{"$f":"ROW()","v":2730},8,null,null,"2.3.3.05.01.049","Comisión de búsqueda de personas desaparecidas Ley 589 de 2000 Transferencias en virtud de la Ley 589 de 2000, artículo 8, por medio de la cual se creó la Comisión Nacional y Permanente de Búsqueda de Personas Desaparecidas con el fin de apoyar y promover la investigación del delito de desaparición forzada, con pleno respeto de las competencias institucionales y de las facultades de los sujetos procesales. Así, las transferencias de este rubro corresponden a los recursos para el funcionamiento de esta.",0,15]
[null,null,"D2637006","Hilados de algodón revestidos, con un contenido de algodón inferior al 85% en peso",1,{"$f":"ROW()","v":2731},8,null,null,"2.3.3.05.01.050","Gastos de administración de pensiones, nómina, archivo y otras actividades inherentes Decreto 4986 de 2007, Decreto 2721 de 2008 y Decreto 2601 de 2009 Transferencias conforme a los Decretos 4989 de 2007; 2721 de 2008 y 2601 de 2009, asignadas con el ánimo de cumplir con las obligaciones por gastos de administración de pensiones, nómina, archivo y otras actividades inherentes en relación con el pasivo pensional de las entidades: Instituto Colombiano de la Reforma Agraria, Incora en Liquidación; Caja de Crédito Agrario Industrial y Minero (Caja Agraria en liquidación); y Alcalis de Colombia.",0,15]
[null,null,"D2636004","Hilados de algodón revestidos, con un contenido de algodón superior o igual al 85% en peso",1,{"$f":"ROW()","v":2732},8,null,null,"2.3.3.05.01.051","Recursos para la Corporación Autónoma Regional del Rio Grande de la Magdalena. Artículo 17 Ley 161 de 1994 Transferencias para garantizar el funcionamiento de la Corporación Autónoma Regional del Rio Grande de la Magdalena conforme al Art. 17 de la Ley 161 de 1997. La Corte Constitucional ha señalado que la naturaleza jurídica de la CAR hace que no sea del sector central, ni sector desentralizado por servicios ni una entidad territorial. Son entidades administrativas del orden nacional. Adicionalmnete, En la definición de la naturaleza jurídica de la CAR del rio grande de la Magdalena, se afirma que esta funciona como EICE sometida a las reglas de las sociedades anónimas, de conformidad con el artículo 1 de la Ley 161 de 1994. Por tal razón, el tratamiento de esta CAR en este concepto es el de una empresa pública no financiera.",0,15]
[null,null,"D3792001","Hilados de asbesto",1,{"$f":"ROW()","v":2733},8,null,null,"2.3.3.05.01.052","Aportes Nación Corresponde a los recursos del Presupuesto de la Nación que el gobierno transfiere a las entidades descentralizadas del orden nacional con el objeto de contribuir a la atención de sus compromisos y al cumplimiento de sus funciones (Ministerio de Hacienda y Crédito Público, 2011).",0,15]
[null,null,"D2799202","Hilados de caucho revestido",1,{"$f":"ROW()","v":2734},8,null,null,"2.3.3.05.01.053","Atención de procesos judiciales y reclamaciones administrativas del extinto DAS o su fondo rotatorio. Art. 238 Ley 1753 de 2015 - PND Transferencias realizadas conforme al Art. 238 de la Ley 1753 de 2015 en la que se autoriza la creación de un patrimonio autónomo administrado por la Fiduciaria La Previsora S.A con quien el Ministerio de Hacienda y Crédito Público suscribirá el contrato de fiducia mercantil respectivo, para la atención de los procesos judiciales, reclamaciones administrativas, laborales o contractuales en los cuales sea parte o destinatario el extinto Departamento Administrativo de Seguridad (DAS) o su Fondo Rotatorio, y que no guarden relación con funciones trasladadas a entidades receptoras de acuerdo con la naturaleza, objeto o sujeto procesal, o que por cualquier razón carezcan de autoridad administrativa responsable para su atención.",0,15]
[null,null,"D2799501","Hilados de chenilla",1,{"$f":"ROW()","v":2735},8,null,null,"2.3.3.05.01.054","Pagos beneficiarios Fundación San Juan de Dios derivados del fallo SU-484 2008 Corte Constitucional Transferencias en virtud de la sentencia de unificación, SU-484 de 2008, proferida por la Corte Constitucional, en la cual obligó a la Nación (además de a Bogotá Distrito Capital y a la Beneficencia de Cundinamarca solidariamente con el Departamento de Cundinamarca ) a reparar a los trabajadores vinculados con la Fundación San Juan de Dios, compuesta por Hospital San Juan de Dios e Instituto Materno Infantil por la violación a los derechos fundamentales al trabajo, al mínimo vital, a la vida y a la seguridad social. Esta transferencia está destinada al pago de las obligaciones generadas a partir de dicha sentencia.",0,15]
[null,null,"D3712103","Hilados de fibra de vidrio",1,{"$f":"ROW()","v":2736},8,null,null,"2.3.3.05.01.055","Transferencias para la estrategia de interacción y dialogo permanente entre las autoridades de orden territorial, gobierno nacional y los ciudadanos",0,15]
[null,null,"D2645003","Hilados de fibras artificiales discontinuas con algodón, con un contenido de tales fibras igual o superior al 85% en peso, no acondicionados para la venta al por menor",1,{"$f":"ROW()","v":2737},8,null,null,"2.3.3.05.01.056","Defensa de los intereses del Estado en controversias internacionales",0,15]
[null,null,"D2646202","Hilados de fibras artificiales discontinuas con algodón, con un contenido de tales fibras inferior al 85% en peso, acondicionados para la venta al por menor",1,{"$f":"ROW()","v":2738},8,null,null,"2.3.3.05.01.057","Fondo para la Modernización, Descongestión y Bienestar de la Administración de Justicia",0,15]
[null,null,"D2646102","Hilados de fibras artificiales discontinuas con algodón, con un contenido de tales fibras inferior al 85% en peso, no acondicionados para la venta al por menor",1,{"$f":"ROW()","v":2739},8,null,null,"2.3.3.05.01.058","Transferencia para entidades en proceso de liquidación",0,15]
[null,null,"D2646201","Hilados de fibras artificiales discontinuas con lana con un contenido de tales fibras inferior al 85% en peso, acondicionados para la venta al por menor",1,{"$f":"ROW()","v":2740},8,null,null,"2.3.3.05.01.059","Fondo de la Dirección de Consulta Previa. Art. 161 Ley 1955 de 2019",0,15]
[null,null,"D2646101","Hilados de fibras artificiales discontinuas con lana con un contenido de tales fibras inferior al 85% en peso, no acondicionados para la venta al por menor",1,{"$f":"ROW()","v":2741},8,null,null,"2.3.3.05.01.060","Fondo de Mitigación de Emergencias - FOME Trasferencias al Fondo de Mitigación de Emergencias -FOME, como un fondo cuenta sin personería jurídica del Ministerio de Hacienda y Crédito Público.",0,15]
[null,null,"D2645002","Hilados de fibras artificiales discontinuas con lana, con un contenido de tales fibras igual o superior al 85% en peso, no acondicionados para la venta al por menor",1,{"$f":"ROW()","v":2742},8,null,null,"2.3.3.05.01.061","Administración, funcionamiento e infraestructura del Registro Nacional de Medidas Correctivas Corresponde a la transferencia del 15% del recaudo proveniente de las multas del Código Nacional de Policía y Convivencia, con destino a la Policía Nacional para el funcionamiento e infraestructura del Registro Nacional de Medidas Correctivas, como elemento necesario para garantizar la prevención a través del recaudo y almacenamiento de información detallada, georreferenciada y en tiempo real del estado de las multas en todo el territorio nacional, lo cual constituye un instrumento imprescindible para el cumplimiento de su función legal",0,15]
[null,null,"D2646299","Hilados de fibras artificiales discontinuas mezcladas n.c.p., con un contenido de tales fibras inferior al 85% en peso, acondicionados para la venta al por menor",1,{"$f":"ROW()","v":2743},8,null,null,"2.3.3.05.01.062","Traslado de dividendos a órganos del PGN y la Nación Trasferencia en virtud de los beneficios generados por una empresa, a favor de entidades del PGN.",0,15]
[null,null,"D2646199","Hilados de fibras artificiales discontinuas mezcladas n.c.p., con un contenido de tales fibras inferior al 85% en peso, no acondicionados para la venta al por menor",1,{"$f":"ROW()","v":2744},8,null,null,"2.3.3.05.01.063","Transferencia a la Policía Nacional por Multas Código Nacional de Seguridad y Convivencia Corresponde a la transferencia del 40% del recaudo por concepto de multas de que trata el artículo 2.2.8.4.1.del Decreto 1284 de 2017 a la Policía Nacional para la materialización de las medidas correctivas impuestas por las autoridades de Policía.",0,15]
[null,null,"D2645001","Hilados de fibras artificiales discontinuas, con un contenido de tales fibras igual o superior al 85% en peso",1,{"$f":"ROW()","v":2745},8,null,null,"2.3.3.05.01.064","Devolución de aportes a la Nación Constituye aquellas erogaciones que realizan las EICES y otras entidades públicas, cuando se ordena o solicita la devolución de aportes que ha realizado la nación.",0,15]
[null,null,"D2643003","Hilados de fibras sintéticas discontinuas con algodón, con un contenido de tales fibras igual o superior al 85% en peso",1,{"$f":"ROW()","v":2746},8,null,null,"2.3.3.05.01.065","Transferencia de regalías a la Agencia Nacional de Minería - Ley 756 de 2002 Transferencia que realiza GECELCA a la Agencia Nacional de minería, en virtud de la explotación de carbón de la mina las palmeras se hace necesario el pago de regalías y contraprestación adicional en marco de la Ley 756 de 2002",0,15]
[null,null,"D2644002","Hilados de fibras sintéticas discontinuas con algodón, con un contenido de tales fibras inferior al 85% en peso",1,{"$f":"ROW()","v":2747},8,null,null,"2.3.3.05.01.066","Transferencia de ventas brutas a Corporaciones Autónomas Regionales y Parques Nacionales Naturales – Ley 1930 2018 art. 24 Transferencia del 3% de las ventas brutas a las corporaciones autónomas regionales y parques nacionales naturales de las empresas del sector eléctrico cuya potencia nominal instalada total supere los 10.000 kilovatios",0,15]
[null,null,"D2643002","Hilados de fibras sintéticas discontinuas con lana, con un contenido de tales fibras igual o superior al 85% en peso",1,{"$f":"ROW()","v":2748},8,null,null,"2.3.3.05.01.067","Servicio de policía en modalidad de vigilancia Corresponde a la transferencia del 15% a favor de la Policia Nacional. Dentro del 60 % de los recursos recaudados por concepto de multas del codigo nacional de seguridad y convivencia ciudadana, con destino al servicio de policia en la modalidad de vigilancia.",0,15]
[null,null,"D2644001","Hilados de fibras sintéticas discontinuas con lana, con un contenido de tales fibras inferior al 85% en peso",1,{"$f":"ROW()","v":2749},8,null,null,"2.3.3.05.01.068","Administración, funcionamiento e infraestructura del Sistema Único de información de recaudo, registro y transacción de multas del Código Nacional de Seguridad y Convivencia Ciudadana Corresponde a la transferencia que realizan las administraciones distritales y/o municipales a favor del Ministerio del Interior del quince por ciento (15%) del recaudo por concepto de multas del Código Nacional de Seguridad y Convivencia Ciudadana, destinado a la administración, funcionamiento e infraestructura del Sistema Único de información para articular el recaudo, registro y transacción a nivel nacional por concepto de pago de multas impuesta por los inspectores de policía.",0,15]
[null,null,"D2643004","Hilados de fibras sintéticas discontinuas con lino, con un contenido de tales fibras igual o superior al 85% en peso",1,{"$f":"ROW()","v":2750},8,null,null,"2.3.3.05.01.069","Computadores para Educar - CPE (art. 39 Ley 1341 de 2009) Comprende la transferencia que el Fondo Único de Tecnologías de la Información y las Comunicaciones realiza a favor de la Asociación Computadores para Educar, con el fin de contribuir al mejoramiento de la calidad educativa, mediante la financiación de proyectos que promuevan el acceso, uso y apropiación de las tecnologías de la información y las comunicaciones, en virtud del artículo 39 de la Ley 1341 de 2009 modificado por el artículo 25 de la ley 1978 de 2019.",0,15]
[null,null,"D2644003","Hilados de fibras sintéticas discontinuas con lino, con un contenido de tales fibras inferior al 85% en peso",1,{"$f":"ROW()","v":2751},8,null,null,"2.3.3.05.01.999","Otras transferencias - Distribución previo concepto DGPPN Constituye una cuenta transitoria dado que al momento de la programación no se conoce el detalle de su objeto de gasto, y para su ejecución requiere del aval del Departamento Nacional de Planeación – DNP o del Ministerio de Hacienda y Crédito Público – MHCP bien sea para ejecutar gastos de inversión o de funcionamiento respectivamente.",0,15]
[null,null,"D2643099","Hilados de fibras sintéticas discontinuas n.c.p., con un contenido de tales fibras igual o superior al 85% en peso",1,{"$f":"ROW()","v":2752},8,null,null,"2.3.3.05.02.001.01","Prestación de servicio educativo Son las transferencias de SGP educación destinada a la prestación del servicio, según la matrícula oficial y la ampliación de cobertura de las entidades territoriales certificadas. En el primer caso, el monto de recursos girado a cada entidad territorial es determinado por el Ministerio de Educación Nacional, de acuerdo con el número de estudiantes oficiales matriculados multiplicado por un valor determinado por las características de la prestación del servicio según niveles, zonas y modalidades. En el segundo caso, se reconoce el incremento de la matrícula oficial de un año a otro. Sin perjuicio de lo anterior, esta transferencia comprende un complemento a la asignación por alumno atendido, el cual se asigna a las entidades territoriales certificadas que no alcanzan a cubrir el costo del personal docente y administrativo.",0,18]
[null,null,"D2644099","Hilados de fibras sintéticas discontinuas n.c.p., con un contenido de tales fibras inferior al 85% en peso",1,{"$f":"ROW()","v":2753},8,null,null,"2.3.3.05.02.001.02","Cancelación de prestaciones sociales del magisterio Son las transferencias del SGP educación destinada a la cancelación de las prestaciones sociales del magisterio. Estos recursos se transfieren a los Fondos de Pensiones Públicas Territoriales para atender las prestaciones del personal nacionalizado por la Ley 43 de 1975; los cuales, en virtud de la Ley 91 de 1989, no quedaron a cargo del Fondo Nacional de Prestaciones Sociales del Magisterio.",0,18]
[null,null,"D2643001","Hilados de fibras sintéticas discontinuas, con un contenido de tales fibras igual o superior al 85% en peso",1,{"$f":"ROW()","v":2754},8,null,null,"2.3.3.05.02.001.03","Calidad Son las transferencias del SGP educación destinada a la calidad del servicio educativo. Estos recursos son distribuidos entre los distritos y municipios certificados y no certificados y las áreas no municipalizadas de los departamentos de Amazonas, Guainía y Vaupés, para que complementen el financiamiento de las actividades que contribuyan al mejoramiento de la calidad educativa.",0,18]
[null,null,"D2642001","Hilados de filamentos continuos de fibras artificiales",1,{"$f":"ROW()","v":2755},8,null,null,"2.3.3.05.02.002.01","Régimen subsidiado Son las transferencias de recursos del SGP salud destinados a financiar la afiliación al régimen subsidiado del Sistema de Seguridad Social en Salud de la población pobre y vulnerable. Esta financiación corresponde a los subsidios a la demanda que deben atender las entidades territoriales, de manera progresiva hasta lograr y sostener la cobertura total del aseguramiento.",0,18]
[null,null,"D2642002","Hilados de filamentos continuos de fibras sintéticas",1,{"$f":"ROW()","v":2756},{"$f":"LEN(C2756)","v":8},null,null,"2.3.3.05.02.002.02","Salud pública Son las transferencias de recursos del SGP salud destinados a la financiación de programas de salud pública. Esta transferencia tiene por objetivo financiar la ejecución de acciones de promoción y prevención en salud, la programación y ejecución del Plan de Intervenciones Colectivas, y el desarrollo de acciones de inspección, vigilancia y control del riesgo en el ambiente y la salud.",0,{"$f":"LEN(J2756)","v":18}]
[null,null,"D2638001","Hilados de fique",1,{"$f":"ROW()","v":2757},8,null,null,"2.3.3.05.02.002.03","Prestación de servicio de salud Son las transferencias de recursos del SGP salud destinados a la prestación del servicio de salud a la población pobre en el monto no cubierto con subsidios a la demanda. De acuerdo con el artículo 58 de la Ley 715 de 2001, una vez saneados los aportes patronales, los saldos existentes pueden ser requeridos por la entidad territorial para la prestación de servicios de salud.",0,18]
[null,null,"D2632001","Hilados de lana cardada, con un contenido de lana igual o superior al 85% en peso, no acondicionados para la venta al por menor",1,{"$f":"ROW()","v":2758},8,null,null,"2.3.3.05.02.002.05","Fondo de salvamento y garantías para el sector salud - FONSAET",0,18]
[null,null,"D2633001","Hilados de lana cardada, con un contenido de lana inferior al 85% en peso, no acondicionados para la venta al por menor",1,{"$f":"ROW()","v":2759},8,null,null,"2.3.3.05.02.002.06","Subsidio a la oferta Es la asignación de recursos para concurrir en la financiación de la operación de la prestación de servicios y tecnologías efectuadas por instituciones públicas o infraestructura pública administrada por terceros, ubicadas en zonas alejadas o de difícil acceso que sean monopolio en servicios trazadores y no sostenibles por venta de servicio",0,18]
[null,null,"D2632003","Hilados de lana cruda, con un contenido de lana igual o superior al 85% en peso, no acondicionados para la venta al por menor",1,{"$f":"ROW()","v":2760},8,null,null,"2.3.3.05.02.003","Participación para propósito general Son las transferencias de recursos que realiza la Nación a las entidades territoriales en el marco del SGP, correspondiente al 11,6% de la distribución sectorial.",0,15]
[null,null,"D2633003","Hilados de lana cruda, con un contenido de lana inferior al 85% en peso, no acondicionados para la venta al por menor",1,{"$f":"ROW()","v":2761},8,null,null,"2.3.3.05.02.004.01","Alimentación escolar Son las transferencias de recursos del SGP destinados a la financiación de programas de alimentación escolar, correspondiente al 0,5% de los recursos.Los Programas de Alimentación Escolar entregan desayuno o almuerzo a niños, niñas y adolescentes escolarizados, prioritariamente entre los 5 y 9 años. Estos programas tienen por objetivo mejorar su capacidad de aprendizaje; contribuir a mejorar su estado nutricional; prevenir la deserción escolar; y promover hábitos alimentarios saludables, cumpliendo su papel de proyecto estratégico. Estos programas funcionan a través de convenios con los entes territoriales y contratos con operadores, tales como Asociaciones de Padres de Familia, Cooperativas y Fundaciones.",0,18]
[null,null,"D2634001","Hilados de lana mezclados",1,{"$f":"ROW()","v":2762},8,null,null,"2.3.3.05.02.004.02","Municipios de la ribera del Río Magdalena Son las transferencias de recursos del SGP destinada a los Municipios cuyo territorio limitan con el Río Magdalena. Esta transferencia corresponde al 0,08% del SGP, y se distribuye en proporción a la ribera de cada municipio, según la certificación del Instituto Geográfico Agustín Codazzi (IGAC).",0,18]
[null,null,"D2632002","Hilados de lana peinada, con un contenido de lana igual o superior al 85% en peso, no acondicionados para la venta al por menor",1,{"$f":"ROW()","v":2763},8,null,null,"2.3.3.05.02.004.03","Resguardos indígenas Son las transferencias de recursos del SGP destinada a los resguardos indígenas. Esta transferencia equivalente al 0.52% del 100% de los recursos del SGP, los cuales son de libre destinación para la financiación de proyectos de inversión debidamente formulados e incluidos en los planes de vida, o de acuerdo con los usos y costumbres de los pueblos indígenas.",0,18]
[null,null,"D2633002","Hilados de lana peinada, con un contenido de lana inferior al 85% en peso, no acondicionados para la venta al por menor",1,{"$f":"ROW()","v":2764},8,null,null,"2.3.3.05.02.004.04","FONPET Son las transferencias de recursos del SGP realizadas por la Nación al FONPET, en virtud del artículo 2.2.5.9.1 del Decreto 2540 de 2015, el cual establece que del componente de Asignación Especial del SGP, se debe destinar el 2.9% para el FONPET de los departamentos, distritos y municipios existentes a 31 de diciembre del año inmediatamente anterior al cual se realiza la distribución, que cuentan con participación en el monto total del pasivo pensional.",0,18]
[null,null,"D2638099","Hilados de las demás fibras textiles vegetales",1,{"$f":"ROW()","v":2765},8,null,null,"2.3.3.05.02.005","Agua potable y saneamiento básico Son las transferencias de recursos que realiza la Nación a las entidades territoriales en el marco del SGP. Esta transferencia corresponde al 5,4% de la distribución sectorial del SGP, la cual está destinada a sector de agua potable y saneamiento básico.",0,15]
[null,null,"D2638003","Hilados de lino",1,{"$f":"ROW()","v":2766},8,null,null,"2.3.3.05.02.006","Atención integral de la primera infancia Son las transferencias de recursos que realiza la Nación a las entidades territoriales, en el marco del SGP, destinada a la atención integral de la primera infancia. Estos recursos se asignan por el crecimiento de la economía en una cifra superior al 4%. Esta cuenta estuvo vigente durante el periodo de transición del SGP hasta 2016, se mantiene esta cuenta en el CCPET para efectos de registro de posibles saldos a favor.",0,15]
[null,null,"D2634002","Hilados de pelos finos",1,{"$f":"ROW()","v":2767},8,null,null,"2.3.3.05.03.001.01.01.01","Funcionamiento de los órganos del SGR A través de este rubro la Comisión Rectora asignará recursos a los Órganos del Sistema General de Regalías, a los que hace referencia el artículo 3 de la Ley 2056 de 2020.",0,24]
[null,null,"D2634003","Hilados de pelos ordinarios",1,{"$f":"ROW()","v":2768},8,null,null,"2.3.3.05.03.001.01.01.02","Evaluación y monitoreo del licenciamiento ambiental A través de este rubro la Comisión Rectora asignará recursos al Ministerio de Ambiente. Art. 361 de la Constitución Política y 12 de la Ley 2056 de 2020.",0,24]
[null,null,"D2638002","Hilados de yute",1,{"$f":"ROW()","v":2769},8,null,null,"2.3.3.05.03.001.01.01.03","Entidades del orden nacional que emiten conceptos técnicos A través de este rubro la Comisión Rectora asignará recursos a los Ministerios y Departamentos Administrativos o sus entidades Adscritas y vinculadas para emitir conceptos técnicos de proyectos de inversión, en el marco de lo dispuesto en los artículos 3 y 141 de la Ley 2056 de 2020.",0,24]
[null,null,"D2799203","Hilados elásticos sintéticos revestidos con fibras textiles",1,{"$f":"ROW()","v":2770},8,null,null,"2.3.3.05.03.001.01.01.04","Fortalecimiento de las secretaría técnicas de los OCADS regionales, del OCAD para la paz y del OCAD de CTEI A través de este rubro la Comisión Rectora asignará recursos a las ST de los OCAD Regionales, Paz y CTeI, para el ejercicio de sus funciones, en el marco de lo dispuesto en el artículo 2.1.1.7.3. del Decreto 1821 de 2020.",0,24]
[null,null,"D2799201","Hilados para llantas",1,{"$f":"ROW()","v":2771},8,null,null,"2.3.3.05.03.001.01.01.05","Saldos a 31 de diciembre, para fortalecimiento de las oficinas de planeación y/o las secretarías técnicas de los órganos colegiados de administración y decisión municipales, departamentales, de las corporaciones autónomas regionales y de CORMAGDALENA A través de este rubro la Comisión Rectora asignará recursos a las ST de los OCAD municipales, departamentales, de las CAR y de Cormagdalena y/o las oficinas de planeación, para terminar la ejecución de sus compromisos, en el marco de lo dispuesto en el artículo 2.1.1.8.5. del Decreto 1821 de 2020.",0,24]
[null,null,"D2635001","Hilo de algodón para coser",1,{"$f":"ROW()","v":2772},8,null,null,"2.3.3.05.03.001.01.01.06","Instancia de decisión de los pueblos y comunidades indígenas A través de este rubro la Comisión Rectora asignará recursos a la instancia de decisión de los pueblos y Comunidades Indígenas, en el marco de lo dispuesto en el artículo 12 de la Ley 2056 de 2020.",0,24]
[null,null,"D2641002","Hilo industrial de nailon",1,{"$f":"ROW()","v":2773},8,null,null,"2.3.3.05.03.001.01.01.07","Instancia de decisión de las comunidades negras, afrocolombianas, raizales y palenqueras A través de este rubro la Comisión Rectora asignará recursos a la instancia de decisión de las comunidades negras, afrocolombianas, raizales y Palenqueras para el ejercicio de sus funciones, en el marco de lo dispuesto en el artículo 12 de la Ley 2056 de 2020.",0,24]
[null,null,"D3622002","Hilos de caucho",1,{"$f":"ROW()","v":2774},8,null,null,"2.3.3.05.03.001.01.01.08","Comisión nacional de diálogo del pueblo rrom o gitano A través de este rubro la Comisión Rectora asignará recursos a la Comisión Nacional del Pueblo Rrom o Gitano para el ejercicio de sus funciones, en el marco de lo dispuesto en el artículo 12 de la Ley 2056 de 2020.",0,24]
[null,null,"D2641001","Hilos de fibras artificiales y sintéticas para coser y bordar",1,{"$f":"ROW()","v":2775},8,null,null,"2.3.3.05.03.001.01.01.09","Contraloría General de la República - funciones de vigilancia y control fiscal A través de este rubro la Comisión Rectora asignará recursos a la Contraloría General de la República para el ejercicio de sus funciones de vigilancia y control fiscal, en el marco de lo dispuesto en los artículos 141 y 183 de la Ley 2056 de 2020.",0,24]
[null,null,"D3622005","Hilos elásticos sintéticos",1,{"$f":"ROW()","v":2776},8,null,null,"2.3.3.05.03.001.01.01.10","Procuraduría General de la Nación - funciones de vigilancia y control fiscal A través de este rubro la Comisión Rectora asignará recursos a la Procuraduría General de la Nación, en el marco de lo dispuesto en los artículos 11 de la Ley 2072 de 2020 y 141 de la Ley 2056 de 2020.",0,24]
[null,null,"D2799204","Hilos elásticos sintéticos recubiertos con fibras textiles",1,{"$f":"ROW()","v":2777},8,null,null,"2.3.3.05.03.001.01.02.01","Fiscalización de la exploración y explotación de los yacimientos A través de este rubro el Ministerio de Minas y Energía les asignará recursos, en el marco de lo dispuesto en los artículos 12 y 141 de la Ley 2056 de 2020.",0,24]
[null,null,"D2799301","Hilos metalizados",1,{"$f":"ROW()","v":2778},8,null,null,"2.3.3.05.03.001.01.02.02","Conocimiento y cartografía geológica del subsuelo A través de este rubro el Ministerio de Minas y Energía les asignará recursos, en el marco de lo dispuesto en los artículos 12 y 141 de la Ley 2056 de 2020.",0,24]
[null,null,"D3552001","Hilos, hilado de polipropileno",1,{"$f":"ROW()","v":2779},8,null,null,"2.3.3.05.03.001.01.02.03","Incentivo a la exploración y a la producción A través de este rubro el Ministerio de Minas y Energía les asignará recursos, en el marco de lo dispuesto en los artículos 12 y 141 de la Ley 2056 de 2020.",0,24]
[null,null,"D3552002","Hilos, hilados sintéticos (poliéster-nailon)",1,{"$f":"ROW()","v":2780},8,null,null,"2.3.3.05.03.001.02.01","Sistema de Seguimiento, Evaluación y Control - Departamento Nacional de Planeación (DNP) A través de este rubro se asignaron recursos al DNP en el artículo 3 de la Ley 2072 de 2020.",0,21]
[null,null,"D3424014","Hipoclorito de sodio",1,{"$f":"ROW()","v":2781},8,null,null,"2.3.3.05.03.001.02.02","Contraloría General de la República (CGR) A través de este rubro se asignaron recursos a la CGR en el artículo 3 de la Ley 2072 de 2020.",0,21]
[null,null,"D3424050","Hipofosfito de calcio",1,{"$f":"ROW()","v":2782},8,null,null,"2.3.3.05.03.001.02.03","Procuraduría General de la Nación (PGN) A través de este rubro se asignaron recursos a la PGN en el artículo 3 de la Ley 2072 de 2020.",0,21]
[null,null,"D3424048","Hipofosfito de hierro",1,{"$f":"ROW()","v":2783},8,null,null,"2.3.3.05.03.001.03.01.01","Asignaciones directas (20% del SGR) Objeto de Gasto creado en el artículo 4 de la Ley 2072 de 2020 con fundamento en el art. 22 de la Ley 2056 de 2020.",0,24]
[null,null,"D3424057","Hipofosfito de manganeso",1,{"$f":"ROW()","v":2784},8,null,null,"2.3.3.05.03.001.03.01.02","Asignaciones directas anticipadas (5% del SGR) Objeto de Gasto creado en el artículo 4 de la Ley 2072 de 2020 con fundamento en el art. 22 de la Ley 2056 de 2020.",0,24]
[null,null,"D3424049","Hipofosfito de sodio",1,{"$f":"ROW()","v":2785},8,null,null,"2.3.3.05.03.001.03.01.03","Incentivo a la producción, exloración y formalización Objeto de Gasto creado en el artículo 4 de la Ley 2072 de 2020 con fundamento en el art. 22 de la Ley 2056 de 2020.",0,24]
[null,null,"D4292103","Hoces",1,{"$f":"ROW()","v":2786},8,null,null,"2.3.3.05.03.001.03.01.04","Gestión del riesgo y adaptación del cambio climático A tarvés de este rubro se incorporarán los recursos pendientes por ejecutar de los recursos asignados para este fín en la Ley 1942 de 2020",0,24]
[null,null,"D4123101","Hojalata",1,{"$f":"ROW()","v":2787},8,null,null,"2.3.3.05.03.001.03.01.05","Decretos Legislativos 574 y 798 de 2020 Art. 2.1.1.1.5. del Decreto 2190 de 2018",0,24]
[null,null,"D4123102","Hojalata estañada o galvanizada",1,{"$f":"ROW()","v":2788},8,null,null,"2.3.3.05.03.001.03.02.01","Asignación para la inversión local según NBI y cuarta, quinta y sexta categoría Objeto de Gasto creado en el artículo 4 de la Ley 2072 de 2020 con fundamento en el Art. 48 de la Ley 2056 de 2020.",0,24]
[null,null,"D3280003","Hojalata y otras láminas metálicas litografiadas",1,{"$f":"ROW()","v":2789},8,null,null,"2.3.3.05.03.001.03.02.02","Asignación para la inversión local - Ambiente y desarrollo sostenible Objeto de Gasto creado en el artículo 4 de la Ley 2072 de 2020 con fundamento en el Art. 48 de la Ley 2056 de 2020.",0,24]
[null,null,"D4291402","Hojas de afeitar-cuchillas",1,{"$f":"ROW()","v":2790},8,null,null,"2.3.3.05.03.001.03.02.03.01","Pueblos y comunidades indígenas Objeto de Gasto creado en el artículo 4 de la Ley 2072 de 2020 con fundamento en los Arts. 48 y 73 de la Ley 2056 de 2020.",0,27]
[null,null,"D2501001","Hojas de tabaco desvenado",1,{"$f":"ROW()","v":2791},8,null,null,"2.3.3.05.03.001.03.02.03.02","Pueblos y comunidades indígenas - ambiente y desarrollo sostenible Objeto de Gasto creado en el artículo 4 de la Ley 2072 de 2020 con fundamento en los Arts. 48 y 73 de la Ley 2056 de 2020.",0,27]
[null,null,"D3692003","Hojas en acetato de letras transferibles",1,{"$f":"ROW()","v":2792},8,null,null,"2.3.3.05.03.001.03.02.03.03","Comunidades NARP Objeto de Gasto creado en el artículo 4 de la Ley 2072 de 2020 con fundamento en los Arts. 48 y 88 de la Ley 2056 de 2020.",0,27]
[null,null,"D4294505","Hojas para muelles de acero",1,{"$f":"ROW()","v":2793},8,null,null,"2.3.3.05.03.001.03.02.03.04","Comunidades NARP - Ambiente y desarrollo sostenible Objeto de Gasto creado en el artículo 4 de la Ley 2072 de 2020 con fundamento en los Arts. 48 y 88 de la Ley 2056 de 2020.",0,27]
[null,null,"D4292115","Hojas para sierras de mano",1,{"$f":"ROW()","v":2794},8,null,null,"2.3.3.05.03.001.03.02.03.05","Pueblo Rrom gitano Objeto de Gasto creado en el artículo 4 de la Ley 2072 de 2020 con fundamento en los Arts. 48 y 102 de la Ley 2056 de 2020.",0,27]
[null,null,"D0325008","Hojas vegetales para tamales",1,{"$f":"ROW()","v":2795},8,null,null,"2.3.3.05.03.001.03.02.03.06","Pueblo Rrom gitano - Ambiente y desarrollo sostenible Objeto de Gasto creado en el artículo 4 de la Ley 2072 de 2020 con fundamento en los Arts. 48 y 102 de la Ley 2056 de 2020.",0,27]
[null,null,"D3511031","Hojas y cintas para marcado al fuego",1,{"$f":"ROW()","v":2796},8,null,null,"2.3.3.05.03.001.03.03.01","Asignación para la inversión regional - Departamentos Objeto de Gasto creado en el artículo 4 de la Ley 2072 de 2020 con fundamento en el Art. 44 de la Ley 2056 de 2020.",0,24]
[null,null,"D2399933","Hojas y plantas elaboradas para infusión",1,{"$f":"ROW()","v":2797},8,null,null,"2.3.3.05.03.001.03.03.02.01","Región Caribe Objeto de Gasto creado en el artículo 4 de la Ley 2072 de 2020 con fundamento en el Art. 44 de la Ley 2056 de 2020.",0,27]
[null,null,"D4153502","Hojas y tiras delgadas de aluminio",1,{"$f":"ROW()","v":2798},8,null,null,"2.3.3.05.03.001.03.03.02.02","Región Centro - Oriente Objeto de Gasto creado en el artículo 4 de la Ley 2072 de 2020 con fundamento en el Art. 44 de la Ley 2056 de 2020.",0,27]
[null,null,"D4151501","Hojas y tiras delgadas de cobre",1,{"$f":"ROW()","v":2799},8,null,null,"2.3.3.05.03.001.03.03.02.03","Región Eje Cafetero Objeto de Gasto creado en el artículo 4 de la Ley 2072 de 2020 con fundamento en el Art. 44 de la Ley 2056 de 2020.",0,27]
[null,null,"D4154804","Hojas y tiras delgadas de estaño y sus aleaciones",1,{"$f":"ROW()","v":2800},8,null,null,"2.3.3.05.03.001.03.03.02.04","Región Pacífico Objeto de Gasto creado en el artículo 4 de la Ley 2072 de 2020 con fundamento en el Art. 44 de la Ley 2056 de 2020.",0,27]
[null,null,"D4151502","Hojas y tiras delgadas de latón",1,{"$f":"ROW()","v":2801},8,null,null,"2.3.3.05.03.001.03.03.02.05","Región Centro - Sur - Amazonía Objeto de Gasto creado en el artículo 4 de la Ley 2072 de 2020 con fundamento en el Art. 44 de la Ley 2056 de 2020.",0,27]
[null,null,"D4154204","Hojas y tiras delgadas de plomo y sus aleaciones",1,{"$f":"ROW()","v":2802},8,null,null,"2.3.3.05.03.001.03.03.02.06","Región del Llano Objeto de Gasto creado en el artículo 4 de la Ley 2072 de 2020 con fundamento en el Art. 44 de la Ley 2056 de 2020.",0,27]
[null,null,"D2314011","Hojuelas de maíz y otros cereales",1,{"$f":"ROW()","v":2803},8,null,null,"2.3.3.05.03.001.03.03.03","Asignación para la inversión regional - Parágrafo 8 transitorio del artículo 361 de la C.P. Arts. 205 de la Ley 2056 de 2020.",0,24]
[null,null,"D3269006","Hologramas",1,{"$f":"ROW()","v":2804},8,null,null,"2.3.3.05.03.001.03.03.04","Asignación para la inversión regional - Gestión del riesgo y adaptación del cambio climático Arts. 205 de la Ley 2056 de 2020.",0,24]
[null,null,"D2799106","Hombreras de guata de algodón",1,{"$f":"ROW()","v":2805},8,null,null,"2.3.3.05.03.001.03.03.05","Asignación para la inversión regional - Compensación beneficiarios de asignaciones directas año 2020 Arts. 205 de la Ley 2056 de 2020.",0,24]
[null,null,"D2824304","Hombreras de plástico espumado flexible",1,{"$f":"ROW()","v":2806},8,null,null,"2.3.3.05.03.001.03.03.06","Asignación para la inversión regional – Departamentos art. 209 de la Ley 2056 de 2020 Art. 2.1.1.1.5. del Decreto 2190 de 2018",0,24]
[null,null,"D3479031","Homopolímeros",1,{"$f":"ROW()","v":2807},8,null,null,"2.3.3.05.03.001.03.04","Asignación ambiental Objeto de Gasto creado en el artículo 4 de la Ley 2072 de 2020 con fundamento en el Art. 22 de la Ley 2056 de 2020.",0,21]
[null,null,"D3191104","Hormas de madera para calzado",1,{"$f":"ROW()","v":2808},8,null,null,"2.3.3.05.03.001.03.05","Conservación de las áreas ambientales estratégicas y la lucha nacional contra la deforestación Objeto de Gasto creado en el artículo 4 de la Ley 2072 de 2020 con fundamento en el Art. 22 de la Ley 2056 de 2020.",0,21]
[null,null,"D3699063","Hormas de material plástico para calzado",1,{"$f":"ROW()","v":2809},8,null,null,"2.3.3.05.03.001.03.06.01","Asignación para la ciencia, tecnología e innovación - Convocatorias Objeto de Gasto creado en el artículo 4 de la Ley 2072 de 2020 con fundamento en los Arts. 22 y 52 de la Ley 2056 de 2020.",0,24]
[null,null,"D4219015","Hormas en aluminio para formaletas",1,{"$f":"ROW()","v":2810},8,null,null,"2.3.3.05.03.001.03.06.02","Asignación para la ciencia, tecnología e innovación - Ambiente y desarrollo sostenible - Convocatorias Objeto de Gasto creado en el artículo 4 de la Ley 2072 de 2020 con fundamento en los Arts. 22 y 52 de la Ley 2056 de 2020.",0,24]
[null,null,"D3525096","Hormonas n.c.p.",1,{"$f":"ROW()","v":2811},8,null,null,"2.3.3.05.03.001.03.06.03","Asignación para la ciencia, tecnología e innovación - Convocatorias 2021 Objeto de Gasto creado en el artículo 4 de la Ley 2072 de 2020 con fundamento en los Arts. 22 y 52 de la Ley 2056 de 2020.",0,24]
[null,null,"D4482108","Hornos a gas domésticos",1,{"$f":"ROW()","v":2812},8,null,null,"2.3.3.05.03.001.03.06.04","Asignación para la ciencia, tecnología e innovación - Convocatorias 2021 - Ambiente y desarrollo sostenible Objeto de Gasto creado en el artículo 4 de la Ley 2072 de 2020 con fundamento en los Arts. 22 y 52 de la Ley 2056 de 2020.",0,24]
[null,null,"D4342106","Hornos crematorios",1,{"$f":"ROW()","v":2813},8,null,null,"2.3.3.05.03.001.03.07.01","Asignación para la paz Objeto de Gasto creado en el artículo 4 de la Ley 2072 de 2020 con fundamento en el Art. 22 de la Ley 2056 de 2020.",0,24]
[null,null,"D4342104","Hornos de ACPM",1,{"$f":"ROW()","v":2814},8,null,null,"2.3.3.05.03.001.03.07.02","Incentivos a la producción Acto Legislativo 04 de 2017 Objeto de Gasto creado en el artículo 4 de la Ley 2072 de 2020 con fundamento en el Art. 361 de la Constitución Política, el Art. 57 de la Ley 2056 de 2020.",0,24]
[null,null,"D4342101","Hornos de gas industriales",1,{"$f":"ROW()","v":2815},8,null,null,"2.3.3.05.03.001.03.07.03","Asignación para la paz - Adelanto art. 361 de la C.P. Objeto de Gasto creado en el artículo 4 de la Ley 2072 de 2020 con fundamento en el Art. 361 de la Constitución Política y los Arts. 60 y 152 de la Ley 2056 de 2020",0,24]
[null,null,"D4481702","Hornos eléctricos domésticos",1,{"$f":"ROW()","v":2816},8,null,null,"2.3.3.05.03.001.03.07.04","Proyectos de infraestructura de transporte para la implementación del Acuerdo Final, paragrafo 8° transitorio del art . 361 de la C.P Art. 361 de la Constitución Política.",0,24]
[null,null,"D4342105","Hornos eléctricos industriales",1,{"$f":"ROW()","v":2817},8,null,null,"2.3.3.05.03.001.03.08","Corporación Autónoma Regional del Rio Grande de la Magdalena Art. 22 de la Ley 2056 de 2020, Art. 4 Ley 2072 de 2020.",0,21]
[null,null,"D4481708","Hornos microondas",1,{"$f":"ROW()","v":2818},8,null,null,"2.3.3.05.03.001.03.09","Emprendimiento y generación de empleo Art. 361 de la Constitución Política y Art. 22 de la Ley 2056 de 2020",0,21]
[null,null,"D4342103","Hornos para acabado de artículos de cerámica y vidrio",1,{"$f":"ROW()","v":2819},8,null,null,"2.3.3.05.03.001.04","Fondo de Ahorro y Estabilización (FAE) Objeto de Gasto creado en el artículo 4 de la Ley 2072 de 2020 con fundamento en el Art. 22 de la Ley 2056 de 2020.",0,18]
[null,null,"D4342102","Hornos para calcinar minerales",1,{"$f":"ROW()","v":2820},{"$f":"LEN(C2820)","v":8},null,null,"2.3.3.05.03.001.05","Transferencias de regalías para ser ejecutadas por otras entidades A través de este rubro las entidades beneficiarias de Asignaciones Directas transfieren la ordenación del gasto de los recursos al ejecutor del proyecto de inversión.",0,{"$f":"LEN(J2820)","v":18}]
[null,null,"D4912910","Horquillas",1,{"$f":"ROW()","v":2821},8,null,null,"2.3.3.05.04.001.01","Participación del Impuesto Nacional a la Explotación de Oro, Plata y Platino Son las transferencias de recursos por concepto de la participación de los municipios productores en el impuesto nacional por la explotación de oro, plata y platino, administrado y recaudado por la Nación. En virtud del artículo 152 de la Ley 488 de 1998, este impuesto se destina con exclusividad a los municipios productores.",0,18]
[null,null,"D3899403","Horquillas y similares",1,{"$f":"ROW()","v":2822},8,null,null,"2.3.3.05.04.001.02","Participación del Impuesto sobre vehículos automotores Es la transferencia de recursos por concepto de la participación de los municipios en el Impuesto sobre Vehículos Automotores. La administración y recaudo de este impuesto se encuentra a cargo de los Departamentos. De acuerdo con la Ley 488 de 1998, el 20% del impuesto en mención pertenece a los municipios.",0,18]
[null,null,"D2139301","Hortalizas deshidratadas",1,{"$f":"ROW()","v":2823},8,null,null,"2.3.3.05.04.001.03","Participación Providencia Son las transferencias que realiza el departamento de San Andrés, Providencia y Santa Catalina al municipio de Providencia por concepto de su participación en las rentas departamentales. De acuerdo con el artículo 310 de la Constitución Política, el municipio de Providencia tiene una participación del 20% del valor total de las rentas del departamento.",0,18]
[null,null,"D2139999","Hortalizas en conserva n.c.p.",1,{"$f":"ROW()","v":2824},8,null,null,"2.3.3.05.04.001.04","Participación de la Sobretasa al consumo de cigarrillos y tabaco elaborado Son las transferencias por concepto de la participación de Bogotá D.C. en la sobretasa al consumo de cigarrillos y tabaco elaborado (Ley 1393 de 2010). De acuerdo con el artículo 7 de la Ley 1393 de 2010, los recursos de esta sobretasa son destinados al sector salud; específicamente, a la universalización en el aseguramiento, la unificación de los planes obligatorios de salud, y los excedentes, a la financiación de servicios prestados a la población pobre.",0,18]
[null,null,"D0129099","Hortalizas y legumbres n.c.p.",1,{"$f":"ROW()","v":2825},8,null,null,"2.3.3.05.04.001.05","Participación del Impuesto de registro Son las transferencias de recursos por concepto de la participación de Bogotá D.C. en el impuesto de registro. De acuerdo con la Ley 223 de 1995, las Oficinas de Registro de Instrumentos Públicos (ORIP) son las encargadas de liquidar y recaudar este impuesto, y posteriormente, de girar estos recursos a los departamentos. De acuerdo con el artículo 234 de la Ley en mención, el Distrito Capital tiene una participación en el 30% del impuesto de registro que se cause en su jurisdicción.",0,18]
[null,null,"D3911005","Huesos",1,{"$f":"ROW()","v":2826},8,null,null,"2.3.3.05.04.001.06","Participación del Impuesto adicional del 10% a las cajetillas de cigarrillos nacionales Es la transferencia de recursos por concepto de la participación de Bogotá D.C. en el impuesto adicional del 10% sobre el valor de cada una de las cajetillas de cigarrillos nacionales que se expendan al público (Ley 30 de 1971, Art. 2).De acuerdo con el artículo 78 de la Ley 181 de 1995, este impuesto es recaudado por las tesorerías departamentales. este artículo también establece que el valor efectivo de este impuesto debe ser girado al ente deportivo correspondiente.",0,18]
[null,null,"D3440001","Huesos calcinados (negro animal)",1,{"$f":"ROW()","v":2827},8,null,null,"2.3.3.05.04.001.07","Participación del Impuesto al consumo de cigarrillos y tabaco Son las transferencias de recursos por concepto de la participación de Bogotá D.C. en el impuesto al consumo de cigarrillos y tabaco de producción nacional. De acuerdo con el artículo 213 de la Ley 223 de 1995, el Distrito Capital participa en un 20% del impuesto que se genere en el departamento de Cundinamarca.",0,18]
[null,null,"D0232201","Huevos de codorniz",1,{"$f":"ROW()","v":2828},8,null,null,"2.3.3.05.04.001.08","Participación del Impuesto al degüello de ganado mayor (en los términos que lo defina la Ordenanza) Son las transferencias de recursos por concepto de la participación de los departamentos o municipios en el impuesto al degüello de ganado mayor, siempre que mediante ordenanza se haya cedido parcialmente este tributo.",0,18]
[null,null,"D0231201","Huevos de gallina",1,{"$f":"ROW()","v":2829},8,null,null,"2.3.3.05.04.001.09","Participación del IVA Antiguas intendencias y comisarías Son las transferencias de recursos que realiza la Nación (MHCP) por concepto de la cesión del IVA a los departamentos de Guaviare, Putumayo, Vaupés, Vichada, San Andrés Providencia y Santa Catalina, Amazonas, Arauca, Casanare y Guainía.",0,18]
[null,null,"D0232401","Huevos de otras aves, frescos",1,{"$f":"ROW()","v":2830},8,null,null,"2.3.3.05.04.001.10","Participación de la Sobretasa al ACPM Son las transferencias de recursos por concepto de la participación de los departamentos y el Distrito Capital en la contribución nacional sobretasa al ACPM. De acuerdo con el artículo 117 de la Ley 488 de 1998, esta contribución es cobrada por la Nación y distribuida en un 50% para los departamentos y el Distrito Capital.",0,18]
[null,null,"D0293001","Huevos de tortuga",1,{"$f":"ROW()","v":2831},8,null,null,"2.3.3.05.04.001.11","Participación del Impuesto nacional al consumo del servicio de telefonía móvil Son las transferencias de recursos que realiza la Nación por concepto del impuesto nacional al consumo del servicio de telefonía móvil, en desarrollo del artículo 72 de la Ley 1607 de 2012 y el Estatuto Tributario. Este artículo establece que el 25% del recaudo del impuesto en mención debe ser transferido al Distrito Capital y a los departamentos.",0,18]
[null,null,"D0232202","Huevos embrionados (embriones de pato, etc.)",1,{"$f":"ROW()","v":2832},8,null,null,"2.3.3.05.04.001.12","Participación del IVA licores, vinos, aperitivos y similares Es la transferencia por concepto de la participación de Bogotá D.C. en el Impuesto al Valor Agregado (IVA) que grava los licores, vinos, aperitivos y similares. De acuerdo con la Ley 788 de 2002 y el Decreto 1150 de 2003, estos recursos deben destinarse en un 30% para el sector deporte y el 70% restante para el sector salud.",0,18]
[null,null,"D2799701","Hules",1,{"$f":"ROW()","v":2833},8,null,null,"2.3.3.05.04.001.13.01","Transferencia de la sobretasa ambiental a las Corporaciones Autónomas Regionales Son las transferencias de recursos de la sobretasa ambiental para las Corporaciones Autónomas Regionales (Art. 1. Decreto 1339 de 1994). De acuerdo con el Artículo 44 de la Ley 99 de 1993, el giro de estos recursos debe realizarse de forma trimestral y excepcionalmente, por anualidades antes del 30 de marzo de cada año siguiente al periodo de recaudo.",0,21]
[null,null,"D3532216","Humectantes para textiles",1,{"$f":"ROW()","v":2834},8,null,null,"2.3.3.05.04.001.13.02","Transferencia de la sobretasa ambiental a las Áreas Metropolitanas Son las transferencias de recursos de la sobretasa ambiental para las Áreas Metropolitanas.",0,21]
[null,null,"D2399918","Humo líquido",1,{"$f":"ROW()","v":2835},8,null,null,"2.3.3.05.04.001.14","Participación sobretasa a la gasolina - Fondo Subsidio Sobretasa a la Gasolina Es la transferencia de recursos que realizan los departamentos al Fondo de Subsidio de la Sobretasa a la Gasolina, por concepto del 5% de los recursos recaudados por concepto de esta sobretasa. Estos recursos se giran en virtud del artículo 130 de la Ley 488 de 1998.",0,18]
[null,null,"D0159906","Ibias",1,{"$f":"ROW()","v":2836},8,null,null,"2.3.3.05.04.001.15","Participación ambiental del recaudo del impuesto predial Son las transferencias de recursos por participación ambiental del recaudo del impuesto predial, que la Ley 99 de 1993, art. 44, autorizó a las entidades territoriales a transferir a las Áreas Metropolitanas y las Corporaciones Autónomas Regionales.",0,18]
[null,null,"D0219503","Iguanas",1,{"$f":"ROW()","v":2837},8,null,null,"2.3.3.05.04.001.16","Participación en Estampillas",0,18]
[null,null,"D3899101","Imágenes de pesebre",1,{"$f":"ROW()","v":2838},8,null,null,"2.3.3.05.04.002.01","Participación de aportes solidarios o contribuciones de solidaridad de servicios públicos Son las transferencias de recursos que realizan las Empresas de Servicios Públicos (ESP) a los Fondos de Solidaridad y Redistribución de Ingresos (FSRI), correspondiente a la diferencia entre las contribuciones solidarias recibidas y los subsidios cubiertos por la empresa (Ley 142 de 1994, art. 89, numeral 1).De acuerdo con el numeral 2 del artículo 89 de la Ley 142 de 1994, y el artículo 12 del Decreto 565 de 1996, las ESP son las encargadas de recaudar estas contribuciones y aplicarlas para el pago de subsidios. En caso de superávit, estos recursos deben ser girados a los FSRI del municipio donde se prestó el servicio.",0,18]
[null,null,"D4693201","Imanes de cerámica o ferrita permanentes",1,{"$f":"ROW()","v":2839},8,null,null,"2.3.3.05.04.002.02","Participación de la contribución parafiscal cultural Son las transferencias de recursos que realiza el Ministerio de Cultura a los municipios o distritos, por concepto de su derecho sobre la contribución parafiscal cultural. Esta contribución, creada mediante la Ley 1493 de 2011, es recaudada por el Ministerio de Cultura. De acuerdo con el artículo 12 de esta Ley, el Ministerio tiene la obligación de realizar el giro de recursos a las secretarías de hacienda municipales y distritales el mes inmediatamente siguiente a la fecha de recaudo de la contribución.",0,18]
[null,null,"D4693101","Imanes metálicos permanentes",1,{"$f":"ROW()","v":2840},8,null,null,"2.3.3.05.04.002.03","Participación en contribución del Fondo Nacional de Universidades Estatales de Colombia Son las transferencias de recursos que realiza el Ministerio de Educación Nacional a las Universidades Estatales por su participación en la contribución del Fondo Nacional de Universidades Estatales de Colombia, en virtud la Ley 1697 de 2013. La distribución de recursos, luego de la promulgación de la ley mencionada, es la siguiente: en los primeros 5 años, el 70% de los recursos se destinan a la Universidad Nacional de Colombia y el 30% al resto de universidades estatales; al inicio del sexto año, la distribución se revierte, de tal manera que a la Universidad Nacional le corresponde el 30% y al resto de universidades estatales el 70%.",0,18]
[null,null,"D4693997","Imanes n.c.p.",1,{"$f":"ROW()","v":2841},8,null,null,"2.3.3.05.04.003.01","Participación de sanciones del impuesto sobre vehículos automotores Son las transferencias de recursos por concepto de la participación de los municipios en las sanciones impuestas por el incumplimiento de pago del Impuesto sobre Vehículos Automotores. La administración y recaudo de este impuesto se encuentra a cargo de los Departamentos. De acuerdo con la Ley 488 de 1998, el 20% del impuesto en mención pertenece a los municipios.",0,18]
[null,null,"D3794002","Impermeabilizantes asfálticos",1,{"$f":"ROW()","v":2842},8,null,null,"2.3.3.05.04.003.02","Participación de intereses de mora sobre el impuesto sobre vehículos automotores Son las transferencias de recursos por concepto de la participación de los municipios en los intereses por mora del impuesto sobre vehículos automotores. La administración y recaudo de este impuesto se encuentra a cargo de los Departamentos. De acuerdo con la Ley 488 de 1998, el 20% del impuesto en mención pertenece a los municipios.",0,18]
[null,null,"D3549951","Impermeabilizantes no asfálticos",1,{"$f":"ROW()","v":2843},8,null,null,"2.3.3.05.04.003.03","Participación de intereses de mora sobre la sobretasa ambiental Son las transferencias de recursos de los intereses recaudados por la mora en el pago de la sobretasa ambiental. De acuerdo con el artículo 2 del Decreto Reglamentario 1319 de 1994, los intereses que se causen por mora en el pago del IPU, también se causan para el pago y transferencia de la sobretasa ambiental.",0,18]
[null,null,"D3549927","Impermeabilizantes para calderas",1,{"$f":"ROW()","v":2844},8,null,null,"2.3.3.05.04.004.01.01","Calizas, yesos, arcillas, gravas , minerales no metálicos y materiales de construcción Son las transferencias de recursos del régimen anterior de regalías derivados de la explotación y transporte de calizas, yesos, arcillas, gravas y otros minerales no metálicos, que reciben los departamentos, municipios y distritos productores y portuarios. (Art 38, Ley 141 de 1994)",0,21]
[null,null,"D2825001","Impermeables para hombre",1,{"$f":"ROW()","v":2845},8,null,null,"2.3.3.05.04.004.01.02","Carbón Son las transferencias de recursos del régimen anterior de regalías derivados de la explotación y transporte de carbón, que reciben los departamentos, municipios y distritos productores y portuarios. (Art 32, Ley 141 de 1994)",0,21]
[null,null,"D2825003","Impermeables para mujer",1,{"$f":"ROW()","v":2846},8,null,null,"2.3.3.05.04.004.01.03","Hidrocarburos, petróleo y gas Son las transferencias de recursos del régimen anterior de regalías, derivados de la explotación y transporte de hidrocarburos, que reciben los departamentos, municipios y distritos productores y portuarios. (Art. 31, Ley 141 de 1994)",0,21]
[null,null,"D2825004","Impermeables para niña",1,{"$f":"ROW()","v":2847},8,null,null,"2.3.3.05.04.004.01.04","Níquel, hierro, cobre y demás minerales metálicos Son las transferencias de recursos del régimen anterior de regalías derivados de la explotación y transporte de Níquel, hierro y cobre, que reciben los departamentos, municipios y distritos productores y portuarios. (Art 33 y 34, Ley 141 de 1994)",0,21]
[null,null,"D2825002","Impermeables para niño",1,{"$f":"ROW()","v":2848},8,null,null,"2.3.3.05.04.004.01.05","Oro, plata, platino y piedras preciosas Son las transferencias de recursos del régimen anterior de regalías derivados de la explotación de oro, plata, platino y priedras preciosas, que reciben los departamentos, municipios y distritos productores. (Art 35 y 36, Ley 141 de 1994)",0,21]
[null,null,"D4817201","Implantes quirúrgicos",1,{"$f":"ROW()","v":2849},8,null,null,"2.3.3.05.04.004.01.06","Sal Son las transferencias de recursos del régimen anterior de regalías derivados de la explotación y transporte de sal, que reciben los departamentos, municipios y distritos productores y portuarios. (Art 37, Ley 141 de 1994)",0,21]
[null,null,"D4353001","Implementos hidráulicos para aplicar a tractores agrícolas",1,{"$f":"ROW()","v":2850},8,null,null,"2.3.3.05.05.001","Compensación por menor recaudo de los derechos de explotación del juego de apuestas permanentes Son las transferencias de recursos que realiza la Nación a los departamentos y el Distrito Capital por la disminución en términos constantes del recaudo por concepto de derechos de explotación del juego de las apuestas permanentes o chance. Esta transferencia se realiza siguiendo el giro de recursos previsto en el Decreto 2550 de 2012.",0,15]
[null,null,"D4526601","Impresora multifuncional",1,{"$f":"ROW()","v":2851},8,null,null,"2.3.3.05.05.002","Compensación Impuesto Predial Unificado territorios colectivos de comunidades negras Es la compensación que realiza la Nación por concepto de Impuesto Predial Unificado (IPU) a los municipios donde existan territorios colectivos de comunidades negras. De acuerdo con el artículo 255 del Plan Nacional de Desarrollo 2014-2018 \"Todos por un nuevo país\" (Ley 1753 de 2015), con cargo al Presupuesto General de la Nación, el MHCP debe girar anualmente el monto que dejen de recaudar por concepto del IPU, a los municipios donde existan territorios colectivos de comunidades negras.",0,15]
[null,null,"D4342107","Incineradores de ACPM",1,{"$f":"ROW()","v":2852},8,null,null,"2.3.3.05.05.003","Compensación Impuesto Predial Unificado resguardos indígenas Es la compensación que realiza la Nación por concepto de IPU a los municipios donde existan resguardos indígenas. De acuerdo con el artículo 184 de la Ley 233 de 1995, que modifica el artículo 24 de la Ley 44 de 1990, la Nación debe girar a los municipios el equivalente al IPU de los predios pertenecientes a los resguardos indígenas legalmente constituidos en su jurisdicción.",0,15]
[null,null,"D4419303","Incubadoras (eléctricas)",1,{"$f":"ROW()","v":2853},8,null,null,"2.3.3.05.06.001.01","Derechos de monopolio de explotación de juegos novedosos Es el porcentaje de la transferencia que realiza Coljuegos a Municipios y distritos, de juegos novedosos distintos del loto en línea. Por lo menos el 75% de los recursos recibidos por las transferencias de derechos de juegos localizados, deben ser destinados a la inversión en salud. De acuerdo con el artículo 60 de la Ley 715 de 2001, los gastos de funcionamiento de las Direcciones Territoriales de Salud podrán financiarse con sus ingresos corrientes de libre destinación (ICLD) y podrán destinar hasta un 25% de las rentas cedidas para tal fin.",0,18]
[null,null,"D4419301","Incubadoras (no eléctricas)",1,{"$f":"ROW()","v":2854},8,null,null,"2.3.3.05.06.001.02","Derechos de monopolio de explotación de Loto en línea Es la transferencia de recursos que realiza Coljuegos a municipios distritos de lotto en línea referidos en el artículo 2 de la Ley 728 de 2015. De acuerdo con este artículo, los recursos provenientes de Loto en línea administrados por Coljuegos, pueden ser asignados a las entidades territoriales para la financiación del régimen subsidiado de salud, una vez la entidad tenga cubierto su pasivo pensional en el FONPET.",0,18]
[null,null,"D4824201","Indicadores de oscilación",1,{"$f":"ROW()","v":2855},8,null,null,"2.3.3.05.06.002","Derechos de monopolio de explotación de juegos localizados Es la transferencia de recursos que realiza Coljuegos a los municipios y distritos por concepto de los derechos de monopolio por explotación de los juegos de suerte y azar localizados. Se entiende por juegos localizados aquellos que operan con equipos y elementos de juegos en establecimientos de comercio; tales como: bingos, videobingos, esferódromos, máquinas tragamonedas y los operadores en casinos (Art. 32, Ley 643 de 2001 reglamentado por el Decreto 1278 de 2014).De acuerdo con el Artículo 8 del Decreto 1478 de 2014, estas rentas deben ser giradas mensualmente por Coljuegos a los municipuos y al Distrito Capital.",0,15]
[null,null,"D4825202","Indicadores del nivel de gasolina para automotores",1,{"$f":"ROW()","v":2856},8,null,null,"2.3.3.05.07.001","Apoyo a programas de desarrollo de la salud Ley 100 de 1993 Transferencias a Empresas Públicas departamentales dedicadas a actividades no financieras, en virtud de la Ley 100 de 1993, con el objeto de desarrollar programas en el desarrollo de la salud.",0,15]
[null,null,"D3432007","Índigo y sus derivados",1,{"$f":"ROW()","v":2857},8,null,null,"2.3.3.05.07.002","Asistencia ancianos, niños adoptivos y población desprotegida Ley 1251 de 2002 Transferencias a Empresas Públicas departamentales dedicadas a actividades no financieras, en virtud de las Leyes 1251 de 2002, y 12 de 1991, las cuales amparan los derechos de los ancianos y niños adoptados, respectivamente. Esta transferencia se realiza con el ánimo de la protección de los derechos de estas personas, en general, de la población desprotegida.",0,15]
[null,null,"D2712006","Individuales",1,{"$f":"ROW()","v":2858},8,null,null,"2.3.3.05.07.003","Recursos a municipios, espectáculos públicos Art. 7 de la Ley 1493 del 26 de diciembre de 2011",0,15]
[null,null,"D3416029","Indometacina",1,{"$f":"ROW()","v":2859},8,null,null,"2.3.3.05.07.004","Suministro de medicamentos de leishmaniasis Transferencias de la Nación a las entidades territoriales por concepto de suministro de medicamentos para atender a los pacientes de leishimaniasis , en virtud de la Ley 715 de de 2001, la cual estipula en su artículo 42, numeral 2, que la Nación debe impulsar, coordinar, financiar, cofinanciar y evaluar programas, planes y proyectos de inversión en materia de salud, con recursos diferentes a los del Sistema General de Participaciones, tal como se evidencia en el Protocolo de Vigilancia en Salud Pública Leishmaniasis.",0,15]
[null,null,"D4613102","Inducidos para motores",1,{"$f":"ROW()","v":2860},8,null,null,"2.3.3.05.07.005","Prevención de la farmacodependencia y de medicamentos de control especial Transferencias de la Nación a los departamentos en virtud del Decreto 205 de 2003, y la Resolución 1479 de 2006 del Ministerio de la Protección Social, con el fin de prevenir la farmacodependencia y fortalecer las medidas en torno a los medicamentos de control especial.",0,15]
[null,null,"D3549998","Ingredientes n.c.p. para concentrados de bebidas",1,{"$f":"ROW()","v":2861},8,null,null,"2.3.3.05.07.006","Departamento Archipiélago de San Andrés, Providencia y Santa Catalina (Ley 1a. de 1972) Transferencias al departamento Archipiélago de San Andrés, Providencia y Santa Catalina, en virtud de la Ley 1A de 1972, por medio de la cual se dictan disposicionales en un estatuto especial en el cual se establece la naturaleza jurídica, el régimen administrativo, el régimen de las entidades descentralizadas del orden intendencial, régimen fiscal y presupuestal.",0,15]
[null,null,"D2399992","Ingredientes para panadería n.c.p.",1,{"$f":"ROW()","v":2862},8,null,null,"2.3.3.05.07.007","Recursos para cofinanciación de coberturas en educación y salud de las entidades territoriales productoras, artículo 145 de la Ley 1530 de 2012 Transferencias que realiza la Nación para la financiación y cofinanciación de los programas y proyectos de alimentación escolar y régimen subsidiado que en virtud de las normas sobre regalías vigentes, antes de la expedición del Decreto 4923 de 2011 y la Ley 1530 de 2012, sean financiados con recursos de regalías directas por las entidades territoriales a que se refiere el inciso 2° del artículo 361 de la Constitución Política.",0,15]
[null,null,"D4474011","Iniciadores carga hueca",1,{"$f":"ROW()","v":2863},8,null,null,"2.3.3.05.07.008","Fondo de Desarrollo para la Guajira - FONDEG, artículo 19 Ley 677 de 2001 Transferencias en virtud del artículo 19 de la Ley 677 de 2001, por medio del cual la Nación cede la renta generada por concepto del impuesto único de ingreso a la mercancía importada a la Zona de Régimen Aduanera Especial de Maicao, Uribia, y Manaure, al departamento de La Guajira. Estos recursos se administran en el Fondo de Desarrollo para la Guajira (FONDEG), y deben ser destinados exclusivamente a obras de inversión social dentro del territorio de dicho departamento.",0,15]
[null,null,"D8831101","Inmunización de maderas",1,{"$f":"ROW()","v":2864},8,null,null,"2.3.3.05.07.009","Recursos de oro y platino para los municipios productores Decreto 2173/92",0,15]
[null,null,"D4291101","Inodoros y otros aparatos sanitarios metálicos",1,{"$f":"ROW()","v":2865},8,null,null,"2.3.3.05.07.010","Recursos a los municipios con resguardos indígenas Art. 24 Ley 44 de 1990, art. 184 Ley 223 de 1995",0,15]
[null,null,"D3413907","Inositol",1,{"$f":"ROW()","v":2866},8,null,null,"2.3.3.05.07.011","Aportes a programas de prevención y control de enfermedades transmitidas por vectores Transferencias de la Nación a los departamentos por concepto de aportes a los programas de prevención y control de enfermedades transmitidas por vectores, en virtud de la Ley 715 de 2001, la cual estipula en su artículo 42, numeral 2, que la Nación debe impulsar, coordinar, financiar, cofinanciar y evaluar programas, planes y proyectos de inversión en materia de salud, con recursos diferentes a los del Sistema General de Participaciones.",0,15]
[null,null,"D3466101","Insecticidas en polvo para uso animal",1,{"$f":"ROW()","v":2867},8,null,null,"2.3.3.05.07.012","Pueblo Nukak Maku (artículo 35 Decreto 1953 de 2014)",0,15]
[null,null,"D3466107","Insecticidas en polvo para uso doméstico",1,{"$f":"ROW()","v":2868},8,null,null,"2.3.3.05.07.013","Transferir a las entidades territoriales para apoyar la operación del programa de alimentación escolar Es la transferencia que realizan el Gobierno Nacional y las Entidades Territoriales por concepto de recursos para la financiación de los programas de alimentación escolar.",0,15]
[null,null,"D3466102","Insecticidas líquidos para uso animal",1,{"$f":"ROW()","v":2869},8,null,null,"2.3.3.05.07.014","Recursos a los municipios con territorios colectivos de comunidades negras. Artículo 255 Ley 1753 de 2015",0,15]
[null,null,"D3466108","Insecticidas líquidos para uso doméstico",1,{"$f":"ROW()","v":2870},8,null,null,"2.3.3.05.07.015","Seguimiento, actualización de cálculos actuariales, diseño de admón. Financiera del pasivo pensional de las entidades territoriales (artículo 48 de la Ley 863/2003)",0,15]
[null,null,"D3466105","Insecticidas y fungicidas en polvo para uso vegetal",1,{"$f":"ROW()","v":2871},8,null,null,"2.3.3.05.07.016","Pago acreencias Ley 226 de 1995 Transferencias realizadas por la Nación para llevar a cabo procedimientos de enajenación de la propiedad accionaria de entidades que presten un servicio público, conforme al artículo 6 de la Ley 226 de 1995.",0,15]
[null,null,"D3466106","Insecticidas y fungicidas líquidos para uso vegetal",1,{"$f":"ROW()","v":2872},8,null,null,"2.3.3.05.07.017","Cumplimiento parágrafo único artículo 4° Ley 1393 de 2010. Compensación departamentos",0,15]
[null,null,"D3899710","Insignias de bisutería para militares",1,{"$f":"ROW()","v":2873},8,null,null,"2.3.3.05.07.018","Compensación de las disminuciones del recaudo por concepto de derechos de explotación del juego de apuestas permanentes. Decreto 2550 de 2012",0,15]
[null,null,"D2791106","Insignias, escarapelas, banderines y similares",1,{"$f":"ROW()","v":2874},8,null,null,"2.3.3.05.07.019","Cumplimiento parágrafo único artículo 4° Ley 1393 de 2010. Compensación Distrito Capital",0,15]
[null,null,"D4653201","Instalaciones eléctricas navideñas",1,{"$f":"ROW()","v":2875},8,null,null,"2.3.3.05.07.020","Transferencia a departamentos, municipios y FONPET, recursos de juegos de suerte y azar - Ley 643 de 2001",0,15]
[null,null,"D4826603","Instrumentos contadores y reguladores de temperaturas industriales",1,{"$f":"ROW()","v":2876},8,null,null,"2.3.3.05.07.021","Distribución de recursos impuesto nacional al consumo sobre los servicios de telefonía móvil - sector cultura, Art 201 Ley 1819 de 2016",0,15]
[null,null,"D3835098","Instrumentos de percusión n.c.p.",1,{"$f":"ROW()","v":2877},8,null,null,"2.3.3.05.07.022","Organización y funcionamiento Departamento del Amazonas",0,15]
[null,null,"D3833099","Instrumentos de viento n.c.p.",1,{"$f":"ROW()","v":2878},8,null,null,"2.3.3.05.07.023","Organización y funcionamiento Departamento del Guainía",0,15]
[null,null,"D4824401","Instrumentos indicadores para radiotécnica y telecomunicaciones",1,{"$f":"ROW()","v":2879},8,null,null,"2.3.3.05.07.024","Organización y funcionamiento Departamento del Guaviare",0,15]
[null,null,"D3835099","Instrumentos musicales n.c.p.",1,{"$f":"ROW()","v":2880},8,null,null,"2.3.3.05.07.025","Organización y funcionamiento Departamento del Vaupés",0,15]
[null,null,"D4825399","Instrumentos n.c.p. científicos y de laboratorio",1,{"$f":"ROW()","v":2881},8,null,null,"2.3.3.05.07.026","Organización y funcionamiento Departamento del Vichada",0,15]
[null,null,"D4826499","Instrumentos n.c.p. contadores y registradores de velocidad industrial",1,{"$f":"ROW()","v":2882},8,null,null,"2.3.3.05.07.027","Participación IVA - Departamento Archipiélago de San Andrés Providencia y Santa Catalina",0,15]
[null,null,"D4826609","Instrumentos n.c.p. de medición y control",1,{"$f":"ROW()","v":2883},8,null,null,"2.3.3.05.07.028","Participación IVA - Departamento del Amazonas",0,15]
[null,null,"D4824999","Instrumentos n.c.p. para medir magnitudes eléctricas",1,{"$f":"ROW()","v":2884},{"$f":"LEN(C2884)","v":8},null,null,"2.3.3.05.07.029","Participación IVA - Departamento del Arauca",0,{"$f":"LEN(J2884)","v":15}]
[null,null,"D4831499","Instrumentos ópticos n.c.p.",1,{"$f":"ROW()","v":2885},8,null,null,"2.3.3.05.07.030","Participación IVA - Departamento del Casanare",0,15]
[null,null,"D4826604","Instrumentos reguladores de presión, humedad y niveles industriales",1,{"$f":"ROW()","v":2886},8,null,null,"2.3.3.05.07.031","Participación IVA - Departamento del Guainía",0,15]
[null,null,"D4821199","Instrumentos y aparatos n.c.p. para navegación aérea o espacial (excepto brújulas)",1,{"$f":"ROW()","v":2887},8,null,null,"2.3.3.05.07.032","Participación IVA - Departamento del Guaviare",0,15]
[null,null,"D4815001","Instrumentos, aparatos y accesorios para medicina y cirugía",1,{"$f":"ROW()","v":2888},8,null,null,"2.3.3.05.07.033","Participación IVA - Departamento del Putumayo",0,15]
[null,null,"D4813001","Instrumentos, aparatos y accesorios para odontología",1,{"$f":"ROW()","v":2889},8,null,null,"2.3.3.05.07.034","Participación IVA - Departamento del Vaupés",0,15]
[null,null,"D4815003","Instrumentos, aparatos y accesorios para veterinaria",1,{"$f":"ROW()","v":2890},8,null,null,"2.3.3.05.07.035","Participación IVA - Departamento del Vichada",0,15]
[null,null,"D3525023","Insulina",1,{"$f":"ROW()","v":2891},8,null,null,"2.3.3.05.07.036","Transferir por regalías derivadas explotación de sal en Manaure - Guajira. Leyes 141 de 1994, 549 de 1993 y 863 de 2003.",0,15]
[null,null,"D3527009","Interferones",1,{"$f":"ROW()","v":2892},8,null,null,"2.3.3.05.07.037","A instituciones de educación superior - establecimientos públicos del orden territorial - artículo 183 de la Ley 1955 de 2019",0,15]
[null,null,"D4621203","Interruptores de cuchilla para voltajes inferiores o iguales a 1000 V",1,{"$f":"ROW()","v":2893},8,null,null,"2.3.3.05.07.038","Apoyo para el desarrollo de las actividades de docencia, investigación o extensión Corresponde a transferencias que realizan las universidades a entidades territoriales (municipios o departamentos) con el fin de aportar en el desarrollo de actividades de docencia, investigación o extensión, asi mismo, por ejemplo, la distribución de utilidades, o la financiación de proyectos, contrapartidas.",0,15]
[null,null,"D4621105","Interruptores de cuchilla para voltajes superiores a 1000 V",1,{"$f":"ROW()","v":2894},8,null,null,"2.3.3.05.07.039","Transferencia a Fondos Territoriales de Mitigación del Riesgo Corresponde al giro anual de recursos que deben realizar las entidades descentralizadas para la sostenibilidad del Fondo de Mitigación de Riesgos ordenado por un Acuerdo municipal.",0,15]
[null,null,"D4621202","Interruptores de seguridad para voltajes inferiores o iguales a 1000 V",1,{"$f":"ROW()","v":2895},8,null,null,"2.3.3.05.07.040","Transferencia de recursos para la descontaminación ambiental de Barrancabermeja Aquellos recursos que transfiere CORMAGDALENA a Barrancabermeja para efectos de la descontaminación ambiental, para tal efecto la junta directiva de la mencionada empresa, destinará no menos de 10 mil salarios mínimos mensuales.",0,15]
[null,null,"D4621104","Interruptores de seguridad para voltajes superiores a 1000 V",1,{"$f":"ROW()","v":2896},8,null,null,"2.3.3.05.07.041","Devolución de aportes a Entidades Territoriales Constituye aquellas erogaciones que realizan las EICES, cuando se ordena o solicita la devolución de aportes que han realizado las entidades territoriales.",0,15]
[null,null,"D4621206","Interruptores eléctricos",1,{"$f":"ROW()","v":2897},8,null,null,"2.3.3.05.07.042","Transferencia de ventas brutas a municipios – Ley 1930 2018 art. 24 Transferencia del 3% de las ventas brutas a los municipios de las empresas del sector eléctrico cuya potencia nominal instalada total supere los 10.000 kilovatios",0,15]
[null,null,"D4621214","Interruptores para vehículos automotores",1,{"$f":"ROW()","v":2898},8,null,null,"2.3.3.05.07.043","Transferencia del recaudo del impuesto al consumo de productos de origen extranjero Corresponde a la transferencia que realiza el Fondo Cuenta del Impuesto al Consumo de productos de origen extranjero, administrado por la Federación Nacional de Departamentos, a favor de los departamentos y Bogotá. Por concepto de los recursos obtenidos por el recaudo del Impuesto al consumo de licores, cervezas y cigarrillos de origen extranjero.",0,15]
[null,null,"D4826602","Interruptores termostáticos",1,{"$f":"ROW()","v":2899},8,null,null,"2.3.3.05.07.044","Transferencia de rendimientos financieros del recaudo del impuesto al consumo de productos de origén extranjero. Corresponde a la transferencia que realiza el Fondo Cuenta del Impuesto al Consumo de productos de origen extranjero, administrado por la Federación Nacional de Departamentos, a favor de los departamentos y Bogotá. Por concepto de los rendimientos financieros generados por el recaudo del Impuesto al consumo de licores, cervezas y cigarrillos de origen extranjero.",0,15]
[null,null,"D0192908","Iraca",1,{"$f":"ROW()","v":2900},8,null,null,"2.3.3.05.08.001","Región Administrativa de Planificación Especial-RAPE Corresponde a la transferencias corrientes que se realizan a la Región Administrativa de Planificación Especial - RAPE. La RAPE-Región Central es un esquema asociativo de origen constitucional, creado al amparo del artículo 325 de la Carta Política y de la Ley Orgánica de Ordenamiento Territorial o Ley 1454 de 2011, previa autorización de las respectivas asambleas departamentales y el Concejo Distrital. Tiene la naturaleza jurídica de un esquema de asociación entre entidades territoriales, con personería jurídica, autonomía y patrimonio.",0,15]
[null,null,"D3411005","Isopreno",1,{"$f":"ROW()","v":2901},8,null,null,"2.3.3.05.09.001","Transferencias bienestar universitario (Ley 30 de 1992) Transferencias en virtud de la Ley 30 de 1992, mediante la cual las Instituciones de Educación Superior deben adelantar programas de bienestar entendidos como el conjunto de actividades que se orientan al desarrollo físico, psicoafectivo, espiritual y social de los estudiantes, docentes y personal administrativo, cuyo financiamiento se hará por medio del Fondo de Bienestar Universitario el cual se alimentará por recursos de la Nación, con cargo al Presupuesto General de la Nación, y de las entidades territoriales que puedan hacer aportes.",0,15]
[null,null,"D3455001","Jabón base",1,{"$f":"ROW()","v":2902},8,null,null,"2.3.3.05.09.002","Actividades de promoción y desarrollo de la cultura-convenios sector público (Ley 397 de 1997) Transferencias en cabeza del Ministerio de Cultura a organizaciones del sector público, las cuales ejecuten programas culturales abiertas al público para la promoción y el desarrollo del patrimonio cultural, en virtud de la Ley 397 de 1997.",0,15]
[null,null,"D3694006","Jaboneras, polveras y similares de material plástico",1,{"$f":"ROW()","v":2903},8,null,null,"2.3.3.05.09.003","Apoyo a las universidades públicas - descuento votaciones (Ley 403 de 1997) Transferencias que se realizan a las universidades públicas por el descuento realizado por el sufragio, lo anterior, conforme a la Ley 403 de 1997 y Ley 815 de 2013.",0,15]
[null,null,"D3532105","Jabones de tocador",1,{"$f":"ROW()","v":2904},8,null,null,"2.3.3.05.09.004","Transferencias de excedentes financieros del EOP Transferencias a la Nación y las Entidades Territoriales por concepto de excedentes financieros, en virtud del Estatuto Orgánico del Presupuesto.",0,15]
[null,null,"D3532107","Jabones en escamas",1,{"$f":"ROW()","v":2905},8,null,null,"2.3.3.05.09.005","Provisión para gastos institucionales y/o sectoriales contingentes- previo concepto DGPPN",0,15]
[null,null,"D3532101","Jabones en pasta para lavar",1,{"$f":"ROW()","v":2906},8,null,null,"2.3.3.05.09.006","Ley 30 de 1992, artículo 87 - distribución CESU Transferencias al Consejo Nacional de Educación Superior, CESU, cuyas principales funciones están relacionadas con la coordinación, planificación, recomendación y asesoría como organismo del Gobierno Nacional vinculado al Ministerio de Educación. El CESU es la máxima instancia colegiada y representativa para la orientación de políticas públicas en educación superior en Colombia. Fue creado por la Ley 30 de 1992 (por la cual se organiza el servicio público de la educación superior) como un organismo del Gobierno Nacional vinculado al Ministerio de Educación Nacional.",0,15]
[null,null,"D3532102","Jabones en polvo para lavar",1,{"$f":"ROW()","v":2907},8,null,null,"2.3.3.05.09.007","Ley 37 de 1987 - aportes Conservatorio del Tolima. Gastos de conformidad con la Ley 37 de 1987, en la cual se estipula que el Gobierno Nacional debe incluir en el Presupuesto anual de cada vigencia una suma no menor a noventa millones de pesos con el objeto de que el \"Conservatorio de Música del Tolima\" pueda realizar sus objetivos y cumplir debidamente los programas académicos y culturales, artísticos y de extensión musical que a todos los niveles desarrolla.",0,15]
[null,null,"D3532104","Jabones industriales",1,{"$f":"ROW()","v":2908},8,null,null,"2.3.3.05.09.008","Monitoreo y vigilancia educación superior para distribuir Transferencias al Ministerio de Educación para su distribución con el fin de financiar el monitoreo y la vigilancia de la educación superior, en virtud de la Ley 1324 de 2009.",0,15]
[null,null,"D3532103","Jabones líquidos para lavar",1,{"$f":"ROW()","v":2909},8,null,null,"2.3.3.05.09.009","Transferencia fondo de desarrollo de la educación superior FODESEP - artículo 91 Ley 30 de 1992 La presente transferencia responde a una de las fuentes de financiamiento del Fondo de Desarrollo de la Educación Superior, creado por la Ley 30 de 1992, artículo 89, definida como una entidad de economía mixta que se guía por el principio de la economía solidaria. Este puede estar compuestos por Instituciones de Educación Superior públicas (estatales u oficiales) y privadas, con los fines de financiar proyectos específicos de las mismas, y plantear y promover proyectos económicos en función del desempeño académico de estas.",0,15]
[null,null,"D3532106","Jabones medicinales",1,{"$f":"ROW()","v":2910},8,null,null,"2.3.3.05.09.010","Transferencia al Instituto de Seguros Sociales en Liquidación Decreto 2013 de 2012 Transferencias al Instituto de Seguros Sociales en liquidación en virtud del Decreto 2013 de 2012 por medio del cual se ordenó su supresión.",0,15]
[null,null,"D3532108","Jabones para uso veterinario",1,{"$f":"ROW()","v":2911},8,null,null,"2.3.3.05.09.011","Atención de desastres y emergencias en el territorio nacional -Fondo Nacional de Gestión del Riesgo de Desastres Transferencias al Fondo Nacional de Gestión de Riesgo de Desastres, cuyos fines son el interés público y la asistencia social, para a la atención de las necesidades que se originen en situaciones de desastre o de calamidad o de naturaleza similar. Sus objetivos generales son la negociación, obtención, recaudo, administración, inversión, gestión de instrumentos de protección financiera y distribución de los recursos financieros necesarios para la implementación y continuidad de la política de gestión del riesgo de desastres que incluya los procesos de conocimiento y reducción del riesgo de desastres y de manejo de desastres.",0,15]
[null,null,"D0431102","Jaibas sin congelar",1,{"$f":"ROW()","v":2912},8,null,null,"2.3.3.05.09.012","Fondo de Reserva para la Estabilización de la Cartera Hipotecaria Banco de la República Transferencias al Fondo de Reserva para la Estabilización de la Cartera Hipotecaria, el cual se creó en virtud de la Ley 546 de 1999, es administrado por el Banco de la República, y tiene como propósito facilitar las condiciones para la financiación de vivienda referida al índice de precios al consumidor.",0,15]
[null,null,"D2149401","Jaleas de frutas",1,{"$f":"ROW()","v":2913},8,null,null,"2.3.3.05.09.013","Fondo Nacional de Emergencias Transferencias al Fondo Nacional de Emergencia, en virtud del Decreto 3489 de 1982, por el cual se reglamenta el título VIII de la Ley 09 de 1979 y el Decreto Ley 2341 en cuanto a desastres, y además establece que uno de los recursos que financia su funcionamiento son los asignados por la Ley del Presupuesto General de la Nación. Este fondo tiene como objeto financiar la adquisición de víveres, vestuario y menaje domésticos; carpas y demás elementos para campamento, herramientas, entre otros, con el fin de atender contingencias por parte de la Defensa Civil.",0,15]
[null,null,"D2149499","Jaleas y mermeladas n.c.p.",1,{"$f":"ROW()","v":2914},8,null,null,"2.3.3.05.09.014","A institutos de investigación Ley 99 de 1993 Transferencias al Instituto de Investigaciones Ambientales del Pacífico \"John Von Neumann\", en virtud de la Ley 99 de 1993, en la cual se establece que esta organización es una corporación civil sin ánimo de lucro, de carácter público pero sometida a las reglas de derecho privado, cuyo objeto es realizar y divulgar estudios e investigaciones científicas relacionadas con la realidad biológica, social y ecológica del litoral pacífico y del Chocó biogeográfico.",0,15]
[null,null,"D2118101","Jamón",1,{"$f":"ROW()","v":2915},8,null,null,"2.3.3.05.09.015","A universidades para funcionamiento Ley 30 de 1992 artículo 86 Es la transferencia de recursos que realizan las entidades territoriales a las universidades públicas para financiar sus gastos de funcionamiento. Esta transferencia se realiza en virtud del artículo 86 de la Ley 30 de 1992 (modificado por el artículo 223 de la Ley 1753 de 2015), el cual establece que las universidades públcias recibirán de las entidades territoriales recursos para su financiación, los cuales siemrpe deben tener un incremento en pesos constantes a partir del presupuesto de gastos del año 1993.",0,15]
[null,null,"D2118407","Jamoneta envasada",1,{"$f":"ROW()","v":2916},8,null,null,"2.3.3.05.09.016","Tribunales de ética médica, odontología y enfermería Recursos destinados a la financiación del funcionamiento de los Tribunales de ética médica, odontología, y de enfermería, los cuales son entidades de orden legal que cumplen con una función pública cuya vigilancia recae sobre el Estado. Sus funciones se concentran en el conocimiento de los procesos disciplinarios ético-profesionales que se presenten por razón del ejercicio de la medicina, la odontología, y la enfermería en Colombia.",0,15]
[null,null,"D2321205","Jarabe de azúcar invertido",1,{"$f":"ROW()","v":2917},8,null,null,"2.3.3.05.09.017","Consejo Nacional del Trabajo Social Transferencias al Consejo Nacional del Trabajo Social, el cual fue creado en virtud de la Ley 53 de 1997, reglamentado por el Decreto 2833 de 1981, cuyas funciones se centran en conocer, decidir, y resolver en torno a las denuncias de ética de los profesionales en trabajo social.",0,15]
[null,null,"D2321206","Jarabe de maíz",1,{"$f":"ROW()","v":2918},8,null,null,"2.3.3.05.09.018","Comisión Nacional Intersectorial de Aseguramiento de la Calidad de la Educación Superior - CONACES Transferencias a la Comisión Nacional Intersectorial de Aseguramiento de la Calidad de la Educación Superior -CONACES-, en virtud del Decreto 2230 de 2003. Las funciones de CONACES, estipuladas en el Decreto 1306 de 2009, son: la coordinación y orientación del aseguramiento de la calidad de la educación superior, la evaluación del cumplimiento de los requisitos para la creación de instituciones de educación superior, su transformación y redefinición, sus programas académicos y demás funciones que le sean asignadas por el Gobierno Nacional.",0,15]
[null,null,"D2399906","Jarabes para bebidas",1,{"$f":"ROW()","v":2919},8,null,null,"2.3.3.05.09.019","Consejo Nacional de Acreditación - CNA Transferencias al Consejo Nacional de Acreditación, CNA, el cual tiene como función principal promover y ejecutar la política de acreditación adoptada por el Consejo Nacional de Educación Superior, CESU, y coordinar los respectivos procesos.",0,15]
[null,null,"D4291236","Jarras y platones de aluminio",1,{"$f":"ROW()","v":2920},8,null,null,"2.3.3.05.09.020","Consejo Nacional de Educación Superior - CESU (Ley 30 de 1992) Transferencias al Consejo Nacional de Educación Superior, CESU, cuyas principales funciones están relacionadas con la coordinación, planificación, recomendación y asesoría como organismo del Gobierno Nacional vinculado al Ministerio de Educación. El CESU es la máxima instancia colegiada y representativa para la orientación de políticas públicas en educación superior en Colombia. Fue creado por la Ley 30 de 1992 (por la cual se organiza el servicio público de la educación superior) como un organismo del Gobierno Nacional vinculado al Ministerio de Educación Nacional.",0,15]
[null,null,"D3694004","Jarras y platones de material plástico",1,{"$f":"ROW()","v":2921},8,null,null,"2.3.3.05.09.021","Apoyo para el funcionamiento del Colegio Miguel Antonio Caro - Transferencia al ICETEX Transferencias en virtud de la Ley 34 de 1969, por medio de la cual se aprobó el Convenio entre los Gobiernos de Colombia y España contenido en el Canje de Notas suscrito en Bogotá el día 7 de noviembre de 1968, \"el Colegio Mayor \"Miguel Antonio Caro\" quedará adscrito administrativamente al Instituto Colombiano de Especialización Técnica en el Exterior, y el Gobierno Nacional apropiará en cada una de las siguientes vigencias fiscales las sumas de dinero que sean necesarias para que el ICETEX pueda proveer adecuadamente a la administración y mantenimiento del citado Colegio\" ( Hoy en día, el Colegio está fuera de servicio, el dinero adjudicado se gasta en servicios de vigilancia, aseo y asesoría legal). El presente rubro corresponde a la transferencia de los mencionados recursos.",0,15]
[null,null,"D3719307","Jarras y platones de vidrio",1,{"$f":"ROW()","v":2922},8,null,null,"2.3.3.05.09.022","Recursos a BANCOLDEX Transferencias al Banco de Comercio Exterior de Colombia S.A., Bancoldex, en el cual se creó el Fondo de Modernización e Innovación para las Micro, Pequeñas y Medianas Empresas. Este tiene por objeto aplicar instrumentos financieros y no financieros, estos últimos, mediante cofinanciación no reembolsable de programas, proyectos y actividades para la innovación, el fomento y promoción de este tipo de empresas. Lo anterior en virtud de la Ley 1450 de 2011.",0,15]
[null,null,"D4291212","Jarras y platones esmaltados",1,{"$f":"ROW()","v":2923},8,null,null,"2.3.3.05.09.023","Recursos al Fondo Fílmico Colombia (FFC) - Ley 1556 de 2012 Transferencias al Fondo Fílmico Colombia, conforme a la Ley 1556 de 2012, en el marco del fomento de la actividad cinematográfica de Colombia, para promover el territorio nacional como elemento del patrimonio cultural para la filmación de audiovisuales y a través de estos, la actividad turística y la promoción de la imagen del país, así como el desarrollo de la industria cinematográfica.",0,15]
[null,null,"D3722204","Jarrones de barro cocido",1,{"$f":"ROW()","v":2924},8,null,null,"2.3.3.05.09.024","Fondo de Defensa Técnica y Especializada de los Miembros de la Fuerza Pública Recursos destinados al Fondo de Defensa Técnica y Especializada de los miembros de la Fuerza Pública, el cual tiene por objeto financiar el Sistema de Defensa Técnica y Especializada de los miembros de la Fuerza Pública, que se encarga de proveer y facilitar a los miembros activos y retirados. de la Fuerza Pública, a solicitud del interesado, acceso oportuno, continuo, especializado e ininterrumpido a los servicios jurídicos que garanticen una adecuada representación judicial.",0,15]
[null,null,"D3722201","Jarrones de loza o porcelana",1,{"$f":"ROW()","v":2925},8,null,null,"2.3.3.05.09.025","Cuerpos Consultivos Transferencias del Gobierno Nacional utilizadas para el funcionamiento de cada órgano consultivo.",0,15]
[null,null,"D0165701","Jengibre, ajengibre",1,{"$f":"ROW()","v":2926},8,null,null,"2.3.3.05.09.026","Garantías para bonos hipotecarios y titularización para financiar cartera VIS. Artículo 30 Ley 546 de 1999 Transferencias en virtud de la Ley 546 de 1999, por medio de la cual el Gobierno Nacional, a través de FOGAFIN, otorga garantías para los bonos hipotecarios para financiar cartera VIS subsidiable y para títulos emitidos en procesos de titularización de cartera VIS subsidiable, que emitan los establecimientos de crédito, en los términos y con las condiciones que señale el Gobierno Nacional.",0,15]
[null,null,"D4815015","Jeringa para uso veterinario",1,{"$f":"ROW()","v":2927},8,null,null,"2.3.3.05.09.027","Aportes para la Corporación de Alta Tecnología para la Defensa",0,15]
[null,null,"D4815005","Jeringas hipodérmicas desechables (incluso con aguja)",1,{"$f":"ROW()","v":2928},8,null,null,"2.3.3.05.09.028","Ajuste IPC vigencias anteriores - Universidades",0,15]
[null,null,"D3824001","Joyas de oro",1,{"$f":"ROW()","v":2929},8,null,null,"2.3.3.05.09.029","Fondo para la Participación Ciudadana y el Fortalecimiento de la Democracia. Artículo 96 Ley 1757 de 2015 Transferencias que se realizan al Fondo para la Participación Ciudadana y el Fortalecimiento de la Democracia para la financiación y cofinanciación de planes, programas y proyectos de formación para la participación ciudadana o de participación ciudadana, lo anterior conforme al Artículo 96 de la Ley 1757 de 2015",0,15]
[null,null,"D3824002","Joyas de plata",1,{"$f":"ROW()","v":2930},8,null,null,"2.3.3.05.09.030","Fondo Colombia en Paz (FCP) - Decreto 691/2017 Transferencias que se realizan al Fondo Colombia en Paz para realizar las acciones necesarias para en la implementación del Acuerdo Final para la Terminación del Conflicto y la Construcción de una Paz Estable y Duradera, lo anterior, conforme al Decreto 691 de 2017",0,15]
[null,null,"D3824003","Joyas de platino",1,{"$f":"ROW()","v":2931},8,null,null,"2.3.3.05.09.031","Colegio Boyacá (Decreto 3176 de 2005 artículo 2) Transferencias al Colegio de Boyacá en virtud del Decreto 3176 de 2005, el cual sufrió el traspaso de ente adscrito al Ministerio de Educación Nacional al municipio de Tunja como establecimiento público. Lo anterior en función de que las instituciones educativas estatales deben ser departamentales, distritales o municipales y los establecimientos públicos educativos del orden nacional que funcionan con recursos del presupuesto nacional deberán ser traspasados con los recursos a las respectivas entidades territoriales, conservando su autonomía administrativa.",0,15]
[null,null,"D3899705","Joyería falsa o de fantasía acabada",1,{"$f":"ROW()","v":2932},8,null,null,"2.3.3.05.09.032","Instituto Tecnológico Metropolitano",0,15]
[null,null,"D3899713","Joyería falsa o de fantasía semiacabada",1,{"$f":"ROW()","v":2933},8,null,null,"2.3.3.05.09.033","Instituto Universitario de la Paz",0,15]
[null,null,"D3859007","Juegos de ajedrez",1,{"$f":"ROW()","v":2934},8,null,null,"2.3.3.05.09.034","Unidades Tecnológicas de Santander",0,15]
[null,null,"D3844005","Juegos de badminton",1,{"$f":"ROW()","v":2935},8,null,null,"2.3.3.05.09.035","Institución Universitaria Antonio José Camacho-UNIAJC",0,15]
[null,null,"D4633001","Juegos de cables y encendido para vehículos automóviles",1,{"$f":"ROW()","v":2936},8,null,null,"2.3.3.05.09.036","Institución Universitaria de Envigado",0,15]
[null,null,"D3859008","Juegos de dominó, lotería y otros juegos de sala",1,{"$f":"ROW()","v":2937},8,null,null,"2.3.3.05.09.037","Institución Universitaria Bellas Artes y Ciencias de Bolívar",0,15]
[null,null,"D3859009","Juegos de fútbol mecánicos y similares",1,{"$f":"ROW()","v":2938},8,null,null,"2.3.3.05.09.038","Escuela Superior Tecnológica de Artes \"Débora Arango\"",0,15]
[null,null,"D4421707","Juegos de matrices para conformar metales",1,{"$f":"ROW()","v":2939},8,null,null,"2.3.3.05.09.039","Instituto Departamental de Bellas Artes",0,15]
[null,null,"D3859011","Juegos de salón",1,{"$f":"ROW()","v":2940},8,null,null,"2.3.3.05.09.040","Politécnico Colombiano \"Jaime Isaza Cadavid\"",0,15]
[null,null,"D3844003","Juegos de tenis de mesa",1,{"$f":"ROW()","v":2941},8,null,null,"2.3.3.05.09.041","Tecnológico de Antioquia",0,15]
[null,null,"D3859012","Juegos electromecánicos",1,{"$f":"ROW()","v":2942},8,null,null,"2.3.3.05.09.042","Escuela Nacional del Deporte - Art. 51 Decreto 2845 de 1984",0,15]
[null,null,"D3859001","Juegos electromecánicos y electrónicos-tragamonedas",1,{"$f":"ROW()","v":2943},8,null,null,"2.3.3.05.09.043","Transferencia a la Sociedad Fiduciaria de Desarrollo Agropecuario S.A. FIDUAGRARIA - Patrimonio autónomo de remanentes - INCODER en liquidación",0,15]
[null,null,"D2143902","Jugo concentrado de fruta",1,{"$f":"ROW()","v":2944},8,null,null,"2.3.3.05.09.044","Consejo Nacional de Juegos de Suerte y Azar, Art.46 Ley 643/01",0,15]
[null,null,"D2354004","Jugo de caña de azúcar clarificado",1,{"$f":"ROW()","v":2945},8,null,null,"2.3.3.05.09.045","Aseguramiento en salud (Leyes 100 de 1993, 1122 de 2007, 1393 de 2010, 1438 de 2011 y 1607 de 2012)",0,15]
[null,null,"D2132101","Jugo de tomate envasado",1,{"$f":"ROW()","v":2946},8,null,null,"2.3.3.05.09.046","Prevención y promoción de la salud",0,15]
[null,null,"D2143901","Jugos de frutas envasados",1,{"$f":"ROW()","v":2947},8,null,null,"2.3.3.05.09.047","Mejoramiento de la red de urgencias y atención de enfermedades catastróficas y accidentes de tráfico (servicios integrantes de salud)",0,15]
[null,null,"D2132999","Jugos de legumbres envasados n.c.p.",1,{"$f":"ROW()","v":2948},{"$f":"LEN(C2948)","v":8},null,null,"2.3.3.05.09.048","Aseguramiento en salud - entidades territoriales - impuesto al consumo de licores",0,{"$f":"LEN(J2948)","v":15}]
[null,null,"D3856001","Juguetería de madera",1,{"$f":"ROW()","v":2949},8,null,null,"2.3.3.05.09.049","Programas nacionales de investigación, asistencia técnica y desarrollo agropecuario. Convenio con CORPOICA",0,15]
[null,null,"D3856003","Juguetería de material plástico",1,{"$f":"ROW()","v":2950},8,null,null,"2.3.3.05.09.050","A institutos técnicos, tecnológicos y colegios mayores - Decreto 1052 de 2006",0,15]
[null,null,"D3856002","Juguetería metálica",1,{"$f":"ROW()","v":2951},8,null,null,"2.3.3.05.09.051","Programas para el apoyo a las MYPIMES Ley 590 de 2000",0,15]
[null,null,"D2929007","Juguetes caninos de carnaza",1,{"$f":"ROW()","v":2952},8,null,null,"2.3.3.05.09.052","Recursos para transferir a instituciones de educación superior públicas - Artículo 142 de la Ley 1819 de 2016",0,15]
[null,null,"D0325007","Junco",1,{"$f":"ROW()","v":2953},8,null,null,"2.3.3.05.09.053","Fondos de Servicios Educativos de las Instituciones de Preescolar, Básica y Media Son los recursos transferidos a los Fondos de Servicios Educativos de los establecimientos educativos de Preescolar, Básica y Media, beneficiarios de las transferencias de Gratuidad Educativa del Sistema General de Participaciones y demás aportes de las entidades territoriales.",0,15]
[null,null,"D0426102","Jureles y cojinuas, frescos o refrigerados",1,{"$f":"ROW()","v":2954},8,null,null,"2.3.3.05.09.054","A establecimientos públicos y unidades administrativas especiales Comprende las transferencias corrientes dirigidas a establecimientos públicos y unidades administrativas especiales.",0,15]
[null,null,"D3525071","Kanamicina",1,{"$f":"ROW()","v":2955},8,null,null,"2.3.3.05.09.055","Apoyo para el desarrollo de las actividades de docencia, investigación o extensión Corresponde a las transferencias corrientes a instituciones de educación superior en el desarrollo de compromisos para el desarrollo de actividades de docencia, investigacion y extensión. EJM: Premio Otto de Greiff, distribución de excedentes, contrapartidas, etc.",0,15]
[null,null,"D3812105","Kárdex metálicos",1,{"$f":"ROW()","v":2956},8,null,null,"2.3.3.05.09.056","Fondo de Investigación en Salud Transferencias realizadas a la financiación de proyectos del Fondo de Investigación en Salud,  para cada departamento y el Distrito Capital",0,15]
[null,null,"D0192202","Kenaf",1,{"$f":"ROW()","v":2957},8,null,null,"2.3.3.05.09.057","Pago de aportes sobre los voluntarios acreditados y activos del subsistema nacional de primera respuesta afiliados al SGRL - Decreto 1809 de 2020 Corresponde a la transferencia que realiza el Ministerio del Interior al Fondo Nacional de Gestión del Riesgo de Desastres (FNGRD) con el fin de realizar el pago de la ARL de los voluntarios acreditados y activos del subsistema nacional de primera respuesta",0,15]
[null,null,"D4325302","Kit para campanas extractoras de olores",1,{"$f":"ROW()","v":2958},8,null,null,"2.3.3.05.09.058","Fondo mujer emprende. Decreto Ley 810 de 2020 y Ley 2069 de 2020 Corresponde a un Patrimonio Autónomo creado mediante el Decreto Legislativo No. 810 de 2020, que de acuerdo con la Ley 2069 se denominará \"Fondo Mujer Emprende\", el cual en conjunto con las entidades del orden internacional, nacional, regional, municipal, públicas o privadas que considere, diseñará y ejecutará los planes, programas, iniciativas y herramientas para promover, apoyar y financiar el emprendimiento, formalización y fortalecimiento empresarial de las mujeres, con el fin de promover los emprendimientos y empresas de mujeres a nivel nacional.",0,15]
[null,null,"D0135201","Kiwi",1,{"$f":"ROW()","v":2959},8,null,null,"2.3.3.05.09.059","Fondo de estabilización de precios de los combustibles – FEPC Transferencia corriente que ampara el reconocimiento y pago de la transferencia a favor del Fondo de Estabilización de Precios de los Combustibles, establecido en el Art, 69 de la Ley 1151 de 2007",0,15]
[null,null,"D2223001","Kumis",1,{"$f":"ROW()","v":2960},8,null,null,"2.3.3.05.09.060","Transferencias a Fondos de Desarrollo Local Corresponde a las transferencias que las administraciones distritales realizan a sus Fondos de Desarrollo Local en virtud de la Ley 1617 de 2013 y el Decreto Ley 1421 de 1993",0,15]
[null,null,"D0132902","Kumquat",1,{"$f":"ROW()","v":2961},8,null,null,"2.3.3.05.09.061","Fondo para la Promoción del Patrimonio, la Cultura, las Artes y la Creatividad -FONCULTURA - Ley 2070 de 2020 Corresponde a los recursos que serán transferidos por el Ministerio de Cultura, al Fondo Mixto Nacional de Promoción de la Cultura y las Artes \"Colombia Crea Talento, quien los administrará, y los cuales serán destinados a las Iniciativas y proyectos culturales, en virtud del artículo 63 de la Ley 397 de 1997 y del artículo 4° de la Ley 2070 de 2020.",0,15]
[null,null,"D3511015","Lacas acrílicas transparentes o coloreadas",1,{"$f":"ROW()","v":2962},8,null,null,"2.3.3.05.09.062","Fondo de Fomento para las Mujeres Rurales -FOMMUR, Ley 731 de 2002 Comprende las transferencias para promover el apoyo de planes, programas y proyectos de actividades rurales, que permitan la incorporación y consolidación de las mujeres rurales y sus organizaciones; que realiza el Ministerio de Agricultura y Desarrollo Rural al Fondo de Fomento para las Mujeres Rurales (FOMMUR) en virtud de la Ley 731 de 2002.",0,15]
[null,null,"D3431005","Lacas artificiales en polvo",1,{"$f":"ROW()","v":2963},8,null,null,"2.3.3.05.09.063","Fondo para el acceso a los insumos agropecuarios -FAIA, Ley 2183 de 2022 Comprende las transferencias que financiarán los mecanismos para contribuir al acceso en mejores condiciones a los insumos agropecuarios con énfasis en los pequeños y medianos productores y las mujeres rurales que realiza el Ministerio de Agricultura y Desarrollo Rural al Fondo para el Acceso a los Insumos Agropecuarios -FAIA en virtud de la Ley 2183 de 2022.",0,15]
[null,null,"D3431006","Lacas base poliuretano para recubrimiento de madera",1,{"$f":"ROW()","v":2964},8,null,null,"2.3.3.06.01","Créditos educativos de excelencia Gastos por concepto de créditos condonables para educación superior para los mejores estudiantes, ubicados en el decil más alto de cada grupo, en la prueba SABER PRO, además que pertenezcan a hogares evaluados en los niveles de SISBEN 1, 2 y 3 o su equivalente, y que hayan terminado el programa para el cual recibieron el mencionado crédito, lo anterior, conforme al decreto 2636 de 2012, Ley 1450 de 2011 – Art. 27 y Ley 1547 de 2012",0,11]
[null,null,"D3511016","Lacas butíricas transparentes o coloreadas",1,{"$f":"ROW()","v":2965},8,null,null,"2.3.3.06.02","Transferencia convenios ICETEX",0,11]
[null,null,"D3511019","Lacas en aerosol",1,{"$f":"ROW()","v":2966},8,null,null,"2.3.3.06.03","Beneficios educativos a la comunidad universitaria Corresponde al gasto que realizan las IES por otorgamiento de becas a favor de sus estudiantes, siempre y cuando se trate del pago de matriculas a favor de otra universidad. Esta cuenta no registra el pago de matrícula en la misma universidad. Tambien excluye el pago de incentivos o estímulos de sostenimiento que se otorgan adicionales al pago de la matrícula, estos gastos se clasifican en la cuenta Apoyo socioeconómico a estudiantes. ",0,11]
[null,null,"D3511014","Lacas nitrocelulósicas transparentes o coloreadas",1,{"$f":"ROW()","v":2967},8,null,null,"2.3.3.07.01.001","Mesadas pensionales enfermos de lepra (Ley 148 de 1961) (de pensiones) Transferencias en virtud de la Ley 148 de 1961, la cual establece que en los términos de las disposiciones de las Leyes 40 de 1922, 86 de 1923, y 4 de 1930, los servidores públicos quienes en ejercicio de sus funciones hayan contraído lepra tienen derecho a ser reconocidos como beneficiaros del derecho a la pensión con cargo al tesoro nacional.",0,15]
[null,null,"D3414053","Lactato de calcio",1,{"$f":"ROW()","v":2968},8,null,null,"2.3.3.07.01.002","Transferencia a Colpensiones para administración beneficios económicos periódicos (Otras prestaciones de jubilación) Transferencias a cargo del Ministerio de Hacienda y Crédito Público y las Entidades Territoriales, los cuales realizará el desembolso (transferencias) de los recursos de acuerdo con el plan de caja anual elaborado por la administradora del mecanismo BEPS (Beneficios Económicos Periódicos), que dependerá exclusivamente de las necesidades que deba atender según los subsidios y/o incentivos a otorgar en el respectivo año y que le permita tener un flujo eficiente de recursos. Lo anterior, se hace siempre en función de que la administradora del mecanismo BEPS reporte a más tardar el último día del mes de marzo de cada año, al Ministerio de Hacienda y Crédito Público y al Ministerio del Trabajo - Fondo de Riesgos Laborales, la provisión que deban hacer para el financiamiento y pago de los subsidios para la siguiente vigencia fiscal.",0,15]
[null,null,"D3414062","Lactato de sodio",1,{"$f":"ROW()","v":2969},8,null,null,"2.3.3.07.01.003","Sostenimiento educativo hijos enfermos de lepra (Ley 148 de 1961) (no de pensiones) Transferencias en virtud de la Ley 148 de 1961, mediante la cual se estableció que corresponde al Ministerio de Salud orientar la futura actividad social de los hijos de los enfermos de lepra, y por tanto, al Gobierno Nacional, disponer de los medios y recursos para su cumplimiento. En este sentido, se ha producido el sostenimiento educativo, por medio de, por ejemplo, subsidios educativos.",0,15]
[null,null,"D3542012","Lactoalbúmina",1,{"$f":"ROW()","v":2970},8,null,null,"2.3.3.07.01.004","Subsidio enfermos de lepra (Decretos 0475 de 1954/ Decreto 1975 de 1957/ Ley 148 de 1961/ Ley 380 de 1997) (no de pensiones) Transferencias en virtud de los Decretos 0475 de 1954 y 1975 de 1957, y las Leyes 148 de 1961 y 380 de 1997, por medio de los cuales los enfermos de lepra y los llamados \"curados sociales\" tienen derecho a un subsidio de tratamiento equivalente a un salario mínimo mensual legal vigente, el cual se ajusta anualmente de acuerdo con la misma proporción de incremento del salario mínimo mensual.",0,15]
[null,null,"D2321101","Lactosa comestible",1,{"$f":"ROW()","v":2971},8,null,null,"2.3.3.07.01.005","Derechos de los soldados cuando reciben lesiones permanentes, literal f, Art. 40, Ley 48 de 1993 (no de pensiones) Transferencias de acuerdo con la Ley 48 de 1993, artículo 40, en la cual se establecieron, en su literal f, ciertos derechos para quienes hayan prestado el servicio militar obligatorio. En este sentido, ordenó que en la situación en que un soldado, en cumplimiento de su deber, sufra lesiones permanentes que le impidan desempeñarse normalmente, el Estado tiene la obligación de ofrecerle una capacitación que elija hasta el grado profesional de instrucción. La obligación del Estado cesará cuando el beneficiario rechace el ofrecimiento o cuando se deduzca su desinterés por su bajo rendimiento. En este mismo sentido, el Estado le pagará una asignación mensual equivalente a un salario mínimo mensual legal por el tiempo que dure desempleado. Esta obligación cesará cuando el Estado lo incorpore laboralmente o cuando el ofrecimiento sea rechazado sin justa causa por el beneficiario.",0,15]
[null,null,"D3754003","Ladrillo calicanto-sílico calcáreo",1,{"$f":"ROW()","v":2972},8,null,null,"2.3.3.07.01.006","Subsidio veteranos guerra de Korea y conflicto con el Perú. Ley 683-2001 (no de pensiones) Transferencias en virtud de la Ley 683 de 2001, gracias a la cual los veteranos sobrevivientes de la Guerra de Corea y el Conflicto del Perú, que se encuentren en estado de indigencia, recibirán un subsidio mensual equivalente a dos Salarios Mínimos Mensuales Legales Vigentes, el cual será pagado por el Ministerio de Defensa Nacional, y cuyo control se realizará por parte de la Contraloría General de la República y el mencionado ministerio. De fallecer el veterano beneficiario, el último pago no reclamado se destinará para el pago de los servicios funerarios.",0,15]
[null,null,"D3735001","Ladrillo común",1,{"$f":"ROW()","v":2973},8,null,null,"2.3.3.07.01.007","Campañas control lepra (Ley 148 de 1961/ Ley 380 de 1997) (no de pensiones) Transferencias a Empresas Públicas departamentales dedicadas a actividades no financieras, en virtud de las Leyes 148 de 1961, y 380 de 1997, según las cuales la población que sufre dicha enfermedad debe tener condiciones especiales, además de realizar campañas para su control.",0,15]
[null,null,"D3735003","Ladrillo hueco",1,{"$f":"ROW()","v":2974},8,null,null,"2.3.3.07.01.008","Programa atención áreas marginadas y población dispersa (Ley 100 de 1993) (no de pensiones) Transferencias al programa de atención a población dispersa y en áreas marginadas, en servicios básicos como salud, con el fin de atender dichas personas.",0,15]
[null,null,"D3735002","Ladrillo prensado",1,{"$f":"ROW()","v":2975},8,null,null,"2.3.3.07.01.009","Fondo Solidaridad en Salud Ley 1122 de 2007 (no de pensiones) Transferencias destinadas al Fondo de Solidaridad y Garantía, Fosyga, el cual financia en parte el regimen subsidiado de salud. Este se financia con los aportes del Gobierno Nacional y el uno punto cinco de la cotización del régimen (1,5%) contributivo y de los regímenes especiales y de excepción.",0,15]
[null,null,"D3732001","Ladrillo refractario",1,{"$f":"ROW()","v":2976},8,null,null,"2.3.3.07.01.010","Implementación del sistema integral de salud en el sistema penitenciario (no de pensiones) Transferencias en virtud de la Ley 65 de 1993, por la cual se expide el Código Penitenciario y Carcelario; la Sentencia T-530 de 1999, donde se recalca que para que \"la obligación del Estado de velar por la salud del recluso se haga exigible, no es necesario que el interno esté afectado de tal manera que la situación involucre una amenaza de violación del derecho a la vida o de otro derecho fundamental\"; y la Ley 1709 de 2014, por medio de la cual se reforman algunos artículos de la Ley 65 de 1993; con el objeto de implementar el Sistema Integral de Salud en el Sistema Penitenciario.",0,15]
[null,null,"D3735006","Ladrillo sin cocinar",1,{"$f":"ROW()","v":2977},8,null,null,"2.3.3.07.01.011","Atención integral a la población desplazada en cumplimiento de la Sentencia T-025 de 2004 (no de pensiones) Transferencias realizadas por el Ministerio del Interior para la atención integral de la población desplazada, en viturd de la Sentencia T-025 de 2004 de la Corte Constitucional.",0,15]
[null,null,"D3712805","Lámina armada de lana de vidrio",1,{"$f":"ROW()","v":2978},8,null,null,"2.3.3.07.01.012","Alimentación para internos Transferencias conforme a los Decretos 4151 de 2011 (Art. 8) y 1890 de 1999, en las cuáles se hace referencia a los recursos destinados a financiar el servicio de alimentación para la atención, por ejemplo, de los internos de los centros de reclusión del Orden Nacional del Instituto Nacional Penitenciario y Carcelario, INPEC.",0,15]
[null,null,"D3792014","Lámina de amianto",1,{"$f":"ROW()","v":2979},8,null,null,"2.3.3.07.02.001.01","Mesadas pensionales con cargo a reservas (de pensiones)",0,18]
[null,null,"D4123104","Lámina de hierro o acero pintada, barnizada o revestida",1,{"$f":"ROW()","v":2980},8,null,null,"2.3.3.07.02.001.02","Mesadas pensionales a cargo de la entidad (de pensiones)",0,18]
[null,null,"D3712804","Lámina de lana de vidrio",1,{"$f":"ROW()","v":2981},8,null,null,"2.3.3.07.02.002.01","Cuotas partes pensionales con cargo a reservas (de pensiones)",0,18]
[null,null,"D3151101","Lámina de madera no contrachapada, de un grosor máximo de 6 mm, de madera de conífera",1,{"$f":"ROW()","v":2982},8,null,null,"2.3.3.07.02.002.02","Cuotas partes pensionales a cargo de la entidad (de pensiones)",0,18]
[null,null,"D3151201","Lámina de madera no contrachapada, de un grosor máximo de 6 mm, de madera de no conífera",1,{"$f":"ROW()","v":2983},8,null,null,"2.3.3.07.02.003.01","Bonos pensionales con cargo a reservas (de pensiones)",0,18]
[null,null,"D3633016","Lámina de poliestireno",1,{"$f":"ROW()","v":2984},8,null,null,"2.3.3.07.02.003.02","Bonos pensionales a cargo de la entidad (de pensiones)",0,18]
[null,null,"D3633003","Lámina de polietileno",1,{"$f":"ROW()","v":2985},8,null,null,"2.3.3.07.02.004","Fondo Prestaciones de los Pensionados de las Empresas Productoras de Metales del Chocó Ley 50 de 1990 (de pensiones) Transferencias al Fondo de Prestaciones de los Pensionados de las Empresas Productoras de Metales Preciosos del Chocó, el cual fue creado en virtud de la Ley 50 de 1990, y reglamentado posteriormente por el Decreto 838 de 1991. En esta normatividad se estipuló que este fondo se encargaría del reconocimiento y pago de las pensiones de jubilación de los trabajadores de las empresas productoras de metales preciosos.",0,15]
[null,null,"D3633006","Lámina de polivinilo",1,{"$f":"ROW()","v":2986},8,null,null,"2.3.3.07.02.005","Fondo Nacional de Prestaciones Sociales del Magisterio (de pensiones) Transferencias al Fondo Nacional de Prestaciones Sociales del Magisterio. En virtud de la Ley 91 de 1989, este fondo se encarga del reconocimiento y pago de las prestaciones sociales de los docentes nacionales y nacionalizados.",0,15]
[null,null,"D3712806","Lámina en fibra de vidrio para recubrimiento de tubería",1,{"$f":"ROW()","v":2987},8,null,null,"2.3.3.07.02.006","Prestaciones convencionales (Otras prestaciones de jubilación) Transferencia a la Unidad de Pensiones del Fondo de Pasivo Social de Ferrocarriles Nacionales de Colombia, el cual en cumplimento de su objeto paga las prestaciones convencionales a los ex empleados de la empresa Ferrocarriles Nacionales de Colombia, en virtud del Decreto 1591 de 1989 y Art 11 de la Ley. 100.",0,15]
[null,null,"D4123301","Lámina magnética",1,{"$f":"ROW()","v":2988},8,null,null,"2.3.3.07.02.007","Obligaciones convencionales pensionados del IDEMA (Otras prestaciones de jubilación) Transferencia de recursos destinados al pago de las obligaciones convencionales de los pensionados del Instituto de Mercadeo Agropecuario (IDEMA), en virtud del Decreto 1675 de 1997 y Art 11 de la Ley 100.",0,15]
[null,null,"D3757002","Lámina ondulada de asbesto-cemento",1,{"$f":"ROW()","v":2989},8,null,null,"2.3.3.07.02.008","Aportes previsión pensiones vejez jubilados (de pensiones) Aportes destinados a la conformación del capital que le permite al afiliado al sistema pensional financiar su pensión de vejez una vez cumpla los requisitos legales establecidos.",0,15]
[null,null,"D3757011","Lámina ondulada de fibro - cemento (mezcla de cemento con fibras diferentes al asbesto)",1,{"$f":"ROW()","v":2990},8,null,null,"2.3.3.07.02.009","Mesadas pensionales Hospital San Juan de Dios e Instituto Materno Infantil Transferencias en virtud de la Ley 60 de 1993, por medio de la cual se autorizó la Nación y las Entidades territoriales para concurrir con las instituciones de salud por motivos pensionales, entre otros, se firmaron los contratos 191 de 1995 y 799 de 1998. En este mismo sentido, la Ley 715 de 2001 (artículos 61, 62 y 63) suprimió el Fondo del Pasivo Prestacional del sector salud y trasladó las obligaciones a la Nación, Ministerio de Hacienda y Crédito Público. Asimismo, en virtud del Fallo de Unificación, SU-484 de 2008, de la Corte Constitucional se estableció que las pensiones causadas antes del 31 de diciembre de 1993 por la Fundación San Juan de Dios que comprende el Hospital San Juan de Dios y el Instituto Materno Infantil corresponden ser pagadas por la Nación, la cual lo realiza por medio del Fondo de Pasivo Social de Ferrocarriles Nacionales de Colombia.",0,15]
[null,null,"D3633002","Lámina ondulada de material plástico",1,{"$f":"ROW()","v":2991},8,null,null,"2.3.3.07.02.010.01","Incapacidades (no de pensiones)",0,18]
[null,null,"D3633023","Lámina ondulada de polivinilo",1,{"$f":"ROW()","v":2992},8,null,null,"2.3.3.07.02.010.02","Licencias de maternidad y paternidad (no de pensiones)",0,18]
[null,null,"D3757001","Lámina plana de asbesto-cemento",1,{"$f":"ROW()","v":2993},8,null,null,"2.3.3.07.02.011","Asignaciones de retiro (no de pensiones) Erogación de carácter prestacional, realizada por la Caja de Retiro de las Fuerzas Militares y la Caja de Sueldos de Retiro de la Policia Nacional, la cual está encaminada a la cobertura del riesgo que recae en el servidor que cesa en su labor, a través de un auxilio económico.",0,15]
[null,null,"D3757010","Lámina plana de fibro - cemento (mezcla de cemento con fibras diferentes al asbesto)",1,{"$f":"ROW()","v":2994},8,null,null,"2.3.3.07.02.012.01","Auxilios funerarios con cargo a reservas (no de pensiones)",0,18]
[null,null,"D3633001","Lámina plana de material plástico",1,{"$f":"ROW()","v":2995},8,null,null,"2.3.3.07.02.012.02","Auxilios funerarios a cargo de la entidad",0,18]
[null,null,"D3219932","Lámina prensada de cartón con desechos textiles o cuero especial para calzado",1,{"$f":"ROW()","v":2996},8,null,null,"2.3.3.07.02.013","Aporte previsión social servicios médicos (Otras prestaciones de jubilación) Transferencia que realiza la Caja de Sueldos de Retiro de la Policía Nacional y Ministerio de Defensa Nacional para realizar el pago de los aportes patronales al Sistema General de Seguridad Social en Salud del personal pensionado y en asignación de retiro, correspondiente al 12,5% de la respectiva mesada pensional o sueldo de retiro, en virtud del Decreto 4433 de 2004 y las Leyes 1122 de 2007.",0,15]
[null,null,"D3632013","Lámina tubular plástica laminada con aluminio",1,{"$f":"ROW()","v":2997},8,null,null,"2.3.3.07.02.014","Servicios médicos, educativos, recreativos, y culturales para funcionarios de la Contraloría General de la República (Art. 90 y 91 Ley 106 de 1993) (no de pensiones) Transferencia al Fondo de Bienestar Social de la Contraloría General de la República, en virtud de la Ley 106 de 1993, cuyo objeto se centra en: 1. Contribuir a la solución de las necesidades básicas de salud, educación y vivienda de los empleados de la Contraloría General de la República, 2. Desarrollar planes especiales de vivienda, educación y salud para los empleados de la Contraloría General de la República, 3. Desarrollar planes de crédito de salud, educación y vivienda para los empleados de la Contraloría General de la República y/o su cónyuge o compañero o compañera permanente, entre otros.",0,15]
[null,null,"D3792011","Laminados de asbesto",1,{"$f":"ROW()","v":2998},8,null,null,"2.3.3.07.02.015","Bienestar social del pensionado (Otras prestaciones de jubilación) Transferencias al Fondo de Previsión Social del Congreso de la República, en virtud de la Ley 33 de 1985, la cual ordenó la creación del fondo y asigno dentro de sus funciones el desarrollo de actividades de bienestar social, en este caso, del pensionado.",0,15]
[null,null,"D3792010","Laminados de asbesto con otros materiales-felbesto",1,{"$f":"ROW()","v":2999},8,null,null,"2.3.3.07.02.016","Indemnizaciones enfermedad general (no de pensiones) Transferencias en virtud del Decreto 2943 de 2013 por medio del cual se estableció que los primeros dos días de incapacidad provocada por enfermedad general, le corresponde pagarlos al empleador, sea este público o privado.",0,15]
[null,null,"D3192204","Laminados de corcho con otros materiales",1,{"$f":"ROW()","v":3000},8,null,null,"2.3.3.07.02.017","Promoción y prevención en salud (no de pensiones) Transferencias al Fondo de Ferrocarriles Nacionales - Salud, en virtud de la Ley 100 de 1993 y el Decreto 1591 de 1989, en los cuales se estipula la necesidad de realizar programas en prevención y promoción en salud y su financiación por parte del mencionado fondo, respectivamente.",0,15]
[null,null,"D3757009","Láminas (placas) planas de cemento y resinas mezcladas",1,{"$f":"ROW()","v":3001},8,null,null,"2.3.3.07.02.018","Servicios médicos asistenciales (no de pensiones) Transferencias al Fondo de Ferrocarriles Nacionales - Salud, en virtud de la Ley 100 de 1993 y el Decreto 1591 de 1989, en los cuales se especifica que el mencionado fondo debe organizar y administrar las prestaciones asistenciales a que tengan derecho los empleados y los pensionados de la empresa Ferrocarriles Nacionales de Colombia.",0,15]
[null,null,"D3633008","Láminas acrílicas",1,{"$f":"ROW()","v":3002},8,null,null,"2.3.3.07.02.019","Servicios médicos convencionales (no de pensiones) Transferencias a los órganos por concepto de servicios médicos pactados en convenciones colectivas de trabajadores, por ejemplo, del Fondo de Ferrocarriles Nacionales de Colombia, el Instituto Nacional de Vías (Invias), y el Servicio Nacional de Aprendizaje, SENA, entre otros.",0,15]
[null,null,"D3142101","Láminas chapadas de madera de coníferas",1,{"$f":"ROW()","v":3003},8,null,null,"2.3.3.07.02.020","Programas de vivienda y otros (no de pensiones) Transferencias para financiar los programas de vivienda, principalmente, en este caso para el Instituto Colombiano Agropecuario, ICA, en virtud del Decreto 4765 de 2008.",0,15]
[null,null,"D3142102","Láminas chapadas de madera de coníferas",1,{"$f":"ROW()","v":3004},8,null,null,"2.3.3.07.02.021","Prestaciones sociales (no de pensiones) Gastos por el pago de indeminización, por ejemplo, a los Oficiales y Suboficiales de las Fuerzas Militares y a los empleados públicos del Ministerio de Defensa e INPEC que presenten disminución de la capacidad sicofísica, por causa de enfermedad profesional o accidente de trabajo, determinada por la Dirección de Sanidad Militar.",0,15]
[null,null,"D3142201","Láminas chapadas de madera de no coníferas",1,{"$f":"ROW()","v":3005},8,null,null,"2.3.3.07.02.022","Transferir al Fondo de Solidaridad de la Caja de Vivienda Militar y de Policía. Numeral 5 parágrafo 2 artículo 1 Ley 1305 de 2009 (no de pensiones) Transferencias de acuerdo con la Ley 1305 de 2009, artículo 1, numeral 5, parágrafo 2, según la cual el servidor público de la Caja Promotora de Vivienda Militar y de Policía, en el evento en que fallezca, por cualquier causa, la Caja otorgará una única solución de vivienda a los beneficiarios del afiliado fallecido que queden disfrutando o no de asignación de retiro, pensión de sobrevivencia o sustitución, que así lo decida, de acuerdo con la ley, teniendo en cuenta la categoría de afiliación del causante, solución que si es del caso será entregada proporcionalmente respecto al porcentaje asignado a cada uno de los beneficiarios reconocidos como tales. Igual tratamiento se debe dar al afiliado que como consecuencia directa de actos del servicio o fuera de él, por acción directa del enemigo, en misión del servicio, o por una grave y comprobada enfermedad catastrófica o terminal sea retirado o desvinculado con o sin derecho al disfrute de pensión de invalidez, de acuerdo a lo dispuesto por la Junta Directiva de la Entidad.",0,15]
[null,null,"D3142202","Láminas chapadas de madera de no coníferas",1,{"$f":"ROW()","v":3006},8,null,null,"2.3.3.07.02.023","Indemnizaciones (no de pensiones) Gastos por concepto de pagos realizados a funcionarios a quienes con ocasión de la supresión o modificación de la planta de la entidad se les suprimió el empleo.En el caso del Departamento Administrativo de Seguridad, DAS, esto se realiza en virtud de la Ley 909 de 2004 (artículo 44).",0,15]
[null,null,"D4151404","Láminas de alpaca",1,{"$f":"ROW()","v":3007},8,null,null,"2.3.3.07.02.024","Indemnizaciones y reconocimiento económico, Art 8 Ley 790 de 2002 (no de pensiones) Transferencias en virtud de la Ley 790 de 2002, artículo 8, por medio de la cual se creó el reconocimiento económico para la rehabilitación profesional y técnica. En este sentido, los empleados públicos de libre nombramiento y remoción de los niveles jerárquicos diferentes al directivo y las personas vinculadas por nombramiento provisional en cargos de carrera administrativa en los organismos y entidades de la rama ejecutiva del orden nacional, que sean retirados del servicio por supresión del cargo en desarrollo del Programa de Renovación de la Administración Pública, recibirán un reconocimiento económico destinado a su rehabilitación laboral, profesional y técnica. Este reconocimiento económico consistirá en una suma de dinero equivalente a un porcentaje no inferior al cincuenta por ciento (50%) de la asignación básica correspondiente al cargo suprimido, el cual se pagará en mensualidades durante un plazo no mayor a doce (12) meses, en los términos y condiciones que establezca la reglamentación que expida el Gobierno Nacional. Los ex empleados tendrán derecho a recibir el reconocimiento económico mencionado cuando acrediten una cualquiera de las siguientes circunstancias: a) Estar vinculado a un programa de formación técnica o profesional o de capacitación formal o informal; o b) Estar vinculado laboralmente a un empleador privado, en un cargo creado o suplido recientemente por el empleador, y que implique realmente un nuevo puesto de trabajo a partir de la entrada en vigencia de la presente ley. En este caso, dicho reconocimiento será directamente entregado al nuevo empleador siempre que tal vinculación laboral sea a través de un contrato a término indefinido o un contrato a un término no inferior a dos (2) años.",0,15]
[null,null,"D4153402","Láminas de aluminio",1,{"$f":"ROW()","v":3008},8,null,null,"2.3.3.07.02.025","Aportes convecionales a salud y auxilio funerarios Fondo Pasivo Social Empresa Puertos de Colombia (Otras prestaciones de jubilación) Transferencia en virtud del Decreto 4107 de 2011 el cual establece que las obligaciones por concepto de los aportes convencionales a salud y los auxilios funerarios, de los ex trabajadores del Fondo Pasivo Social de la Empresa Puertos de Colombia deben ser reconocidas por parte del Ministerio de la Protección Social, en tanto, estas fueran asumidos por la Unidad Especial Administrativa de Gestión Pensional y Contribuciones Parafiscales de la Protección Social (UGPP).",0,15]
[null,null,"D4151405","Láminas de bronce",1,{"$f":"ROW()","v":3009},8,null,null,"2.3.3.07.02.026","Atención en salud a población inimputable por trastorno mental (Ley 65 de 1993) (no de pensiones) Transferencias en virtud de la Ley 65 de 1993, por medio de la cual el Estado contará con personal médico especializado en los establecimientos de reclusión para inimputables por trastorno mental, con cargo al Presupuesto General de la Nación. De acuerdo con la misma ley, estos establecimientos tienen carácter asistencial, deben especializarse en tratamiento psiquiátrico, rehabilitación mental con miras a la inclusión familiar, social y laboral, por tanto, se requiere de dicho servicio médico especializado.",0,15]
[null,null,"D4151402","Láminas de cobre",1,{"$f":"ROW()","v":3010},8,null,null,"2.3.3.07.02.027","Planes complementarios de salud Ley 314 de 1996 (no de pensiones) Transferencias en virtud de la Ley 314 de 1996 por medio de la cual se estableció que los planes complementarios de salud que resulten de la diferencia entre el Plan Integral de Salud que venía prestando Caprecom hasta la Ley 100 de 1993, como resultado de Convenciones Colectivas vigentes o que las modifiquen las entidades vinculadas al Ministerio de Comunicaciones, sus trabajadores y el Plan Obligatorio de Salud, POS, estarán a cargo del empleador.",0,15]
[null,null,"D4154802","Láminas de estaño",1,{"$f":"ROW()","v":3011},8,null,null,"2.3.3.07.02.028","Aporte patronal FAVI (Decreto 294 de 1981) (no de pensiones) Transferencias destinadas al pago de los aportes patronales del Fondo de Empleados para el ahorro, el bienestar y la vivienda en virtud del Decreto 294 de 1981, por medio del cual se aprobaron ciertos beneficios para los trabajadores de este fondo.",0,15]
[null,null,"D3143202","Láminas de fibra orientada (OSB) de madera aglomerada recubiertas con otros materiales",1,{"$f":"ROW()","v":3012},{"$f":"LEN(C3012)","v":8},null,null,"2.3.3.07.02.029","Fondo Nacional de Prestaciones Sociales del Magisterio (no de pensiones) Transferencia asignada al Fondo Nacional de Prestaciones Sociales del Magisterio, Fomag, por concepto de aportes a este fondo por parte de los afiliados docentes del Sistema General de Participaciones, con el fin garantizar la prestación de los servicios médico-asistenciales.",0,{"$f":"LEN(J3012)","v":15}]
[null,null,"D3143204","Láminas de fibra orientada (OSB) de madera aglomerada recubiertas con otros materiales",1,{"$f":"ROW()","v":3013},8,null,null,"2.3.3.07.02.030","Auxilio sindical (no de pensiones) La presente transferencia corresponde a recursos destinados a los auxilios contemplados en la Convención Colectiva de Trabajadores por concepto de auxilio sindical, auxilio por beneficio convencional, para la sede sindical, para el día internacional del trabajo, para gastos de transporte de la junta directiva nacional y subdirectivas, y de capacitación sindical.",0,15]
[null,null,"D3143902","Láminas de materiales leñosos de madera aglomerada recubiertas con otros materiales",1,{"$f":"ROW()","v":3014},8,null,null,"2.3.3.07.02.031","Programa de salud ocupacional (no de pensiones)",0,15]
[null,null,"D3143904","Láminas de materiales leñosos de madera aglomerada recubiertas con otros materiales",1,{"$f":"ROW()","v":3015},8,null,null,"2.3.3.07.02.032","Bienestar social afiliados de la Caja de Retiro de las Fuerzas Militares y la Caja de Sueldos de Retiro de la Policía Nacional, Decretos 2002 y 2003 de 1984 (no de pensiones) Transferencias realizadas por la Caja de Retiro de las Fuerzas Militares y Caja de Sueldos de Retiro de la Policía Nacional, en virtud de los Decretos 2002 y 2003 de 1984, por concepto de campañas y programas de bienestar social de sus afiliados.",0,15]
[null,null,"D4152302","Láminas de níquel",1,{"$f":"ROW()","v":3016},8,null,null,"2.3.3.07.02.033","Fondo de Pensiones Públicas de Nivel Nacional - pensiones Superintendencia de Valores (de pensiones) Transferencias destinadas al pago de las mesadas pensionales, por parte del Fondo de Pensiones Públicas del Nivel Nacional, Fopep, de aquellos quienes cumplieron con los requisitos de ley para obtener el derecho a la pensión y fueron reconocidas como tal por la Superintendencia de Valores.",0,15]
[null,null,"D3143102","Láminas de particulas de madera aglomerada recubiertas con otros materiales",1,{"$f":"ROW()","v":3017},8,null,null,"2.3.3.07.02.034","Fondo de Pensiones Públicas del Nivel Nacional - CAJANAL pensiones (de pensiones) Transferencias destinadas al pago de las mesadas pensionales, por parte del Fondo de Pensiones Públicas del Nivel Nacional, Fopep, de aquellos quienes cumplieron con los requisitos de ley para obtener el derecho a la pensión y fueron reconocidas como tal por la Caja Nacional de Prevención Social CAJANAL E.I.C.E.",0,15]
[null,null,"D3143104","Láminas de particulas de madera aglomerada recubiertas con otros materiales",1,{"$f":"ROW()","v":3018},8,null,null,"2.3.3.07.02.035","Fondo de Pensiones Públicas del Nivel Nacional - CARBOCOL (de pensiones) Transferencias destinadas al pago de las mesadas pensionales, por parte del Fondo de Pensiones Públicas del Nivel Nacional, Fopep, de aquellos quienes cumplieron con los requisitos de ley para obtener el derecho a la pensión y fueron reconocidas como tal por Carbones de Colombia S.A. CARBOCOL.",0,15]
[null,null,"D4154202","Láminas de plomo",1,{"$f":"ROW()","v":3019},8,null,null,"2.3.3.07.02.036","Fondo de Pensiones Públicas del Nivel Nacional - pensiones Caja de Crédito Agrario Industrial y Minero (de pensiones) Transferencias destinadas al pago de las mesadas pensionales, por parte del Fondo de Pensiones Públicas del Nivel Nacional, Fopep, de aquellos quienes cumplieron con los requisitos de ley para obtener el derecho a la pensión y fueron reconocidas como tal por la Caja de Crédito Agrario Industrial y Minero (Caja Agraria en liquidación).",0,15]
[null,null,"D3633013","Láminas de polipropileno",1,{"$f":"ROW()","v":3020},8,null,null,"2.3.3.07.02.037","Fondo de Pensiones Públicas del Nivel Nacional - pensiones FONPRENOR (de pensiones) Transferencias destinadas al pago de las mesadas pensionales, por parte del Fondo de Pensiones Públicas del Nivel Nacional, Fopep, de aquellos quienes cumplieron con los requisitos de ley para obtener el derecho a la pensión y fueron reconocidas como tal por el Fondo de Previsión Social de la Superintendencia de Notariado y Registro.",0,15]
[null,null,"D4154504","Láminas de zinc",1,{"$f":"ROW()","v":3021},8,null,null,"2.3.3.07.02.038","Fondo de Pensiones Públicas del Nivel Nacional - pensiones Superindustria y Comercio (de pensiones) Transferencias destinadas al pago de las mesadas pensionales, por parte del Fondo de Pensiones Públicas del Nivel Nacional, Fopep, de aquellos quienes cumplieron con los requisitos de ley para obtener el derecho a la pensión y fueron reconocidas como tal por la Superintendencia de Industria y Comercio.",0,15]
[null,null,"D3712807","Láminas en fibra de vidrio",1,{"$f":"ROW()","v":3022},8,null,null,"2.3.3.07.02.039","Fondo de Pensiones Públicas del Nivel Nacional - pensiones Supersociedades (de pensiones) Transferencias al Fondo Nacional de Pensiones Públicas del Nivel Nacional cuya destinación es el pago de mesadas pensionales de quienes cumplieron con los requisitos de ley para obtener el derecho a la pensión y además fueron reconocidos como tal por la Superintendencia de Sociedades, Corporación Social de la Superintendencia de Sociedades Corporanónimas.",0,15]
[null,null,"D4912938","Láminas especiales para empaques y empaquetaduras de vehículos automotores",1,{"$f":"ROW()","v":3023},8,null,null,"2.3.3.07.02.040","Fondo de Pensiones Públicas del Nivel Nacional -pensiones CVC - EPSA (de pensiones) Transferencias destinadas al pago de las mesadas pensionales, por parte del Fondo de Pensiones Públicas del Nivel Nacional, Fopep, de aquellos quienes cumplieron con los requisitos de ley para obtener el derecho a la pensión y fueron reconocidas como tal por la Corporación Autónoma Regional del Valle del Cauca y la Empresa de Energía del Pacífico S.A. E.S.P.",0,15]
[null,null,"D3633009","Láminas y hojas de acetato",1,{"$f":"ROW()","v":3024},8,null,null,"2.3.3.07.02.041","Fondo de Pensiones Públicas del Nivel Nacional-pensiones Fondo Pasivo Social Empresa Puertos de Colombia (de pensiones) Transferencias destinadas al pago de las mesadas pensionales, por parte del Fondo de Pensiones Públicas del Nivel Nacional, Fopep, de aquellos quienes cumplieron con los requisitos de ley para obtener el derecho a la pensión y fueron reconocidas como tal por el Fondo de Pasivo Social de la Empresa Puertos de Colombia.",0,15]
[null,null,"D3151102","Laminilla (radica) de madera para enchape de muebles, de un grosor máximo de 6 mm, de madera de conífera",1,{"$f":"ROW()","v":3025},8,null,null,"2.3.3.07.02.042","Fondo de Pensiones Públicas del Nivel Nacional - pensiones Fondo Nacional de Caminos Vecinales (de pensiones) Transferencias en virtud del Decreto 1790 de 2003, en especial, el artículo 21, el cual estipula que el Fondo de Pensiones Públicas del Nivel Nacional, FOPEP, asumirá el pago de las pensiones legalmente reconocidas por el Fondo Nacional de Caminos Vecinales, FNCV y originadas en fallos judiciales, una vez el Consejo Asesor del Fondo de Pensiones Públicas de Nivel Nacional, FOPEP verifique el cumplimiento de los requerimientos que se efectúen para el efecto y autorice el respectivo traslado. En este sentido, las transferencias con cargo a este rubro se realizan con el ánimo de cumplir esta normatividad.",0,15]
[null,null,"D3151202","Laminilla (radica) de madera para enchape de muebles, de un grosor máximo de 6 mm, de madera de no conífera",1,{"$f":"ROW()","v":3026},8,null,null,"2.3.3.07.02.043","Fondo de Pensiones Públicas del Nivel Nacional - pensiones MINERCOL LTDA. En liquidación (de pensiones) Transferencias en virtud del Decreto 254 de 2004, el cual estableció que el Fondo de Pensiones Públicas del Nivel Nacional, Fopep, asumirá el pago de las mesadas pensionales en los términos del artículo 2° del Decreto 1132 de 1994, el cual reglamenta el Fopep, correspondientes a las mesadas pensionales válidamente reconocidas por la Empresa Nacional Minera Limitada, Minercol Ltda.",0,15]
[null,null,"D4651009","Lámparas eléctricas industriales",1,{"$f":"ROW()","v":3027},8,null,null,"2.3.3.07.02.044","Fondo de Pensiones Públicas del Nivel Nacional - pensiones INCORA (de pensiones) Transferencias en virtud del Decreto 1292 de 2003, artículo 27, el Fondo de Pensiones Públicas del Nivel Nacional, Fopep, asumió el pago de las mesadas pensionales legalmente reconocidas por el Instituto Colombiano de Reforma Agraria, Incora.",0,15]
[null,null,"D4651008","Lámparas fluorescentes",1,{"$f":"ROW()","v":3028},8,null,null,"2.3.3.07.02.045","Fondo de Pensiones Públicas del Nivel Nacional - pensiones INURBE (de pensiones) Transferencias en virtud del Decreto Ley 3571 de 2011, artículo 38, el cual estableció que el pago de las obligaciones pensionales legalmente reconocidas por el Instituto Nacional de Vivienda de Interés Social y Reforma Urbana, INURBE, deben ser realizadas por el Fondo de Pensiones Públicas del Nivel Nacional, Fopep. En función de que el Gobierno Nacional estableció por medio del Decreto 554 de 2003 la supresión y liquidación del INURBE.",0,15]
[null,null,"D4653904","Lámparas para alumbrado público",1,{"$f":"ROW()","v":3029},8,null,null,"2.3.3.07.02.046","Fondo de Pensiones Públicas del Nivel Nacional - pensiones exfuncionarios ISS (de pensiones) Transferencias en virtud del Decreto 2013 de 2012, por medio del cual la Nación asumió el pasivo por las pensiones a cargo del Instituto de los Seguros Sociales en su calidad de empleador, en razón de sus actividades en las unidades del negocio de pensiones y la proporción del pasivo pensional de la administradora general del Instituto que venía financiando esta unidad, en la medida que los recursos propios del Instituto de Seguros Sociales en Liquidación no sean suficientes para atender dichas obligaciones. En este sentido, la administración de las mismas pasó a la Unidad Administrativa Especial de Gestión Pensional y Contribuciones Parafiscales de la Protección Social, UGPP, y en ese sentido, son pagadas por el Fondo de Pensiones Público del Orden Nacional, Fopep.",0,15]
[null,null,"D4653102","Lámparas para la casa y oficina",1,{"$f":"ROW()","v":3030},8,null,null,"2.3.3.07.02.047","Fondo de Pensiones Públicas del Nivel Nacional - pensiones Compañía de Fomento Cinematográfico - FOCINE (de pensiones) Transferencias en virtud del Decreto 2011 de 2012, en el cual se ordenó que la Unidad de Gestión Pensional y Contribuciones Parafiscales de la Protección Social (UGPP), y el Fondo de Pensiones Públicas del Nivel Nacional (FOPEP), asumieran la administración y el pago de las pensiones a cargo de la Caja de Previsión Social de Comunicaciones - Caprecom. La Compañía de Fomento Cinematográfico fue suprimida por medio del Decreto 2125 de 1992, razón por la cual el pago de sus pensiones se encontraba a cargo de Caprecom.",0,15]
[null,null,"D4651011","Lámparas terapéuticas",1,{"$f":"ROW()","v":3031},8,null,null,"2.3.3.07.02.048","Fondo de Pensiones Públicas del Nivel Nacional - Compañía de Informaciones Audiovisuales (de pensiones) Transferencias realizadas por la Unidad de Gestión Pensional y Contribuciones Parafiscales de la Protección Social (UGPP) y el Fondo de Pensiones Públicas del Nivel Nacional (FOPEP) por concepto de pago de pensiones a la nómina de la Compañía de Informaciones Audiovisuales, la cual estaba a cargo de la Caja de Previsión Social de Comunicaciones – Caprecom, en virtud del Decreto 2011 de 2012.",0,15]
[null,null,"D4651010","Lamparillas para iglesias",1,{"$f":"ROW()","v":3032},8,null,null,"2.3.3.07.02.049","Fondo de Pensiones Públicas del Nivel Nacional - Caja de Previsión Social de Comunicaciones - CAPRECOM (de pensiones) Transferencias realizadas por la Unidad de Gestión Pensional y Contribuciones Parafiscales de la Protección Social (UGPP) y el Fondo de Pensiones Públicas del Nivel Nacional (FOPEP) por concepto de pago de pensiones a la nómina de la Caja de Previsión Social de Comunicaciones – Caprecom, en virtud del Decreto 2011 de 2012.",0,15]
[null,null,"D2615001","Lana cardada o peinada",1,{"$f":"ROW()","v":3033},8,null,null,"2.3.3.07.02.050","Fondo de Pensiones Públicas del Nivel Nacional - Administración Postal Nacional - ADPOSTAL (de pensiones) Transferencias realizadas por la Unidad de Gestión Pensional y Contribuciones Parafiscales de la Protección Social (UGPP) y el Fondo de Pensiones Públicas del Nivel Nacional (FOPEP) por concepto de pago de pensiones a la nómina de la Administración Postal Nacional-ADPOSTAL la cual estaba a cargo de la Caja de Previsión Social de Comunicaciones – Caprecom, en virtud del Decreto 2011 de 2012.",0,15]
[null,null,"D4291234","Lana de acero",1,{"$f":"ROW()","v":3034},8,null,null,"2.3.3.07.02.051","Fondo de Pensiones Públicas del Nivel Nacional - Instituto Nacional de Radio y Televisión - INRAVISION (de pensiones) Transferencias realizadas por la Unidad de Gestión Pensional y Contribuciones Parafiscales de la Protección Social (UGPP) y el Fondo de Pensiones Públicas del Nivel Nacional (FOPEP) por concepto de pago de pensiones a la nómina del Instituto Nacional de Radio y Televisión INRAVISIÓN, el cual estaba a cargo de la Caja de Previsión Social de Comunicaciones – Caprecom, en virtud del Decreto 2011 de 2012.",0,15]
[null,null,"D3712102","Lana de vidrio",1,{"$f":"ROW()","v":3035},8,null,null,"2.3.3.07.02.052","Fondo de Pensiones Públicas del Nivel Nacional - Ministerio de Tecnologías de la Información y Comunicaciones (de pensiones) Transferencias realizadas por la Unidad de Gestión Pensional y Contribuciones Parafiscales de la Protección Social (UGPP) y el Fondo de Pensiones Públicas del Nivel Nacional (FOPEP) por concepto de pago de pensiones a la nómina del Ministerio de Tecnologías de la Información y Comunicaciones, el cual estaba a cargo de la Caja de Previsión Social de Comunicaciones – Caprecom, en virtud del Decreto 2011 de 2012.",0,15]
[null,null,"D0294201","Lana lavada",1,{"$f":"ROW()","v":3036},8,null,null,"2.3.3.07.02.053","Fondo de Pensiones Públicas del Nivel Nacional - Empresa Nacional de Comunicaciones - TELECOM (de pensiones) Transferencias realizadas por la Unidad de Gestión Pensional y Contribuciones Parafiscales de la Protección Social (UGPP) y el Fondo de Pensiones Públicas del Nivel Nacional (FOPEP) por concepto de pago de pensiones a la nómina de la Empresa Nacional de Comunicaciones, la cual estaba a cargo de la Caja de Previsión Social de Comunicaciones – Caprecom, en virtud del Decreto 2011 de 2012.",0,15]
[null,null,"D3799002","Lana mineral",1,{"$f":"ROW()","v":3037},8,null,null,"2.3.3.07.02.054","Fondo de Pensiones Públicas del Nivel Nacional - Empresa de Telecomunicaciones del Tolima - TELETOLIMA (de pensiones) Transferencias realizadas por la Unidad de Gestión Pensional y Contribuciones Parafiscales de la Protección Social (UGPP) y el Fondo de Pensiones Públicas del Nivel Nacional (FOPEP) por concepto de pago de pensiones a la nómina de la Empresa de Telecomunicaciones del Tolima-TELETOLIMA, la cual estaba a cargo de la Caja de Previsión Social de Comunicaciones – Caprecom, en virtud del Decreto 2011 de 2012.",0,15]
[null,null,"D3799003","Lana mineral",1,{"$f":"ROW()","v":3038},8,null,null,"2.3.3.07.02.055","Fondo de Pensiones Públicas del Nivel Nacional - Empresa de Telecomunicaciones del Huila - TELEHUILA (de pensiones) Transferencias realizadas por la Unidad de Gestión Pensional y Contribuciones Parafiscales de la Protección Social (UGPP) y el Fondo de Pensiones Públicas del Nivel Nacional (FOPEP) por concepto de pago de pensiones a la nómina de la Empresa de Telecomunicaciones del Huila-TELEHUILA, la cual estaba a cargo de la Caja de Previsión Social de Comunicaciones – Caprecom, en virtud del Decreto 2011 de 2012.",0,15]
[null,null,"D3921301","Lana recuperada",1,{"$f":"ROW()","v":3039},8,null,null,"2.3.3.07.02.056","Fondo de Pensiones Públicas del Nivel Nacional - Empresa de Telecomunicaciones de Nariño - TELENARIÑO (de pensiones) Transferencias realizadas por la Unidad de Gestión Pensional y Contribuciones Parafiscales de la Protección Social (UGPP) y el Fondo de Pensiones Públicas del Nivel Nacional (FOPEP) por concepto de pago de pensiones a la nómina de la Empresa de Telecomunicaciones de Nariño-TELENARIÑO, la cual estaba a cargo de la Caja de Previsión Social de Comunicaciones – Caprecom, en virtud del Decreto 2011 de 2012.",0,15]
[null,null,"D0294101","Lana sin lavar",1,{"$f":"ROW()","v":3040},8,null,null,"2.3.3.07.02.057","Fondo de Pensiones Públicas del Nivel Nacional - Empresa de Telecomunicaciones de Cartagena - TELECARTAGENA (de pensiones) Transferencias realizadas por la Unidad de Gestión Pensional y Contribuciones Parafiscales de la Protección Social (UGPP) y el Fondo de Pensiones Públicas del Nivel Nacional (FOPEP) por concepto de pago de pensiones a la nómina de la Empresa de Telecomunicaciones de Cartagena-TELECARTAGENA, la cual estaba a cargo de la Caja de Previsión Social de Comunicaciones – Caprecom, en virtud del Decreto 2011 de 2012.",0,15]
[null,null,"D4291233","Lanas y lanillas en acero para usos domésticos",1,{"$f":"ROW()","v":3041},8,null,null,"2.3.3.07.02.058","Fondo de Pensiones Públicas del Nivel Nacional - Empresa de Telecomunicaciones de Santa Marta - TELESANTAMARTA (de pensiones) Transferencias realizadas por la Unidad de Gestión Pensional y Contribuciones Parafiscales de la Protección Social (UGPP) y el Fondo de Pensiones Públicas del Nivel Nacional (FOPEP) por concepto de pago de pensiones a la nómina de la Empresa de Telecomunicaciones de Santa Marta-TELESANTAMARTA, la cual estaba a cargo de la Caja de Previsión Social de Comunicaciones – Caprecom, en virtud del Decreto 2011 de 2012.",0,15]
[null,null,"D3525056","Lanatósidos",1,{"$f":"ROW()","v":3042},8,null,null,"2.3.3.07.02.059","Fondo de Pensiones Públicas del Nivel Nacional - Empresa de Telecomunicaciones de Armenia - TELEARMENIA (de pensiones) Transferencias realizadas por la Unidad de Gestión Pensional y Contribuciones Parafiscales de la Protección Social (UGPP) y el Fondo de Pensiones Públicas del Nivel Nacional (FOPEP) por concepto de pago de pensiones a la nómina de la Empresa de Telecomunicaciones de Armenia-TELEARMENIA, la cual estaba a cargo de la Caja de Previsión Social de Comunicaciones – Caprecom, en virtud del Decreto 2011 de 2012.",0,15]
[null,null,"D4931406","Lanchas patrulleras",1,{"$f":"ROW()","v":3043},8,null,null,"2.3.3.07.02.060","Fondo de Pensiones Públicas del Nivel Nacional - Empresa de Telecomunicaciones de Calarcá - TELECALARCA (de pensiones) Transferencias realizadas por la Unidad de Gestión Pensional y Contribuciones Parafiscales de la Protección Social (UGPP) y el Fondo de Pensiones Públicas del Nivel Nacional (FOPEP) por concepto de pago de pensiones a la nómina de la Empresa de Telecomunicaciones de Calarca-TELECALARCA, la cual estaba a cargo de la Caja de Previsión Social de Comunicaciones – Caprecom, en virtud del Decreto 2011 de 2012.",0,15]
[null,null,"D4949001","Lanchas sin motor",1,{"$f":"ROW()","v":3044},8,null,null,"2.3.3.07.02.061","Fondo de Pensiones Públicas del Nivel Nacional - mesadas pensionales INAT (de pensiones) Transferencias en virtud del Decreto 1291 de 2003, por medio de la cual se suprimió el Instituto Nacional de Adecuación de Tierras, INAT, y se ordenó el pago de las mesadas pensionales por parte del Fondo de Pensiones Públicas del Nivel Nacional, Fopep. Asimismo, el Decreto 885 de 2014 ordenó que la administración de dichas obligaciones debe realizarse por parte de la Unidad Administrativa Especial para la Gestión Pensional y Contribuciones Parafiscales de la Protección Social.",0,15]
[null,null,"D0432201","Langostas de cultivo, sin congelar",1,{"$f":"ROW()","v":3045},8,null,null,"2.3.3.07.02.062","Fondo de Pensiones Públicas del Nivel Nacional - mesadas pensionales - Zonas Francas (de pensiones) Transferencias por concepto de la administración, pago de los derechos y obligaciones pensionales de la nómina de Zonas Francas, cuyas obligaciones serán atendidas por la Unidad de Gestión Pensional y Parafiscales, UGPP, y las pensiones serán pagadas por el Fondo de Pensiones Públicas del Nivel Nacional, FOPEP, de acuerdo con el Decreto 1132 de 1994.",0,15]
[null,null,"D0432101","Langostas sin congelar",1,{"$f":"ROW()","v":3046},8,null,null,"2.3.3.07.02.063","Fondo de Pensiones Públicas del Nivel Nacional - mesadas pensionales - Corporación Financiera del Transporte (Ley 51/90) (de pensiones) Transferencias destinadas al pago de mesadas pensionales de la Corporación Financiera del Transporte, en virtud del Decreto 2854 de 1991, por medio del cual, el Estado enajenó las acciones que estaban en cabeza del Ministerio de Desarrollo Económico, asimismo, se estableció que el Ministerio de Comercio, Industria y Turismo atiende las pensiones que venía reconociendo el Ministerio de Desarrollo Económico, el cual había asumido dichas obligaciones por medio del Decreto 1928 de 1991. Lo anterior en virtud de la Ley 51 de 1990, por medio de la cual se generaron disposiciones sobre el saneamiento de obligaciones del sector público.",0,15]
[null,null,"D0436302","Langostinos de cultivo, sin congelar",1,{"$f":"ROW()","v":3047},8,null,null,"2.3.3.07.02.064","Fondo de Pensiones Públicas del Nivel Nacional - mesadas pensionales - Corporación Nacional del Turismo (de pensiones) Transferencias realizadas por el Fondo de Pensiones Públicas (FOPEP) por concepto de pago de pensiones a la nómina de la Corporación Nacional del Turismo, en virtud del Decreto 1671 de 1997, por medio del cual se suprimió la Corporación Nacional del Turismo, y se ordenó la enajenación de sus bienes.",0,15]
[null,null,"D2127002","Langostinos enlatados",1,{"$f":"ROW()","v":3048},8,null,null,"2.3.3.07.02.065","Fondo de Pensiones Públicas del Nivel Nacional - mesadas pensionales - CAPRESUB (de pensiones) Transferencias en virtud del Decreto 2398 de 2003, mediante el cual se ordenó la supresión y liquidación de la Caja de Previsión Social de la Superintendencia Bancaria, CAPRESUB, el pago de las obligaciones pensionales fueron asumidas por el Fondo de Pensiones Públicas del Nivel Nacional una vez el Consejo Asesor de este autorizara el respectivo traslado y verificara el cumplimiento de los requisitos. En este sentido, el Decreto 1212 de 2014 estableció que las funciones de la extinta CAPRESUB fueran asumidas por la Unidad Administrativa Especial de Gestión Pensional y Contribuciones Parafiscales de Protección Social, y el pago de las mesadas pensionales sea realizado por parte del Fopep.",0,15]
[null,null,"D2125602","Langostinos salados y secos",1,{"$f":"ROW()","v":3049},8,null,null,"2.3.3.07.02.066","Fondo de Pensiones Públicas del Nivel Nacional - mesadas pensionales - INEA (de pensiones) Transferencias en virtud del Decreto 1682 de 1997, mediante el cual se ordenó la supresión del Instituto de Ciencias Nucleares y Energías Alternativas, INEA, y se dispuso además que después de la liquidación sus bienes, obligaciones y archivos pasarían a la Nación. En este entendido, por medio del Decreto 822 de 2014 se estableció la competencia a la Unidad Administrativa Especial de Gestión Pensional y Contribuciones Parafiscales de la Protección Social , UGPP, para reconocer y administrar la nómina de pensionados, así como de que el pago de estas obligaciones se realice por medio del Fondo de Pensiones Públicas del Orden Nacional.",0,15]
[null,null,"D0436102","Langostinos sin congelar",1,{"$f":"ROW()","v":3050},8,null,null,"2.3.3.07.02.067","Fondo de Pensiones Públicas del Nivel Nacional - mesadas pensionales - INTRA (de pensiones) Transferencias realizadas por el Fondo de Pensiones Públicas a nivel nacional (FOPEP) por conceptos de pagos de pensiones de la nomina del Instituto Nacional de Transporte y Tránsito (INTRA), en virtud del Decreto 2171 de 1992, según el cual dicha institución fue suprimida y obligó al Ministerio de Transporte, por disposición del artículo 122 a asumir los derechos y obligaciones de esta.",0,15]
[null,null,"D2152901","Lanolina",1,{"$f":"ROW()","v":3051},8,null,null,"2.3.3.07.02.068","Fondo de Pensiones Públicas del Nivel Nacional - mesadas pensionales - INVIAS (de pensiones) Transferencias por concepto de la administración, pago de los derechos y obligaciones pensionales de la nómima del Instituto Nacional de Vias, INVIAS, cuyas obligaciones serán atendidas por la Unidad de Gestión Pensional y Parafiscales, UGPP, y las pensiones serán pagadas por el Fondo de Pensiones Públicas del Nivel Nacional, FOPEP, de acuerdo con los Decretos 1132 de 1994, y 2350 de 2014.",0,15]
[null,null,"D3191405","Lanzaderas de madera",1,{"$f":"ROW()","v":3052},8,null,null,"2.3.3.07.02.069","Fondo de Pensiones Públicas del Nivel Nacional - pensiones Positiva S.A. (Artículo 80 Ley 1753 de 2015 Plan Nacional de Desarrollo y Decreto 1437 de 2015) (de pensiones) Transferencias realizadas por el Fondo de Pensiones Públicas del Nivel Nacional (FOPEP) por concepto de pago de los derechos y obligaciones pensionales causadas por el Instituto de Seguros Sociales (ISS) pero que en el momento de entrada en vigencia de la normatividad estaban a cargo de Positiva S.A., en virtud de la Ley 1753 de 2015.",0,15]
[null,null,"D4472003","Lanzagranadas (armamento)",1,{"$f":"ROW()","v":3053},8,null,null,"2.3.3.07.02.070","Fondo de Pensiones Públicas del Nivel Nacional - mesadas pensionales - Corporación Eléctrica de la Costa Atlántica S.A E.S.P CORELCA S.A E.S.P (de pensiones) Transferencias realizadas por el Fondo de Pensiones Públicas del nivel nacional (FOPEP), por concepto de pago de los derechos y obligaciones pensionales de la nómina de la Corporación Eléctrica de la Costa Atlántica S.A. E.S.P CORELCA E.S.P, en virtud del Decreto 130 de 2014.",0,15]
[null,null,"D3891103","Lapiceros",1,{"$f":"ROW()","v":3054},8,null,null,"2.3.3.07.02.071","Fondo de Pensiones Públicas del Nivel Nacional - mesadas pensionales - Promotora de Vacaciones y Recreación Social - PROSOCIAL - liquidada (de pensiones) Transferencias realizadas por el Fondo de Pensiones Públicas del nivel nacional (FOPEP), por concepto de pago de los derechos y obligaciones pensionales de la nómina de la Promotora de Vacaciones y Recreación Social-PROSOCIAL, en virtud del Decreto 1405 de 2017.",0,15]
[null,null,"D3891106","Lápices",1,{"$f":"ROW()","v":3055},8,null,null,"2.3.3.07.02.072","Mesadas pensionales - Zonas Francas (de pensiones)",0,15]
[null,null,"D3891107","Lápices de colores",1,{"$f":"ROW()","v":3056},8,null,null,"2.3.3.07.02.073","Mesadas pensionales Concesión de Salinas (de pensiones) Transferencias en virtud del Decreto 2883 de 2001, artículo 4, según el cual la Nación, a través del Ministerio de Desarrollo Económico, asumió las obligaciones derivadas del Contrato de Concesión de Salinas del 2 de abril de 1970, con estricta sujeción a las actas de liquidación. Estas obligaciones son, entre otras, las derivadas de los compromisos pensionales.",0,15]
[null,null,"D3532311","Lápices labiales",1,{"$f":"ROW()","v":3057},8,null,null,"2.3.3.07.02.074","Mesadas pensionales de las Empresas de Obras Sanitarias EMPOS (de pensiones) Transferencias en virtud del artículo 149 de la Ley 100 de 1993, de acuerdo con el cual el pago de las mesadas pensionales de las Empresas de Obras Sanitarias, EMPOS, liquidadas corresponden desde entonces al Instituto de Seguros Sociales, motivo por el cual, la Nación realiza una asignación presupuestal para el pago de esta obligación.",0,15]
[null,null,"D3532312","Lápices para maquillaje",1,{"$f":"ROW()","v":3058},8,null,null,"2.3.3.07.02.075","Mesadas pensionales del IDEMA (de pensiones) Transferencias asignadas para el pago de las mesadas pensionales del extinto Instituto de Mercadeo Agropecuario, Idema, el cual fue liquidado y suprimido en virtud del Decreto 1675 de 1997, que desarrolla la Ley 344 de 1996, y estipula en su artículo 9 que el pago de las mesadas a cargo del Idema, será asumido directamente por la Nación, a través de la entidad que defina el Gobierno Nacional.",0,15]
[null,null,"D3761001","Lápidas de mármol",1,{"$f":"ROW()","v":3059},8,null,null,"2.3.3.07.02.076","Mesadas pensionales ALCALIS de Colombia Ltda. En liquidación (de pensiones) Transferencias en virtud de los Decretos 805 de 2000, 1578 de 2001, y 2601 de 2009, por medio de los cuales se ordena a la Nación asumir las obligaciones pensionales a cargo de Alcalis de Colombia Ltda., en liquidación a partir del año 2000 respecto de las personas que figuran en el cálculo actuarial aprobado por la Superintendencia de Sociedades en el mes de octubre de 1999 correspondiente a la vigencia de 1998, por medio del Fondo de Pensiones Públicas del Nivel Nacional.",0,15]
[null,null,"D3891116","Lápiz crudo",1,{"$f":"ROW()","v":3060},8,null,null,"2.3.3.07.02.077","Mesadas pensionales de la Superintendencia de Sociedades a través del FOPEP Transferencia de recursos que realiza la Superintendencia de Sociedades al Ministerio del Trabajo, en virtud del Decreto 3116 de 1997, el cuál señala que este último a través del Fondo de Pensiones Públicas del Nivel Nacional (FOPEP), debe realizar el pago de mesadas pensionales que estaban a cargo de la liquidada Corporación Social de la Superintendencia de Sociedades (Corporanónimas).",0,15]
[null,null,"D2372102","Lasaña",1,{"$f":"ROW()","v":3061},8,null,null,"2.3.3.07.02.078","Recursos para transferir al Fondo Nacional de Prestaciones Sociales del Magisterio, previa revisión faltante de cesantías Transferencias en virtud de la Ley 91 de 1989, por medio de la cual se organiza el Fondo Nacional de Prestaciones Sociales del Magisterio, y se establecen los aportes de la Nación como una de las fuentes de recursos del fondo. En este sentido, esta transferencia se debe realizar, previa revisión del faltante por concepto del pago de cesantías adelantado por el Fomag.",0,15]
[null,null,"D1532007","Lasca",1,{"$f":"ROW()","v":3062},8,null,null,"2.3.3.07.02.079","Auxilio mutuo (no de préstamos) (no de pensiones)",0,15]
[null,null,"D0195001","Látex natural",1,{"$f":"ROW()","v":3063},8,null,null,"2.3.3.07.02.080","Compensación por muerte (no de pensiones)",0,15]
[null,null,"D3480005","Látex sintético",1,{"$f":"ROW()","v":3064},8,null,null,"2.3.3.07.02.081","Subsidio por invalidez (Otras prestaciones de jubilación) Corresponde al pago del subsidio de invalidez que realiza el Servicio Nacional de Aprendizaje (SENA) a los trabajadores oficiales que salgan pensionados por invalidez. Dicho subsidio corresponde a 2.5 SMMLV que es pagado por una sola vez y no constituye factor salarial para ningún caso. (Art. 98 de la Convención Colectiva de Trabajo, 2003-2004 y Art. 11 Ley 100).",0,15]
[null,null,"D4141302","Latón",1,{"$f":"ROW()","v":3065},8,null,null,"2.3.3.07.02.082","Bonificación para pensionados (Otras prestaciones de jubilación) Corresponde a la bonificación que reconoce y paga por única vez que tienen derecho los trabajadores oficiales del Servicio Nacional de Aprendizaje (SENA) una vez estos son pensionados.",0,15]
[null,null,"D3756007","Lavaderos de cemento",1,{"$f":"ROW()","v":3066},8,null,null,"2.3.3.07.02.083","Fondo de Pensiones Públicas del Nivel Nacional - Ministerio de Obras Públicas y Transporte (de pensiones)",0,15]
[null,null,"D3712902","Lavaderos en fibra de vidrio",1,{"$f":"ROW()","v":3067},8,null,null,"2.3.3.07.02.089","Auxilio de incapacidad Corresponde al pago del auxilio de incapacidad que se realiza a favor del empleado con el fin de garantizar el 100% de su asignación durante el periodo de incapacidad, gasto que se ejecuta siempre y cuando este soportado en normatividad vigente.",0,15]
[null,null,"D4481202","Lavadoras eléctricas de platos",1,{"$f":"ROW()","v":3068},8,null,null,"2.3.3.07.02.090","Indemnización sustitutiva de pensiones Gastos destinados al reconocimiento de prestaciones económicas para las personas que habiendo cumplido con la edad mínima requerida para acceder a una pensión de vejez, no acreditan las cotizaciones mínimas para acceder a la prestación y declaran la imposibilidad de continuar cotizando al Sistema General de Pensiones.",0,15]
[null,null,"D4481201","Lavadoras eléctricas de ropa",1,{"$f":"ROW()","v":3069},8,null,null,"2.3.3.07.02.091","Auxilio familiar Corresponde al pago del auxilio para las personas que hacen parte del núcleo familiar, que se realiza a favor del empleado o sus dependientes con derecho a este, definido por la normativa de la Institución de Educación Superior.",0,15]
[null,null,"D3721005","Lavamanos de loza o porcelana",1,{"$f":"ROW()","v":3070},8,null,null,"2.3.3.07.02.092","Bono de salud docentes transitorios UTP Establecer a título de incentivo para los servidores de la Universidad un bono de bienestar Universitario para los Docentes Transitorios equivalente a los pagos efectuados al sistema de seguridad social en salud por parte del docente durante el periodo intersemestral.",0,15]
[null,null,"D3761004","Lavamanos e instalaciones similares de mármol",1,{"$f":"ROW()","v":3071},8,null,null,"2.3.3.07.02.093","Bonificación por Desgaste Físico Corresponde a la transferencia que realiza el Municipio de Yumbo por concepto de bonificación por desgaste físico a sus empleados con el objetivo de cumplir con lo pactado con el Sindicato de trabajadores.",0,15]
[null,null,"D3712903","Lavamanos en fibra de vidrio",1,{"$f":"ROW()","v":3072},8,null,null,"2.3.3.07.02.094","Auxilios Salud Visual Corresponde a las transferencias corrientes a favor del empleado y sus beneficiarios, para cubrir riesgos de salud visual. Incluye la adquisición de lentes, monturas, cirugías refractivas, oftalmológicas, entre otros.",0,15]
[null,null,"D4291105","Lavaplatos de acero inoxidable",1,{"$f":"ROW()","v":3073},8,null,null,"2.3.3.07.02.095","Auxilios Salud Dental Corresponde a las transferencias corrientes a favor del empleado y sus beneficiarios, para cubrir riesgos sociales relacionados con la salud dental.",0,15]
[null,null,"D3712904","Lavaplatos en fibra de vidrio",1,{"$f":"ROW()","v":3074},8,null,null,"2.3.3.07.02.096","Auxilios Salud Auditiva Corresponde a las transferencias corrientes a favor del empleado y sus beneficiarios, para cubrir riesgos sociales relacionados con la salud auditiva.",0,15]
[null,null,"D4291237","Lavaplatos en lámina de aluminio",1,{"$f":"ROW()","v":3075},8,null,null,"2.3.3.07.02.097","Auxilios Médicos Corresponde a las transferencias corrientes a favor del empleado y sus beneficiarios, para cubrir riesgos sociales relacionados con la salud. Incluye apoyo para la compra de medicamentos, cirugía y hospitalización, compensación de cuotas moderadoras y copagos, compra de aparatos ortopédicos, auxilios para hijos con limitaciones físicas y/o mentales, entre otros.",0,15]
[null,null,"D4291104","Lavaplatos esmaltados",1,{"$f":"ROW()","v":3076},{"$f":"LEN(C3076)","v":8},null,null,"2.3.3.07.02.098","Auxilios Educativos Son las transferencias corrientes a favor del empleado o pensionado y sus beneficiarios para el apoyo al pago de matriculas de cualquier nivel educativo. También incluye las transferencias corrientes con destino a la compra de útiles, uniformes y demás elementos relacionados con la educación.",0,{"$f":"LEN(J3076)","v":15}]
[null,null,"D2222101","Leche concentrada",1,{"$f":"ROW()","v":3077},8,null,null,"2.3.3.07.02.099","Auxilios para Recreación Corresponde a las transferencias corrientes a favor del empleado y sus beneficiarios, para cubrir gastos asociados con la recreación.",0,15]
[null,null,"D2222201","Leche condensada",1,{"$f":"ROW()","v":3078},8,null,null,"2.3.3.07.02.100","Fondo de pensiones públicas del nivel nacional - Álcalis de Colombia limitada (de pensiones) Comprende la transferencia que realiza el Ministerio del Trabajo como administrador del Fondo de Pensiones Públicas del Nivel Nacional, para atender el pago de la nómina de pensionados de la liquidada Álcalis de Colombia Limitada, en cumplimiento de lo dispuesto en el Decreto 1623 de 2020",0,15]
[null,null,"D0221201","Leche cruda de búfala",1,{"$f":"ROW()","v":3079},8,null,null,"2.3.3.07.02.101","Fondo Nacional del Pasivo Pensional y Prestacional de la Electrificadora del Caribe S.A. E.S.P. – FONECA Corresponde a recursos del PGN transferidos por la Nación al patrimonio autónomo del “Fondo Nacional del Pasivo Pensional y Prestacional de la Electrificadora del Caribe S.A. E.S.P. – FONECA” apropiados para cubrir el déficit que se presenta en el pago del pasivo pensional de Electricaribe. La Transferencia de estos recursos se realizará a través de la Superintendencia de Servicios Públicos Domiciliarios para el cumplimiento de su objeto en los términos del artículo 315 de la Ley 1955 de 2019 y el Decreto 42 de 2020",0,15]
[null,null,"D2221102","Leche en polvo azucarada",1,{"$f":"ROW()","v":3080},8,null,null,"2.3.3.07.02.102","Transferencia al fondo de empleados (no de pensiones) Transferencia que realiza la empresa URRA para financiar el fondo de empleados, en marco de la clausula novena del pacto colectivo establecido por la empresa y sus trabajadores no sindicalizados.",0,15]
[null,null,"D2221201","Leche en polvo descremada y semidescremada",1,{"$f":"ROW()","v":3081},8,null,null,"2.3.3.07.02.103","Fondo de Pensiones Públicas del Nivel Nacional - Instituto Nacional de los Recursos Naturales Renovables y del Ambiente - INDERENA (de pensiones) Comprende la transferencia que realiza el Ministerio del Trabajo como administrador del Fondo de Pensiones Públicas del Nivel Nacional, para atender el pago de la nómina de pensionados del Extinto INDERENA, en cumplimiento de lo dispuesto en el Decreto 1627 de 2021.",0,15]
[null,null,"D2399104","Leche en polvo para lactantes",1,{"$f":"ROW()","v":3082},8,null,null,"2.3.3.07.02.104","Fondo de Pensiones Públicas del Nivel Nacional - Instituto de Mercadeo Agropecuario – IDEMA (de pensiones Comprende la transferencia que realiza el Ministerio del Trabajo como administrador del Fondo de Pensiones Públicas del Nivel Nacional, para atender el pago de la nómina de pensionados del extinto IDEMA, en cumplimiento de lo dispuesto en el Decreto 1859 de 2021 Artículo 2.2.10.46.1.",0,15]
[null,null,"D2221101","Leche entera en polvo",1,{"$f":"ROW()","v":3083},8,null,null,"2.3.3.07.02.105","Fondo Nacional Pasivo Pensional y Prestacional de la Electrificadora del Caribe S.A E.S.P - FONECA (de pensiones) Corresponde a recursos del PGN transferidos por la Nación al patrimonio autónomo del “Fondo Nacional del Pasivo Pensional y Prestacional de la Electrificadora del Caribe S.A. E.S.P. – FONECA” apropiados para cubrir el déficit que se presenta en el pago del pasivo pensional de Electricaribe. La Transferencia de estos recursos se realizará a través de la Superintendencia de Servicios Públicos Domiciliarios para el cumplimiento de su objeto en los términos del artículo 315 de la Ley 1955 de 2019 y el Decreto 42 de 2020.",0,15]
[null,null,"D0221101","Leche fresca",1,{"$f":"ROW()","v":3084},8,null,null,"2.3.3.07.02.106","Auxilio funerario (Otras prestaciones de jubilación) Corresponde al gasto que se realiza de reconocimiento y pago de un auxilio funerario a la persona que compruebe haber sufragado los gastos de entierro de un pensionado, del Fondo de Previsión Social del Congreso de la República y del Fondo Pasivo Social de Ferrocarriles Nacionales de Colombia, Decreto 1755 de 1994.",0,15]
[null,null,"D2211003","Leche pasteurizada descremada",1,{"$f":"ROW()","v":3085},8,null,null,"2.3.3.07.02.107","Prestaciones económicas FONPRENOR - Ley 1668 de 1997 (Otras prestaciones de jubilación) Corresponde al pago de los derechos y obligaciones adquiridos por la Superintendencia de Notariado y Registro (SNR) del Fondo de Previsión Social de Notariado y Registro (FONPRENOR en liquidación) a las Administradoras de Fondo de Pensiones (AFPs) por las prestaciones económicas tales como las indemnizaciones sustitutivas, que válida y legalmente ostenten quienes fueron afiliados del extinto FONPRENOR (Decreto 1668 de 1997).",0,15]
[null,null,"D2211004","Leche pasteurizada deslactosada",1,{"$f":"ROW()","v":3086},8,null,null,"2.3.3.07.03.001","Fondo Nacional de Pensiones de las Entidades Territoriales Ley 549 de 1999 (de pensiones) Transferencias al Fondo de Pensiones Públicas del Orden Territorial, Fonpet, en virtud de la Ley 549 de 1999, por medio de la cual, se establece que la Nación aportará recursos para este fondo por concepto de enajenaciones de activos a privados, capitalizaciones, y demás que determina la Ley 549 de 1999.",0,15]
[null,null,"D2211001","Leche pasteurizada entera",1,{"$f":"ROW()","v":3087},8,null,null,"2.3.3.07.03.002","Prestaciones convencionales pensionados Puertos de Colombia (Otras prestaciones de jubilación) Transferencia en virtud de la Ley 1 de 1991, por el cual se expide el Estatuto de Puertos Marítimos, se ordena la liquidación de la Empresa Puertos de Colombia y se establece que la Nación asumirá las obligaciones laborales generadas y las prestaciones convencionales reconocidas.",0,15]
[null,null,"D2211002","Leche pasteurizada semidescremada",1,{"$f":"ROW()","v":3088},8,null,null,"2.3.3.07.03.003","Transferencia obligaciones laborales reconocidas insolutas Empresas Sociales del Estado creadas por el Decreto 1750 de 2003 (No de pensiones) Corresponde a los recursos que son transferidos por parte del Ministerio de Salud y Protección Social a los Patrimonios Autónomos de Remanentes de las Empresas Sociales del Estado para el pago de sentencias de carácter laboral derivadas del proceso liquidatario de estas, en virtud del Decreto 1750 de 2003 y el Art. 1 Resolución 4070 de 2017.",0,15]
[null,null,"D2229007","Leche saborizada",1,{"$f":"ROW()","v":3089},8,null,null,"2.3.3.07.03.004","Financiación pensiones régimen de prima media con prestación definida Colpensiones Ley 1151 de 2007 (de pensiones) Transferencias realizadas por la nación para la financiación del pago de pensiones del régimen de prima media con prestación definida a cargo de la Administradora Colombiana de Pensiones, COLPENSIONES, en virtud de la Ley 1151 de 2007 y el Decreto 2011 de 2012.",0,15]
[null,null,"D2211007","Leche ultrapasteurizada descremada",1,{"$f":"ROW()","v":3090},8,null,null,"2.3.3.07.03.005","Otros recursos para seguridad social Transferencias de recursos para financiación de las variaciones positivas del monto de pensiones a cargo de la Nación, superiores al Índice de Precios al Consumidor (IPC) esperado, de acuerdo con la meta de inflación proporcionada por el Banco de la República.",0,15]
[null,null,"D2211008","Leche ultrapasteurizada deslactosada",1,{"$f":"ROW()","v":3091},8,null,null,"2.3.3.07.03.006","Concurrencia Nación pasivo pensional Leyes 1151/2007 y 1371/2009 (de pensiones) Transferencias generadas, en el marco de la concurrencia de la Nación al saneamiento del pasivo pensional, a la Universidad Nacional de Colombia, en calidad de Universidad Oficial. La Nación concurre en el pago del pasivo pensional de las universidades estatales del orden nacional que con anterioridad al 23 de diciembre de 1993 tenían a su cargo el reconocimiento y pago de pensiones directamente o a través de una caja con o sin personería jurídica. La concurrencia a cargo de la Nación será igual a la diferencia entre el valor del pasivo pensional menos el aporte a cargo de la respectiva universidad. Estas están destinadas al Fondo que atiende el pago del pasivo pensional de esta Universidad.",0,15]
[null,null,"D2211005","Leche ultrapasteurizada entera",1,{"$f":"ROW()","v":3092},8,null,null,"2.3.3.07.03.007","Pagos excepcionales de extrabajadores de la Fundación San Juan de Dios (de pensiones) Transferencias en virtud del Fallo de Unificación SU-484 de 2008, de la Corte Constitucional, en el cual se estableció que las pensiones causadas antes del 31 de diciembre de 1993 por la Fundación San Juan de Dios que comprende el Hospital San Juan de Dios y el Instituto Materno Infantil, corresponden ser pagadas por la Nación.",0,15]
[null,null,"D2211006","Leche ultrapasteurizada semidescremada",1,{"$f":"ROW()","v":3093},8,null,null,"2.3.3.07.03.008","Pasivo pensional Municipio Armero Guayabal (Ley 1478 de 2011 Decreto 2622 de 2014) (de pensiones) Transferencias de recursos a cargo de la nación por concetpo del pasivo pensional del extinto Municipio de Armero, en virtud de la Ley 1478 de 2011 y el Decreto 2622 de 2014.",0,15]
[null,null,"D2223099","Leches ácidas n.c.p.",1,{"$f":"ROW()","v":3094},8,null,null,"2.3.3.07.03.009","Prestaciones del sector salud (Ley 715/2001) (de pensiones) Transferencias de acuerdo con la Ley 715 de 2001, parágrafo 2 del artículo 49, en el cual se indica que se debe descontar el pago de valores prestacionales de pensiones del sector salud en relación con los recursos distribuidos a cada entidad territorial para la prestación del servicio de salud a la población pobre por atender, en lo no cubierto con subsidios a la demanda, en el marco del Sistema General de Participaciones, SGP.",0,15]
[null,null,"D2118601","Lechona (cerdo relleno)",1,{"$f":"ROW()","v":3095},8,null,null,"2.3.3.07.03.010","Planes complementarios de salud Ley 314 de 1996 (no de pensiones) Transferencias realizadas por la nación, en virtud del Decreto 1750 de 2003, para el cumplimiento de las obligaciones laborales derivadas de la escición del Instituto de Seguros Sociales (ISS) y las Empresas Sociales del Estado (ESE) creadas en dicho Decreto.",0,15]
[null,null,"D0121401","Lechuga",1,{"$f":"ROW()","v":3096},8,null,null,"2.3.3.07.03.011","Prestación humanitaria periódica Artículo 2.2.9.5.7 Decreto 600 de 2017 (no de pensiones) Transferencia en virtud del artículo 2.2.9.5.7 del Decreto 600 de 2017, el cual establece que el financiamiento y pago de la prestación humanitaria periódica provendrán del Presupuesto General de la Nación (PGN). Para lo cual, el Ministerio de Hacienda y Crédito Público apropiará anualmente los recursos que sean necesarios en el presupuesto del Ministerio de Trabajo y éste a su vez deberá realizar todas las actuaciones administrativas y presupuestales que correspondan para garantizar el pago de dicha prestación para las víctimas del conflicto armado en atención a las disposiciones de la Ley 418 de 1997.",0,15]
[null,null,"D3522004","Lecitina",1,{"$f":"ROW()","v":3097},8,null,null,"2.3.3.07.03.012","Obligaciones laborales del Instituto de Seguros Sociales -ISS y Empresas Sociales del Estado- Decreto 1750 de 2003, en liquidación (de pensiones) Transferencias realizadas por la nación, en virtud del Decreto 1750 de 2003, para el cumplimiento de las obligaciones laborales derivadas de la escición del Instituto de Seguros Sociales (ISS) y las Empresas Sociales del Estado (ESE) creadas en dicho Decreto.",0,15]
[null,null,"D2139998","Legumbres en conserva n.c.p.",1,{"$f":"ROW()","v":3098},8,null,null,"2.3.3.07.03.013","Afiliación Riesgos Laborales contratistas Grado IV y V Corresponde al pago mensual de las cotizaciones al Sistema General de Riesgos Laborales que el contratante debe pagar, cuando la afiliación del contratista sea por riesgo IV o V.",0,15]
[null,null,"D2139909","Leguminosas precocidas",1,{"$f":"ROW()","v":3099},8,null,null,"2.3.3.07.04.001.01","Incapacidades (No de pensiones) Corresponde a la transferencia corriente que hace el SGSSS a los afiliados del Régimen Contributivo en salud por concepto de incapacidades generadas en enfermedad general, de conformidad con las disposiciones legales vigentes.",0,18]
[null,null,"D0423101","Lenguado, fresco o refrigerado",1,{"$f":"ROW()","v":3100},8,null,null,"2.3.3.07.04.001.02","Licencias de maternidad y paternidad (No de pensiones) Corresponde a la transferencia corriente que hace el SGSSS a los afiliados por concepto de licencias de maternidad y paternidad, de conformidad con las disposiciones legales vigentes.",0,18]
[null,null,"D2139903","Lentejas envasadas",1,{"$f":"ROW()","v":3101},8,null,null,"2.3.3.07.04.001.03","Prestaciones económicas regímenes especial y de excepción Corresponde a la transferencia corriente que hace el SGSSS por concepto de incapacidades por enfermedad general, licencias de maternidad y paternidad, a favor de quienes están afiliados a los regímenes especial y/o de excepción, de conformidad con las disposiciones legales vigentes.",0,18]
[null,null,"D0170401","Lentejas secas",1,{"$f":"ROW()","v":3102},8,null,null,"2.3.3.07.04.001.04","Indemnizaciones (no de pensiones) Corresponde al valor que reconoce el SGSSS a titulo de indemnización a los beneficiarios de la víctima que haya fallecido o a la victima por incapacidad permanente, como consecuencia de un accidente de tránsito (por un vehículo no identificado o un vehículo sin póliza de SOAT), de un evento terrorista, de un evento catastrófico de origen natural u otro evento aprobado por el Ministerio de Salud y Protección Social.",0,18]
[null,null,"D0124902","Lentejas verdes",1,{"$f":"ROW()","v":3103},8,null,null,"2.3.3.07.04.001.05","Auxilio funerario (no de pensiones) Corresponde al valor que reconoce el SGSSS a titulo de auxilio funerario a los beneficiarios de la víctima que haya fallecido como consecuencia de un accidente de tránsito (por un vehículo no identificado o un vehículo sin póliza de SOAT), de un evento terrorista, de un evento catastrófico de origen natural u otro evento aprobado por el Ministerio de Salud y Protección Social.",0,18]
[null,null,"D3719402","Lentes oftálmicos (esbozos)",1,{"$f":"ROW()","v":3104},8,null,null,"2.3.3.07.04.002.01","Pensión de Vejez (de pensiones) Corresponde al reconocimiento de pensiones de vejez o de jubilación, que realiza el Régimen de Prima Media con Prestación Definida y el Régimen de Ahorro Individual con Solidaridad, a quienes han cumplido las requisitos a los que se refiere Ley 100 de 1993.",0,18]
[null,null,"D4831206","Lentes oftálmicos (excepto de contacto)",1,{"$f":"ROW()","v":3105},8,null,null,"2.3.3.07.04.002.02","Pensión de Invalidez (de pensiones) Corresponde al reconocimiento de pensiones de invalidez que realiza el Régimen de Prima Media con Prestación Definida y el Régimen de Ahorro Individual con Solidaridad, a quienes han cumplido las requisitos a los que se refiere Ley 100 de 1993.",0,18]
[null,null,"D4831207","Lentes oftálmicos de contacto sin tallar",1,{"$f":"ROW()","v":3106},8,null,null,"2.3.3.07.04.002.03","Pensión de Sobrevivientes (de pensiones) Corresponde al reconocimiento de pensiones de sustitución o sobrevivientes, que realiza el Régimen de Prima Media con Prestación Definida y el Régimen de Ahorro Individual con Solidaridad, a quienes han cumplido las requisitos a los que se refiere Ley 100 de 1993.",0,18]
[null,null,"D4831205","Lentes oftálmicos de contacto tallados",1,{"$f":"ROW()","v":3107},8,null,null,"2.3.3.07.04.002.04.01","Indemnización de pensión de Vejez (de pensiones) Corresponde a las indemnizaciones que realiza el Régimen de Prima Media con prestación definida a quienes no cumplen las condiciones definidas en la Ley 100 para obtener una pensión por vejez",0,21]
[null,null,"D3719403","Lentes oftálmicos sin tallar",1,{"$f":"ROW()","v":3108},8,null,null,"2.3.3.07.04.002.04.02","Indemnización de pensión de Invalidez (de pensiones) Corresponde a las indemnizaciones que realiza el Régimen de Prima Media con prestación definida a quienes no cumplen las condiciones definidas en la Ley 100 para obtener una pensión por invalidez.",0,21]
[null,null,"D0325005","Leños, cortezas, agallas, raíces, tallos, hojas y flores; líquenes utilizados para teñir o curtir",1,{"$f":"ROW()","v":3109},8,null,null,"2.3.3.07.04.002.04.03","Indemnización de pensión de Sobrevivientes (de pensiones) Corresponde a las indemnizaciones que realiza el Régimen de Prima Media con prestación definida a quienes no cumplen las condiciones definidas en la Ley 100 para obtener una pensión por sobrevivientes.",0,21]
[null,null,"D3699001","Letras, números y signos de material plástico",1,{"$f":"ROW()","v":3110},8,null,null,"2.3.3.07.04.002.06","Auxilios funerarios (no de pensiones) Corresponde a la prestación adicional que puede recibir la persona que compruebe haber sufragado los gastos de entierro de un afiliado o pensionado. Tendrá derecho a percibir un auxilio funerario equivalente al último salario base de cotización, o al valor correspondiente a la última mesada pensional recibida, según sea el caso, sin que este auxilio pueda ser inferior a cinco (5) salarios mínimos legales mensuales vigentes, ni superior a diez (10) veces dicho salario.",0,18]
[null,null,"D2399602","Levadura seca",1,{"$f":"ROW()","v":3111},8,null,null,"2.3.3.07.04.002.07","Incapacidades (no de pensiones) Corresponde al pago de incapacidades laborales por enfermedad de origen común que debe reconocer la Administradora de Pensiones a sus afiliados a partir del día 181 de incapacidad y hasta el día 540.",0,18]
[null,null,"D2399601","Levadura sólida",1,{"$f":"ROW()","v":3112},8,null,null,"2.3.3.07.04.003.01","Subsidio por incapacidad temporal (no de pensiones) Corresponde a la prestación social que recibe todo afiliado al SGRL a quien se le defina una incapacidad temporal. Equivale al cien (100%) de su salario base de cotización, calculado desde el día siguiente el que ocurrió el accidente de trabajo y hasta el momento de su rehabilitación, readaptación o curación, o de la declaración de su incapacidad permanente parcial, invalidez o su muerte.",0,18]
[null,null,"D3414057","Levulinato de calcio",1,{"$f":"ROW()","v":3113},8,null,null,"2.3.3.07.04.003.02","Indemnización por incapacidad permanente parcial (no de pensiones) Corresponde a la prestación social que recibe todo afiliado al SGRL a quien se le defina una incapacidad permanente parcial. Tiene derecho a que se le reconozca una indemnización en proporción al daño sufrido, a cargo de la entidad administradora de riesgos profesionales, en una suma no inferior a dos (2) salarios base de liquidación, ni superior a veinticuatro (24) veces su salario base de liquidación.",0,18]
[null,null,"D3270101","Libretas y análogos",1,{"$f":"ROW()","v":3114},8,null,null,"2.3.3.07.04.003.03","Pensión de invalidez (de pensiones) Corresponde a la prestación social que recibe el afiliado al SGRL al que se le defina una invalidez. Para los efectos del Sistema General de Riesgos Profesionales, se considera inválida la persona que por causa de origen profesional, no provocada intencionalmente, hubiese perdido el cincuenta por ciento (50%) o más de su capacidad laboral de acuerdo con el Manual Único de Calificación de Invalidez vigente a la fecha de la calificación.",0,18]
[null,null,"D3229202","Libros (cuadernos) para dibujar y colorear, impresos",1,{"$f":"ROW()","v":3115},8,null,null,"2.3.3.07.04.003.04","Pensión de sobrevivientes (de pensiones) Si como consecuencia de un accidente de trabajo o de la enfermedad profesional sobreviene la muerte del afiliado, o muere un pensionado por riesgos profesionales, le corresponde al SGRL otorgar a las personas descritas en el artículo 47 de la Ley 100 de 1993 y su reglamentario, pensión de sobrevivientes.",0,18]
[null,null,"D3229201","Libros animados impresos",1,{"$f":"ROW()","v":3116},8,null,null,"2.3.3.07.04.003.05","Auxilio funerario (no de pensiones) Corresponde al auxilio funerario que otorga el SGRL a la persona que compruebe haber sufragado los gastos de entierro de un afiliado o de un pensionado por invalidez. El auxilio es igual el determinado en el artículo 86 de la Ley 100 de 1993.",0,18]
[null,null,"D3229101","Libros científicos y técnicos, impresos",1,{"$f":"ROW()","v":3117},8,null,null,"2.3.3.07.05.01","Subsidio monetario Corresponde a la suma monetaria que las Cajas de Compensación Familiar deben pagar a los trabajadores que la ley considera beneficiarios, el cual es cancelado en función de cada una de las personas a cargo que dan derecho a percibirlo, pago que se efectúa de manera mensual, de acuerdo al departamento del país donde se cause el salario.Los cesantes beneficiarios de las prestaciones económicas que durante su última vinculación como dependientes estaban gozando de cuota monetaria de subsidio familiar, continuarán recibiéndola en las mismas condiciones y por igual número de personas a car­go, a partir del mes en que se paguen las cotizaciones a los sistemas de pensiones y salud.",0,14]
[null,null,"D3229901","Libros de arte y literatura, impresos",1,{"$f":"ROW()","v":3118},8,null,null,"2.3.3.07.05.02","Subsidio en especie y servicios Corresponde al subsidio que otorgan las cajas de compensación familiar a sus afiliados y que es reconocido en alimentos, vestidos, becas de estudio, texto escolares, y demás frutos o géneros diferentes al dinero que determine la reglamentación de la ley. Así como los subsidios en servicios que se reconocen a través de la utilización de las obras y programas sociales que organicen las Cajas de Compensación Familiar dentro del orden de prioridades prescrito por la Ley.",0,14]
[null,null,"D3222002","Libros de mapas y láminas didácticas, impresas",1,{"$f":"ROW()","v":3119},8,null,null,"2.3.3.07.05.03","Bonos de alimentación Corresponde a la prestación económica destinada a cubrir gastos alimenticios de acuerdo con las prioridades de consumo de cada beneficiario durante un período de cesantía determinado, respetando su libre elección y sus derechos como consumidor, conforme a lo señalado en el artículo 3° de la Ley 1480 de 2011.",0,14]
[null,null,"D3270108","Libros en blanco",1,{"$f":"ROW()","v":3120},8,null,null,"2.3.3.07.05.04","Aportes a la seguridad social en salud y pensión Corresponde al pago de la cotización a los Sistemas de Salud y Pensiones del Sistema General de Seguridad Social Integral, reconocido a la población cesante.",0,14]
[null,null,"D3221001","Libros escolares impresos",1,{"$f":"ROW()","v":3121},8,null,null,"2.3.3.07.05.05","Incentivo económico por ahorro voluntario de cesantías Corresponde al beneficio monetario proporcional que reciben los trabajadores que voluntariamente realicen el ahorro de las cesantías. El beneficio está sujeto al tiempo de ahorro, al ingreso del trabajador y al monto del ahorro realizado. Las Cajas de Compensación Familiar liquidan el valor del beneficio mo­netario y junto con el ahorro y los rendimientos trasladados, los pagará al beneficiario conforme lo que haya indicado este en el formato de destinación de ahorro, en máximo seis (6) instalamentos. El pago se realizará a través de los mecanismos que utilice para reconocer la cuota monetaria de subsidio o cualquier otro que garantice la mayor agilidad para el disfrute del cesante.",0,14]
[null,null,"D3270104","Libros para teneduría de contabilidad",1,{"$f":"ROW()","v":3122},8,null,null,"2.3.3.07.05.06","Beneficios relacionados con el Mecanismo de Protección al Cesante (Dec. 488 de 2020) Corresponde a la transferencia económica que realizan las Cajas de Compensación Familiar para cubrir los gastos, de acuerdo con las necesidades y prioridades de consumo de cada beneficiario, por un valor de dos (2) salarios mínimos mensuales legales vigentes, divididos en tres (3) mensualidades iguales que se pagarán mientras dure la emergencia y, en todo caso, máximo por tres meses.",0,14]
[null,null,"D3229906","Libros publicados en fascículos, folletos, hojas sueltas e impresos similares",1,{"$f":"ROW()","v":3123},8,null,null,"2.3.3.08.01","Medidas de protección UNP- apoyo de transporte, trasteo y de reubicación temporal Comprende los recursos que son transferidos por la Unidad Nacional de Protección (UNP) directamente a las personas acogidas a los programas de prevención y protección. Estos recursos son entregados como medidas de protección de conformidad con lo establecido en los numerales 3, 4 y 5 del Artículo 2.4.1.3.6 del Decreto 1066 de 2015.",0,11]
[null,null,"D3229902","Libros religiosos impresos",1,{"$f":"ROW()","v":3124},8,null,null,"2.3.3.08.02","Apoyo socieconómico a estudiantes Corresponde a los recursos economicos otorgados directamente a los estudiantes con con el fin de garantizar su permanencia academica y la participación en actividades que promueven la formacion integral.Ejemplo: Apoyo al transporte, apoyo a la alimentación y alojamiento, participación en eventos academicos, culturales y deportivos, salidas de campo, gastos de marcha, entre otros.",0,11]
[null,null,"D3229903","Libros temáticos diversos, impresos",1,{"$f":"ROW()","v":3125},8,null,null,"2.3.3.08.03","Traslado de dividendos Trasferencia de dividendos a favor de los hogares.",0,11]
[null,null,"D2413110","Licor de cacao con o sin azúcar",1,{"$f":"ROW()","v":3126},8,null,null,"2.3.3.08.04","Actividades de promoción y desarrollo de la cultura Transferencia a las personas naturales, que ejecuten programas culturales para estimular la creación, la actividad artística y cultura, la investigación y el fortalecimiento de las expresiones culturales, en virtud de lo señalado en el artículo 71 de la Constitución Política y artículos 17 y 18 de la Ley 397 de 1997, mediante el otorgamiento de estímulos o incentivos",0,11]
[null,null,"D4481604","Licuadoras domésticas",1,{"$f":"ROW()","v":3127},8,null,null,"2.3.3.08.05","Indemnizaciones relacionadas con seguros de vida Son las transferencias de recursos que realizan las empresas aseguradoras a los beneficiarios de las indemnizaciones que se generan en el desarrollo de contratos de seguros de vida.",0,11]
[null,null,"D4491913","Licuadoras eléctricas industriales",1,{"$f":"ROW()","v":3128},8,null,null,"2.3.3.08.06","Estímulos y beneficios a los deportistas Son los recursos a través de los cuales las entidades territoriales apoyan a este nivel de población, con estímulos e incentivos a los deportistas del municipio o departamento, así como promocionar y hacer un reconocimiento a los que se han destacado.",0,11]
[null,null,"D2823706","Ligas",1,{"$f":"ROW()","v":3129},8,null,null,"2.3.3.08.07","Recursos para las Mesas de Participación de Víctimas Son los recursos destinados a garantizar la participación efectiva serán otorgados por las entidades del SNARIV, tanto del orden nacional como territorial, a los miembros de las Mesas y a los Representantes a los espacios de participación y subcomités.",0,11]
[null,null,"D1104001","Lignito aglomerado",1,{"$f":"ROW()","v":3130},8,null,null,"2.3.3.08.08","Recursos para el mejoramiento de vivienda urbana y rural Recursos destinados para el mejoramiento de vivienda urbana y rural",0,11]
[null,null,"D1103001","Lignito sin aglomerar",1,{"$f":"ROW()","v":3131},8,null,null,"2.3.3.09.01","Fortalecimiento de las asociaciones y ligas de consumidores (Ley 73 de 1981 y Decreto 1320 de 1982) Transferencias realizadas por la nación, en virtud de la Ley 73 de 1981 y el Decreto 1320 de 1982, por concepto de generación de convenios con asociaciones y ligas de consumidores, con el fin de fortalecer los derechos de los consumidores.",0,11]
[null,null,"D3923001","Lignosulfonatos",1,{"$f":"ROW()","v":3132},8,null,null,"2.3.3.09.02","Programas de rehabilitación para adultos ciegos - Convenio con el Centro de Rehabilitación Para Adultos Ciegos -CRAC- Transferencias realizadas por la nación, en virtud del artículo 355 de la Constitución Política, por concepto del convenio con el Centro de Rehabilitación para Adultos Ciegos (CRAC), con el fin de rehabilitar personas ciegas para su integración al medio familiar, laboral y social.",0,11]
[null,null,"D2823703","Ligueros",1,{"$f":"ROW()","v":3133},8,null,null,"2.3.3.09.03","Anticipos financiación estatal para las campañas electorales (art. 22 Ley 1475/2011 y art. transitorio 8 Acto Legislativo 02/2021) Transferencias realizadas a los partidos políticos o campañas políticas hasta de un ochenta por ciento (80%) de anticipo de la financiación estatal de las consultas o de las campañas electorales en las que participen, según lo dispuesto en el artículo 22 de la Ley 1475 de 2011.",0,11]
[null,null,"D3791004","Lija de agua",1,{"$f":"ROW()","v":3134},8,null,null,"2.3.3.09.04","Financiación de partidos y campañas electorales (Ley 130/94, art. 3 acto legislativo 001/03) Transferencias para los Partidos Políticos y las campañas electorales, en virtud del Acto Legislativo 001 de 2003, por tanto, con el propósito de que todos los ciudadanos puedan materializar sus derechos políticos (en especial los dispuestos en la Ley 130 de 1994), el Estado concurrirá a la financiación de los partidos y movimientos políticos con personería jurídica, de conformidad con la ley. Además, las campañas que adelanten los partidos y movimientos con personería jurídica y los grupos significativos de ciudadanos que postulen candidatos serán financiadas con recursos estatales mediante el sistema de reposición por votos depositados.",0,11]
[null,null,"D0132202","Lima",1,{"$f":"ROW()","v":3135},8,null,null,"2.3.3.09.05","Asociación Colombiana de Universidades -ASCUN- Transferencias realizadas por la Nación a la institución sin ánimo de lucro Asociación Colombiana de Universidades (ASCUN), la cual tiene como objetivo contribuir, por medio de la generación de conocimiento, en las diferentes etapas de las políticas públicas de educación superior en Colombia.",0,11]
[null,null,"D4292117","Limas y escofinas",1,{"$f":"ROW()","v":3136},8,null,null,"2.3.3.09.06","Financiación estatal previa de las campañas presidenciales Ley 996 de 2005 Transferencia realizada por la nación, en virtud del artículo 10 de la Ley 996 de 2005, por concepto de financiación estatal de campañas presidenciales de candidatos que cumplan con los requisitos establecidos por la Ley. La financiación estatal previa está compuesta por un anticipo del Estado, que comprende una parte para la financiación de la propaganda electoral y otra para la financiación de otros gastos de campaña.",0,11]
[null,null,"D0132201","Limón",1,{"$f":"ROW()","v":3137},8,null,null,"2.3.3.09.07","Centro Internacional de Física (Decreto 267 de 1984) Transferencias por parte de la Nación, en virtud del Decreto 267 de 1984 y el Decreto Ley 2869 de 1968, al Proyecto Especial para la promoción y el desarrollo de las ciencias físicas coordinado desde Colciencias (Departamento Administrativo de la Ciencia, Tecnología e Innovación). Los objetivos de este proyecto persiguen la consolidación de la investigación de la física pura y aplicada en Colombia articulando esta con los proyectos regionales latinoamericanos, principalmente.",0,11]
[null,null,"D2367013","Limones rellenos",1,{"$f":"ROW()","v":3138},8,null,null,"2.3.3.09.08","Centro Internacional de Investigaciones Médicas - CIDEIM (Decreto 578 de 1990) Transferencias realizadas por la nación, en virtud del Decreto 578 de 1990, al Proyecto Especial para la promoción y el desarrollo de la investigación en enfermedades tropicales propias del país o de la región. Estas asignaciones se realizan con el ánimo de promover y financiar la realización de actividades científicas y tecnológicas en el área de la salud a nivel nacional e internacional.",0,11]
[null,null,"D4691109","Limpiabrisas para automotores",1,{"$f":"ROW()","v":3139},8,null,null,"2.3.3.09.09","Centro de Educación en Administración de Salud - CEADS - convenio Transferencias realizadas por la Nación por concepto de convenios con los Centros de Educación en Administración de Salud CEADS, los cuales fueron creados por el Decreto 2442 de 1982, con el objetivo de formar personal de nivel intermedio profesional en el área de salud.",0,11]
[null,null,"D4112104","Lingotes de hierro colado",1,{"$f":"ROW()","v":3140},{"$f":"LEN(C3140)","v":8},null,null,"2.3.3.09.10","Fortalecimiento a los procesos organizativos y de concertación de las minorías étnicas con el fin de garantizar su integridad. Convenio 169 OIT, Ley 21 de 1991, Ley 70 de 1993. Transferencias realizadas por la Nación en virtud de la Ley 21 de 1991, por medio de la cual se aprueba el Convenio 169 de la OIT y Ley 70 de 1993, por la cual se desarrolla el artículo transitorio 55 de la Constitución Política, para el fortalecimiento y desarrollo de los procesos organizativos y de concertación de las minorías étnicas, con el fin de garantizar su integridad.",0,{"$f":"LEN(J3140)","v":11}]
[null,null,"D4111102","Lingotes de hierro en bruto",1,{"$f":"ROW()","v":3141},8,null,null,"2.3.3.09.11","Fortalecimiento a los procesos organizativos y de concertación de las comunidades negras, afrocolombianas, raizales y palenqueras Transferencias en virtud de la Ley 21 de 1991, por medio de la cual se aprueba el Convenio 169 de la OIT; Ley 70 de 1993, por la cual se desarrolla el artículo transitorio 55 de la Constitución Política; y el Decreto 1320 de 1998, por el cual se reglamenta la consulta previa con las comunidades indígenas y negras para la explotación de los recursos naturales dentro de su territorio; con el fin de fortalecer los procesos organizativos y de concertación de las comunidades negras, afrocolombianas, raizales y palenqueras.",0,11]
[null,null,"D0192902","Lino en rama o enriado",1,{"$f":"ROW()","v":3142},8,null,null,"2.3.3.09.12","Fortalecimiento a los procesos organizativos y de concertación de las comunidades indígenas, minorías y Rom Transferencias en virtud de la Ley 21 de 1991, por medio de la cual se aprueba el Convenio 169 de la OIT; el Decreto 1320 de 1998, por el cual se reglamenta la consulta previa con las comunidades indígenas y negras para la explotación de los recursos naturales dentro de su territorio; y la Sentencia Auto 004 de 26 de enero de 2009, por medio de la cual se blinda la protección de derechos fundamentales de personas e indígenas desplazados por el conflicto armado en el marco de superación del estado de cosas inconstitucional declarado en sentencia T-025 de 2004; con el fin de fortalecer los procesos organizativos y de concertación de las comunidades indígenas, minorías y rom.",0,11]
[null,null,"D3893001","Linóleo",1,{"$f":"ROW()","v":3143},8,null,null,"2.3.3.09.13","Fortalecimiento institucional de la mesa permanente de concertación con los pueblos y organizaciones indígenas - Decreto 1397 de 1996 Transferencias realizadas por la Nación, en virtud del Decreto 1397 de 1996, que tiene por objeto concertar entre los pueblos y organizaciones, y el Estado todas las decisiones administrativas y legislativas susceptibles de afectarlos, evaluar la ejecución de la política indígena del Estado, y hacerle seguimiento al cumplimiento de los acuerdos a que allí se lleguen.",0,11]
[null,null,"D4653101","Linternas",1,{"$f":"ROW()","v":3144},8,null,null,"2.3.3.09.14","Actividades de promoción y desarrollo de la cultura - Convenios sector privado Transferencias en cabeza del Ministerio de Cultura a organizaciones del sector privado, las cuales ejecuten programas culturales abiertas al público para la promoción y el desarrollo del patrimonio cultural, en virtud de la Ley 397 de 1997.",0,11]
[null,null,"D2180001","Linters de algodón",1,{"$f":"ROW()","v":3145},8,null,null,"2.3.3.09.15","Cuerpos Consultivos Transferencias del Gobierno Nacional utilizadas para el funcionamiento de cada órgano consultivo.",0,11]
[null,null,"D3543006","Líquido para frenos hidráulicos",1,{"$f":"ROW()","v":3146},8,null,null,"2.3.3.09.16","Sobretasa bomberil - Cuerpos de Bomberos Voluntarios Corresponde a la transferencia del recaudo que realicen los municipios, distritos y departamentos en cumplimiento del artículo 37 de la Ley 1575 de 2012 como aporte para la gestión integral del riesgo contra incendio, los preparativos y atención de rescates en todas sus modalidades y la atención de incidentes con materiales peligrosos, a cuerpos de bomberos con naturaleza privada(voluntarios). Si la Unidad de bomberos es descentralizada territorial, se registrara en la cuenta A establecimientos públicos y unidades administrativas especiales.",0,11]
[null,null,"D3549953","Líquidos especiales para corrección y borrado de textos",1,{"$f":"ROW()","v":3147},8,null,null,"2.3.3.09.17","Actividades de promoción y desarrollo del Deporte Transferencias a organizaciones del sector privado, las cuales ejecuten programas de Recreación y Deporte abiertas al público para fomentar, patrocinar y dirigir la actividad deportiva en cualquiera de los niveles jerárquicos establecidos en el artículo 1 del Decreto 1228 de 1995.",0,11]
[null,null,"D3549912","Líquidos especiales para cromar, niquelar y electrobrillar metales",1,{"$f":"ROW()","v":3148},8,null,null,"2.3.3.09.18","Transferencia a Corporación Maloka de Ciencia, Tecnología e Innovación Corresponde a las transferencias que el Distrito Capital realiza a la Corporación Maloka",0,11]
[null,null,"D3899909","Líquidos para encendedores",1,{"$f":"ROW()","v":3149},8,null,null,"2.3.3.09.19","Transferencia a Corporación para el Desarrollo Regional \"Bogotá Región\" Corresponde a las transferencias que el Distrito Capital realiza a la Corporación Bogotá Región",0,11]
[null,null,"D3532205","Líquidos para lavar en seco",1,{"$f":"ROW()","v":3150},8,null,null,"2.3.3.11.01.001","Recursos ADRES - Pago de deudas reconocidas del régimen subsidiado en salud Son las transferencias que realiza el Ministerio de Salud y Protección Social a las entidades territoriales para la financiación de la Unidad de Pago por Capitación (UPC) del Régimen Subsidiado en Salud. Estos recursos forman parte del ADRESS, y se giran en virtud de las disposiciones del artículo 44 de la Ley 1438 de 2011, el cual modifica el artículo 214 de la Ley 100 de 1993.",0,15]
[null,null,"D3532306","Líquidos para permanentes",1,{"$f":"ROW()","v":3151},8,null,null,"2.3.3.11.01.002","Recursos ADRES -Cofinanciación UPC régimen subsidiado Son las transferencias de recursos que realiza la Nación para la financiación de los proyectos de régimen subsidiado en salud a las entidades territoriales en cuyo territorio se adelanten explotaciones de recursos naturales no renovables, y municipios y distritos con puertos marítimos y fluviales por donde se transporten dichos recursos. Esta transferencia corresponde al desarrollo de las disposiciones del artículo 145 de la Ley 1530 de 2012, los cuales se distribuyen a partir de los criterios y metodologías del CONPES 151 de 2012.",0,15]
[null,null,"D0429105","Lisas y lebranches, frescas o refrigeradas",1,{"$f":"ROW()","v":3152},8,null,null,"2.3.3.11.01.003","Transferencia Nacional -Financiación del régimen subsidiado en salud - Ley 1530 de 2012 Recursos provenientes de la compensación por la Unidad de Pago por Capitación - UPC que reciben los órganos del PGN que prestan servicios de aseguramiento en salud.",0,15]
[null,null,"D3121202","Listón de madera de bambú para enchapados",1,{"$f":"ROW()","v":3153},8,null,null,"2.3.3.11.01.004","Compensación UPC-SSS Es la transferencia de recursos que realizan los municipios a los departamentos para cubrir las prestaciones en salud no cubiertas con subsidios a la demanda, a la universalización y a la unificación de los Planes Obligatorios de Saludo (POS). De acuerdo con el Artículo 39 de la Ley 1393 de 2010, los municipios deben girar los saldos de liquidación y los contratos para el aseguramiento en el régimen subsidiado, a más tardar seis meses después de terminado el período de ejecución de los respectivos contratos",0,15]
[null,null,"D3121102","Listón de madera de conifera para enchapados",1,{"$f":"ROW()","v":3154},8,null,null,"2.3.3.11.01.005","Saldos de liquidación de los contratos para el aseguramiento en el régimen subsidiado Corresponde a los giros que realizan las entidades territoriales a su cuenta del régimen subsidiado, para su cofinanciación, por concepto de recursos propios y rentas cedidas, con el fin de ser girados a las EPS para afiliar a aquellas personas que no han sido cubiertas con los recursos de la Nación o a los prestadores de servicios de salud por el pago de servicios que hayan sido capitados (Ley 1438 de 2011, art. 31)",0,15]
[null,null,"D3121902","Listón de otra madera para enchapados",1,{"$f":"ROW()","v":3155},8,null,null,"2.3.3.11.01.006","Transferencia territorial - Financiación del régimen subsidiado en salud - Ley 1438 de 2011 Corresponde a las transferencias de cofinanciación, recibidas de las entidades territoriales para su cuenta, por concepto de recursos propios y rentas cedidas, con el fin de ser girados a las EPS para afiliar a aquellas personas que no han sido cubiertas con los recursos de la Nación o a los prestadores de servicios de salud por el pago de servicios que hayan sido capitados (Ley 1438 de 2011, art. 31)",0,15]
[null,null,"D3121204","Listón machihembrado de madera de bambú",1,{"$f":"ROW()","v":3156},8,null,null,"2.3.3.11.01.007","Transferencia Cajas de Compensación Familiar - Financiación del régimen subsidiado en salud Son las transferencias que recibe la ADRES de las Cajas de Compensación para la financiación del Régimen Subsidiado en Salud, por concepto del 5% de los recaudos del subsidio familiar que administran, salvo aquellas Cajas que obtengan un cuociente superior al 100% del recaudo del subsidio familiar del respectivo año, las cuales tendrán que destinar un 10% (Ley 100 de 1993, art. 217).",0,15]
[null,null,"D3121104","Listón machihembrado de madera de conifera",1,{"$f":"ROW()","v":3157},8,null,null,"2.3.3.11.01.008","Transferencia de cotización del régimen contributivo Corresponde al giro de recursos que hacen directamente las EPS a la subcuenta de solidaridad de la ADRES, por concepto del 1,5% de la cotización del régimen contributivo (Ley 100 de 1993, art. 221).",0,15]
[null,null,"D3121904","Listón machihembrado de otra madera",1,{"$f":"ROW()","v":3158},8,null,null,"2.3.3.11.01.009","Aportes de unidades del gobierno general para el financiamiento del SGSSS Corresponde al giro de recursos que hacen las unidades del gobierno general para la financiación del Sistema General de Seguridad Social en Salud, de acuerdo con los mandatos legales de la Ley 1393 de 2010 y la Ley 1753 de 2015.Esta cuenta incluye los recursos del Sistema General de Participaciones, los recursos derivados de la gestión de la Unidad de Gestión de Pensiones Parafiscales (UGPP) y de los recursos tributarios destinados a salud, y los demás definidos por la normatividad colombiana.Esta cuenta se debe desagregar de acuerdo con los conceptos de recursos con cargo a los cuales se financia el sistema.",0,15]
[null,null,"D3434006","Litopón",1,{"$f":"ROW()","v":3159},8,null,null,"2.3.3.11.01.010","Compensación cotizaciones SGSSS Corresponde a la transferencia de recursos que reciben las EPS de la ADRES (antes FOSYGA), en los casos en que el valor de las UPC sea mayor que el recaudo de las cotizaciones (Ley 100 de 1993, art. 205).",0,15]
[null,null,"D3611101","Llantas de caucho para automóviles",1,{"$f":"ROW()","v":3160},8,null,null,"2.3.3.11.01.011","Reconocimiento y pago por el aseguramiento y demás prestaciones Corresponde al reconocimiento y pago a las EPS por el aseguramiento y demás prestaciones que se reconocen a los afiliados al Sistema General de Seguridad Social en Salud, incluido el pago de incapacidades por enfermedad de origen común que superen los quinientos cuarenta (540) días continuos (Ley 1753 de 2015, art. 67)",0,15]
[null,null,"D3611302","Llantas de caucho para aviones",1,{"$f":"ROW()","v":3161},8,null,null,"2.3.3.11.01.012","Reconocimiento y pago de incapacidades originadas en enfermedad profesional y accidente de trabajo Corresponde a la transferencia de recursos por compensación y pago de incapacidades originadas en enfermedad profesional y accidente de trabajo, reconocidas por las EPS a los afiliados al Sistema de Seguridad Social. Esta transferencia es financiada con cargo a recursos destinados para el pago de dichas contingencias en el respectivo régimen (Ley 100 de 1993, art. 206).",0,15]
[null,null,"D3611202","Llantas de caucho para bicicletas",1,{"$f":"ROW()","v":3162},8,null,null,"2.3.3.11.01.013","Reconocimiento y pago de licencias de maternidad Corresponde al reconocimiento y pago por licencias de maternidad a los afiliados al Sistema de Seguridad Social que realiza el régimen contributivo a las EPS. Este reconocimiento se financia con la subcuenta de compensación de la ADRES, antes FOSYGA (Ley 100 de 1993, art. 207).",0,15]
[null,null,"D3611301","Llantas de caucho para buses y camiones",1,{"$f":"ROW()","v":3163},8,null,null,"2.3.3.11.01.014","Reconocimiento por atención de accidentes de trabajo y enfermedad profesional Corresponde a la financiación de la prestación de los servicios de salud derivados de enfermedad profesional y accidente de trabajo organizada por las EPS, por parte de la cotización del régimen de accidentes de trabajo y enfermedad profesional (Ley 100 de 1993, art. 208).",0,15]
[null,null,"D3611303","Llantas de caucho para maquinaria agrícola y de maquinaria para construcción o mantenimiento industrial.",1,{"$f":"ROW()","v":3164},8,null,null,"2.3.3.11.01.015","Unidad de Pago por Capitación - régimen contributivo Corresponde a la transferencia que realiza ADRES por concepto de la Unidad de Pago por Capitación (UPC) del Régimen Contributivo en salud, en el marco del proceso de compensación.",0,15]
[null,null,"D3611201","Llantas de caucho para motocicletas y motonetas",1,{"$f":"ROW()","v":3165},8,null,null,"2.3.3.11.01.016","Programas de promoción y prevención en salud Corresponde a las transferencias que realiza ADRES por conceptos Per Cápita para Programas de Promoción y Prevención del Régimen Contributivo en salud.",0,15]
[null,null,"D3611403","Llantas macizas de caucho",1,{"$f":"ROW()","v":3166},8,null,null,"2.3.3.11.01.017","Unidad de Pago por Capitación - régimen subsidiado en salud Corresponde a la transferencia que realiza ADRES a partir de la Liquidación mensual de afiliados al Régimen Subsidiado en salud.",0,15]
[null,null,"D3612001","Llantas reencauchadas",1,{"$f":"ROW()","v":3167},8,null,null,"2.3.3.11.01.018","Servicios y tecnologías no financiados con UPC Corresponde a las transferencias que realiza ADRES como administradora de los recursos del SGSSS para cubrir servicios y tecnologías en salud no financiados con cargo a la Unidad de Pago por Capitación - UPC.",0,15]
[null,null,"D3926001","Llantas usadas",1,{"$f":"ROW()","v":3168},8,null,null,"2.3.3.11.01.019","Programas del Ministerio de Salud y Protección social-fondos especiales Corresponde a las transferencias que realiza ADRES en el marco de los programas del Ministerio de Salud y Protección Social: Programas Especiales, Atención de Medidas en Política Sectorial, Programa Sistema Nacional de Residencias Medicas, Atención de Medidas en Política Sectorial.",0,15]
[null,null,"D2922104","Llaveros de cuero",1,{"$f":"ROW()","v":3169},8,null,null,"2.3.3.11.01.020","Reconocimiento rendimientos financieros cuentas de recaudo EPS Corresponde a la transferencia que realiza la ADRES de recursos apropiados por las EPS, derivadas de la conciliación.mensual de afiliados.",0,15]
[null,null,"D3699062","Llaveros de material plástico",1,{"$f":"ROW()","v":3170},8,null,null,"2.3.3.11.01.021","Apoyo financiero y fortalecimiento patrimonial a las entidades del sector salud Corresponde a las transferencias que realiza ADRES para financiar operaciones de fortalecimiento patrimonial de entidades del sector salud.",0,15]
[null,null,"D3899708","Llaveros metálicos",1,{"$f":"ROW()","v":3171},8,null,null,"2.3.3.11.01.022","Con destinación determinada por MINSALUD Son las transferencias que realiza ADRES en el marco de los Programas del Ministerio de Salud y Protección Social de acuerdo con el Art. 2.6.4.4.4 Decreto 2265 de 2017",0,15]
[null,null,"D4292123","Llaves de ajuste fijas",1,{"$f":"ROW()","v":3172},8,null,null,"2.3.3.11.01.023","Pago obligaciones ESES con recursos FONSAET Corresponde a los giros que realiza la ADRES para asegurar el pago de las obligaciones por parte de las ESE que se encuentren en riesgo alto o medio conforme con lo previsto en el artículo 80 de la Ley 1438 de 2011 o que se encuentren intervenidas para administrar o liquidar por parte de la Superintendencia Nacional de Salud - SNS y las que adopten los programas de saneamiento fiscal y financiero, de conformidad con lo establecido en el artículo 50 de la Ley 1438 de 2011, modificado por el artículo 7 de la Ley 1608 de 2013, el Decreto 2651 de 2014 compilado en el presente Decreto.",0,15]
[null,null,"D4292124","Llaves de ajuste graduables",1,{"$f":"ROW()","v":3173},8,null,null,"2.3.3.11.02.001.01","Capitalización del Fondo Nacional de Prestaciones Sociales del Magisterio (FOMAG) Es la transferencia de recursos que realizan las entidades al Fondo Nacional de Prestaciones Sociales del Magisterio (FOMAG) para cubrir el pasivo pensional de las prestaciones diferentes a las consagradas en la Ley 100 de 1993.",0,18]
[null,null,"D4299208","Llaves en blanco-patrones",1,{"$f":"ROW()","v":3174},8,null,null,"2.3.3.11.02.001.02","Capitalización de otros patrimonios autónomos pensionales Es la transferencia de recursos que realizan las entidades a patrimonios autónomos distitnos del FOMAG para cubrir el pasivo pensional de las prestaciones diferentes a las consagradas en la Ley 100 de 1993.",0,18]
[null,null,"D4299207","Llaves para cerraduras y candados",1,{"$f":"ROW()","v":3175},8,null,null,"2.3.3.11.02.001.03","Transferencias de aportes por cambio de administradora de fondo de pensiones Corresponde a la transferencia de los aportes de pensiones, junto con sus rendimientos, que una Administradora de Fondo de Pensiones (AFP) debe girar a otra cuando el afiliado decide trasladarse de AFP.En esta cuenta también se registra el valor de los aportes que se transfieren al Fondo de Garantía de Pensión Mínima con ocasión del traslado del afiliado.",0,18]
[null,null,"D3532303","Lociones capilares",1,{"$f":"ROW()","v":3176},8,null,null,"2.3.3.11.03.001","Aportes de unidades del gobierno general para el financiamiento del SGRL Corresponde a la transferencia de los aportes que realiza el Presupuesto Nacional y las entidades territoriales al Fondo de Riesgos Laborales, de conformidad con el artículo 89 de la Ley 1295 de 1994. Los aportes que realizan las entidades territoriales están destinados a los planes de Prevención de Riesgos Laborales en sus respectivos territoriales.",0,15]
[null,null,"D3532321","Lociones de tocador",1,{"$f":"ROW()","v":3177},8,null,null,"2.3.3.11.03.002","Aportes de federaciones o agremiaciones para el financiamiento del SGRL Corresponde a la transferencia de los aportes que realiza las federaciones o agremiaciones al Fondo de Riesgos Laborales, de acuerdo con el artículo 89 de la Ley 1295 de 1994. Estos aportes se destinan a los planes de Prevención de Riesgos Laborales para sus afiliados",0,15]
[null,null,"D4951101","Locomotoras",1,{"$f":"ROW()","v":3178},8,null,null,"2.3.3.11.03.003","Transferencia del recaudo de las cotizaciones Corresponde a la transferencia del porcentaje del recaudo de las cotizaciones a cargo de los empleadores a favor del Fondo de Riesgos Laborales, de acuerdo con lo estipulado en el artículo 89 de la Ley 1295 de 1994 y Ley 1562 de 2012",0,15]
[null,null,"D0219901","Lombrices",1,{"$f":"ROW()","v":3179},8,null,null,"2.3.3.12.01","Medidas de protección UNP-blindaje arquitectónico - enfoque diferencial Comprende la transferencia que debe realizar la Unidad Nacional de Protección (UNP) a productores de mercado, con el fin de garantizar a los hogares beneficiarios las medidas de protección establecidas en el Decreto 1066 de 2015, Artículo 2.4.1.3.6. Numeral 7.",0,11]
[null,null,"D2799708","Lona de algodón plastificada",1,{"$f":"ROW()","v":3180},8,null,null,"2.3.3.12.02","Bono de beneficios a comunidad universitaria Corresponde a las transferencias que realizan las IES a un productor de mercado con el fin de garantizar la entrega de bienes y servicios de consumo final a la comunidad universitaria.",0,11]
[null,null,"D2799601","Lona para llantas",1,{"$f":"ROW()","v":3181},8,null,null,"2.3.3.12.03","Recursos para el mejoramiento de vivienda urbana y rural Recursos destinados para el mejoramiento de vivienda urbana y rural que se entregan a las empresas constructoras en nombre de los ciudadanos",0,11]
[null,null,"D2661008","Lonas de algodón blanqueadas y teñidas, con un peso inferior o igual a 200 g/m2 y con un contenido de algodón superior o igual al 85% en peso",1,{"$f":"ROW()","v":3182},8,null,null,"2.3.3.13.01.001","Sentencias Comprende las transferencias corrientes que se deben realizar a otra unidad en acatamiento de una decisión judicial que pone fin a un pleito civil o a una causa criminal, resolviendo respectivamente los derechos de cada litigante y la condena o absolución del procesado (OSORIO, 2000).",0,15]
[null,null,"D2662004","Lonas de algodón blanqueadas y teñidas, con un peso superior a 200 g/m2 y con un contenido de algodón superior o igual al 85% en peso",1,{"$f":"ROW()","v":3183},8,null,null,"2.3.3.13.01.002","Conciliaciones Comprende las transferencias corrientes que se deben realizar a otra unidad por una conciliación. Una conciliación es un mecanismo de solución de conflictos a través del cual, dos o más personas gestionan por sí mismas la solución de sus diferencias, con la ayuda de un tercero neutral y calificado, denominado conciliador.La conciliación es un procedimiento con una serie de etapas, a través de las cuales las personas que se encuentran involucradas en un conflicto desistible, transigible o determinado como conciliable por la ley, encuentran la manera de resolverlo a través de un acuerdo satisfactorio para ambas partes (Programa Nacional de Conciliación , 2017).",0,15]
[null,null,"D2661007","Lonas de algodón crudas, con un peso inferior o igual a 200 g/m2 y con un contenido de algodón superior o igual al 85% en peso",1,{"$f":"ROW()","v":3184},8,null,null,"2.3.3.13.01.003","Laudos arbitrales Comprende las transferencias corrientes que deben realizarsea otra unidad en acatamiento de las sentencias que profieren los tribunales de arbitraje. Un laudo arbitral puede ser en derecho, en equidad o técnico (Ley 563 de 2012, Art. 1).",0,15]
[null,null,"D2662003","Lonas de algodón crudas, con un peso superior a 200 g/m2 y con un contenido de algodón superior o igual al 85% en peso",1,{"$f":"ROW()","v":3185},8,null,null,"2.3.3.13.02.001","Fallos judiciales, decisiones cuasijudiciales y soluciones amistosas sistema interamericano de derechos humanos Transferencias en virtud de la Ley 16 de 1972, por medio de la cual se aprobó la Convención Americana sobre Derechos Humanos \"Pacto de San José de Costa Rica\". Por tal motivo y en virtud de los artículos 62 y 63.1 de la mencionada convención, la CIDH tiene plena competencia para conocer sobre cualquier caso y además para disponer que se garanticen o reparen derechos y el pago de una justa indemnización.",0,15]
[null,null,"D2799706","Lonas impermeabilizadas",1,{"$f":"ROW()","v":3186},8,null,null,"2.3.3.14.01","Del impuesto de registro Es la transferencia de recursos que realizan las entidades territoriales a sus cuentas de ahorro individual en el Fondo Nacional de Pensiones de las Entidades Territoriales (FONPET) por concepto del 20% del impuesto de registro. (Numeral 8 del Artículo 2 de la Ley 549 de 1999).",0,11]
[null,null,"D3694009","Loncheras de material plástico",1,{"$f":"ROW()","v":3187},8,null,null,"2.3.3.14.02","De los ingresos corrientes de los departamentos Es la transferencia de recursos que realizan las entidades territoriales a sus cuentas de ahorro individual en el Fondo Nacional de Pensiones de las Entidades Territoriales (FONPET) por concepto del 10% de los ingresos corrientes de libre destinación. (Numeral 9 del Artículo 2 de la Ley 549 de 1999).",0,11]
[null,null,"D4291215","Loncheras y similares metálicas",1,{"$f":"ROW()","v":3188},8,null,null,"2.3.3.14.03","Por la venta de activos Son las transferencias que realizan las entidades territoriales a su cuenta individual de ahorro en el FONPET por concepto del 15% de la venta de activos al sector privado, en concordancia con el numeral 7 del artículo 2 de la Ley 549 de 1999.",0,11]
[null,null,"D3416020","Loratadina",1,{"$f":"ROW()","v":3189},8,null,null,"2.3.3.14.04","Por acuerdos de pago Es la transferencia de recursos que realizan las entidades territoriales a sus cuentas de ahorro individual en el Fondo Nacional de Pensiones de las Entidades Territoriales (FONPET), como resultado de acuerdos de pago para cubrir la cartera de la entidad con este Fondo. La cartera corresponde al incumplimiento de los aportes territoriales previstos en el artículo 2 de la Ley 549 de 1999 (impuesto de registro, ingresos corrientes de libre destinación, y venta de activos). Los acuerdos de pago se realizan en virtud del artículo 10 de la Ley 549 de 1999 y el procedimiento dispuesto por el Ministerio de Hacienda y Crédito Público en la Resolución 4170 de 2012.",0,11]
[null,null,"D3754009","Losas y adoquines de concreto",1,{"$f":"ROW()","v":3190},8,null,null,"2.3.3.14.05","Aportes voluntarios",0,11]
[null,null,"D3769004","Losas y adoquines de mármol",1,{"$f":"ROW()","v":3191},8,null,null,"2.3.3.15.01","Transferencias de recursos del subsidio familiar Corresponde a las transferencias que realiza una Caja de Compensación Familiar cuando después de pagar las cuotas monetarias que le corresponden no supere el porcentaje obligatorio del cincuenta y cinco por ciento (55%), la diferencia con respecto a la cuota de referencia será girada a las Cajas de Compensación Familiar cuyo porcentaje sea inferior al de la cuota de referencia, con el objeto de lograr la cuota monetaria equitativa al interior de cada departamento, teniendo en cuenta los criterios de ingresos, cuociente y nivel de desarrollo socioeconómico de los mismos. La Superintendencia del Subsidio Familiar o la entidad que haga sus veces con corte a diciembre 31 de cada año, determinará los valores objeto de esta transferencia.Esta cuenta aplica también para las transferencias de recursos administrados por las CCF en fondos y en los que la Ley prevea este tipo de operaciones.",0,11]
[null,null,"D3769001","Losas y adoquines de piedra aserrada",1,{"$f":"ROW()","v":3192},8,null,null,"2.3.3.15.02","Recursos del FOVIS - Programas de vivienda de interés prioritaria Las Cajas de Compensación Familiar podrán transferir recursos del FOVIS a los patrimonios que constituya Fonvivienda junto con las Cajas de Compensación Familiar y otras entidades públicas o las entidades que determine el Gobierno Nacional, para que en forma conjunta con recursos del Gobierno Nacional se desarrollen programas de vivienda de interés prioritaria dirigidos a los hogares con ingresos familiares de hasta dos (2) salarios mínimos legales mensuales vigentes conforme a la normatividad vigente.",0,11]
[null,null,"D3549920","Lubricantes para plásticos",1,{"$f":"ROW()","v":3193},8,null,null,"2.3.4.01.01","Gobiernos extranjeros Comprende las transferencias de capital dirigidas a gobiernos extranjeros. Son gobiernos extranjeros aquellos que se encuentran fuera del territorio económico colombiano y ejercen soberanía sobre un área determinada del resto del mundo.",0,11]
[null,null,"D0429212","Lucio, fresco o refrigerado",1,{"$f":"ROW()","v":3194},8,null,null,"2.3.4.01.02","Organizaciones internacionales Comprende las transferencias de capital dirigidas a organizaciones internacionales. Son organizaciones internacionales aquellas que cumplen con las siguientes características:SC: las transferencias de capital establecidas por leyes distintas a la Ley anual de Presupuesto o la Ley del Plan de Desarrollo, deben individualizarse plenamente. Por tanto, en caso de que el órgano del PGN registre gastos por una transferencia de capital distinta a las señaladas en cada subcuenta, porfavor comuníquese con la DGPPN del MHCP informando de la misma, con su respectivo soporte legal, para que se adicione la línea.NE: En la ejecución, las transferencias de capital deben presentarse individualmente por beneficiario.335• Sus miembros son Estados nacionales u otros organismos internacionales cuyos miembros son Estados nacionales.• Se establecen mediante acuerdos políticos formales entre sus miembros, que tiene el rango de tratados internacionales.• Su existencia es reconocida por ley en sus países miembros.• Se crean con una finalidad específica (Fondo Monetario Internacional, 2014, pág. 71).",0,11]
[null,null,"D0131904","Lulos",1,{"$f":"ROW()","v":3195},8,null,null,"2.3.4.02.01","Órganos del PGN Comprende las transferencias de capital dirigidas a un órgano del Presupuesto General de la Nación (PGN)",0,11]
[null,null,"D4831501","Lupas manuales",1,{"$f":"ROW()","v":3196},8,null,null,"2.3.4.02.02","Entidades territoriales distintas de participaciones y compensaciones Comprende las transferencuas de capital dirigidas a una entidad territorial. Constituyen entidades territoriales, los departamentos, distritos, municipios o territorios indígenas (Cons. 1991, Art 286)",0,11]
[null,null,"D0429134","Macabí, fresco o refrigerado",1,{"$f":"ROW()","v":3197},8,null,null,"2.3.4.02.03","Esquemas asociativos Comprende las transferencias de capital dirigidas a un esquema asociativo territorial. Constituyen esquemas asociativos territoriales las regiones administrativas y de planificación, las regiones de planeación y gestión, las asociaciones de departamentos, las áreas metropolitanas, las asociaciones de distritos especiales, las provincias administrativas y de planificación, y las asociaciones de municipios (Ley 1454 de 2011, Art. 10).",0,11]
[null,null,"D1532006","Macadán",1,{"$f":"ROW()","v":3198},8,null,null,"2.3.4.02.04","Entidades del gobierno general Comprende las transferencias de capital dirigida a una entidad del gobierno general.",0,11]
[null,null,"D3794003","Macadán alquitranado",1,{"$f":"ROW()","v":3199},8,null,null,"2.3.4.02.05.001","Capitalización de Positiva Compañía de Seguros S.A. Decreto 2066 de 2016",0,15]
[null,null,"D4292101","Machetes y similares",1,{"$f":"ROW()","v":3200},8,null,null,"2.3.4.02.05.002","Capitalización del Fondo Nacional de Garantías (FNG)",0,15]
[null,null,"D4422203","Machihembradoras de madera",1,{"$f":"ROW()","v":3201},8,null,null,"2.3.4.02.05.003","Capitalización de empresas descentralizadas del nivel territorial",0,15]
[null,null,"D0426103","Machuelo-plumuda, frescas o refrigeradas",1,{"$f":"ROW()","v":3202},8,null,null,"2.3.4.02.05.004","A la Central de Inversiones CISA S.A. devoluciones por reliquidación de la cartera sísmica de Popayán Corresponde a la devolución por parte del Ministerio de Hacienda y Crédito Público –MHCP a través de la Central de Inversiones –CISA, según el procedimiento de devolución establecido por concepto de sobrantes una vez efectuada la reliquidación de los créditos a los clientes beneficiarios de la denominada Cartera Sísmica de Popayán en virtud de la Ley 132 de 1985 y Convenio Interadministrativo 8.001.2005 del 11 de marzo de 2005 entre MHCP y CISA cuyo objeto es que el MHCP enajena y se obliga a transferir el dominio y CISA adquiere y se obliga a pagar el precio de la denominada Cartera Sísmica de Popayán de créditos vigentes y vencidos con información demográfica",0,15]
[null,null,"D3110202","Madera acepillada de no conifera",1,{"$f":"ROW()","v":3203},8,null,null,"2.3.4.03","Compensaciones de capital Comprende las transferencias de capital que deben realizarse a otra unidad para compensar los perjuicios relacionados con lesiones graves derivadas por catástrofes no cubiertas por pólizas de seguros.",0,8]
[null,null,"D3110201","Madera aserrada de no conifera",1,{"$f":"ROW()","v":3204},{"$f":"LEN(C3204)","v":8},null,null,"2.3.4.04","Para la adquisición de activos no financieros Comprende las transferencias de capital dirigidas a los hogares para financiar la adquisición de activos no financieros.",0,{"$f":"LEN(J3204)","v":8}]
[null,null,"D3110102","Madera de conifera acepillada",1,{"$f":"ROW()","v":3205},8,null,null,"2.3.4.05","Financiamiento de grandes déficit de los últimos años Comprende las transferencias de capital dirigidas a otra unidad para cubrir su déficit de los últimos dos años o más.",0,8]
[null,null,"D3110101","Madera de conifera aserrada",1,{"$f":"ROW()","v":3206},8,null,null,"2.3.4.06.01","Aportes a FINDETER - subsidios para operaciones de redescuento para proyectos de inversión parágrafo único, numeral 3 Art. 270 del Estatuto Orgánico del Sistema Financiero",0,11]
[null,null,"D3141101","Madera de conífera contrachapada",1,{"$f":"ROW()","v":3207},8,null,null,"2.3.4.06.02","Pago servicio de la deuda externa Instituto Colombiano para el Fomento de la Educación Superior - ICFES",0,11]
[null,null,"D3141102","Madera de conífera contrachapada",1,{"$f":"ROW()","v":3208},8,null,null,"2.3.4.07","Indemnizaciones relacionadas con seguros no de vida Son las transferencias de recursos a cargo de las entidades por concepto de las indemnizaciones que se generan en el desarrollo de contratos de seguros no de vida, tras la ocurrencia de un siniestro.",0,8]
[null,null,"D3110103","Madera de conifera para lápices (tablillas para la fabricación de lápices)",1,{"$f":"ROW()","v":3209},8,null,null,"2.3.4.08.01","Fondo Nacional de Pensiones de las Entidades Territoriales (FONPET) Objeto de Gasto creado en el artículo 4 de la Ley 2072 de 2020 con fundamento en el Art. 22 de la Ley 2056 de 2020.",0,11]
[null,null,"D3141201","Madera de no conífera contrachapada",1,{"$f":"ROW()","v":3210},8,null,null,"2.3.4.09","Planes departamentales para el manejo empresarial de los servicios de agua y saneamiento (PDA) Corresponde a los gastos para la formulación e implementación de los Planes Departamentales para el Manejo Empresarial de los Servicios de Agua y Saneamiento (PDA).",0,8]
[null,null,"D3141202","Madera de no conífera contrachapada",1,{"$f":"ROW()","v":3211},8,null,null,"2.3.5.01.00","Agricultura, silvicultura y productos de la pesca Son los gastos asociados a la adquisición de productos relacionados con la agricultura, la horticultura, la silvicultura y los productos de explotación forestal con el fin de utilizarlos como insumos en un proceso productivo o de comercialización. Incluye también la compra de animales o productos animales, y la compra de pescados o productos de la pesca.",0,11]
[null,null,"D3110203","Madera de no conifera para lápices (tablillas para la fabricación de lápices)",1,{"$f":"ROW()","v":3212},8,null,null,"2.3.5.01.01","Minerales; electricidad, gas y agua Son los gastos asociados a la adquisición de todo tipo de minerales incluidos el carbón, el petróleo, los concentrados de uranio y torio, los minerales metálicos, las piedras preciosas, entre otros, con el fin de utilizarlos como insumo en un proceso productivo o de comercialización. En esta cuenta también se registran los gastos por adquisición de energía eléctrica, gas de ciudad y agua caliente.",0,11]
[null,null,"D3123001","Madera en astillas",1,{"$f":"ROW()","v":3213},8,null,null,"2.3.5.01.02","Productos alimenticios, bebidas y tabaco; textiles, prendas de vestir y productos de cuero Son los gastos asociados a la adquisición de productos alimenticios como la carne; las preparaciones y conservas de pescados, frutas y hortalizas; los productos lácteos y ovoproductos; los productos de la molinería; y todo tipo de bebidas con el fin de utilizarlos como insumo en un proceso productivo o de comercialización. Esta sección incluye también la adquisición de hilados, tejidos, artículos textiles y dotación.",0,11]
[null,null,"D0311001","Madera en bruto de coníferas",1,{"$f":"ROW()","v":3214},8,null,null,"2.3.5.01.03","Otros bienes transportables (excepto productos metálicos, maquinaria y equipo) Son los gastos asociados a la adquisición de productos de madera; libros, diarios o publicaciones impresas; productos de refinación de petróleo y combustibles; productos químicos; productos de caucho y plástico; productos de vidrio; muebles; desechos; entre otros, con el fin de utilizarlos en un proceso productivo o de comercialización.",0,11]
[null,null,"D0312002","Madera en bruto de especies no coníferas",1,{"$f":"ROW()","v":3215},8,null,null,"2.3.5.01.04","Productos metálicos, maquinaria y equipo Son los gastos asociados a la adquisición de metales básicos o productos metálicos elaborados; maquinaria de uso general o especial; máquinas para oficina y contabilidad; aparatos eléctricos; aparatos de radio, televisión y comunicaciones; aparatos médicos y equipo de transporte, con el fin de utilizarlos como insumo en un proceso productivo o de comercialización.",0,11]
[null,null,"D3123002","Madera en partículas",1,{"$f":"ROW()","v":3216},8,null,null,"2.3.5.02.05","Construcción y servicios de la construcción Son los gastos asociados a la adquisición de servicios de construcción como preparaciones de terreno, montaje de construcciones prefabricadas, instalaciones, servicios de terminación y acabados de edificios, entre otros, con el fin de utilizarlos como insumo en un proceso productivo o de comercialización",0,11]
[null,null,"D3131001","Madera inmunizada",1,{"$f":"ROW()","v":3217},8,null,null,"2.3.5.02.06","Comercio y distribución; alojamiento; servicios de suministro de comidas y bebidas; servicios de transporte; y servicios de distribución de electricidad, gas y agua Son los gastos asociados a la adquisición de servicios de alojamiento; servicios de suministro de comidas y bebidas; servicios de transporte de pasajeros o de carga; servicios de mensajería y servicios de distribución de electricidad, gas y agua, con el fin de utilizarlos como insumo en un proceso productivo o de comercialización.",0,11]
[null,null,"D3230003","Magazines, tiras cómicas o historietas gráficas impresas publicadas cuatro o más veces por semana",1,{"$f":"ROW()","v":3218},8,null,null,"2.3.5.02.07","Servicios financieros y servicios conexos; servicios inmobiliarios; y servicios de arrendamiento y leasing Son los gastos asociados a la adquisición de servicios financieros, seguros, servicios de mantenimiento de activos financieros, servicios inmobiliarios y arrendamientos, con el fin de utilizarlos como insumo en un proceso productivo o de comercialización.",0,11]
[null,null,"D3249001","Magazines, tiras cómicas o historietas gráficas impresas, publicadas menos de cuatro veces por semana",1,{"$f":"ROW()","v":3219},8,null,null,"2.3.5.02.08","Servicios prestados a las empresas y servicios de producción Son los gastos asociados a la adquisición de servicios de investigación y desarrollo, servicios jurídicos y contables, servicios de consultoría, servicios de publicidad, servicios de impresión servicios de telecomunicaciones, servicios de limpieza, servicios de seguridad, servicios de mantenimiento, entre otros, con el fin de utilizarlos como insumo en un proceso productivo o de comercialización.",0,11]
[null,null,"D1639104","Magnesia calcinada o sinterizada",1,{"$f":"ROW()","v":3220},8,null,null,"2.3.5.02.09","Servicios para la comunidad, sociales y personales Son los gastos asociados a la adquisición de servicios educativos, servicios de salud, servicios culturales y deportivos, servicios de tratamiento y recolección de desechos, servicios proporcionados por asociaciones, entre otros, con el fin de utilizarlos como insumo en un proceso productivo o de comercialización.",0,11]
[null,null,"D1639904","Magnesita (o Giobertita) de carbonato de magnesio natural",1,{"$f":"ROW()","v":3221},8,null,null,"2.3.5.02.10","Viáticos de los funcionarios en comisión Son los pagos por concepto de viáticos que reciben los funcionarios y trabajadores de las entidades en comisión, para alojamiento y manutención cuando: a) deban desempeñar sus funciones en un lugar diferente a su sede habitual de trabajo, ya sea dentro o fuera del país, o b) deba atender transitoriamente actividades distintas a las inherentes al empleo del que es titular. Los viáticos de los funcionarios en comisión constituyen adquisición de servicios cuando se hayan percibido por un término inferior a ciento ochenta (180) días en el último año de servicio.",0,11]
[null,null,"D0112201","Maíz",1,{"$f":"ROW()","v":3222},8,null,null,"2.3.6.01.01","A órganos del PGN Comprende los recursos financieros concedidos en calidad de préstamo a un órgano del PGN para el desarrollo de propósitos de política",0,11]
[null,null,"D2131902","Maíz dulce congelado",1,{"$f":"ROW()","v":3223},8,null,null,"2.3.6.01.02","A establecimientos públicos Comprende los recursos financieros concedidos en calidad de préstamo a un establecimiento público para el desarrollo de propósitos de política",0,11]
[null,null,"D2139905","Maíz envasado",1,{"$f":"ROW()","v":3224},8,null,null,"2.3.6.01.03","A otras entidades del gobierno general Comprende los recursos financieros concedidos en calidad de préstamo a otra entidad del gobierno general, distinta de órganos del PGN y establecimientos públicos, para el desarrollo de propósitos de política",0,11]
[null,null,"D2399932","Maíz tostado, sin cobertura",1,{"$f":"ROW()","v":3225},8,null,null,"2.3.6.01.04.001","Préstamos directos (Decreto Ley 1010/2000)",0,15]
[null,null,"D2314001","Maíz trillado pilado",1,{"$f":"ROW()","v":3226},8,null,null,"2.3.6.01.04.002","Crédito hipotecario para sus empleados",0,15]
[null,null,"D4351005","Malacates",1,{"$f":"ROW()","v":3227},8,null,null,"2.3.6.01.04.003","Fondo de préstamos",0,15]
[null,null,"D0159101","Malanga",1,{"$f":"ROW()","v":3228},8,null,null,"2.3.6.01.04.004","Préstamos por calamidad doméstica",0,15]
[null,null,"D2922105","Maletas de cuero",1,{"$f":"ROW()","v":3229},8,null,null,"2.3.6.01.04.005","Fondo rotatorio del transporte",0,15]
[null,null,"D2922205","Maletas de material plástico",1,{"$f":"ROW()","v":3230},8,null,null,"2.3.6.01.04.006","Programa de crédito de vivienda para los empleados de la Superintendencia de Sociedades (Decreto 1695 de 1997)",0,15]
[null,null,"D2922106","Maletines de cuero",1,{"$f":"ROW()","v":3231},8,null,null,"2.3.6.01.04.007","Préstamos Fondo Rotatorio de la Policía",0,15]
[null,null,"D2922206","Maletines de material plástico",1,{"$f":"ROW()","v":3232},8,null,null,"2.3.6.01.04.008","Préstamos directos - Ley 106 de 1993 Gastos por concepto de préstamos a los empleados por parte del Fondo de Bienestar de la Contraloría General de la República, en virtud de la Ley 106 de 1993, por medio de la cual se estipula la organización y el funcionamiento de la Contraloría General de la República, se organiza el Fondo de Bienestar Social, y demás.",0,15]
[null,null,"D2922221","Maletines y similares de lona",1,{"$f":"ROW()","v":3233},8,null,null,"2.3.6.01.04.009","Préstamos educativos",0,15]
[null,null,"D2922216","Maletines, tulas y similares en fibras artificiales y sintéticas",1,{"$f":"ROW()","v":3234},8,null,null,"2.3.6.01.04.010","Préstamos de consumo Gastos por concepto de préstamos a los empleados por parte de las entidades o de los Fondos de Bienestar de las mismas, para libre destinacion, arreglos locativos, créditos de urgencia.",0,15]
[null,null,"D2732001","Malla de algodón",1,{"$f":"ROW()","v":3235},8,null,null,"2.3.6.01.05","A empresas Comprende los recursos financieros concedidos en calidad de préstamo a una empresa para solventar sus necesidades de financiamiento y ejecutar políticas económicas y sociales.",0,11]
[null,null,"D2732005","Malla de fibras artificiales y sintéticas",1,{"$f":"ROW()","v":3236},8,null,null,"2.3.6.02.01","De organizaciones internacionales Comprende las erogaciones de las entidades realizadas a organismos internacionales por concepto de aportes para la adquisición de acciones.",0,11]
[null,null,"D2732003","Malla de fibras duras vegetales",1,{"$f":"ROW()","v":3237},8,null,null,"2.3.6.02.02","De empresas públicas financieras Comprende los erogaciones de las entidades por concepto de adquisición de acciones de empresas públicas financieras. Las empresas públicas financieras son aquellas dedicadas a prestar servicios financieros y en las que el gobierno es propietario o ejerce el control mayoritario.",0,11]
[null,null,"D4294305","Malla metálica plastificada (enrejados)",1,{"$f":"ROW()","v":3238},8,null,null,"2.3.6.02.03","De empresas públicas no financieras Comprende las erogaciones de las entidades por concepto de adquisición de accciones de empresas públicas no financieras. Las empresas públicas no financieras son aquellas dedicas a principalmente a la producción de mercado de bienes o servicios no financieros en las que el gobierno es propietario o ejerce el control mayoritario.",0,11]
[null,null,"D4294301","Malla y enrejado de alambre de hierro o acero",1,{"$f":"ROW()","v":3239},8,null,null,"2.3.6.02.04","De empresas privadas financieras Comprende las erogaciones de las entidades realizadas a empresas privadas financieras por concepto de adquisición de acciones. Las empresas privadas financieras son aquellas residentes en Colombia que no están controladas por el gobierno y prestan servicios financieros.",0,11]
[null,null,"D4294307","Mallas de alambrón de hierro o acero para construcción",1,{"$f":"ROW()","v":3240},8,null,null,"2.3.6.02.05","De empresas privadas no financieras Comprende las erogaciones de las entidades realizadas a empresas privadas no financieras por concepto de adquisición de acciones. Las empresas privadas no financieras son aquellas residentes en Colombia que no están controladas por el gobierno, no prestan servicios financieros y son productores de mercado.",0,11]
[null,null,"D4294302","Mallas finas de alambre de hierro o acero",1,{"$f":"ROW()","v":3241},8,null,null,"2.3.6.03.01.001","Fondo de Cooperación y Asistencia Internacional (Ley 318 de 1996) Comprende las erogaciones de las entidades realizadas al Fondo de Cooperación y Asistencia Internacional por concepto de adquisición de otras participaciones de capital.",0,15]
[null,null,"D4294399","Mallas metálicas n.c.p.",1,{"$f":"ROW()","v":3242},8,null,null,"2.3.6.03.01.002","Fondo de Organismos Financieros Internacionales - FOFI, Ley 318 de 1996 Comprende las erogaciones de las entidades realizadas al Fondo de Organismos Financieros Internacionales - FOFI por concepto de adquisición de otras participaciones de capital.",0,15]
[null,null,"D4294306","Mallas y alambres de cobre",1,{"$f":"ROW()","v":3243},8,null,null,"2.3.6.03.03.001","Capitalización para el fortalecimiento de los canales públicos de televisión",0,15]
[null,null,"D2432001","Malta",1,{"$f":"ROW()","v":3244},8,null,null,"2.3.6.04","Adquisición de bonos y otros títulos Comprende los recursos destinados a la adquisición de bonos, títulos participativos y otros títulos valores que las entidades pueden realizar para invertir sus excedentes de liquidez. Los excedentes de liquidez todos aquellos recursos que de manera inmediata no se destinen al desarrollo de las actividades que constituyen el objeto de las entidades.",0,8]
[null,null,"D2321207","Maltodextrina",1,{"$f":"ROW()","v":3245},8,null,null,"2.3.7.01.01","Cesantías definitivas Corresponde al pago por concepto cesantías retroactivas y el interes de las mismas, que le hace el empleador al trabajador una vez finalice la relación laboral y cobija a los trabajadores del sector público vinculados antes del 30 de diciembre de 1996.Tratándose del pago deberá atenderlo la entidad en la que trabajador preste o prestó el servicio en forma personal; el pago se deberá hacer directamente al beneficiario de las mismas",0,11]
[null,null,"D0134903","Mamey",1,{"$f":"ROW()","v":3246},8,null,null,"2.3.7.01.02","Cesantías parciales Corresponde al pago parcial por concepto cesantías retroactivas y el interes de las mismas, que le hace el empleador al trabajador para los fines determinados en la ley; cobija a los trabajadores del sector público vinculados antes del 31 de diciembre de 1996",0,11]
[null,null,"D0134902","Mamoncillo",1,{"$f":"ROW()","v":3247},8,null,null,"2.3.7.01.03","Deuda cesantías soldados profesionales afiliados Caja Promotora de Vivienda Militar y de Policía - CPVMP",0,11]
[null,null,"D3899701","Mancornas de fantasía",1,{"$f":"ROW()","v":3248},8,null,null,"2.3.7.01.04","Deuda cesantías policía nacional afiliados Caja Promotora de Vivienda Militar y de Policía - CPVMP",0,11]
[null,null,"D0132401","Mandarina",1,{"$f":"ROW()","v":3249},8,null,null,"2.3.7.02","Devolución del ahorro voluntario de los trabajadores Son los gastos asociados a la devolución de los recursos que reciben algunas entidades del PGSP por concepto de ahorros que hacen sus trabajadores de manera voluntaria.",0,8]
[null,null,"D4425106","Mandriles, revólveres para torno",1,{"$f":"ROW()","v":3250},8,null,null,"2.3.7.03","Depósito en prenda La devolución de depósito en prenda comprende el reintegro que aplique sobre depósito original en prenda en contratos de arrendamiento o disposición no remunerada de activos fijos del Estado.",0,8]
[null,null,"D0131601","Mangos",1,{"$f":"ROW()","v":3251},8,null,null,"2.3.7.04","Devoluciones tributarias Partida para uso del administrador tributario en la que se incorporan los saldos a favor generados en declaraciones de impuestos, en los casos en que estos no sean compensados mediante otro instrumento como los Títulos de devolución de Impuestos -TIDIS o contra el impuesto a cargo.",0,8]
[null,null,"D3191101","Mangos de madera",1,{"$f":"ROW()","v":3252},8,null,null,"2.3.7.05.01","Programas de saneamiento fiscal y financiero Empresas Sociales del Estado (ESE) Corresponde a los gastos realizados en el marco de los programas de saneamiento fiscal y financiero de las ESE, de acuerdo con el nivel de riesgo que determine el Ministerio de Protección Social, según la Ley 1141 de 2013. La Ley 1608 de 2013 establece que con los saldos de las cuentas maestras del régimen subsidiado de salud se pueden financiar los programas de saneamiento fiscl y financiero, siempre y cuando no sean requeridos para garantizar los compromisos y contingencias del Régimen Subsidiado de Salud (art. 3) El orden para atender las obligaciones es: a) pago de acreencias laborales, b) reestructuración y saneamiento de pasivos, c) adquisición de cartera, d) disposición de capital de trabajo, e) pago de cartera originada en las cuotas de recuperación por servicios prestados.",0,11]
[null,null,"D3699012","Mangos de material plástico",1,{"$f":"ROW()","v":3253},8,null,null,"2.3.7.05.02","Pago de indemnizaciones originadas en programas de saneamiento fiscal y financiero Corresponde a los pagos realizados por las entidades territoriales en el marco de los programas de saneamiento suscritos, de conformidad con la Ley 617 de 2000",0,11]
[null,null,"D4299201","Mangos metálicos",1,{"$f":"ROW()","v":3254},8,null,null,"2.3.7.05.03","Pago de déficit fiscal, de pasivo laboral y prestacional en programas de saneamiento fiscal y financiero Corresponde a los gastos de las entidades territoriales para el pago de déficit fiscal, pasivo laboral y prestacional, realizados en el marco de programas de saneamiento fiscal y financiero",0,11]
[null,null,"D3191102","Mangos para escobas y similares",1,{"$f":"ROW()","v":3255},8,null,null,"2.3.7.06.01","Gastos de personal Pagos de déficit fiscal de la vigencia anterior, por concepto de gastos de personal",0,11]
[null,null,"D3191103","Mangos para sellos, brochas y similares",1,{"$f":"ROW()","v":3256},8,null,null,"2.3.7.06.02","Adquisición de bienes y servicios Pagos de déficit fiscal de la vigencia anterior, por concepto de Adquisición de bienes y servicios",0,11]
[null,null,"D3892202","Mangos y empuñaduras para paraguas y similares",1,{"$f":"ROW()","v":3257},8,null,null,"2.3.7.06.03","Transferencias corrientes Pagos de déficit fiscal de la vigencia anterior, por concepto de Transferencias corrientes",0,11]
[null,null,"D0131602","Mangostino",1,{"$f":"ROW()","v":3258},8,null,null,"2.3.7.06.04","Transferencias de capital Pagos de déficit fiscal de la vigencia anterior, por concepto de Transferencias de capital",0,11]
[null,null,"D3623001","Mangueras de caucho",1,{"$f":"ROW()","v":3259},8,null,null,"2.3.7.06.05","Adquisición de activos financieros Pagos de déficit fiscal de la vigencia anterior, por concepto de Adquisición de activos financieros",0,11]
[null,null,"D3632005","Mangueras de material plástico",1,{"$f":"ROW()","v":3260},8,null,null,"2.3.7.06.06","Gastos por tributos, tasas, derechos, multas, sanciones e intereses de mora Pagos de déficit fiscal de la vigencia anterior, por concepto de Gastos por tributos, tasas, derechos, multas, sanciones e intereses de mora",0,11]
[null,null,"D0142201","Maní",1,{"$f":"ROW()","v":3261},8,null,null,"2.3.7.06.07","Gastos de Comercialización y Producción Pagos de déficit fiscal de la vigencia anterior, por concepto de Gastos de Comercialización y Producción",0,11]
[null,null,"D2367011","Maní cubierto",1,{"$f":"ROW()","v":3262},8,null,null,"2.3.7.07","Compromisos adquiridos a 31 de diciembre de 2011 Corresponde al gasto que deben realizar las entidades territoriales y las Corporaciones Autónomas Regionales para garantizar el pago de compromisos adquiridos a 31 de diciembre de 2011, incluidas las vigencias futuras. Estos compromisos, debidamente certificados por el representante legal de la entidad, se atenderán prioritariamente con los recursos disponibles de regalías y compensaciones causados a 31 de diciembre de 2011. Cuando estos recursos fueran insuficientes para cubrir los compromisos, las entidades beneficiarias utilizarán los recursos que reciban de las Asignaciones Directas y la Asignación para la Inversión Local. De mantenerse algún faltante, las entidades beneficiarias podrán decidir si dichos compromisos se asumen con cargo a los recursos de la Asignación para la Inversión Regional o con sus recursos propios.",0,8]
[null,null,"D2149501","Maní salado",1,{"$f":"ROW()","v":3263},8,null,null,"2.3.7.08","Devolución de recursos del SGSSS Corresponde a los gastos por concepto de valores incluidos en la Disponibilidad Inicial resultado de gastos ejecutados en vigencias anteriores y cuyo giro fue rechazado, recaudos que tras procesos de verificación o solicitudes de terceros se identificóque no pertenecen a la ADRES, entre otros.",0,8]
[null,null,"D2149505","Maní tostado sin cobertura",1,{"$f":"ROW()","v":3264},8,null,null,"2.3.7.09.01","Devolución de saldos de pensión de Vejez (de pensiones) Corresponde a la devolución de los saldos abonados en la cuenta individual de ahorro pensional, que debe realizar el Régimen de Ahorro Individual con Solidaridad (RAIS) a quienes no cumplen las condiciones definidas en la Ley 100 para obtener una pensión por vejez.",0,11]
[null,null,"D3699019","Manijas de material plástico",1,{"$f":"ROW()","v":3265},8,null,null,"2.3.7.09.02","Devolución de saldos de pensión de Invalidez (de pensiones) Corresponde a la devolución de los saldos abonados en la cuenta individual de ahorro pensional, que debe realizar el Régimen de Ahorro Individual con Solidaridad (RAIS) a quienes no cumplen las condiciones definidas en la Ley 100 para obtener una pensión por invalidez.",0,11]
[null,null,"D4923115","Manijas para puertas de vehículos automotores",1,{"$f":"ROW()","v":3266},8,null,null,"2.3.7.09.03","Devolución de saldos de pensión de Sobrevivientes (de pensiones) Corresponde a la devolución de los saldos abonados en la cuenta individual de ahorro pensional, que debe realizar el Régimen de Ahorro Individual con Solidaridad (RAIS) a quienes no cumplen las condiciones definidas en la Ley 100 para obtener una pensión por sobrevivientes.",0,11]
[null,null,"D3899904","Maniquíes de fibra de vidrio",1,{"$f":"ROW()","v":3267},8,null,null,"2.3.7.10","Disminuciones de pasivos derivados del sector salud Corresponde a los recursos destinados al saneamiento de pasivos acumulados de vigencias anteriores por conceptos como: Deuda de esfuerzo propio para la financiación de régimen subsidiado; prestación de servicios a PPNA, Migrantes y Atenciones No POS (Ley de Punto Final)",0,8]
[null,null,"D4825201","Manómetros",1,{"$f":"ROW()","v":3268},{"$f":"LEN(C3268)","v":8},null,null,"2.3.8.01.01","Impuesto sobre la renta y complementarios Comprende las erogaciones por concepto del impuesto sobre la renta y complementarios integrado por los impuestos de renta y los complementarios de ganancias ocasionales y remesas. El impuesto sobre la renta grava todos los ingresos que obtenga un contribuyente en el año, que sean susceptibles de producir incremento neto del patrimonio en el momento de su percepción, siempre que no hayan sido expresamente exceptuados, y considerando los costos y gastos en que se incurre para producirlos.",0,{"$f":"LEN(J3268)","v":11}]
[null,null,"D2711003","Mantas de lana",1,{"$f":"ROW()","v":3269},8,null,null,"2.3.8.01.02","Impuesto sobre la renta para la equidad CREE Corresponde a las erogaciones por concepto del impuesto sobre la renta para la equidad CREE. Este impuesto corresponde al aporte con el que contribuyen las sociedades y personas jurídicas y asimiladas contribuyentes declarantes del impuesto sobre la renta y complementarios, en beneficio de los trabajadores, la generación de empleo, y la inversión social. También son sujetos pasivos las sociedades y entidades extranjeras contribuyentes declarantes del impuesto sobre la renta por sus ingresos de fuente nacional obtenidos mediante sucursales y establecimientos permanentes.",0,11]
[null,null,"D2832005","Mantas de piel",1,{"$f":"ROW()","v":3270},8,null,null,"2.3.8.01.03","Sobretasa CREE Corresponde las erogaciones por concepto del pago de la sobretasa CREE. Mediante la Ley 1739 de 2014 se creó la sobretasa CREE para los periodos gravables 2015-2018, la cual estará a cargo de los contribuyentes del impuesto sobre la renta para la equidad CREE (Ley 1739 de 2014, art. 21). La tarifa de la sobretasa se calcula solamente sobre el valor que exceda los primeros ochocientos millones de pesos ($800.000.000) de la base gravable sujeta al CREE, la cual aumenta de manera progresiva (Ley 1739 de 2014, art. 22)",0,11]
[null,null,"D2711004","Mantas y frazadas de fibras artificiales y sintéticas, aún mezcladas",1,{"$f":"ROW()","v":3271},8,null,null,"2.3.8.01.04","Impuesto para preservar la seguridad democrática Corresponde a las erogaciones por concepto del impuesto para preservar la seguridad democrática. Este impuesto, de única causación, fundamentado en el artículo 213 de la CP y creado bajo la declaratoria de Estado de Conmoción Interior. Dicho impuesto está destinado a atender los gastos del PGN necesarios para preservar la seguridad democrática, su base gravable es el patrimonio líquido positivo poseído a 31 de agosto de 2001 y el sujeto pasivo lo constituye todo contribuyente obligado a presentar declaración de impuesto sobre la renta y complementarios (Decretos 1838 y 1949 de 2002)",0,11]
[null,null,"D2362001","Manteca de cacao",1,{"$f":"ROW()","v":3272},8,null,null,"2.3.8.01.05","Impuesto al patrimonio Corresponde a las erogaciones por concepto del pago del impuesto al patrimonio. Este impuesto está a cargo de las personas jurídicas, naturales y sociedades de hecho, contribuyentes declarantes del impuesto sobre la renta, cuando el valor de su riqueza (patrimonio líquido), al 1° de enero de 2011, sea igual o superior a tres mil millones de pesos ($3.000.000.000) (Ley 1370 de 2009, arts. 1 y 2). Este impuesto se causó por una sola vez y su plazo de pago fueron ocho cuotas entre los años 2011 y 2014.",0,11]
[null,null,"D2151101","Manteca de cerdo, sin fundir",1,{"$f":"ROW()","v":3273},8,null,null,"2.3.8.01.06","Impuesto al patrimonio (Decreto legislativo 4825/2010) Corresponde a las erogaciones por concepto del pago del impuesto al patrimonio definido por el Decreto legislativo 4825 de 2010. Este impuesto especial fue creado para la conjuración y prevención de la extensión de los efectos del estado de emergencia declarado mediante el Decreto 4580 de 2010. Este impuesto al patrimonio está a cargo de las personas jurídicas, naturales y sociedades de hecho, contribuyentes declarantes del impuesto sobre la renta siempre y cuando el valor de su riqueza (patrimonio líquido), al 1° de enero de 2011, sea igual o superior a mil millones de pesos ($1.000.000.000) e inferior a tres mil millones de pesos ($3.000.000.000) (Decreto 4825 de 2010, arts. 1 y 2). Este impuesto se causó por una sola vez y su plazo de pago fueron ocho cuotas entre los años 2011 y 2014.",0,11]
[null,null,"D2170005","Manteca vegetal",1,{"$f":"ROW()","v":3274},8,null,null,"2.3.8.01.07","Sobretasa impuesto al patrimonio (Decreto legislativo 4825/2010) Corresponde al pago por concepto de la sobretasa al impuesto al patrimonio de que trata la Ley 1370 de 2009. Esta sobretasa está a cargo de las personas jurídicas, naturales y sociedades de hecho, contribuyentes declarantes del impuesto sobre la renta y su tarifa es del 25% del impuesto al patrimonio (Decreto 4825 de 2010, art. 9). Esta sobretasa al impuesto al patrimonio se causó por una sola vez y su plazo de pago fueron ocho cuotas entre los años 2011 y 2014.",0,11]
[null,null,"D2170003","Mantecas compuestas para cocinar",1,{"$f":"ROW()","v":3275},8,null,null,"2.3.8.01.08","Impuesto a la riqueza Comprende el gasto por el impuesto extraordinario a la riqueza, creado para los años 2015-2018. El Impuesto a la Riqueza se genera por la posesión de la misma al 1o de enero del año 2015, cuyo valor sea igual o superior a $1.000 millones de pesos. Para efectos de este gravamen, el concepto de riqueza es equivalente al total del patrimonio bruto del contribuyente poseído en la misma fecha menos las deudas a cargo del contribuyente vigentes en esa fecha",0,11]
[null,null,"D2712005","Manteles",1,{"$f":"ROW()","v":3276},8,null,null,"2.3.8.01.09","Impuesto nacional al consumo Corresponde al gasto por concepto del pago del impuesto nacional al consumo. Este impuesto grava la prestación o la venta al consumidor final, o la importación por parte del consumidor final, de bienes y servicios específicos (Ley 1819 de 2016, arts. 200 a 213)",0,11]
[null,null,"D3219301","Manteles de papel",1,{"$f":"ROW()","v":3277},8,null,null,"2.3.8.01.10","Impuesto de remate y adjudicaciones Corresponde al pago por concepto del gravamen a los remates de bienes muebles e inmuebles que se realicen por el Martillo, Juzgados Civiles, los Juzgados Laborales y demás entidades de los órdenes nacional, departamental y municipal. La tarifa de dicho impuesto es del cinco por ciento (5%) sobre el valor final del remate con destino al Fondo para la Modernización, Descongestión y Bienestar de la Administración de Justicia (Ley 1743 de 2014, art. 12).",0,11]
[null,null,"D8715201","Mantenimiento y reparación de avisos luminosos",1,{"$f":"ROW()","v":3278},8,null,null,"2.3.8.01.11","Impuesto de normalización tributaria La normalización tributaria es un impuesto complementario al impuesto a la renta cuya finalidad es permitir al contribuyente que normalice los activos que haya omitido, y se ponga a paz y salvo con el fisco.",0,11]
[null,null,"D2224101","Mantequilla",1,{"$f":"ROW()","v":3279},8,null,null,"2.3.8.01.12","Impuesto al patrimonio (Ley 1943 de 2018) Gastos por el impuesto al patrimonio se genera por la posesión del mismo al 1° de enero del año 2019, cuyo valor sea igual o superior a cinco mil ($5.000) millones de pesos. Para efectos de este gravamen, el concepto de patrimonio es equivalente al patrimonio líquido, calculado tomando el total del patrimonio bruto del contribuyente persona natural poseído en la misma fecha menos las deudas a cargo del contribuyente vigentes en esa fecha.",0,11]
[null,null,"D2149503","Mantequilla de maní",1,{"$f":"ROW()","v":3280},8,null,null,"2.3.8.01.13","Impuesto sobre aduanas y recargos Gastos generados por aduanas y recargos segunla normatividad. DECRETO 1165 DE 2019",0,11]
[null,null,"D3627024","Mantillas para impresión",1,{"$f":"ROW()","v":3281},8,null,null,"2.3.8.01.14","Gravamen a los movimientos financieros Gastos generados a cargo de los usuarios del sistema financiero y de las entidades que lo conforman.",0,11]
[null,null,"D0134101","Manzanas",1,{"$f":"ROW()","v":3282},8,null,null,"2.3.8.01.51","Impuesto sobre vehículos automotores Corresponde a las erogaciones por concepto del pago del impuesto de vehículos automotores conforme a la Ley 488 de 1998. Este impuesto grava de forma anual la propiedad o posesión de vehículos automotores.",0,11]
[null,null,"D3222004","Mapas murales, planos topográficos, publicados en forma de libros o folletos impresos",1,{"$f":"ROW()","v":3283},8,null,null,"2.3.8.01.52","Impuesto predial unificado Comprende el gasto por concepto del impuesto predial unificado, el cual integra los siguientes gravámenes: - El impuesto predial, regulado en el Código de Régimen Municipal (Decreto 1333 de 1986) y demás normas complementarias (en especial las Leyes 14 de 983, 55 de 1985 y 75 de 1986); - El impuesto de parques y arborización, regulado en el Código de Régimen Municipal (Decreto 1333 de 1990); - El impuesto de estratificación socioeconómica creado por la Ley 9 de 1989. - La sobretasa de levantamiento catastral a que se refieren las Leyes 128 de 1941, 50 de 1984 y 9 de 1989 (Ley 44 de 1990, art. 1). Son sujetos pasivos de este impuesto, las unidades del PGSP tenedores de bienes inmuebles que no sean de uso público o que sean tenedores del título de arrendamiento, uso, usufructo y otra forma de explotación comercial de un bien de uso público ocupado por establecimientos mercantiles",0,11]
[null,null,"D0429204","Mapurite, fresco o refrigerado",1,{"$f":"ROW()","v":3284},8,null,null,"2.3.8.01.53","Impuesto de registro Corresponde a las erogaciones por el pago del impuesto de registro. Este impuesto grava la inscripción de actos, contratos o negocios jurídicos documentales en los cuales sean parte o beneficiarios los particulares y que, de conformidad con las disposiciones legales, deban registrarse en las Oficinas de Registro de Instrumentos Públicos (ORIP) o en las Cámaras de Comercio. (Ley 233 de 1995)",0,11]
[null,null,"D4419803","Máquina trituradora de desechos vegetales",1,{"$f":"ROW()","v":3285},8,null,null,"2.3.8.01.54","Impuesto de industria y comercio Comprende el gasto por el impuesto de Industria y Comercio - ICA, el cual recae sobre todas las actividades comerciales, industriales y de servicio que ejerzan o realicen en las respectivas jurisdicciones municipales, directa o indirectamente, los órganos del PGN, ya sea que se cumplan en forma permanente u ocasional, en inmuebles determinados, con establecimientos de comercio o sin ellos.",0,11]
[null,null,"D4462999","Maquinaria n.c.p. para textiles",1,{"$f":"ROW()","v":3286},8,null,null,"2.3.8.01.55","Impuesto sobre delineación urbana Comprende el gasto por el impuesto de delineación urbana, cuyo hecho generador lo constituye la expedición de licencias para la construcción, ampliación, modificación, adecuación y reparación de obras y urbanización de terrenos que sean de propiedad de los órganos del presupuesto general del sector público - PGSP",0,11]
[null,null,"D4491505","Maquinaria para elaborar llantas y productos de caucho",1,{"$f":"ROW()","v":3287},8,null,null,"2.3.8.01.56","Impuesto de alumbrado público Comprende el gasto por el impuesto de alumbrado público, cuyo hecho generador es el beneficio por la prestación del servicio de alumbrado público",0,11]
[null,null,"D4444001","Maquinaria para fabricar productos de arcilla",1,{"$f":"ROW()","v":3288},8,null,null,"2.3.8.01.57","Sobretasa bomberil Corresponde al gasto por el impuesto de sobretasa bomberil a favor de los municipios, distritos y departamentos.",0,11]
[null,null,"D4491911","Maquinaria para hacer envases metálicos",1,{"$f":"ROW()","v":3289},8,null,null,"2.3.8.01.58","Sobretasa ambiental Corresponde a la sobretasa que fijen los municipios y distritos, entre el 1.5 por mil y el 2.5 por mil sobre el avalúo de los bienes que sirven de base para liquidar el impuesto predial. Igualmente en competencia de los grandes centros urbanos, los municipios, distritos o áreas metropolitanas cuya población urbana fuere igual o superior a un millón de habitantes (1.000.000) ejercerán dentro del perímetro urbano las mismas funciones atribuidas a las Corporaciones Autónomas Regionales, en lo que fuere aplicable al medio ambiente urbano.",0,11]
[null,null,"D4461106","Maquinaria para la elaboración de fibras artificiales y sintéticas",1,{"$f":"ROW()","v":3290},8,null,null,"2.3.8.01.59","Impuesto sobre teléfonos Corresponde al gasto por el impuesto sobre teléfonos urbanos. Este impuesto grava la asignación o uso del servicio de línea o número de teléfono urbano, por los usuarios de las empresas de teléfonos.",0,11]
[null,null,"D4391106","Maquinaria para la fabricación de bebidas destiladas",1,{"$f":"ROW()","v":3291},8,null,null,"2.3.8.01.60","Impuesto de loterías foráneas Corresponde al gasto por el impuesto que grava el 10% del valor bruto de las ventas realizadas por una lotería en jurisdicción diferente a la propia. Se da a favor del Distrito Capital, cuando la venta se hace en la jurisdicción de Bogotá, y en los departamentos cuando la venta se hace en sus jurisdicciones.",0,11]
[null,null,"D4463002","Maquinaria y aparatos para curtir cueros",1,{"$f":"ROW()","v":3292},8,null,null,"2.3.8.01.61","Impuesto a la publicidad exterior visual Corresponde al gasto por concepto del impuesto a la publicidad exterior visual. Este impuesto grava la colocación de toda publicidad exterior visual, como leyendas, inscripciones, dibujos, fotografías, signos o similares, visibles desde las vías de uso o dominio público, bien sean peatonales o vehiculares, terrestres, fluviales, marítimas o aéreas. La publicidad exterior visual de que trata este impuesto son aquellas que tienen una dimensión igual o superior a 8 metros cuadrados.",0,11]
[null,null,"D4462902","Maquinaria y aparatos para el blanqueo, teñido y acabado de textiles",1,{"$f":"ROW()","v":3293},8,null,null,"2.3.8.01.62","Impuesto de transporte por oleoductos y gasoductos Corresponde a la erogación por concepto de impuesto de transporte por los oleoductos y gasoductos estipulados en los contratos y normas vigentes, incluyendo los de Ecopetrol. Se cobrará por trimestres vencidos y estará a cargo del propietario del crudo o gas, según sea el caso. El recaudo se distribuirá entre los municipios no productores cuyas jurisdicciones atraviesen los oleoductos o gasoductos en proporción al volumen y al kilometraje.",0,11]
[null,null,"D4463001","Maquinaria y aparatos para teñido y acabado del cuero",1,{"$f":"ROW()","v":3294},8,null,null,"2.3.8.01.63","Impuesto Nacional al Carbono Corresponde al gasto por concepto de Impuesto Nacional al Carbono, gravamen que recae sobre el contenido de carbono de todos los combustibles fósiles, incluyendo todos los derivados de petróleo y todos los tipos de gas fósil que sean usados con fines energéticos, siempre que sean usados para combustión.",0,11]
[null,null,"D4826605","Maquinaria y equipo de alineación de dirección de automotores",1,{"$f":"ROW()","v":3295},8,null,null,"2.3.8.01.64","Impuesto sobre las ventas Corresponde a los gastos por concepto de Impuesto al Valor Agregado- IVA, siempre que la entidad sea sujeto pasivo del impuesto.",0,11]
[null,null,"D4451603","Maquinaria y equipo para cervecería",1,{"$f":"ROW()","v":3296},8,null,null,"2.3.8.01.99","Impuestos a favor de gobiernos extranjeros Son los gastos asociados a pagos obligatorios que debe realizar un órgano del PGN a otro gobierno en calidad de contribuyente, cuando se desarrollan actividades que así lo obliguen con dicha nación y sin que exista una retribución particular por parte de ese Estado.",0,11]
[null,null,"D4451802","Maquinaria y equipo para deshidratación y/o secamiento de cereales",1,{"$f":"ROW()","v":3297},8,null,null,"2.3.8.02","Estampillas Comprende el gasto por estampillas. De acuerdo con la Sentencia C-768 de 2010 de la Corte Constitucional, las estampillas pertenecen a una especie de tasas parafiscales, dado que cumplen con las siguientes características: Constituyen un gravamen cuyo pago obligatorio deben realizar los usuarios de algunas operaciones o actividades que se realizan frente a organismos de carácter público; son de carácter excepcional en cuanto al sujeto pasivo del tributo; los recursos se revierten en beneficio de un sector específico; y están destinados a sufragar gastos en que incurran las entidades que desarrollan o prestan un servicio público, como función propia del Estado.",0,8]
[null,null,"D4451602","Maquinaria y equipo para elaboración de azúcar",1,{"$f":"ROW()","v":3298},8,null,null,"2.3.8.03","Tasas y derechos administrativos Corresponden a los gastos que realizan las entidades derivados de la prestación directa y efectiva de un servicio público individualizado y específico (tasas), así como de las funciones regulatorias del gobierno (derechos administrativos).",0,8]
[null,null,"D4491503","Maquinaria y equipo para elaborar caucho",1,{"$f":"ROW()","v":3299},8,null,null,"2.3.8.04.01","Cuota de fiscalización y auditaje Son los gastos asociados a la tarifa de control fiscal que cobra la Contraloría General de la República (CGR) a los organismos y entidades fiscalizadas, con el fin de asegurar su financiamiento de manera autónoma. La tarifa de esta contribución es equivalente a la de aplicar el factor que resulte de la fórmula de dividir el presupuesto de funcionamiento de la contraloría sobre la sumatoria del valor de los presupuestos de los organismos y entidades vigiladas, al valor de los presupuestos de cada organismo o entidad vigilada.",0,11]
[null,null,"D4491501","Maquinaria y equipo para elaborar plástico",1,{"$f":"ROW()","v":3300},8,null,null,"2.3.8.04.02","Contribución - Superintendencia Financiera de Colombia Son los gastos asociados a la contribución que exige la Superintendencia Financiera de Colombia a las entidades vigiladas, con el fin de asegurar su financiamiento de manera autónoma. La tarifa de esta contribución se aplica sobre el monto total de los activos, incluidos los ajustes integrales por inflación, que registre la entidad a 30 de junio y 31 de diciembre del año inmediatamente anterior.",0,11]
[null,null,"D4392102","Maquinaria y equipo para empaque y embalaje de botellas",1,{"$f":"ROW()","v":3301},8,null,null,"2.3.8.04.03","Contribución de valorización Son los gastos asociados al gravamen que genera los beneficios adquiridos por obras de interés público o por proyectos de infraestructura que realiza la Nación y sobre las propiedades raíces que se benefician con las obras de interés público que ejecutan los municipios",0,11]
[null,null,"D4451613","Maquinaria y equipo para extracción de aceites vegetales",1,{"$f":"ROW()","v":3302},8,null,null,"2.3.8.04.04","Contribución sector eléctrico Son los recursos por contribución del sector eléctrico a las que se refiere el artículo 45 de la Ley 99 de 1993. De acuerdo con este artículo, las empresas generadoras de energía hidroeléctrica cuya potencia nóminal supera los 10.000 kilovatios, deben transferir el 6% de las ventas brutas de energia por generación propia de acuerdo con las distribuciones establecidas por la ley. En el caso de centrales térmicas el porcentaje de los recursos a transferir es del 4%.",0,11]
[null,null,"D4491910","Maquinaria y equipo para fabricar accesorios eléctricos",1,{"$f":"ROW()","v":3303},8,null,null,"2.3.8.04.05","Contribución - Superintendencia de Servicios Públicos Domiciliarios Con el fin de recuperar los costos del servicio de regulación que presta cada comisión, las entidades sometidas a su regulación están sujetas a una contribución, que se liquida y paga cada año (Ley 142 de 1994. art 85). En el caso de la comisión de Regulación de Energía y Gas - CREG el monto total de la contribución no puede ser superarior al 1% del valor de los gastos de funcionamiento excluyendo los gastos operativos, compras de electricidad, cumpras de combustibles y peajes, cuando hubiere lugar a ello, de la entidad regulada, incurrido el año anterior a aquel en que se haga el cobro, de acuerdo con los estados fianncieros de las mismas (Ley 143 de 1994. art. 22)",0,11]
[null,null,"D4491901","Maquinaria y equipo para fabricar artículos de vidrio",1,{"$f":"ROW()","v":3304},8,null,null,"2.3.8.04.06","Contribución a la Comisión de Regulación de Energía y Gas - CREG Con el fin de recuperar los costos del servicio de regulación que presta cada comisión, las entidades sometidas a su regulación están sujetas a una contribución, que se liquida y paga cada año (Ley 142 de 1994. art 85). En el caso de la comisión de Regulación de Energía y Gas - CREG el monto total de la contribución no puede ser superarior al 1% del valor de los gastos de funcionamiento excluyendo los gastos operativos, compras de electricidad, cumpras de combustibles y peajes, cuando hubiere lugar a ello, de la entidad regulada, incurrido el año anterior a aquel en que se haga el cobro, de acuerdo con los estados fianncieros de las mismas (Ley 143 de 1994. art. 22)",0,11]
[null,null,"D4451702","Maquinaria y equipo para fabricar cigarros y cigarrillos",1,{"$f":"ROW()","v":3305},8,null,null,"2.3.8.04.07","Contribución de vigilancia - Superintendencia Nacional de Salud Corresponde al pago a la Superintendencia Nacional de Salud por concepto de tasa anual que deben cancelar las entidades de derecho público o privadas y las entidades sin ánimo de lucro, con excepción de las beneficencias y loterías cuya inspección y vigilancia corresponda a la Superintendencia Nacional de Salud (Ley 488 de 1998, art. 98).",0,11]
[null,null,"D4451618","Maquinaria y equipo para la elaboración de alimentos concentrados",1,{"$f":"ROW()","v":3306},8,null,null,"2.3.8.04.08","Contribución - Fondo de Apoyo Financiero para la Energización de las Zonas No Interconectadas- FAZNI Corresponde al pago al realizado por los los agentes generadores del mercado mayorista de energía el valor correspondiente y entregará las sumas recaudadas, dentro de los tres (3) días siguientes a su recibo, en la cuenta del Ministerio de Hacienda y Crédito Público que para tal propósito este determine. El Administrador del Sistema de Intercambios Comerciales -ASIC",0,11]
[null,null,"D4419199","Maquinaria y equipo para la elaboración de bebidas n.c.p.",1,{"$f":"ROW()","v":3307},8,null,null,"2.3.8.04.09","Contribución Superintendencia de Puertos y Transporte Son los gastos asociados a la Contribución Especial de Vigilancia, la cual tiene como fin cubrir los costos y gastos de funcionamiento e inversión de la entonces Superintendencia de Puertos y Transporte, hoy Superintendencia de Transporte, y que debe ser pagada anualmente por todas las personas naturales y jurídicas sometidas a su vigilancia, inspección y control.",0,11]
[null,null,"D4451620","Maquinaria y equipo para la elaboración de sal",1,{"$f":"ROW()","v":3308},8,null,null,"2.3.8.04.10","Contribución a RTVC y organizaciones regionales de televisión y radiodifusión Corresponde a los recursos girados a la RTVC, provenientes hasta el 25 de julio de 2019, del Fondo para el Desarrollo de la Televisión y los Contenidos, administrado como una cuenta especial a cargo de la ANTV. Luego, a partir de la Ley 1979 de 2019, articulo 34, provenientes del Fondo Único de Tecnologías de la Información y las Comunicaciones. Dichos recursos serán destinados a la prestación del servicio y el fortalecimiento de la radio y la televisión pública nacional, la administración, operación y mantenimiento de la red pública nacional de la radio y la televisión, la migración de los medios públicos a las plataformas convergentes, la producción de contenidos y la recuperación de la memoria de la radio y la televisión pública.; en el caso de la RTVC, pueden ser destinados a gastos de funcionamiento",0,11]
[null,null,"D4451608","Maquinaria y equipo para la elaboración de té",1,{"$f":"ROW()","v":3309},8,null,null,"2.3.8.04.11","Contribución parafiscal para la promoción y el turismo La Contribución Parafiscal para la Promoción del Turismo, es un gravamen de carácter    obligatorio, creado   con   el   fin   de   fortalecer    la   promoción   y     la competitividad del turismo. La Contribución únicamente afecta al sector económico vinculado con la actividad turística.",0,11]
[null,null,"D4451102","Maquinaria y equipo para la elaboración de yogur, kumis, etc.",1,{"$f":"ROW()","v":3310},8,null,null,"2.3.8.04.12","Arancel judicial CSJ- Ley 1653 de 2013",0,11]
[null,null,"D4451610","Maquinaria y equipo para la fabricación de aceites y grasas comestibles",1,{"$f":"ROW()","v":3311},8,null,null,"2.3.8.04.13","Contribución - Fondo de Compensación Ambiental Son los gastos asociados al Fondo de Compensación Ambiental (FCA), el cual es un instrumento financiero de redistribución de recursos entre Corporaciones, con beneficio para aquellas que cuentan con menores posibilidades de generación de ingresos, incluyendo a las Corporaciones de Desarrollo Sostenible.",0,11]
[null,null,"D4451607","Maquinaria y equipo para la fabricación de confites",1,{"$f":"ROW()","v":3312},8,null,null,"2.3.8.04.14","Contribucion - Comité permanente de Estratificacion Son los gastos asociados a la contribución por servicio de estratificación, que presta el Distrito o Municipio a las empresas comercializadoras de servicios públicos domiciliarios residenciales.",0,11]
[null,null,"D4451301","Maquinaria y equipo para molienda de cereales",1,{"$f":"ROW()","v":3313},8,null,null,"2.3.8.04.15","Contribución Adicional - Superintendencia de Servicios Públicos Domiciliarios Son los gastos por la Contribucion adicional a la Superintendencia de Servicios Publicos Domiciliario. Esta contribución es a partir del 1 enero de 2020 - hasta el 31 de diciembre de 2022.",0,11]
[null,null,"D4421603","Maquinaria y equipo para rectificación de motores",1,{"$f":"ROW()","v":3314},8,null,null,"2.3.8.04.16","Contribución Comisiones De Regulación de agua - CRA Con el fin de recuperar los costos del servicio de regulación que presta cada comisión, las entidades sometidas a su regulación están sujetas a una contribución, que se liquida y paga cada año (Ley 142 de 1994. art 85). Para definir los costos de los servicios de regulación la Comisión de Regulación de de Agua Potable y Saneamiento Básico (CRA) tiene en cuenta todos los gastos de funcionamiento, la depreciación, amortización u obsolescencia de sus activos, en el periodo anual respectivo y cobra solamente la tarifa que arroje el valor necesario para cubrir su presupuesto anual. En ningún caso, dicha tarifa puede exceder el 1% del valor de los gastos de funcionamiento, asociados al servicio sometido a regulación, de la entidad contribuyente en el año anterior a aquel en el que se haga el cobro, de acuerdo con sus estados financieros (Decreto 707 de 1995, art 1)",0,11]
[null,null,"D4422101","Maquinaria y equipo para rectificación de pastillas para frenos.",1,{"$f":"ROW()","v":3315},8,null,null,"2.3.8.04.17","Contribución - Superintendencia De Vigilancia y Seguridad Privada Los recursos necesarios para cubrir los gastos de funcionamiento e inversión que requiere la Superintendencia de Vigilancia y Seguridad Privda provienen de la contribución a cargo de las personas naturales o jurídicas que ejerzan o presten las actividades y los servicios sometidos a su control, inspección, y vigilancia. Para efectos de la contribución entiéndase por hecho generador el ejercicio de la actividad de industria de los servicios de vigilanica y seguridad privada que personas naturales y jurídicas desarrollen en el territorío nacional, en forma remunerada a favor de terceros o en beneficio propio, pudiendo ser dichos terceros personas jurídicas de derecho público o privado o personas naturales. Igualmente deben pagar esta contribución los servicios autorizados para desarrollar actividades de alto riesgo e interés público y las personas naturales que en forma remunerada presten servicios de asesoría, consultoría o investigación en seguridad privada (Ley 1151 de 2007. art. 16)",0,11]
[null,null,"D4491908","Maquinaria y equipo para trabajar cera y parafina",1,{"$f":"ROW()","v":3316},8,null,null,"2.3.8.04.18","Contribución Superintendencia de Vigilancia y Seguridad Corresponde al pago de la licencia de funcionamiento del Departamento de Seguridad",0,11]
[null,null,"D4444006","Maquinaria y equipo para tratar asfalto",1,{"$f":"ROW()","v":3317},8,null,null,"2.3.8.04.19","Contribución de vigilancia - Superintendencia de Industria y Comercio Corresponde al pago que realizan las Cámaras de Comercio anualmente a la Superintendencia de Industria y Comercio, en función de su labor de vigilancia y control, el 1% del presupuesto aprobado, en tres contados iguales pagaderos así: a) Primer contado a más tardar el 30 de marzo; b) Segundo contado a más tardar el 30 de junio; y tercer contado a más tardar el 30 de septiembre (Decreto 1687 de 2010)",0,11]
[null,null,"D4451621","Maquinaria y equipo para trillar café",1,{"$f":"ROW()","v":3318},8,null,null,"2.3.8.04.20","Aporte Sobre Pólizas de Seguros - Fondo Nacional de Bomberos de Colombia Corresponde al aporte que realizan las compañías aseguradoras al Fondo Nacional de Bomberos por concepto del dos por ciento (2%) liquidada sobre el valor de la póliza de seguros; este valor debe ser girado al Fondo Nacional de Bomberos dentro de los primeros diez (10) días del mes siguiente a la adquisición de las mencionadas pólizas.",0,11]
[null,null,"D4391103","Maquinaria y equipos especiales para elaborar productos químicos",1,{"$f":"ROW()","v":3319},8,null,null,"2.3.8.04.21","FONSAT Corresponde a la contribución que realizan las compañías aseguradoras autorizadas para expedir el SOAT, constituidas por la diferencia entre el 20% del valor de las primas emitidas en el bimestre inmediatamente anterior y el monto definido por el Ministerio de Salud y Protección Social para cubrir el pago de las indemnizaciones correspondientes al amparo de gastos médicos, quirúrgicos, farmacéuticos, hospitalarios y el total de costos asociados al proceso de reconocimiento.",0,11]
[null,null,"D4391104","Maquinaria y equipos especiales para refinar petróleo",1,{"$f":"ROW()","v":3320},8,null,null,"2.3.8.04.22","Contribución SOAT Corresponde a las contribuciones que realizan las compañías seguradoras al Fondo Nacional de Seguridad Vial, correspondientes al tres por ciento (3%) de las primas que recauden por la operación del SOAT.",0,11]
[null,null,"D4412802","Maquinaria y equipos para limpieza y selección de granos",1,{"$f":"ROW()","v":3321},8,null,null,"2.3.8.04.23","Fondo Nacional de Riesgos Agropecuarios Corresponde a la contribución que realizan las compañías aseguradoras como porcentaje de los recursos provenientes de las primas pagadas en seguros agropecuarios a que se refiere la Ley 69 de 1993.",0,11]
[null,null,"D4393102","Máquinas agitadoras y mezcladoras industriales del tipo centrifugadoras",1,{"$f":"ROW()","v":3322},8,null,null,"2.3.8.04.24","Contribución - Fondo Especial de becas del Ministerio de Minas y Energía Corresponde a la erogación que se realiza mensualmente a favor del fondo especial de becas en el Ministerio de Minas y Petróleos. Para atender al sostenimiento de becas en el exterior, la suma de un tercio de centavo de dólar (US$ 1/3 centavos) por cada barril de petróleo obtenido en la explotación.",0,11]
[null,null,"D4392198","Máquinas ajustadoras de tapas n.c.p.",1,{"$f":"ROW()","v":3323},8,null,null,"2.3.8.04.25","Contribución - Superintendencia del Subsidio Familiar Las entidades sometidas a la vigilancia de la Superintendencia del Subsidio Familiar están obligadas a proveer, mediante contribución anual, los fondos necesarios para los gastos que ocasione el sostenimiento de la Superintendencia. El Superintendente fija por anualidades tal contribución como un porcentaje de los aportes totales pagados por los empleadores a las entidades sometidas a vigilancia, según los balances de su último ejercicio, empero no puede ser superior al uno por ciento (1%) del total de dichos aportes (Ley 25 de 1981, art. 19).",0,11]
[null,null,"D4442701","Máquinas apisonadoras",1,{"$f":"ROW()","v":3324},8,null,null,"2.3.8.04.26","Aportes financiación Sistema de Información Subsidio Familiar de Vivienda Comprende al aporte que realizan las Cajas de Compensación Familiar, equivalente al cero punto cinco por ciento (0,5%) de los recursos del presupuesto anual de los Fondo de Vivienda de Interés Social (FOVIS), así como de los aportes destinados por las entidades otorgantes del Subsidio Familiar de Vivienda. Estos recueros están destinados al financiamiento del Sistema de Información del Subsidio Familiar de Vivienda.",0,11]
[null,null,"D4442601","Máquinas autopropulsadas cuya superestructura puede girar 360 grados",1,{"$f":"ROW()","v":3325},8,null,null,"2.3.8.04.27","Contribución - Superintendencia de Sociedades Con el fin de cubrir los gastos de funcionamiento e inversión que requiere la Superintendencia de Sociedades, las sociedades sometidas a su vigilancia, control y regulación están sujetas a esta contribución. La Superintendencia de Sociedades, mediante resolución, establece la tarifa de la contribución a cobrar sobre el monto total de los activos, incluidos los ajustes integrales por inflación, que registre la sociedad a 31 de diciembre del año inmediatamente anterior, que podrá́ ser diferente según se trate de sociedades activas, en periodo preoperativo, en concordato, en reorganización o en liquidación (Ley 1429 de 2010, art. 44).",0,11]
[null,null,"D4451604","Máquinas batidoras de panadería",1,{"$f":"ROW()","v":3326},8,null,null,"2.3.8.04.28","Contribución parafiscal contribución al turismo",0,11]
[null,null,"D4514102","Máquinas calculadoras eléctricas",1,{"$f":"ROW()","v":3327},8,null,null,"2.3.8.05.01.001","Multas Superintendencias Corresponde al pago por penalidades pecuniarias que establecen las Superintendencias en el desarrollo de sus funciones de inspección y vigilancia sobre los sujetos de control definidos en su marco de competencias y por los hechos sancionables tipificados en la ley.",0,15]
[null,null,"D4513002","Máquinas calculadoras no eléctricas",1,{"$f":"ROW()","v":3328},8,null,null,"2.3.8.05.01.002","Multas judiciales Corresponde al pago de penalidades pecuniarias que establecen los jueces a las partes y terceros en el marco de los procesos judiciales y arbitrales de todas las jurisdicciones, así como las impuestasen incidentes de desacato a fallos de acciones de tutela, son consignados a favor de la Rama Judicial, Consejo Superior de la Judicatura, con destino al Fondo para la Modernización, Descongestión y Bienestar de la Administración de Justicia.",0,15]
[null,null,"D4412702","Máquinas clasificadoras de huevos (no eléctricas)",1,{"$f":"ROW()","v":3329},8,null,null,"2.3.8.05.01.003","Sanciones contractuales Comprende el gasto por penalidades pecuniarias que se imputan como consecuencia de acciones u omisiones relacionadas con una obligación contractual adquirida por la unidad ejecutora. (Ley 80 de 1993, Artículo 58). La imposición de multas, sanciones y declaratorias de incumplimiento las puede declarar cualquier entidad sometida al Estatuto General de Contratación de la Administración Pública, cuantificando los perjuicios del mismo, previo cumplimiento del procedimiento señalado en el Artículo 86 de la ley 1474 de 2011.",0,15]
[null,null,"D4481614","Máquinas compactadoras de basura",1,{"$f":"ROW()","v":3330},8,null,null,"2.3.8.05.01.004","Sanciones administrativas Comprende el gasto por penalidades pecuniarias derivadas de la potestad sancionatoria de la Administración como medio necesario para cumplir las finalidades que le son propias o para alcanzar los objetivos que ella se ha trazado en el ejercicio de sus funciones. la potestad sancionatoria habilita a la administración para imponer a sus propios funcionarios y a los particulares el acatamiento de una disciplina cuya observancia propende indudablemente a la realización de sus cometidos; y a su vez, constituye un complemento de la potestad de mando, pues contribuye a asegurar el cumplimiento de las decisiones administrativas (Corte Constitucional, sentencia C-616 de 2002).",0,15]
[null,null,"D4451605","Máquinas cortadoras de panadería",1,{"$f":"ROW()","v":3331},8,null,null,"2.3.8.05.02","Intereses de mora Son los gastos asociados al retraso en que se incurre dentro de los plazos establecidos para el pago de una obligación. Los intereses de mora representan el resarcimiento tarifado o indemnización de los perjuicios que padece el acreedor por no tener consigo el dinero en la oportunidad debida",0,11]
[null,null,"D4422102","Máquinas cortadoras de pastillas para frenos",1,{"$f":"ROW()","v":3332},{"$f":"LEN(C3332)","v":8},null,null,"2.4.1.01.01.001.01","Sueldo básico El sueldo básico corresponde a la parte del salario que se mantiene fija y se paga periódicamente de acuerdo con las funciones y responsabilidades, los requisitos de conocimientos, la experiencia requerida para su ejercicio, la denóminación y el grado establecidos en la nomenclatura, y la escala del respectivo nivel (art. 13, Decreto 1042 de 1978). El sueldo básico se paga sin tener en cuenta adicionales de horas extra, primas y otros factores eventuales o fijos que aumentan sus ingresos.La Ley 4 de 1992 establece el reconocimiento de una asignación básica de acuerdo con la nomenclatura y remuneración de los niveles de empleo.",0,{"$f":"LEN(J3332)","v":18}]
[null,null,"D4419304","Máquinas criadoras (eléctricas)",1,{"$f":"ROW()","v":3333},8,null,null,"2.4.1.01.01.001.02","Horas extras, dominicales, festivos y recargos Es la retribución fija que se reconoce al personal con el que existe relación laboral por concepto de trabajo suplementario y realizado en horas adicionales a la jornada ordinaria establecida por las disposiciones legales vigentes. Incluye: horas extras diurnas, horas extras nocturnas, y el trabajo ocasional en días dominicales y festivos. (Decreto 1042 de 1978).",0,18]
[null,null,"D4419302","Maquinas criadoras (no eléctricas)",1,{"$f":"ROW()","v":3334},8,null,null,"2.4.1.01.01.001.03","Gastos de representación Es la asignación complementaria del sueldo, que se reconoce excepcional y restrictivamente a empleados de alto nivel jerárquico por el cumplimiento de sus funciones (Corte Constitucional, Sentencia C-461/2004). Los gastos de representación tienen por finalidad que los empleados de nivel directivo desempeñen sus funciones de acuerdo con la importancia de la representación que ostentan. Esta asignación se caracteriza por ser un beneficio personal en gracia de la posición, jerarquía, dignidad y responsabilidades señaladas al cargo.",0,18]
[null,null,"D4291403","Máquinas de afeitar no eléctricas",1,{"$f":"ROW()","v":3335},8,null,null,"2.4.1.01.01.001.04","Subsidio de alimentación Es la retribución fija que se reconoce al personal con el que la entidad tiene una relación laboral, tales como empleados públicos, trabajadores oficiales y aquel de las sociedades de economía mixta y particulares cuyo gasto de personal se haga con cargo a los recursos públicos a su cargo, como auxilio para la provisión de su alimento. Este factor es un pago habitual y periódico de una suma de dinero para apoyar la manutención y provisión de alimentos del empleado.No se tendrá derecho a este subsidio cuando el funcionario disfrute de vacaciones, se encuentre en uso de licencia, suspendido o cuando la entidad suministre el servicio (art. 12, Decreto 229 de 2016).El subsidio de alimentación fue creado mediante el Decreto 627 de 2007, y está regulado por el la Ley 4 de 1992 y el Decreto 1397 de 2010.",0,18]
[null,null,"D4513003","Máquinas de calcular electrónicas, con dispositivo de impresión incorporado",1,{"$f":"ROW()","v":3336},8,null,null,"2.4.1.01.01.001.05","Auxilio de transporte Es el pago que se hace al personal con el que la entidad tiene una relación laboral, tales como empleados públicos, trabajadores oficiales y aquel de las sociedades de economía mixta y particulares cuyo gasto de personal se haga con cargo a los recursos públicos a su cargo que devenguen un sueldo mensual básico hasta de dos veces el salario mínimo legal vigente (Decreto 2732 del 2014). Este auxilio tiene como fin cubrir el traslado del trabajador desde el sector de su residencia hasta el sitio de su trabajo y viceversa.No se tiene derecho a este auxilio cuando el funcionario disfrute de vacaciones, se encuentre en uso de licencia, suspendido en el ejercicio de sus funciones o cuando la entidad suministre el servicio (art. 13, Decreto 229 de 2016).La Ley 15 de 1959, el Decreto 1374 de 2010 y el Decreto 5054 de 2009 regulan el auxilio de transporte.",0,18]
[null,null,"D4513099","Máquinas de calcular electrónicas, sin dispositivo de impresión incorporado n.c.p.",1,{"$f":"ROW()","v":3337},8,null,null,"2.4.1.01.01.001.06","Prima de servicio Es la retribución fija que se paga en el mes de julio de cada año correspondiente a 15 días de trabajo por cada año laborado, o proporcionalmente si el empleado laboró como mínimo por seis meses en la entidad. (art. 58, Decreto 1042 de 1978).El Decreto 1042 de 1978 establece la prima de servicios para los funcionarios del nivel nacional y el Decreto 2351 de 2014 establece la prima de servicios para los empleados públicos departamentales, distritales y municipales.Esta prima se liquida sobre los siguientes factores de salario:a) El sueldo básico fijado por la ley para el respectivo cargo. b) Los incrementos salariales por antigüedad. c) Los gastos de representación. d) Los auxilios de alimentación y transporte. e) La bonificación por servicios prestados",0,18]
[null,null,"D4516006","Máquinas de clasificar o contar monedas o billetes de banco",1,{"$f":"ROW()","v":3338},8,null,null,"2.4.1.01.01.001.07","Bonificación por servicios prestados Es la retribución pagadera cada vez que el empleado cumple un año continuo de servicio en una misma entidad, la cual es equivalente al cincuenta por ciento (50%) del valor conjunto de la asignación básica determinada por la ley para el respectivo cargo, sumada a los incrementos por antigüedad y los gastos de representación. Se paga en un plazo de veinte días después del cumplimiento de los requisitos para recibir la bonificación (art. 45,47 y 48, Decreto 1042 de 1978).El Decreto 2418 de 2015 regula la bonificación por servicios prestados para los empleados públicos del nivel territorial.",0,18]
[null,null,"D4481401","Máquinas de coser domésticas",1,{"$f":"ROW()","v":3339},8,null,null,"2.4.1.01.01.001.08.01","Prima de navidad Es la retribución correspondiente a un mes de salario que se reconoce a los empleados con los que la entidad tiene una relación laboral, por ocasión de la navidad. Esta prima es pagadera la primera quincena del mes de diciembre, por la cuantía del mes, o proporcionalmente al tiempo laborado.Cuando el empleado público, trabajador oficial u otro no ha servido durante todo el año, tiene derecho a la mencionada prima de navidad en proporción al tiempo laborado, a razón de una doceava parte por cada mes completo de servicios, que se liquida y paga con base en el último salario devengado, o en el último promedio mensual, si fuere variable equivalente a un mes de remuneración liquidado o un porcentaje proporcional al tiempo laborado (Decreto 1045 de 1978, art. 32).El reconocimiento de la prima de navidad como prestación social, se establece en el Decreto 1045 de 1978 (art. 32). El Decreto 1919 de 2002 establece que los empleados públicos de las entidades territoriales tienen derecho a las prestaciones sociales definidas para los empleados de la rama ejecutiva del nivel nacional. Por su parte, los soldados profesionales tienen derecho a percibir esta prima equivalente al cincuenta por ciento (50%) del salario básico devengado en el mes de noviembre del respectivo año más la prima de antigüedad. A su vez, los Oficiales, Suboficiales, Agentes y empleados públicos del Ministerio de Defensa, de las Fuerzas Militares y de la Policía Nacional tienen derecho a recibir esta prima (Decreto anual de salarios).",0,21]
[null,null,"D4462101","Maquinas de coser industriales",1,{"$f":"ROW()","v":3340},8,null,null,"2.4.1.01.01.001.08.02","Prima de vacaciones Corresponde al reconocimiento que otorga la ley al personnal con el que la entidad tenga relación laboral, con el fin de brindarles mayores recursos económicos para gozar del periodo de vacaciones. Esta prima es equivalente a quince (15) días de salario por cada año trabajado y debe pagarse dentro de los cinco (5) días hábiles anteriores a la fecha señalada para la iniciación del descanso remunerado, salvo lo que se disponga en normas o estipulaciones especiales. La prima de vacaciones no se perderá en los casos en que se autorizare el pago de vacaciones en dinero (Decreto 1045 de 1978, arts. 24 a 29).",0,21]
[null,null,"D4511003","Máquinas de escribir eléctricas",1,{"$f":"ROW()","v":3341},8,null,null,"2.4.1.01.01.001.09","Prima técnica salarial Es un reconocimiento económico a servidores públicos que desempeñen cargos altamente calificados cuyas funciones demanden la aplicación de conocimientos técnicos o científicos, o la realización de labores de dirección o de especial responsabilidad. Asimismo, la prima técnica reconoce el desempeño de los servidores en su cargo.Se considera como factor salarial, la prima técnica por formación avanzada y experiencia altamente calificada, también conocida como prima técnica por estudio y experiencia, la cual se otorga a los empleados que acrediten estudios de formación avanzada o cinco años de experiencia calificada, en los cargos de nivel directivo, ejecutivo, profesional, jefes de oficina asesora y nivel asesor.",0,18]
[null,null,"D4511002","Máquinas de escribir no eléctricas",1,{"$f":"ROW()","v":3342},8,null,null,"2.4.1.01.01.001.10","Viáticos de los funcionarios en comisión Son los pagos que reciben los funcionarios y trabajadores en comisión, para alojamiento y manutención, cuando: a) deban desempeñar sus funciones en un lugar diferente a su sede habitual de trabajo, ya sea dentro o fuera del país, o b) deba atender transitoriamente actividades oficiales distintas a las inherentes al empleo de que es titular (Departamento Administrativo de la Función Pública, 2007).Los viáticos de los funcionarios en comisión constituyen factor salarial para efectos de la liquidación de cesantías y pensiones cuando se hayan percibido por un término superior a ciento ochenta (180) días en el último año de servicio (art. 45, Decreto 1045 de 1978).",0,18]
[null,null,"D4431001","Máquinas de fundición centrífuga",1,{"$f":"ROW()","v":3343},8,null,null,"2.4.1.01.01.001.11","Remuneración diputados Es la remuneración reconocida a los diputados por su asistencia a las sesiones de la Asamblea Departamental, la cual está regulada por la Ley 1871 de 2017.",0,18]
[null,null,"D4424201","Máquinas de gas para soldar y cortar metales",1,{"$f":"ROW()","v":3344},8,null,null,"2.4.1.01.01.001.12","Aguinaldo Comprende los gastos asociados al pago anual que la Empresa Metro de Medellín realiza a los sus empleados de planta y que es considerado como un factor salarial común.",0,18]
[null,null,"D4424202","Máquinas de gas para temple superficial",1,{"$f":"ROW()","v":3345},8,null,null,"2.4.1.01.01.001.13","Auxilio de conectividad digital Corresponde al pago de auxilio de conectividad digital que de manera temporal y transitoria se reconocerá y pagará a los servidores públicos que devenguen hasta dos (2) salarios mínimos legalesmensuales vigentes y que desarrollen su labor en su domicilio. Este auxilio se reconocerá mientras esté vigente la emergencia sanitaria declarada por el Ministerio de Salud y de Protección Social con ocasión de la pandemia derivada del Coronavirus (COVID-19) y corresponderá al valor establecido para el auxilio de transporte.El auxilio de conectividad y el auxilio de transporte no son acumulables y no será aplicable a los trabajadores que se desempeñan en la modalidad de teletrabajo, a quienes les seguirán siendoaplicables las disposiciones de la Ley 1221 de 2008 (Art. 1, Decreto Legislativo 771 de 2020).",0,18]
[null,null,"D4421201","Máquinas de puesto fijo para trabajar metales",1,{"$f":"ROW()","v":3346},8,null,null,"2.4.1.01.01.001.14","Salario Integral Segun el artículo 132 del Código Sustantivo del Trabajo permite que se acuerde libremente el salario en sus diversas modalidades, como por unidad de tiempo, por obra,  a destajo o por tarea, siempre y cuando se respete el salario mínimo. En el caso que el salario ordinario sea superior a 10 salarios mínimos legales mensuales, el salario será integral y compensará de antemano las prestaciones sociales, recargos y beneficios como el trabajo nocturno, extraordinario o dominical y festivo, exceptuando las vacaciones. De igual forma, el articulo 127 del Código Sustantivo del Trabajo, que establece el salario como todo aquello que recibe el trabajador como contraprestación directa del servicio.",0,18]
[null,null,"D4321902","Máquinas de vapor de émbolo (pistón) con calderas propias",1,{"$f":"ROW()","v":3347},8,null,null,"2.4.1.01.01.002.01.01","Escalafón diplomático Corresponde a los sueldos de los funcionarios públicos de Carrera Diplomática y Consular. El valor de la asignación básica de dichos funcionarios dependerá de la categoría de Carrera Diplomática y Consular en la cual estén escalafonados conforme a las disposiciones del Decreto 274 de 2000.",0,21]
[null,null,"D4321903","Máquinas de vapor sin caldera",1,{"$f":"ROW()","v":3348},8,null,null,"2.4.1.01.01.002.01.02.01","Comisión de servicios Corresponde a los sueldos de funcionarios públicos que están en comisión de servicios. De acuerdo con el art. 2 del Decreto 2004 de 1997, una comisión de servicios se puede conferir únicamente en los siguientes casos:- Para tramitar o negociar asuntos que a juicio del Gobierno Nacional revistan especial interés para el país.- Para suscribir convenios o acuerdos con otros gobiernos u organismos internacionales.",0,24]
[null,null,"D4451619","Máquinas despulpadoras de café",1,{"$f":"ROW()","v":3349},8,null,null,"2.4.1.01.01.002.01.02.02","Comisión de estudios Corresponde a los sueldos de funcionarios públicos que están en comisión de estudios. Para conferir una comisión de estudios, el objeto de la misma debe guardar relación con los fines de la entidad o con las funciones inherentes al cargo que desempeña el servidor público y ser superior a un mes (art. 2, Decreto 1050 de 1997).Se podrá conferir comisión de estudios en el exterior al servidor público que tenga por lo menos un (1) año continuo de servicio en la respectiva entidad. A su vez, el comisionado se comprometerá mediante convenio a prestar sus servicios a la entidad que otorga la comisión o a cualquier otra entidad del Estado, por el doble del tiempo de duración de la comisión (Decreto 3555 de 2007).",0,24]
[null,null,"D4421701","Máquinas dobladoras de láminas",1,{"$f":"ROW()","v":3350},8,null,null,"2.4.1.01.01.002.02","Prima de actividad Reconocimiento económico que hace la ley a los empleados públicos del Ministerio de Defensa y de la Policía Nacional, mientras permanezcan en el desempeño de sus funciones. Esta prima es equivalente al cuarenta y nueve punto cinco por ciento (49.5%) del sueldo básico mensual del funcionario (art. 38, Decreto 1214 de 1990, modificado por el art. 30 del Decreto 984 de 2017).",0,18]
[null,null,"D4421705","Máquinas dobladoras de tubos",1,{"$f":"ROW()","v":3351},8,null,null,"2.4.1.01.01.002.03","Prima especial de servicios Reconocimiento económico que hace la ley a los magistrados del Consejo Superior de la Judicatura, de la Corte Suprema de Justicia, de la Corte Constitucional, del Consejo de Estado, el Procurador General de la Nación, el Contralor General de la República, el Fiscal General de la Nación, el Defensor del Pueblo y el Registrador Nacional del Estado Civil con el fin de igualar los ingresos percibidos por estos funcionarios, con aquellos que reciben los miembros del Congreso, sin que en ningún caso los supere. El Gobierno podrá fijar la misma prima para los ministros de despacho, los Generales y Almirantes de la Fuerza Pública (art. 15, Ley 4 de 1992).Esta prima reemplaza en su totalidad y deja sin efecto cualquier otra prima a que tengan derecho dichos funcionarios, con excepción de la prima de navidad (art. 5, Decreto 10 de 1993).",0,18]
[null,null,"D4451614","Máquinas dosificadoras para la preparación de alimentos",1,{"$f":"ROW()","v":3352},8,null,null,"2.4.1.01.01.002.04","Prima semestral Es el pago que se realiza en el mes de junio y diciembre, denóminado prima semestral, a los funcionarios que cumplan con los requisitos establecidos por la ley, y pagadera en conformidad con las disposiciones legales. Por ejemplo:a. La Superintendencia de Sociedades realiza el pago de la prima semestral a los beneficiarios del régimen especial de prestaciones económicas de los empleados afiliados a Corpoanónimas (entidad liquidada), en virtud de lo establecido por el art. 12 del Decreto 1695 de 1997. b) El artículo 2 de la Ley 55 de 1987, establece el reconocimiento de una prima semestral para los empleados del Congreso nacional, pagadera en junio y diciembre de cada año.c) El Acuerdo Distrital 25 de 1990 establece el pago de una prima semestral a los empleados y trabajadores de la Administración Central del Distrito, que hayan laborado durante el primer semestre del año y proporcionalmente a quienes laboren por lo menos tres (3) meses completos de ese semestre, y que equivale a treinta y siete (37) días de salario.",0,18]
[null,null,"D4491504","Máquinas dosificadoras y mezcladoras de plásticos",1,{"$f":"ROW()","v":3353},8,null,null,"2.4.1.01.01.002.05","Prima ascensional Reconocimiento que hace la ley a favor de los Magistrados y Fiscales de Tribunal, que reúnan los requisitos constitucionales para el ejercicio de la magistratura de la Corte Suprema de Justicia, y a favor de los Fiscales de Juzgado Superior, Jueces Superiores, de Menores y de Circuito que reúnan los requisitos constitucionales para ser Magistrados de Tribunal Superior (art. 3, Decreto 903 de 1969).El Consejo Superior de la Administración de Justicia, para determinar la cuantía individual de la prima (que no podrá ser mayor al cinco por ciento (5%) de la asignación mensual), tendrá en cuenta la antigüedad y la calidad de los requisitos constitucionales exigidos para el desempeño del cargo superior, a la época en que el peticionario haya tomado posesión del mismo (Decreto 760 de 1970).",0,18]
[null,null,"D4481610","Máquinas eléctricas de afeitar",1,{"$f":"ROW()","v":3354},8,null,null,"2.4.1.01.01.002.06","Primas extraordinarias Corresponde al pago por concepto de primas legalmente otorgadas, que constituyen factor salarial y que serán pagaderas únicamente en los términos, condiciones y las veces que se establezca en su ley de creación.",0,18]
[null,null,"D4511001","Máquinas electrónicas para escribir",1,{"$f":"ROW()","v":3355},8,null,null,"2.4.1.01.01.002.07","Prima mensual Es el pago mensual equivalente al incentivo económico por los servicios prestados. Pago no menor al treinta por ciento (30%), ni mayor al sesenta por ciento (60%) del salario básico mensual.",0,18]
[null,null,"D4392101","Máquinas embotelladoras y envasadoras",1,{"$f":"ROW()","v":3356},8,null,null,"2.4.1.01.01.002.08","Auxilio especial de transporte Es el pago por concepto de auxilio especial de transporte a los beneficiarios establecidos por la ley, de acuerdo con las disposiciones legales correspondientes.Por ejemplo, el artículo 3 del Decreto 192 de 2014 dispone que tienen derecho a este subsidio, los servidores públicos del Instituto Nacional de Medicina Legal y Ciencias Forenses que se desempeñen en funciones de mensajería. Asimismo, el artículo 32 del Decreto 717 de 1978 establece que reconocerá el auxilio especial de transporte a los citadores que prestan sus servicios en los Despachos Judiciales y a los Asistentes sociales de los Juzgados de ejecución de Penas y Medidas de Seguridad, para adolescentes, de Familia y promiscuos de Familia. No incluye: •La prima especial de transporte establecida en el Decreto 51 de 1998, posteriormente establecida en el Decreto 3254 de 2002, el cual fue derogado por el Decreto 26 de 2004. De acuerdo con el artículo 1 del Decreto 3254 de 2002, esta prima consistía en el reconocimiento económico de una prima equivalente a $500.000 para los Secretarios Generales del Senado, Cámara y los Secretarios de la Comisiones Constitucionales Permanentes",0,18]
[null,null,"D4392106","Máquinas embotelladoras, excepto para alimentos y bebidas no alcohólicas",1,{"$f":"ROW()","v":3357},8,null,null,"2.4.1.01.01.002.09","Bonificación por comisión especial de servicio Reconocimiento que hace la ley a los empleados del Departamento Administrativo de Seguridad - DAS que deban cumplir comisiones especiales de servicio fuera del país. Dichos empleados tendrán derecho a percibir una bonificación mensual en dólares o proporcional al tiempo de la comisión, hasta por el quince por ciento (15%) de su asignación básica mensual a razón de un dólar por cada cinco pesos ($5) (art. 6, Decreto 1933 de 1989).",0,18]
[null,null,"D4392107","Máquinas empacadoras, excepto para alimentos y bebidas no alcohólicas",1,{"$f":"ROW()","v":3358},8,null,null,"2.4.1.01.01.002.10.01","Beneficios a los empleados a corto plazo",0,21]
[null,null,"D4392103","Máquinas empaquetadoras",1,{"$f":"ROW()","v":3359},8,null,null,"2.4.1.01.01.002.10.02","Beneficios a los empleados a largo plazo",0,21]
[null,null,"D4392197","Máquinas engomadoras n.c.p.",1,{"$f":"ROW()","v":3360},8,null,null,"2.4.1.01.01.002.11","Bonificación por compensación La bonificación por compensación es el pago que se realiza a los funcionarios públicos determinados por la ley, para la nivelación de su salario. Por ejemplo, la bonificación por compensación creada por el Decreto 610 de 1998, es el pago mensual, equivalente al ochenta por ciento (80%) de la asignación básica más los demás ingresos laborales. Los beneficiarios de esta bonificación son: los magistrados de las altas Cortes, secretarios generales de las mismas, Fiscales delegados ante Tribunales del distrito, y otros funcionarios de la rama judicial. De acuerdo con el Decreto 1102 de 2012, que venían percibiendo la bonificación de gestión judicial para la fecha del Decreto mencionado, reciben el presente beneficio. Incluye: •La prima individual de compensación creada por el Decreto 4669 de 2006. Según lo establecido por el artículo 11 del Decreto 4669 de 2006, los servidores públicos del Instituto Nacional de Medicina Legal y Ciencias Forenses:[…]que fueren incorporados con una asignación básica mensual inferior a la que venían percibiendo, una prima individual de compensación, de carácter personal, que nivele sus ingresos con los que venían percibiendo por concepto de asignación básica mensual, de conformidad con lo establecido en el artículo 2o del Decreto 384 de 2006, la que devengarán mientras permanezcan en el mismo empleo. (Decreto 4669, 2006) Esta prima constituye factor salarial para liquidar prestaciones sociales, y firma parte de la asignación básica para efectos pensionales (Decreto 4669, 2006). Otro ejemplo es la bonificación por compensación creada por el Decreto Ley 4064 de 2011, donde los funcionarios del DAS incorporados a la Unidad Administrativa Especial Migración Colombia, en un empleo al cual corresponde una asignación básica inferior al valor de la asignación básica y la prima de riesgo que vienen percibiendo, la diferencia se reconocerá con una bonificación mensual individual por compensación que se entiende integrada a la asignación básica y por lo tanto constituye factor salarial para todos los efectos legales.",0,18]
[null,null,"D4422299","Máquinas especiales n.c.p. para trabajar madera",1,{"$f":"ROW()","v":3361},8,null,null,"2.4.1.01.01.002.12.01","Beneficios a los empleados a corto plazo Corresponde al pago que aplica a todos los empleados y funcionarios de la Rama Jurisdiccional y del Ministerio Público, excepción hecha de Magistrados de la Corte Suprema de Justicia, Consejeros de Estado, Procurador General de la Nación y Fiscales del Consejo de Estado, por valor de 2% de la asignación básica mensual por cada año continuo de servicios, en propiedad, que completen en sus respectivos cargos, a partir del día 1º de enero de 1970 (Art. 4 del Decreto 903 de 1969).Asimismo, comprende las remuneraciones a las que tienen derecho los servidores y los uniformados y no uniformados de la Fuerza Pública exceptuando el nivel ejecutivo. Por el tiempo de servicio, con la periodicidad establecida por la norma, a partir de la fecha en que cumplan 10 años de servicio para el caso de Suboficiales y 15 años de servicio para el caso de Oficiales.",0,21]
[null,null,"D4422103","Máquinas especiales para cortar ladrillo",1,{"$f":"ROW()","v":3362},8,null,null,"2.4.1.01.01.002.12.02","Beneficios a los empleados a largo plazo Corresponde al pago que aplica a todos los empleados y funcionarios de la Rama Jurisdiccional y del Ministerio Público, excepción hecha de Magistrados de la Corte Suprema de Justicia, Consejeros de Estado, Procurador General de la Nación y Fiscales del Consejo de Estado, por valor de 2% de la asignación básica mensual por cada año continuo de servicios, en propiedad, que completen en sus respectivos cargos, a partir del día 1º de enero de 1970 (Art. 4 del Decreto 903 de 1969).Asimismo, comprende las remuneraciones a las que tienen derecho los servidores y los uniformados y no uniformados de la Fuerza Pública exceptuando el nivel ejecutivo. Por el tiempo de servicio, con la periodicidad establecida por la norma, a partir de la fecha en que cumplan 10 años de servicio para el caso de Suboficiales y 15 años de servicio para el caso de Oficiales.",0,21]
[null,null,"D4451612","Máquinas especiales para el pelado y trozado de tubérculos",1,{"$f":"ROW()","v":3363},8,null,null,"2.4.1.01.01.002.13","Prima especial Reconocimiento que hace la ley a los funcionarios de la planta externa del Ministerio de Comercio, Industria y Turismo (art. 4, Decreto 4971 de 2009) y a los funcionarios que presten sus servicios en las misiones colombianas permanentes acreditadas en el exterior (art. 4, Decreto 3357 de 2009).Esta prima se paga en forma mensual y constituye factor salarial para todos los efectos, incluyendo los aportes al Sistema Integral de Seguridad Social.",0,18]
[null,null,"D4491904","Máquinas especiales para lubricación y engrase",1,{"$f":"ROW()","v":3364},8,null,null,"2.4.1.01.01.002.14","Bonificación cuerpo custodia y vigilancia Es una bonificación que se reconoce a los oficiales logísticos y de tratamiento penitenciario pertenecientes al Cuerpo de Custodia y Vigilancia Penitenciaria y Carcelaria Nacional del Instituto Nacional Penitenciario y Carcelario -INPEC-, de manera mensual a partir del primero (1) de enero de 2015, calculado sobre la asignación básica mensual correspondiente al empleo (art. 2, Decreto 1268 de 2015).De acuerdo al art. 4 del Decreto 1268 de 2015, la bonificación constituye factor salarial para todos los efectos legales y los aportes obligatorios sobre los pagos que se efectúen por ese concepto, se realizarán de conformidad con las disposiciones legales vigentes.",0,18]
[null,null,"D4392199","Máquinas etiquetadoras n.c.p.",1,{"$f":"ROW()","v":3365},8,null,null,"2.4.1.01.01.002.15","Bonificación personal administrativo Es una bonificación que se reconoce al personal administrativo del Instituto Nacional Penitenciario y Carcelario INPEC, una bonificación que se reconocerá mensualmente a partir del primero (1) de enero de 2015, calculado sobre la asignación básica mensual correspondiente al empleo que desempeñe.De acuerdo al art. 4 del Decreto 1268 de 2015 la bonificación constituye factor salarial para todos los efectos legales y los aportes obligatorios sobre los pagos que se efectúen por ese concepto, se realizarán de conformidad con las disposiciones legales vigentes.",0,18]
[null,null,"D4514106","Máquinas facturadoras",1,{"$f":"ROW()","v":3366},8,null,null,"2.4.1.01.01.002.16","Sobresueldo Reconocimiento económico que hace la ley a los controladores de tránsito aéreo y supervisores de tránsito aéreo debidamente acreditados por el Centro de Estudios Aeronáuticos y pertenecientes al área de control de Tránsito Aéreo de la Unidad Administrativa Especial de Aeronáutica Civil en razón del volumen de operación de control de tráfico aéreo. El porcentaje del sobresueldo se fija de acuerdo con la categoría del aeropuerto donde el funcionario preste el servicio (Decreto 313 de 2018, art. 8).",0,18]
[null,null,"D4491701","Máquinas fotocopiadoras",1,{"$f":"ROW()","v":3367},8,null,null,"2.4.1.01.01.002.17","Prima de productividad Reconocimiento económico que hace la ley a los empleados de la Rama Judicial, de la Fiscalía General de la Nación y del Instituto Nacional de Medicina Legal y Ciencias Forenses para mejorar la productividad. Esta prima es equivalente al cincuenta por ciento (50%) de la remuneración mensual, pagadera en el mes de diciembre de cada año (Decreto 2460 de 2006; modificado por el Decreto 3899 de 2008).",0,18]
[null,null,"D4514104","Máquinas franqueadoras de correspondencia",1,{"$f":"ROW()","v":3368},8,null,null,"2.4.1.01.01.002.18","Prima de desgaste y alto riesgo visual Reconocimiento económico que hace el Distrito de Bogotá a los bacteriólogos que presten sus servicios a las diferentes entidades y dependencias del distrito.",0,18]
[null,null,"D4491906","Maquinas hidrolavadoras para lavado de vehículos",1,{"$f":"ROW()","v":3369},8,null,null,"2.4.1.01.01.002.19","Reserva especial del ahorro Corresponde al reconocimiento mensual que realiza la Superintendencia de Sociedades, la Superintendencia de Industria y Comercio, la Superintendencia Financiera de Colombia y el Instituto Nacional de Metrología a favor de sus empleados, con el fin de incentivar el ahorro de estos. Este reconocimiento es equivalente al 65% del sueldo básico, prima de antigüedad, prima técnica, gastos de representación y el incremento de salario por antigüedad (según corresponda).",0,18]
[null,null,"D4462201","Máquinas industriales para lavandería",1,{"$f":"ROW()","v":3370},8,null,null,"2.4.1.01.01.002.20","Prima de localización (Artículo 8 Decreto 415 de 1979) Corresponde la prima que reconoce el Servicio Nacional de Aprendizaje (SENA) a los empleados públicos que presten sus servicios en el Centro Náutico Pesquero de Buenaventura, en la ciudad de Barrancabermeja, en el Departamento del Chocó y en la región de Urabá, donde existen sedes permanentes del SENA, en los Departamentos del César y la Guajira o en Centros Fijos de los Territorios Nacionales. Esta prima se fijó en1.500.00 mensuales, incrementándose anualmente en un 20%, constituye parte integral de la asignación básica mensual de los empleos del SENA y en ningún caso se podrá recibir viáticos y prima de localización simultáneamente",0,18]
[null,null,"D4392105","Máquinas lavadoras de artefactos para transporte de productos, cestos, canastas, cajas",1,{"$f":"ROW()","v":3371},8,null,null,"2.4.1.01.01.002.21.01","Beneficios a los empleados a corto plazo Recursos destinados al pago a que tienen derecho los empleados públicos al cumplirse cinco años de antigüedad de servicios prestados en un trabajo, según lo estipulado en la ley. de acuerdo con la entidad y régimen salarial que rija para el mismo.“El quinquenio es un beneficio laboral que se reconoce con ocasión de la prestación del servicio por un lapso determinado, sin que manera alguna cubra riesgo o necesidad alguno del empleado. Motivo por el cual, en concepto de esta Oficina, el quinquenio es Salario o Remuneración”. (Concepto 11547 de 2002 Departamento Administrativo de la Función Pública). Asi mismo puede corresponder a un beneficio salarial especial al trabajador en el marco de una convención o Pacto Colectivo, siempre que cumpla con cinco (5) años de servicio continuo en la entidad.",0,21]
[null,null,"D4412701","Máquinas lavadoras de huevos (no eléctricas)",1,{"$f":"ROW()","v":3372},8,null,null,"2.4.1.01.01.002.21.02","Beneficios a los empleados a largo plazo Recursos destinados al pago a que tienen derecho los empleados públicos al cumplirse cinco años de antigüedad de servicios prestados en un trabajo, según lo estipulado en la ley. de acuerdo con la entidad y régimen salarial que rija para el mismo.“El quinquenio es un beneficio laboral que se reconoce con ocasión de la prestación del servicio por un lapso determinado, sin que manera alguna cubra riesgo o necesidad alguno del empleado. Motivo por el cual, en concepto de esta Oficina, el quinquenio es Salario o Remuneración”. (Concepto 11547 de 2002 Departamento Administrativo de la Función Pública). Asi mismo puede corresponder a un beneficio salarial especial al trabajador en el marco de una convención o Pacto Colectivo, siempre que preste sus servicios entre 5 y 15 años a la Entidad o mayor a 15 años.",0,21]
[null,null,"D4491909","Máquinas lavadoras de pisos",1,{"$f":"ROW()","v":3373},8,null,null,"2.4.1.01.01.002.22","Remuneración adicional Corresponde a remuneración a la que tienen derecho los empleados al servicio de la Contraloría General de la República que laboren ordinariamente en los departamentos creados por el Artículo 309207de la Constitución Política y en el Departamento del Caquetá. Esta remuneración es equivalente al 8% de la asignación básica mensual que les corresponde",0,18]
[null,null,"D4461303","Máquinas manuales para tejido de punto",1,{"$f":"ROW()","v":3374},8,null,null,"2.4.1.01.01.002.23","Prima capacitación no acogidos Reconocimiento que hace la ley a Magistrados del Tribunal, Jueces Superiores, de menores o circuitos en razón de estudios de post-grado, obra de investigación científica publicada o ejercicio de la docencia universitaria, todo en materias relacionadas con su cargo y especialidad (Art. 3, Decreto 903 de 1969 y Decreto 717 de 1978).El Consejo Superior de la administración de justicia para la determinación individual del monto de la prima de capacitación, que puede ascender hasta el 10% de la respectiva asignación mensual, analizará en singular cada factor invocado y demostrado, teniendo en cuenta la naturaleza, pertinencia, duración e intensidad, abundancia y pertinencia de la obra científica; y la antigüedad, perseverancia, rendimiento y pertinencia del ejercicio del magisterio (Art. 4 del Decreto 760 de 1970).",0,18]
[null,null,"D4451303","Máquinas moledoras de café",1,{"$f":"ROW()","v":3375},8,null,null,"2.4.1.01.01.002.24","Prima del nivel ejecutivo Corresponde a la prima a la que tiene derecho el personal del nivel ejecutivo de la Policía Nacional en servicio activo. Es equivalente al 20% de la asignación básica mensual, no tiene carácter salarial para ningún efecto, con excepción de la prima de navidad",0,18]
[null,null,"D4422297","Máquinas n.c.p. para aserraderos",1,{"$f":"ROW()","v":3376},8,null,null,"2.4.1.01.01.002.25","Prima de retorno a la experiencia Es el reconocimiento económico que hace la ley al personal del nivel ejecutivo de la Policía Nacional por cada año de servicio que permanezca en el mismo grado de acuerdo con el porcentaje del sueldo básico",0,18]
[null,null,"D4421799","Máquinas n.c.p. para conformar metales",1,{"$f":"ROW()","v":3377},8,null,null,"2.4.1.01.01.002.26","Prima de vuelo",0,18]
[null,null,"D4443099","Máquinas n.c.p. para construcción",1,{"$f":"ROW()","v":3378},8,null,null,"2.4.1.01.01.002.27","Prima de carestía Reconocimiento que se hace en el mes de abril de cada año a los trabajadores oficiales vinculados a 31 de diciembre del año inmediatamente anterior de una prima de carestía, de conformidad con lo previsto en la convención colectiva de trabajo vigente.. NE : Concepto exclusivo Universidad Nacional de Colombia",0,18]
[null,null,"D4451698","Máquinas n.c.p. para elaboración de productos alimenticios",1,{"$f":"ROW()","v":3379},8,null,null,"2.4.1.01.01.002.28","Bonificación cargo académico administrativo Reconocimiento de bonificación mensual a los docentes que por acto administrativo desempeñan cargos académico administrativos en funciones directivas.",0,18]
[null,null,"D4451399","Máquinas n.c.p. para la elaboración de cereales y leguminosas",1,{"$f":"ROW()","v":3380},8,null,null,"2.4.1.01.01.002.29","Bonificación bienestar universitario Corresponde al pago a los servidores públicos según Acuerdo CSU 005 de 1998, aplica para docentes de carrera universitaria.NE: Aplica para la Universidad Nacional de Colombia.",0,18]
[null,null,"D4413299","Máquinas n.c.p. para la industria lechera",1,{"$f":"ROW()","v":3381},8,null,null,"2.4.1.01.01.002.30","Cuatrienios Recursos destinados al pago a que tienen derecho los empleados públicos al cumplirse Cuatro años de antigüedad de servicios prestados en un trabajo, según lo estipulado en la ley.",0,18]
[null,null,"D4451699","Máquinas n.c.p. para panadería",1,{"$f":"ROW()","v":3382},8,null,null,"2.4.1.01.01.002.31","Bonificación Pedagógica Docentes Prescolar, Básica y Media La bonificación pedagógica será reconocida para docentes y directivos docentes de entidades territoriales, pagadera una sola vez al año de acuerdo con los porcentajes indicados; cuando el docente o directivo docente cumpla un año continúo de servicio efectivamente prestado; constituye factor salarial y no tendrá efectos retroactivos.",0,18]
[null,null,"D4514199","Máquinas n.c.p. para tabulación",1,{"$f":"ROW()","v":3383},8,null,null,"2.4.1.01.01.002.32","Sobresueldo docentes y directivos docentes Prescolar, Básica y Media Es la asignación adicional para docentes de prescolar vinculados en este nivel antes del 23 de febrero de 1984 y que permanezca sin solución de continuidad desempeñándose en el mismo cargo, equivalente al quince por ciento (15%) calculado sobre la asignación básica mensual. Dicha asignación adicional dejará de percibirse al cambiar de nivel educativo.",0,18]
[null,null,"D4422298","Máquinas n.c.p. para trabajar madera",1,{"$f":"ROW()","v":3384},8,null,null,"2.4.1.01.01.002.33","Bonificación Educadores de Básica y Media Corresponde a la bonificación para los servidores públicos docentes y directivos docentes al servicio del Estado en los niveles de preescolar, básica y media, regidos por el Decreto Ley 2277 de 1979, el Decreto Ley 1278 de 2002 o la Sección 4, Capítulo 5, Título 3, Parte 3 del Decreto 1075 de 2015, Único Reglamentario del Sector Educación, y pagados con cargo al Sistema General de Participaciones, una bonificación, que se reconocerá mensualmente a partir del primero (01) de enero de 2020 y hasta el treinta y uno (31) diciembre de 2020, mientras el servidor público permanezca en el servicio.",0,18]
[null,null,"D4491399","Máquinas n.c.p. para trabajar papel y cartón",1,{"$f":"ROW()","v":3385},8,null,null,"2.4.1.01.01.002.34","Prima de clima o de calor Es el reconocimiento económico que se realiza a los empleados públicos que desempeñan sus funciones en condiciones climáticas desfavorables para su salud, de acuerdo con las condiciones legales.",0,18]
[null,null,"D4431099","Máquinas n.c.p. para tratar metales",1,{"$f":"ROW()","v":3386},8,null,null,"2.4.1.01.01.002.35","Prima Movil Es el reconocimiento económico que se realiza a los empleados públicos que desempeñan sus funciones como operadores de maquinaria pesada (especial I y especial II), en el marco de una Convención colectiva.",0,18]
[null,null,"D4413101","Máquinas ordeñadoras",1,{"$f":"ROW()","v":3387},8,null,null,"2.4.1.01.01.002.36","Prima de Riesgo Prima creada por convención colectiva para los trabajadores que manipulan explosivos en la Industria Militar. La cual corresponderá a dos salarios básico por cada año de servicio",0,18]
[null,null,"D4422205","Máquinas para aglomerar madera",1,{"$f":"ROW()","v":3388},8,null,null,"2.4.1.01.01.002.37","Remuneración Sorteo Semanal Corresponde a la remuneración que realiza la lotería de Cundinamarca a los trabajadores que participen en las labores de la realización semanal de sorteos.",0,18]
[null,null,"D4461103","Máquinas para cardar y peinar algodón y lana",1,{"$f":"ROW()","v":3389},8,null,null,"2.4.1.01.01.002.38","Vacaciones Corresponde al reconocimiento que por mera liberalidad realiza el empleador al trabajador por concepto de vacaciones cuando estas se consideran como un factor salarial, en aplicación de lo establecido en el código sustantivo de trabajo.",0,18]
[null,null,"D4421602","Máquinas para cortar metales",1,{"$f":"ROW()","v":3390},8,null,null,"2.4.1.01.02.001","Aportes a la seguridad social en pensiones Son los pagos por concepto de contribución social que hacen los empleadores a los fondos de seguridad social en pensiones. Este pago se realiza en virtud de la Ley 100 de 1993, por medio de la cual se creó el Sistema de Seguridad Social de Pensiones, y se estableció la obligatoriedad de la afiliación de todos los empleados al sistema.Este aporte tiene como finalidad garantizar a la población el amparo contra las contingencias derivadas de la vejez, la invalidez y la muerte, mediante el reconocimiento de las pensiones y prestaciones correspondientes (Ley 100 de 1993, art. 10).",0,15]
[null,null,"D4291503","Máquinas para cortar pelo",1,{"$f":"ROW()","v":3391},8,null,null,"2.4.1.01.02.002","Aportes a la seguridad social en salud Son los pagos por concepto de contribución social que hacen los empleadores a las Entidades Promotoras en Salud (EPS) para el cubrimiento de riesgos de salud de sus empleados. Este pago se realiza en virtud de la Ley 100 de 1993, la cual creó el Sistema de Seguridad Social en Salud y estableció como deberes del empleador realizar cumplidamente los aportes correspondientes.",0,15]
[null,null,"D4491309","Máquinas para cortar y perforar papel",1,{"$f":"ROW()","v":3392},8,null,null,"2.4.1.01.02.003","Aportes de cesantías Es la contribución de cesantías, que el empleador está obligado a pagar en razón de un mes de sueldo o jornal por cada año de servicio de su empleado, proporcionalmente fraccionado. Este aporte tiene como fin cubrir o prever las necesidades que se originan al trabajador al momento de quedar cesante. (Departamento Administrativo de la Función Pública, 2012).Los aportes a los fondos administradores de cesantías entraron en vigor para entidades territoriales con la Ley 344 de 1996. Así mismo, la Ley 432 de 1998 permitió que el personal del nivel territorial se afiliara al Fondo Nacional del Ahorro.",0,15]
[null,null,"D4461102","Máquinas para desfibrar fique y otras fibras duras vegetales",1,{"$f":"ROW()","v":3393},8,null,null,"2.4.1.01.02.004","Aportes a cajas de compensación familiar Son los pagos por concepto de la contribución social que hacen los empleadores a las Cajas de Compensación familiar para el cubrimiento del subsidio familiar y de vivienda.",0,15]
[null,null,"D4461101","Máquinas para desmotar algodón",1,{"$f":"ROW()","v":3394},8,null,null,"2.4.1.01.02.005","Aportes generales al sistema de riesgos laborales Son los pagos por concepto de contribución social que hacen los empleadores a una Administradora de Riesgos Laborales (ARL), según elección, liquidación y las tablas de riesgo establecidas legalmente; para el cubrimiento de las prestaciones económicas y asistenciales derivadas de un accidente de trabajo o una enfermedad profesional (Ley 100 de 1993; Decreto 1295 de 1994).El monto de las cotizaciones no podrá ser inferior al 0.348%, ni superior al 8.7%, de la base de cotización de los trabajadores a cargo del respectivo empleador (Decreto 1295 de 1994, art.18). Este pago se realiza en virtud de la Ley 100 de 1993, la cual creó el sistema General de Riesgos laborales, y el Decreto 1295 de 1994, el cual establece: […] c) Todos los empleadores deben afiliarse al Sistema General de Riesgos Profesionales. […] d) La afiliación de los trabajadores dependientes es obligatoria para todos los empleadores. […]El empleador que no afilie a sus trabajadores al Sistema General de Riesgos Profesionales, además de las sanciones legales, será responsable de las prestaciones que se otorgan en este decreto (Decreto 1295 de 1994, art. 4).",0,15]
[null,null,"D4413201","Máquinas para elaboración de queso y mantequilla",1,{"$f":"ROW()","v":3395},8,null,null,"2.4.1.01.02.006","Aportes al ICBF Son los pagos por concepto de contribución parafiscal que hacen los empleadores al Instituto Colombiano de Bienestar Familiar (ICBF). Esta contribución está destinada a atender la creación y sostenimiento de centros de atención integral al preescolar, para menores de 7 años hijos del personal con quien la entidad tiene una relación laboral (Ley 27 de 1974; modificado por Ley 89 de 1998, art. 1)",0,15]
[null,null,"D4491502","Máquinas para elaborar artículos de material plástico",1,{"$f":"ROW()","v":3396},{"$f":"LEN(C3396)","v":8},null,null,"2.4.1.01.02.007","Aportes al SENA Es la contribución parafiscal a pagar por la Nación (por intermedio de los Ministerios, Departamentos Administrativos y Superintendencias), los establecimientos públicos, las empresas industriales y comerciales y las empresas de economía mixta de las órdenes nacional, departamental, Intendencias, distrital y municipal, y los empleados que ocupen uno o más trabajadores permanentes al SENA. Los aportes para la Nación son equivalentes al 0,5% de la nómina mensual de salarios y están destinados a programas específicos de formación profesional acelerada, durante la prestación del servicio militar obligatorio. Los aportes de los demás contribuyentes son equivalentes al 2% de las nóminas respectivas (Ley 21 de 1982, arts. 7 a 12). De acuerdo con la Ley 223 de 1995, las universidades públicas no están obligadas a realizar aportes al SENA (Ley 223 de 1995, art. 181).",0,{"$f":"LEN(J3396)","v":15}]
[null,null,"D4422206","Máquinas para endurecer madera",1,{"$f":"ROW()","v":3397},8,null,null,"2.4.1.01.02.008","Aportes a la ESAP Contribución parafiscal a pagar por la Nación, los departamentos, intendencias, comisarías, el Distrito Especial de Bogotá y los municipios empleadores a la ESAP. La Ley establece el porcentaje a pagar, el cual se calcula sobre los pagos por concepto de salarios (Ley 21 de 1982, art. 8).",0,15]
[null,null,"D4392109","Máquinas para envasar y embotellar leche",1,{"$f":"ROW()","v":3398},8,null,null,"2.4.1.01.02.009","Aportes a escuelas industriales e institutos técnicos Son los pagos por concepto de contribución parafiscal que hacen los empleadores a favor de las escuelas industriales e institutos técnicos. Este aporte es equivalente al 0,5% de la nómina mensual de salarios de los contribuyentes (Ley 21 de 1982, art. 11)",0,15]
[null,null,"D4491307","Máquinas para fabricación de artículos moldeados de papel o cartón",1,{"$f":"ROW()","v":3399},8,null,null,"2.4.1.01.02.010","Aporte subsidio de vivienda fuerzas militares y policía Es el aporte a pagar por los empleados públicos y, según lo contratado, los trabajadores oficiales de determinados niveles o condiciones salariales en la cuantía y condiciones señaladas en el Decreto 353 de 1994, la Ley 973 de 2005 y la Ley 1305 de 2009. Estos recursos son administrados por la Caja Promotora de Vivienda Militar y de Policía. De acuerdo con el artículo 19 de la Ley 973 de 2005, el pago a la Caja Promotora de vivienda y de Policía debe transferirse en la misma fecha en la que se realizan las consignaciones de los aportes al 180 sistema general de pensiones y de seguridad social en salud.Adicionalmente, el artículo 20 de la ley en mención, dispone que: En todas las entidades empleadoras de los afiliados a la Caja Promotora de Vivienda Militar y de Policía, será obligatorio incluir en sus anteproyectos de presupuestos las partidas necesarias que serán transferidas a la Caja Promotora de Vivienda Militar y de Policía, por concepto de aportes de cesantías de los afiliados a dicha entidad para atender las cesantías de la respectiva vigencia (Ley 973 de 2005).",0,15]
[null,null,"D4463003","Máquinas para fabricación de calzado y artículos de cuero",1,{"$f":"ROW()","v":3400},8,null,null,"2.4.1.01.03.001.01","Vacaciones Es el pago por el descanso remunerado a que tiene derecho el empleado después de un año de labor en la entidad. Esta retribución se reconoce a los empleados por la totalidad de días de vacaciones y corresponde a quince (15) días de trabajo, y será pagado al menos cinco (5) días con antelación a la fecha señalada para iniciar el goce del descanso remunerado (Decreto 1045 de 1978, arts. 18 y 48).",0,18]
[null,null,"D4462901","Máquinas para fabricación de fieltro",1,{"$f":"ROW()","v":3401},8,null,null,"2.4.1.01.03.001.02","Indemnización por vacaciones Corresponde a la compensación en dinero a la que tiene derecho el empleado por vacaciones causadas, pero no disfrutadas. En principio, la compensación en dinero de las vacaciones está prohibida, en tanto estas constituyen un derecho del que gozan todos los trabajadores como quiera que el reposo es una condición mínima que ofrece la posibilidad de que el empleado renueve la fuerza y la dedicación para el desarrollo de sus actividades (Corte Constitucional, Sentencia C-598/1997).Por ello, el reconocimiento de la indemnización por vacaciones se limita a los siguientes casos: •Cuando el jefe del respectivo organismo así lo estime necesario para evitar perjuicios en el servicio público, evento en el cual sólo puede autorizar la compensación en dinero de las vacaciones correspondientes a un año. •Cuando el empleado público o trabajador oficial quede retirado definitivamente del servicio sin haber disfrutado de las vacaciones causadas hasta entonces (Decreto 1045 de 1978, art. 20).",0,18]
[null,null,"D4422207","Máquinas para fabricación de lápices",1,{"$f":"ROW()","v":3402},8,null,null,"2.4.1.01.03.001.03","Bonificación especial de recreación Es la retribución que se reconoce a los empleados por cada periodo de vacaciones en el momento de iniciar el disfrute del respectivo periodo vacacional. La cuantía de la bonificación por recreación equivale a dos días de la asignación básica mensual que le corresponda al empleado.Esta bonificación no constituirá factor de salario para ningún efecto legal y se pagará por lo menos con cinco (5) días hábiles de antelación a la fecha de inicio en el evento que se disfrute del descanso remunerado (Decreto 229 de 2016, art. 16).",0,18]
[null,null,"D4491301","Máquinas para fabricación de pulpa",1,{"$f":"ROW()","v":3403},8,null,null,"2.4.1.01.03.001.04","Subsidio Familiar Es la prestación social pagadera en dinero, especie y servicios a los empleados públicos y trabajadores oficiales públicos de medianos y menores ingresos en proporción al número de personas a cargo.",0,18]
[null,null,"D4461305","Máquinas para fabricar alfombras y tapetes",1,{"$f":"ROW()","v":3404},8,null,null,"2.4.1.01.03.002","Bonificación de dirección Es la retribución económica reconocida a determinados funcionarios del Estado, quienes desempeñan labores relacionadas con la dirección.",0,15]
[null,null,"D4491303","Máquinas para fabricar cartón",1,{"$f":"ROW()","v":3405},8,null,null,"2.4.1.01.03.003","Bonificación de dirección para gobernadores y alcaldes Es la retribución económica reconocida a gobernadores y alcaldes creada por el decreto 4353 de 2004 (modificado por el Decreto 1390 de 2008), pagadera en tres pagos contados iguales durante el año, en los meses de abril, agosto y diciembre del respectivo año.",0,15]
[null,null,"D4422209","Máquinas para fabricar hormas y avíos de madera para zapatería",1,{"$f":"ROW()","v":3406},8,null,null,"2.4.1.01.03.004","Bonificación de gestión territorial para alcaldes Es una retribución pagadera anualmente a los alcaldes, en dos contados iguales durante el año, en los meses de junio y diciembre. Para los alcaldes de los municipios de categoría especia, primera, segunda y tercera esta bonificación equivale al 100% de la asignación básica más gastos de representación. Para los alcaldes de los municipios de categoría cuarta, quinta y sexta, esta bonificación equivale al 150% de la asignación básica más gastos de representación.",0,15]
[null,null,"D4491302","Máquinas para fabricar papel",1,{"$f":"ROW()","v":3407},8,null,null,"2.4.1.01.03.005","Reconocimiento por permanencia en el servicio público - Bogotá D.C. Es la retribución a la que tienen derecho los funcionarios, por prestar sus servicios por periodos de 5 años consecutivos, sin interrupciones, y por haber desempeñado más funciones con corrección y competencia.",0,15]
[null,null,"D4444002","Máquinas para fabricar productos de cemento",1,{"$f":"ROW()","v":3408},8,null,null,"2.4.1.01.03.006","Honorarios concejales Es el pago de los honorarios reconocidos a los concejales por su asistencia a las sesiones del Concejo Municipal.De acuerdo con el Consejo de Estado (Concepto N° 1760 del 10 de agosto de 2006), los honorarios recibidos por los concejales no tienen calidad jurídica de salario, razón por la cual no son considerados para la liquidación de los aportes parafiscales.",0,15]
[null,null,"D4491308","Máquinas para fabricar tubos y artículos similares de cartón",1,{"$f":"ROW()","v":3409},8,null,null,"2.4.1.01.03.007","Honorarios ediles Es el pago de los honorarios reconocidos a los ediles del distritos por su asistencia a las sesiones y comisiones permanentes.",0,15]
[null,null,"D4491306","Máquinas para hacer cajas y envases de cartón",1,{"$f":"ROW()","v":3410},8,null,null,"2.4.1.01.03.008","Subsidio de transporte a personeros Es el pago del subsidio de transporte que se reconoce a los personeros municipales, en virtud del artículo 36 de la Ley 1551 de 2012. De acuerdo con el artículo en mención, en los municipios de categoría tercera, cuarta, quinta y sexta, los personeros tienen derecho a un subsidio de 6 salaríos mínimos mensuales legales por una única vez al inicio de su periodo.",0,15]
[null,null,"D4461304","Máquinas para hacer medias",1,{"$f":"ROW()","v":3411},8,null,null,"2.4.1.01.03.009","Prima técnica no salarial Comprende la prima técnica por evaluación del desempeño y la prima técnica automática.La prima técnica por evaluación de desempeño se otorga a funcionarios directivos, jefes de oficina asesora o asesores que obtienen un porcentaje correspondiente al 90%, como mínimo, del total de la última evaluación del desempeño, correspondiente a un periodo no inferior a 3 meses en el ejercicio del cargo en propiedad (Decreto 1164 de 2012). No puede ser superior al 50% de la asignación básica mensual del empleado al que se le asigna la prima.Por su parte, la prima técnica automática es otorgada a altos funcionarios, en virtud de las calidades excepcionales del ejercicio de sus funciones. Equivale al 50% del sueldo y los gastos de representación de los empleados.De acuerdo con el artículo 7 del Decreto 1661 de 1991, no constituyen factor salarial: la prima técnica por evaluación de desempeño y la prima técnica automática.",0,15]
[null,null,"D4491305","Máquinas para hacer sacos, bolsas y sobres de papel",1,{"$f":"ROW()","v":3412},8,null,null,"2.4.1.01.03.010","Bonificación especial por servicios de seguridad a ex presidentes Corresponde al pago que se les hace a los funcionarios de las Fuerzas Militares, de la Policía Nacional y el Departamento Administrativo de Seguridad, asignados de forma permanente en la prestación de servicios para garantizar la seguridad de los ex presidentes de la República y sus cónyuges sobrevivientes, equivalente al 30% de la asignación básica mensual que reciben.El pago de esta bonificación se hará con cargo al presupuesto de la entidad a la cual se encuentre vinculado el funcionario (art. 4, Decreto 1700 de 2010).",0,15]
[null,null,"D4461104","Máquinas para hilar algodón y lana",1,{"$f":"ROW()","v":3413},8,null,null,"2.4.1.01.03.011","Bonificación especial por servicios de comisión en Presidencia Corresponde al pago de una asignación mensual adicional, equivalente al 60% del suelo básico mensual, que se reconoce al personal del Ministerio de Defensa, de las Fuerzas Militares, de la Policía Nacional y de la Unidad Nacional de Protección (UNP), que preste sus servicios en comisión en el Departamento Administrativo de la Presidencia de la República, bien sea en la Casa Militar o en la Secretaría para la Seguridad del Presidente y de la familia presidencial, aun por fuera de la sede habitual de residencia de la familia presidencial. En iguales condiciones, tendrán derecho a esta bonificación, los soldados que presten el servicio en el Palacio Presidencial-Casa de Nariño.Para tener derecho al reconocimiento y pago de la bonificación, el personal debe haber prestado el servicio total o parcialmente en jornadas de trabajos extras diurnas o nocturnas y previa certificación del Secretario para la Seguridad del Presidente, sobre la prestación del servicio o del Jefe de la Casa Militar de Palacio, o el Jefe de Guarnición, en cada caso (art. 1, Decreto 1794 de 2012).",0,15]
[null,null,"D4461105","Máquinas para hilar fique y otras fibras duras vegetales",1,{"$f":"ROW()","v":3414},8,null,null,"2.4.1.01.03.012","Prima de riesgo Reconocimiento que hace la ley a los funcionarios que prestan servicios de alto riesgo, en los siguientes términos:- Para los conductores de los Ministros y Directores de Departamento Administrativos la prima de riesgo será equivalente al veinte por ciento (20%) de la asignación básica mensual (Decreto 229 de 2016, art. 8)- Para los conductores del Ministro de Defensa Nacional, el Comandante General de las Fuerzas Militares, los Comandantes de Fuerza y del Director General de la Policía Nacional la prima de riesgo será del 20% de la asignación básica mensual (Decreto 214 de 2016, art. 33).- Para el personal de los organismos de seguridad del Estado en comisión en los establecimientos de reclusión del Instituto Nacional Penitenciario y Carcelario -INPEC la prima de riesgo corresponderá al 30% de la asignación básica mensual (Decreto 229 de 2016, art. 34).- Para el personal de la Imprenta Distrital, guardianes de la cárcel distrital, personal de vigilancia de la Secretaría de Tránsito y Transportes, radio operadores de la Administración Central, Técnicos en Salud Ocupacional, operadores de equipos, auxiliares de ingeniería y técnicos de la división de ingeniería de la Secretaría de Tránsito y Transportes. Empleados de publicaciones de la Secretaría de Educación, operarios de la Fábrica de Pupitres San Blas y Fábrica de Tiza de la Secretaría de Educación con más de cinco (5) años de servicio la prima de riesgo se paga de manera mensual y corresponde a un 5% por ciento de la asignación básica mensual más de un 1% por cada año adicional a los primeros cinco (5) años de servicio, sin que exceda el veinticinco (25%) por ciento.En todos los casos, esta prima no constituye factor salarial para ningún efecto legal.",0,15]
[null,null,"D4491401","Máquinas para imprenta",1,{"$f":"ROW()","v":3415},8,null,null,"2.4.1.01.03.013","Prima de gestión Reconocimiento que hace la ley a algunos servidores públicos, en los siguientes términos:- A los negociadores internacionales, correspondiente al 50% de la asignación básica y los gastos de representación (Decreto 229 de 2016, art. 3). - Al Director de la Unidad de Información y Análisis Financiero, correspondiente al 50% de la asignación básica mensual (Decreto 229 de 2016, art. 3).-A los empleados públicos del Congreso, conforme a lo dispuesto en el artículo 5 del Decreto 230 de 2016.En todos los casos, esta prima no constituye factor salarial para ningún efecto legal.",0,15]
[null,null,"D4391310","Máquinas para la elaboración de helados",1,{"$f":"ROW()","v":3416},8,null,null,"2.4.1.01.03.014","Prima de dirección Es el reconocimiento económico que sustituye la prima técnica para los ministros de despacho y directores de departamentos administrativos; a excepción de la prima técnica por estudios de formación avanzada y experiencia altamente calificada (Decreto 1101 de 2015).De acuerdo con el artículo 2 del decreto 1028 de 2015, los oficiales de las Fuerzas Militares y de la Policía Nacional en los grados de Almirante y General tendrán derecho a la Prima de Dirección, en las mismas condiciones que los ministros de despacho.Tienen derecho a la prima técnica los demás funcionarios que legalmente se establezcan como beneficiarios.",0,15]
[null,null,"D4422208","Máquinas para la fabricación de cajas y otro material de embalaje de madera",1,{"$f":"ROW()","v":3417},8,null,null,"2.4.1.01.03.015","Prima geográfica Corresponde a una asignación sin carácter salarial, otorgada a los funcionarios cuyos cargos estén ubicados en zonas de difícil acceso, clima malsano o alto riesgo por violencia, pagadera mientras subsistan tales factores. Por ejemplo: el Decreto 2372 de 1994 otorga la prima geográfica a los funcionarios de la Registraduría Nacional del Estado Civil que presten sus servicios en dichas zonas.",0,15]
[null,null,"D4451805","Máquinas para la fabricación de leche en polvo",1,{"$f":"ROW()","v":3418},8,null,null,"2.4.1.01.03.016","Prima de costo de vida Reconocimiento que hace la ley a los servidores públicos del Ministerio de Relaciones Exteriores y del Ministerio de Comercio, Industria y Turismo que se encuentren prestando servicios en el exterior con el fin de equiparar el ingreso real en pesos de dichos funcionarios a las condiciones económicas y cambiarias de los países de destino (art. 5, Decreto 3357 de 2009 y art. 5, Decreto 4971 de 2009).Este pago no se traduce en un incremento neto del patrimonio del funcionario, por lo tanto, no tiene carácter remuneratorio.",0,15]
[null,null,"D4451616","Máquinas para la preparación de carnes",1,{"$f":"ROW()","v":3419},8,null,null,"2.4.1.01.03.017","Prima de localización y vivienda Reconocimiento que hace la ley a los miembros del Congreso. Esta prima se paga de forma mensual, no se considera factor salarial, y es equivalente a setecientos mil pesos ($ 700.000.00) (art. 2, Decreto 801 de 1992).",0,15]
[null,null,"D4451617","Máquinas para la preparación de frutas y legumbres",1,{"$f":"ROW()","v":3420},8,null,null,"2.4.1.01.03.018","Prima de capacitación Reconocimiento que hace la ley a Magistrados de Tribunal, Fiscales o Jueces Superiores, de Menores o de Circuito en razón de estudios de post-grado, obra de investigación científica publicada o ejercicio de la docencia universitaria, todo en materias relacionadas con su cargo y especialidad (Decreto 903 e 1969, art. 3).Para determinar la cuantía individual de la prima, que puede ascender hasta el diez por ciento de la respectiva asignación mensual, el Consejo Superior de la Administración de Justicia analizará en singular cada factor invocado y demostrado, teniendo en cuenta la naturaleza, pertinencia, duración e intensidad, abundancia y pertinencia de la obra científica; y la antigüedad, perseverancia, rendimiento y pertinencia del ejercicio del magisterio (art. 4, Decreto 760 de 1970).Así mismo, es el pago por concepto de prima de capacitación que tiene derecho los miembros del Cuerpo de Custodia y Vigilancia Carcelaria. Reconocida en la Ley 32 de 1986 y en las normas que el Gobierno Nacional expida en desarrollo de la Ley 4ª de 1992.",0,15]
[null,null,"D4431002","Máquinas para laminación de planos metálicos",1,{"$f":"ROW()","v":3421},8,null,null,"2.4.1.01.03.019","Prima de clima o prima de calor Es el reconocimiento económico que se realiza a los empleados públicos que desempeñan sus funciones en condiciones climáticas desfavorables para su salud, de acuerdo con las condiciones legales.",0,15]
[null,null,"D4431003","Máquinas para laminación de tubos metálicos",1,{"$f":"ROW()","v":3422},8,null,null,"2.4.1.01.03.020","Estímulos a los empleados del Estado Es el pago de incentivos pecuniarios a los empleados públicos, que tienen por objetivo elevar los niveles de eficiencia, satisfacción, desarrollo y bienestar en el desempeño sus funciones. Lo anterior, en el marco de los programas de incentivos que contempla el sistema de estímulos para los empleados del Estado, regulado por el Decreto 1567 de 1998.No incluye:•Incentivos no pecuniarios establecidos en los planes institucionales según lo dispuesto en el Decreto 1567 de 1998.",0,15]
[null,null,"D4392104","Máquinas para lavado de frascos y botellas",1,{"$f":"ROW()","v":3423},8,null,null,"2.4.1.01.03.021","Remuneración electoral De acuerdo con el Decreto 1434 de 1982, es el pago a los funcionarios de planta (o ex funcionarios que hubiesen laborado en el periodo pre-electoral) de la Registraduría Nacional del Estado Civil, correspondiente al 150% de su asignación básica mensual.Esta prima se paga una sola vez en cada año electoral, en el mes siguiente la celebración de la última elección del respectivo año (Decreto 1103 de 2015). Esta prima no aplica al Registrador Nacional.",0,15]
[null,null,"D4491905","Máquinas para limpieza de metales",1,{"$f":"ROW()","v":3424},8,null,null,"2.4.1.01.03.022","Prima de instalación Reconocimiento que hace la ley a los Oficiales, Suboficiales, Personal del Nivel ejecutivo de la Policía Nacional y los empleados públicos del Ministerio de Defensa, que se encuentren casados, en unión marital permanente o con hijos a su cargo; cuando el traslado o la comisión permanente sea al interior del país (Decreto 1028 de 2015). El pago de la prima de instalación se realiza de conformidad con las disposiciones legales correspondientes.De acuerdo con el artículo 76 de la Ley 32 de 1986, son beneficiarios de la prima de instalación, los miembros del Cuerpo de Custodia y Vigilancia Penitenciaria Nacional que sean trasladados de una localidad a otra, siempre y cuando la solicitud del traslado no la haya realizado el empleado.En cumplimiento a lo establecido en artículo 3° del Decreto Ley 4064 de 2011, Migración Colombia reconoce a los funcionarios incorporados del DAS, la prima de instalación establecida en el artículo 5 del Decreto 1933 de 1989.",0,15]
[null,null,"D4491402","Máquinas para litografía",1,{"$f":"ROW()","v":3425},8,null,null,"2.4.1.01.03.023","Prima de coordinación Es el pago que se realiza a los empleados públicos y trabajadores oficiales que “tengan planta global y que tengan a su cargo la coordinación o supervisión de grupos internos de trabajo, creados mediante resolución del jefe del organismo respectivo” (Decreto 1101 de 2015).El pago de esta prima es reconocido a los empleados de los Ministerios, Departamentos Administrativos, Superintendencias, Establecimientos Públicos, Corporaciones Autónomas Regionales y de Desarrollo Sostenible, las Empresas Sociales del Estado y las Unidades Administrativas Especiales (Decreto 1101, 2015). Esta prima debe ser reconocida a los funcionarios que la ley determine como beneficiarios.Para el caso del Distrito de Bogotá, este reconocimiento se otorga de manera mensual y equivale a un veinte por ciento (20%) adicional al valor de la asignación básica mensual del empleo del cual sean titulares, durante el tiempo en que ejerzan tales funciones.",0,15]
[null,null,"D4431004","Máquinas para moldeo a presión de metales",1,{"$f":"ROW()","v":3426},8,null,null,"2.4.1.01.03.024","Prima de alta gestión De acuerdo con el Decreto 1094 de 2015, la prima de alta gestión es el pago equivalente a “la diferencia entre los ingresos laborales totales anuales recibidos por el Contralor General de la República y los Ingresos laborales totales anuales del Auditor General, sin que en ningún caso los supere” (Decreto 1094 de 2015).Por otro lado, el Decreto 1093 de 2015, reconoce el pago de una prima de alta gestión equivalente al 20% de la asignación básica mensual de los siguientes funcionarios de la Contraloría General de la República: Contralor Delegado, Director de Oficina, Secretario Privado, Director y Gerente.",0,15]
[null,null,"D4451701","Máquinas para preparación de tabaco",1,{"$f":"ROW()","v":3427},8,null,null,"2.4.1.01.03.025","Prima de alto mando Pago que se realiza a los Oficiales de las Fuerzas Militares, los Generales y los Almirantes de la Policía Nacional de acuerdo con lo dispuesto por el Decreto 1028 de 2015; el cual establece:\" los Oficiales de las Fuerzas Militares y de la Policía Nacional en los grados de General y Almirante, percibirán por todo concepto una asignación mensual igual a la que devenguen los Ministros del Despacho como asignación básica y gastos de representación, en todo tiempo, distribuida así: el cuarenta y cinco por ciento (45%) como sueldo básico y el cincuenta y cinco por ciento (55%) como prima de alto mando.",0,15]
[null,null,"D4451615","Máquinas para sacrificar y pelar pollos y otras aves de corral",1,{"$f":"ROW()","v":3428},8,null,null,"2.4.1.01.03.026","Prima de instalación en el exterior Prima que se reconoce a los Oficiales y Suboficiales de las Fuerzas Militares en servicio activo y a los empleados públicos del Ministerio de Defensa, que sean trasladados o destinados en comisión permanente al exterior del país y tengan por ello que cambiar de guarnición o lugar de residencia.",0,15]
[null,null,"D4461302","Máquinas para tejido de punto circular",1,{"$f":"ROW()","v":3429},8,null,null,"2.4.1.01.03.027","Prima de alojamiento en el exterior Prima que se otorga a los Oficiales y Suboficiales de la Policía Nacional en servicio activo, casados o viudos con hijos, que desempeñen comisiones permanentes en el exterior, tendrán derecho mientras cumplan la comisión, siempre y cuando lleven a su familia a residir a la nueva sede, a gozar de una prima mensual de alojamiento hasta del siete por ciento (7%) del sueldo básico correspondiente a su grado, liquidada en dólares a razón de un dólar por cada peso.Los Oficiales y Suboficiales solteros y los casados o viudos que no lleven a su familia a la respectiva sede cuando desempeñen comisiones permanentes en el exterior, tendrán derecho a una prima de alojamiento hasta del cinco por ciento (5%) del sueldo básico correspondiente a su grado, que se pagará en dólares a razón de un dólar por cada peso (Decreto 1212 de 1990).",0,15]
[null,null,"D4461301","Máquinas para tejidos de punto rectilíneo",1,{"$f":"ROW()","v":3430},8,null,null,"2.4.1.01.03.028","Vivienda para embajadores Gasto generado en la situación en la que un funcionario escalafonado en la Categoría de Embajador fuere designado Cónsul General o en Comisión para Situaciones Especiales, en un cargo correspondiente a una categoría inmediatamente inferior en el escalafón de la carrera. A dicho funcionario, se le reconoce como beneficio adicional para vivienda en el exterior, una suma de dinero equivalente al treinta por ciento (30%) de la asignación básica mensual del cargo de destino en el exterior (Decreto 274 de 2000).",0,15]
[null,null,"D4491304","Máquinas para trabajar papeles especiales",1,{"$f":"ROW()","v":3431},8,null,null,"2.4.1.01.03.029","Bonificación por seguro de vida colectivo Gastos por bonificación individual mensual con destino al Fondo de Solidaridad del Ministerio de Defensa Nacional-Seguro de Vida Colectivo. Son beneficiaros de esta bonificación:- Oficiales y Suboficiales de las Fuerzas Militares y de la Policía Nacional- Personal del Nivel Ejecutivo de la Policía Nacional- Agentes de los Cuerpos Profesionales de la Policía Nacional, personal civil del Ministerio de Defensa, de las Fuerzas Militares y la Policía Nacional- Los Alférez, Guardiamarinas, Pilotines, los cadetes, los alumnos de las Escuelas de Formación de Suboficiales- Nivel Ejecutivo de la Policía Nacional, los Soldados, Auxiliares de Policía Bachilleres, Grumetes de las Fuerzas Militares- Personal del Cuerpo Auxiliar de la Policía Nacional.",0,15]
[null,null,"D4451302","Máquinas para trillar-pilar arroz",1,{"$f":"ROW()","v":3432},8,null,null,"2.4.1.01.03.030","Bonificación licenciamiento Es el pago obligatorio al que tiene derecho todo colombiano que se encuentre prestando el servicio militar como concepto de una última bonificación que será equivalente a un salario mínimo mensual vigente (Ley 48, 1993).",0,15]
[null,null,"D4291405","Máquinas plásticas para afeitar",1,{"$f":"ROW()","v":3433},8,null,null,"2.4.1.01.03.031","Bonificación dragoneante Recursos destinados al reconocimiento (bonificación) de los agentes de policía que sean reconocidos como dragoneantes. Esta bonificación es reconocida mientras los agentes ostenten dicha distinción (Decreto 1028, 2015).",0,15]
[null,null,"D4422210","Máquinas posformadoras dobladoras de fórmica",1,{"$f":"ROW()","v":3434},8,null,null,"2.4.1.01.03.032","Bonificación agente cuerpo profesional especial Pago al que tienen derecho los Agentes del Cuerpo Profesional Especial por concepto de bonificación del treinta por ciento (30%) de su sueldo básico mensual, la cual se incrementará en un diez por ciento (10%) por cada año de servicio en este cuerpo, sin sobrepasar el ciento por ciento (100%) de dicho sueldo básico (Ley 21 de 1979).",0,15]
[null,null,"D4451803","Máquinas secadoras de café",1,{"$f":"ROW()","v":3435},8,null,null,"2.4.1.01.03.033","Bonificación buena conducta Es el pago a la bonificación contemplada en el art. 43 del Decreto 1213 de 1990, el cual establece: \"los Agentes de la Policía Nacional en servicio activo que completen períodos quinquenales continuos de servicio y observen buena conducta durante los mismos, tendrán derecho a una recompensa por cada cinco (5) años de servicio, equivalente a la totalidad de los haberes en actividad, devengados en el último mes en que cumplan el quinquenio\".Incluye también la jineta de buena conducta que se reconoce legalmente a los suboficiales que durante un período de tres (3) años consecutivos no registran en su folio de vida ninguna sanción disciplinaria. En este caso, según lo dispuesto en el artículo 47 de la Ley 836 de 2003, por cada período de tres (3) años en las mismas condiciones se otorga una nueva jineta, y a partir de la tercera jineta se disminuye el período a dos (2) años.El período de tres (3) o dos (2) años se cuenta de acuerdo con el lapso de evaluación establecido en el Reglamento de Evaluación y Clasificación para el personal de las Fuerzas Militares.",0,15]
[null,null,"D4451804","Máquinas secadoras de frutas y verduras",1,{"$f":"ROW()","v":3436},8,null,null,"2.4.1.01.03.034","Partida alimentación Recursos destinados a financiar la partida diaria de alimentación para el personal de soldados e infantes de marina de las Fuerzas Militares y personal del Cuerpo Auxiliar de la Policía Nacional.",0,15]
[null,null,"D4491102","Máquinas secadoras, excepto para alimentos y bebidas",1,{"$f":"ROW()","v":3437},8,null,null,"2.4.1.01.03.035","Partida alimentación orden público y cobertura de fronteras Gastos por concepto de alimentación de los oficiales, suboficiales y agentes de las Fuerzas Militares y de la Policía Nacional que presten sus servicios, en áreas donde se desarrollen operaciones especiales para restablecer el orden público y de cobertura de fronteras (Decretos 1211 y 1214 de 1990).",0,15]
[null,null,"D4412304","Máquinas segadoras y picadoras de pasto",1,{"$f":"ROW()","v":3438},8,null,null,"2.4.1.01.03.036","Bonificación de actividad judicial Reconocimiento económico al buen desempeño de los jueces, fiscales y procuradores judiciales, creado en virtud del Decreto 3131 de 2005. Esta bonificación constituye factor para efectos de determinar el ingreso base de cotización del Sistema General de Pensiones, y de acuerdo con laLey 797 de 2003, para la cotización al Sistema General de Seguridad Social en Salud (Decreto 3900 de 2008, art. 1) mas no para determinar elementos salariales ni prestaciones sociales.",0,15]
[null,null,"D4392108","Máquinas selladoras de sacos, bolsas, de plástico, celofán y similares",1,{"$f":"ROW()","v":3439},8,null,null,"2.4.1.01.03.037","Bonificación especial personal secuestrado Recursos destinados a financiar la bonificación especial de los Oficiales y Suboficiales de las Fuerzas Militares que se hayan encontrado en cautiverio, de acuerdo con la Ley 1279 de 2009 y sus decretos reglamentarios.",0,15]
[null,null,"D4514101","Máquinas sumadoras eléctricas",1,{"$f":"ROW()","v":3440},8,null,null,"2.4.1.01.03.038","Prima de traslado Corresponde a los recursos destinados al pago de un auxilio de traslado equivalente a la mitad del sueldo básico (para el caso de la Registraduría Nacional del Estado Civil), por concepto de los gastos de traslado, cuando un funcionario es nombrado con carácter permanente para ocupar un cargo en otro municipio.",0,15]
[null,null,"D4513001","Máquinas sumadoras no eléctricas o de bolsillo",1,{"$f":"ROW()","v":3441},8,null,null,"2.4.1.01.03.039","Servicios prestados por vacaciones personal titular rama jurisdiccional y Fiscalía Recursos destinados al pago de los servicios prestados por quienes suplieron temporalmente las funciones del personal titular de la Rama Jurisdiccional y la Fiscalía General de la Nación.",0,15]
[null,null,"D4451801","Máquinas tostadoras de café",1,{"$f":"ROW()","v":3442},8,null,null,"2.4.1.01.03.040","Alimentación alumnos Gastos por concepto de alimentación de los alumnos, particularmente, del Departamento Administrativo de Seguridad, otorgado a estos durante la realización de los cursos de detective.",0,15]
[null,null,"D4419899","Máquinas y aparatos agrícolas n.c.p.",1,{"$f":"ROW()","v":3443},8,null,null,"2.4.1.01.03.041","Bonificación alumnos Es el reconocimiento económico correspondiente al 20% de la asignación básica mensual del cargo de dragoneante 4114 grado 11 del INPEC, como bonificación mensual para los estudiantes de la Escuela Penitenciaria Nacional Enrique Low Murtra.Asimismo, son los recursos destinados a los Alféreces, Guardiamarinas y Pilotines de las Escuelas de Formación de Oficiales y los Alumnos de las Escuelas de Formación de Suboficiales, los cuales tiene derecho a una bonificación mensual de acuerdo con las disposiciones legales vigentes.",0,15]
[null,null,"D4451501","Máquinas y aparatos especiales para asar pollos, carnes, etc.",1,{"$f":"ROW()","v":3444},8,null,null,"2.4.1.01.03.042","Subsidio familiar Es el pago de la prestación social reconocida a diferentes rangos de las Fuerzas Militares y Policías, y al cuerpo de custodia y vigilancia penitenciaria y carcelaria nacional, por concepto de subsidio familiar de acuerdo con las condiciones dispuestas legalmente.Por ejemplo, el subsidio familiar se le reconoce al personal del nivel ejecutivo de la Policía Nacional en servicio activo; en proporción del número de personas a cargo y su remuneración mensual (Decreto 1091 de 1995). Este subsidio familiar está a cargo del Instituto para la Seguridad Social y Bienestar de la Policía Nacional.En el caso de los soldados, el artículo 11 del Decreto 1794 de 2000, les reconoce como subsidio familiar un pago equivalente al 4% de su salario básico mensual más la prima de antigüedad.Por último, para el cuerpo de custodia y vigilancia penitenciaria y carcelaria nacional, constituye el derecho a un pago del siete por ciento (7%) adicional al subsidio familiar a que tienen derecho los funcionarios de acuerdo con las normas vigentes. Dicho reconocimiento no constituye factor salarial y se paga por unidad familiar (Decreto 446 de 1994, art. 15).",0,15]
[null,null,"D4444003","Máquinas y aparatos para clasificar minerales",1,{"$f":"ROW()","v":3445},8,null,null,"2.4.1.01.03.043.01","Beneficios a los empleados a corto plazo Recursos destinados al pago a que tienen derecho los empleados públicos al cumplirse cinco años de antigüedad de servicios prestados en un trabajo, según lo estipulado en la ley. de acuerdo con la entidad y régimen salarial que rija para el mismo.“El quinquenio es un beneficio laboral que se reconoce con ocasión de la prestación del servicio por un lapso determinado, sin que manera alguna cubra riesgo o necesidad alguno del empleado. Motivo por el cual, en concepto de esta Oficina, el quinquenio es Salario o Remuneración”. (Concepto 11547 de 2002 Departamento Administrativo de la Función Pública). Asi mismo puede corresponder a un beneficio no salarial reconocido al trabajador en el marco de una convención o Pacto Colectivo, siempre que cumpla con cinco (5) años de servicio continuo en la entidad.",0,18]
[null,null,"D4441299","Máquinas y equipo n.c.p. de minería",1,{"$f":"ROW()","v":3446},8,null,null,"2.4.1.01.03.043.02","Beneficios a los empleados a largo plazo Recursos destinados al pago a que tienen derecho los empleados públicos al cumplirse cinco años de antigüedad de servicios prestados en un trabajo, según lo estipulado en la ley. de acuerdo con la entidad y régimen salarial que rija para el mismo.“El quinquenio es un beneficio laboral que se reconoce con ocasión de la prestación del servicio por un lapso determinado, sin que manera alguna cubra riesgo o necesidad alguno del empleado. Motivo por el cual, en concepto de esta Oficina, el quinquenio es Salario o Remuneración”. (Concepto 11547 de 2002 Departamento Administrativo de la Función Pública). Asi mismo puede corresponder a un beneficio no salarial reconocido al trabajador en el marco de una convención o Pacto Colectivo, siempre que preste sus servicios entre 5 y 15 años a la Entidad o mayor a 15 años.",0,18]
[null,null,"D4491912","Máquinas y equipo para elaborar el vidrio",1,{"$f":"ROW()","v":3447},8,null,null,"2.4.1.01.03.044","Incentivos laborales DIAN Incluye el pago de los incentivos al desempeño en fiscalización y cobranzas y los incentivos por desempeño grupal que se reconocen a los empleados de la Unidad Especial de Impuestos y Aduanas Nacionales - DIAN, en virtud de lo dispuesto por el Decreto 1268 de 1999 y el Decreto 4050 de 2005.",0,15]
[null,null,"D4322004","Máquinas y equipo para impregnar e inmunizar madera",1,{"$f":"ROW()","v":3448},8,null,null,"2.4.1.01.03.045","Prima de seguridad Gastos por concepto de la prima liquidada para aquellos empleados del Instituto Nacional Penitenciario y Carcelario - INPEC que presten sus servicios en centros o pabellones de alta seguridad, equivalente hasta el cincuenta por ciento (50%) de la asignación o sueldo básico mensual, que no podrá exceder el monto fijado en la Ley. Esta prima no constituye factor salarial para ningún efecto legal (Decreto 1029 de 2013).",0,15]
[null,null,"D4451609","Máquinas y equipo para la elaboración de condimentos y especias",1,{"$f":"ROW()","v":3449},8,null,null,"2.4.1.01.03.046","Prima de vigilantes instructores Los miembros del Cuerpo de Custodia y Vigilancia del Instituto Nacional Penitenciario y Carcelario - INPEC, que acrediten título de idoneidad y ejerzan las funciones de instructores, tendrán derecho, previo concepto del Director General del INPEC a disfrutar de una prima del diez por ciento (10%) mensual sobre el sueldo básico, que no constituye factor salarial, mas cumplan simultáneamente las funciones de vigilancia y enseñanza (Decreto 446 de 1994).",0,15]
[null,null,"D4451611","Máquinas y equipo para sacrificar ganado",1,{"$f":"ROW()","v":3450},8,null,null,"2.4.1.01.03.047","Bonificación servicio militar Los bachilleres que prestan el servicio militar obligatorio en el Instituto Nacional Penitenciario y Carcelario - INPEC, tendrán derecho a una bonificación que será determinada por el Gobierno Nacional (Decreto 407 de 1994).",0,15]
[null,null,"D4441201","Máquinas y equipos para perforación de suelos y subsuelos",1,{"$f":"ROW()","v":3451},8,null,null,"2.4.1.01.03.048","Bonificación por trabajo y servicios internos Corresponde al gasto que realiza el Instituto Nacional Penitenciario y Carcelario –INPEC como contraprestación por los servicios realizados por los internos, en desarrollo de los programas de trabajo y actividades productivas establecidas y administradas de forma directa por la entidad, que son reconocidos como derecho de las personas procesadas que se encuentran en un centro reclusorio (Ley 65 de 1993 y Decreto 1758 de 2015).NE :De acuerdo con la Corte Constitucional en Sentencia T-1077/05: “esta aproximación al sistema de estímulos económicos (bonificaciones) por trabajo o servicios que se aplica en los Centros Penitenciarios permite sacar algunas conclusiones de interés para la resolución de los asuntos bajo examen. (i) La bonificación es concebida como un estímulo que no alcanza una cobertura general, para toda la población carcelaria, estando sometida a una reglamentación orientada a introducir criterios de racionalidad y equidad para su asignación; (ii) su ámbito de aplicación es la modalidad de trabajo por administración directa; (iii) corresponde a la Dirección General, determinar las actividades que convocan tal incentivo y asignar de manera global los cupos para cada Establecimiento Penitenciario; (iv) corresponde a los Directores de los Establecimientos, en coordinación con la Junta de evaluación de trabajo, estudio y enseñanza, reglamentar internamente la distribución de los cupos asignados, que tiene una cobertura muy limitada en relación con el número de internos que se dedica a cada una de las actividades que se incentivan; (v) para la asignación de las bonificaciones debe mediar la autorización de la Junta de evaluación de trabajo, estudio y enseñanza.”",0,15]
[null,null,"D4524001","Máquinas y equipos para teleproceso",1,{"$f":"ROW()","v":3452},8,null,null,"2.4.1.01.03.049","Seguro de muerte en actividad Los miembros del Cuerpo de Custodia y Vigilancia Penitenciaria y Carcelaria Nacional, gozan de un seguro por muerte equivalente a quince (15) mensualidades del último salario devengado.El valor de dicho seguro será equivalente a treinta (30) mensualidades del último salario devengado, en el evento de que la muerte sea como consecuencia de accidente de trabajo o enfermedad profesional y excluye la indemnización a que se refieren los artículos 16 y 23 del Decreto 1848 de 1969, a menos que el accidente o enfermedad profesional se hayan ocasionado por culpa imputable a la entidad empleadora, en cuyo caso habrá lugar a la indemnización total y ordinaria por perjuicio.Si prosperare esta indemnización se descontará de su cuantía el valor de las prestaciones e indemnizaciones en dinero pagadas en razón de los expresados infortunios de trabajo (Decreto 407 de 1994).",0,15]
[null,null,"D4516099","Máquinas y material de oficina n.c.p.",1,{"$f":"ROW()","v":3453},8,null,null,"2.4.1.01.03.050","Prima de orden público Reconocimiento económico que hace la ley a los Oficiales y Suboficiales de las Fuerzas Militares que prestan sus servicios en lugares donde se desarrollan operaciones militares para restablecer el orden público. Esta prima mensual es equivalente al veinticinco por ciento (25%) del sueldo básico y las zonas y condiciones para su pago las define el Ministerio de Defensa Nacional (Decreto 1211 de 1990, art. 98).Incluye también el reconocimiento económico que hace la ley a los empleados del Departamento Administrativo de Seguridad – DAS incorporados a la Unidad Nacional de Protección, que prestan sus servicios permanentemente en zonas del país afectadas por graves alteraciones del orden público (Decreto 1933 de 1989, art. 2 y Decreto 4067 de 2011, art.3).",0,15]
[null,null,"D4291204","Maquinillas manuales para mondar y cortar frutas y hortalizas",1,{"$f":"ROW()","v":3454},8,null,null,"2.4.1.01.03.051","Bonificación para gastos personales del Batallón Guardia Presidencial y de los Batallones de Policía Militar Reconocimiento económico que hace la ley a los Soldados del Batallón Guardia Presidencial y de los Batallones de Policía Militar que hayan terminado el curso básico de esta especialidad. Dichos funcionarios tienen derecho a una bonificación mensual adicional para gastos personales equivalente a dieciocho mil ciento dos pesos ($18.102) m/cte, respectivamente (Decreto anual de salarios).",0,15]
[null,null,"D3835004","Maracas",1,{"$f":"ROW()","v":3455},8,null,null,"2.4.1.01.03.052","Bonos escolares y navideños Reconocimiento de las entidades a sus funcionarios de planta en cumplimiento de una negociación colectiva, a pagar un subsidio escolar a cada uno de los hijos de los trabajadores oficiales y cualquier grado de escolaridad. Incluye de igual forma el reconocimiento dque haga la entidad por bonos de navidad en el mes de diciembre al funcionario o a las hijos menores de 18 años del mismo.",0,15]
[null,null,"D0131905","Maracuyá",1,{"$f":"ROW()","v":3456},8,null,null,"2.4.1.01.03.053","Bonificación edecanes Bonificación adicional que reconoce la ley a los oficiales de las Fuerzas Militares y de la Policía Nacional destacados como edecanes al servicio del Presidente y del Vicepresidente de la República. (Decretos 83 y 837 de 1995, art. 1).",0,15]
[null,null,"D0137201","Marañón",1,{"$f":"ROW()","v":3457},8,null,null,"2.4.1.01.03.054","Prima de bucería Reconocimiento económico que hace la ley a los Oficiales y Suboficiales de la Armada Nacional que hayan obtenido patente que los acredite como buzos y que realicen dicha actividad por hora o fracción mayor de cuarenta y cinco (45) minutos en actos del servicio (Decreto 1211 de 1990, art. 88).",0,15]
[null,null,"D2149502","Marañón salado",1,{"$f":"ROW()","v":3458},8,null,null,"2.4.1.01.03.055","Prima comandos Reconocimiento económico que hace la ley a los Oficiales de las Fuerzas Militares a quienes se les otorga el título de Comando Especial Terrestre en el Ejército, Comando Anfibio o de Selva en la Armada y Comando Especial Aéreo en la Fuerza Aérea, y se desempeñan dentro de ellos. Esta prima es equivalente al veinte por ciento (20%) del sueldo básico mensual correspondiente a su grado, de acuerdo con reglamentación que expida el Gobierno (Decreto 1211 de 1990, art. 90).",0,15]
[null,null,"D3891104","Marcadores de fieltro y similares",1,{"$f":"ROW()","v":3459},8,null,null,"2.4.1.01.03.056","Prima de Estado Mayor y academia superior Reconocimiento económico que hace la ley a los Oficiales de las Fuerzas Militares en servicio activo con título de Oficial de Estado Mayor. Esta prima corresponde al veinte por ciento (20%) del sueldo básico (Decreto 1211 de 1990, art. 92).",0,15]
[null,null,"D3191401","Marcos de madera para cuadros y espejos",1,{"$f":"ROW()","v":3460},{"$f":"LEN(C3460)","v":8},null,null,"2.4.1.01.03.057","Prima submarinista Reconocimiento económico que hace la ley a los Oficiales y Suboficiales de la Armada Nacional que presten sus servicios a bordo de submarinos como integrantes de su tripulación. Esta prima es equivalente al diez por ciento (10%) del sueldo básico correspondiente al grado del funcionario y a un diez por ciento (10%) adicional mientras estén navegando (Decreto 1211 de 1990, art. 101).",0,{"$f":"LEN(J3460)","v":15}]
[null,null,"D3695002","Marcos de material plástico para cuadros y espejos",1,{"$f":"ROW()","v":3461},8,null,null,"2.4.1.01.03.058","Prima de salto Reconocimiento económico que hace la ley a los Oficiales y Suboficiales de las Fuerzas Militares que hayan sido instruidos como paracaidistas y que realicen saltos en actos de su servicio. Esta prima es equivalente a un quince por ciento (15%) del sueldo básico mensual correspondiente a su grado, porcentaje que aumenta en un uno por ciento (1%) por cada veinte (20) saltos efectuados, hasta completar ciento veinte (120). De ciento veinte (120) saltos en adelante, sólo se computa un medio por ciento (0.5%) por cada veinte (20) saltos adicionales, sin que el total de la prima de salto en paracaídas pueda exceder del sueldo básico mensual correspondiente al grado (Decreto 1211 de 1990, art. 99).",0,15]
[null,null,"D4212007","Marcos en aluminio para puertas, ventanas, closets, etc.",1,{"$f":"ROW()","v":3462},8,null,null,"2.4.1.01.03.059","Prima de vuelo Reconocimiento económico que hace la ley a los Oficiales y Suboficiales de la Aviación del Ejército, los Oficiales de la Aviación Naval y Suboficiales de Mantenimiento Aeronáutico en la Armada, los Oficiales de Vuelo y Suboficiales Técnicos de la Fuerza Aérea en desempeño de sus funciones como tripulantes de aeronaves militares y otra clase de aeronaves al servicio de las Fuerzas Militares, siempre que comprueben haber volado durante un mínimo de cuatro (4) horas mensuales. Esta prima es equivalente al veinte por ciento (20%) del sueldo básico mensual correspondiente al respectivo grado, porcentaje que aumenta en un uno por ciento (1%) por cada cien (100) horas de vuelo, hasta completar tres mil (3.000) horas. De tres mil (3.000) horas en adelante sólo se computa el medio por ciento (0.5%) por cada cien (100) horas adicionales, sin que el total de la prima de vuelo pueda exceder el sueldo básico del Oficial o Suboficial. Los Oficiales Generales de vuelo de la Fuerza Aérea pueden percibir esta prima sin necesidad de cumplir con el requisito de horas mínimas de vuelo. Así mismo, según lo dispuesto por ley, las horas voladas en aeronaves de turbo-reacción se computarán doble, siempre que éstas sean de combate o de entrenamiento de combate (Decreto 1211 de 1990, art. 103).",0,15]
[null,null,"D4212002","Marcos metálicos para puertas y ventanas",1,{"$f":"ROW()","v":3463},8,null,null,"2.4.1.01.03.060","Prima especialista Reconocimiento económico que hace la ley a los Suboficiales de las Fuerzas Militares en servicio activo que adquieran una especialidad técnica mediante un curso cuya duración mínima sea de mil seiscientas (1.600) horas de clase o cuarenta y ocho (48) semanas de instrucción. Esta prima es equivalente al diez por ciento (10%) del sueldo básico mensual correspondiente a su grado, siempre y cuando se desempeñen en la respectiva especialidad. Los Suboficiales en los grados de Sargento Mayor, Suboficial Jefe Técnico y Suboficial Técnico Jefe, por el solo hecho de obtener estos grados, tienen derecho a la prima de especialista (Decreto 1211 de 1990, art. 91).",0,15]
[null,null,"D3160005","Marcos para puertas y ventanas",1,{"$f":"ROW()","v":3464},8,null,null,"2.4.1.01.03.061","Prima oficiales superiores Reconocimiento económico que hace la ley a los Oficiales de las Fuerzas Militares y de la Policía Nacional, en los grados de Teniente General y Almirante de Escuadra, de Mayor General y Vicealmirante, de Brigadier General y Contralmirante, y de Coronel y Capitán de Navío. Los oficiales con estos grados tienen derecho a primas mensuales equivalentes al cincuenta y cuatro por ciento (54%), al cincuenta y tres punto treinta y dos por ciento (53.32%), al cuarenta y siete punto ochenta por ciento (47.80%) y al treinta y seis punto ochenta y uno por ciento (36.81%), respectivamente, sobre lo que en todo tiempo devenguen los Ministros del Despacho como asignación básica y gastos de representación (Decreto anual de salarios).",0,15]
[null,null,"D3192303","Marcos, apliques y artículos para decoración en mimbre, bambú y similares",1,{"$f":"ROW()","v":3465},8,null,null,"2.4.1.01.03.062","Prima cuerpo administrativo Reconocimiento económico que hace la ley a los Oficiales del Cuerpo Administrativo de las Fuerzas Militares que prestan los servicios profesionales de su especialidad por tiempo completo. Esta prima es equivalente al cuarenta por ciento (40%) del sueldo básico correspondiente a su grado (Decreto 1211 de 1990, art. 96).",0,15]
[null,null,"D2170002","Margarina",1,{"$f":"ROW()","v":3466},8,null,null,"2.4.1.01.03.063","Bonificación aeronáutica Reconocimiento económico que hace la ley a todos los servidores públicos de la Unidad Administrativa Especial de Aeronáutica Civil. Esta bonificación es equivalente al doscientos veinticinco por ciento (225%) de la asignación básica mensual señalada para el respectivo empleo y se reconoce en dos (2) contados iguales, en los meses de enero y septiembre de cada año (Decreto 313 de 2018, art. 17).",0,15]
[null,null,"D2170004","Margarinas y cremas mezcladas para panadería",1,{"$f":"ROW()","v":3467},8,null,null,"2.4.1.01.03.064","Prima de productividad Reconocimiento económico que hace la ley a los servidores públicos de la Unidad Administrativa Especial de Aeronáutica Civil que cumplan con los indicadores de productividad previamente establecidos. Esta prima se reconoce bimestralmente durante los meses de febrero, abril, junio, agosto, octubre y diciembre y no puede ser inferior al 80% de la asignación básica del empleado (Decreto 313 de 2018, art. 16).",0,15]
[null,null,"D0193005","Marihuana",1,{"$f":"ROW()","v":3468},8,null,null,"2.4.1.01.03.065","Bonificación judicial Reconocimiento económico que hace la ley a los servidores públicos de la Dirección Ejecutiva de Administración Judicial, las Direcciones Seccionales de la Rama Judicial, los servidores de la Justicia Penal Militar y los servidores de la Fiscalía General de la Nación durante la prestación de sus servicios. Esta bonificación constituye factor para efectos de determinar el ingreso base de cotización del Sistema General de Pensiones y del Sistema General de Seguridad Social en Salud, mas no para determinar elementos salariales ni prestaciones sociales (Decreto 0384 de 2013, Decreto 022 de 2014 y Decreto 1014 de 2017).",0,15]
[null,null,"D4291220","Marmitas",1,{"$f":"ROW()","v":3469},8,null,null,"2.4.1.01.03.066","Bonificación por servicios de protección y vigilancia Reconocimiento económico que hace la ley al personal del servicio de protección y vigilancia de la Rama Judicial, al personal de las Fuerzas Militares y de la Policía Nacional que presta el servicio de protección y vigilancia al Comandante General de las Fuerzas Militares, Comandantes de Fuerza y Director General de la Policía Nacional, a los Expresidentes de la República, a los Ministros del Despacho, a los Directores de Departamento Administrativo del orden nacional, al Procurador General de la Nación, al Contralor General de la República, al Defensor del Pueblo, al Auditor General de la República, al personal que presta este servicio a los oficiales generales y de insignia en sus diferentes grados, y a los miembros de la Policía Nacional que prestan el servicio de protección y vigilancia a los Honorables Congresistas (Decreto anual de salarios).",0,15]
[null,null,"D3761005","Mármol en lámina",1,{"$f":"ROW()","v":3470},8,null,null,"2.4.1.01.03.067","Prima mensual oficiales y suboficiales Reconocimiento económico que hace la ley a los Oficiales de las Fuerzas Militares y de la Policía Nacional y en servicio activo que ostentan los grados de Teniente Coronel y Capitán de Fragata; y a los Suboficiales de las Fuerzas Militares y de la Policía Nacional en servicio activo que ostentan el grado de Sargento Primero en el Ejército Nacional o su equivalente en las demás fuerzas. Esta prima mensual, sin carácter salarial ni prestacional, es equivalente a dos punto setenta y siete por ciento (2.77%) y a uno punto noventa y dos por ciento (1.92%) respectivamente, de lo que en todo tiempo devenguen los Ministros del Despacho como asignación básica y gastos de representación (Decreto 1017 de 2013, art. 4).",0,15]
[null,null,"D3761007","Mármol trabajado en bloques",1,{"$f":"ROW()","v":3471},8,null,null,"2.4.1.01.03.068","Prima secretarial Corresponde al reconocimiento que se le otorga los empleados públicos que desempeñen el cargo de secretario, en el nivel administrativo, el cual es equivalente al 2% de la asignación básica mensual. Dicho valor no constituye factor salarial para ningún efecto legal.",0,15]
[null,null,"D1512002","Mármol y travertino en bloques (para construcción)",1,{"$f":"ROW()","v":3472},8,null,null,"2.4.1.01.03.069","Apoyo de sostenimiento aprendices SENA Corresponde a las erogaciones como contraprestación por los servicios prestados por alumnos aprendices del Servicio Nacional de Aprendizaje (SENA) a través de los contratos de aprendizaje. Uno de los elementos característicos de los contratos de aprendizaje es el reconocimiento y pago al aprendiz de un apoyo del sostenimiento mensual, el cual tiene como fin garantizar el proceso de aprendizaje",0,15]
[null,null,"D1512001","Mármol y travertino en bruto (para construcción)",1,{"$f":"ROW()","v":3473},8,null,null,"2.4.1.01.03.070","Remuneración profesores militares Corresponde la remuneración económica que se reconoce a los militares de planta permanente que prestan servicio de docencia de forma ocasional en los Institutos de Formación y Centros de Capacitación o educación de las Fuerzas Militares. Esta remuneración se reconoce al profesor militar por cada hora de clase dictada y corresponde a un porcentaje determinado y liquidado sobre el salario básico mensual. de acuerdo con la categoría a cargo del mismo",0,15]
[null,null,"D4212011","Marquesinas",1,{"$f":"ROW()","v":3474},8,null,null,"2.4.1.01.03.071","Prima por dependientes Corresponde al reconocimiento mensual que realiza la Superintendencia de Sociedades, la Superintendencia de Industria y Comercio, la Superintendencia Financiera de Colombia y el Instituto Nacional de Metrología a favor de los empleados que adscriban beneficiarios que dependan económicamente y cumpla con los requisitos establecidos por ley",0,15]
[null,null,"D2929008","Marquillas de cuero",1,{"$f":"ROW()","v":3475},8,null,null,"2.4.1.01.03.072","Prima de matrimonio Corresponde a la prima que reconoce y paga por única vez la Superintendencia de Sociedades, la Superintendencia de Industria y Comercio, la Superintendencia Financiera de Colombia, el Instituto Nacional de Metrología y el Servicio Nacional de Aprendizaje (SENA) a los funcionarios que contraigan matrimonio, de acuerdo con las disposiciones normativas que aplican para cada entidad",0,15]
[null,null,"D4299905","Marquillas metálicas",1,{"$f":"ROW()","v":3476},8,null,null,"2.4.1.01.03.073","Prima de nacimiento Corresponde a la prima que reconoce y pagar a los empleados por el nacimiento de un hijo de acuerdo con las disposiciones normativas que aplican para cada entidad.",0,15]
[null,null,"D4292120","Martillos",1,{"$f":"ROW()","v":3477},8,null,null,"2.4.1.01.03.074","Prima semestral Corresponde a una prestación económica equivalente a un mes de del sueldo que tuvieren los empleados al 30 de junio y 31 de diciembre respectivamente, pagaderos los 15 primeros días de junio y diciembre de cada año, en las entidades y regímenes especiales en las que es reconocida.",0,15]
[null,null,"D3699040","Máscaras de material plástico",1,{"$f":"ROW()","v":3478},8,null,null,"2.4.1.01.03.075","Prima de actividad Corresponde al pago de la prima de actividad que se reconoce y paga a los funcionarios que hayan laborado durante un año continuo en la entidad. Esta prima es equivalente a 15 días del sueldo básico mensual, y es reconocida cuando el interesado acredite la autorización para el disfrute de vacaciones o su compensación en dinero",0,15]
[null,null,"D2719005","Mascarillas para protección industrial con órgano filtrante no reemplazable",1,{"$f":"ROW()","v":3479},8,null,null,"2.4.1.01.03.076","Gastos de representación Corresponde al reconocimiento que hace el Ministerio de Relaciones Exteriores a los Embajadores, jefes de Misión Permanente, cónsules Generales Centrales y los Encargados de Negocios para atender las actividades diplomáticas propias de su cargo en el exterior -En esta cuenta también se pueden registrar la prestación social pagada en consideración al alto grado de responsabilidad, compromiso, liderazgo e imagen (relaciones públicas) que representa el cargo de la Vicepresidencia y los más altos del nivel ejecutivo - Directores, SATENA por mera liberalidad podrá otorgar mensualmente una suma equivalente a Gastos de Representación, la cual no constituye salario y no tendrá incidencia en la liquidación y pago de prestaciones sociales o indemnizaciones, conforme a lo dispuesto en el artículo 15 de la Ley 50 de 1990, modificatorio del artículo 128 del Código Sustantivo del Trabajo.Los gastos de representación tienen como fin, compensar los gastos y erogaciones en que incurren ciertos cargos en consideración a su jerarquía y posición organizacional dentro de la empresa, necesarios en la representación de la entidad en actividades frente a clientes, entidades gubernamentales u oficiales y público en general, en beneficio comercial empresarial o de imagen de la entidad.",0,15]
[null,null,"D3511030","Masillas para vidrios, juntas, empaques y usos similares",1,{"$f":"ROW()","v":3480},8,null,null,"2.4.1.01.03.077","Subsidio de anteojos Corresponde al beneficio que se otorga a los funcionarios, con el fin de subsidiar la adquisición de lentes y/o monturas.",0,15]
[null,null,"D3466301","Matamalezas y herbicidas",1,{"$f":"ROW()","v":3481},8,null,null,"2.4.1.01.03.078","Remuneración adicional de antiguos territorios nacionales Corresponde a una remuneración adicional otorgada a los empleados del Instituto Nacional de Medicina Legal y Ciencias Forenses que trabajen ordinariamente en los departamentos creados en el Artículo 309 de la Constitución Política. Esta remuneración es equivalente al 8% de la asignación básica mensual y se percibirá por cada mes completo de servicio y no constituye factor salarial para ningún efecto legal (",0,15]
[null,null,"D3466302","Matamalezas y herbicidas",1,{"$f":"ROW()","v":3482},8,null,null,"2.4.1.01.03.079","Prima de alimentación Corresponde a la remuneración que se reconoce, como concepto de prima alimentaria.",0,15]
[null,null,"D3722207","Materas de barro cocido",1,{"$f":"ROW()","v":3483},8,null,null,"2.4.1.01.03.080","Viáticos y menaje de funcionarios del servicio exterior Corresponde al beneficio que se otorga en dinero a los funcionarios pertenecientes a la Carrera Diplomática y Consular o de Libre Nombramiento y Remoción del Ministerio de Relaciones Exteriores,245que, en ejercicio de sus funciones, requieran desplazarse al exterior o de un país extranjero a otro o entre ciudades distintas del mismo país",0,15]
[null,null,"D3756010","Materas, fuentes y demás obras y artículos decorativos de cemento",1,{"$f":"ROW()","v":3484},8,null,null,"2.4.1.01.03.081","Prima de localización Corresponde a la prima que reconoce el Servicio Nacional de Aprendizaje (SENA) a sus Trabajadores Oficiales. Esta prima es equivalente a ocho y medio (8.5) días de salario mínimo legal vigente en las regionales que están establecidas por el SENA o llegaren a establecerse",0,15]
[null,null,"D3627011","Material de caucho para empaquetadura",1,{"$f":"ROW()","v":3485},8,null,null,"2.4.1.01.03.082","Subvención de transporte Los soldados del ejército o su equivalente en la Fuerza Pública y los auxiliares del cuerpo de custodia del INPEC, llamados al servicio, una vez licenciado o desacuartelado, tienen derecho a la subvención de la partida de transporte, en el momento del otorgamiento del permiso anual o en caso de calamidad domestica comprobada o catástrofe que haya podido afectar gravemente a su familia",0,15]
[null,null,"D3649099","Material de empaque n.c.p. de plástico espumado rígido",1,{"$f":"ROW()","v":3486},8,null,null,"2.4.1.01.03.083","Auxilio de movilización Corresponde a los recursos destinados por concepto de auxilio de movilización al que tienen derecho los funcionarios de la entidad.",0,15]
[null,null,"D3479098","Material plástico n.c.p.",1,{"$f":"ROW()","v":3487},8,null,null,"2.4.1.01.03.084","Prima mensual Corresponde a la prima a la que tienen derecho los oficiales de las Fuerzas Militares y de la Policía Nacional, a partir de su ascenso al grado de Coronel o Capitán de Navío hasta el grado de General o Almirante, mientras permanezcan en servicio activo. Esta prima es equivalente a los 16.5% del sueldo básico, sin perjuicio de la asignación básica y primas mensuales fijadas en las disposiciones legales vigentes",0,15]
[null,null,"D4817198","Materiales n.c.p. para prótesis dental",1,{"$f":"ROW()","v":3488},8,null,null,"2.4.1.01.03.085","Partida especial de gastos de viaje Corresponde a la partida otorgada a los oficiales y suboficiales de las Tripulaciones de las Unidades de Flote, destinado en comisión colectiva transitoria al exterior, para visitas operacionales, de transporte, construcción, reparación o de cortesía",0,15]
[null,null,"D3843097","Materiales para gimnasia n.c.p.",1,{"$f":"ROW()","v":3489},8,null,null,"2.4.1.01.03.086","Auxilio especial de transporte Comprende el reconocimiento y pago del auxilio especial de transporte que realiza el Servicio Nacional de Aprendizaje (SENA) a favor de todos sus trabajadores oficiales. Este auxilio es equivalente al auxilio de transporte decretado por el gobierno, sin embargo, se reconoce de manera independiente al salario devengado por el Trabajador. Cuando el trabajador oficial compruebe tener uno o más hijos estudiando y estos dependan económicamente de él, el SENA pagará mensualmente por cada trabajador oficial247un subsidio extralegal de transporte equivalente al (100%) del auxilio decretado por el Gobierno",0,15]
[null,null,"D4912943","Matrices especiales para ensamble de partes y piezas de vehículos automotores",1,{"$f":"ROW()","v":3490},8,null,null,"2.4.1.01.03.087","Bonificación por compensación Corresponde al pago que se realiza a los funcionarios públicos determinados por la Ley, para la nivelación de sus ingresos respecto de equivalentes en otros sectores de referencia, este reconocimiento solamente constituye factor salarial para efectos de determinar el Ingreso Base de Cotización (IBC) del Sistema General de Pensiones, y para la cotización al Sistema General de Seguridad Social en Salud, más no para determinar elementos salariales ni prestaciones sociales",0,15]
[null,null,"D4421706","Matrices para conformar metales",1,{"$f":"ROW()","v":3491},8,null,null,"2.4.1.01.03.088","Prima especial de servicios Reconocimiento económico del 30% del salario básico mensual que hace la ley a los magistrados del Consejo Superior de la Judicatura, de la Corte Suprema de Justicia, de la Corte Constitucional, del Consejo de Estado, el Procurador General de la Nación, el Contralor General de la República, el Fiscal General de la Nación, el Defensor del Pueblo y el Registrador Nacional del Estado Civil con el fin de igualar los ingresos percibidos por estos funcionarios, con aquellos que reciben los miembros del Congreso, sin que en ningún caso los supere.El Gobierno podrá fijar la misma prima para los ministros de despacho, los Generales y Almirantes de la Fuerza Pública. Esta bonificación constituye factor para efectos de determinar el Ingreso Base de Cotización (IBC) del Sistema General de Pensiones, y para la cotización al Sistema General de Seguridad Social en Salud, mas no para determinar elementos salariales ni prestaciones sociales",0,15]
[null,null,"D2399504","Mayonesa",1,{"$f":"ROW()","v":3492},8,null,null,"2.4.1.01.03.089","Prima especial Art. 14 Ley 4 de 1992 Comprende la prima que es reconocida a los magistrados de todo orden de los Tribunales Superiores de Distrito Judicial y Contencioso Administrativo, agentes del Ministerio Público delegados ante la Rama Judicial y para los jueces de la República, incluidos los magistrados y fiscales del Tribunal Superior Militar, Auditores de Guerra y Jueces de Instrucción Penal Militar, excepto los que opten por la escala de salarios de la Fiscalía General de la Nación, con efectos a partir del 1 de enero de 1993.Igualmente tendrán derecho a percibir esta prima los delegados departamentales del Registrador Nacional del Estado Civil, los registradores del distrito capital y los niveles directivo y asesor de la249Registraduría Nacional del Estado Civil, no podrá ser inferior al 30% ni superior al 60% del salario básico",0,15]
[null,null,"D4315301","Mecanismo de regulación para turbinas de vapor",1,{"$f":"ROW()","v":3493},8,null,null,"2.4.1.01.03.090","Prima de carabinero Prima a favor del personal de nivel ejecutivo de la Policía Nacional, que ostente la especialidad de carabinero o policía rural y preste sus servicios en las áreas reglamentadas por la Dirección General de la Policía Nacional. Esta prima es equivalente al 5% del sueldo básico, y no tiene carácter salarial para ningún efecto",0,15]
[null,null,"D4315401","Mecanismo de regulación para turbinas hidráulicas",1,{"$f":"ROW()","v":3494},8,null,null,"2.4.1.01.03.091","Bonificación especial por servicios de comisión en la DIAN Corresponde a bonificación especial no constitutiva de factor salarial, equivalente a una asignación mensual adicional equivalente al 30% del sueldo básico mensual, que se reconoce al personal uniformado de la Policía Nacional que preste sus servicios en comisión en la Unidad Administrativa Especial Dirección de Impuestos y Aduanas Nacionales – DIAN.Para tener derecho al reconocimiento y pago de la bonificación especial, el personal uniformado debe haber prestado el servicio total o parcialmente en actividades encaminadas al soporte y apoyo en actuaciones aduaneras, tributarias y cambiarias dirigidas a la lucha contra el contrabando, el lavado de activos y la evasión fiscal y previa certificación del Director de Gestión de Recursos y Administración económica de la DIAN, sobre la prestación del servicio",0,15]
[null,null,"D4923104","Mecanismos para cinturones de seguridad de vehículos automotores",1,{"$f":"ROW()","v":3495},8,null,null,"2.4.1.01.03.092","Indemnizacion compensatorio horas extra Reconocimiento en dinero de los días compensatorios que sehubieren causado hasta la fecha de publicación del Decreto emitido por el DAFP , a favor de cada empleado público, siempre que exista disponibilidad presupuestal y no se afecten los recursos para el pago de horas extras que se vayan a causar en el resto de la presente vigencia.",0,15]
[null,null,"D3853002","Mecanismos para muñecas",1,{"$f":"ROW()","v":3496},8,null,null,"2.4.1.01.03.093","Prima o auxilio de Maternidad Es el reconocimiento que se hace a las trabajadoras oficiales y a las esposas o compañeras de los trabajadores oficiales con motivo del nacimiento de un hijo. El valor se establece por convención colectiva de trabajo vigente.",0,15]
[null,null,"D4844001","Mecanismos para relojes",1,{"$f":"ROW()","v":3497},8,null,null,"2.4.1.01.03.094","Prima de Transporte y Manutención Corresponde a la prima que se reconoce a los Servidores Públicos que laboran en determinadas dependencias o en cualquier zona rural del Municipio de Medellín",0,15]
[null,null,"D3554001","Mecha filtro de acetato",1,{"$f":"ROW()","v":3498},8,null,null,"2.4.1.01.03.095","Prima de Matrimonio Corresponde al reconocimiento que se hace a los trabajadores (as) oficiales, que durante su vinculación al Municipio de Medellín, contraigan matrimonio válidamente celebrado",0,15]
[null,null,"D2799801","Mechas para lámparas y análogos",1,{"$f":"ROW()","v":3499},8,null,null,"2.4.1.01.03.096","Bonificación cargo academico administrativo Reconocimiento de bonificacion mensual a los docentes que por acto administrativo desempeñen cargos academicos y administrativos con funciones directivas.",0,15]
[null,null,"D2732007","Mechas para trapero",1,{"$f":"ROW()","v":3500},8,null,null,"2.4.1.01.03.097","Bonificacion por productividad academica Estas bonificaciones se realizan una sola vez y corresponden a actividades especificas de productividad academica y no contemplan pagos genericos indiscriminados",0,15]
[null,null,"D4299603","Medallas y condecoraciones de metales comunes",1,{"$f":"ROW()","v":3501},8,null,null,"2.4.1.01.03.098","Bonificación Educadores de Básica y Media Bonificaciones no constitutivas de salario a los docentes y directivos al servicio del estado en niveles de preescolar, basica y media. Se reconoce anualmente, durante el tiempo que el funcionario permanezca en el servicio.",0,15]
[null,null,"D3824004","Medallas y condecoraciones de metales preciosos (incluso para militares)",1,{"$f":"ROW()","v":3502},8,null,null,"2.4.1.01.03.099","Bonificacion Sindical Corresponde al pago en procesos de negociacion sindical que se destinan a los servidores publicos. No constitutivas de salario.",0,15]
[null,null,"D2821004","Medias de nailon para mujer de punto",1,{"$f":"ROW()","v":3503},8,null,null,"2.4.1.01.03.100","Trienios Recursos destinados al oago que tienen derecho los empleados publicos al cumplir tres años de antiguedad de servicios prestados en un trabajo, segun lo estipulado por la ley.",0,15]
[null,null,"D2821005","Medias pantalón de punto",1,{"$f":"ROW()","v":3504},8,null,null,"2.4.1.01.03.101","Bonificación Zona de Difícil Acceso docentes Prescolar, Básica y Media Los docentes y directivos docentes que laboren en establecimientos educativos estatales, cuyas sedes estén ubicadas en zonas rurales de difícil acceso, tendrán derecho a una bonificación equivalente al quince por ciento (15%) del salario básico mensual que devenguen. Esta bonificación no constituye factor salarial ni prestacional para ningún efecto, se pagará mensualmente, y se causará únicamente durante el tiempo laborado en el año académico.",0,15]
[null,null,"D2821006","Medias para várices, de punto",1,{"$f":"ROW()","v":3505},8,null,null,"2.4.1.01.03.102","Bonificación Grado 14 docentes Prescolar, Básica y Media Es la bonificación que reciben los Docentes o Directivos Docentes de niveles preescolar, básica y media regidos por el Decreto Ley 2277/1979 y que hagan parte del grado 14 de Escalafón Nacional Docente. Para docentes activos equivale en 2016 al 10% de la ABM y 2017 y siguientes al 15% Asignación básica mensual. Para quienes se retiren del servicio por renuncia voluntaria o por retiro forzoso (edad permitida) equivale a un mes de Asignación Básica Mensual se pagará una sola vez cuando sea efectivamente desvinculado del servicio",0,15]
[null,null,"D3526101","Medicamentos homeopáticos",1,{"$f":"ROW()","v":3506},8,null,null,"2.4.1.01.03.103","Reconocimiento Adicional por gestión directivos docentes Prescolar, Básica y Media El rector que durante el año cumpla con el indicador de gestión, tanto en el componente de permanencia como en el de calidad, y reporte oportunamente la información en el SIMAT, recibirá un reconocimiento adicional equivalente a su última asignación básica mensual que devengó al final del año lectivo, el cual no constituye factor salarial. El porcentaje de deserción intraanual del establecimiento educativo no podrá ser superior al tres por ciento (3%).",0,15]
[null,null,"D3526102","Medicamentos homeopáticos en glóbulos",1,{"$f":"ROW()","v":3507},8,null,null,"2.4.1.01.03.104","Incentivo por Jubilación Recursos destinados al pago a que tienen derecho los empleados públicos y trabajadores oficiales según acuerdo colectivo , el cual es recibido en la liquidación al momento de pensionarse. Estos derechos pueden derivarse de acuerdos de convención colectiva.",0,15]
[null,null,"D3526104","Medicamentos homeopáticos en polvo, tabletas y jalea",1,{"$f":"ROW()","v":3508},8,null,null,"2.4.1.01.03.105","Prima de Coordinación Académica y Disciplina Reconocimiento a Coordinadores Académicos y de Disciplina con dos jornadas. A los Coordinadores Académicos y de Disciplina de que trata el artículo anterior, a quienes se les asignen dos (2) jornadas, se les reconocerá el valor correspondiente a diez (10) horas cátedra semanales y un máximo de cuarenta (40) horas mensuales, e implicará una permanencia mínima de ocho (8) horas diarias en el Instituto. La liquidación se hará con base en el valor asignado a la hora cátedra establecida en el decreto del escalafón nacional docente para los docentes vinculados a la Nación.",0,15]
[null,null,"D4826303","Medidores de líquidos",1,{"$f":"ROW()","v":3509},8,null,null,"2.4.1.01.03.106","Auxilios Médicos Corresponde a la remuneración que percibe el empleado, en cumplimiento de acuerdos laborales, para cubrir gastos relacionados con la salud.",0,15]
[null,null,"D4826304","Medidores y contadores de gas",1,{"$f":"ROW()","v":3510},8,null,null,"2.4.1.01.03.107","Auxilios Educativos Corresponde a la remuneración que percibe el empleado, en cumplimiento de acuerdos laborales, para cubrir gastos educativos.",0,15]
[null,null,"D3416032","Melamina",1,{"$f":"ROW()","v":3511},8,null,null,"2.4.1.01.03.108","Auxilios por Antigüedad Corresponde al beneficio extralegal por antigüedad que se reconoce en el marco de un acuerdo laboral.",0,15]
[null,null,"D2354003","Melazas",1,{"$f":"ROW()","v":3512},8,null,null,"2.4.1.01.03.109","Auxilios para Desplazamiento Corresponde a la remuneración que percibe el empleado, en cumplimiento de acuerdos laborales, para cubrir gastos de desplazamiento.",0,15]
[null,null,"D0122901","Melón",1,{"$f":"ROW()","v":3513},8,null,null,"2.4.1.01.03.110","Prima compensatoria Corresponde al beneficio extralegal por concepto de prima compensatoria que se reconoce al empleado en el marco del acuerdo laboral.",0,15]
[null,null,"D3633022","Membranas impermeables en tela de plástico",1,{"$f":"ROW()","v":3514},8,null,null,"2.4.1.01.03.111","Bonificación por Alto Riesgo Corresponde a la bonificación por alto riesgo que se reconoce al empleado en el marco de acuerdos de negociación colectiva.",0,15]
[null,null,"D4291246","Menajes de acero inoxidable para instituciones",1,{"$f":"ROW()","v":3515},8,null,null,"2.4.1.01.03.112","Prima de antigüedad Corresponde a los pagos que realiza la Empresa URRA S.A en marco de la clausula séptima de la convención colectiva de trabajo entre la EICE y sus trabajadores no sindicalizados. Esta prima aplicará para las vigencias 2017-2022",0,15]
[null,null,"D3413908","Mentol",1,{"$f":"ROW()","v":3516},8,null,null,"2.4.1.01.03.113","Bonificación especial de gestión Corresponde a los pagos que realiza la Empresa URRA S.A en marco de la clausula séptima de la convención colectiva de trabajo entre la EICE y sus trabajadores no sindicalizados. Esta bonificación aplicará para las vigencias 2017-2022",0,15]
[null,null,"D3522012","Meprobamato",1,{"$f":"ROW()","v":3517},8,null,null,"2.4.1.01.03.114","Prima de vacaciones extralegal Corresponde por concepto de la prima de vacaciones extralegal a los empleados de la empresa URRÁ S.A, definida en la convención colectiva de trabajo entre la EICE y sus trabajadores no sindicalizados. Esta prima aplicará para las vigencias 2017-2022. Los pagos de esta prestación social son diferentes a los pagos por concepto de vacaciones.",0,15]
[null,null,"D3423104","Mercurio",1,{"$f":"ROW()","v":3518},8,null,null,"2.4.1.01.03.115","Bonificación permanente extralegal La Empresa y el trabajador, en aplicación a lo establecido en el artículo 128 del Código Sustantivo del Trabajo, podrán acordar contractualmente y por escrito, beneficios habituales otorgados en forma extralegal, que no constituye para ningún efecto salario y no tendrá incidencia en la liquidación y pago de prestaciones sociales o indemnizaciones.Estas bonificaciones extralegales constituyen un reconocimiento que hace la Alta Dirección para aquellos trabajadores de la empresa, qué por razón de sus actividades, compromisos, disponibilidad, condiciones de empleo, entre otros factores, contribuyen al cumplimiento y fortalecimiento de los objetivos de la Empresa.",0,15]
[null,null,"D3529908","Mercurio para uso de obturación dental",1,{"$f":"ROW()","v":3519},8,null,null,"2.4.1.01.03.116","Prima extralegal por disponibilidad base operacional Adicional a la remuneración básica mensual pactada en el contrato de trabajo, SATENA podrá asignar una prima extralegal por mera liberalidad para aquellos cargos que, con ocasión a sus funciones y responsabilidades, conlleven inmerso actividades de dirección, confianza y manejo y que tengan a cargo la coordinación de una base operacional – comercial de la empresa.Este Auxilio extralegal “Prima de Disponibilidad base operacional-comercial SATENA”, no constituye salario y no tendrá incidencia en la liquidación y pago de prestaciones sociales o indemnizaciones, conforme a lo dispuesto en el artículo 15 de la Ley 50 de 1990, modificatorio del artículo 128 del Código Sustantivo del Trabajo.",0,15]
[null,null,"D2349008","Merengues",1,{"$f":"ROW()","v":3520},8,null,null,"2.4.1.01.03.117","Bonificación extralegal por dirección para los directores militares La Bonificación Extralegal por Dirección se pagará al Presidente, Vicepresidente y Directores Militares de SATENA, esta Bonificación no constituye salario y no tendrá incidencia en la liquidación y pago de prestaciones sociales o indemnizaciones, conforme a lo dispuesto en el artículo 15 de la Ley 50 de 1990, modificatorio del artículo 128 del Código Sustantivo del Trabajo.",0,15]
[null,null,"D0424101","Merluza, fresca o refrigerada",1,{"$f":"ROW()","v":3521},8,null,null,"2.4.1.01.03.118","Prima de Instrucción Corresponde a la prima que reconoce SATENA al trabajador, que, en consideración a su idoneidad esté en capacidad de impartir instrucciones y/o capacitaciones a personal de Pilotos, Copilotos, Auxiliares de Vuelo y Despachadores (según el caso), y que constituyen actividades adicionales a las funciones propias de su cargo y por fuera de su jornada laboral, siempre y cuando se enmarque dentro de las labores de instrucción y/o entrenamiento. Este Auxilio extralegal, no constituye salario y no tendrá incidencia en la liquidación y pago de prestaciones sociales o indemnizaciones, conforme a lo dispuesto en el artículo 15 de la Ley 50 de 1990, modificatorio del artículo 128 del Código Sustantivo del Trabajo.",0,15]
[null,null,"D2149402","Mermelada de frutas",1,{"$f":"ROW()","v":3522},8,null,null,"2.4.1.01.03.119","Participación en utilidades Corresponde a la participación en utilidades que una empresa otorga a sus empleados, en el marco de acuerdos laborales.",0,15]
[null,null,"D0429102","Mero cabrillas y chernas, fresco o refrigerado",1,{"$f":"ROW()","v":3523},8,null,null,"2.4.1.01.04.001","Otros gastos de personal - previo concepto DGPPN Esta cuenta es de programación presupuestal y registra el monto de los gastos de personal por incremento salarial que resulta del ajuste del poder adquisitivo y demás criterios de programación impartidos para consideración, si los hubiera (Sentencia 1433 de 2000).",0,15]
[null,null,"D0429309","Mero, fresco o refrigerado",1,{"$f":"ROW()","v":3524},{"$f":"LEN(C3524)","v":8},null,null,"2.4.1.02.01.001.01","Sueldo básico El sueldo básico corresponde a la parte del salario que se mantiene fija y se paga periódicamente de acuerdo con las funciones y responsabilidades, los requisitos de conocimientos, la experiencia requerida para su ejercicio, la denóminación y el grado establecidos en la nomenclatura, y la escala del respectivo nivel (art. 13, Decreto 1042 de 1978). El sueldo básico se paga sin tener en cuenta adicionales de horas extra, primas y otros factores eventuales o fijos que aumentan sus ingresos.La Ley 4 de 1992 establece el reconocimiento de una asignación básica de acuerdo con la nomenclatura y remuneración de los niveles de empleo.",0,{"$f":"LEN(J3524)","v":18}]
[null,null,"D0429304","Mero, vivos",1,{"$f":"ROW()","v":3525},8,null,null,"2.4.1.02.01.001.02","Horas extras, dominicales, festivos y recargos Es la retribución fija que se reconoce a los empleados por concepto de trabajo suplementario y realizado en horas adicionales a la jornada ordinaria establecida por las disposiciones legales vigentes. Incluye: horas extras diurnas, horas extras nocturnas, y el trabajo ocasional en días dominicales y festivos. (Decreto 1042 de 1978).De acuerdo con la jurisprudencia del Consejo de Estado (Sentencia 01841 de 2011) en materia de horas extras, a las entidades territoriales les aplica las disposiciones establecidas en el Decreto 1042 de 1978.",0,18]
[null,null,"D3814057","Mesas de fibra de vidrio",1,{"$f":"ROW()","v":3526},8,null,null,"2.4.1.02.01.001.03","Gastos de representación Es la asignación complementaria del sueldo, que se reconoce excepcional y restrictivamente a empleados de alto nivel jerárquico por el cumplimiento de sus funciones (Decreto 1042 de 1978, Ley 4 de 1992 y Decreto 1396 de 2010). Los gastos de representación tienen por finalidad que los empleados de nivel directivo desempeñen sus funciones de acuerdo con la importancia de la representación que ostentan. Esta asignación se caracteriza por ser un beneficio personal en gracia de la posición, jerarquía, dignidad y responsabilidades señaladas al cargo.De acuerdo la DAFP (2009), para el orden territorial, el reconocimiento de gastos de representación es exclusivo para los alcaldes y gobernadores.",0,18]
[null,null,"D3814022","Mesas de madera para comedor",1,{"$f":"ROW()","v":3527},8,null,null,"2.4.1.02.01.001.04","Subsidio de alimentación Es la retribución fija que se reconoce a los empleados como auxilio para la provisión de su alimento. Este factor es un pago habitual y periódico de una suma de dinero para apoyar la manutención y provisión de alimentos del empleado.Para las entidades del PGSP, no se tendrá derecho a este subsidio cuando el funcionario disfrute de vacaciones, se encuentre en uso de licencia, suspendido o cuando la entidad suministre el servicio (art. 12, Decreto 229 de 2016).El subsidio de alimentación fue creado mediante el Decreto 627 de 2007, y está regulado por el la Ley 4 de 1992 y el Decreto 1397 de 2010.",0,18]
[null,null,"D3814037","Mesas de madera para dibujo",1,{"$f":"ROW()","v":3528},8,null,null,"2.4.1.02.01.001.05","Auxilio de transporte Es el pago que se hace al personal con el que la entidad tiene una relación laboral, tales como empleados públicos, trabajadores oficiales y aquel de las sociedades de economía mixta y particulares cuyo gasto de personal se haga con cargo a los recursos públicos a su cargo que devenguen un sueldo mensual básico hasta de dos veces el salario mínimo legal vigente (Decreto 2732 del 2014). Este auxilio tiene como fin cubrir el traslado del trabajador desde el sector de su residencia hasta el sitio de su trabajo y viceversa.No se tiene derecho a este auxilio cuando el funcionario disfrute de vacaciones, se encuentre en uso de licencia, suspendido en el ejercicio de sus funciones o cuando la entidad suministre el servicio (art. 13, Decreto 229 de 2016).La Ley 15 de 1959, el Decreto 1374 de 2010 y el Decreto 5054 de 2009 regulan el auxilio de transporte para servidores públicos en los términos y cuantía establecida por el gobierno.",0,18]
[null,null,"D3812202","Mesas de madera para oficina",1,{"$f":"ROW()","v":3529},8,null,null,"2.4.1.02.01.001.06","Prima de servicio Es la retribución fija que se paga el mes de julio de cada año correspondiente a 15 días de trabajo por cada año laborado, o proporcionalmente si el empleado laboró como mínimo por seis meses en la entidad. (art. 58, Decreto 1042 de 1978).El Decreto 1042 de 1978 establece la rpima de servicios para los funcionarios del nivel nacional y el Decreto 2351 de 2014 establece la prima de servicios para los empleados públicos departamentales, distritales y municipales.",0,18]
[null,null,"D3814034","Mesas de madera para restaurantes y servicios análogos",1,{"$f":"ROW()","v":3530},8,null,null,"2.4.1.02.01.001.07","Bonificación por servicios prestados Es la retribución pagadera cada vez que el empleado cumple un año continuo de servicio en una misma entidad. La cual es equivalente al cincuenta por ciento (50%) del valor conjunto de la asignación básica determinada por la ley para el respectivo cargo, sumada a los incrementos por antigüedad y los gastos de representación. Se paga en un plazo de veinte días después del cumplimiento de los requisitos para recibir la bonificación (art. 45,47 y 48, Decreto 1042 de 1978).El Decreto 2418 de 2015 regula la bonificación por servicios prestados para los empleados públicos del nivel territorial.",0,18]
[null,null,"D3814020","Mesas de madera para sala",1,{"$f":"ROW()","v":3531},8,null,null,"2.4.1.02.01.001.08.01","Prima de navidad Es la retribución correspondiente a un mes de salario que se reconoce a los empleados públicos y trabajadores oficiales por ocasión de la navidad. Esta prima es pagadera la primera quincena del mes de diciembre, por la cuantía del mes, o proporcionalmente al tiempo laborado.El reconocimiento de la prima de navidad como prestación social, se establece en el Decreto 1045 de 1978 (art. 32). El Decreto 1919 de 2002 establece que los empleados públicos de las entidades territoriales tienen derecho a las prestaciones sociales definidas para los empleados de la rama ejecutiva del nivel nacional. ",0,21]
[null,null,"D3814055","Mesas de material plástico",1,{"$f":"ROW()","v":3532},8,null,null,"2.4.1.02.01.001.08.02","Prima de vacaciones Corresponde al reconocimiento que otorga la ley al personal con el que la entidad tenga relación laboral, con el fin de brindarles mayores recursos económicos para gozar del periodo de vacaciones. Esta prima es equivalente a quince (15) días de salario por cada año trabajado y debe pagarse dentro de los cinco (5) días hábiles anteriores a la fecha señalada para la iniciación del descanso remunerado, salvo lo que se disponga en normas o estipulaciones especiales. La prima de vacaciones no se perderá en los casos en que se autorizare el pago de vacaciones en dinero (Decreto 1045 de 1978, arts. 24 a 29).El reconocimiento de la prima de navidad como prestación social, se establece en el Decreto 1045 de 1978 (art. 24), el cual parte de los Decretos 174 y 230 de 1975. El Decreto 1919 de 2002 establece que los empleados públicos de las entidades territoriales tienen derecho a las prestaciones sociales definidas para los empleados de la rama ejecutiva del nivel nacional.",0,21]
[null,null,"D3814009","Mesas de noche de madera",1,{"$f":"ROW()","v":3533},8,null,null,"2.4.1.02.01.001.09","Prima técnica salarial Es un reconocimiento económico a servidores públicos que desempeñen cargos altamente calificados cuyas funciones demanden la aplicación de conocimientos técnicos o científicos, o la realización de labores de dirección o de especial responsabilidad. Asimismo, la prima técnica reconoce el desempeño de los servidores en su cargo.Se considera como factor salarial, la prima técnica por formación avanzada y experiencia altamente calificada, también conocida como prima técnica por estudio y experiencia, la cual se otorga a los empleados que acrediten estudios de formación avanzada o cinco años de experiencia calificada, en los cargos de nivel directivo, ejecutivo, profesional, jefes de oficina asesora y nivel asesor.La prima técnica está regulada por los Decretos: 1016/1991, 1624/1991, 1661/1991, 2164/1991, 1336/2003, 2177/2006 y 1164/2012.",0,18]
[null,null,"D3814017","Mesas de noche en mimbre, bambú o similares",1,{"$f":"ROW()","v":3534},8,null,null,"2.4.1.02.01.001.10","Viáticos de los funcionarios en comisión Son los pagos que reciben los funcionarios y trabajadores en comisión, para alojamiento y manutención, cuando: a) deban desempeñar sus funciones en un lugar diferente a su sede habitual de trabajo, ya sea dentro o fuera del país, o b) deba atender transitoriamente actividades oficiales distintas a las inherentes al empleo de que es titular (Departamento Administrativo de la Función Pública, 2007).Los viáticos de los funcionarios en comisión constituyen factor salarial para efectos de la liquidación de cesantías y pensiones cuando se hayan percibido por un término superior a ciento ochenta (180) días en el último año de servicio (art. 45, Decreto 1045 de 1978).",0,18]
[null,null,"D3814002","Mesas de noche metálicas",1,{"$f":"ROW()","v":3535},8,null,null,"2.4.1.02.01.001.11","Auxilio de conectividad digital Corresponde al pago de auxilio de conectividad digital que de manera temporal y transitoria se reconocerá y pagará a los servidores públicos que devenguen hasta dos (2) salarios mínimos legalesmensuales vigentes y que desarrollen su labor en su domicilio. Este auxilio se reconocerá mientras esté vigente la emergencia sanitaria declarada por el Ministerio de Salud y de Protección Social con ocasión de la pandemia derivada del Coronavirus (COVID-19) y corresponderá al valor establecido para el auxilio de transporte.El auxilio de conectividad y el auxilio de transporte no son acumulables y no será aplicable a los trabajadores que se desempeñan en la modalidad de teletrabajo, a quienes les seguirán siendoaplicables las disposiciones de la Ley 1221 de 2008 (Art. 1, Decreto Legislativo 771 de 2020).",0,18]
[null,null,"D3814062","Mesas de planchar",1,{"$f":"ROW()","v":3536},8,null,null,"2.4.1.02.01.002.01.01","Escalafón diplomático Corresponde a los sueldos de los funcionarios públicos de Carrera Diplomática y Consular. El valor de la asignación básica de dichos funcionarios dependerá de la categoría de Carrera Diplomática y Consular en la cual estén escalafonados conforme a las disposiciones del Decreto 274 de 2000.",0,21]
[null,null,"D3814063","Mesas de vidrio para comedor",1,{"$f":"ROW()","v":3537},8,null,null,"2.4.1.02.01.002.01.02.01","Comisión de servicios Corresponde a los sueldos de funcionarios públicos que están en comisión de servicios. De acuerdo con el art. 2 del Decreto 2004 de 1997, una comisión de servicios se puede conferir únicamente en los siguientes casos:- Para tramitar o negociar asuntos que a juicio del Gobierno Nacional revistan especial interés para el país.- Para suscribir convenios o acuerdos con otros gobiernos u organismos internacionales.",0,24]
[null,null,"D3814064","Mesas de vidrio para sala",1,{"$f":"ROW()","v":3538},8,null,null,"2.4.1.02.01.002.01.02.02","Comisión de estudios Corresponde a los sueldos de funcionarios públicos que están en comisión de estudios. Para conferir una comisión de estudios, el objeto de la misma debe guardar relación con los fines de la entidad o con las funciones inherentes al cargo que desempeña el servidor público y ser superior a un mes (art. 2, Decreto 1050 de 1997).Se podrá conferir comisión de estudios en el exterior al servidor público que tenga por lo menos un (1) año continuo de servicio en la respectiva entidad. A su vez, el comisionado se comprometerá mediante convenio a prestar sus servicios a la entidad que otorga la comisión o a cualquier otra entidad del Estado, por el doble del tiempo de duración de la comisión (Decreto 3555 de 2007).",0,24]
[null,null,"D3814024","Mesas en mimbre, bambú o similares para comedor",1,{"$f":"ROW()","v":3539},8,null,null,"2.4.1.02.01.002.02","Prima de actividad Reconocimiento que hace la ley a los empleados públicos del Ministerio de Defensa y de la Policía Nacional, mientras permanezcan en el desempeño de sus funciones. Esta prima es equivalente al cuarenta y nueve punto cinco por ciento (49.5%) del sueldo básico mensual del funcionario (art. 38, Decreto 1214 de 1990, modificado por el art. 30 del Decreto 984 de 2017).",0,18]
[null,null,"D3814021","Mesas en mimbre, bambú o similares para sala",1,{"$f":"ROW()","v":3540},8,null,null,"2.4.1.02.01.002.03","Prima especial de servicios Reconocimiento que hace la ley a los magistrados del Consejo Superior de la Judicatura, de la Corte Suprema de Justicia, de la Corte Constitucional, del Consejo de Estado, el Procurador General de la Nación, el Contralor General de la República, el Fiscal General de la Nación, el Defensor del Pueblo y el Registrador Nacional del Estado Civil con el fin de igualar los ingresos percibidos por estos funcionarios, con aquellos que reciben los miembros del Congreso, sin que en ningún caso los supere. El Gobierno podrá fijar la misma prima para los ministros de despacho, los Generales y Almirantes de la Fuerza Pública (art. 15, Ley 4 de 1992).Esta prima reemplaza en su totalidad y deja sin efecto cualquier otra prima a que tengan derecho dichos funcionarios, con excepción de la prima de navidad (art. 5, Decreto 10 de 1993).",0,18]
[null,null,"D4818008","Mesas especiales para cirugía, obstetricia y usos análogos",1,{"$f":"ROW()","v":3541},8,null,null,"2.4.1.02.01.002.04","Prima semestral Es el pago que se realiza en el mes de junio y diciembre, denóminado prima semestral, a los funcionarios que cumplan con los requisitos establecidos por la ley, y pagadera en conformidad con las disposiciones legales. Por ejemplo:a. La Superintendencia de Sociedades realiza el pago de la prima semestral a los beneficiarios del régimen especial de prestaciones económicas de los empleados afiliados a Corpoanónimas (entidad liquidada), en virtud de lo establecido por el art. 12 del Decreto 1695 de 1997. b) El artículo 2 de la Ley 55 de 1987, establece el reconocimiento de una prima semestral para los empleados del Congreso nacional, pagadera en junio y diciembre de cada año.c) El Acuerdo Distrital 25 de 1990 establece el pago de una prima semestral a los empleados y trabajadores de la Administración Central del Distrito, que hayan laborado durante el primer semestre del año y proporcionalmente a quienes laboren por lo menos tres (3) meses completos de ese semestre, y que equivale a treinta y siete (37) días de salario.",0,18]
[null,null,"D3814027","Mesas metálicas para cocina",1,{"$f":"ROW()","v":3542},8,null,null,"2.4.1.02.01.002.05","Prima ascensional Reconocimiento que hace la ley a favor de los Magistrados y Fiscales de Tribunal, que reúnan los requisitos constitucionales para el ejercicio de la magistratura de la Corte Suprema de Justicia, y a favor de los Fiscales de Juzgado Superior, Jueces Superiores, de Menores y de Circuito que reúnan los requisitos constitucionales para ser Magistrados de Tribunal Superior (art. 3, Decreto 903 de 1969).El Consejo Superior de la Administración de Justicia, para determinar la cuantía individual de la prima (que no podrá ser mayor al cinco por ciento (5%) de la asignación mensual), tendrá en cuenta la antigüedad y la calidad de los requisitos constitucionales exigidos para el desempeño del cargo superior, a la época en que el peticionario haya tomado posesión del mismo (Decreto 760 de 1970).",0,18]
[null,null,"D3814019","Mesas metálicas para comedor",1,{"$f":"ROW()","v":3543},8,null,null,"2.4.1.02.01.002.06","Primas extraordinarias Corresponde al pago por concepto de primas legalmente otorgadas, que constituyen factor salarial y que serán pagaderas únicamente en los términos, condiciones y las veces que se establezca en su ley de creación.",0,18]
[null,null,"D3814039","Mesas metálicas para escuelas",1,{"$f":"ROW()","v":3544},8,null,null,"2.4.1.02.01.002.07","Prima mensual Es el pago mensual equivalente al incentivo económico por los servicios prestados. Pago no menor al treinta por ciento (30%), ni mayor al sesenta por ciento (60%) del salario básico mensual.",0,18]
[null,null,"D3814048","Mesas metálicas para laboratorio",1,{"$f":"ROW()","v":3545},8,null,null,"2.4.1.02.01.002.08","Auxilio especial de transporte Es el pago por concepto de auxilio especial de transporte a los beneficiarios establecidos por la ley, de acuerdo con las disposiciones legales correspondientes.Por ejemplo, el artículo 3 del Decreto 192 de 2014 dispone que tienen derecho a este subsidio, los servidores públicos del Instituto Nacional de Medicina Legal y Ciencias Forenses que se desempeñen en funciones de mensajería.",0,18]
[null,null,"D3812102","Mesas metálicas para oficina",1,{"$f":"ROW()","v":3546},8,null,null,"2.4.1.02.01.002.09","Bonificación por comisión especial de servicio Reconocimiento que hace la ley a los empleados del Departamento Administrativo de Seguridad - DAS que deban cumplir comisiones especiales de servicio fuera del país. Dichos empleados tendrán derecho a percibir una bonificación mensual en dólares o proporcional al tiempo de la comisión, hasta por el quince por ciento (15%) de su asignación básica mensual a razón de un dólar por cada cinco pesos ($5) (art. 6, Decreto 1933 de 1989).",0,18]
[null,null,"D3814044","Mesas metálicas para restaurantes",1,{"$f":"ROW()","v":3547},8,null,null,"2.4.1.02.01.002.10.01","Beneficios a los empleados a corto plazo",0,21]
[null,null,"D3814018","Mesas metálicas para sala",1,{"$f":"ROW()","v":3548},8,null,null,"2.4.1.02.01.002.10.02","Beneficios a los empleados a largo plazo",0,21]
[null,null,"D3859002","Mesas para billar",1,{"$f":"ROW()","v":3549},8,null,null,"2.4.1.02.01.002.11","Bonificación por compensación La bonificación por compensación es el pago que se realiza a los funcionarios públicos determinados por la ley, para la nivelación de su salario.Por ejemplo, la bonificación por compensación creada por el Decreto 610 de 1998, es el pago mensual, equivalente al ochenta por ciento (80%) de la asignación básica más los demás ingresos laborales. Los beneficiarios de esta bonificación son: los magistrados de las altas Cortes, secretarios generales de las mismas, Fiscales delegados ante Tribunales del distrito, y otros funcionarios de la rama judicial. De acuerdo con el Decreto 1102 de 2012, que venían percibiendo la bonificación de gestión judicial para la fecha del Decreto mencionado, reciben el presente beneficio. Incluye: •La prima individual de compensación creada por el Decreto 4669 de 2006. Según lo establecido por el artículo 11 del Decreto 4669 de 2006, los servidores públicos del Instituto Nacional de Medicina Legal y Ciencias Forenses:[…]que fueren incorporados con una asignación básica mensual inferior a la que venían percibiendo, una prima individual de compensación, de carácter personal, que nivele sus ingresos con los que venían percibiendo por concepto de asignación básica mensual, de conformidad con lo establecido en el artículo 2o del Decreto 384 de 2006, la que devengarán mientras permanezcan en el mismo empleo. (Decreto 4669, 2006) Esta prima constituye factor salarial para liquidar prestaciones sociales, y firma parte de la asignación básica para efectos pensionales (Decreto 4669, 2006). Otro ejemplo es la bonificación por compensación creada por el Decreto Ley 4064 de 2011, donde los funcionarios del DAS incorporados a la Unidad Administrativa Especial Migración Colombia, en un empleo al cual corresponde una asignación básica inferior al valor de la asignación básica y la prima de riesgo que vienen percibiendo, la diferencia se reconocerá con una bonificación mensual individual por compensación que se entiende integrada a la asignación básica y por lo tanto constituye factor salarial para todos los efectos legales.",0,18]
[null,null,"D3844004","Mesas para tenis de mesa",1,{"$f":"ROW()","v":3550},8,null,null,"2.4.1.02.01.002.12.01","Beneficios a los empleados a corto plazo Corresponde al pago por los incrementos de salario por antigüedad que aplica a todos los servidores públicos que fueron vinculados con anterioridad a la expedición del decreto Ley 1042 de 1978, art 49. Son los pagos que se aplica a los empleados que permanezcan en el mismo cargo al iniciar el tercer año.",0,21]
[null,null,"D3859099","Mesas y equipos de juegos n.c.p.",1,{"$f":"ROW()","v":3551},8,null,null,"2.4.1.02.01.002.12.02","Beneficios a los empleados a largo plazo Corresponde al pago por los incrementos de salario por antigüedad que aplica a todos los servidores públicos que fueron vinculados con anterioridad a la expedición del decreto Ley 1042 de 1978, art 49. Son los pagos que se aplica a los empleados que permanezcan en el mismo cargo del quinto año en adelante.",0,21]
[null,null,"D3814061","Mesitas auxiliares metálicas",1,{"$f":"ROW()","v":3552},8,null,null,"2.4.1.02.01.002.13","Prima especial Reconocimiento que hace la ley a los funcionarios de la planta externa del Ministerio de Comercio, Industria y Turismo (art. 4, Decreto 4971 de 2009) y a los funcionarios que presten sus servicios en las misiones colombianas permanentes acreditadas en el exterior (art. 4, Decreto 3357 de 2009).Esta prima se paga en forma mensual y constituye factor salarial para todos los efectos, incluyendo los aportes al Sistema Integral de Seguridad Social.",0,18]
[null,null,"D3729902","Mesones de cocina en porcelana",1,{"$f":"ROW()","v":3553},8,null,null,"2.4.1.02.01.002.14","Bonificación cuerpo custodia y vigilancia Es una bonificación que se reconoce a los oficiales logísticos y de tratamiento penitenciario pertenecientes al Cuerpo de Custodia y Vigilancia Penitenciaria y Carcelaria Nacional del Instituto Nacional Penitenciario y Carcelario -INPEC-, de manera mensual a partir del primero (1) de enero de 2015, calculado sobre la asignación básica mensual correspondiente al empleo (art. 2, Decreto 1268 de 2015).De acuerdo al art. 4 del Decreto 1268 de 2015, la bonificación constituye factor salarial para todos los efectos legales y los aportes obligatorios sobre los pagos que se efectúen por ese concepto, se realizarán de conformidad con las disposiciones legales vigentes.",0,18]
[null,null,"D4144303","Metal babbit con proporción de estaño superior al 50%",1,{"$f":"ROW()","v":3554},8,null,null,"2.4.1.02.01.002.15","Bonificación personal administrativo Es una bonificación que se reconoce al personal administrativo del Instituto Nacional Penitenciario y Carcelario INPEC, una bonificación que se reconocerá mensualmente a partir del primero (1) de enero de 2015, calculado sobre la asignación básica mensual correspondiente al empleo que desempeñe.De acuerdo al art. 4 del Decreto 1268 de 2015 la bonificación constituye factor salarial para todos los efectos legales y los aportes obligatorios sobre los pagos que se efectúen por ese concepto, se realizarán de conformidad con las disposiciones legales vigentes.",0,18]
[null,null,"D4144103","Metal babbit con proporción de plomo superior al 50%",1,{"$f":"ROW()","v":3555},8,null,null,"2.4.1.02.01.002.16","Sobresueldo Reconocimiento económico que hace la ley a los controladores de tránsito aéreo y supervisores de tránsito aéreo debidamente acreditados por el Centro de Estudios Aeronáuticos y pertenecientes al área de control de Tránsito Aéreo de la Unidad Administrativa Especial de Aeronáutica Civil en razón del volumen de operación de control de tráfico aéreo. El porcentaje del sobresueldo se fija de acuerdo con la categoría del aeropuerto donde el funcionario preste el servicio (Decreto 313 de 2018, art. 8).",0,18]
[null,null,"D4294308","Metal desplegado-malla para cemento",1,{"$f":"ROW()","v":3556},8,null,null,"2.4.1.02.01.002.17","Prima de desgaste y alto riesgo visual Reconocimiento económico que hace el Distrito de Bogotá a los bacteriólogos que presten sus servicios a las diferentes entidades y dependencias del distrito.",0,18]
[null,null,"D4491404","Metal para linotipo",1,{"$f":"ROW()","v":3557},8,null,null,"2.4.1.02.01.002.18","Prima de productividad Reconocimiento económico que hace la ley a los empleados de la Rama Judicial, de la Fiscalía General de la Nación y del Instituto Nacional de Medicina Legal y Ciencias Forenses para mejorar la productividad. Esta prima es equivalente al cincuenta por ciento (50%) de la remuneración mensual, pagadera en el mes de diciembre de cada año (Decreto 2460 de 2006; modificado por el Decreto 3899 de 2008).",0,18]
[null,null,"D3529905","Metales para prótesis dental",1,{"$f":"ROW()","v":3558},8,null,null,"2.4.1.02.01.002.19","Reserva especial del ahorro Corresponde al reconocimiento mensual que realiza la Superintendencia de Sociedades, la Superintendencia de Industria y Comercio, la Superintendencia Financiera de Colombia y el Instituto Nacional de Metrología a favor de sus empleados, con el fin de incentivar el ahorro de estos. Este reconocimiento es equivalente al 65% del sueldo básico, prima de antigüedad, prima técnica, gastos de representación y el incremento de salario por antigüedad",0,18]
[null,null,"D8890901","Metalización de artículos de plástico y de vidrio",1,{"$f":"ROW()","v":3559},8,null,null,"2.4.1.02.01.002.20","Prima de localización (Artículo 8 Decreto 415 de 1979) Corresponde la prima que reconoce el Servicio Nacional de Aprendizaje (SENA) a los empleados públicos que presten sus servicios en el Centro Náutico Pesquero de Buenaventura, en la ciudad de Barrancabermeja, en el Departamento del Chocó y en la región de Urabá, donde existen sedes permanentes del SENA, en los Departamentos del César y la Guajira o en Centros Fijos de los Territorios Nacionales. Esta prima se fijó en1.500.00 mensuales, incrementándose anualmente en un 20%, constituye parte integral de la asignación básica mensual de los empleos del SENA y en ningún caso se podrá recibir viáticos y prima de localización simultáneamente",0,18]
[null,null,"D3427010","Metasilicato de sodio",1,{"$f":"ROW()","v":3560},8,null,null,"2.4.1.02.01.002.21","Quinquenios Recursos destinados al pago a que tienen derecho los empleados públicos al cumplirse cinco años de antigüedad de servicios prestados en un trabajo, según lo estipulado en la ley. de acuerdo con la entidad y régimen salarial que rija para el mismo.“El quinquenio es un beneficio laboral que se reconoce con ocasión de la prestación del servicio por un lapso determinado, sin que manera alguna cubra riesgo o necesidad alguno del empleado. Motivo por el cual, en concepto de esta Oficina, el quinquenio es Salario o Remuneración”. (Concepto 11547 de 2002 Departamento Administrativo de la Función Pública).",0,18]
[null,null,"D3525032","Metenolona",1,{"$f":"ROW()","v":3561},8,null,null,"2.4.1.02.01.002.22","Beneficios a los empleados a largo plazo",0,18]
[null,null,"D3417011","Metil ciclohexanona",1,{"$f":"ROW()","v":3562},8,null,null,"2.4.1.02.01.002.23","Remuneración adicional Corresponde a remuneración a la que tienen derecho los empleados al servicio de la Contraloría General de la República que laboren ordinariamente en los departamentos creados por el Artículo 309207de la Constitución Política y en el Departamento del Caquetá. Esta remuneración es equivalente al 8% de la asignación básica mensual que les corresponde",0,18]
[null,null,"D3416004","Metil-arseniato de sodio",1,{"$f":"ROW()","v":3563},8,null,null,"2.4.1.02.01.002.24","Prima de capacitación no acogidos Reconocimiento que hace la ley a Magistrados del Tribunal, Jueces Superiores, de menores o circuitos en razón de estudios de post-grado, obra de investigación científica publicada o ejercicio de la docencia universitaria, todo en materias relacionadas con su cargo y especialidad (Art. 3, Decreto 903 de 1969 y Decreto 717 de 1978).El Consejo Superior de la administración de justicia para la determinación individual del monto de la prima de capacitación, que puede ascender hasta el 10% de la respectiva asignación mensual, analizará en singular cada factor invocado y demostrado, teniendo en cuenta la naturaleza, pertinencia, duración e intensidad, abundancia y pertinencia de la obra científica; y la antigüedad, perseverancia, rendimiento y pertinencia del ejercicio del magisterio (Art. 4 del Decreto 760 de 1970).",0,18]
[null,null,"D3416007","Metilarsianato disódico-arrenal",1,{"$f":"ROW()","v":3564},8,null,null,"2.4.1.02.01.002.25","Prima del nivel ejecutivo Corresponde a la prima a la que tiene derecho el personal del nivel ejecutivo de la Policía Nacional en servicio activo. Es equivalente al 20% de la asignación básica mensual, no tiene carácter salarial para ningún efecto, con excepción de la prima de navidad",0,18]
[null,null,"D3479006","Metilcelulosa",1,{"$f":"ROW()","v":3565},8,null,null,"2.4.1.02.01.002.26","Prima de retorno a la experiencia Es el reconocimiento económico que hace la ley al personal del nivel ejecutivo de la Policía Nacional por cada año de servicio que permanezca en el mismo grado de acuerdo con el porcentaje del sueldo básico",0,18]
[null,null,"D3417010","Metil-etil cetona",1,{"$f":"ROW()","v":3566},8,null,null,"2.4.1.02.01.002.27","Prima de vuelo",0,18]
[null,null,"D3413905","Metil-isobutil carbinol o metilisopentanol",1,{"$f":"ROW()","v":3567},8,null,null,"2.4.1.02.01.002.28","Prima de carestía Reconocimiento que se hace en el mes de abril de cada año a los trabajadores oficiales vinculados a 31 de diciembre del año inmediatamente anterior de una prima de carestía, de conformidad con lo previsto en la convención colectiva de trabajo vigente.. NE : Concepto exclusivo Universidad Nacional de Colombia",0,18]
[null,null,"D3414061","Metil-propil-butil parabenos",1,{"$f":"ROW()","v":3568},8,null,null,"2.4.1.02.01.002.29","Bonificación cargo académico administrativo Reconocimiento de bonificación mensual a los docentes que por acto administrativo desempeñan cargos académico administrativos en funciones directivas.",0,18]
[null,null,"D3416001","Metionina",1,{"$f":"ROW()","v":3569},8,null,null,"2.4.1.02.01.002.30","Bonificación bienestar universitario Corresponde al pago a los servidores públicos según Acuerdo CSU 005 de 1998, aplica para docentes de carrera universitaria.NE: Aplica para la Universidad Nacional de Colombia.",0,18]
[null,null,"D4823301","Metros",1,{"$f":"ROW()","v":3570},8,null,null,"2.4.1.02.01.002.31","Cuatrienios Recursos destinados al pago a que tienen derecho los empleados públicos al cumplirse Cuatro años de antigüedad de servicios prestados en un trabajo, según lo estipulado en la ley.",0,18]
[null,null,"D2399105","Mezcla de cereales (ej.: Bienestarina)",1,{"$f":"ROW()","v":3571},8,null,null,"2.4.1.02.01.002.32","Prima de Riesgo Prima creada por convención colectiva para los trabajadores que manipulan explosivos en la Industria Militar. La cual corresponderá a dos salarios básico por cada año de servicio",0,18]
[null,null,"D3549914","Mezcla especial de gases para soldadura (Agamix)",1,{"$f":"ROW()","v":3572},8,null,null,"2.4.1.02.01.002.33","Remuneración Sorteo Semanal Corresponde a la remuneración que realiza la lotería de Cundinamarca a los trabajadores que participen en las labores de la realización semanal de sorteos.",0,18]
[null,null,"D4444004","Mezcladoras de concreto",1,{"$f":"ROW()","v":3573},8,null,null,"2.4.1.02.01.002.34","Vacaciones Corresponde al reconocimiento que por mera liberalidad realiza el empleador al trabajador por concepto de vacaciones cuando estas se consideran como un factor salarial, en aplicación de lo establecido en el código sustantivo de trabajo.",0,18]
[null,null,"D4444005","Mezcladoras de concreto estacionarias",1,{"$f":"ROW()","v":3574},8,null,null,"2.4.1.02.02.001","Aportes a la seguridad social en pensiones Son los pagos por concepto de contribución social que hacen los empleadores a los fondos de seguridad social en pensiones. Este pago se realiza en virtud de la Ley 100 de 1993, por medio de la cual se creó el Sistema de Seguridad Social de Pensiones, y se estableció la obligatoriedad de la afiliación de todos los empleados al sistema.Este aporte tiene como finalidad garantizar a la población el amparo contra las contingencias derivadas de la vejez, la invalidez y la muerte, mediante el reconocimiento de las pensiones y prestaciones correspondientes (Ley 100 de 1993, art. 10).",0,15]
[null,null,"D2399934","Mezclas a base de leche en polvo para helados",1,{"$f":"ROW()","v":3575},8,null,null,"2.4.1.02.02.002","Aportes a la seguridad social en salud Son los pagos por concepto de contribución social que hacen los empleadores a las Entidades Promotoras en Salud (EPS) para el cubrimiento de riesgos de salud de sus empleados. Este pago se realiza en virtud de la Ley 100 de 1993, la cual creó el Sistema de Seguridad Social en Salud y estableció como deberes del empleador realizar cumplidamente los aportes correspondientes.",0,15]
[null,null,"D2399924","Mezclas a base de sólidos de jarabes y aceites vegetales (base no láctea)",1,{"$f":"ROW()","v":3576},8,null,null,"2.4.1.02.02.003","Aportes de cesantías Es la contribución de cesantías, que el empleador está obligado a pagar en razón de un mes de sueldo o jornal por cada año de servicio de su empleado, proporcionalmente fraccionado. Este aporte tiene como fin cubrir o prever las necesidades que se originan al trabajador al momento de quedar cesante. (Departamento Administrativo de la Función Pública, 2012).Los aportes a los fondos administradores de cesantías entraron en vigor para entidades territoriales con la Ley 344 de 1996. Así mismo, la Ley 432 de 1998 permitió que el personal del nivel territorial se afiliara al Fondo Nacional del Ahorro.",0,15]
[null,null,"D3794001","Mezclas asfálticas",1,{"$f":"ROW()","v":3577},8,null,null,"2.4.1.02.02.004","Aportes a cajas de compensación familiar Son los pagos por concepto de contribución social que hacen los empleadores a las cajas de Compensación familiar para el cubrimiento del subsidio familiar y de vivienda.",0,15]
[null,null,"D3549941","Mezclas básicas para aditivos, desengrasantes y similares",1,{"$f":"ROW()","v":3578},8,null,null,"2.4.1.02.02.005","Aportes generales al sistema de riesgos laborales Son los pagos por concepto de contribución social que hacen los empleadores a una Administradora de Riesgos Laborales (ARL), según elección, liquidación y las tablas de riesgo establecidas legalmente; para el cubrimiento de las prestaciones económicas y asistenciales derivadas de un accidente de trabajo o una enfermedad profesional (Ley 100 de 1993; Decreto 1295 de 1994).El monto de las cotizaciones no podrá ser inferior al 0.348%, ni superior al 8.7%, de la base de cotización de los trabajadores a cargo del respectivo empleador (Decreto 1295 de 1994, art.18). Este pago se realiza en virtud de la Ley 100 de 1993, la cual creó el sistema General de Riesgos laborales, y el Decreto 1295 de 1994, el cual establece: […] c) Todos los empleadores deben afiliarse al Sistema General de Riesgos Profesionales. […] d) La afiliación de los trabajadores dependientes es obligatoria para todos los empleadores. […]El empleador que no afilie a sus trabajadores al Sistema General de Riesgos Profesionales, además de las sanciones legales, será responsable de las prestaciones que se otorgan en este decreto (Decreto 1295 de 1994, art. 4).",0,15]
[null,null,"D3541001","Mezclas de aceites esenciales",1,{"$f":"ROW()","v":3579},8,null,null,"2.4.1.02.02.006","Aportes al ICBF Son los pagos por concepto de contribución parafiscal que hacen los empleadores al Instituto Colombiano de Bienestar Familiar (ICBF). Esta contribución está destinada a atender la creación y sostenimiento de centros de atención integral al preescolar, para menores de 7 años hijos de empleados públicos y de trabajadores oficiales y privados",0,15]
[null,null,"D2423005","Mezclas de bebidas no alcohólicas con cerveza",1,{"$f":"ROW()","v":3580},8,null,null,"2.4.1.02.02.007","Aportes al SENA Es la contribución parafiscal a pagar por la Nación (por intermedio de los Ministerios, Departamentos Administrativos y Superintendencias), los establecimientos públicos, las empresas industriales y comerciales y las empresas de economía mixta de las órdenes nacional, departamental, Intendencias, distrital y municipal, y los empleados que ocupen uno o más trabajadores permanentes47 al SENA. Los aportes para la Nación son equivalentes al 0,5% de la nómina mensual de salarios y están destinados a programas específicos de formación profesional acelerada, durante la prestación del servicio militar obligatorio. Los aportes de los demás contribuyentes son equivalentes al 2% de las nóminas respectivas (Ley 21 de 1982, arts. 7 a 12). De acuerdo con la Ley 223 de 1995, las universidades públicas no están obligadas a realizar aportes al SENA (Ley 223 de 1995, art. 181).",0,15]
[null,null,"D3751001","Mezclas de concreto",1,{"$f":"ROW()","v":3581},8,null,null,"2.4.1.02.02.008","Aportes a la ESAP Contribución parafiscal a pagar por la Nación, los departamentos, intendencias, comisarías, el Distrito Especial de Bogotá y los municipios empleadores a la ESAP. La Ley establece el porcentaje a pagar, el cual se calcula sobre los pagos por concepto de salarios (Ley 21 de 1982, art. 8).",0,15]
[null,null,"D3541003","Mezclas de esencias",1,{"$f":"ROW()","v":3582},8,null,null,"2.4.1.02.02.009","Aportes a escuelas industriales e institutos técnicos Son los pagos por concepto de contribución parafiscal que hacen los empleadores a favor de las escuelas industriales e institutos técnicos. Este aporte es equivalente al 0,5% de la nómina mensual de salarios de los contribuyentes (Ley 21 de 1982, art. 11)",0,15]
[null,null,"D2399212","Mezclas de harinas para sopas",1,{"$f":"ROW()","v":3583},8,null,null,"2.4.1.02.02.010","Aporte subsidio de vivienda fuerzas militares y policía Son los pagos por concepto de contribución que hacen los empleadores para otorgar el subsidio de vivienda de las Fuerzas Militares y la Policía",0,15]
[null,null,"D2149507","Mezclas de maní, nueces y otros frutos secos, tostados o salados",1,{"$f":"ROW()","v":3584},8,null,null,"2.4.1.02.03.001.01","Vacaciones Es el pago por el descanso remunerado a que tiene derecho el empleado después de un año de labor en la entidad. Esta retribución se reconoce a los empleados por la totalidad de días de vacaciones y corresponde a quince (15) días de trabajo, y será pagado al menos cinco (5) días con antelación a la fecha señalada para iniciar el goce del descanso remunerado (Decreto 1045 de 1978, arts. 18 y 48).",0,18]
[null,null,"D2399925","Mezclas de proteínas y otras sustancias en polvo",1,{"$f":"ROW()","v":3585},8,null,null,"2.4.1.02.03.001.02","Indemnización por vacaciones Corresponde a la compensación en dinero a la que tiene derecho el empleado por vacaciones causadas, pero no disfrutadas. En principio, la compensación en dinero de las vacaciones está prohibida, en tanto estas constituyen un derecho del que gozan todos los trabajadores como quiera que el reposo es una condición mínima que ofrece la posibilidad de que el empleado renueve la fuerza y la dedicación para el desarrollo de sus actividades (Corte Constitucional, Sentencia C-598/1997).",0,18]
[null,null,"D2399923","Mezclas en polvo para preparación de bebidas (café con leche)",1,{"$f":"ROW()","v":3586},8,null,null,"2.4.1.02.03.001.03","Bonificación especial de recreación Es la retribución que se reconoce a los empleados por cada periodo de vacaciones en el momento de iniciar el disfrute del respectivo periodo vacacional. La cuantía de la bonificación por recreación equivale a dos días de la asignación básica mensual que le corresponda al empleado.Esta bonificación no constituirá factor de salario para ningún efecto legal y se pagará por lo menos con cinco (5) días hábiles de antelación a la fecha de inicio en el evento que se disfrute del descanso remunerado (Decreto 229 de 2016, art. 16).",0,18]
[null,null,"D2399920","Mezclas espesantes para bebidas y alimentos",1,{"$f":"ROW()","v":3587},8,null,null,"2.4.1.02.03.001.04","Bonificación de dirección para altos funcionarios del Estado Es la retribución económica reconocida a determinados funcionarios del Estado, quienes desempeñan labores relacionadas con la dirección, la cual es equivalente a cuatro (4) veces la remuneración de asignación básica mensual, más los gastos de representación y la prima técnica. Esta prima se paga en dos contados: 30 de junio y 30 de diciembre del respectivo año (Decreto 3150 de 2005). De acuerdo con el Decreto 2699 de 2012, son beneficiarios de la bonificación de dirección: •Ministros, •Directores de Departamento Administrativo; •Alto comisionado en la Consejería Presidencial para la Paz, •Alto Consejero Presidencial, •Secretario Privado de la Presidencia de la República, •Secretarios de la Presidencia de la República, •Consejero Presidencial, •Director de Programa Presidencial, •Consejero Auxiliar 1125, •Subdirector General, •Subdirector de Operaciones, •Alto Asesor de Seguridad Nacional, •Director de Programa Presidencial \"Colombia Joven\", •Jefes de Oficina, •Jefes de Área y Asesores Grados 13 y 14 de la Presidencia de la República; •Secretarios Generales de Ministerios y Departamentos Administrativos, •Directores Administrativo o Financiero o Técnico u Operativo de Ministerio y Departamento Administrativo, •Directores, Gerentes o Presidentes de Establecimientos Públicos, •Director de la Unidad Administrativa Especial de la Aeronáutica Civil, •Director de la Unidad Administrativa Especial de Impuestos y Aduanas Nacionales, •Directores de Unidades Administrativas Especiales con Personería Jurídica, •Oficiales de las Fuerzas Militares o de la Policía Nacional destinados en Comisión para desempeñar las funciones de Jefe de la Casa Militar, •Presidente del Instituto Colombiano de Crédito Educativo y Estudios Técnicos en el Exterior Mariano Ospina Pérez - ICETEX, •Director General del Instituto Colombiano para la Evaluación de la Educación - ICFES, •Gerente General de la Sociedad Hotel San Diego S. A Hotel Tequendama, Gerente de la Industria Militar - INDUMIL, •Gerente de la Caja Promotora de Vivienda Militar, •Presidente del Servicio Aéreo a Territorios Nacionales - SATENA. •Gerente de la Corporación de la Industria Aeronáutica Colombiana - ClAC, •Director General de la Caja de Previsión Social de Comunicaciones - CAPRECOM, •Comisionado de la Comisión Nacional del Servicio Civil - CNSC, •Secretarios Generales del Senado de la República y Cámara de Representantes Grado 14, Subsecretarios Generales Grado 12, Secretarios de las Comisiones Constitucionales y legales Permanentes Grado 12 y Subsecretarios de las Comisiones Constitucionales y Legales. Para los siguientes funcionarios, la bonificación de dirección equivale a cuatro meses la asignación básica más los gastos de representación:•Director General de la Unidad Administrativa Especial de Gestión Pensional y Contribuciones Parafiscales de la Protección Social - UGPP- •Director General y Presidente de Agencia Estatal de Naturaleza Especial, Gerente y Presidente las entidades que se rigen por el Decreto 508 de 2012 y por las disposiciones que la modifiquen, •Presidente de la Empresa Colombiana de Petróleos S. A Ecopetrol S. A, •Gerente General del Fondo Financiero de Proyectos de Desarrollo - FONADE,•Presidente de la Financiera de Desarrollo Territorial S. A - FINDETER, •Presidente de la Previsora S. A, Compañía de Seguros, •Presidente Fiduciaria La Previsora S. A FIDUPREVISORA, •Presidente de Positiva Compañía de Seguros S.A, •Presidente de la Central de Inversiones S. A – CISA, •Presidente de la Administradora Colombiana de Pensiones COLPENSIONES",0,18]
[null,null,"D3545007","Mezclas explosivas no sensibilizadas",1,{"$f":"ROW()","v":3588},{"$f":"LEN(C3588)","v":8},null,null,"2.4.1.02.03.002","Prima técnica no salarial Comprende la prima técnica por evaluación del desempeño y la prima técnica automática.La prima técnica por evaluación de desempeño se otorga a funcionarios directivos, jefes de oficina asesora o asesores que obtienen un porcentaje correspondiente al 90%, como mínimo, del total de la última evaluación del desempeño, correspondiente a un periodo no inferior a 3 meses en el ejercicio del cargo en propiedad (Decreto 1164 de 2012). No puede ser superior al 50% de la asignación básica mensual del empleado al que se le asigna la prima.Por su parte, la prima técnica automática es otorgada a altos funcionarios, en virtud de las calidades excepcionales del ejercicio de sus funciones. Equivale al 50% del sueldo y los gastos de representación de los empleados.De acuerdo con el artículo 7 del Decreto 1661 de 1991, no constituyen factor salarial: la prima técnica por evaluación de desempeño y la prima técnica automática.",0,{"$f":"LEN(J3588)","v":15}]
[null,null,"D3622099","Mezclas n.c.p. de caucho",1,{"$f":"ROW()","v":3589},8,null,null,"2.4.1.02.03.003","Bonificación especial por servicios de seguridad a ex presidentes Corresponde al pago que se les hace a los funcionarios de las Fuerzas Militares, de la Policía Nacional y el Departamento Administrativo de Seguridad, asignados de forma permanente en la prestación de servicios para garantizar la seguridad de los ex presidentes de la República y sus cónyuges sobrevivientes, equivalente al 30% de la asignación básica mensual que reciben.El pago de esta bonificación se hará con cargo al presupuesto de la entidad a la cual se encuentre vinculado el funcionario (art. 4, Decreto 1700 de 2010).",0,15]
[null,null,"D2318002","Mezclas para panadería",1,{"$f":"ROW()","v":3590},8,null,null,"2.4.1.02.03.004","Bonificación especial por servicios de comisión en Presidencia Corresponde al pago de una asignación mensual adicional, equivalente al 60% del suelo básico mensual, que se reconoce al personal del Ministerio de Defensa, de las Fuerzas Militares, de la Policía Nacional y de la Unidad Nacional de Protección (UNP), que preste sus servicios en comisión en el Departamento Administrativo de la Presidencia de la República, bien sea en la Casa Militar o en la Secretaría para la Seguridad del Presidente y de la familia presidencial, aun por fuera de la sede habitual de residencia de la familia presidencial. En iguales condiciones, tendrán derecho a esta bonificación, los soldados que presten el servicio en el Palacio Presidencial-Casa de Nariño.Para tener derecho al reconocimiento y pago de la bonificación, el personal debe haber prestado el servicio total o parcialmente en jornadas de trabajos extras diurnas o nocturnas y previa certificación del Secretario para la Seguridad del Presidente, sobre la prestación del servicio o del Jefe de la Casa Militar de Palacio, o el Jefe de Guarnición, en cada caso (art. 1, Decreto 1794 de 2012).",0,15]
[null,null,"D2399210","Mezclas precocidas para sopas",1,{"$f":"ROW()","v":3591},8,null,null,"2.4.1.02.03.005","Prima de riesgo Reconocimiento que hace la ley a los funcionarios que prestan servicios de alto riesgo, en los siguientes términos:- Para los conductores de los Ministros y Directores de Departamento Administrativos la prima de riesgo será equivalente al veinte por ciento (20%) de la asignación básica mensual (Decreto 229 de 2016, art. 8)- Para los conductores del Ministro de Defensa Nacional, el Comandante General de las Fuerzas Militares, los Comandantes de Fuerza y del Director General de la Policía Nacional la prima de riesgo será del 20% de la asignación básica mensual (Decreto 214 de 2016, art. 33).- Para el personal de los organismos de seguridad del Estado en comisión en los establecimientos de reclusión del Instituto Nacional Penitenciario y Carcelario -INPEC la prima de riesgo corresponderá al 30% de la asignación básica mensual (Decreto 229 de 2016, art. 34).- Para el personal de la Imprenta Distrital, guardianes de la cárcel distrital, personal de vigilancia de la Secretaría de Tránsito y Transportes, radio operadores de la Administración Central, Técnicos en Salud Ocupacional, operadores de equipos, auxiliares de ingeniería y técnicos de la división de ingeniería de la Secretaría de Tránsito y Transportes. Empleados de publicaciones de la Secretaría de Educación, operarios de la Fábrica de Pupitres San Blas y Fábrica de Tiza de la Secretaría de Educación con más de cinco (5) años de servicio la prima de riesgo se paga de manera mensual y corresponde a un 5% por ciento de la asignación básica mensual más de un 1% por cada año adicional a los primeros cinco (5) años de servicio, sin que exceda el veinticinco (25%) por cientoEn todos los casos, esta prima no constituye factor salarial para ningún efecto legal.",0,15]
[null,null,"D3544203","Mezclas químicas para extintores",1,{"$f":"ROW()","v":3592},8,null,null,"2.4.1.02.03.006","Prima de gestión Reconocimiento que hace la ley a algunos servidores públicos, en los siguientes términos:- A los negociadores internacionales, correspondiente al 50% de la asignación básica y los gastos de representación (Decreto 229 de 2016, art. 3). - Al Director de la Unidad de Información y Análisis Financiero, correspondiente al 50% de la asignación básica mensual (Decreto 229 de 2016, art. 3).-A los empleados públicos del Congreso, conforme a lo dispuesto en el artículo 5 del Decreto 230 de 2016.",0,15]
[null,null,"D1639912","Mica en láminas u hojas",1,{"$f":"ROW()","v":3593},8,null,null,"2.4.1.02.03.007","Prima de dirección Es el reconocimiento económico que sustituye la prima técnica para los ministros de despacho y directores de departamentos administrativos; a excepción de la prima técnica por estudios de formación avanzada y experiencia altamente calificada (Decreto 1101 de 2015).De acuerdo con el artículo 2 del decreto 1028 de 2015, los oficiales de las Fuerzas Militares y de la Policía Nacional en los grados de Almirante y General tendrán derecho a la Prima de Dirección, en las mismas condiciones que los ministros de despacho.Tienen derecho a la prima técnica los demás funcionarios que legalmente se establezcan como beneficiarios.",0,15]
[null,null,"D1639105","Mica en polvo",1,{"$f":"ROW()","v":3594},8,null,null,"2.4.1.02.03.008","Prima geográfica Corresponde a una asignación sin carácter salarial, otorgada a los funcionarios cuyos cargos estén ubicados en zonas de difícil acceso, clima malsano o alto riesgo por violencia, pagadera mientras subsistan tales factores. Por ejemplo: el Decreto 2372 de 1994 otorga la prima geográfica a los funcionarios de la Registraduría Nacional del Estado Civil que presten sus servicios en dichas zonas.",0,15]
[null,null,"D4651003","Microbombillas incandescentes",1,{"$f":"ROW()","v":3595},8,null,null,"2.4.1.02.03.009","Prima de costo de vida Reconocimiento que hace la ley a los servidores públicos del Ministerio de Relaciones Exteriores y del Ministerio de Comercio, Industria y Turismo que se encuentren prestando servicios en el exterior con el fin de equiparar el ingreso real en pesos de dichos funcionarios a las condiciones económicas y cambiarias de los países de destino (art. 5, Decreto 3357 de 2009 y art. 5, Decreto 4971 de 2009).Este pago no se traduce en un incremento neto del patrimonio del funcionario, por lo tanto, no tiene carácter remuneratorio.",0,15]
[null,null,"D4911201","Microbuses",1,{"$f":"ROW()","v":3596},8,null,null,"2.4.1.02.03.010","Prima de localización y vivienda Reconocimiento que hace la ley a los miembros del Congreso. Esta prima se paga de forma mensual, no se considera factor salarial, y es equivalente a setecientos mil pesos ($ 700.000.00) (art. 2, Decreto 801 de 1992).",0,15]
[null,null,"D4733001","Micrófonos",1,{"$f":"ROW()","v":3597},8,null,null,"2.4.1.02.03.011","Prima de capacitación Reconocimiento que hace la ley a Magistrados de Tribunal, Fiscales o Jueces Superiores, de Menores o de Circuito en razón de estudios de post-grado, obra de investigación científica publicada o ejercicio de la docencia universitaria, todo en materias relacionadas con su cargo y especialidad (Decreto 903 e 1969, art. 3).Para determinar la cuantía individual de la prima, que puede ascender hasta el diez por ciento de la respectiva asignación mensual, el Consejo Superior de la Administración de Justicia analizará en singular cada factor invocado y demostrado, teniendo en cuenta la naturaleza, pertinencia, duración e intensidad, abundancia y pertinencia de la obra científica; y la antigüedad, perseverancia, rendimiento y pertinencia del ejercicio del magisterio (art. 4, Decreto 760 de 1970).Es el pago por concepto de prima de capacitación que tiene derecho los miembros del Cuerpo de Custodia y Vigilancia Carcelaria. Reconocida en la Ley 32 de 1986 y en las normas que el Gobierno Nacional expida en desarrollo de la Ley 4ª de 1992.",0,15]
[null,null,"D4823304","Micrómetros",1,{"$f":"ROW()","v":3598},8,null,null,"2.4.1.02.03.012","Prima de clima o prima de calor Es el reconocimiento económico que se realiza a los empleados públicos que desempeñan sus funciones en condiciones climáticas desfavorables para su salud, de acuerdo con las condiciones legales.",0,15]
[null,null,"D2321301","Miel artificial",1,{"$f":"ROW()","v":3599},8,null,null,"2.4.1.02.03.013","Estímulos a los empleados del Estado Es el pago de incentivos pecuniarios a los empleados públicos, que tienen por objetivo elevar los niveles de eficiencia, satisfacción, desarrollo y bienestar en el desempeño sus funciones. Lo anterior, en el marco de los programas de incentivos que contempla el sistema de estímulos para los empleados del Estado, regulado por el Decreto 1567 de 1998.No incluye:•Incentivos no pecuniarios establecidos en los planes institucionales según lo dispuesto en el Decreto 1567 de 1998.",0,15]
[null,null,"D0291001","Miel de abejas",1,{"$f":"ROW()","v":3600},8,null,null,"2.4.1.02.03.014","Remuneración electoral De acuerdo con el Decreto 1434 de 1982, es el pago a los funcionarios de planta (o ex funcionarios que hubiesen laborado en el periodo pre-electoral) de la Registraduría Nacional del Estado Civil, correspondiente al 150% de su asignación básica mensual.Esta prima se paga una sola vez en cada año electoral, en el mes siguiente la celebración de la última elección del respectivo año (Decreto 1103 de 2015). Esta prima no aplica al Registrador Nacional.",0,15]
[null,null,"D2354002","Miel de caña",1,{"$f":"ROW()","v":3601},8,null,null,"2.4.1.02.03.015","Prima de instalación Reconocimiento que hace la ley a los Oficiales, Suboficiales, Personal del Nivel ejecutivo de la Policía Nacional y los empleados públicos del Ministerio de Defensa, que se encuentren casados, en unión marital permanente o con hijos a su cargo; cuando el traslado o la comisión permanente sea al interior del país (Decreto 1028 de 2015). El pago de la prima de instalación se realiza de conformidad con las disposiciones legales correspondientes.De acuerdo con el artículo 76 de la Ley 32 de 1986, son beneficiarios de la prima de instalación, los miembros del Cuerpo de Custodia y Vigilancia Penitenciaria Nacional que sean trasladados de una localidad a otra, siempre y cuando la solicitud del traslado no la haya realizado el empleado.En cumplimiento a lo establecido en artículo 3° del Decreto Ley 4064 de 2011, Migración Colombia reconoce a los funcionarios incorporados del DAS, la prima de instalación establecida en el artículo 5 del Decreto 1933 de 1989.",0,15]
[null,null,"D2354001","Miel de purga",1,{"$f":"ROW()","v":3602},8,null,null,"2.4.1.02.03.016","Prima de coordinación Es el pago que se realiza a los empleados públicos y trabajadores oficiales que “tengan planta global y que tengan a su cargo la coordinación o supervisión de grupos internos de trabajo, creados mediante resolución del jefe del organismo respectivo” (Decreto 1101 de 2015).El pago de esta prima es reconocido a los empleados de los Ministerios, Departamentos Administrativos, Superintendencias, Establecimientos Públicos, Corporaciones Autónomas Regionales y de Desarrollo Sostenible, las Empresas Sociales del Estado y las Unidades Administrativas Especiales (Decreto 1101, 2015). Esta prima debe ser reconocida a los funcionarios que la ley determine como beneficiarios.Para el caso del Distrito de Bogotá, este reconocimiento se otorga de manera mensual y equivale a un veinte por ciento (20%) adicional al valor de la asignación básica mensual del empleo del cual sean titulares, durante el tiempo en que ejerzan tales funciones",0,15]
[null,null,"D2341002","Miga de pan",1,{"$f":"ROW()","v":3603},8,null,null,"2.4.1.02.03.017","Prima de alta gestión De acuerdo con el Decreto 1094 de 2015, la prima de alta gestión es el pago equivalente a “la diferencia entre los ingresos laborales totales anuales recibidos por el Contralor General de la República y los Ingresos laborales totales anuales del Auditor General, sin que en ningún caso los supere” (Decreto 1094 de 2015).Por otro lado, el Decreto 1093 de 2015, reconoce el pago de una prima de alta gestión equivalente al 20% de la asignación básica mensual de los siguientes funcionarios de la Contraloría General de la República: Contralor Delegado, Director de Oficina, Secretario Privado, Director y Gerente.",0,15]
[null,null,"D0118201","Mijo",1,{"$f":"ROW()","v":3604},8,null,null,"2.4.1.02.03.018","Prima de alto mando Pago que se realiza a los Oficiales de las Fuerzas Militares, los Generales y los Almirantes de la Policía Nacional de acuerdo con lo dispuesto por el Decreto 1028 de 2015; el cual establece: \" los Oficiales de las Fuerzas Militares y de la Policía Nacional en los grados de General y Almirante, percibirán por todo concepto una asignación mensual igual a la que devenguen los Ministros del Despacho como asignación básica y gastos de representación, en todo tiempo, distribuida así: el cuarenta y cinco por ciento (45%) como sueldo básico y el cincuenta y cinco por ciento (55%) como prima de alto mando.",0,15]
[null,null,"D0325001","Mimbre-caña y similares",1,{"$f":"ROW()","v":3605},8,null,null,"2.4.1.02.03.019","Prima de instalación en el exterior Prima que se reconoce a los Oficiales y Suboficiales de las Fuerzas Militares en servicio activo y a los empleados públicos del Ministerio de Defensa, que sean trasladados o destinados en comisión permanente al exterior del país y tengan por ello que cambiar de guarnición o lugar de residencia.",0,15]
[null,null,"D4516002","Mimeógrafos",1,{"$f":"ROW()","v":3606},8,null,null,"2.4.1.02.03.020","Prima de alojamiento en el exterior Prima que se otorga a los Oficiales y Suboficiales de la Policía Nacional en servicio activo, casados o viudos con hijos, que desempeñen comisiones permanentes en el exterior, tendrán derecho mientras cumplan la comisión, siempre y cuando lleven a su familia a residir a la nueva sede, a gozar de una prima mensual de alojamiento hasta del siete por ciento (7%) del sueldo básico correspondiente a su grado, liquidada en dólares a razón de un dólar por cada peso.Los Oficiales y Suboficiales solteros y los casados o viudos que no lleven a su familia a la respectiva sede cuando desempeñen comisiones permanentes en el exterior, tendrán derecho a una prima de alojamiento hasta del cinco por ciento (5%) del sueldo básico correspondiente a su grado, que se pagará en dólares a razón de un dólar por cada peso (Decreto 1212 de 1990).",0,15]
[null,null,"D2170006","Minarina",1,{"$f":"ROW()","v":3607},8,null,null,"2.4.1.02.03.021","Vivienda para embajadores Gasto generado en la situación en la que un funcionario escalafonado en la Categoría de Embajador fuere designado Cónsul General o en Comisión para Situaciones Especiales, en un cargo correspondiente a una categoría inmediatamente inferior en el escalafón de la carrera. A dicho funcionario, se le reconoce como beneficio adicional para vivienda en el exterior, una suma de dinero equivalente al treinta por ciento (30%) de la asignación básica mensual del cargo de destino en el exterior (Decreto 274 de 2000).",0,15]
[null,null,"D4474008","Minas antipersonales",1,{"$f":"ROW()","v":3608},8,null,null,"2.4.1.02.03.022","Bonificación por seguro de vida colectivo Gastos por bonificación individual mensual con destino al Fondo de Solidaridad del Ministerio de Defensa Nacional-Seguro de Vida Colectivo. Son beneficiaros de esta bonificación:- Oficiales y Suboficiales de las Fuerzas Militares y de la Policía Nacional- Personal del Nivel Ejecutivo de la Policía Nacional- Agentes de los Cuerpos Profesionales de la Policía Nacional, personal civil del Ministerio de Defensa, de las Fuerzas Militares y la Policía Nacional- Los Alférez, Guardiamarinas, Pilotines, los cadetes, los alumnos de las Escuelas de Formación de Suboficiales- Nivel Ejecutivo de la Policía Nacional, los Soldados, Auxiliares de Policía Bachilleres, Grumetes de las Fuerzas Militares- Personal del Cuerpo Auxiliar de la Policía Nacional.",0,15]
[null,null,"D3891113","Minas de colores para lápices",1,{"$f":"ROW()","v":3609},8,null,null,"2.4.1.02.03.023","Bonificación licenciamiento Es el pago obligatorio al que tiene derecho todo colombiano que se encuentre prestando el servicio militar como concepto de una última bonificación que será equivalente a un salario mínimo mensual vigente (Ley 48, 1993).",0,15]
[null,null,"D3891110","Minas para bolígrafo",1,{"$f":"ROW()","v":3610},8,null,null,"2.4.1.02.03.024","Bonificación dragoneante Recursos destinados al reconocimiento (bonificación) de los agentes de policía que sean reconocidos como dragoneantes. Esta bonificación es reconocida mientras los agentes ostenten dicha distinción (Decreto 1028, 2015).",0,15]
[null,null,"D3891109","Minas para lapicero",1,{"$f":"ROW()","v":3611},8,null,null,"2.4.1.02.03.025","Bonificación agente cuerpo profesional especial Pago al que tienen derecho los Agentes del Cuerpo Profesional Especial por concepto de bonificación del treinta por ciento (30%) de su sueldo básico mensual, la cual se incrementará en un diez por ciento (10%) por cada año de servicio en este cuerpo, sin sobrepasar el ciento por ciento (100%) de dicho sueldo básico (Ley 21 de 1979).",0,15]
[null,null,"D3891108","Minas para lápices",1,{"$f":"ROW()","v":3612},8,null,null,"2.4.1.02.03.026","Bonificación buena conducta Es el pago a la bonificación contemplada en el art. 3 del Decreto 1213 de 1990, el cual establece: \"los Agentes de la Policía Nacional en servicio activo que completen períodos quinquenales continuos de servicio y observen buena conducta durante los mismos, tendrán derecho a una recompensa por cada cinco (5) años de servicio, equivalente a la totalidad de los haberes en actividad, devengados en el último mes en que cumplan el quinquenio\".Incluye también la jineta de buena conducta que se reconoce legalmente a los suboficiales que durante un período de tres (3) años consecutivos no registran en su folio de vida ninguna sanción disciplinaria. En este caso, según lo dispuesto en el artículo 47 de la Ley 836 de 2003, por cada período de tres (3) años en las mismas condiciones se otorga una nueva jineta, y a partir de la tercera jineta se disminuye el período a dos (2) años.El período de tres (3) o dos (2) años se cuenta de acuerdo con el lapso de evaluación establecido en el Reglamento de Evaluación y Clasificación para el personal de las Fuerzas Militares.",0,15]
[null,null,"D1410201","Mineral de hierro sinterizado",1,{"$f":"ROW()","v":3613},8,null,null,"2.4.1.02.03.027","Partida alimentación Recursos destinados a financiar la partida diaria de alimentación para el personal de soldados e infantes de marina de las Fuerzas Militares y personal del Cuerpo Auxiliar de la Policía Nacional.",0,15]
[null,null,"D1632299","Minerales abrasivos n.c.p.",1,{"$f":"ROW()","v":3614},8,null,null,"2.4.1.02.03.028","Partida alimentación orden público y cobertura de fronteras Gastos por concepto de alimentación de los oficiales, suboficiales y agentes de las Fuerzas Militares y de la Policía Nacional que presten sus servicios, en áreas donde se desarrollen operaciones especiales para restablecer el orden público y de cobertura de fronteras (Decretos 1211 y 1214 de 1990).",0,15]
[null,null,"D3440099","Minerales activados n.c.p.",1,{"$f":"ROW()","v":3615},8,null,null,"2.4.1.02.03.029","Bonificación de actividad judicial Reconocimiento económico al buen desempeño de los jueces, fiscales y procuradores judiciales, creado en virtud del Decreto 3131 de 2005. Esta bonificación constituye factor para efectos de determinar el ingreso base de cotización del Sistema General de Pensiones, y de acuerdo con laLey 797 de 2003, para la cotización al Sistema General de Seguridad Social en Salud (Decreto 3900 de 2008, art. 1) mas no para determinar elementos salariales ni prestaciones sociales.",0,15]
[null,null,"D1429014","Minerales de antimonio y sus concentrados",1,{"$f":"ROW()","v":3616},8,null,null,"2.4.1.02.03.030","Bonificación de dirección",0,15]
[null,null,"D3452201","Minerales de azufre (excepto las piritas)",1,{"$f":"ROW()","v":3617},8,null,null,"2.4.1.02.03.031","Bonificación especial personal secuestrado Recursos destinados a financiar la bonificación especial de los Oficiales y Suboficiales de las Fuerzas Militares que se hayan encontrado en cautiverio, de acuerdo con la Ley 1279 de 2009 y sus decretos reglamentarios.",0,15]
[null,null,"D1619902","Minerales de bario",1,{"$f":"ROW()","v":3618},8,null,null,"2.4.1.02.03.032","Prima de traslado Corresponde a los recursos destinados al pago de un auxilio de traslado equivalente a la mitad del sueldo básico (para el caso de la Registraduría Nacional del Estado Civil), por concepto de los gastos de traslado, cuando un funcionario es nombrado con carácter permanente para ocupar un cargo en otro municipio.",0,15]
[null,null,"D1619905","Minerales de boro",1,{"$f":"ROW()","v":3619},8,null,null,"2.4.1.02.03.033","Alimentación alumnos Gastos por concepto de alimentación de los alumnos, particularmente, del Departamento Administrativo de Seguridad, otorgado a estos durante la realización de los cursos de detective.",0,15]
[null,null,"D1429004","Minerales de circonio y sus concentrados",1,{"$f":"ROW()","v":3620},8,null,null,"2.4.1.02.03.034","Bonificación alumnos Es el reconocimiento económico correspondiente al 20% de la asignación básica mensual del cargo de dragoneante 4114 grado 11 del INPEC, como bonificación mensual para los estudiantes de la Escuela Penitenciaria Nacional Enrique Low Murtra.Asimismo, son los recursos destinados a los Alféreces, Guardiamarinas y Pilotines de las Escuelas de Formación de Oficiales y los Alumnos de las Escuelas de Formación de Suboficiales, los cuales tiene derecho a una bonificación mensual de acuerdo con las disposiciones legales vigentes.",0,15]
[null,null,"D1429010","Minerales de cobalto y sus concentrados",1,{"$f":"ROW()","v":3621},8,null,null,"2.4.1.02.03.035","Subsidio familiar Es el pago de la prestación social reconocida a diferentes rangos de las Fuerzas Militares y Policías, y al cuerpo de custodia y vigilancia penitenciaria y carcelaria nacional, por concepto de subsidio familiar de acuerdo con las condiciones dispuestas legalmente.Por ejemplo, el subsidio familiar se le reconoce al personal del nivel ejecutivo de la Policía Nacional en servicio activo; en proporción del número de personas a cargo y su remuneración mensual (Decreto 1091 de 1995). Este subsidio familiar está a cargo del Instituto para la Seguridad Social y Bienestar de la Policía Nacional.En el caso de los soldados, el artículo 11 del Decreto 1794 de 2000, les reconoce como subsidio familiar un pago equivalente al 4% de su salario básico mensual más la prima de antigüedad.Por último, para el cuerpo de custodia y vigilancia penitenciaria y carcelaria nacional, constituye el derecho a un pago del siete por ciento (7%) adicional al subsidio familiar a que tienen derecho los funcionarios de acuerdo con las normas vigentes. Dicho reconocimiento no constituye factor salarial y se paga por unidad familiar (Decreto 446 de 1994, art. 15).",0,15]
[null,null,"D1421001","Minerales de cobre y sus concentrados",1,{"$f":"ROW()","v":3622},8,null,null,"2.4.1.02.03.036.01","Beneficios a los empleados a corto plazo",0,18]
[null,null,"D1429008","Minerales de cromo y sus concentrados",1,{"$f":"ROW()","v":3623},8,null,null,"2.4.1.02.03.036.02","Beneficios a los empleados a largo plazo",0,18]
[null,null,"D1429007","Minerales de estaño y sus concentrados",1,{"$f":"ROW()","v":3624},8,null,null,"2.4.1.02.03.037","Incentivos laborales DIAN Incluye el pago de los incentivos al desempeño en fiscalización y cobranzas y los incentivos por desempeño grupal que se reconocen a los empleados de la Unidad Especial de Impuestos y Aduanas Nacionales - DIAN, en virtud de lo dispuesto por el Decreto 1268 de 1999 y el Decreto 4050 de 2005.",0,15]
[null,null,"D1410101","Minerales de hierro y sus concentrados",1,{"$f":"ROW()","v":3625},8,null,null,"2.4.1.02.03.038","Prima de seguridad Gastos por concepto de la prima liquidada para aquellos empleados del Instituto Nacional Penitenciario y Carcelario - INPEC que presten sus servicios en centros o pabellones de alta seguridad, equivalente hasta el cincuenta por ciento (50%) de la asignación o sueldo básico mensual, que no podrá exceder el monto fijado en la Ley. Esta prima no constituye factor salarial para ningún efecto legal (Decreto 1029 de 2013).",0,15]
[null,null,"D1619909","Minerales de litio",1,{"$f":"ROW()","v":3626},8,null,null,"2.4.1.02.03.039","Prima de vigilantes instructores Los miembros del Cuerpo de Custodia y Vigilancia del Instituto Nacional Penitenciario y Carcelario - INPEC, que acrediten título de idoneidad y ejerzan las funciones de instructores, tendrán derecho, previo concepto del Director General del INPEC a disfrutar de una prima del diez por ciento (10%) mensual sobre el sueldo básico, que no constituye factor salarial, mas cumplan simultáneamente las funciones de vigilancia y enseñanza (Decreto 446 de 1994).",0,15]
[null,null,"D1429001","Minerales de manganeso y sus concentrados",1,{"$f":"ROW()","v":3627},8,null,null,"2.4.1.02.03.040","Bonificación servicio militar Los bachilleres que prestan el servicio militar obligatorio en el Instituto Nacional Penitenciario y Carcelario - INPEC, tendrán derecho a una bonificación que será determinada por el Gobierno Nacional (Decreto 407 de 1994).",0,15]
[null,null,"D1429009","Minerales de mercurio y sus concentrados",1,{"$f":"ROW()","v":3628},8,null,null,"2.4.1.02.03.041","Bonificación por trabajo y servicios internos Corresponde al gasto que realiza el Instituto Nacional Penitenciario y Carcelario –INPEC como contraprestación por los servicios realizados por los internos, en desarrollo de los programas de trabajo y actividades productivas establecidas y administradas de forma directa por la entidad, que son reconocidos como derecho de las personas procesadas que se encuentran en un centro reclusorio (Ley 65 de 1993 y Decreto 1758 de 2015).NE:De acuerdo con la Corte Constitucional en Sentencia T-1077/05: “esta aproximación al sistema de estímulos económicos (bonificaciones) por trabajo o servicios que se aplica en los Centros Penitenciarios permite sacar algunas conclusiones de interés para la resolución de los asuntos bajo examen. (i) La bonificación es concebida como un estímulo que no alcanza una cobertura general, para toda la población carcelaria, estando sometida a una reglamentación orientada a introducir criterios de racionalidad y equidad para su asignación; (ii) su ámbito de aplicación es la modalidad de trabajo por administración directa; (iii) corresponde a la Dirección General, determinar las actividades que convocan tal incentivo y asignar de manera global los cupos para cada Establecimiento Penitenciario; (iv) corresponde a los Directores de los Establecimientos, en coordinación con la Junta de evaluación de trabajo, estudio y enseñanza, reglamentar internamente la distribución de los cupos asignados, que tiene una cobertura muy limitada en relación con el número de internos que se dedica a cada una de las actividades que se incentivan; (v) para la asignación de las bonificaciones debe mediar la autorización de la Junta de evaluación de trabajo, estudio y enseñanza.”",0,15]
[null,null,"D1429012","Minerales de molibdeno y sus concentrados",1,{"$f":"ROW()","v":3629},8,null,null,"2.4.1.02.03.042","Seguro de muerte en actividad Los miembros del Cuerpo de Custodia y Vigilancia Penitenciaria y Carcelaria Nacional, gozan de un seguro por muerte equivalente a quince (15) mensualidades del último salario devengado.El valor de dicho seguro será equivalente a treinta (30) mensualidades del último salario devengado, en el evento de que la muerte sea como consecuencia de accidente de trabajo o enfermedad profesional y excluye la indemnización a que se refieren los artículos 16 y 23 del Decreto 1848 de 1969, a menos que el accidente o enfermedad profesional se hayan ocasionado por culpa imputable a la entidad empleadora, en cuyo caso habrá lugar a la indemnización total y ordinaria por perjuicio.Si prosperare esta indemnización se descontará de su cuantía el valor de las prestaciones e indemnizaciones en dinero pagadas en razón de los expresados infortunios de trabajo (Decreto 407 de 1994).",0,15]
[null,null,"D1429013","Minerales de niobio, tantalio y sus concentrados",1,{"$f":"ROW()","v":3630},8,null,null,"2.4.1.02.03.043","Prima de orden público Reconocimiento que hace la ley a los empleados del Departamento Administrativo de Seguridad – DAS que presten sus servicios permanentemente en zonas del país afectadas por graves alteraciones del orden público (Decreto 1933 de 1989).En cumplimiento a lo establecido en artículo 3° del Decreto Ley 4067 de 2011, la Unidad Nacional de Protección reconoce a los funcionarios incorporados del DAS, la prima de orden público establecida en el artículo 2° del Decreto 1933 de 1989.",0,15]
[null,null,"D1422001","Minerales de níquel y sus concentrados",1,{"$f":"ROW()","v":3631},8,null,null,"2.4.1.02.03.044","Prima secretarial Corresponde al reconocimiento que se le otorga los empleados públicos que desempeñen el cargo de secretario, en el nivel administrativo, el cual es equivalente al 2% de la asignación básica mensual. Dicho valor no constituye factor salarial para ningún efecto legal",0,15]
[null,null,"D1424201","Minerales de oro y sus concentrados",1,{"$f":"ROW()","v":3632},8,null,null,"2.4.1.02.03.045","Bonificación para gastos personales del Batallón Guardia Presidencial y de los Batallones de Policía Militar Reconocimiento económico que hace la ley a los Soldados del Batallón Guardia Presidencial y de los Batallones de Policía Militar que hayan terminado el curso básico de esta especialidad. Dichos funcionarios tienen derecho a una bonificación mensual adicional para gastos personales equivalente a dieciocho mil ciento dos pesos ($18.102) m/cte, respectivamente (Decreto anual de salarios).",0,15]
[null,null,"D1424101","Minerales de plata y sus concentrados",1,{"$f":"ROW()","v":3633},8,null,null,"2.4.1.02.03.046","Bonos escolares y navideños Reconocimiento de las entidades a sus funcionarios de planta en cumplimiento de una negociación colectiva, a pagar un subsidio escolar a cada uno de los hijos de los trabajadores oficiales y cualquier grado de escolaridad. Incluye de igual forma el reconocimiento dque haga la entidad por bonos de navidad en el mes de diciembre, al funcionario o a los hijos menores de 18 años del mismo.",0,15]
[null,null,"D1424202","Minerales de platino (paladio, rutenio, rodio, osmio) y sus concentrados",1,{"$f":"ROW()","v":3634},8,null,null,"2.4.1.02.03.047","Bonificación edecanes Bonificación adicional que reconoce la ley a los oficiales de las Fuerzas Militares y de la Policía Nacional destacados como edecanes al servicio del Presidente y del Vicepresidente de la República. (Decretos 83 y 837 de 1995, art. 1).",0,15]
[null,null,"D1429005","Minerales de plomo y sus concentrados",1,{"$f":"ROW()","v":3635},8,null,null,"2.4.1.02.03.048","Prima de bucería Reconocimiento económico que hace la ley a los Oficiales y Suboficiales de la Armada Nacional que hayan obtenido patente que los acredite como buzos y que realicen dicha actividad por hora o fracción mayor de cuarenta y cinco (45) minutos en actos del servicio (Decreto 1211 de 1990, art. 88).",0,15]
[null,null,"D1611001","Minerales de potasio (en bruto)",1,{"$f":"ROW()","v":3636},8,null,null,"2.4.1.02.03.049","Prima comandos Reconocimiento económico que hace la ley a los Oficiales de las Fuerzas Militares a quienes se les otorga el título de Comando Especial Terrestre en el Ejército, Comando Anfibio o de Selva en la Armada y Comando Especial Aéreo en la Fuerza Aérea, y se desempeñan dentro de ellos. Esta prima es equivalente al veinte por ciento (20%) del sueldo básico mensual correspondiente a su grado, de acuerdo con reglamentación que expida el Gobierno (Decreto 1211 de 1990, art. 90).",0,15]
[null,null,"D1619904","Minerales de sodio",1,{"$f":"ROW()","v":3637},8,null,null,"2.4.1.02.03.050","Prima de Estado Mayor y academia superior Reconocimiento económico que hace la ley a los Oficiales de las Fuerzas Militares en servicio activo con título de Oficial de Estado Mayor. Esta prima corresponde al veinte por ciento (20%) del sueldo básico (Decreto 1211 de 1990, art. 92).",0,15]
[null,null,"D1619910","Minerales de tierras raras",1,{"$f":"ROW()","v":3638},8,null,null,"2.4.1.02.03.051","Prima submarinista Reconocimiento económico que hace la ley a los Oficiales y Suboficiales de la Armada Nacional que presten sus servicios a bordo de submarinos como integrantes de su tripulación. Esta prima es equivalente al diez por ciento (10%) del sueldo básico correspondiente al grado del funcionario y a un diez por ciento (10%) adicional mientras estén navegando (Decreto 1211 de 1990, art. 101).",0,15]
[null,null,"D1429003","Minerales de titanio y sus concentrados",1,{"$f":"ROW()","v":3639},8,null,null,"2.4.1.02.03.052","Prima de salto Reconocimiento económico que hace la ley a los Oficiales y Suboficiales de las Fuerzas Militares que hayan sido instruidos como paracaidistas y que realicen saltos en actos de su servicio. Esta prima es equivalente a un quince por ciento (15%) del sueldo básico mensual correspondiente a su grado, porcentaje que aumenta en un uno por ciento (1%) por cada veinte (20) saltos efectuados, hasta completar ciento veinte (120). De ciento veinte (120) saltos en adelante, sólo se computa un medio por ciento (0.5%) por cada veinte (20) saltos adicionales, sin que el total de la prima de salto en paracaídas pueda exceder del sueldo básico mensual correspondiente al grado (Decreto 1211 de 1990, art. 99).",0,15]
[null,null,"D1429015","Minerales de vanadio y sus concentrados",1,{"$f":"ROW()","v":3640},8,null,null,"2.4.1.02.03.053","Prima de vuelo Reconocimiento económico que hace la ley a los Oficiales y Suboficiales de la Aviación del Ejército, los Oficiales de la Aviación Naval y Suboficiales de Mantenimiento Aeronáutico en la Armada, los Oficiales de Vuelo y Suboficiales Técnicos de la Fuerza Aérea en desempeño de sus funciones como tripulantes de aeronaves militares y otra clase de aeronaves al servicio de las Fuerzas Militares, siempre que comprueben haber volado durante un mínimo de cuatro (4) horas mensuales. Esta prima es equivalente al veinte por ciento (20%) del sueldo básico mensual correspondiente al respectivo grado, porcentaje que aumenta en un uno por ciento (1%) por cada cien (100) horas de vuelo, hasta completar tres mil (3.000) horas. De tres mil (3.000) horas en adelante sólo se computa el medio por ciento (0.5%) por cada cien (100) horas adicionales, sin que el total de la prima de vuelo pueda exceder el sueldo básico del Oficial o Suboficial. Los Oficiales Generales de vuelo de la Fuerza Aérea pueden percibir esta prima sin necesidad de cumplir con el requisito de horas mínimas de vuelo. Así mismo, según lo dispuesto por ley, las horas voladas en aeronaves de turbo-reacción se computarán doble, siempre que éstas sean de combate o de entrenamiento de combate (Decreto 1211 de 1990, art. 103).",0,15]
[null,null,"D1429011","Minerales de volframio (tungsteno) y sus concentrados",1,{"$f":"ROW()","v":3641},8,null,null,"2.4.1.02.03.054","Prima especialista Reconocimiento económico que hace la ley a los Suboficiales de las Fuerzas Militares en servicio activo que adquieran una especialidad técnica mediante un curso cuya duración mínima sea de mil seiscientas (1.600) horas de clase o cuarenta y ocho (48) semanas de instrucción. Esta prima es equivalente al diez por ciento (10%) del sueldo básico mensual correspondiente a su grado, siempre y cuando se desempeñen en la respectiva especialidad. Los Suboficiales en los grados de Sargento Mayor, Suboficial Jefe Técnico y Suboficial Técnico Jefe, por el solo hecho de obtener estos grados, tienen derecho a la prima de especialista (Decreto 1211 de 1990, art. 91).",0,15]
[null,null,"D1429006","Minerales de zinc y sus concentrados",1,{"$f":"ROW()","v":3642},8,null,null,"2.4.1.02.03.055","Prima oficiales superiores Reconocimiento económico que hace la ley a los Oficiales de las Fuerzas Militares y de la Policía Nacional, en los grados de Teniente General y Almirante de Escuadra, de Mayor General y Vicealmirante, de Brigadier General y Contralmirante, y de Coronel y Capitán de Navío. Los oficiales con estos grados tienen derecho a primas mensuales equivalentes al cincuenta y cuatro por ciento (54%), al cincuenta y tres punto treinta y dos por ciento (53.32%), al cuarenta y siete punto ochenta por ciento (47.80%) y al treinta y seis punto ochenta y uno por ciento (36.81%), respectivamente, sobre lo que en todo tiempo devenguen los Ministros del Despacho como asignación básica y gastos de representación (Decreto anual de salarios).",0,15]
[null,null,"D1429099","Minerales no ferrosos y sus concentrados n.c.p.",1,{"$f":"ROW()","v":3643},8,null,null,"2.4.1.02.03.056","Prima cuerpo administrativo Reconocimiento económico que hace la ley a los Oficiales del Cuerpo Administrativo de las Fuerzas Militares que prestan los servicios profesionales de su especialidad por tiempo completo. Esta prima es equivalente al cuarenta por ciento (40%) del sueldo básico correspondiente a su grado (Decreto 1211 de 1990, art. 96).",0,15]
[null,null,"D1300002","Minerales y concentrados de torio",1,{"$f":"ROW()","v":3644},8,null,null,"2.4.1.02.03.057","Bonificación aeronáutica Reconocimiento económico que hace la ley a todos los servidores públicos de la Unidad Administrativa Especial de Aeronáutica Civil. Esta bonificación es equivalente al doscientos veinticinco por ciento (225%) de la asignación básica mensual señalada para el respectivo empleo y se reconoce en dos (2) contados iguales, en los meses de enero y septiembre de cada año (Decreto 313 de 2018, art. 17).",0,15]
[null,null,"D1300001","Minerales y concentrados de uranio",1,{"$f":"ROW()","v":3645},8,null,null,"2.4.1.02.03.058","Prima de productividad Reconocimiento económico que hace la ley a los servidores públicos de la Unidad Administrativa Especial de Aeronáutica Civil que cumplan con los indicadores de productividad previamente establecidos. Esta prima se reconoce bimestralmente durante los meses de febrero, abril, junio, agosto, octubre y diciembre y no puede ser inferior al 80% de la asignación básica del empleado (Decreto 313 de 2018, art. 16).",0,15]
[null,null,"D3899916","Miniaturas a escala para publicidad y propaganda",1,{"$f":"ROW()","v":3646},8,null,null,"2.4.1.02.03.059","Bonificación judicial Reconocimiento económico que hace la ley a los servidores públicos de la Dirección Ejecutiva de Administración Judicial, las Direcciones Seccionales de la Rama Judicial, los servidores de la Justicia Penal Militar y los servidores de la Fiscalía General de la Nación durante la prestación de sus servicios. Esta bonificación constituye factor para efectos de determinar el ingreso base de cotización del Sistema General de Pensiones y del Sistema General de Seguridad Social en Salud, mas no para determinar elementos salariales ni prestaciones sociales (Decreto 0384 de 2013, Decreto 022 de 2014 y Decreto 1014 de 2017).",0,15]
[null,null,"D3529907","Minibotiquines y estuches similares con productos medicinales o cosméticos",1,{"$f":"ROW()","v":3647},8,null,null,"2.4.1.02.03.060","Bonificación por servicios de protección y vigilancia Reconocimiento económico que hace la ley al personal del servicio de protección y vigilancia de la Rama Judicial, al personal de las Fuerzas Militares y de la Policía Nacional que presta el servicio de protección y vigilancia al Comandante General de las Fuerzas Militares, Comandantes de Fuerza y Director General de la Policía Nacional, a los Expresidentes de la República, a los Ministros del Despacho, a los Directores de Departamento Administrativo del orden nacional, al Procurador General de la Nación, al Contralor General de la República, al Defensor del Pueblo, al Auditor General de la República, al personal que presta este servicio a los oficiales generales y de insignia en sus diferentes grados, y a los miembros de la Policía Nacional que prestan el servicio de protección y vigilancia a los Honorables Congresistas (Decreto anual de salarios).",0,15]
[null,null,"D4761006","MiniDisc grabados",1,{"$f":"ROW()","v":3648},8,null,null,"2.4.1.02.03.061","Prima mensual oficiales y suboficiales Reconocimiento económico que hace la ley a los Oficiales de las Fuerzas Militares y de la Policía Nacional y en servicio activo que ostentan los grados de Teniente Coronel y Capitán de Fragata; y a los Suboficiales de las Fuerzas Militares y de la Policía Nacional en servicio activo que ostentan el grado de Sargento Primero en el Ejército Nacional o su equivalente en las demás fuerzas. Esta prima mensual, sin carácter salarial ni prestacional, es equivalente a dos punto setenta y siete por ciento (2.77%) y a uno punto noventa y dos por ciento (1.92%) respectivamente, de lo que en todo tiempo devenguen los Ministros del Despacho como asignación básica y gastos de representación (Decreto 1017 de 2013, art. 4).",0,15]
[null,null,"D4831502","Mirillas para puertas",1,{"$f":"ROW()","v":3649},8,null,null,"2.4.1.02.03.062","Apoyo de sostenimiento aprendices SENA Corresponde a las erogaciones como contraprestación por los servicios prestados por alumnos aprendices del Servicio Nacional de Aprendizaje (SENA) a través de los contratos de aprendizaje. Uno de los elementos característicos de los contratos de aprendizaje es el reconocimiento y pago al aprendiz de un apoyo del sostenimiento mensual, el cual tiene como fin garantizar el proceso de aprendizaje",0,15]
[null,null,"D2413111","Mistelas y cremas",1,{"$f":"ROW()","v":3650},8,null,null,"2.4.1.02.03.063","Remuneración profesores militares Corresponde la remuneración económica que se reconoce a los militares de planta permanente que prestan servicio de docencia de forma ocasional en los Institutos de Formación y Centros de Capacitación o educación de las Fuerzas Militares. Esta remuneración se reconoce al profesor militar por cada hora de clase dictada y corresponde a un porcentaje determinado y liquidado sobre el salario básico mensual. de acuerdo con la categoría a cargo del mismo",0,15]
[null,null,"D3912001","Mogolla - moyuelo",1,{"$f":"ROW()","v":3651},8,null,null,"2.4.1.02.03.064","Prima por dependientes Corresponde al reconocimiento mensual que realiza la Superintendencia de Sociedades, la Superintendencia de Industria y Comercio, la Superintendencia Financiera de Colombia y el Instituto Nacional de Metrología a favor de los empleados que adscriban beneficiarios que dependan económicamente y cumpla con los requisitos establecidos por ley",0,15]
[null,null,"D0429135","Mojarra de mar, fresca o refrigerada",1,{"$f":"ROW()","v":3652},{"$f":"LEN(C3652)","v":8},null,null,"2.4.1.02.03.065","Prima de matrimonio Corresponde a la prima que reconoce y paga por única vez la Superintendencia de Sociedades, la Superintendencia de Industria y Comercio, la Superintendencia Financiera de Colombia, el Instituto Nacional de Metrología y el Servicio Nacional de Aprendizaje (SENA) a los funcionarios que contraigan matrimonio, de acuerdo con las disposiciones normativas que aplican para cada entidad",0,{"$f":"LEN(J3652)","v":15}]
[null,null,"D0429306","Mojarra de mar, fresca o refrigerada",1,{"$f":"ROW()","v":3653},8,null,null,"2.4.1.02.03.066","Prima de nacimiento Corresponde a la prima que reconoce y paga por única vez la Superintendencia de Sociedades, la Superintendencia de Industria y Comercio, la Superintendencia Financiera de Colombia, el Instituto Nacional de Metrología y el Servicio Nacional de Aprendizaje (SENA) a los funcionarios por el nacimiento de un hijo de acuerdo con las disposiciones normativas que aplican para cada entidad",0,15]
[null,null,"D0429301","Mojarra de mar, vivas",1,{"$f":"ROW()","v":3654},8,null,null,"2.4.1.02.03.067","Prima semestral Corresponde a una prestación económica equivalente a un mes de del sueldo que tuvieren los empleados al 30 de junio y 31 de diciembre respectivamente, pagaderos los 15 primeros días de junio y diciembre de cada año, en las entidades y regímenes especiales en las que es reconocida.",0,15]
[null,null,"D3627031","Moldes de caucho para usos industriales",1,{"$f":"ROW()","v":3655},8,null,null,"2.4.1.02.03.068","Prima de actividad Corresponde al pago de la prima de actividad que se reconoce y paga a los funcionarios que hayan laborado durante un año continuo en la entidad. Esta prima es equivalente a 15 días del sueldo básico mensual, y es reconocida cuando el interesado acredite la autorización para el disfrute de vacaciones o su compensación en dinero",0,15]
[null,null,"D4491604","Moldes de inyección y/o soplado",1,{"$f":"ROW()","v":3656},8,null,null,"2.4.1.02.03.069","Gastos de representación Corresponde al reconocimiento que hace el Ministerio de Relaciones Exteriores a los Embajadores, jefes de Misión Permanente, cónsules Generales Centrales y los Encargados de Negocios para atender las actividades diplomáticas propias de su cargo en el exterior -En esta cuenta también se pueden registrar la prestación social pagada en consideración al alto grado de responsabilidad, compromiso, liderazgo e imagen (relaciones públicas) que representa el cargo de la Vicepresidencia y los más altos del nivel ejecutivo - Directores, SATENA por mera liberalidad podrá otorgar mensualmente una suma equivalente a Gastos de Representación, la cual no constituye salario y no tendrá incidencia en la liquidación y pago de prestaciones sociales o indemnizaciones, conforme a lo dispuesto en el artículo 15 de la Ley 50 de 1990, modificatorio del artículo 128 del Código Sustantivo del Trabajo.Los gastos de representación tienen como fin, compensar los gastos y erogaciones en que incurren ciertos cargos en consideración a su jerarquía y posición organizacional dentro de la empresa, necesarios en la representación de la entidad en actividades frente a clientes, entidades gubernamentales u oficiales y público en general, en beneficio comercial empresarial o de imagen de la entidad.",0,15]
[null,null,"D3191407","Moldes en madera para usos industriales",1,{"$f":"ROW()","v":3657},8,null,null,"2.4.1.02.03.070","Subsidio de anteojos Corresponde al beneficio que se otorga a los funcionarios, con el fin de subsidiar la adquisición de lentes y/o monturas.",0,15]
[null,null,"D3699042","Moldes en plástico para usos industriales",1,{"$f":"ROW()","v":3658},8,null,null,"2.4.1.02.03.071","Remuneración adicional de antiguos territorios nacionales Corresponde a una remuneración adicional otorgada a los empleados del Instituto Nacional de Medicina Legal y Ciencias Forenses que trabajen ordinariamente en los departamentos creados en el Artículo 309 de la Constitución Política. Esta remuneración es equivalente al 8% de la asignación básica mensual y se percibirá por cada mes completo de servicio y no constituye factor salarial para ningún efecto legal (",0,15]
[null,null,"D4491601","Moldes metálicos para usos industriales",1,{"$f":"ROW()","v":3659},8,null,null,"2.4.1.02.03.072","Prima de alimentación Corresponde a la remuneración que se reconoce, como concepto de prima alimentaria.",0,15]
[null,null,"D4491603","Moldes para metales y plásticos",1,{"$f":"ROW()","v":3660},8,null,null,"2.4.1.02.03.073","Viáticos y menaje de funcionarios del servicio exterior Corresponde al beneficio que se otorga en dinero a los funcionarios pertenecientes a la Carrera Diplomática y Consular o de Libre Nombramiento y Remoción del Ministerio de Relaciones Exteriores,245que, en ejercicio de sus funciones, requieran desplazarse al exterior o de un país extranjero a otro o entre ciudades distintas del mismo país",0,15]
[null,null,"D4491602","Moldes para prefabricados de hormigón",1,{"$f":"ROW()","v":3661},8,null,null,"2.4.1.02.03.074","Prima de localización Corresponde a la prima que reconoce el Servicio Nacional de Aprendizaje (SENA) a sus Trabajadores Oficiales. Esta prima es equivalente a ocho y medio (8.5) días de salario mínimo legal vigente en las regionales que están establecidas por el SENA o llegaren a establecerse",0,15]
[null,null,"D4291218","Moldes para repostería y análogos",1,{"$f":"ROW()","v":3662},8,null,null,"2.4.1.02.03.075","Subvención de transporte Los soldados del ejército o su equivalente en la Fuerza Pública y los auxiliares del cuerpo de custodia del INPEC, llamados al servicio, una vez licenciado o desacuartelado, tienen derecho a la subvención de la partida de transporte, en el momento del otorgamiento del permiso anual o en caso de calamidad domestica comprobada o catástrofe que haya podido afectar gravemente a su familia",0,15]
[null,null,"D4291244","Moldes refractarios de papel aluminio para alimentos",1,{"$f":"ROW()","v":3663},8,null,null,"2.4.1.02.03.076","Auxilio de movilización Corresponde a los recursos destinados por concepto de auxilio de movilización al que tienen derecho los funcionarios de la entidad.",0,15]
[null,null,"D3121201","Moldura de madera de bambú en blanco-marquetería",1,{"$f":"ROW()","v":3664},8,null,null,"2.4.1.02.03.077","Prima mensual Corresponde a la prima a la que tienen derecho los oficiales de las Fuerzas Militares y de la Policía Nacional, a partir de su ascenso al grado de Coronel o Capitán de Navío hasta el grado de General o Almirante, mientras permanezcan en servicio activo. Esta prima es equivalente a los 16.5% del sueldo básico, sin perjuicio de la asignación básica y primas mensuales fijadas en las disposiciones legales vigentes",0,15]
[null,null,"D3121205","Moldura de madera de bambú terminada-marquetería",1,{"$f":"ROW()","v":3665},8,null,null,"2.4.1.02.03.078","Partida especial de gastos de viaje Corresponde a la partida otorgada a los oficiales y suboficiales de las Tripulaciones de las Unidades de Flote, destinado en comisión colectiva transitoria al exterior, para visitas operacionales, de transporte, construcción, reparación o de cortesía",0,15]
[null,null,"D3121101","Moldura de madera de conifera en blanco-marquetería",1,{"$f":"ROW()","v":3666},8,null,null,"2.4.1.02.03.079","Auxilio especial de transporte Comprende el reconocimiento y pago del auxilio especial de transporte que realiza el Servicio Nacional de Aprendizaje (SENA) a favor de todos sus trabajadores oficiales. Este auxilio es equivalente al auxilio de transporte decretado por el gobierno, sin embargo, se reconoce de manera independiente al salario devengado por el Trabajador. Cuando el trabajador oficial compruebe tener uno o más hijos estudiando y estos dependan económicamente de él, el SENA pagará mensualmente por cada trabajador oficial247un subsidio extralegal de transporte equivalente al (100%) del auxilio decretado por el Gobierno",0,15]
[null,null,"D3121105","Moldura de madera de conifera terminada-marquetería",1,{"$f":"ROW()","v":3667},8,null,null,"2.4.1.02.03.080","Bonificación por compensación Corresponde al pago que se realiza a los funcionarios públicos determinados por la Ley, para la nivelación de sus ingresos respecto de equivalentes en otros sectores de referencia, este reconocimiento solamente constituye factor salarial para efectos de determinar el Ingreso Base de Cotización (IBC) del Sistema General de Pensiones, y para la cotización al Sistema General de Seguridad Social en Salud, más no para determinar elementos salariales ni prestaciones sociales",0,15]
[null,null,"D3121901","Moldura de otra madera en blanco-marquetería",1,{"$f":"ROW()","v":3668},8,null,null,"2.4.1.02.03.081","Prima especial de servicios Reconocimiento económico del 30% del salario básico mensual que hace la ley a los magistrados del Consejo Superior de la Judicatura, de la Corte Suprema de Justicia, de la Corte Constitucional, del Consejo de Estado, el Procurador General de la Nación, el Contralor General de la República, el Fiscal General de la Nación, el Defensor del Pueblo y el Registrador Nacional del Estado Civil con el fin de igualar los ingresos percibidos por estos funcionarios, con aquellos que reciben los miembros del Congreso, sin que en ningún caso los supere.El Gobierno podrá fijar la misma prima para los ministros de despacho, los Generales y Almirantes de la Fuerza Pública. Esta bonificación constituye factor para efectos de determinar el Ingreso Base de Cotización (IBC) del Sistema General de Pensiones, y para la cotización al Sistema General de Seguridad Social en Salud, mas no para determinar elementos salariales ni prestaciones sociales",0,15]
[null,null,"D3121905","Moldura de otra madera terminada-marquetería",1,{"$f":"ROW()","v":3669},8,null,null,"2.4.1.02.03.082","Prima especial Art. 14 Ley 4 de 1992 Comprende la prima que es reconocida a los magistrados de todo orden de los Tribunales Superiores de Distrito Judicial y Contencioso Administrativo, agentes del Ministerio Público delegados ante la Rama Judicial y para los jueces de la República, incluidos los magistrados y fiscales del Tribunal Superior Militar, Auditores de Guerra y Jueces de Instrucción Penal Militar, excepto los que opten por la escala de salarios de la Fiscalía General de la Nación, con efectos a partir del 1 de enero de 1993.Igualmente tendrán derecho a percibir esta prima los delegados departamentales del Registrador Nacional del Estado Civil, los registradores del distrito capital y los niveles directivo y asesor de la249Registraduría Nacional del Estado Civil, no podrá ser inferior al 30% ni superior al 60% del salario básico",0,15]
[null,null,"D3425004","Molibdato de amonio o molibdato amónico",1,{"$f":"ROW()","v":3670},8,null,null,"2.4.1.02.03.083","Prima de carabinero Prima a favor del personal de nivel ejecutivo de la Policía Nacional, que ostente la especialidad de carabinero o policía rural y preste sus servicios en las áreas reglamentadas por la Dirección General de la Policía Nacional. Esta prima es equivalente al 5% del sueldo básico, y no tiene carácter salarial para ningún efecto",0,15]
[null,null,"D4451306","Molino eléctrico industrial",1,{"$f":"ROW()","v":3671},8,null,null,"2.4.1.02.03.084","Auxilios Médicos Corresponde a la remuneración que percibe el empleado, en cumplimiento de acuerdos laborales, para cubrir gastos relacionados con la salud.",0,15]
[null,null,"D4481607","Molinos eléctricos domésticos",1,{"$f":"ROW()","v":3672},8,null,null,"2.4.1.02.03.085","Auxilios Educativos Corresponde a la remuneración que percibe el empleado, en cumplimiento de acuerdos laborales, para cubrir gastos educativos.",0,15]
[null,null,"D4291203","Molinos manuales",1,{"$f":"ROW()","v":3673},8,null,null,"2.4.1.02.03.086","Auxilios por Antigüedad Corresponde al beneficio extralegal por antigüedad que se reconoce en el marco de un acuerdo laboral.",0,15]
[null,null,"D4422211","Molinos para triturado y molido de plástico",1,{"$f":"ROW()","v":3674},8,null,null,"2.4.1.02.03.087","Auxilios para Desplazamiento Corresponde a la remuneración que percibe el empleado, en cumplimiento de acuerdos laborales, para cubrir gastos de desplazamiento.",0,15]
[null,null,"D2126801","Moluscos congelados",1,{"$f":"ROW()","v":3675},8,null,null,"2.4.1.02.03.088","Prima compensatoria Corresponde al beneficio extralegal por concepto de prima compensatoria que se reconoce al empleado en el marco del acuerdo laboral.",0,15]
[null,null,"D0449201","Moluscos de agua dulce, frescos o refrigerados",1,{"$f":"ROW()","v":3676},8,null,null,"2.4.1.02.03.089","Bonificación por Alto Riesgo Corresponde a la bonificación por alto riesgo que se reconoce al empleado en el marco de acuerdos de negociación colectiva.",0,15]
[null,null,"D0449101","Moluscos de mar, frescos o refrigerados",1,{"$f":"ROW()","v":3677},8,null,null,"2.4.1.02.03.090","Prima de antigüedad Corresponde a los pagos que realiza la Empresa URRA S.A en marco de la clausula séptima de la convención colectiva de trabajo entre la EICE y sus trabajadores no sindicalizados. Esta prima aplicará para las vigencias 2017-2022",0,15]
[null,null,"D0421105","Moncholo, fresco o refrigerado",1,{"$f":"ROW()","v":3678},8,null,null,"2.4.1.02.03.091","Bonificación especial de gestión Corresponde a los pagos que realiza la Empresa URRA S.A en marco de la clausula séptima de la convención colectiva de trabajo entre la EICE y sus trabajadores no sindicalizados. Esta bonificación aplicará para las vigencias 2017-2022",0,15]
[null,null,"D3825001","Monedas acuñadas",1,{"$f":"ROW()","v":3679},8,null,null,"2.4.1.02.03.092","Prima de vacaciones extralegal Corresponde por concepto de la prima de vacaciones extralegal a los empleados de la empresa URRÁ S.A, definida en la convención colectiva de trabajo entre la EICE y sus trabajadores no sindicalizados. Esta prima aplicará para las vigencias 2017-2022. Los pagos de esta prestación social son diferentes a los pagos por concepto de vacaciones.",0,15]
[null,null,"D4299906","Monedas sin grabar-cospeles",1,{"$f":"ROW()","v":3680},8,null,null,"2.4.1.02.03.093","Bonificación permanente extralegal La Empresa y el trabajador, en aplicación a lo establecido en el artículo 128 del Código Sustantivo del Trabajo, podrán acordar contractualmente y por escrito, beneficios habituales otorgados en forma extralegal, que no constituye para ningún efecto salario y no tendrá incidencia en la liquidación y pago de prestaciones sociales o indemnizaciones.Estas bonificaciones extralegales constituyen un reconocimiento que hace la Alta Dirección para aquellos trabajadores de la empresa, qué por razón de sus actividades, compromisos, disponibilidad, condiciones de empleo, entre otros factores, contribuyen al cumplimiento y fortalecimiento de los objetivos de la Empresa.",0,15]
[null,null,"D4731501","Monitores de máquinas automáticas para tratamiento y procesamiento de datos",1,{"$f":"ROW()","v":3681},8,null,null,"2.4.1.02.03.094","Prima extralegal por disponibilidad base operacional Adicional a la remuneración básica mensual pactada en el contrato de trabajo, SATENA podrá asignar una prima extralegal por mera liberalidad para aquellos cargos que, con ocasión a sus funciones y responsabilidades, conlleven inmerso actividades de dirección, confianza y manejo y que tengan a cargo la coordinación de una base operacional – comercial de la empresa.Este Auxilio extralegal “Prima de Disponibilidad base operacional-comercial SATENA”, no constituye salario y no tendrá incidencia en la liquidación y pago de prestaciones sociales o indemnizaciones, conforme a lo dispuesto en el artículo 15 de la Ley 50 de 1990, modificatorio del artículo 128 del Código Sustantivo del Trabajo.",0,15]
[null,null,"D3522010","Monoamidas aromáticas, sus sales y derivados",1,{"$f":"ROW()","v":3682},8,null,null,"2.4.1.02.03.095","Bonificación extralegal por dirección para los directores militares La Bonificación Extralegal por Dirección se pagará al Presidente, Vicepresidente y Directores Militares de SATENA, esta Bonificación no constituye salario y no tendrá incidencia en la liquidación y pago de prestaciones sociales o indemnizaciones, conforme a lo dispuesto en el artículo 15 de la Ley 50 de 1990, modificatorio del artículo 128 del Código Sustantivo del Trabajo.",0,15]
[null,null,"D3522003","Monoclorhidrato de lisina",1,{"$f":"ROW()","v":3683},8,null,null,"2.4.1.02.03.096","Prima de Instrucción Corresponde a la prima que reconoce SATENA al trabajador, que, en consideración a su idoneidad esté en capacidad de impartir instrucciones y/o capacitaciones a personal de Pilotos, Copilotos, Auxiliares de Vuelo y Despachadores (según el caso), y que constituyen actividades adicionales a las funciones propias de su cargo y por fuera de su jornada laboral, siempre y cuando se enmarque dentro de las labores de instrucción y/o entrenamiento. Este Auxilio extralegal, no constituye salario y no tendrá incidencia en la liquidación y pago de prestaciones sociales o indemnizaciones, conforme a lo dispuesto en el artículo 15 de la Ley 50 de 1990, modificatorio del artículo 128 del Código Sustantivo del Trabajo.",0,15]
[null,null,"D3631002","Monofilamento de material plástico",1,{"$f":"ROW()","v":3684},8,null,null,"2.4.1.02.03.097","Participación en utilidades Corresponde a la participación en utilidades que una empresa otorga a sus empleados, en el marco de acuerdos laborales.",0,15]
[null,null,"D3553006","Monofilamentos de poliuretano",1,{"$f":"ROW()","v":3685},8,null,null,"2.4.1.02.03.098","Reconocimiento por permanencia en el servicio público - Bogotá D.C. Es la retribución a la que tienen derecho los funcionarios, por prestar sus servicios por periodos de 5 años consecutivos, sin interrupciones, y por haber desempeñado más funciones con corrección y competencia.",0,15]
[null,null,"D3424017","Monofluorofosfato de sodio (MFP)",1,{"$f":"ROW()","v":3686},8,null,null,"2.4.1.02.04.001","Otros gastos de personal - previo concepto DGPPN Esta cuenta es de programación presupuestal y registra el monto de los gastos de personal por incremento salarial que resulta del ajuste del poder adquisitivo y demás criterios de programación impartidos para consideración, si los hubiera (Sentencia 1433 de 2000).",0,15]
[null,null,"D3471099","Monómeros n.c.p.",1,{"$f":"ROW()","v":3687},8,null,null,"2.4.5.01.00","Agricultura, silvicultura y productos de la pesca Son los gastos asociados a la adquisición de productos relacionados con la agricultura, la horticultura, la silvicultura y los productos de explotación forestal con el fin de utilizarlos como insumos en un proceso productivo o de comercialización. Incluye también la compra de animales o productos animales, y la compra de pescados o productos de la pesca.",0,11]
[null,null,"D4354003","Montacargas",1,{"$f":"ROW()","v":3688},8,null,null,"2.4.5.01.01","Minerales; electricidad, gas y agua Son los gastos asociados a la adquisición de todo tipo de minerales incluidos el carbón, el petróleo, los concentrados de uranio y torio, los minerales metálicos, las piedras preciosas, entre otros, con el fin de utilizarlos como insumo en un proceso productivo o de comercialización. En esta cuenta también se registran los gastos por adquisición de energía eléctrica, gas de ciudad y agua caliente.",0,11]
[null,null,"D4831304","Monturas de material plástico o fibra de vidrio sin terminar para anteojos",1,{"$f":"ROW()","v":3689},8,null,null,"2.4.5.01.02","Productos alimenticios, bebidas y tabaco; textiles, prendas de vestir y productos de cuero Son los gastos asociados a la adquisición de productos alimenticios como la carne; las preparaciones y conservas de pescados, frutas y hortalizas; los productos lácteos y ovoproductos; los productos de la molinería; y todo tipo de bebidas con el fin de utilizarlos como insumo en un proceso productivo o de comercialización. Esta sección incluye también la adquisición de hilados, tejidos, artículos textiles y dotación.",0,11]
[null,null,"D4831301","Monturas de material plástico para anteojos",1,{"$f":"ROW()","v":3690},8,null,null,"2.4.5.01.03","Otros bienes transportables (excepto productos metálicos, maquinaria y equipo) Son los gastos asociados a la adquisición de productos de madera; libros, diarios o publicaciones impresas; productos de refinación de petróleo y combustibles; productos químicos; productos de caucho y plástico; productos de vidrio; muebles; desechos; entre otros, con el fin de utilizarlos en un proceso productivo o de comercialización.",0,11]
[null,null,"D4831303","Monturas en fibra de vidrio para anteojos",1,{"$f":"ROW()","v":3691},8,null,null,"2.4.5.01.04","Productos metálicos, maquinaria y equipo Son los gastos asociados a la adquisición de metales básicos o productos metálicos elaborados; maquinaria de uso general o especial; máquinas para oficina y contabilidad; aparatos eléctricos; aparatos de radio, televisión y comunicaciones; aparatos médicos y equipo de transporte, con el fin de utilizarlos como insumo en un proceso productivo o de comercialización.",0,11]
[null,null,"D4831302","Monturas metálicas para anteojos",1,{"$f":"ROW()","v":3692},8,null,null,"2.4.5.02.05","Construcción y servicios de la construcción Son los gastos asociados a la adquisición de servicios de construcción como preparaciones de terreno, montaje de construcciones prefabricadas, instalaciones, servicios de terminación y acabados de edificios, entre otros, con el fin de utilizarlos como insumo en un proceso productivo o de comercialización",0,11]
[null,null,"D4835201","Monturas metálicas sin terminar para anteojos",1,{"$f":"ROW()","v":3693},8,null,null,"2.4.5.02.06","Comercio y distribución; alojamiento; servicios de suministro de comidas y bebidas; servicios de transporte; y servicios de distribución de electricidad, gas y agua Son los gastos asociados a la adquisición de servicios de alojamiento; servicios de suministro de comidas y bebidas; servicios de transporte de pasajeros o de carga; servicios de mensajería y servicios de distribución de electricidad, gas y agua, con el fin de utilizarlos como insumo en un proceso productivo o de comercialización.",0,11]
[null,null,"D0135301","Moras y frambuesas",1,{"$f":"ROW()","v":3694},8,null,null,"2.4.5.02.07","Servicios financieros y servicios conexos; servicios inmobiliarios; y servicios de arrendamiento y leasing Son los gastos asociados a la adquisición de servicios financieros, seguros, servicios de mantenimiento de activos financieros, servicios inmobiliarios y arrendamientos, con el fin de utilizarlos como insumo en un proceso productivo o de comercialización.",0,11]
[null,null,"D2118406","Morcillas",1,{"$f":"ROW()","v":3695},8,null,null,"2.4.5.02.08","Servicios prestados a las empresas y servicios de producción Son los gastos asociados a la adquisición de servicios de investigación y desarrollo, servicios jurídicos y contables, servicios de consultoría, servicios de publicidad, servicios de impresión servicios de telecomunicaciones, servicios de limpieza, servicios de seguridad, servicios de mantenimiento, entre otros, con el fin de utilizarlos como insumo en un proceso productivo o de comercialización.",0,11]
[null,null,"D2118410","Morcillas envasadas",1,{"$f":"ROW()","v":3696},8,null,null,"2.4.5.02.09","Servicios para la comunidad, sociales y personales Son los gastos asociados a la adquisición de servicios educativos, servicios de salud, servicios culturales y deportivos, servicios de tratamiento y recolección de desechos, servicios proporcionados por asociaciones, entre otros, con el fin de utilizarlos como insumo en un proceso productivo o de comercialización.",0,11]
[null,null,"D3549908","Mordientes para teñir",1,{"$f":"ROW()","v":3697},8,null,null,"2.4.5.02.10","Viáticos de los funcionarios en comisión Son los pagos por concepto de viáticos que reciben los funcionarios y trabajadores de las entidades en comisión, para alojamiento y manutención cuando: a) deban desempeñar sus funciones en un lugar diferente a su sede habitual de trabajo, ya sea dentro o fuera del país, o b) deba atender transitoriamente actividades distintas a las inherentes al empleo del que es titular. Los viáticos de los funcionarios en comisión constituyen adquisición de servicios cuando se hayan percibido por un término inferior a ciento ochenta (180) días en el último año de servicio.",0,11]
[null,null,"D0429114","Morenas - congrios - tiesos, frescas o refrigeradas",1,{"$f":"ROW()","v":3698},8]
[null,null,"D3525035","Morfina y sus sales",1,{"$f":"ROW()","v":3699},8]
[null,null,"D2922217","Morrales de lona",1,{"$f":"ROW()","v":3700},8]
[null,null,"D2118401","Mortadela",1,{"$f":"ROW()","v":3701},8]
[null,null,"D4472004","Morteros (armamento)",1,{"$f":"ROW()","v":3702},8]
[null,null,"D3719902","Mosaico de vidrio",1,{"$f":"ROW()","v":3703},8]
[null,null,"D3737002","Mosaicos de porcelana",1,{"$f":"ROW()","v":3704},8]
[null,null,"D4299942","Mosquetones y elementos metálicos análogos, para seguridad industrial",1,{"$f":"ROW()","v":3705},8]
[null,null,"D2399505","Mostaza",1,{"$f":"ROW()","v":3706},8]
[null,null,"D2423001","Mosto de frutas",1,{"$f":"ROW()","v":3707},8]
[null,null,"D2421201","Mosto de uvas",1,{"$f":"ROW()","v":3708},8]
[null,null,"D3814032","Mostradores de madera",1,{"$f":"ROW()","v":3709},8]
[null,null,"D3814046","Mostradores metálicos para bancos",1,{"$f":"ROW()","v":3710},8]
[null,null,"D3814042","Mostradores y/o exhibidores metálicos",1,{"$f":"ROW()","v":3711},8]
[null,null,"D4991203","Motocarros",1,{"$f":"ROW()","v":3712},8]
[null,null,"D4991201","Motocicletas",1,{"$f":"ROW()","v":3713},8]
[null,null,"D4414101","Motocultores",1,{"$f":"ROW()","v":3714},8]
[null,null,"D4991202","Motonetas",1,{"$f":"ROW()","v":3715},8]
[null,null,"D4691104","Motores de arranque",1,{"$f":"ROW()","v":3716},{"$f":"LEN(C3716)","v":8}]
[null,null,"D4312201","Motores de émbolo alternativo, de encendido por chispa (gasolina) para la propulsión de vehículos automóviles de cilindrada superior a 1.000 cm3",1,{"$f":"ROW()","v":3717},8]
[null,null,"D4312202","Motores de émbolo de encendido por chispa para la propulsión de vehículos pesados",1,{"$f":"ROW()","v":3718},8]
[null,null,"D4312101","Motores de émbolo de encendido por chispa para motocicletas, motonetas y similares de hasta 1000 cm3 de cilindrada",1,{"$f":"ROW()","v":3719},8]
[null,null,"D4312301","Motores de émbolo de encendido por compresión (diésel) para vehículos automotores",1,{"$f":"ROW()","v":3720},8]
[null,null,"D4311002","Motores de encendido por chispa (de explosión a gasolina)",1,{"$f":"ROW()","v":3721},8]
[null,null,"D4311003","Motores de encendido por compresión (de explosión diésel o semidiésel), para la propulsión de barcos",1,{"$f":"ROW()","v":3722},8]
[null,null,"D4611101","Motores eléctricos de potencia inferior o igual a 37,5 W",1,{"$f":"ROW()","v":3723},8]
[null,null,"D4611203","Motores eléctricos de potencia superior a 37,5W",1,{"$f":"ROW()","v":3724},8]
[null,null,"D4311001","Motores marinos, de encendido por chispa",1,{"$f":"ROW()","v":3725},8]
[null,null,"D4321901","Motores no eléctricos",1,{"$f":"ROW()","v":3726},8]
[null,null,"D4313101","Motores reconstruidos para aeronaves",1,{"$f":"ROW()","v":3727},8]
[null,null,"D4332006","Motorreductores",1,{"$f":"ROW()","v":3728},8]
[null,null,"D2399919","Mucílagos y espesativos derivados de los vegetales-carragenina",1,{"$f":"ROW()","v":3729},8]
[null,null,"D3814058","Muebles de madera especiales para baño",1,{"$f":"ROW()","v":3730},8]
[null,null,"D3814093","Muebles de madera n.c.p.",1,{"$f":"ROW()","v":3731},8]
[null,null,"D3814082","Muebles de madera n.c.p. para alcoba",1,{"$f":"ROW()","v":3732},8]
[null,null,"D3814084","Muebles de madera n.c.p. para comedor",1,{"$f":"ROW()","v":3733},8]
[null,null,"D3814087","Muebles de madera n.c.p. para el comercio",1,{"$f":"ROW()","v":3734},8]
[null,null,"D3814086","Muebles de madera n.c.p. para escuelas",1,{"$f":"ROW()","v":3735},8]
[null,null,"D3812299","Muebles de madera n.c.p. para oficina",1,{"$f":"ROW()","v":3736},8]
[null,null,"D3814083","Muebles de madera n.c.p. para sala",1,{"$f":"ROW()","v":3737},8]
[null,null,"D3814088","Muebles de madera n.c.p. para servicios",1,{"$f":"ROW()","v":3738},8]
[null,null,"D3814031","Muebles de madera para bafles y amplificadores de sonido",1,{"$f":"ROW()","v":3739},8]
[null,null,"D4464002","Muebles de madera para máquinas de coser",1,{"$f":"ROW()","v":3740},8]
[null,null,"D3814068","Muebles de madera para radiolas",1,{"$f":"ROW()","v":3741},8]
[null,null,"D3814067","Muebles de madera para radios",1,{"$f":"ROW()","v":3742},8]
[null,null,"D3814025","Muebles de madera para televisores y equipos de sonido",1,{"$f":"ROW()","v":3743},8]
[null,null,"D3814065","Muebles de madera sin terminar",1,{"$f":"ROW()","v":3744},8]
[null,null,"D3814060","Muebles de material plástico par aparatos electrónicos",1,{"$f":"ROW()","v":3745},8]
[null,null,"D3814054","Muebles de plástico espumado flexible",1,{"$f":"ROW()","v":3746},8]
[null,null,"D3814095","Muebles de vidrio n.c.p. para sala",1,{"$f":"ROW()","v":3747},8]
[null,null,"D3813002","Muebles en madera para cocinas integrales",1,{"$f":"ROW()","v":3748},8]
[null,null,"D3813003","Muebles en madera para cocinas integrales",1,{"$f":"ROW()","v":3749},8]
[null,null,"D3814047","Muebles integrales para restaurantes, cafeterías y similares",1,{"$f":"ROW()","v":3750},8]
[null,null,"D4299303","Muebles metálicos de seguridad",1,{"$f":"ROW()","v":3751},8]
[null,null,"D3814094","Muebles metálicos n.c.p.",1,{"$f":"ROW()","v":3752},8]
[null,null,"D3814085","Muebles metálicos n.c.p. para cocina",1,{"$f":"ROW()","v":3753},8]
[null,null,"D3814090","Muebles metálicos n.c.p. para comercio y servicios",1,{"$f":"ROW()","v":3754},8]
[null,null,"D3814097","Muebles metálicos n.c.p. para el hogar",1,{"$f":"ROW()","v":3755},8]
[null,null,"D3814089","Muebles metálicos n.c.p. para escuelas",1,{"$f":"ROW()","v":3756},8]
[null,null,"D4818099","Muebles metálicos n.c.p. para hospitales",1,{"$f":"ROW()","v":3757},8]
[null,null,"D3812199","Muebles metálicos n.c.p. para oficina",1,{"$f":"ROW()","v":3758},8]
[null,null,"D3814045","Muebles metálicos para autoservicios en restaurantes",1,{"$f":"ROW()","v":3759},8]
[null,null,"D4464001","Muebles metálicos para máquinas de coser",1,{"$f":"ROW()","v":3760},8]
[null,null,"D3812206","Muebles modulares de madera para oficina",1,{"$f":"ROW()","v":3761},8]
[null,null,"D3812209","Muebles modulares de madera para oficina",1,{"$f":"ROW()","v":3762},8]
[null,null,"D3814098","Muebles n.c.p. de material plástico",1,{"$f":"ROW()","v":3763},8]
[null,null,"D3814099","Muebles n.c.p. en mimbre, bambú o similares",1,{"$f":"ROW()","v":3764},8]
[null,null,"D3814096","Muebles n.c.p. para baño en fibra de vidrio",1,{"$f":"ROW()","v":3765},8]
[null,null,"D4294501","Muelles de cobre",1,{"$f":"ROW()","v":3766},8]
[null,null,"D4294506","Muelles de espiral de acero",1,{"$f":"ROW()","v":3767},8]
[null,null,"D4294504","Muelles de hojas de acero",1,{"$f":"ROW()","v":3768},8]
[null,null,"D0213301","Mulas y burdéganos",1,{"$f":"ROW()","v":3769},8]
[null,null,"D4817107","Muletas ortopédicas",1,{"$f":"ROW()","v":3770},8]
[null,null,"D3631004","Multifilamentos de material plástico",1,{"$f":"ROW()","v":3771},8]
[null,null,"D4315105","Múltiples de admisión y escape para automotores",1,{"$f":"ROW()","v":3772},8]
[null,null,"D3545005","Multiplicadores para explosivos",1,{"$f":"ROW()","v":3773},8]
[null,null,"D4474003","Munición de caza y deporte",1,{"$f":"ROW()","v":3774},8]
[null,null,"D4474010","Municiones (excepto para armas pequeñas)",1,{"$f":"ROW()","v":3775},8]
[null,null,"D3852002","Muñecas de adorno",1,{"$f":"ROW()","v":3776},8]
[null,null,"D3852001","Muñecas de juguete",1,{"$f":"ROW()","v":3777},8]
[null,null,"D0125102","Nabos",1,{"$f":"ROW()","v":3778},8]
[null,null,"D3333002","Nafta (excepto virgen)",1,{"$f":"ROW()","v":3779},8]
[null,null,"D3333001","Nafta virgen (éter de petróleo)",1,{"$f":"ROW()","v":3780},{"$f":"LEN(C3780)","v":8}]
[null,null,"D3411011","Naftalina",1,{"$f":"ROW()","v":3781},8]
[null,null,"D3549954","Naftenatos",1,{"$f":"ROW()","v":3782},8]
[null,null,"D3479023","Nailon",1,{"$f":"ROW()","v":3783},8]
[null,null,"D3857001","Naipes",1,{"$f":"ROW()","v":3784},8]
[null,null,"D0132301","Naranja",1,{"$f":"ROW()","v":3785},8]
[null,null,"D2367012","Naranjas rellenas",1,{"$f":"ROW()","v":3786},8]
[null,null,"D0132903","Naranjo agrio",1,{"$f":"ROW()","v":3787},8]
[null,null,"D2229006","Natilla (postre)",1,{"$f":"ROW()","v":3788},8]
[null,null,"D4291401","Navajas de peluquería",1,{"$f":"ROW()","v":3789},8]
[null,null,"D4291304","Navajas y cortaplumas",1,{"$f":"ROW()","v":3790},8]
[null,null,"D2922108","Neceseres de cuero",1,{"$f":"ROW()","v":3791},8]
[null,null,"D2922208","Neceseres de material plástico",1,{"$f":"ROW()","v":3792},8]
[null,null,"D1639911","Nefelina sienita",1,{"$f":"ROW()","v":3793},8]
[null,null,"D3423111","Negro de humo",1,{"$f":"ROW()","v":3794},8]
[null,null,"D3525068","Neomicina",1,{"$f":"ROW()","v":3795},8]
[null,null,"D3421005","Neón",1,{"$f":"ROW()","v":3796},8]
[null,null,"D3480004","Neopreno",1,{"$f":"ROW()","v":3797},8]
[null,null,"D3844021","Neumáticos para balones",1,{"$f":"ROW()","v":3798},8]
[null,null,"D3611404","Neumáticos para llantas de automóviles",1,{"$f":"ROW()","v":3799},8]
[null,null,"D3611406","Neumáticos para llantas de aviones",1,{"$f":"ROW()","v":3800},8]
[null,null,"D3611408","Neumáticos para llantas de bicicletas",1,{"$f":"ROW()","v":3801},8]
[null,null,"D3611405","Neumáticos para llantas de buses y camiones",1,{"$f":"ROW()","v":3802},8]
[null,null,"D3611409","Neumáticos para llantas de maquinaria agrícola o de ingeniería",1,{"$f":"ROW()","v":3803},8]
[null,null,"D3611407","Neumáticos para llantas de motocicletas y motonetas",1,{"$f":"ROW()","v":3804},8]
[null,null,"D4391305","Neveras para uso comercial",1,{"$f":"ROW()","v":3805},8]
[null,null,"D4481101","Neveras para uso doméstico",1,{"$f":"ROW()","v":3806},8]
[null,null,"D0421106","Nicuro, fresco o refrigerado",1,{"$f":"ROW()","v":3807},8]
[null,null,"D4142204","Níquel electrolítico",1,{"$f":"ROW()","v":3808},8]
[null,null,"D4142201","Níquel en bloques y lingotes",1,{"$f":"ROW()","v":3809},8]
[null,null,"D2922103","Niqueleras, cigarrilleras y similares de cuero",1,{"$f":"ROW()","v":3810},8]
[null,null,"D2922203","Niqueleras, cigarrilleras y similares de material plástico",1,{"$f":"ROW()","v":3811},8]
[null,null,"D0131923","Níspero",1,{"$f":"ROW()","v":3812},8]
[null,null,"D3461301","Nitrato de amonio",1,{"$f":"ROW()","v":3813},8]
[null,null,"D3424045","Nitrato de bario",1,{"$f":"ROW()","v":3814},8]
[null,null,"D3424046","Nitrato de calcio",1,{"$f":"ROW()","v":3815},8]
[null,null,"D3424047","Nitrato de magnesio",1,{"$f":"ROW()","v":3816},8]
[null,null,"D3425005","Nitrato de plata",1,{"$f":"ROW()","v":3817},8]
[null,null,"D3464601","Nitrato de potasio (nitro o salitre)",1,{"$f":"ROW()","v":3818},8]
[null,null,"D3415016","Nitrato de sodio",1,{"$f":"ROW()","v":3819},8]
[null,null,"D3424044","Nitrato y subnitrato de bismuto",1,{"$f":"ROW()","v":3820},8]
[null,null,"D3424098","Nitratos n.c.p.",1,{"$f":"ROW()","v":3821},8]
[null,null,"D3465301","Nitrito de potasio",1,{"$f":"ROW()","v":3822},8]
[null,null,"D3465302","Nitrito de sodio",1,{"$f":"ROW()","v":3823},8]
[null,null,"D3479004","Nitrocelulosa",1,{"$f":"ROW()","v":3824},8]
[null,null,"D3416013","Nitrofuranos",1,{"$f":"ROW()","v":3825},8]
[null,null,"D3416030","Nitrofurantoina",1,{"$f":"ROW()","v":3826},8]
[null,null,"D3421002","Nitrógeno",1,{"$f":"ROW()","v":3827},8]
[null,null,"D4821201","Niveles",1,{"$f":"ROW()","v":3828},8]
[null,null,"D3525034","Noretisterona",1,{"$f":"ROW()","v":3829},8]
[null,null,"D3525074","Novobiocina",1,{"$f":"ROW()","v":3830},8]
[null,null,"D3549957","Nucleótidos",1,{"$f":"ROW()","v":3831},8]
[null,null,"D0137701","Nueces del Brasil",1,{"$f":"ROW()","v":3832},8]
[null,null,"D0137901","Nuez de Macadamia",1,{"$f":"ROW()","v":3833},8]
[null,null,"D0149102","Nuez de palma africana y palmiste",1,{"$f":"ROW()","v":3834},8]
[null,null,"D2392301","Nuez moscada elaborada",1,{"$f":"ROW()","v":3835},8]
[null,null,"D0165301","Nuez moscada, nuez de Castilla, nuez de Bombay",1,{"$f":"ROW()","v":3836},8]
[null,null,"D0154001","Ñames",1,{"$f":"ROW()","v":3837},8]
[null,null,"D0429136","Ñato, fresco o refrigerado",1,{"$f":"ROW()","v":3838},8]
[null,null,"D2929005","Objetos de adorno de cuero",1,{"$f":"ROW()","v":3839},8]
[null,null,"D3899917","Objetos de metal sobredorado",1,{"$f":"ROW()","v":3840},8]
[null,null,"D3722205","Objetos decorativos de barro cocido",1,{"$f":"ROW()","v":3841},8]
[null,null,"D3722109","Objetos para tocador de loza o porcelana",1,{"$f":"ROW()","v":3842},8]
[null,null,"D2342007","Obleas",1,{"$f":"ROW()","v":3843},8]
[null,null,"D3769003","Obras decorativas de piedra",1,{"$f":"ROW()","v":3844},{"$f":"LEN(C3844)","v":8}]
[null,null,"D3160099","Obras n.c.p. de madera para construcción",1,{"$f":"ROW()","v":3845},8]
[null,null,"D3511034","Octoatos metálicos",1,{"$f":"ROW()","v":3846},8]
[null,null,"D4299705","Ojetes metálicos",1,{"$f":"ROW()","v":3847},8]
[null,null,"D3699047","Ojetes plásticos",1,{"$f":"ROW()","v":3848},8]
[null,null,"D3525072","Oleandomicina",1,{"$f":"ROW()","v":3849},8]
[null,null,"D3414029","Oleato de glicerilo",1,{"$f":"ROW()","v":3850},8]
[null,null,"D4291221","Ollas de acero inoxidable",1,{"$f":"ROW()","v":3851},8]
[null,null,"D4291222","Ollas de aluminio",1,{"$f":"ROW()","v":3852},8]
[null,null,"D4291216","Ollas de presión",1,{"$f":"ROW()","v":3853},8]
[null,null,"D4291217","Ollas de vapor",1,{"$f":"ROW()","v":3854},8]
[null,null,"D4291206","Ollas esmaltadas",1,{"$f":"ROW()","v":3855},8]
[null,null,"D4291224","Olletas, lecheras, cafeteras y similares de aluminio",1,{"$f":"ROW()","v":3856},8]
[null,null,"D4291207","Olletas, lecheras, cafeteras y similares, esmaltados",1,{"$f":"ROW()","v":3857},8]
[null,null,"D3649021","Organizadores (torres) plásticos de casetes, CD y similares",1,{"$f":"ROW()","v":3858},8]
[null,null,"D4299940","Organizadores de alambre plastificado para el hogar",1,{"$f":"ROW()","v":3859},8]
[null,null,"D3833001","Órganos",1,{"$f":"ROW()","v":3860},8]
[null,null,"D3721003","Orinales de loza o porcelana",1,{"$f":"ROW()","v":3861},8]
[null,null,"D3529903","Oro dental",1,{"$f":"ROW()","v":3862},8]
[null,null,"D4132002","Oro en lingotes",1,{"$f":"ROW()","v":3863},8]
[null,null,"D4132001","Oro en masas, granos y nódulos",1,{"$f":"ROW()","v":3864},8]
[null,null,"D4132004","Oro en polvo, hojas y tiras delgadas",1,{"$f":"ROW()","v":3865},8]
[null,null,"D4132005","Oro líquido",1,{"$f":"ROW()","v":3866},8]
[null,null,"D4132003","Oro y sus aleaciones en barras y láminas",1,{"$f":"ROW()","v":3867},8]
[null,null,"D3414043","Ortoftalatos de dioctilo",1,{"$f":"ROW()","v":3868},8]
[null,null,"D3411010","Ortoxileno",1,{"$f":"ROW()","v":3869},8]
[null,null,"D3411017","Ortoxileno",1,{"$f":"ROW()","v":3870},8]
[null,null,"D0442201","Ostras de cultivo",1,{"$f":"ROW()","v":3871},8]
[null,null,"D0442101","Ostras de pesca",1,{"$f":"ROW()","v":3872},8]
[null,null,"D2128001","Ostras enlatadas",1,{"$f":"ROW()","v":3873},8]
[null,null,"D0219499","Otras aves de corral vivas n.c.p.",1,{"$f":"ROW()","v":3874},8]
[null,null,"D3339003","Otras bases y destilados parafínicos y nafténicos derivados del petróleo",1,{"$f":"ROW()","v":3875},8]
[null,null,"D2392999","Otras especias elaboradas n.c.p.",1,{"$f":"ROW()","v":3876},8]
[null,null,"D0169899","Otras especias sin elaborar n.c.p",1,{"$f":"ROW()","v":3877},8]
[null,null,"D0196299","Otras flores y capullos cortados n.c.p.",1,{"$f":"ROW()","v":3878},8]
[null,null,"D3261007","Otras formas en papel de seguridad",1,{"$f":"ROW()","v":3879},8]
[null,null,"D0132999","Otras frutas cítricas n.c.p.",1,{"$f":"ROW()","v":3880},8]
[null,null,"D2141999","Otras frutas secas con o sin cáscaras n.c.p.",1,{"$f":"ROW()","v":3881},8]
[null,null,"D0131999","Otras frutas tropicales y subtropicales n.c.p.",1,{"$f":"ROW()","v":3882},8]
[null,null,"D0321999","Otras gomas, gomorresinas, oleorresinas y bálsamos, naturales n.c.p.",1,{"$f":"ROW()","v":3883},8]
[null,null,"D2119099","Otras harinas de subproductos de la matanza de animales n.c.p.",1,{"$f":"ROW()","v":3884},8]
[null,null,"D0170999","Otras legumbres secas n.c.p.",1,{"$f":"ROW()","v":3885},8]
[null,null,"D0124999","Otras legumbres verdes n.c.p",1,{"$f":"ROW()","v":3886},8]
[null,null,"D0137999","Otras nueces con cáscara n.c.p.",1,{"$f":"ROW()","v":3887},8]
[null,null,"D1632198","Otras piedras preciosas n.c.p.",1,{"$f":"ROW()","v":3888},8]
[null,null,"D1632199","Otras piedras semipreciosas n.c.p.",1,{"$f":"ROW()","v":3889},8]
[null,null,"D0295599","Otras pieles finas sin curtir n.c.p.",1,{"$f":"ROW()","v":3890},8]
[null,null,"D0196199","Otras plantas vivas n.c.p.",1,{"$f":"ROW()","v":3891},8]
[null,null,"D1512098","Otras rocas metamórficas para construcción y talla n.c.p.",1,{"$f":"ROW()","v":3892},8]
[null,null,"D1532099","Otras rocas o piedras trituradas para construcción n.c.p.",1,{"$f":"ROW()","v":3893},8]
[null,null,"D1513099","Otras rocas y minerales de origen volcánico n.c.p.",1,{"$f":"ROW()","v":3894},8]
[null,null,"D0144999","Otras semillas oleaginosas n.c.p.",1,{"$f":"ROW()","v":3895},8]
[null,null,"D3431004","Otras tinturas (excepto vainilla)",1,{"$f":"ROW()","v":3896},8]
[null,null,"D0219999","Otros animales vivos n.c.p.",1,{"$f":"ROW()","v":3897},8]
[null,null,"D0439299","Otros crustáceos de agua dulce n.c.p.",1,{"$f":"ROW()","v":3898},8]
[null,null,"D0439199","Otros crustáceos de agua salada n.c.p.",1,{"$f":"ROW()","v":3899},8]
[null,null,"D0149999","Otros frutos oleaginosos n.c.p.",1,{"$f":"ROW()","v":3900},8]
[null,null,"D3526199","Otros medicamentos n.c.p. para uso humano terapéutico o profiláctico",1,{"$f":"ROW()","v":3901},8]
[null,null,"D4160499","Otros metales comunes en formas n.c.p.",1,{"$f":"ROW()","v":3902},8]
[null,null,"D1423099","Otros minerales de aluminio y sus concentrados n.c.p.",1,{"$f":"ROW()","v":3903},8]
[null,null,"D3814091","Otros muebles de madera n.c.p.",1,{"$f":"ROW()","v":3904},8]
[null,null,"D3814092","Otros muebles n.c.p. de madera",1,{"$f":"ROW()","v":3905},8]
[null,null,"D0421298","Otros peces vivos, de cultivo, de agua dulce n.c.p.",1,{"$f":"ROW()","v":3906},8]
[null,null,"D0429398","Otros peces vivos, de cultivo, de agua salada n.c.p.",1,{"$f":"ROW()","v":3907},8]
[null,null,"D0429299","Otros pescados de agua dulce,  vivos, frescos o refrigerados n.c.p.",1,{"$f":"ROW()","v":3908},{"$f":"LEN(C3908)","v":8}]
[null,null,"D0429199","Otros pescados de agua salada, vivos, frescos o refrigerados n.c.p.",1,{"$f":"ROW()","v":3909},8]
[null,null,"D0421299","Otros pescados de cultivo, frescos o refrigerados, de agua dulce n.c.p.",1,{"$f":"ROW()","v":3910},8]
[null,null,"D0429399","Otros pescados de cultivo, frescos o refrigerados, de agua salada n.c.p.",1,{"$f":"ROW()","v":3911},8]
[null,null,"D2399799","Otros platos y comidas preparadas n.c.p.",1,{"$f":"ROW()","v":3912},8]
[null,null,"D3479096","Otros polímeros naturales n.c.p.",1,{"$f":"ROW()","v":3913},8]
[null,null,"D3337005","Otros productos de refinería",1,{"$f":"ROW()","v":3914},8]
[null,null,"D0191999","Otros productos forrajeros n.c.p.",1,{"$f":"ROW()","v":3915},8]
[null,null,"D0199299","Otros productos vegetales n.c.p.",1,{"$f":"ROW()","v":3916},8]
[null,null,"D0219599","Otros reptiles n.c.p.",1,{"$f":"ROW()","v":3917},8]
[null,null,"D8873299","Otros servicios de corte (excepto láser o agua) de piezas principalmente metálicas",1,{"$f":"ROW()","v":3918},8]
[null,null,"D8736099","Otros servicios de instalación de maquinaria y aparatos eléctricos n.c.p.",1,{"$f":"ROW()","v":3919},8]
[null,null,"D8715299","Otros servicios de mantenimiento y reparación de maquinaria y aparatos eléctricos n.c.p.",1,{"$f":"ROW()","v":3920},8]
[null,null,"D8912299","Otros trabajos de encuadernación n.c.p.",1,{"$f":"ROW()","v":3921},8]
[null,null,"D4414999","Otros tractores de uso agrícola n.c.p.",1,{"$f":"ROW()","v":3922},8]
[null,null,"D2823127","Overoles para hombre (prenda de vestir)",1,{"$f":"ROW()","v":3923},8]
[null,null,"D2823323","Overoles para mujer (prenda de vestir)",1,{"$f":"ROW()","v":3924},8]
[null,null,"D2823324","Overoles para niña (prenda de vestir)",1,{"$f":"ROW()","v":3925},8]
[null,null,"D2823128","Overoles para niño (prenda de vestir)",1,{"$f":"ROW()","v":3926},8]
[null,null,"D2823610","Overoles para trabajo",1,{"$f":"ROW()","v":3927},8]
[null,null,"D2399302","Ovoalbúmina",1,{"$f":"ROW()","v":3928},8]
[null,null,"D4143201","Óxido de aluminio",1,{"$f":"ROW()","v":3929},8]
[null,null,"D3423126","Óxido de bario",1,{"$f":"ROW()","v":3930},8]
[null,null,"D3422009","Óxido de bismuto",1,{"$f":"ROW()","v":3931},8]
[null,null,"D3422008","Óxido de estaño",1,{"$f":"ROW()","v":3932},8]
[null,null,"D1639903","Óxido de magnesio puro",1,{"$f":"ROW()","v":3933},8]
[null,null,"D3425012","Óxido de mercurio",1,{"$f":"ROW()","v":3934},8]
[null,null,"D3422010","Óxido de níquel y colbato",1,{"$f":"ROW()","v":3935},8]
[null,null,"D3417004","Óxido de propileno",1,{"$f":"ROW()","v":3936},8]
[null,null,"D3421009","Óxido nitroso",1,{"$f":"ROW()","v":3937},8]
[null,null,"D3422003","Óxidos artificiales de hierro",1,{"$f":"ROW()","v":3938},8]
[null,null,"D3422012","Óxidos de manganeso",1,{"$f":"ROW()","v":3939},8]
[null,null,"D3422007","Óxidos de plomo-minio",1,{"$f":"ROW()","v":3940},8]
[null,null,"D3421099","Óxidos inorgánicos n.c.p.",1,{"$f":"ROW()","v":3941},8]
[null,null,"D3421003","Oxígeno",1,{"$f":"ROW()","v":3942},8]
[null,null,"D3525070","Oxitetraciclina",1,{"$f":"ROW()","v":3943},8]
[null,null,"D2731003","Pabilo trenzado de algodón",1,{"$f":"ROW()","v":3944},8]
[null,null,"D2799802","Pabilos de algodón",1,{"$f":"ROW()","v":3945},8]
[null,null,"D0219203","Pacas, lapas o guaguas",1,{"$f":"ROW()","v":3946},8]
[null,null,"D0429205","Pacora, fresca o refrigerada",1,{"$f":"ROW()","v":3947},8]
[null,null,"D2399701","Paella precocida",1,{"$f":"ROW()","v":3948},8]
[null,null,"D4291223","Pailas de aluminio",1,{"$f":"ROW()","v":3949},8]
[null,null,"D0325003","Paja para escobas y similares",1,{"$f":"ROW()","v":3950},8]
[null,null,"D0191301","Paja y cascabillo de cereales",1,{"$f":"ROW()","v":3951},8]
[null,null,"D4292105","Palas y similares",1,{"$f":"ROW()","v":3952},8]
[null,null,"D3191410","Paletas y palitos de madera para confites y helados",1,{"$f":"ROW()","v":3953},8]
[null,null,"D3191408","Palillos de madera para dientes",1,{"$f":"ROW()","v":3954},8]
[null,null,"D3191411","Palitos de madera para chuzos, pinchos y similares",1,{"$f":"ROW()","v":3955},8]
[null,null,"D3191414","Palitos de madera para la elaboración de fósforos",1,{"$f":"ROW()","v":3956},8]
[null,null,"D3699027","Palitos y palitas de material plástico para confites y helados",1,{"$f":"ROW()","v":3957},8]
[null,null,"D0121902","Palmitos",1,{"$f":"ROW()","v":3958},8]
[null,null,"D2134003","Palmitos conservadas en vinagre o ácido acético",1,{"$f":"ROW()","v":3959},8]
[null,null,"D0429206","Palometa, fresca o refrigerada",1,{"$f":"ROW()","v":3960},8]
[null,null,"D3844007","Palos de hockey",1,{"$f":"ROW()","v":3961},8]
[null,null,"D4292130","Palustres y similares",1,{"$f":"ROW()","v":3962},8]
[null,null,"D0429130","Pámpano, fresco o refrigerado",1,{"$f":"ROW()","v":3963},8]
[null,null,"D2342002","Pan de maíz, queso, yuca y similares",1,{"$f":"ROW()","v":3964},8]
[null,null,"D2342001","Pan de trigo",1,{"$f":"ROW()","v":3965},8]
[null,null,"D3417016","Pancreatina",1,{"$f":"ROW()","v":3966},8]
[null,null,"D2355002","Panela granulada y/o pulverizada, deshidratada (polvo, cubos, etc.)",1,{"$f":"ROW()","v":3967},8]
[null,null,"D2355001","Panela sólida (barras, bloques, redonda)",1,{"$f":"ROW()","v":3968},8]
[null,null,"D4341005","Paneles infrarrojos catalíticos para tratamiento térmico",1,{"$f":"ROW()","v":3969},8]
[null,null,"D4716002","Paneles integrales para control electrónico",1,{"$f":"ROW()","v":3970},8]
[null,null,"D4912922","Paneles para radiadores de automotores",1,{"$f":"ROW()","v":3971},8]
[null,null,"D3215308","Paneles, divisiones y particiones de cartón para cajas",1,{"$f":"ROW()","v":3972},{"$f":"LEN(C3972)","v":8}]
[null,null,"D3215312","Paneles, divisiones, particiones o protectores de papel para caja",1,{"$f":"ROW()","v":3973},8]
[null,null,"D3219934","Pantallas de cartulina",1,{"$f":"ROW()","v":3974},8]
[null,null,"D4653104","Pantallas de material plástico",1,{"$f":"ROW()","v":3975},8]
[null,null,"D2719010","Pantallas de materiales textiles",1,{"$f":"ROW()","v":3976},8]
[null,null,"D3719605","Pantallas de vidrio",1,{"$f":"ROW()","v":3977},8]
[null,null,"D2824108","Pantalones de cuero",1,{"$f":"ROW()","v":3978},8]
[null,null,"D2823109","Pantalones de paño para hombre",1,{"$f":"ROW()","v":3979},8]
[null,null,"D2823110","Pantalones de paño para niño",1,{"$f":"ROW()","v":3980},8]
[null,null,"D2823113","Pantalones de tejidos de algodón, para hombre",1,{"$f":"ROW()","v":3981},8]
[null,null,"D2823114","Pantalones de tejidos de algodón, para niño",1,{"$f":"ROW()","v":3982},8]
[null,null,"D2823125","Pantalones de tejidos planos de fibras mezcladas, para hombre",1,{"$f":"ROW()","v":3983},8]
[null,null,"D2823312","Pantalones de tejidos planos de fibras mezcladas, para niña",1,{"$f":"ROW()","v":3984},8]
[null,null,"D2823126","Pantalones de tejidos planos de fibras mezcladas, para niño",1,{"$f":"ROW()","v":3985},8]
[null,null,"D2823198","Pantalones de tejidos planos n.c.p. para hombre",1,{"$f":"ROW()","v":3986},8]
[null,null,"D2823199","Pantalones de tejidos planos n.c.p. para niño",1,{"$f":"ROW()","v":3987},8]
[null,null,"D2823111","Pantalones de tejidos sintéticos para hombre",1,{"$f":"ROW()","v":3988},8]
[null,null,"D2823112","Pantalones de tejidos sintéticos para niño",1,{"$f":"ROW()","v":3989},8]
[null,null,"D2823309","Pantalones o slaks de paño, para mujer",1,{"$f":"ROW()","v":3990},8]
[null,null,"D2823319","Pantalones o slaks de tejidos planos de algodón, para mujer",1,{"$f":"ROW()","v":3991},8]
[null,null,"D2823320","Pantalones o slaks de tejidos planos de algodón, para niña",1,{"$f":"ROW()","v":3992},8]
[null,null,"D2823310","Pantalones o slaks de tejidos planos de fibras artificiales o sintéticas, para mujer",1,{"$f":"ROW()","v":3993},8]
[null,null,"D2823311","Pantalones o slaks de tejidos planos de fibras mezcladas para mujer",1,{"$f":"ROW()","v":3994},8]
[null,null,"D2823328","Pantalones o slaks en lino, para mujer",1,{"$f":"ROW()","v":3995},8]
[null,null,"D2823605","Pantalonetas, chores, bermudas y similares para deporte",1,{"$f":"ROW()","v":3996},8]
[null,null,"D3525018","Pantenol",1,{"$f":"ROW()","v":3997},8]
[null,null,"D4823203","Pantógrafos",1,{"$f":"ROW()","v":3998},8]
[null,null,"D3525002","Pantotenato de calcio",1,{"$f":"ROW()","v":3999},8]
[null,null,"D3525003","Pantotenato de sodio",1,{"$f":"ROW()","v":4000},8]
[null,null,"D2933006","Pantuflas de cuero",1,{"$f":"ROW()","v":4001},8]
[null,null,"D2932001","Pantuflas y similares (excepto de cuero)",1,{"$f":"ROW()","v":4002},8]
[null,null,"D2922220","Pañaleras",1,{"$f":"ROW()","v":4003},8]
[null,null,"D2823501","Pañales de tela",1,{"$f":"ROW()","v":4004},8]
[null,null,"D3219601","Pañales desechables",1,{"$f":"ROW()","v":4005},8]
[null,null,"D3532330","Pañitos húmedos",1,{"$f":"ROW()","v":4006},8]
[null,null,"D2823806","Pañoletas",1,{"$f":"ROW()","v":4007},8]
[null,null,"D2823809","Pañolones de algodón",1,{"$f":"ROW()","v":4008},8]
[null,null,"D2823808","Pañolones de lana",1,{"$f":"ROW()","v":4009},8]
[null,null,"D2719009","Paños absorbentes desechables para uso doméstico",1,{"$f":"ROW()","v":4010},8]
[null,null,"D2652001","Paños de lana cardada, con un contenido de lana o pelo fino de animal igual o superior al 85% en peso",1,{"$f":"ROW()","v":4011},8]
[null,null,"D2654001","Paños de lana mezclados con fibras artificiales y/o sintéticas, con un contenido de lana o pelo fino de animal inferior al 85% en peso",1,{"$f":"ROW()","v":4012},8]
[null,null,"D2654002","Paños de lana mezclados con un contenido de lana o pelo fino de animal inferior al 85% en peso",1,{"$f":"ROW()","v":4013},8]
[null,null,"D2653001","Paños de lana peinada, con un contenido de lana o pelo fino de animal igual o superior al 85% en peso",1,{"$f":"ROW()","v":4014},8]
[null,null,"D2654003","Paños de lana peinada, con un contenido de lana o pelo fino de animal inferior al 85% en peso",1,{"$f":"ROW()","v":4015},8]
[null,null,"D3791009","Paños y telas abrasivas para aseo y limpieza",1,{"$f":"ROW()","v":4016},8]
[null,null,"D2823805","Pañuelos",1,{"$f":"ROW()","v":4017},8]
[null,null,"D3219303","Pañuelos de papel",1,{"$f":"ROW()","v":4018},8]
[null,null,"D2399901","Papa frita",1,{"$f":"ROW()","v":4019},8]
[null,null,"D0151001","Papas",1,{"$f":"ROW()","v":4020},8]
[null,null,"D2131301","Papas (patatas) congeladas",1,{"$f":"ROW()","v":4021},8]
[null,null,"D0151002","Papas criollas",1,{"$f":"ROW()","v":4022},8]
[null,null,"D3525061","Papaverina",1,{"$f":"ROW()","v":4023},8]
[null,null,"D0131701","Papaya",1,{"$f":"ROW()","v":4024},8]
[null,null,"D0131919","Papayuela",1,{"$f":"ROW()","v":4025},8]
[null,null,"D3215101","Papel acanalado",1,{"$f":"ROW()","v":4026},8]
[null,null,"D4153501","Papel aluminio",1,{"$f":"ROW()","v":4027},8]
[null,null,"D3213703","Papel apergaminado",1,{"$f":"ROW()","v":4028},8]
[null,null,"D3213801","Papel apergaminado",1,{"$f":"ROW()","v":4029},8]
[null,null,"D3212803","Papel avión",1,{"$f":"ROW()","v":4030},8]
[null,null,"D3212811","Papel base para papel carbón",1,{"$f":"ROW()","v":4031},8]
[null,null,"D3212809","Papel biblia y similares para agendas",1,{"$f":"ROW()","v":4032},8]
[null,null,"D3212907","Papel biblia y similares para agendas",1,{"$f":"ROW()","v":4033},8]
[null,null,"D3212801","Papel bond",1,{"$f":"ROW()","v":4034},8]
[null,null,"D3212901","Papel bond",1,{"$f":"ROW()","v":4035},8]
[null,null,"D3214817","Papel carbón",1,{"$f":"ROW()","v":4036},{"$f":"LEN(C4036)","v":8}]
[null,null,"D3219102","Papel carbón",1,{"$f":"ROW()","v":4037},8]
[null,null,"D3633029","Papel celofán",1,{"$f":"ROW()","v":4038},8]
[null,null,"D3633030","Papel celofán impreso",1,{"$f":"ROW()","v":4039},8]
[null,null,"D3214906","Papel con membrete",1,{"$f":"ROW()","v":4040},8]
[null,null,"D3213401","Papel corrugado medio-bogus",1,{"$f":"ROW()","v":4041},8]
[null,null,"D3214202","Papel crepé",1,{"$f":"ROW()","v":4042},8]
[null,null,"D3213701","Papel cristal-glacine",1,{"$f":"ROW()","v":4043},8]
[null,null,"D3214805","Papel de calcomanía",1,{"$f":"ROW()","v":4044},8]
[null,null,"D3219401","Papel de colgadura",1,{"$f":"ROW()","v":4045},8]
[null,null,"D3212804","Papel de copia manifold",1,{"$f":"ROW()","v":4046},8]
[null,null,"D3212903","Papel de copia manifold",1,{"$f":"ROW()","v":4047},8]
[null,null,"D3213501","Papel de fibras recicladas (Testliner)",1,{"$f":"ROW()","v":4048},8]
[null,null,"D3791005","Papel de lija en hojas",1,{"$f":"ROW()","v":4049},8]
[null,null,"D3791006","Papel de lija en rollos",1,{"$f":"ROW()","v":4050},8]
[null,null,"D3213702","Papel de seda",1,{"$f":"ROW()","v":4051},8]
[null,null,"D3212813","Papel de seguridad",1,{"$f":"ROW()","v":4052},8]
[null,null,"D3212910","Papel de seguridad",1,{"$f":"ROW()","v":4053},8]
[null,null,"D3214904","Papel decorado para regalo",1,{"$f":"ROW()","v":4054},8]
[null,null,"D3213101","Papel del tipo utilizado para papel higiénico",1,{"$f":"ROW()","v":4055},8]
[null,null,"D3214804","Papel encerado",1,{"$f":"ROW()","v":4056},8]
[null,null,"D3214303","Papel esmaltado, estucado o cuché",1,{"$f":"ROW()","v":4057},8]
[null,null,"D3214401","Papel esmaltado, estucado o cuché",1,{"$f":"ROW()","v":4058},8]
[null,null,"D3219904","Papel especial para estampación de textiles",1,{"$f":"ROW()","v":4059},8]
[null,null,"D3212999","Papel especial para impresión n.c.p.",1,{"$f":"ROW()","v":4060},8]
[null,null,"D3214201","Papel estampado",1,{"$f":"ROW()","v":4061},8]
[null,null,"D3219101","Papel esténcil",1,{"$f":"ROW()","v":4062},8]
[null,null,"D3219901","Papel fibroso tivek",1,{"$f":"ROW()","v":4063},8]
[null,null,"D3213301","Papel kraft",1,{"$f":"ROW()","v":4064},8]
[null,null,"D3213901","Papel kraft",1,{"$f":"ROW()","v":4065},8]
[null,null,"D3214811","Papel laminado",1,{"$f":"ROW()","v":4066},8]
[null,null,"D3214812","Papel laminado impreso",1,{"$f":"ROW()","v":4067},8]
[null,null,"D3214905","Papel lineado y cuadriculado",1,{"$f":"ROW()","v":4068},8]
[null,null,"D3213201","Papel liner (kraft liner)",1,{"$f":"ROW()","v":4069},8]
[null,null,"D3213303","Papel manila",1,{"$f":"ROW()","v":4070},8]
[null,null,"D3213902","Papel manila",1,{"$f":"ROW()","v":4071},8]
[null,null,"D3213704","Papel mantequilla",1,{"$f":"ROW()","v":4072},8]
[null,null,"D3213802","Papel mantequilla",1,{"$f":"ROW()","v":4073},8]
[null,null,"D3219903","Papel mezclado",1,{"$f":"ROW()","v":4074},8]
[null,null,"D3214903","Papel milimetrado",1,{"$f":"ROW()","v":4075},8]
[null,null,"D3214814","Papel mimeógrafo",1,{"$f":"ROW()","v":4076},8]
[null,null,"D3219103","Papel mimeógrafo",1,{"$f":"ROW()","v":4077},8]
[null,null,"D3212802","Papel offset",1,{"$f":"ROW()","v":4078},8]
[null,null,"D3212902","Papel offset",1,{"$f":"ROW()","v":4079},8]
[null,null,"D3213803","Papel para calcar",1,{"$f":"ROW()","v":4080},8]
[null,null,"D3213601","Papel para cigarrillos-arroz",1,{"$f":"ROW()","v":4081},8]
[null,null,"D3212805","Papel para cuadernos",1,{"$f":"ROW()","v":4082},8]
[null,null,"D3212905","Papel para escritorio sin impresión",1,{"$f":"ROW()","v":4083},8]
[null,null,"D3214816","Papel para fax",1,{"$f":"ROW()","v":4084},8]
[null,null,"D3213604","Papel para filtro",1,{"$f":"ROW()","v":4085},8]
[null,null,"D3219937","Papel para filtro de cigarrillos-impreso",1,{"$f":"ROW()","v":4086},8]
[null,null,"D3212808","Papel para heliógrafo",1,{"$f":"ROW()","v":4087},8]
[null,null,"D3213102","Papel para servilletas, toallas y similares",1,{"$f":"ROW()","v":4088},8]
[null,null,"D3214803","Papel parafinado",1,{"$f":"ROW()","v":4089},8]
[null,null,"D3214807","Papel parafinado impreso",1,{"$f":"ROW()","v":4090},8]
[null,null,"D3212101","Papel periódico",1,{"$f":"ROW()","v":4091},8]
[null,null,"D3212102","Papel periódico",1,{"$f":"ROW()","v":4092},8]
[null,null,"D3214808","Papel plastificado",1,{"$f":"ROW()","v":4093},8]
[null,null,"D3214806","Papel químico (autocopia o autocopiativo)",1,{"$f":"ROW()","v":4094},8]
[null,null,"D3219105","Papel químico (autocopia o autocopiativo)",1,{"$f":"ROW()","v":4095},8]
[null,null,"D3213705","Papel resistente a las grasas (greaseproof)",1,{"$f":"ROW()","v":4096},8]
[null,null,"D3219302","Papel sanitario fraccionado",1,{"$f":"ROW()","v":4097},8]
[null,null,"D3213603","Papel secante",1,{"$f":"ROW()","v":4098},8]
[null,null,"D3261004","Papel sellado",1,{"$f":"ROW()","v":4099},8]
[null,null,"D3213602","Papel sulfito",1,{"$f":"ROW()","v":4100},{"$f":"LEN(C4100)","v":8}]
[null,null,"D3214815","Papel térmico o termosensible",1,{"$f":"ROW()","v":4101},8]
[null,null,"D3219104","Papel térmico o termosensible",1,{"$f":"ROW()","v":4102},8]
[null,null,"D3214304","Papel y cartón multicapas",1,{"$f":"ROW()","v":4103},8]
[null,null,"D4299402","Papeleras de aluminio",1,{"$f":"ROW()","v":4104},8]
[null,null,"D3812207","Papeleras de madera para oficina",1,{"$f":"ROW()","v":4105},8]
[null,null,"D3212897","Papeles especiales para impresión n.c.p.",1,{"$f":"ROW()","v":4106},8]
[null,null,"D3214902","Papeles impregnados y revestidos incluso autoadhesivos",1,{"$f":"ROW()","v":4107},8]
[null,null,"D3214813","Papeles impregnados y revestidos, incluso autoadhesivos",1,{"$f":"ROW()","v":4108},8]
[null,null,"D3219926","Papeles impresos para envolver y usos análogos",1,{"$f":"ROW()","v":4109},8]
[null,null,"D3212899","Papeles n.c.p.",1,{"$f":"ROW()","v":4110},8]
[null,null,"D3212812","Papeles y cartulinas satinados",1,{"$f":"ROW()","v":4111},8]
[null,null,"D3212906","Papeles y cartulinas satinados",1,{"$f":"ROW()","v":4112},8]
[null,null,"D4834102","Papeles y cartulinas sensibilizadas",1,{"$f":"ROW()","v":4113},8]
[null,null,"D3814052","Papelógrafos de madera",1,{"$f":"ROW()","v":4114},8]
[null,null,"D4923119","Parachoques de vehículos automotores",1,{"$f":"ROW()","v":4115},8]
[null,null,"D3350002","Parafinas",1,{"$f":"ROW()","v":4116},8]
[null,null,"D3350001","Parafinas (liviana, media y micro)",1,{"$f":"ROW()","v":4117},8]
[null,null,"D3892101","Paraguas",1,{"$f":"ROW()","v":4118},8]
[null,null,"D4621102","Pararrayos",1,{"$f":"ROW()","v":4119},8]
[null,null,"D3892105","Parasoles, toldos instalados",1,{"$f":"ROW()","v":4120},8]
[null,null,"D3627008","Parches de caucho para vulcanizar",1,{"$f":"ROW()","v":4121},8]
[null,null,"D0429307","Pargo, fresco o refrigerado",1,{"$f":"ROW()","v":4122},8]
[null,null,"D0429302","Pargo, vivos",1,{"$f":"ROW()","v":4123},8]
[null,null,"D0429108","Pargos, rabirrubias y rubias, frescos o refrigerados",1,{"$f":"ROW()","v":4124},8]
[null,null,"D4733002","Parlantes-altavoces",1,{"$f":"ROW()","v":4125},8]
[null,null,"D3160007","Parquet",1,{"$f":"ROW()","v":4126},8]
[null,null,"D4482202","Parrilla de hogar",1,{"$f":"ROW()","v":4127},8]
[null,null,"D4813003","Partes componentes de unidades odontológicas",1,{"$f":"ROW()","v":4128},8]
[null,null,"D4293212","Partes de aluminio para envases",1,{"$f":"ROW()","v":4129},8]
[null,null,"D2960016","Partes de caucho para calzado",1,{"$f":"ROW()","v":4130},8]
[null,null,"D3627006","Partes de caucho para goteros",1,{"$f":"ROW()","v":4131},8]
[null,null,"D2960004","Partes de cuero para calzado",1,{"$f":"ROW()","v":4132},8]
[null,null,"D4293209","Partes de hojalata para envases",1,{"$f":"ROW()","v":4133},8]
[null,null,"D4293211","Partes de hojalata para envases",1,{"$f":"ROW()","v":4134},8]
[null,null,"D4425501","Partes de máquinas y aparatos de gas para temple superficial",1,{"$f":"ROW()","v":4135},8]
[null,null,"D2960020","Partes de material plástico para calzado",1,{"$f":"ROW()","v":4136},8]
[null,null,"D3191203","Partes de vajilla de madera",1,{"$f":"ROW()","v":4137},8]
[null,null,"D4923118","Partes en fibra de vidrio para cabinas de automotores",1,{"$f":"ROW()","v":4138},8]
[null,null,"D4293118","Partes en lámina de hierro o acero para envases",1,{"$f":"ROW()","v":4139},8]
[null,null,"D4315106","Partes especiales (camisas) para reparación de motores",1,{"$f":"ROW()","v":4140},8]
[null,null,"D4994202","Partes estructurales (marcos, tenedores, manubrios) para bicicletas y triciclos",1,{"$f":"ROW()","v":4141},8]
[null,null,"D4994105","Partes estructurales (marcos, tenedores, manubrios) para motocicleta",1,{"$f":"ROW()","v":4142},8]
[null,null,"D3160013","Partes estructurales en madera para eventos, decoración y publicidad",1,{"$f":"ROW()","v":4143},8]
[null,null,"D4219003","Partes estructurales metálicas para edificaciones",1,{"$f":"ROW()","v":4144},8]
[null,null,"D4219009","Partes estructurales para instalaciones industriales",1,{"$f":"ROW()","v":4145},8]
[null,null,"D4357007","Partes metálicas estructurales especiales para equipos de manipulación",1,{"$f":"ROW()","v":4146},8]
[null,null,"D3870202","Partes metálicas para casas prefabricadas",1,{"$f":"ROW()","v":4147},8]
[null,null,"D3816006","Partes metálicas para muebles",1,{"$f":"ROW()","v":4148},8]
[null,null,"D2960009","Partes metálicas para tacones",1,{"$f":"ROW()","v":4149},8]
[null,null,"D4654104","Partes metálicas para tubos fluorescentes",1,{"$f":"ROW()","v":4150},8]
[null,null,"D4923199","Partes n.c.p. para carrocerías de vehículos automotores",1,{"$f":"ROW()","v":4151},8]
[null,null,"D4912999","Partes n.c.p. para chasises de vehículos automotores",1,{"$f":"ROW()","v":4152},8]
[null,null,"D4315399","Partes n.c.p. para embarcaciones",1,{"$f":"ROW()","v":4153},8]
[null,null,"D4394107","Partes para aparatos y equipos de refrigeración",1,{"$f":"ROW()","v":4154},8]
[null,null,"D4325201","Partes para bombas de líquidos",1,{"$f":"ROW()","v":4155},8]
[null,null,"D4325101","Partes para calderas y generadores de vapor",1,{"$f":"ROW()","v":4156},8]
[null,null,"D2960007","Partes para calzado elaboradas en lámina prensada-odena",1,{"$f":"ROW()","v":4157},8]
[null,null,"D2823704","Partes para corsetería",1,{"$f":"ROW()","v":4158},8]
[null,null,"D3899318","Partes para escobas y cepillos",1,{"$f":"ROW()","v":4159},8]
[null,null,"D4954003","Partes para frenos de vehículos de ferrocarril",1,{"$f":"ROW()","v":4160},8]
[null,null,"D4357001","Partes para gatos",1,{"$f":"ROW()","v":4161},8]
[null,null,"D4923105","Partes para mecanismos de cinturones de seguridad para automotores",1,{"$f":"ROW()","v":4162},8]
[null,null,"D4994103","Partes para motores de motocicletas y motonetas",1,{"$f":"ROW()","v":4163},8]
[null,null,"D3853001","Partes para muñecas",1,{"$f":"ROW()","v":4164},{"$f":"LEN(C4164)","v":8}]
[null,null,"D4740401","Partes para radiorreceptores",1,{"$f":"ROW()","v":4165},8]
[null,null,"D4923201","Partes para remolques y semirremolques y para otros vehículos no automóviles",1,{"$f":"ROW()","v":4166},8]
[null,null,"D4994205","Partes para sistemas de freno y engranaje (cambios) para bicicletas y triciclos",1,{"$f":"ROW()","v":4167},8]
[null,null,"D4740202","Partes para tocadiscos",1,{"$f":"ROW()","v":4168},8]
[null,null,"D4357002","Partes para transportadores mecánicos",1,{"$f":"ROW()","v":4169},8]
[null,null,"D3699053","Partes plásticas para elaborar escobas, traperos y similares",1,{"$f":"ROW()","v":4170},8]
[null,null,"D3856004","Partes plásticas para juguetería",1,{"$f":"ROW()","v":4171},8]
[null,null,"D3694017","Partes plásticas para máquinas de afeitar",1,{"$f":"ROW()","v":4172},8]
[null,null,"D4325402","Partes plásticas para válvulas de aerosol",1,{"$f":"ROW()","v":4173},8]
[null,null,"D4923112","Partes tapizadas para vehículos automotores",1,{"$f":"ROW()","v":4174},8]
[null,null,"D4994208","Partes y accesorios de caucho para bicicletas y triciclos",1,{"$f":"ROW()","v":4175},8]
[null,null,"D3627014","Partes y accesorios de caucho para electrodomésticos",1,{"$f":"ROW()","v":4176},8]
[null,null,"D3627004","Partes y accesorios de caucho para equipo de venoclisis",1,{"$f":"ROW()","v":4177},8]
[null,null,"D4994107","Partes y accesorios de caucho para motocicletas",1,{"$f":"ROW()","v":4178},8]
[null,null,"D3627028","Partes y accesorios de caucho para uso industrial",1,{"$f":"ROW()","v":4179},8]
[null,null,"D4394301","Partes y accesorios de dispensadores para líquidos",1,{"$f":"ROW()","v":4180},8]
[null,null,"D4835401","Partes y accesorios de los dispositivos de cristal líquido",1,{"$f":"ROW()","v":4181},8]
[null,null,"D3816099","Partes y accesorios de madera n.c.p. para muebles",1,{"$f":"ROW()","v":4182},8]
[null,null,"D4452207","Partes y accesorios de maquinaria para elaborar alimentos",1,{"$f":"ROW()","v":4183},8]
[null,null,"D4912997","Partes y accesorios de material plástico n.c.p. para automotores",1,{"$f":"ROW()","v":4184},8]
[null,null,"D3699028","Partes y accesorios de material plástico para aparatos electrodomésticos",1,{"$f":"ROW()","v":4185},8]
[null,null,"D3699026","Partes y accesorios de material plástico para aparatos frigoríficos",1,{"$f":"ROW()","v":4186},8]
[null,null,"D3699029","Partes y accesorios de material plástico para casetes",1,{"$f":"ROW()","v":4187},8]
[null,null,"D3699051","Partes y accesorios de material plástico para elementos de protección",1,{"$f":"ROW()","v":4188},8]
[null,null,"D4324002","Partes y accesorios de material plástico para instalaciones de regulación y control",1,{"$f":"ROW()","v":4189},8]
[null,null,"D3699025","Partes y accesorios de material plástico para maquinaria",1,{"$f":"ROW()","v":4190},8]
[null,null,"D4419903","Partes y accesorios en fibra de vidrio para maquinaria agrícola",1,{"$f":"ROW()","v":4191},8]
[null,null,"D4923117","Partes y accesorios en fibra de vidrio para vehículos automotores",1,{"$f":"ROW()","v":4192},8]
[null,null,"D4828401","Partes y accesorios metálicos para instrumentos de regulación y control",1,{"$f":"ROW()","v":4193},8]
[null,null,"D4835203","Partes y accesorios metálicos para monturas y anteojos",1,{"$f":"ROW()","v":4194},8]
[null,null,"D4492906","Partes y accesorios n.c.p para maquinaria industrial",1,{"$f":"ROW()","v":4195},8]
[null,null,"D4740299","Partes y accesorios n.c.p. para aparatos y elementos para radio y televisión.",1,{"$f":"ROW()","v":4196},8]
[null,null,"D4994299","Partes y accesorios n.c.p. para bicicletas y triciclos",1,{"$f":"ROW()","v":4197},8]
[null,null,"D4912998","Partes y accesorios n.c.p. para cajas de velocidad",1,{"$f":"ROW()","v":4198},8]
[null,null,"D4419999","Partes y accesorios n.c.p. para maquinaria agrícola",1,{"$f":"ROW()","v":4199},8]
[null,null,"D4994199","Partes y accesorios n.c.p. para motocicletas y motonetas",1,{"$f":"ROW()","v":4200},8]
[null,null,"D4315199","Partes y accesorios n.c.p. para motores",1,{"$f":"ROW()","v":4201},8]
[null,null,"D4912996","Partes y accesorios n.c.p. para vehículos automotores",1,{"$f":"ROW()","v":4202},8]
[null,null,"D4696901","Partes y accesorios para alarmas",1,{"$f":"ROW()","v":4203},8]
[null,null,"D4696101","Partes y accesorios para alternadores de vehículos automotores",1,{"$f":"ROW()","v":4204},8]
[null,null,"D4912929","Partes y accesorios para amortiguadores de automotores",1,{"$f":"ROW()","v":4205},8]
[null,null,"D4912930","Partes y accesorios para amortiguadores hidráulicos de motores",1,{"$f":"ROW()","v":4206},8]
[null,null,"D4483105","Partes y accesorios para aparatos electrodomésticos",1,{"$f":"ROW()","v":4207},8]
[null,null,"D4394102","Partes y accesorios para aparatos para acondicionamiento de aire y calefacción",1,{"$f":"ROW()","v":4208},8]
[null,null,"D4740102","Partes y accesorios para aparatos telefónicos",1,{"$f":"ROW()","v":4209},8]
[null,null,"D3899107","Partes y accesorios para árboles de navidad y adornos navideños",1,{"$f":"ROW()","v":4210},8]
[null,null,"D2929012","Partes y accesorios para artículos de protección personal",1,{"$f":"ROW()","v":4211},8]
[null,null,"D4357004","Partes y accesorios para ascensores",1,{"$f":"ROW()","v":4212},8]
[null,null,"D4483103","Partes y accesorios para aspiradoras y brilladoras",1,{"$f":"ROW()","v":4213},8]
[null,null,"D4357006","Partes y accesorios para bandas transportadoras",1,{"$f":"ROW()","v":4214},8]
[null,null,"D4394302","Partes y accesorios para básculas, balanzas y análogos",1,{"$f":"ROW()","v":4215},8]
[null,null,"D3859004","Partes y accesorios para billares",1,{"$f":"ROW()","v":4216},8]
[null,null,"D3859006","Partes y accesorios para boleras",1,{"$f":"ROW()","v":4217},8]
[null,null,"D3891111","Partes y accesorios para bolígrafo, estilógrafos y similares",1,{"$f":"ROW()","v":4218},8]
[null,null,"D4849002","Partes y accesorios para cajas de relojes",1,{"$f":"ROW()","v":4219},8]
[null,null,"D4234201","Partes y accesorios para calderas y generadores de vapor",1,{"$f":"ROW()","v":4220},8]
[null,null,"D4835301","Partes y accesorios para cámaras fotográficas",1,{"$f":"ROW()","v":4221},8]
[null,null,"D4315402","Partes y accesorios para carburadores de automóviles",1,{"$f":"ROW()","v":4222},8]
[null,null,"D4299209","Partes y accesorios para cerraduras",1,{"$f":"ROW()","v":4223},8]
[null,null,"D4325301","Partes y accesorios para compresores, bombas y análogos",1,{"$f":"ROW()","v":4224},8]
[null,null,"D4529001","Partes y accesorios para computadores y minicomputadores",1,{"$f":"ROW()","v":4225},8]
[null,null,"D4828303","Partes y accesorios para contadores de electricidad",1,{"$f":"ROW()","v":4226},8]
[null,null,"D3892402","Partes y accesorios para cremalleras",1,{"$f":"ROW()","v":4227},8]
[null,null,"D4696102","Partes y accesorios para distribuidores de vehículos automotores",1,{"$f":"ROW()","v":4228},{"$f":"LEN(C4228)","v":8}]
[null,null,"D4333201","Partes y accesorios para ejes, trenes o sistemas de transmisión de automotores",1,{"$f":"ROW()","v":4229},8]
[null,null,"D4357005","Partes y accesorios para elevadores mecánicos",1,{"$f":"ROW()","v":4230},8]
[null,null,"D4912942","Partes y accesorios para embragues de automotores, excepto discos y prensas",1,{"$f":"ROW()","v":4231},8]
[null,null,"D4923102","Partes y accesorios para ensamble de carrocerías de automotores",1,{"$f":"ROW()","v":4232},8]
[null,null,"D4419501","Partes y accesorios para equipo de fabricación de vinos",1,{"$f":"ROW()","v":4233},8]
[null,null,"D4954004","Partes y accesorios para equipo ferroviario",1,{"$f":"ROW()","v":4234},8]
[null,null,"D4432001","Partes y accesorios para equipos de fundición",1,{"$f":"ROW()","v":4235},8]
[null,null,"D4740206","Partes y accesorios para equipos de sonorización",1,{"$f":"ROW()","v":4236},8]
[null,null,"D4815008","Partes y accesorios para equipos de venoclisis y análogos",1,{"$f":"ROW()","v":4237},8]
[null,null,"D3844016","Partes y accesorios para escenarios (canchas) deportivos",1,{"$f":"ROW()","v":4238},8]
[null,null,"D4343002","Partes y accesorios para estufas de gas",1,{"$f":"ROW()","v":4239},8]
[null,null,"D4343004","Partes y accesorios para estufas de gasolina y petróleo",1,{"$f":"ROW()","v":4240},8]
[null,null,"D4343001","Partes y accesorios para estufas y hornos eléctricos",1,{"$f":"ROW()","v":4241},8]
[null,null,"D4394201","Partes y accesorios para filtros de aceite, gasolina y similares",1,{"$f":"ROW()","v":4242},8]
[null,null,"D4693902","Partes y accesorios para frenos electromagnéticos para automotores",1,{"$f":"ROW()","v":4243},8]
[null,null,"D4324008","Partes y accesorios para fuentes de agua",1,{"$f":"ROW()","v":4244},8]
[null,null,"D4394303","Partes y accesorios para fumigadoras, extinguidores y similares",1,{"$f":"ROW()","v":4245},8]
[null,null,"D4740201","Partes y accesorios para grabadoras y radiograbadoras",1,{"$f":"ROW()","v":4246},8]
[null,null,"D4483101","Partes y accesorios para grecas",1,{"$f":"ROW()","v":4247},8]
[null,null,"D4357003","Partes y accesorios para grúas",1,{"$f":"ROW()","v":4248},8]
[null,null,"D4292202","Partes y accesorios para herramientas",1,{"$f":"ROW()","v":4249},8]
[null,null,"D4325401","Partes y accesorios para hidrantes",1,{"$f":"ROW()","v":4250},8]
[null,null,"D4343003","Partes y accesorios para hornos de ACPM y de gas",1,{"$f":"ROW()","v":4251},8]
[null,null,"D4343005","Partes y accesorios para instalaciones industriales de gas",1,{"$f":"ROW()","v":4252},8]
[null,null,"D4740101","Partes y accesorios para instalaciones telefónicas y telegráficas",1,{"$f":"ROW()","v":4253},8]
[null,null,"D3836002","Partes y accesorios para instrumentos musicales",1,{"$f":"ROW()","v":4254},8]
[null,null,"D3859010","Partes y accesorios para juegos electromecánicos y electrónicos, tragamonedas",1,{"$f":"ROW()","v":4255},8]
[null,null,"D3860002","Partes y accesorios para juegos mecánicos de feria",1,{"$f":"ROW()","v":4256},8]
[null,null,"D4394401","Partes y accesorios para lavadoras eléctricas de platos",1,{"$f":"ROW()","v":4257},8]
[null,null,"D4464007","Partes y accesorios para lavadoras eléctricas de ropa",1,{"$f":"ROW()","v":4258},8]
[null,null,"D4483102","Partes y accesorios para licuadoras y similares",1,{"$f":"ROW()","v":4259},8]
[null,null,"D4696106","Partes y accesorios para limpiabrisas de automotores (brazos, plumillas, cuchillas)",1,{"$f":"ROW()","v":4260},8]
[null,null,"D4464004","Partes y accesorios para maquinaria de curtir y trabajar cuero",1,{"$f":"ROW()","v":4261},8]
[null,null,"D4492904","Partes y accesorios para maquinaria de elaborar llantas y productos de caucho",1,{"$f":"ROW()","v":4262},8]
[null,null,"D4451305","Partes y accesorios para maquinaria de equipo de trilla de arroz",1,{"$f":"ROW()","v":4263},8]
[null,null,"D4492101","Partes y accesorios para maquinaria de fabricar pulpa, papel y cartón",1,{"$f":"ROW()","v":4264},8]
[null,null,"D4464003","Partes y accesorios para maquinaria de textiles",1,{"$f":"ROW()","v":4265},8]
[null,null,"D4425203","Partes y accesorios para maquinaria de trabajar madera",1,{"$f":"ROW()","v":4266},8]
[null,null,"D4425101","Partes y accesorios para maquinaria de trabajar metales",1,{"$f":"ROW()","v":4267},8]
[null,null,"D4452206","Partes y accesorios para maquinaria y equipo de deshidratación o secamiento",1,{"$f":"ROW()","v":4268},8]
[null,null,"D4452201","Partes y accesorios para maquinaria y equipo de elaborar azúcar",1,{"$f":"ROW()","v":4269},8]
[null,null,"D4492902","Partes y accesorios para maquinaria y equipo de elaborar caucho",1,{"$f":"ROW()","v":4270},8]
[null,null,"D4452301","Partes y accesorios para maquinaria y equipo de elaborar cigarros y cigarrillos",1,{"$f":"ROW()","v":4271},8]
[null,null,"D4492901","Partes y accesorios para maquinaria y equipo de elaborar plástico",1,{"$f":"ROW()","v":4272},8]
[null,null,"D4394104","Partes y accesorios para maquinaria y equipo de elaborar productos químicos",1,{"$f":"ROW()","v":4273},8]
[null,null,"D4452208","Partes y accesorios para maquinaria y equipo de extracción de aceites vegetales",1,{"$f":"ROW()","v":4274},8]
[null,null,"D4394101","Partes y accesorios para maquinaria y equipo de fabricación de bebidas destiladas",1,{"$f":"ROW()","v":4275},8]
[null,null,"D4452299","Partes y accesorios para maquinaria y equipo de fabricación de bebidas n.c.p.",1,{"$f":"ROW()","v":4276},8]
[null,null,"D4452204","Partes y accesorios para maquinaria y equipo de fabricación de confites",1,{"$f":"ROW()","v":4277},8]
[null,null,"D4492905","Partes y accesorios para maquinaria y equipo de fabricar aparatos y accesorios eléctricos",1,{"$f":"ROW()","v":4278},8]
[null,null,"D4492201","Partes y accesorios para maquinaria y equipo de impresión",1,{"$f":"ROW()","v":4279},8]
[null,null,"D4394105","Partes y accesorios para maquinaria y equipo de refinar petróleo",1,{"$f":"ROW()","v":4280},8]
[null,null,"D4452210","Partes y accesorios para maquinaria y equipo de sacrificio de ganado",1,{"$f":"ROW()","v":4281},8]
[null,null,"D4452211","Partes y accesorios para maquinaria y equipo de trillar café",1,{"$f":"ROW()","v":4282},8]
[null,null,"D4419902","Partes y accesorios para maquinaria y equipo para elaboración de concentrados",1,{"$f":"ROW()","v":4283},8]
[null,null,"D4452209","Partes y accesorios para maquinaria y equipo para limpieza y selección de granos",1,{"$f":"ROW()","v":4284},8]
[null,null,"D4452212","Partes y accesorios para maquinaria y equipo para trillar arroz",1,{"$f":"ROW()","v":4285},8]
[null,null,"D4452202","Partes y accesorios para maquinaria y equipos especiales de cervecería",1,{"$f":"ROW()","v":4286},8]
[null,null,"D4483106","Partes y accesorios para máquinas compactadoras de basura",1,{"$f":"ROW()","v":4287},8]
[null,null,"D4464006","Partes y accesorios para máquinas de coser",1,{"$f":"ROW()","v":4288},8]
[null,null,"D4517001","Partes y accesorios para máquinas de escribir",1,{"$f":"ROW()","v":4289},8]
[null,null,"D4446201","Partes y accesorios para máquinas de fabricar productos de arcilla",1,{"$f":"ROW()","v":4290},8]
[null,null,"D4446202","Partes y accesorios para máquinas de fabricar productos de cemento",1,{"$f":"ROW()","v":4291},8]
[null,null,"D4517004","Partes y accesorios para máquinas de tabulación",1,{"$f":"ROW()","v":4292},{"$f":"LEN(C4292)","v":8}]
[null,null,"D4452205","Partes y accesorios para máquinas de tostar café",1,{"$f":"ROW()","v":4293},8]
[null,null,"D4492102","Partes y accesorios para máquinas de trabajar papel y cartón",1,{"$f":"ROW()","v":4294},8]
[null,null,"D4492401","Partes y accesorios para máquinas fotocopiadoras",1,{"$f":"ROW()","v":4295},8]
[null,null,"D4517002","Partes y accesorios para máquinas sumadoras, registradoras y análogas",1,{"$f":"ROW()","v":4296},8]
[null,null,"D4446101","Partes y accesorios para máquinas y equipo de minería",1,{"$f":"ROW()","v":4297},8]
[null,null,"D4452203","Partes y accesorios para máquinas y equipo de panadería",1,{"$f":"ROW()","v":4298},8]
[null,null,"D4492903","Partes y accesorios para máquinas y equipo para hacer y elaborar vidrio",1,{"$f":"ROW()","v":4299},8]
[null,null,"D4446102","Partes y accesorios para máquinas y equipos de construcción",1,{"$f":"ROW()","v":4300},8]
[null,null,"D4815009","Partes y accesorios para material electromédico",1,{"$f":"ROW()","v":4301},8]
[null,null,"D4828101","Partes y accesorios para metros y flexómetros",1,{"$f":"ROW()","v":4302},8]
[null,null,"D4828201","Partes y accesorios para microscopios (excepto los ópticos) y difractógrafos",1,{"$f":"ROW()","v":4303},8]
[null,null,"D4452213","Partes y accesorios para molinos y equipos para molinería",1,{"$f":"ROW()","v":4304},8]
[null,null,"D4912935","Partes y accesorios para motocarros",1,{"$f":"ROW()","v":4305},8]
[null,null,"D4696104","Partes y accesorios para motores de arranque de vehículos automotores",1,{"$f":"ROW()","v":4306},8]
[null,null,"D4315202","Partes y accesorios para motores de combustión interna, excepto para vehículos automotores",1,{"$f":"ROW()","v":4307},8]
[null,null,"D4613101","Partes y accesorios para motores eléctricos",1,{"$f":"ROW()","v":4308},8]
[null,null,"D4717301","Partes y accesorios para pantallas de televisión.",1,{"$f":"ROW()","v":4309},8]
[null,null,"D4696107","Partes y accesorios para pitos, bocinas y similares",1,{"$f":"ROW()","v":4310},8]
[null,null,"D4483104","Partes y accesorios para planchas",1,{"$f":"ROW()","v":4311},8]
[null,null,"D4835302","Partes y accesorios para proyectores cinematográficos",1,{"$f":"ROW()","v":4312},8]
[null,null,"D4912928","Partes y accesorios para radiadores de automotores",1,{"$f":"ROW()","v":4313},8]
[null,null,"D4912931","Partes y accesorios para sistema de dirección de automotores",1,{"$f":"ROW()","v":4314},8]
[null,null,"D4912932","Partes y accesorios para sistema de frenos de automotores",1,{"$f":"ROW()","v":4315},8]
[null,null,"D4912934","Partes y accesorios para sistema de suspensión de automotores",1,{"$f":"ROW()","v":4316},8]
[null,null,"D4325102","Partes y accesorios para sistemas hidráulicos contra incendio",1,{"$f":"ROW()","v":4317},8]
[null,null,"D4622001","Partes y accesorios para tableros de mando, distribución y control",1,{"$f":"ROW()","v":4318},8]
[null,null,"D3699069","Partes y accesorios para tapas y tapones plásticos",1,{"$f":"ROW()","v":4319},8]
[null,null,"D4419901","Partes y accesorios para tractores y similares",1,{"$f":"ROW()","v":4320},8]
[null,null,"D4613201","Partes y accesorios para transformadores (conectores, terminales, etc.)",1,{"$f":"ROW()","v":4321},8]
[null,null,"D4446203","Partes y accesorios para trituradoras y pulverizadoras de minerales",1,{"$f":"ROW()","v":4322},8]
[null,null,"D4394103","Partes y accesorios para unidades selladas de refrigeración",1,{"$f":"ROW()","v":4323},8]
[null,null,"D4324010","Partes y accesorios para válvulas para líquidos",1,{"$f":"ROW()","v":4324},8]
[null,null,"D4696105","Partes y piezas de elevavidrios para automotores",1,{"$f":"ROW()","v":4325},8]
[null,null,"D4828302","Partes y piezas electrónicas para aparatos reguladores y medidores eléctricos",1,{"$f":"ROW()","v":4326},8]
[null,null,"D4817112","Partes y piezas especiales para aparatos ortopédicos",1,{"$f":"ROW()","v":4327},8]
[null,null,"D4476004","Partes y piezas especiales para armas de fuego",1,{"$f":"ROW()","v":4328},8]
[null,null,"D4817111","Partes y piezas especiales para prótesis",1,{"$f":"ROW()","v":4329},8]
[null,null,"D4643006","Partes y piezas metálicas para pilas",1,{"$f":"ROW()","v":4330},8]
[null,null,"D4964001","Partes y piezas para aeronaves",1,{"$f":"ROW()","v":4331},8]
[null,null,"D4923114","Partes y piezas para bisagras de automotores",1,{"$f":"ROW()","v":4332},8]
[null,null,"D4394106","Partes y piezas para calentadores de agua, no eléctricos",1,{"$f":"ROW()","v":4333},8]
[null,null,"D4828301","Partes y piezas para contadores de agua",1,{"$f":"ROW()","v":4334},8]
[null,null,"D4474006","Partes y piezas para granadas",1,{"$f":"ROW()","v":4335},8]
[null,null,"D4425204","Partes y piezas para máquinas especiales para cortar ladrillo",1,{"$f":"ROW()","v":4336},8]
[null,null,"D4315201","Partes y piezas para motores de aeronaves",1,{"$f":"ROW()","v":4337},8]
[null,null,"D4613105","Partes y piezas para plantas generadoras de electricidad",1,{"$f":"ROW()","v":4338},8]
[null,null,"D4425102","Partes y piezas para prensas hidráulicas",1,{"$f":"ROW()","v":4339},8]
[null,null,"D4613104","Partes y piezas para subestaciones eléctricas",1,{"$f":"ROW()","v":4340},8]
[null,null,"D4613106","Partes y piezas para subestaciones eléctricas",1,{"$f":"ROW()","v":4341},8]
[null,null,"D3649028","Partes y piezas plásticas para cartuchos de impresoras de computador",1,{"$f":"ROW()","v":4342},8]
[null,null,"D4112106","Partes y piezas torneadas de hierro o acero",1,{"$f":"ROW()","v":4343},8]
[null,null,"D4517003","Partes, accesorios y elementos para máquinas electrónicas",1,{"$f":"ROW()","v":4344},8]
[null,null,"D4518001","Partes, piezas y accesorios de los bienes de las subclases 45141, 45142 y 45160 (excepto estuches, fundas y similares)",1,{"$f":"ROW()","v":4345},8]
[null,null,"D4476003","Partes, piezas y accesorios para armas de fuego",1,{"$f":"ROW()","v":4346},8]
[null,null,"D4325403","Partes, piezas y accesorios para equipo (árbol de navidad) y cabezales de pozo, especializados para la extracción de petróleo y gas",1,{"$f":"ROW()","v":4347},8]
[null,null,"D4358001","Partes, piezas y accesorios, para puentes grúas, cables aéreos y similares",1,{"$f":"ROW()","v":4348},8]
[null,null,"D4912994","Partes, piezas y componentes n.c.p. para pisos, puertas, capo, techos, guardabarros y similares, de vehículos automotores",1,{"$f":"ROW()","v":4349},8]
[null,null,"D4912995","Partes, piezas y componentes n.c.p. para sistemas de escape de vehículos automotores                ",1,{"$f":"ROW()","v":4350},8]
[null,null,"D3252001","Partituras manuscritas o impresas, incluso con ilustraciones o encuadernadas",1,{"$f":"ROW()","v":4351},8]
[null,null,"D2399916","Pasabocas y otros alimentos en conserva",1,{"$f":"ROW()","v":4352},8]
[null,null,"D4476002","Pasadores y guardamanos para armas de fuego",1,{"$f":"ROW()","v":4353},8]
[null,null,"D2791102","Pasamanería de algodón",1,{"$f":"ROW()","v":4354},8]
[null,null,"D2791110","Pasamanería de fibras artificiales y sintéticas",1,{"$f":"ROW()","v":4355},8]
[null,null,"D2791101","Pasamanería de lana",1,{"$f":"ROW()","v":4356},{"$f":"LEN(C4356)","v":8}]
[null,null,"D2819010","Pasamanería de tejido de punto",1,{"$f":"ROW()","v":4357},8]
[null,null,"D3160011","Pasamanos de madera",1,{"$f":"ROW()","v":4358},8]
[null,null,"D4219014","Pasamanos metálicos",1,{"$f":"ROW()","v":4359},8]
[null,null,"D3899204","Pasamanos, ruedas y demás partes y accesorios para corrales, coches, caminadores y similares para bebés",1,{"$f":"ROW()","v":4360},8]
[null,null,"D3269002","Pasaportes y formas similares de identificación en papel de seguridad",1,{"$f":"ROW()","v":4361},8]
[null,null,"D2361001","Pasta de cacao desgrasada o sin desgrasar",1,{"$f":"ROW()","v":4362},8]
[null,null,"D2149403","Pasta de frutas",1,{"$f":"ROW()","v":4363},8]
[null,null,"D2116002","Pasta de huesillos de pollo",1,{"$f":"ROW()","v":4364},8]
[null,null,"D2139912","Pasta de legumbres y hortalizas",1,{"$f":"ROW()","v":4365},8]
[null,null,"D2139911","Pasta de tomate",1,{"$f":"ROW()","v":4366},8]
[null,null,"D3795002","Pasta electródica-base antracita",1,{"$f":"ROW()","v":4367},8]
[null,null,"D2318001","Pasta hojaldrada",1,{"$f":"ROW()","v":4368},8]
[null,null,"D3211301","Pasta o pulpa mecánica de madera",1,{"$f":"ROW()","v":4369},8]
[null,null,"D3211203","Pasta o pulpa química de madera de coníferas, semiblanqueada o blanqueada, a la sosa o al sulfato (excepto soluble)",1,{"$f":"ROW()","v":4370},8]
[null,null,"D3211202","Pasta o pulpa química de madera distinta de coníferas, cruda, a la sosa o al sulfato (excepto soluble)",1,{"$f":"ROW()","v":4371},8]
[null,null,"D3211204","Pasta o pulpa química de madera distinta de coníferas, semiblanqueada o blanqueada, a la sosa o al sulfato (excepto soluble)",1,{"$f":"ROW()","v":4372},8]
[null,null,"D3211201","Pasta o pulpa química de madera, de coníferas, cruda, a la sosa o al sulfato (excepto soluble)",1,{"$f":"ROW()","v":4373},8]
[null,null,"D3211401","Pasta o pulpa semiquímica de madera",1,{"$f":"ROW()","v":4374},8]
[null,null,"D2367002","Pasta para confites",1,{"$f":"ROW()","v":4375},8]
[null,null,"D3544202","Pasta para limpiar tipos plastilina",1,{"$f":"ROW()","v":4376},8]
[null,null,"D3219936","Pastas de argolla o de tornillo",1,{"$f":"ROW()","v":4377},8]
[null,null,"D3219935","Pastas de llave o de herrajes para legados",1,{"$f":"ROW()","v":4378},8]
[null,null,"D2314014","Pastas o pellets a base de cereales para pasabocas",1,{"$f":"ROW()","v":4379},8]
[null,null,"D3211599","Pastas o pulpas de otras fibras n.c.p. para papel",1,{"$f":"ROW()","v":4380},8]
[null,null,"D2349005","Pasteles y pasabocas de maíz",1,{"$f":"ROW()","v":4381},8]
[null,null,"D2349004","Pasteles, empanadas, panzerottis y productos similares de sal",1,{"$f":"ROW()","v":4382},8]
[null,null,"D4419801","Pasteras",1,{"$f":"ROW()","v":4383},8]
[null,null,"D4153405","Pastillas de aluminio",1,{"$f":"ROW()","v":4384},8]
[null,null,"D3792013","Pastillas de asbesto para frenos",1,{"$f":"ROW()","v":4385},8]
[null,null,"D3466110","Pastillas y tabletas insecticidas para uso doméstico",1,{"$f":"ROW()","v":4386},8]
[null,null,"D2399902","Patacones",1,{"$f":"ROW()","v":4387},8]
[null,null,"D2118402","Paté",1,{"$f":"ROW()","v":4388},8]
[null,null,"D3841001","Patines",1,{"$f":"ROW()","v":4389},8]
[null,null,"D3851003","Patinetas",1,{"$f":"ROW()","v":4390},8]
[null,null,"D0215401","Patos",1,{"$f":"ROW()","v":4391},8]
[null,null,"D3219915","Patrones en papel para modistería",1,{"$f":"ROW()","v":4392},8]
[null,null,"D3219902","Patrones para bordados y tapices",1,{"$f":"ROW()","v":4393},8]
[null,null,"D0215201","Pavos o piscos o bimbos",1,{"$f":"ROW()","v":4394},8]
[null,null,"D0411401","Peces ornamentales",1,{"$f":"ROW()","v":4395},8]
[null,null,"D3542010","Pectina",1,{"$f":"ROW()","v":4396},8]
[null,null,"D4994206","Pedales para bicicletas y triciclos",1,{"$f":"ROW()","v":4397},8]
[null,null,"D4912927","Pedales y palancas para frenos de automotores",1,{"$f":"ROW()","v":4398},8]
[null,null,"D3721006","Pedestales de loza o porcelana",1,{"$f":"ROW()","v":4399},8]
[null,null,"D3542009","Pegantes a base de caucho",1,{"$f":"ROW()","v":4400},8]
[null,null,"D3542005","Pegantes de origen animal",1,{"$f":"ROW()","v":4401},8]
[null,null,"D3542004","Pegantes de origen vegetal",1,{"$f":"ROW()","v":4402},8]
[null,null,"D3542006","Pegantes sintéticos",1,{"$f":"ROW()","v":4403},8]
[null,null,"D3814010","Peinadores o tocadores de madera",1,{"$f":"ROW()","v":4404},8]
[null,null,"D3814016","Peinadores o tocadores en mimbre, bambú o similares",1,{"$f":"ROW()","v":4405},8]
[null,null,"D3899402","Peines, peinetas y similares de material plástico",1,{"$f":"ROW()","v":4406},8]
[null,null,"D0429117","Pejegato y pejeratón, fresco o refrigerado",1,{"$f":"ROW()","v":4407},8]
[null,null,"D0429118","Pejepuerco-peñolero, fresco o refrigerado",1,{"$f":"ROW()","v":4408},8]
[null,null,"D4834105","Película cinematográfica",1,{"$f":"ROW()","v":4409},8]
[null,null,"D3633010","Película de cloruro de polivinilo",1,{"$f":"ROW()","v":4410},8]
[null,null,"D3633005","Película de poliestireno",1,{"$f":"ROW()","v":4411},8]
[null,null,"D3633024","Película de poliestireno impresa",1,{"$f":"ROW()","v":4412},8]
[null,null,"D3633004","Película de polietileno",1,{"$f":"ROW()","v":4413},8]
[null,null,"D3633014","Película de polietileno impresa",1,{"$f":"ROW()","v":4414},8]
[null,null,"D3633011","Película de polipropileno",1,{"$f":"ROW()","v":4415},8]
[null,null,"D3633018","Película de polipropileno impresa",1,{"$f":"ROW()","v":4416},8]
[null,null,"D3633028","Película de polipropileno metalizada",1,{"$f":"ROW()","v":4417},8]
[null,null,"D3633007","Película de polivinilo",1,{"$f":"ROW()","v":4418},8]
[null,null,"D3639003","Película de polivinilo con material textil",1,{"$f":"ROW()","v":4419},8]
[null,null,"D3633026","Película de polivinilo impresa",1,{"$f":"ROW()","v":4420},{"$f":"LEN(C4420)","v":8}]
[null,null,"D4834104","Película fotográfica",1,{"$f":"ROW()","v":4421},8]
[null,null,"D3633015","Película impresa de cloruro de polivinilo",1,{"$f":"ROW()","v":4422},8]
[null,null,"D3633012","Película laminada de materiales plásticos",1,{"$f":"ROW()","v":4423},8]
[null,null,"D3639004","Película plástica especial para blindaje de vidrio",1,{"$f":"ROW()","v":4424},8]
[null,null,"D3639005","Película plástica especial para productos de blindado",1,{"$f":"ROW()","v":4425},8]
[null,null,"D3692006","Película plástica especial para recubrimiento de madera",1,{"$f":"ROW()","v":4426},8]
[null,null,"D3632017","Película tubular de celofán impresa",1,{"$f":"ROW()","v":4427},8]
[null,null,"D3632016","Película tubular de plástico impresa",1,{"$f":"ROW()","v":4428},8]
[null,null,"D3632015","Película tubular de plástico sin impresión",1,{"$f":"ROW()","v":4429},8]
[null,null,"D3632014","Película tubular especial para empaques al vacío",1,{"$f":"ROW()","v":4430},8]
[null,null,"D3633027","Películas de polietilentereftalato o tereftalato de polietileno PET",1,{"$f":"ROW()","v":4431},8]
[null,null,"D4834103","Películas especiales para litografía y usos análogos",1,{"$f":"ROW()","v":4432},8]
[null,null,"D3692009","Películas plásticas autoadhesivas (papel contac)",1,{"$f":"ROW()","v":4433},8]
[null,null,"D3692008","Películas plásticas especiales para toallas higiénicas, pañales y artículos similares",1,{"$f":"ROW()","v":4434},8]
[null,null,"D0294301","Pelo fino de animales",1,{"$f":"ROW()","v":4435},8]
[null,null,"D2615099","Pelos de animales n.c.p. preparados",1,{"$f":"ROW()","v":4436},8]
[null,null,"D3844010","Pelotas de caucho",1,{"$f":"ROW()","v":4437},8]
[null,null,"D3897202","Pelucas de pelo artificial",1,{"$f":"ROW()","v":4438},8]
[null,null,"D3897201","Pelucas de pelo humano",1,{"$f":"ROW()","v":4439},8]
[null,null,"D3525062","Penicilina",1,{"$f":"ROW()","v":4440},8]
[null,null,"D3416028","Pentametilenotetrazol",1,{"$f":"ROW()","v":4441},8]
[null,null,"D3411002","Pentano",1,{"$f":"ROW()","v":4442},8]
[null,null,"D3418005","Pentrita y preparados químicos para explosivos",1,{"$f":"ROW()","v":4443},8]
[null,null,"D0129002","Pepino guiso",1,{"$f":"ROW()","v":4444},8]
[null,null,"D0123201","Pepinos y pepinillos",1,{"$f":"ROW()","v":4445},8]
[null,null,"D3417015","Pepsinas",1,{"$f":"ROW()","v":4446},8]
[null,null,"D3542002","Peptonas",1,{"$f":"ROW()","v":4447},8]
[null,null,"D0134201","Peras",1,{"$f":"ROW()","v":4448},8]
[null,null,"D2149902","Peras en conserva envasadas",1,{"$f":"ROW()","v":4449},8]
[null,null,"D3427013","Perborato de potasio",1,{"$f":"ROW()","v":4450},8]
[null,null,"D3427012","Perborato de sodio",1,{"$f":"ROW()","v":4451},8]
[null,null,"D0429213","Perca, fresco o refrigerado",1,{"$f":"ROW()","v":4452},8]
[null,null,"D4299924","Perchas, collarines y accesorios para redes eléctricas",1,{"$f":"ROW()","v":4453},8]
[null,null,"D4474001","Perdigones de plomo (munición)",1,{"$f":"ROW()","v":4454},8]
[null,null,"D0121904","Perejil",1,{"$f":"ROW()","v":4455},8]
[null,null,"D4126601","Perfiles de aceros especiales",1,{"$f":"ROW()","v":4456},8]
[null,null,"D4154702","Perfiles y secciones de estaño",1,{"$f":"ROW()","v":4457},8]
[null,null,"D4152202","Perfiles y secciones de níquel",1,{"$f":"ROW()","v":4458},8]
[null,null,"D4516004","Perforadoras",1,{"$f":"ROW()","v":4459},8]
[null,null,"D3532319","Perfumes",1,{"$f":"ROW()","v":4460},8]
[null,null,"D3191412","Perillas de madera para cerradura",1,{"$f":"ROW()","v":4461},8]
[null,null,"D3230001","Periódicos impresos publicados cuatro o más veces por semana",1,{"$f":"ROW()","v":4462},8]
[null,null,"D3241001","Periódicos impresos publicados menos de cuatro veces por semana",1,{"$f":"ROW()","v":4463},8]
[null,null,"D3822001","Perlas pulidas y talladas",1,{"$f":"ROW()","v":4464},8]
[null,null,"D3719905","Perlas sintéticas",1,{"$f":"ROW()","v":4465},8]
[null,null,"D3425001","Permanganato de potasio",1,{"$f":"ROW()","v":4466},8]
[null,null,"D4294402","Pernos y pasadores de hierro o acero",1,{"$f":"ROW()","v":4467},8]
[null,null,"D4291208","Peroles y sartenes esmaltados",1,{"$f":"ROW()","v":4468},8]
[null,null,"D3428001","Peróxido de hidrógeno-agua oxigenada",1,{"$f":"ROW()","v":4469},8]
[null,null,"D3417096","Peróxidos n.c.p.",1,{"$f":"ROW()","v":4470},8]
[null,null,"D4299947","Persianas de aluminio",1,{"$f":"ROW()","v":4471},8]
[null,null,"D3191403","Persianas de madera",1,{"$f":"ROW()","v":4472},8]
[null,null,"D2713002","Persianas de tela",1,{"$f":"ROW()","v":4473},8]
[null,null,"D3712918","Persianas reforzadas con fibra de vidrio",1,{"$f":"ROW()","v":4474},8]
[null,null,"D3843001","Pesas para gimnasia",1,{"$f":"ROW()","v":4475},8]
[null,null,"D2123201","Pescado ahumado, incluso en filetes",1,{"$f":"ROW()","v":4476},8]
[null,null,"D2121901","Pescado congelado (excepto filetes y carne de pescado)",1,{"$f":"ROW()","v":4477},8]
[null,null,"D2123101","Pescado salado y seco",1,{"$f":"ROW()","v":4478},8]
[null,null,"D2124299","Pescados enlatados n.c.p.",1,{"$f":"ROW()","v":4479},8]
[null,null,"D1201001","Petróleo crudo",1,{"$f":"ROW()","v":4480},8]
[null,null,"D0426104","Pez espada, fresco o refrigerado",1,{"$f":"ROW()","v":4481},8]
[null,null,"D0429109","Pez gallo-gallina-gallineta-rubio volador, fresco o refrigerado",1,{"$f":"ROW()","v":4482},8]
[null,null,"D0429123","Pez loro, fresco o refrigerado",1,{"$f":"ROW()","v":4483},8]
[null,null,"D0429119","Pez perla, fresca o refrigerada",1,{"$f":"ROW()","v":4484},{"$f":"LEN(C4484)","v":8}]
[null,null,"D0429113","Pez vela y pez Marlín, fresco o refrigerado",1,{"$f":"ROW()","v":4485},8]
[null,null,"D3831001","Pianos",1,{"$f":"ROW()","v":4486},8]
[null,null,"D2509001","Picadura",1,{"$f":"ROW()","v":4487},8]
[null,null,"D4299202","Picaportes, fallebas y portacandados",1,{"$f":"ROW()","v":4488},8]
[null,null,"D1532002","Piedra común",1,{"$f":"ROW()","v":4489},8]
[null,null,"D1632201","Piedra pómez",1,{"$f":"ROW()","v":4490},8]
[null,null,"D3769005","Piedras calizas trituradas o molidas",1,{"$f":"ROW()","v":4491},8]
[null,null,"D3899709","Piedras de fantasía y perlas falsas",1,{"$f":"ROW()","v":4492},8]
[null,null,"D3822099","Piedras preciosas talladas n.c.p.",1,{"$f":"ROW()","v":4493},8]
[null,null,"D3822004","Piedras preciosas y semipreciosas sintéticas o reconstituidas, pulidas o talladas, taladradas",1,{"$f":"ROW()","v":4494},8]
[null,null,"D2116003","Piel de pollo o gallina",1,{"$f":"ROW()","v":4495},8]
[null,null,"D0295904","Piel de reptiles sin curtir",1,{"$f":"ROW()","v":4496},8]
[null,null,"D2118103","Piel deshidratada de cerdo",1,{"$f":"ROW()","v":4497},8]
[null,null,"D2831004","Pieles curtidas de animales de caza",1,{"$f":"ROW()","v":4498},8]
[null,null,"D2831003","Pieles curtidas de caimán",1,{"$f":"ROW()","v":4499},8]
[null,null,"D2831007","Pieles curtidas de caprinos",1,{"$f":"ROW()","v":4500},8]
[null,null,"D2831002","Pieles curtidas de conejo",1,{"$f":"ROW()","v":4501},8]
[null,null,"D2831005","Pieles curtidas de ganado vacuno",1,{"$f":"ROW()","v":4502},8]
[null,null,"D2831006","Pieles curtidas de ovinos",1,{"$f":"ROW()","v":4503},8]
[null,null,"D2831099","Pieles curtidas de reptiles n.c.p.",1,{"$f":"ROW()","v":4504},8]
[null,null,"D2831001","Pieles curtidas de vicuña",1,{"$f":"ROW()","v":4505},8]
[null,null,"D0295903","Pieles de animales de caza sin curtir",1,{"$f":"ROW()","v":4506},8]
[null,null,"D0295103","Pieles de becerro",1,{"$f":"ROW()","v":4507},8]
[null,null,"D0295403","Pieles de cabra y cabritilla",1,{"$f":"ROW()","v":4508},8]
[null,null,"D0295901","Pieles de caimán sin curtir",1,{"$f":"ROW()","v":4509},8]
[null,null,"D0295503","Pieles de castor sin curtir",1,{"$f":"ROW()","v":4510},8]
[null,null,"D0295999","Pieles de otras especies de animales sin curtir n.c.p.",1,{"$f":"ROW()","v":4511},8]
[null,null,"D0295301","Pieles de ovinos, frescas",1,{"$f":"ROW()","v":4512},8]
[null,null,"D0295302","Pieles de ovinos, secas",1,{"$f":"ROW()","v":4513},8]
[null,null,"D2913005","Pieles de reptil (caimán-babilla) curtidas y terminadas",1,{"$f":"ROW()","v":4514},8]
[null,null,"D0295502","Pieles de visón sin curtir",1,{"$f":"ROW()","v":4515},8]
[null,null,"D0295104","Pieles en bruto de ganado vacuno conservadas y/o en proceso",1,{"$f":"ROW()","v":4516},8]
[null,null,"D0295504","Pieles finas de conejo",1,{"$f":"ROW()","v":4517},8]
[null,null,"D0295506","Pieles finas de cordero",1,{"$f":"ROW()","v":4518},8]
[null,null,"D0295505","Pieles finas de liebre",1,{"$f":"ROW()","v":4519},8]
[null,null,"D0295402","Pieles frescas de caprino",1,{"$f":"ROW()","v":4520},8]
[null,null,"D4817105","Piernas artificiales",1,{"$f":"ROW()","v":4521},8]
[null,null,"D3816007","Piezas corredizas para muebles",1,{"$f":"ROW()","v":4522},8]
[null,null,"D2822902","Piezas cortadas para confeccionar prendas de vestir de tejido de punto",1,{"$f":"ROW()","v":4523},8]
[null,null,"D4492103","Piezas cortantes para herramientas y máquinas de trabajar papel y cartón",1,{"$f":"ROW()","v":4524},8]
[null,null,"D4425103","Piezas cortantes para herramientas y máquinas -herramientas para trabajar metales",1,{"$f":"ROW()","v":4525},8]
[null,null,"D4425201","Piezas cortantes para maquinaria de trabajar madera",1,{"$f":"ROW()","v":4526},8]
[null,null,"D4425105","Piezas cortantes para maquinaria y equipo industrial",1,{"$f":"ROW()","v":4527},8]
[null,null,"D4151216","Piezas de bronce fundidas",1,{"$f":"ROW()","v":4528},8]
[null,null,"D4151215","Piezas de cobre troqueladas",1,{"$f":"ROW()","v":4529},8]
[null,null,"D4151213","Piezas de latón forjadas",1,{"$f":"ROW()","v":4530},8]
[null,null,"D3694008","Piezas de material plástico para vajillas",1,{"$f":"ROW()","v":4531},8]
[null,null,"D4152206","Piezas de níquel laminadas, estampadas o troqueladas",1,{"$f":"ROW()","v":4532},8]
[null,null,"D3722106","Piezas en cerámica para vajillas",1,{"$f":"ROW()","v":4533},8]
[null,null,"D4299929","Piezas esmaltadas para aparatos electromecánicos",1,{"$f":"ROW()","v":4534},8]
[null,null,"D4151211","Piezas forjadas de cobre",1,{"$f":"ROW()","v":4535},8]
[null,null,"D4112108","Piezas forjadas de hierro o acero para maquinaria",1,{"$f":"ROW()","v":4536},8]
[null,null,"D4112107","Piezas forjadas de hierro o acero para tractores y similares",1,{"$f":"ROW()","v":4537},8]
[null,null,"D4112198","Piezas forjadas n.c.p. de hierro o acero",1,{"$f":"ROW()","v":4538},8]
[null,null,"D4419998","Piezas forjadas n.c.p. de hierro o acero para maquinaria",1,{"$f":"ROW()","v":4539},8]
[null,null,"D4125303","Piezas fundidas de acero para ferrocarriles (excepto eclisas)",1,{"$f":"ROW()","v":4540},8]
[null,null,"D4112109","Piezas fundidas de acero para maquinaria",1,{"$f":"ROW()","v":4541},8]
[null,null,"D4153205","Piezas fundidas de aluminio",1,{"$f":"ROW()","v":4542},8]
[null,null,"D4153206","Piezas fundidas de aluminio para la cocina",1,{"$f":"ROW()","v":4543},8]
[null,null,"D4151210","Piezas fundidas de cobre",1,{"$f":"ROW()","v":4544},8]
[null,null,"D4154805","Piezas fundidas de estaño y sus aleaciones",1,{"$f":"ROW()","v":4545},8]
[null,null,"D4112110","Piezas fundidas de hierro o acero para redes de acueducto",1,{"$f":"ROW()","v":4546},8]
[null,null,"D4152205","Piezas fundidas de níquel y sus aleaciones",1,{"$f":"ROW()","v":4547},8]
[null,null,"D4154104","Piezas fundidas de plomo y sus aleaciones",1,{"$f":"ROW()","v":4548},{"$f":"LEN(C4548)","v":8}]
[null,null,"D4154505","Piezas fundidas de zinc y sus aleaciones",1,{"$f":"ROW()","v":4549},8]
[null,null,"D4112199","Piezas fundidas n.c.p. de hierro o acero",1,{"$f":"ROW()","v":4550},8]
[null,null,"D3734001","Piezas moldeadas de arcilla refractaria",1,{"$f":"ROW()","v":4551},8]
[null,null,"D4299998","Piezas n.c.p. estampadas-troqueladas",1,{"$f":"ROW()","v":4552},8]
[null,null,"D4425104","Piezas para fresar, barrenar, etc., para herramientas y máquinas-herramientas de trabajar metal",1,{"$f":"ROW()","v":4553},8]
[null,null,"D4425202","Piezas para perforar y barrenar para maquinaria de trabajar madera",1,{"$f":"ROW()","v":4554},8]
[null,null,"D4129305","Piezas para tubería de alta presión",1,{"$f":"ROW()","v":4555},8]
[null,null,"D4151214","Piezas troqueladas de latón",1,{"$f":"ROW()","v":4556},8]
[null,null,"D4923116","Piezas troqueladas –estampadas– para automotores",1,{"$f":"ROW()","v":4557},8]
[null,null,"D4813004","Piezas y accesorios para componentes de unidades odontológicas",1,{"$f":"ROW()","v":4558},8]
[null,null,"D3649026","Piezas, partes y componentes de plástico para estuches portacasetes",1,{"$f":"ROW()","v":4559},8]
[null,null,"D3511027","Pigmentos a base de oro",1,{"$f":"ROW()","v":4560},8]
[null,null,"D3422004","Pigmentos minerales en bruto",1,{"$f":"ROW()","v":4561},8]
[null,null,"D3511020","Pigmentos preparados",1,{"$f":"ROW()","v":4562},8]
[null,null,"D2823203","Pijamas de algodón para hombre",1,{"$f":"ROW()","v":4563},8]
[null,null,"D2823204","Pijamas de algodón para niño",1,{"$f":"ROW()","v":4564},8]
[null,null,"D2823207","Pijamas de fibras artificiales y sintéticas para hombre",1,{"$f":"ROW()","v":4565},8]
[null,null,"D2823208","Pijamas de fibras artificiales y sintéticas para niño",1,{"$f":"ROW()","v":4566},8]
[null,null,"D4641007","Pilas alcalinas",1,{"$f":"ROW()","v":4567},8]
[null,null,"D4641005","Pilas alcalinas sin recubrir",1,{"$f":"ROW()","v":4568},8]
[null,null,"D3712914","Pilas en fibra de vidrio",1,{"$f":"ROW()","v":4569},8]
[null,null,"D4641002","Pilas húmedas",1,{"$f":"ROW()","v":4570},8]
[null,null,"D4641001","Pilas secas",1,{"$f":"ROW()","v":4571},8]
[null,null,"D0123102","Pimentón",1,{"$f":"ROW()","v":4572},8]
[null,null,"D2392101","Pimienta elaborada",1,{"$f":"ROW()","v":4573},8]
[null,null,"D0165101","Pimienta sin elaborar",1,{"$f":"ROW()","v":4574},8]
[null,null,"D3899309","Pinceles para pintura artística",1,{"$f":"ROW()","v":4575},8]
[null,null,"D3511012","Pinturas al temple",1,{"$f":"ROW()","v":4576},8]
[null,null,"D3511009","Pinturas bituminosas",1,{"$f":"ROW()","v":4577},8]
[null,null,"D3511010","Pinturas de alta temperatura",1,{"$f":"ROW()","v":4578},8]
[null,null,"D3511007","Pinturas de protección industrial (vinílicas, epóxicas, poliestéricas)",1,{"$f":"ROW()","v":4579},8]
[null,null,"D3511018","Pinturas en aerosol",1,{"$f":"ROW()","v":4580},8]
[null,null,"D3511013","Pinturas en polvo",1,{"$f":"ROW()","v":4581},8]
[null,null,"D3511001","Pinturas para agua, P.V.A. y similares (emulsiones)",1,{"$f":"ROW()","v":4582},8]
[null,null,"D3511011","Pinturas para señales de tránsito",1,{"$f":"ROW()","v":4583},8]
[null,null,"D3511008","Pinturas sintéticas (oleorresinosas)",1,{"$f":"ROW()","v":4584},8]
[null,null,"D4291606","Pinzas metálicas para comestibles",1,{"$f":"ROW()","v":4585},8]
[null,null,"D2149101","Piña en conserva envasada",1,{"$f":"ROW()","v":4586},8]
[null,null,"D0131801","Piñas",1,{"$f":"ROW()","v":4587},8]
[null,null,"D4912901","Piñones para automotores",1,{"$f":"ROW()","v":4588},8]
[null,null,"D4299951","Piñones, coronas, ejes y otras piezas torneadas para maquinaria industrial",1,{"$f":"ROW()","v":4589},8]
[null,null,"D0131921","Piñuela",1,{"$f":"ROW()","v":4590},8]
[null,null,"D2731001","Piola de algodón",1,{"$f":"ROW()","v":4591},8]
[null,null,"D3899405","Pipas",1,{"$f":"ROW()","v":4592},8]
[null,null,"D3523010","Piperazina",1,{"$f":"ROW()","v":4593},8]
[null,null,"D3523005","Piralgina",1,{"$f":"ROW()","v":4594},8]
[null,null,"D3416017","Piranisamina",1,{"$f":"ROW()","v":4595},8]
[null,null,"D0429207","Pirarucú, fresco o refrigerado",1,{"$f":"ROW()","v":4596},8]
[null,null,"D3416015","Piridina",1,{"$f":"ROW()","v":4597},8]
[null,null,"D3416016","Pirilamina",1,{"$f":"ROW()","v":4598},8]
[null,null,"D1612001","Piritas de hierro sin tostar",1,{"$f":"ROW()","v":4599},8]
[null,null,"D3424056","Pirofosfatos",1,{"$f":"ROW()","v":4600},8]
[null,null,"D4825102","Pirómetros",1,{"$f":"ROW()","v":4601},8]
[null,null,"D3899702","Pisacorbatas de fantasía",1,{"$f":"ROW()","v":4602},8]
[null,null,"D3844015","Piscinas en fibra de vidrio",1,{"$f":"ROW()","v":4603},8]
[null,null,"D3844022","Piscinas y flotadores inflables de material plástico",1,{"$f":"ROW()","v":4604},8]
[null,null,"D4923106","Pisos para vehículos automotores",1,{"$f":"ROW()","v":4605},8]
[null,null,"D0137501","Pistachos",1,{"$f":"ROW()","v":4606},8]
[null,null,"D4315102","Pistones",1,{"$f":"ROW()","v":4607},8]
[null,null,"D0131911","Pitahaya",1,{"$f":"ROW()","v":4608},8]
[null,null,"D3699071","Pitillos de material plástico",1,{"$f":"ROW()","v":4609},8]
[null,null,"D3699072","Pitillos de material plástico",1,{"$f":"ROW()","v":4610},8]
[null,null,"D3219922","Pitillos de papel",1,{"$f":"ROW()","v":4611},8]
[null,null,"D4691108","Pitos y sirenas para automotores",1,{"$f":"ROW()","v":4612},{"$f":"LEN(C4612)","v":8}]
[null,null,"D1511001","Pizarra",1,{"$f":"ROW()","v":4613},8]
[null,null,"D1203001","Pizarra bituminosa o de aceite y arenas de alquitrán",1,{"$f":"ROW()","v":4614},8]
[null,null,"D3761002","Placa de mármol para muebles",1,{"$f":"ROW()","v":4615},8]
[null,null,"D3737006","Placas de arcilla para cimientos",1,{"$f":"ROW()","v":4616},8]
[null,null,"D4299903","Placas de identificación para vehículos",1,{"$f":"ROW()","v":4617},8]
[null,null,"D4160204","Placas en carbono de tungsteno",1,{"$f":"ROW()","v":4618},8]
[null,null,"D3755002","Placas prefabricadas de granito",1,{"$f":"ROW()","v":4619},8]
[null,null,"D4643001","Placas recargadas para acumuladores y baterías",1,{"$f":"ROW()","v":4620},8]
[null,null,"D4834101","Placas sensibilizadas para fotografía",1,{"$f":"ROW()","v":4621},8]
[null,null,"D4299904","Placas y plaquetas metálicas para identificación",1,{"$f":"ROW()","v":4622},8]
[null,null,"D4291243","Plancha asadora en hierro",1,{"$f":"ROW()","v":4623},8]
[null,null,"D3622001","Planchas (láminas) de caucho",1,{"$f":"ROW()","v":4624},8]
[null,null,"D4153401","Planchas de aluminio",1,{"$f":"ROW()","v":4625},8]
[null,null,"D3792012","Planchas de asbesto",1,{"$f":"ROW()","v":4626},8]
[null,null,"D4482110","Planchas de carbón",1,{"$f":"ROW()","v":4627},8]
[null,null,"D4151401","Planchas de cobre",1,{"$f":"ROW()","v":4628},8]
[null,null,"D4154801","Planchas de estaño",1,{"$f":"ROW()","v":4629},8]
[null,null,"D4482109","Planchas de gasolina",1,{"$f":"ROW()","v":4630},8]
[null,null,"D3280005","Planchas de impresión fotograbadas y láminas zincograbadas y demás productos del fotograbado y zincograbado",1,{"$f":"ROW()","v":4631},8]
[null,null,"D4152301","Planchas de níquel",1,{"$f":"ROW()","v":4632},8]
[null,null,"D4154201","Planchas de plomo",1,{"$f":"ROW()","v":4633},8]
[null,null,"D4154503","Planchas de zinc",1,{"$f":"ROW()","v":4634},8]
[null,null,"D4481603","Planchas eléctricas",1,{"$f":"ROW()","v":4635},8]
[null,null,"D4834106","Planchas especiales para impresión en plástico, fotopolímera",1,{"$f":"ROW()","v":4636},8]
[null,null,"D3280002","Planchas para litografía",1,{"$f":"ROW()","v":4637},8]
[null,null,"D4121401","Planchuelas y flejes de acero inoxidable",1,{"$f":"ROW()","v":4638},8]
[null,null,"D4121402","Planchuelas y flejes de aceros especiales",1,{"$f":"ROW()","v":4639},8]
[null,null,"D3812106","Planotecas y muebles similares metálicos",1,{"$f":"ROW()","v":4640},8]
[null,null,"D4391403","Plantas (tanques) de purificación de aguas",1,{"$f":"ROW()","v":4641},8]
[null,null,"D4611301","Plantas eléctricas de motor",1,{"$f":"ROW()","v":4642},8]
[null,null,"D0196103","Plantas ornamentales",1,{"$f":"ROW()","v":4643},8]
[null,null,"D2960017","Plantillas de plástico espumado flexible para calzado",1,{"$f":"ROW()","v":4644},8]
[null,null,"D4817108","Plantillas ortopédicas",1,{"$f":"ROW()","v":4645},8]
[null,null,"D4823202","Plantillas para dibujo",1,{"$f":"ROW()","v":4646},8]
[null,null,"D3527002","Plasma",1,{"$f":"ROW()","v":4647},8]
[null,null,"D3639002","Plástico espumado flexible",1,{"$f":"ROW()","v":4648},8]
[null,null,"D3639001","Plástico espumado rígido",1,{"$f":"ROW()","v":4649},8]
[null,null,"D3633025","Plástico metalizado",1,{"$f":"ROW()","v":4650},8]
[null,null,"D3927001","Plástico recuperado",1,{"$f":"ROW()","v":4651},8]
[null,null,"D3473001","Plásticos halocarbonados",1,{"$f":"ROW()","v":4652},8]
[null,null,"D3473006","Plásticos vinílicos",1,{"$f":"ROW()","v":4653},8]
[null,null,"D3549915","Plastificantes",1,{"$f":"ROW()","v":4654},8]
[null,null,"D3544201","Plastilina para moldear",1,{"$f":"ROW()","v":4655},8]
[null,null,"D4131002","Plata en lingotes",1,{"$f":"ROW()","v":4656},8]
[null,null,"D4131001","Plata en masas, grano y nódulos",1,{"$f":"ROW()","v":4657},8]
[null,null,"D4131004","Plata en polvo, hojas y tiras delgadas",1,{"$f":"ROW()","v":4658},8]
[null,null,"D4131003","Plata y sus aleaciones en barras y láminas",1,{"$f":"ROW()","v":4659},8]
[null,null,"D4931903","Plataforma flotante",1,{"$f":"ROW()","v":4660},8]
[null,null,"D4219097","Plataformas metálicas n.c.p.",1,{"$f":"ROW()","v":4661},8]
[null,null,"D0131301","Plátano",1,{"$f":"ROW()","v":4662},8]
[null,null,"D2141901","Plátano deshidratado",1,{"$f":"ROW()","v":4663},8]
[null,null,"D4291103","Plateros metálicos",1,{"$f":"ROW()","v":4664},8]
[null,null,"D3835001","Platillos",1,{"$f":"ROW()","v":4665},8]
[null,null,"D4133002","Platino en lingotes",1,{"$f":"ROW()","v":4666},8]
[null,null,"D4133001","Platino en masas, grano y nódulos",1,{"$f":"ROW()","v":4667},8]
[null,null,"D4133004","Platino en polvo, hojas y tiras delgadas",1,{"$f":"ROW()","v":4668},8]
[null,null,"D4133003","Platino y sus aleaciones en barras y láminas",1,{"$f":"ROW()","v":4669},8]
[null,null,"D3219906","Platos de papel o cartón",1,{"$f":"ROW()","v":4670},8]
[null,null,"D4740305","Platos metálicos para antenas parabólicas",1,{"$f":"ROW()","v":4671},8]
[null,null,"D3694010","Platos plásticos desechables",1,{"$f":"ROW()","v":4672},8]
[null,null,"D8821306","Plisado y trabajos análogos",1,{"$f":"ROW()","v":4673},8]
[null,null,"D4826601","Plomadas",1,{"$f":"ROW()","v":4674},8]
[null,null,"D4144101","Plomo en bloques y lingotes",1,{"$f":"ROW()","v":4675},8]
[null,null,"D3911003","Plumas de aves",1,{"$f":"ROW()","v":4676},{"$f":"LEN(C4676)","v":8}]
[null,null,"D3899907","Plumas preparadas",1,{"$f":"ROW()","v":4677},8]
[null,null,"D4352003","Plumas-grúas",1,{"$f":"ROW()","v":4678},8]
[null,null,"D4821901","Pluviómetros",1,{"$f":"ROW()","v":4679},8]
[null,null,"D4292111","Podaderas",1,{"$f":"ROW()","v":4680},8]
[null,null,"D4332007","Poleas de aluminio",1,{"$f":"ROW()","v":4681},8]
[null,null,"D4332008","Poleas de hierro o acero",1,{"$f":"ROW()","v":4682},8]
[null,null,"D3191404","Poleas y similares de madera",1,{"$f":"ROW()","v":4683},8]
[null,null,"D3479013","Poliacrilato de sodio",1,{"$f":"ROW()","v":4684},8]
[null,null,"D3413921","Polialcoholes (polioles)",1,{"$f":"ROW()","v":4685},8]
[null,null,"D3474001","Policarbonatos",1,{"$f":"ROW()","v":4686},8]
[null,null,"D3424019","Policloruro de aluminio PAC o polihidroxicloruro de aluminio",1,{"$f":"ROW()","v":4687},8]
[null,null,"D3472001","Poliestireno",1,{"$f":"ROW()","v":4688},8]
[null,null,"D3471001","Polietileno",1,{"$f":"ROW()","v":4689},8]
[null,null,"D3471003","Polietileno aditivado",1,{"$f":"ROW()","v":4690},8]
[null,null,"D3413916","Poliglicoles",1,{"$f":"ROW()","v":4691},8]
[null,null,"D3479097","Polímeros n.c.p.",1,{"$f":"ROW()","v":4692},8]
[null,null,"D3479011","Polipropileno",1,{"$f":"ROW()","v":4693},8]
[null,null,"D3479018","Poliuretano",1,{"$f":"ROW()","v":4694},8]
[null,null,"D0215101","Pollos",1,{"$f":"ROW()","v":4695},8]
[null,null,"D2118602","Pollos y pavos rellenos",1,{"$f":"ROW()","v":4696},8]
[null,null,"D3811203","Poltronas de madera para la sala",1,{"$f":"ROW()","v":4697},8]
[null,null,"D3811210","Poltronas en mimbre, bambú o similares para la sala",1,{"$f":"ROW()","v":4698},8]
[null,null,"D3811103","Poltronas metálicas",1,{"$f":"ROW()","v":4699},8]
[null,null,"D2311004","Polvillo de harina de trigo",1,{"$f":"ROW()","v":4700},8]
[null,null,"D4151102","Polvo de bronce",1,{"$f":"ROW()","v":4701},8]
[null,null,"D3925001","Polvo de caucho",1,{"$f":"ROW()","v":4702},8]
[null,null,"D3310103","Polvo de coque",1,{"$f":"ROW()","v":4703},8]
[null,null,"D3823001","Polvo de diamante y de otras piedras preciosas",1,{"$f":"ROW()","v":4704},8]
[null,null,"D4111701","Polvo de hierro",1,{"$f":"ROW()","v":4705},8]
[null,null,"D3434008","Polvo fluorescente",1,{"$f":"ROW()","v":4706},8]
[null,null,"D4153101","Polvo y partículas de aluminio",1,{"$f":"ROW()","v":4707},8]
[null,null,"D4151101","Polvo y partículas de cobre",1,{"$f":"ROW()","v":4708},8]
[null,null,"D4154803","Polvo y partículas de estaño",1,{"$f":"ROW()","v":4709},8]
[null,null,"D4152101","Polvo y partículas de níquel",1,{"$f":"ROW()","v":4710},8]
[null,null,"D4154203","Polvo y partículas de plomo",1,{"$f":"ROW()","v":4711},8]
[null,null,"D4154401","Polvo y partículas de zinc",1,{"$f":"ROW()","v":4712},8]
[null,null,"D3545002","Pólvora blanca",1,{"$f":"ROW()","v":4713},8]
[null,null,"D3545001","Pólvora negra",1,{"$f":"ROW()","v":4714},8]
[null,null,"D3532315","Polvos de talco",1,{"$f":"ROW()","v":4715},8]
[null,null,"D2399603","Polvos para hornear",1,{"$f":"ROW()","v":4716},8]
[null,null,"D3532314","Polvos para la cara",1,{"$f":"ROW()","v":4717},8]
[null,null,"D2399912","Polvos para preparación de postres, gelatinas y similares",1,{"$f":"ROW()","v":4718},8]
[null,null,"D2399911","Polvos para refrescos, helados y paletas",1,{"$f":"ROW()","v":4719},8]
[null,null,"D0131920","Pomarroso, manzanita de rosa, zambu",1,{"$f":"ROW()","v":4720},8]
[null,null,"D0132101","Pomelo, pamplemusa, grey",1,{"$f":"ROW()","v":4721},8]
[null,null,"D0196203","Pompones",1,{"$f":"ROW()","v":4722},8]
[null,null,"D4419402","Ponederos para gallinas",1,{"$f":"ROW()","v":4723},8]
[null,null,"D2343001","Ponqués y tortas",1,{"$f":"ROW()","v":4724},8]
[null,null,"D3529906","Porcelana para prótesis dental",1,{"$f":"ROW()","v":4725},8]
[null,null,"D4817114","Porcelanas para prótesis dental",1,{"$f":"ROW()","v":4726},8]
[null,null,"D3899203","Portabebés, corrales, bañeras, caminadores y similares",1,{"$f":"ROW()","v":4727},8]
[null,null,"D4291228","Portacomidas de aluminio",1,{"$f":"ROW()","v":4728},8]
[null,null,"D4291211","Portacomidas esmaltados",1,{"$f":"ROW()","v":4729},8]
[null,null,"D3269008","Portadas de revistas",1,{"$f":"ROW()","v":4730},8]
[null,null,"D4923108","Portaequipajes para vehículos automotores",1,{"$f":"ROW()","v":4731},8]
[null,null,"D2922107","Portafolios de cuero",1,{"$f":"ROW()","v":4732},8]
[null,null,"D2922207","Portafolios de material plástico",1,{"$f":"ROW()","v":4733},8]
[null,null,"D3696001","Portalámparas y análogos de material plástico",1,{"$f":"ROW()","v":4734},8]
[null,null,"D4299605","Portarretratos",1,{"$f":"ROW()","v":4735},8]
[null,null,"D2922110","Portavestidos de cuero",1,{"$f":"ROW()","v":4736},8]
[null,null,"D3756005","Postes de cemento",1,{"$f":"ROW()","v":4737},8]
[null,null,"D3756006","Postes de concreto centrifugado",1,{"$f":"ROW()","v":4738},8]
[null,null,"D3131002","Postes inmunizados de madera",1,{"$f":"ROW()","v":4739},8]
[null,null,"D4299930","Postes metálicos para cercas de potreros y usos similares",1,{"$f":"ROW()","v":4740},{"$f":"LEN(C4740)","v":8}]
[null,null,"D4219017","Postes metálicos para redes eléctricas y usos similares",1,{"$f":"ROW()","v":4741},8]
[null,null,"D3712913","Postes para alumbrado en fibra de vidrio",1,{"$f":"ROW()","v":4742},8]
[null,null,"D2229001","Postres a base de leche",1,{"$f":"ROW()","v":4743},8]
[null,null,"D3525028","Prednisolona",1,{"$f":"ROW()","v":4744},8]
[null,null,"D3525029","Prednisona",1,{"$f":"ROW()","v":4745},8]
[null,null,"D3757004","Prefabricados de asbesto-cemento para construcción",1,{"$f":"ROW()","v":4746},8]
[null,null,"D3649031","Preformas en material plástico para envases",1,{"$f":"ROW()","v":4747},8]
[null,null,"D3526110","Premezclas antibióticas",1,{"$f":"ROW()","v":4748},8]
[null,null,"D2331908","Premezclas básicas para alimentos de animales",1,{"$f":"ROW()","v":4749},8]
[null,null,"D3525021","Premezclas de vitaminas o aditivos vitamínicos",1,{"$f":"ROW()","v":4750},8]
[null,null,"D2399910","Premezclas para la elaboración de polvos para refrescos, helados y paletas",1,{"$f":"ROW()","v":4751},8]
[null,null,"D2399913","Premezclas para la elaboración de tortas y similares (natillas, buñuelos, pan de yucas, etc.)",1,{"$f":"ROW()","v":4752},8]
[null,null,"D3626005","Prendas de vestir de caucho vulcanizado y sus accesorios",1,{"$f":"ROW()","v":4753},8]
[null,null,"D2822303","Prendas de vestir de fibras artificiales y sintéticas en tejido de punto, para mujer",1,{"$f":"ROW()","v":4754},8]
[null,null,"D2822304","Prendas de vestir de fibras artificiales y sintéticas en tejido de punto, para niña",1,{"$f":"ROW()","v":4755},8]
[null,null,"D2822101","Prendas de vestir de fibras artificiales y sintéticas en tejidos de punto, para hombre",1,{"$f":"ROW()","v":4756},8]
[null,null,"D2822305","Prendas de vestir de fibras mezcladas en tejido de punto, para mujer",1,{"$f":"ROW()","v":4757},8]
[null,null,"D2822301","Prendas de vestir de lana en tejido de punto, para mujer",1,{"$f":"ROW()","v":4758},8]
[null,null,"D2822302","Prendas de vestir de lana en tejido de punto, para niña",1,{"$f":"ROW()","v":4759},8]
[null,null,"D2824302","Prendas de vestir en material plástico",1,{"$f":"ROW()","v":4760},8]
[null,null,"D2824199","Prendas de vestir n.c.p. de cuero",1,{"$f":"ROW()","v":4761},8]
[null,null,"D2824198","Prendas de vestir n.c.p. de cueros artificiales",1,{"$f":"ROW()","v":4762},8]
[null,null,"D2822807","Prendas de vestir térmicas, especiales para práctica de camping, montañismo y similares",1,{"$f":"ROW()","v":4763},8]
[null,null,"D2822103","Prendas exteriores de algodón en tejido de punto para niño",1,{"$f":"ROW()","v":4764},8]
[null,null,"D2822102","Prendas exteriores de algodón en tejido de punto, para hombre",1,{"$f":"ROW()","v":4765},8]
[null,null,"D2822307","Prendas exteriores de algodón en tejido de punto, para mujer",1,{"$f":"ROW()","v":4766},8]
[null,null,"D2822308","Prendas exteriores de algodón en tejido de punto, para niña",1,{"$f":"ROW()","v":4767},8]
[null,null,"D2822310","Prendas exteriores de fibras artificiales y sintéticas en tejidos de punto, para mujer",1,{"$f":"ROW()","v":4768},8]
[null,null,"D2823599","Prendas n.c.p. para bebé",1,{"$f":"ROW()","v":4769},8]
[null,null,"D2921202","Prendas y accesorios de material textil para mascotas",1,{"$f":"ROW()","v":4770},8]
[null,null,"D4291242","Prensa manual de hierro para alimentos",1,{"$f":"ROW()","v":4771},8]
[null,null,"D4292205","Prensas",1,{"$f":"ROW()","v":4772},8]
[null,null,"D4421702","Prensas de mano y de pedal",1,{"$f":"ROW()","v":4773},8]
[null,null,"D4421704","Prensas eléctricas",1,{"$f":"ROW()","v":4774},8]
[null,null,"D4421703","Prensas hidráulicas",1,{"$f":"ROW()","v":4775},8]
[null,null,"D4912904","Prensas para embragues de automotores",1,{"$f":"ROW()","v":4776},8]
[null,null,"D3533499","Preparaciones abrasivas n.c.p.",1,{"$f":"ROW()","v":4777},8]
[null,null,"D3549959","Preparaciones aglutinantes para moldes o núcleos de fundición",1,{"$f":"ROW()","v":4778},8]
[null,null,"D2331999","Preparaciones alimenticias especiales para animales n.c.p.",1,{"$f":"ROW()","v":4779},8]
[null,null,"D3532209","Preparaciones desengrasantes para pisos",1,{"$f":"ROW()","v":4780},8]
[null,null,"D3466404","Preparaciones desinfectantes y bactericidas uso tópico",1,{"$f":"ROW()","v":4781},8]
[null,null,"D3549909","Preparaciones especiales para almidonar prendas textiles",1,{"$f":"ROW()","v":4782},8]
[null,null,"D3532211","Preparaciones especiales para el prelavado de prendas textiles",1,{"$f":"ROW()","v":4783},8]
[null,null,"D2331909","Preparaciones forrajeras",1,{"$f":"ROW()","v":4784},8]
[null,null,"D3532327","Preparaciones para afeitar",1,{"$f":"ROW()","v":4785},8]
[null,null,"D3532302","Preparaciones para cabello, aun los colorantes",1,{"$f":"ROW()","v":4786},8]
[null,null,"D3532206","Preparaciones para desmanchar artículos textiles",1,{"$f":"ROW()","v":4787},8]
[null,null,"D3532322","Preparaciones para higiene bucal",1,{"$f":"ROW()","v":4788},8]
[null,null,"D3532204","Preparaciones para limpiar vidrios",1,{"$f":"ROW()","v":4789},8]
[null,null,"D3533303","Preparaciones para limpiar y brillar madera y metales",1,{"$f":"ROW()","v":4790},8]
[null,null,"D3532207","Preparaciones para limpieza de artículos de material plástico",1,{"$f":"ROW()","v":4791},8]
[null,null,"D3532213","Preparaciones para limpieza de equipos de oficina",1,{"$f":"ROW()","v":4792},8]
[null,null,"D3532212","Preparaciones para limpieza y desengrase",1,{"$f":"ROW()","v":4793},8]
[null,null,"D3532214","Preparaciones para suavizar prendas textiles",1,{"$f":"ROW()","v":4794},8]
[null,null,"D3529103","Preparaciones para transmisión de ondas ecosonográficas e impulsos electromédicos",1,{"$f":"ROW()","v":4795},8]
[null,null,"D3544102","Preparaciones químicas para usos odontológicos",1,{"$f":"ROW()","v":4796},8]
[null,null,"D3533302","Preparaciones sin base de cera para lustrar calzado",1,{"$f":"ROW()","v":4797},8]
[null,null,"D3532215","Preparaciones tensoactivas",1,{"$f":"ROW()","v":4798},8]
[null,null,"D2399103","Preparados a base de cereales, leche, malta, etc.",1,{"$f":"ROW()","v":4799},8]
[null,null,"D2229002","Preparados a base de leche",1,{"$f":"ROW()","v":4800},8]
[null,null,"D2229003","Preparados a base de leche",1,{"$f":"ROW()","v":4801},8]
[null,null,"D2399198","Preparados de frutas, legumbres, hortalizas y otros vegetales n.c.p.",1,{"$f":"ROW()","v":4802},8]
[null,null,"D2399199","Preparados de mariscos y pescados n.c.p.",1,{"$f":"ROW()","v":4803},8]
[null,null,"D3466403","Preparados especiales para desinfectar y esterilizar instrumentos quirúrgicos",1,{"$f":"ROW()","v":4804},{"$f":"LEN(C4804)","v":8}]
[null,null,"D3549940","Preservativos para alimentos",1,{"$f":"ROW()","v":4805},8]
[null,null,"D2822901","Pretinas, puños, cuellos y similares de punto",1,{"$f":"ROW()","v":4806},8]
[null,null,"D4831503","Prisma y lentes no oftálmicos n.c.p.",1,{"$f":"ROW()","v":4807},8]
[null,null,"D3415008","Procaína",1,{"$f":"ROW()","v":4808},8]
[null,null,"D3423112","Producción en formas primarias de metales raros",1,{"$f":"ROW()","v":4809},8]
[null,null,"D3791008","Productos abrasivos para trabajos de prótesis y joyería",1,{"$f":"ROW()","v":4810},8]
[null,null,"D3695007","Productos acrílicos termoformados especiales para construcción",1,{"$f":"ROW()","v":4811},8]
[null,null,"D2399921","Productos aromáticos diversos",1,{"$f":"ROW()","v":4812},8]
[null,null,"D3433099","Productos auxiliares n.c.p. para el curtido del cuero",1,{"$f":"ROW()","v":4813},8]
[null,null,"D3549995","Productos auxiliares n.c.p. para textiles y tintorería",1,{"$f":"ROW()","v":4814},8]
[null,null,"D3549907","Productos auxiliares para el charolado y acabado de cuero",1,{"$f":"ROW()","v":4815},8]
[null,null,"D3549906","Productos auxiliares para la elaboración del papel",1,{"$f":"ROW()","v":4816},8]
[null,null,"D3532210","Productos blanqueadores y desmanchadores",1,{"$f":"ROW()","v":4817},8]
[null,null,"D3549996","Productos compuestos n.c.p. para tratar metales",1,{"$f":"ROW()","v":4818},8]
[null,null,"D3280004","Productos de la oleografía (óleos y similares)",1,{"$f":"ROW()","v":4819},8]
[null,null,"D3719998","Productos de vidrio n.c.p.",1,{"$f":"ROW()","v":4820},8]
[null,null,"D2365006","Productos en polvo con sabor a chocolate",1,{"$f":"ROW()","v":4821},8]
[null,null,"D3526117","Productos farmacéuticos, para uso humano (antiinfeccioso en general para uso sistémico)",1,{"$f":"ROW()","v":4822},8]
[null,null,"D3526113","Productos farmacéuticos, para uso humano (aparato cardiovascular)",1,{"$f":"ROW()","v":4823},8]
[null,null,"D3526111","Productos farmacéuticos, para uso humano (aparato digestivo y metabólico)",1,{"$f":"ROW()","v":4824},8]
[null,null,"D3526115","Productos farmacéuticos, para uso humano (aparato genitourinario y hormonas sexuales)",1,{"$f":"ROW()","v":4825},8]
[null,null,"D3526119","Productos farmacéuticos, para uso humano (aparato musculoesquelético)",1,{"$f":"ROW()","v":4826},8]
[null,null,"D3526122","Productos farmacéuticos, para uso humano (aparato respiratorio)",1,{"$f":"ROW()","v":4827},8]
[null,null,"D3526114","Productos farmacéuticos, para uso humano (dermatológicos)",1,{"$f":"ROW()","v":4828},8]
[null,null,"D3526116","Productos farmacéuticos, para uso humano (hormonas de uso sistémico, excepto las sexuales)",1,{"$f":"ROW()","v":4829},8]
[null,null,"D3526123","Productos farmacéuticos, para uso humano (órganos de los sentidos)",1,{"$f":"ROW()","v":4830},8]
[null,null,"D3526121","Productos farmacéuticos, para uso humano (productos antiparasitarios)",1,{"$f":"ROW()","v":4831},8]
[null,null,"D3526112","Productos farmacéuticos, para uso humano (sangre y órganos hematopoyéticos)",1,{"$f":"ROW()","v":4832},8]
[null,null,"D3526120","Productos farmacéuticos, para uso humano (sistema nervioso)",1,{"$f":"ROW()","v":4833},8]
[null,null,"D3526118","Productos farmacéuticos, para uso humano (terapia antineoplásica e inmunomoduladores)",1,{"$f":"ROW()","v":4834},8]
[null,null,"D3526201","Productos farmacéuticos, para uso veterinario",1,{"$f":"ROW()","v":4835},8]
[null,null,"D3549904","Productos fijadores para textiles",1,{"$f":"ROW()","v":4836},8]
[null,null,"D3549936","Productos inmunizantes para madera",1,{"$f":"ROW()","v":4837},8]
[null,null,"D4123401","Productos laminados planos de acero rápido",1,{"$f":"ROW()","v":4838},8]
[null,null,"D3532309","Productos líquidos para higiene bucal",1,{"$f":"ROW()","v":4839},8]
[null,null,"D3532318","Productos líquidos para maquillaje",1,{"$f":"ROW()","v":4840},8]
[null,null,"D3532399","Productos n.c.p. para tocador",1,{"$f":"ROW()","v":4841},8]
[null,null,"D4122301","Productos planos de acero inoxidable, simplemente laminados en frío, de espesor inferior a 4,75 mm",1,{"$f":"ROW()","v":4842},8]
[null,null,"D3414059","Productos químicos base para cosméticos y productos de tocador",1,{"$f":"ROW()","v":4843},8]
[null,null,"D4834299","Productos químicos dosificados n.c.p. para fotografía",1,{"$f":"ROW()","v":4844},8]
[null,null,"D3549950","Productos químicos especiales para el revestimiento de alfombras y tejidos-scotch-gard",1,{"$f":"ROW()","v":4845},8]
[null,null,"D3549960","Productos químicos especiales para el tratamiento de esmaltes cerámicos",1,{"$f":"ROW()","v":4846},8]
[null,null,"D3549931","Productos químicos especiales para tratamiento de aguas (calderas)",1,{"$f":"ROW()","v":4847},8]
[null,null,"D3549943","Productos químicos especiales para tratamiento de cementos y concreto",1,{"$f":"ROW()","v":4848},8]
[null,null,"D3549942","Productos químicos especiales para tratamiento de pinturas",1,{"$f":"ROW()","v":4849},8]
[null,null,"D3549945","Productos químicos especiales para tratamiento de pisos",1,{"$f":"ROW()","v":4850},8]
[null,null,"D3549944","Productos químicos especiales para tratamiento de pozos petroleros",1,{"$f":"ROW()","v":4851},8]
[null,null,"D3425099","Productos químicos inorgánicos n.c.p.",1,{"$f":"ROW()","v":4852},8]
[null,null,"D3549999","Productos químicos n.c.p.",1,{"$f":"ROW()","v":4853},8]
[null,null,"D3549949","Productos químicos para el tratamiento del agua",1,{"$f":"ROW()","v":4854},8]
[null,null,"D3799004","Productos revestidos con lana mineral",1,{"$f":"ROW()","v":4855},8]
[null,null,"D3532313","Productos sólidos para maquillaje",1,{"$f":"ROW()","v":4856},8]
[null,null,"D3549905","Productos suavizantes para textiles",1,{"$f":"ROW()","v":4857},8]
[null,null,"D3525025","Progesterona",1,{"$f":"ROW()","v":4858},8]
[null,null,"D3415005","Propilamina",1,{"$f":"ROW()","v":4859},8]
[null,null,"D3413918","Propilenglicol",1,{"$f":"ROW()","v":4860},8]
[null,null,"D3411006","Propileno",1,{"$f":"ROW()","v":4861},8]
[null,null,"D3414019","Propionato de calcio",1,{"$f":"ROW()","v":4862},8]
[null,null,"D3414020","Propionato de sodio",1,{"$f":"ROW()","v":4863},8]
[null,null,"D3649011","Protectores (sujetadores) de plástico para envases",1,{"$f":"ROW()","v":4864},8]
[null,null,"D3699055","Protectores auditivos (tapones) de material plástico",1,{"$f":"ROW()","v":4865},8]
[null,null,"D3611401","Protectores de caucho para neumáticos (cámaras de aire)",1,{"$f":"ROW()","v":4866},8]
[null,null,"D3844009","Protectores de cuero y textiles para deportes",1,{"$f":"ROW()","v":4867},8]
[null,null,"D3699017","Protectores de material plástico para alfombras y tapetes",1,{"$f":"ROW()","v":4868},{"$f":"LEN(C4868)","v":8}]
[null,null,"D3219909","Protectores de pulpa o cartón para envases",1,{"$f":"ROW()","v":4869},8]
[null,null,"D3219307","Protectores higienicos",1,{"$f":"ROW()","v":4870},8]
[null,null,"D2718005","Protectores para colchones y similares",1,{"$f":"ROW()","v":4871},8]
[null,null,"D3542003","Proteínas",1,{"$f":"ROW()","v":4872},8]
[null,null,"D2399997","Proteínas a base de cereales n.c.p.",1,{"$f":"ROW()","v":4873},8]
[null,null,"D3542011","Proteínas a base de subproductos animales",1,{"$f":"ROW()","v":4874},8]
[null,null,"D3479029","Proteínas endurecidas",1,{"$f":"ROW()","v":4875},8]
[null,null,"D4817117","Prótesis arteriales",1,{"$f":"ROW()","v":4876},8]
[null,null,"D4476001","Proveedores para armas de fuego",1,{"$f":"ROW()","v":4877},8]
[null,null,"D3431003","Provitaminas A (α, β, γ-carotenos)",1,{"$f":"ROW()","v":4878},8]
[null,null,"D4474012","Proyectiles (puntas metálicas) para munición",1,{"$f":"ROW()","v":4879},8]
[null,null,"D4832301","Proyectores cinematográficos",1,{"$f":"ROW()","v":4880},8]
[null,null,"D8363202","Publicaciones de documentos de carácter oficial",1,{"$f":"ROW()","v":4881},8]
[null,null,"D4912915","Puentes de transmisión para automotores",1,{"$f":"ROW()","v":4882},8]
[null,null,"D0125401","Puerro",1,{"$f":"ROW()","v":4883},8]
[null,null,"D4212005","Puertas de aluminio",1,{"$f":"ROW()","v":4884},8]
[null,null,"D3160003","Puertas de madera",1,{"$f":"ROW()","v":4885},8]
[null,null,"D4692905","Puertas eléctricas",1,{"$f":"ROW()","v":4886},8]
[null,null,"D3695009","Puertas en P.V.C",1,{"$f":"ROW()","v":4887},8]
[null,null,"D3719904","Puertas en vidrio de seguridad",1,{"$f":"ROW()","v":4888},8]
[null,null,"D4212001","Puertas metálicas",1,{"$f":"ROW()","v":4889},8]
[null,null,"D4923107","Puertas para vehículos automotores",1,{"$f":"ROW()","v":4890},8]
[null,null,"D3712919","Puertas reforzadas con fibra de vidrio",1,{"$f":"ROW()","v":4891},8]
[null,null,"D4299302","Puertas y compartimentos blindados",1,{"$f":"ROW()","v":4892},8]
[null,null,"D4212013","Puertas y ventanas blindadas de acero",1,{"$f":"ROW()","v":4893},8]
[null,null,"D2149906","Pulpa de frutas",1,{"$f":"ROW()","v":4894},8]
[null,null,"D2139910","Pulpa de tomate",1,{"$f":"ROW()","v":4895},8]
[null,null,"D3211101","Pulpa química de madera soluble",1,{"$f":"ROW()","v":4896},8]
[null,null,"D3211501","Pulpa química y semiquímica de bagazos de caña",1,{"$f":"ROW()","v":4897},8]
[null,null,"D3899704","Pulseras de fantasía acabadas",1,{"$f":"ROW()","v":4898},8]
[null,null,"D3899712","Pulseras de fantasía semiacabadas",1,{"$f":"ROW()","v":4899},8]
[null,null,"D2923101","Pulsos de cuero para reloj",1,{"$f":"ROW()","v":4900},8]
[null,null,"D2923901","Pulsos de material plástico para relojes",1,{"$f":"ROW()","v":4901},8]
[null,null,"D3891112","Puntas para bolígrafo-esferas",1,{"$f":"ROW()","v":4902},8]
[null,null,"D3891117","Puntas y micropuntas especiales para bolígrafos, marcadores y similares",1,{"$f":"ROW()","v":4903},8]
[null,null,"D2960010","Punteras metálicas para calzado",1,{"$f":"ROW()","v":4904},8]
[null,null,"D3814036","Pupitres de madera dobles",1,{"$f":"ROW()","v":4905},8]
[null,null,"D3814035","Pupitres de madera sencillos",1,{"$f":"ROW()","v":4906},8]
[null,null,"D3814041","Pupitres dobles metálicos",1,{"$f":"ROW()","v":4907},8]
[null,null,"D3814040","Pupitres individuales metálicos",1,{"$f":"ROW()","v":4908},8]
[null,null,"D3533102","Purificadores líquidos de ambiente",1,{"$f":"ROW()","v":4909},8]
[null,null,"D3533101","Purificadores sólidos de ambiente",1,{"$f":"ROW()","v":4910},8]
[null,null,"D4341001","Quemadores industriales",1,{"$f":"ROW()","v":4911},8]
[null,null,"D4341002","Quemadores para combustible líquido",1,{"$f":"ROW()","v":4912},8]
[null,null,"D4341003","Quemadores para gas",1,{"$f":"ROW()","v":4913},8]
[null,null,"D4341004","Quemadores, boquillas para calentadores de agua no eléctricos",1,{"$f":"ROW()","v":4914},8]
[null,null,"D3334901","Queroseno",1,{"$f":"ROW()","v":4915},8]
[null,null,"D2225101","Queso blando",1,{"$f":"ROW()","v":4916},8]
[null,null,"D2225104","Queso crema",1,{"$f":"ROW()","v":4917},8]
[null,null,"D2225201","Queso de leche de búfala",1,{"$f":"ROW()","v":4918},8]
[null,null,"D2225105","Queso fundido",1,{"$f":"ROW()","v":4919},8]
[null,null,"D2225103","Queso madurado",1,{"$f":"ROW()","v":4920},8]
[null,null,"D3525038","Quinina y sus sales",1,{"$f":"ROW()","v":4921},8]
[null,null,"D0119401","Quinua",1,{"$f":"ROW()","v":4922},8]
[null,null,"D3712912","Quioscos y casetas en fibra de vidrio",1,{"$f":"ROW()","v":4923},8]
[null,null,"D3870203","Quioscos y casetas metálicas",1,{"$f":"ROW()","v":4924},8]
[null,null,"D3892103","Quitasoles",1,{"$f":"ROW()","v":4925},8]
[null,null,"D0125902","Rábano",1,{"$f":"ROW()","v":4926},8]
[null,null,"D4129303","Racores",1,{"$f":"ROW()","v":4927},8]
[null,null,"D4912902","Radiadores para automotores",1,{"$f":"ROW()","v":4928},8]
[null,null,"D4731102","Radiograbadoras",1,{"$f":"ROW()","v":4929},8]
[null,null,"D4732102","Radiolas",1,{"$f":"ROW()","v":4930},8]
[null,null,"D4731101","Radiorreceptores",1,{"$f":"ROW()","v":4931},8]
[null,null,"D0196101","Raíces de plantas",1,{"$f":"ROW()","v":4932},{"$f":"LEN(C4932)","v":8}]
[null,null,"D4291201","Rallos manuales",1,{"$f":"ROW()","v":4933},8]
[null,null,"D0196204","Ramilletes, coronas, arreglos florales y artículos similares, frescos o secos",1,{"$f":"ROW()","v":4934},8]
[null,null,"D0192906","Ramio",1,{"$f":"ROW()","v":4935},8]
[null,null,"D2509003","Rapé",1,{"$f":"ROW()","v":4936},8]
[null,null,"D3891105","Rapidógrafos y similares",1,{"$f":"ROW()","v":4937},8]
[null,null,"D4411901","Rastrillo mecanizado agrícola",1,{"$f":"ROW()","v":4938},8]
[null,null,"D3466601","Raticidas",1,{"$f":"ROW()","v":4939},8]
[null,null,"D4526101","Ratones (mouse para computadora)",1,{"$f":"ROW()","v":4940},8]
[null,null,"D2372101","Raviolis",1,{"$f":"ROW()","v":4941},8]
[null,null,"D0429111","Rayas y peces sierra, frescos o refrigerados",1,{"$f":"ROW()","v":4942},8]
[null,null,"D3479009","Rayón",1,{"$f":"ROW()","v":4943},8]
[null,null,"D2792201","Reata y tejidos angostos similares elaborados con fibras artificiales",1,{"$f":"ROW()","v":4944},8]
[null,null,"D1531103","Recebo",1,{"$f":"ROW()","v":4945},8]
[null,null,"D3694012","Recipientes de material plástico-canecas para la basura",1,{"$f":"ROW()","v":4946},8]
[null,null,"D4299401","Recipientes metálicos para basuras-canecas",1,{"$f":"ROW()","v":4947},8]
[null,null,"D4222001","Recipientes metálicos para gases comprimidos",1,{"$f":"ROW()","v":4948},8]
[null,null,"D3694016","Recogedores plásticos de basura",1,{"$f":"ROW()","v":4949},8]
[null,null,"D3699073","Recolector de cortopunzantes de material plástico",1,{"$f":"ROW()","v":4950},8]
[null,null,"D8882402","Reconstrucción de aeronaves",1,{"$f":"ROW()","v":4951},8]
[null,null,"D8876103","Reconstrucción de calderas y motores marinos",1,{"$f":"ROW()","v":4952},8]
[null,null,"D8882201","Reconstrucción de embarcaciones mayores",1,{"$f":"ROW()","v":4953},8]
[null,null,"D8877901","Reconstrucción de maquinaria industrial n.c.p.",1,{"$f":"ROW()","v":4954},8]
[null,null,"D8877601","Reconstrucción de máquinas para textiles",1,{"$f":"ROW()","v":4955},8]
[null,null,"D8877201","Reconstrucción de máquinas-herramientas para cortar y conformar metales",1,{"$f":"ROW()","v":4956},8]
[null,null,"D8881103","Reconstrucción de motores para vehículos automotores",1,{"$f":"ROW()","v":4957},8]
[null,null,"D8881301","Reconstrucción de partes n.c.p. para vehículos automotores",1,{"$f":"ROW()","v":4958},8]
[null,null,"D8876102","Reconstrucción de partes para motores de maquinaria pesada",1,{"$f":"ROW()","v":4959},8]
[null,null,"D8876101","Reconstrucción de partes para motores de vehículos livianos",1,{"$f":"ROW()","v":4960},8]
[null,null,"D3922001","Recortes, desperdicios y polvo de cuero",1,{"$f":"ROW()","v":4961},8]
[null,null,"D4612201","Rectificadores eléctricos",1,{"$f":"ROW()","v":4962},8]
[null,null,"D3691002","Recubrimientos de material plástico para pisos",1,{"$f":"ROW()","v":4963},8]
[null,null,"D3649032","Redes tubulares de polietileno",1,{"$f":"ROW()","v":4964},8]
[null,null,"D4653901","Reflectores",1,{"$f":"ROW()","v":4965},8]
[null,null,"D3694005","Regaderas y baldes de material plástico",1,{"$f":"ROW()","v":4966},8]
[null,null,"D4514105","Registradoras electrónicas",1,{"$f":"ROW()","v":4967},8]
[null,null,"D4826404","Registradores para buses y análogos",1,{"$f":"ROW()","v":4968},8]
[null,null,"D4823205","Reglas de cálculo",1,{"$f":"ROW()","v":4969},8]
[null,null,"D4823302","Reglas graduadas",1,{"$f":"ROW()","v":4970},8]
[null,null,"D4823206","Reglas metálicas y de madera o plásticas para oficina y escolares",1,{"$f":"ROW()","v":4971},8]
[null,null,"D4324012","Reguladores de presión para gases",1,{"$f":"ROW()","v":4972},8]
[null,null,"D4621103","Reguladores eléctricos para alto voltaje",1,{"$f":"ROW()","v":4973},8]
[null,null,"D3466303","Reguladores fisiológicos",1,{"$f":"ROW()","v":4974},8]
[null,null,"D4219001","Rejas metálicas",1,{"$f":"ROW()","v":4975},8]
[null,null,"D4294310","Rejillas de alambre",1,{"$f":"ROW()","v":4976},8]
[null,null,"D3649024","Rejillas de material plástico",1,{"$f":"ROW()","v":4977},8]
[null,null,"D4299936","Rejillas fundidas de hierro o acero para alcantarillas",1,{"$f":"ROW()","v":4978},8]
[null,null,"D4294309","Rejillas metálicas para pisos industriales",1,{"$f":"ROW()","v":4979},8]
[null,null,"D4299902","Rejillas para ventilación",1,{"$f":"ROW()","v":4980},8]
[null,null,"D4843003","Relojes de control de personal",1,{"$f":"ROW()","v":4981},8]
[null,null,"D4843001","Relojes de fichas",1,{"$f":"ROW()","v":4982},8]
[null,null,"D4841001","Relojes de pulsera, eléctricos, con indicadores mecánicos solamente, con caja de metal precioso o chapado de metal precioso (plaqué)",1,{"$f":"ROW()","v":4983},8]
[null,null,"D4843002","Relojes de vigilante",1,{"$f":"ROW()","v":4984},8]
[null,null,"D4842002","Relojes eléctricos",1,{"$f":"ROW()","v":4985},8]
[null,null,"D4842003","Relojes electrónicos",1,{"$f":"ROW()","v":4986},8]
[null,null,"D4842001","Relojes para torres y similares",1,{"$f":"ROW()","v":4987},8]
[null,null,"D4421801","Remachadoras de bandas de vehículos automotores",1,{"$f":"ROW()","v":4988},8]
[null,null,"D4294411","Remaches",1,{"$f":"ROW()","v":4989},8]
[null,null,"D0180101","Remolacha azucarera",1,{"$f":"ROW()","v":4990},8]
[null,null,"D0125901","Remolacha para ensalada (excepto forrajera)",1,{"$f":"ROW()","v":4991},8]
[null,null,"D2311003","Remolido de harina de trigo",1,{"$f":"ROW()","v":4992},8]
[null,null,"D4412102","Remolque cortador de césped",1,{"$f":"ROW()","v":4993},8]
[null,null,"D4922901","Remolques",1,{"$f":"ROW()","v":4994},8]
[null,null,"D3511036","Removedores para pinturas",1,{"$f":"ROW()","v":4995},8]
[null,null,"D3816008","Repisas de madera (multifuncionales)",1,{"$f":"ROW()","v":4996},{"$f":"LEN(C4996)","v":8}]
[null,null,"D3814029","Repisas metálicas para cocina",1,{"$f":"ROW()","v":4997},8]
[null,null,"D0121201","Repollo",1,{"$f":"ROW()","v":4998},8]
[null,null,"D8911001","Reproducción de pinturas originales, grabados y similares",1,{"$f":"ROW()","v":4999},8]
[null,null,"D3219929","Repuestos (bloques) de papel para pastas de argolla y similares",1,{"$f":"ROW()","v":5000},8]
[null,null,"D3627022","Repuestos de caucho para automotores y maquinaria",1,{"$f":"ROW()","v":5001},8]
[null,null,"D3891118","Repuestos de tinta para estilógrafos",1,{"$f":"ROW()","v":5002},8]
[null,null,"D2193203","Residuos de aceite crudo de palma africana",1,{"$f":"ROW()","v":5003},8]
[null,null,"D2193202","Residuos de aceites refinados-aceites grasos",1,{"$f":"ROW()","v":5004},8]
[null,null,"D3999001","Residuos líquidos automotrices",1,{"$f":"ROW()","v":5005},8]
[null,null,"D3999002","Residuos líquidos flexográficos",1,{"$f":"ROW()","v":5006},8]
[null,null,"D3479021","Resina aminoplástica (urea-formol)",1,{"$f":"ROW()","v":5007},8]
[null,null,"D3474006","Resina termoplástica poliacetálica",1,{"$f":"ROW()","v":5008},8]
[null,null,"D3479014","Resinas acrílicas",1,{"$f":"ROW()","v":5009},8]
[null,null,"D3474004","Resinas alquídicas",1,{"$f":"ROW()","v":5010},8]
[null,null,"D3479027","Resinas de estireno-indeno",1,{"$f":"ROW()","v":5011},8]
[null,null,"D3472002","Resinas de poliestireno",1,{"$f":"ROW()","v":5012},8]
[null,null,"D3479026","Resinas de politerpenos",1,{"$f":"ROW()","v":5013},8]
[null,null,"D3474003","Resinas epóxicas (saturadas)",1,{"$f":"ROW()","v":5014},8]
[null,null,"D3479019","Resinas fenólicas",1,{"$f":"ROW()","v":5015},8]
[null,null,"D3479020","Resinas nitrogenadas",1,{"$f":"ROW()","v":5016},8]
[null,null,"D3479024","Resinas pigmentadas",1,{"$f":"ROW()","v":5017},8]
[null,null,"D3479017","Resinas poliamídicas",1,{"$f":"ROW()","v":5018},8]
[null,null,"D3474002","Resinas poliéster",1,{"$f":"ROW()","v":5019},8]
[null,null,"D3474005","Resinas poliéster no saturadas",1,{"$f":"ROW()","v":5020},8]
[null,null,"D3479012","Resinas poliolefínicas de polipropileno",1,{"$f":"ROW()","v":5021},8]
[null,null,"D0321998","Resinas vegetales n.c.p.",1,{"$f":"ROW()","v":5022},8]
[null,null,"D3473007","Resinas vinílicas",1,{"$f":"ROW()","v":5023},8]
[null,null,"D4712001","Resistencias eléctricas",1,{"$f":"ROW()","v":5024},8]
[null,null,"D3413922","Resorcina",1,{"$f":"ROW()","v":5025},8]
[null,null,"D4294508","Resortes",1,{"$f":"ROW()","v":5026},8]
[null,null,"D4294507","Resortes de alambre de aluminio",1,{"$f":"ROW()","v":5027},8]
[null,null,"D4294503","Resortes de alambre de cobre",1,{"$f":"ROW()","v":5028},8]
[null,null,"D4294502","Resortes de alambre de hierro o acero",1,{"$f":"ROW()","v":5029},8]
[null,null,"D3699023","Respiradores plásticos para protección",1,{"$f":"ROW()","v":5030},8]
[null,null,"D8724001","Restauración y reparación de muebles",1,{"$f":"ROW()","v":5031},8]
[null,null,"D3925002","Retal de caucho",1,{"$f":"ROW()","v":5032},8]
[null,null,"D2371002","Retal de fideos, macarrones y similares",1,{"$f":"ROW()","v":5033},8]
[null,null,"D2342004","Retal de galletas",1,{"$f":"ROW()","v":5034},8]
[null,null,"D3761006","Retal de mármol",1,{"$f":"ROW()","v":5035},8]
[null,null,"D3927004","Retal de polietileno",1,{"$f":"ROW()","v":5036},8]
[null,null,"D4392404","Retenedores de aceite",1,{"$f":"ROW()","v":5037},8]
[null,null,"D4834201","Reveladores fotográficos",1,{"$f":"ROW()","v":5038},8]
[null,null,"D3691001","Revestimientos de material sintético",1,{"$f":"ROW()","v":5039},8]
[null,null,"D3733002","Revestimientos refractarios para hornos de fundición",1,{"$f":"ROW()","v":5040},8]
[null,null,"D3230002","Revistas impresas publicadas cuatro o más veces por semana",1,{"$f":"ROW()","v":5041},8]
[null,null,"D3241002","Revistas impresas publicadas menos de cuatro veces por semana",1,{"$f":"ROW()","v":5042},8]
[null,null,"D4473001","Revólveres y pistolas",1,{"$f":"ROW()","v":5043},8]
[null,null,"D4125301","Rieles",1,{"$f":"ROW()","v":5044},8]
[null,null,"D4299910","Rieles metálicos para correderas",1,{"$f":"ROW()","v":5045},8]
[null,null,"D4299908","Rieles para cortinas",1,{"$f":"ROW()","v":5046},8]
[null,null,"D4912933","Rines especiales para vehículos pesados (rines de araña)",1,{"$f":"ROW()","v":5047},8]
[null,null,"D4912921","Rines para automotores",1,{"$f":"ROW()","v":5048},8]
[null,null,"D4994201","Rines para bicicletas",1,{"$f":"ROW()","v":5049},8]
[null,null,"D4994101","Rines para motocicletas y motonetas",1,{"$f":"ROW()","v":5050},8]
[null,null,"D3915202","Ripio de café",1,{"$f":"ROW()","v":5051},8]
[null,null,"D4481611","Rizadores eléctricos para el cabello",1,{"$f":"ROW()","v":5052},8]
[null,null,"D0429104","Róbalo, fresco o refrigerado",1,{"$f":"ROW()","v":5053},8]
[null,null,"D0429308","Róbalo, fresco o refrigerado",1,{"$f":"ROW()","v":5054},8]
[null,null,"D0429303","Róbalo, vivos",1,{"$f":"ROW()","v":5055},8]
[null,null,"D1611002","Roca fosfática (en bruto), o fosforita sin moler",1,{"$f":"ROW()","v":5056},8]
[null,null,"D1611003","Roca fosfática triturada o molida (fosforita)",1,{"$f":"ROW()","v":5057},8]
[null,null,"D1512005","Roca o piedra caliza en bloques (para construcción)",1,{"$f":"ROW()","v":5058},8]
[null,null,"D1522001","Roca o piedra caliza en bruto (para cal o cemento)",1,{"$f":"ROW()","v":5059},8]
[null,null,"D1512003","Roca o piedra caliza en bruto (para construcción)",1,{"$f":"ROW()","v":5060},{"$f":"LEN(C5060)","v":8}]
[null,null,"D1522003","Roca o piedra coralina",1,{"$f":"ROW()","v":5061},8]
[null,null,"D1513004","Rocas de cuarcita en bruto o desbastadas",1,{"$f":"ROW()","v":5062},8]
[null,null,"D1513001","Rocas de origen volcánico, puzolana, basalto",1,{"$f":"ROW()","v":5063},8]
[null,null,"D1512099","Rocas o piedras calizas de talla o de construcción n.c.p.",1,{"$f":"ROW()","v":5064},8]
[null,null,"D4415005","Rociadores para riego",1,{"$f":"ROW()","v":5065},8]
[null,null,"D4299219","Rodachines metálicos con o sin revestimiento plástico",1,{"$f":"ROW()","v":5066},8]
[null,null,"D4299218","Rodachines metálicos con rueda plástica",1,{"$f":"ROW()","v":5067},8]
[null,null,"D3844023","Rodaderos y túneles para parques infantiles",1,{"$f":"ROW()","v":5068},8]
[null,null,"D4331001","Rodamientos de bolas",1,{"$f":"ROW()","v":5069},8]
[null,null,"D4331002","Rodamientos de rodillos",1,{"$f":"ROW()","v":5070},8]
[null,null,"D3627020","Rodillo de caucho",1,{"$f":"ROW()","v":5071},8]
[null,null,"D3191202","Rodillos de madera",1,{"$f":"ROW()","v":5072},8]
[null,null,"D3899311","Rodillos para pintar",1,{"$f":"ROW()","v":5073},8]
[null,null,"D3219917","Rollos de papel para máquinas",1,{"$f":"ROW()","v":5074},8]
[null,null,"D3212810","Rollos de papel para télex y usos análogos",1,{"$f":"ROW()","v":5075},8]
[null,null,"D4392203","Romanas",1,{"$f":"ROW()","v":5076},8]
[null,null,"D3855001","Rompecabezas",1,{"$f":"ROW()","v":5077},8]
[null,null,"D2413102","Ron",1,{"$f":"ROW()","v":5078},8]
[null,null,"D0429120","Ronco, fresco o refrigerado",1,{"$f":"ROW()","v":5079},8]
[null,null,"D2823601","Ropa de deporte para hombre",1,{"$f":"ROW()","v":5080},8]
[null,null,"D2823603","Ropa de deporte para mujer",1,{"$f":"ROW()","v":5081},8]
[null,null,"D2823604","Ropa de deporte para niña",1,{"$f":"ROW()","v":5082},8]
[null,null,"D2823602","Ropa de deporte para niño",1,{"$f":"ROW()","v":5083},8]
[null,null,"D2823409","Ropa de dormir de tejidos planos de algodón, para mujer",1,{"$f":"ROW()","v":5084},8]
[null,null,"D2823410","Ropa de dormir de tejidos planos de algodón, para niña",1,{"$f":"ROW()","v":5085},8]
[null,null,"D2823411","Ropa de dormir de tejidos planos de fibras artificiales y sintéticas, para mujer",1,{"$f":"ROW()","v":5086},8]
[null,null,"D2823412","Ropa de dormir de tejidos planos de fibras artificiales y sintéticas, para niña",1,{"$f":"ROW()","v":5087},8]
[null,null,"D2822201","Ropa interior (calzoncillos) de algodón en tejido de punto, para hombre",1,{"$f":"ROW()","v":5088},8]
[null,null,"D2822202","Ropa interior (calzoncillos) de algodón en tejido de punto, para niño",1,{"$f":"ROW()","v":5089},8]
[null,null,"D2822203","Ropa interior (calzoncillos) de fibras artificiales y sintéticas en tejido de punto, para hombre",1,{"$f":"ROW()","v":5090},8]
[null,null,"D2822204","Ropa interior (calzoncillos) de fibras artificiales y sintéticas en tejido de punto, para niño",1,{"$f":"ROW()","v":5091},8]
[null,null,"D2822405","Ropa interior de algodón en tejido de punto, para mujer",1,{"$f":"ROW()","v":5092},8]
[null,null,"D2822406","Ropa interior de algodón en tejido de punto, para niña",1,{"$f":"ROW()","v":5093},8]
[null,null,"D2822401","Ropa interior de fibras artificiales y sintéticas en tejido de punto, para mujer",1,{"$f":"ROW()","v":5094},8]
[null,null,"D2822403","Ropa interior de fibras artificiales y sintéticas en tejido de punto, para niña",1,{"$f":"ROW()","v":5095},8]
[null,null,"D2824303","Ropa interior de material plástico",1,{"$f":"ROW()","v":5096},8]
[null,null,"D2823201","Ropa interior de tejidos planos de algodón, para hombre",1,{"$f":"ROW()","v":5097},8]
[null,null,"D2823405","Ropa interior de tejidos planos de algodón, para mujer",1,{"$f":"ROW()","v":5098},8]
[null,null,"D2823406","Ropa interior de tejidos planos de algodón, para niña",1,{"$f":"ROW()","v":5099},8]
[null,null,"D2823202","Ropa interior de tejidos planos de algodón, para niño",1,{"$f":"ROW()","v":5100},8]
[null,null,"D2823209","Ropa interior de tejidos planos de fibras artificiales y sintéticas para hombre",1,{"$f":"ROW()","v":5101},8]
[null,null,"D2823407","Ropa interior de tejidos planos de fibras artificiales y sintéticas, para mujer",1,{"$f":"ROW()","v":5102},8]
[null,null,"D2823408","Ropa interior de tejidos planos de fibras artificiales y sintéticas, para niña",1,{"$f":"ROW()","v":5103},8]
[null,null,"D2823210","Ropa interior de tejidos planos de fibras artificiales y sintéticas, para niño",1,{"$f":"ROW()","v":5104},8]
[null,null,"D2822701","Ropa para bebé en fibras artificiales o sintéticas en tejido de punto",1,{"$f":"ROW()","v":5105},8]
[null,null,"D2822402","Ropa para dormir de fibras artificiales y sintéticas en tejido de punto, para mujer",1,{"$f":"ROW()","v":5106},8]
[null,null,"D3853099","Ropa y efectos n.c.p. para muñecas",1,{"$f":"ROW()","v":5107},8]
[null,null,"D0196201","Rosas",1,{"$f":"ROW()","v":5108},8]
[null,null,"D4722306","Router",1,{"$f":"ROW()","v":5109},8]
[null,null,"D2822104","Ruanas de lana para hombre",1,{"$f":"ROW()","v":5110},8]
[null,null,"D2822309","Ruanas de lana y similares, para mujer",1,{"$f":"ROW()","v":5111},8]
[null,null,"D0159903","Ruba, ulluco, chugua",1,{"$f":"ROW()","v":5112},8]
[null,null,"D4912925","Ruedas artilleras",1,{"$f":"ROW()","v":5113},8]
[null,null,"D3627029","Ruedas de caucho",1,{"$f":"ROW()","v":5114},8]
[null,null,"D3699030","Ruedas de material plástico",1,{"$f":"ROW()","v":5115},8]
[null,null,"D4125304","Ruedas fundidas de hierro o acero",1,{"$f":"ROW()","v":5116},8]
[null,null,"D4954001","Ruedas para vehículos de ferrocarril",1,{"$f":"ROW()","v":5117},8]
[null,null,"D3899401","Rulos de material plástico",1,{"$f":"ROW()","v":5118},8]
[null,null,"D3525052","Rutina",1,{"$f":"ROW()","v":5119},8]
[null,null,"D2413901","Sabajón",1,{"$f":"ROW()","v":5120},8]
[null,null,"D0429211","Sábalo de agua dulce, fresco o refrigerado",1,{"$f":"ROW()","v":5121},8]
[null,null,"D0429133","Sábalo marino, fresco o refrigerado",1,{"$f":"ROW()","v":5122},8]
[null,null,"D0429310","Sábalo, fresco o refrigerado",1,{"$f":"ROW()","v":5123},8]
[null,null,"D0429305","Sábalo, vivos",1,{"$f":"ROW()","v":5124},{"$f":"LEN(C5124)","v":8}]
[null,null,"D2712001","Sábanas",1,{"$f":"ROW()","v":5125},8]
[null,null,"D3699043","Sábanas (colchonetas) en material plástico",1,{"$f":"ROW()","v":5126},8]
[null,null,"D2712003","Sábanas infantiles",1,{"$f":"ROW()","v":5127},8]
[null,null,"D0429124","Sable, fresco o refrigerado",1,{"$f":"ROW()","v":5128},8]
[null,null,"D4516005","Sacaganchos",1,{"$f":"ROW()","v":5129},8]
[null,null,"D3415015","Sacarina",1,{"$f":"ROW()","v":5130},8]
[null,null,"D2352004","Sacarosa químicamente pura",1,{"$f":"ROW()","v":5131},8]
[null,null,"D3641002","Sacos - empaques de material sintético",1,{"$f":"ROW()","v":5132},8]
[null,null,"D2718006","Sacos de dormir (sleeping) para camping",1,{"$f":"ROW()","v":5133},8]
[null,null,"D2718009","Sacos de dormir para bebé (sleeping)",1,{"$f":"ROW()","v":5134},8]
[null,null,"D2715004","Sacos de fique",1,{"$f":"ROW()","v":5135},8]
[null,null,"D3215201","Sacos de papel multipliegos",1,{"$f":"ROW()","v":5136},8]
[null,null,"D3215207","Sacos de papel multipliegos",1,{"$f":"ROW()","v":5137},8]
[null,null,"D2715006","Sacos de plástico tejidos o no, con capacidad superior a 250 kg",1,{"$f":"ROW()","v":5138},8]
[null,null,"D2715001","Sacos de yute",1,{"$f":"ROW()","v":5139},8]
[null,null,"D2832001","Sacos y sacones de piel",1,{"$f":"ROW()","v":5140},8]
[null,null,"D2833001","Sacos, sacones y abrigos de piel artificial",1,{"$f":"ROW()","v":5141},8]
[null,null,"D1620101","Sal gema o halita",1,{"$f":"ROW()","v":5142},8]
[null,null,"D1620302","Sal industrial o desnaturalizada",1,{"$f":"ROW()","v":5143},8]
[null,null,"D1620103","Sal marina sin purificar",1,{"$f":"ROW()","v":5144},8]
[null,null,"D1620301","Sal mineralizada",1,{"$f":"ROW()","v":5145},8]
[null,null,"D1620201","Sal refinada",1,{"$f":"ROW()","v":5146},8]
[null,null,"D1620202","Sal yodada y/o fluorada o sal de mesa",1,{"$f":"ROW()","v":5147},8]
[null,null,"D2118404","Salchichas",1,{"$f":"ROW()","v":5148},8]
[null,null,"D2118408","Salchichas envasadas",1,{"$f":"ROW()","v":5149},8]
[null,null,"D2118403","Salchichón",1,{"$f":"ROW()","v":5150},8]
[null,null,"D3527006","Sales biliares en polvo",1,{"$f":"ROW()","v":5151},8]
[null,null,"D3424042","Sales minerales",1,{"$f":"ROW()","v":5152},8]
[null,null,"D3427099","Sales químicas n.c.p.",1,{"$f":"ROW()","v":5153},8]
[null,null,"D3521002","Salicilato de metilo",1,{"$f":"ROW()","v":5154},8]
[null,null,"D3464901","Salitre",1,{"$f":"ROW()","v":5155},8]
[null,null,"D2124202","Salmón enlatado",1,{"$f":"ROW()","v":5156},8]
[null,null,"D0422201","Salmones de agua dulce",1,{"$f":"ROW()","v":5157},8]
[null,null,"D0422101","Salmones marinos",1,{"$f":"ROW()","v":5158},8]
[null,null,"D0429107","Salmonetes, frescos o refrigerados",1,{"$f":"ROW()","v":5159},8]
[null,null,"D1620102","Salmuera o solución saturada de sal",1,{"$f":"ROW()","v":5160},8]
[null,null,"D2399502","Salsa de ají y otras salsas picantes",1,{"$f":"ROW()","v":5161},8]
[null,null,"D2399501","Salsa de tomate",1,{"$f":"ROW()","v":5162},8]
[null,null,"D2399503","Salsas de frutas",1,{"$f":"ROW()","v":5163},8]
[null,null,"D2399598","Salsas para mesa n.c.p.",1,{"$f":"ROW()","v":5164},8]
[null,null,"D3912002","Salvado",1,{"$f":"ROW()","v":5165},8]
[null,null,"D2933007","Sandalias de cuero",1,{"$f":"ROW()","v":5166},8]
[null,null,"D0122101","Sandías",1,{"$f":"ROW()","v":5167},8]
[null,null,"D3911009","Sangre desecada",1,{"$f":"ROW()","v":5168},8]
[null,null,"D3911008","Sangre líquida",1,{"$f":"ROW()","v":5169},8]
[null,null,"D3693004","Sanitarios de material plástico para vehículos automotores",1,{"$f":"ROW()","v":5170},8]
[null,null,"D3712917","Sanitarios en fibra de vidrio",1,{"$f":"ROW()","v":5171},8]
[null,null,"D3693003","Sanitarios portátiles para camping",1,{"$f":"ROW()","v":5172},8]
[null,null,"D0429208","Sapoara-sapuara-zapoara, fresca o refrigerada",1,{"$f":"ROW()","v":5173},8]
[null,null,"D2124203","Sardinas enlatadas",1,{"$f":"ROW()","v":5174},8]
[null,null,"D0426101","Sardinas, frescas o refrigeradas",1,{"$f":"ROW()","v":5175},8]
[null,null,"D0421107","Sardinata-dorada-sabaleta",1,{"$f":"ROW()","v":5176},8]
[null,null,"D0429121","Sargo, fresco o refrigerado",1,{"$f":"ROW()","v":5177},8]
[null,null,"D4291225","Sartenes y peroles de aluminio",1,{"$f":"ROW()","v":5178},8]
[null,null,"D2152303","Sebo fundido refinado",1,{"$f":"ROW()","v":5179},8]
[null,null,"D2152302","Sebo fundido sin refinar",1,{"$f":"ROW()","v":5180},8]
[null,null,"D2152301","Sebo refinado de vacuno",1,{"$f":"ROW()","v":5181},8]
[null,null,"D2152304","Sebo sin fundir de vacuno",1,{"$f":"ROW()","v":5182},8]
[null,null,"D4491201","Secadora para madera, pasta para papel, papel o cartón",1,{"$f":"ROW()","v":5183},8]
[null,null,"D4462203","Secadoras de ropa para uso industrial",1,{"$f":"ROW()","v":5184},8]
[null,null,"D4481615","Secadores de pelo para salones de belleza",1,{"$f":"ROW()","v":5185},8]
[null,null,"D4491101","Secadores de ropa centrífugos",1,{"$f":"ROW()","v":5186},8]
[null,null,"D4481612","Secadores eléctricos para el cabello",1,{"$f":"ROW()","v":5187},8]
[null,null,"D3532326","Seda para higiene dental",1,{"$f":"ROW()","v":5188},{"$f":"LEN(C5188)","v":8}]
[null,null,"D4292112","Segadoras de césped manual",1,{"$f":"ROW()","v":5189},8]
[null,null,"D4412301","Segadoras motorizadas",1,{"$f":"ROW()","v":5190},8]
[null,null,"D4412302","Segadoras no motorizadas",1,{"$f":"ROW()","v":5191},8]
[null,null,"D4815013","Seguetas para ampolletas",1,{"$f":"ROW()","v":5192},8]
[null,null,"D3427015","Selenito sódico",1,{"$f":"ROW()","v":5193},8]
[null,null,"D3891201","Sellos de caucho",1,{"$f":"ROW()","v":5194},8]
[null,null,"D3261006","Sellos de garantía de papel",1,{"$f":"ROW()","v":5195},8]
[null,null,"D4299935","Sellos de plomo de seguridad",1,{"$f":"ROW()","v":5196},8]
[null,null,"D3891202","Sellos metálicos",1,{"$f":"ROW()","v":5197},8]
[null,null,"D4293206","Sellos metálicos de seguridad para frascos y botellas",1,{"$f":"ROW()","v":5198},8]
[null,null,"D4293210","Sellos metálicos de seguridad para tambores, canecas, barriles y similares",1,{"$f":"ROW()","v":5199},8]
[null,null,"D3699067","Sellos plásticos, para mecanismos de seguridad",1,{"$f":"ROW()","v":5200},8]
[null,null,"D4692901","Semáforos",1,{"$f":"ROW()","v":5201},8]
[null,null,"D4411301","Sembradoras motorizadas",1,{"$f":"ROW()","v":5202},8]
[null,null,"D4411302","Sembradoras no motorizadas",1,{"$f":"ROW()","v":5203},8]
[null,null,"D0241101","Semen de bovinos",1,{"$f":"ROW()","v":5204},8]
[null,null,"D0241401","Semen de équidos",1,{"$f":"ROW()","v":5205},8]
[null,null,"D0241301","Semen de ganado porcino",1,{"$f":"ROW()","v":5206},8]
[null,null,"D0144401","Semillas de ajonjolí",1,{"$f":"ROW()","v":5207},8]
[null,null,"D0143201","Semillas de algodón",1,{"$f":"ROW()","v":5208},8]
[null,null,"D0144601","Semillas de cártamo",1,{"$f":"ROW()","v":5209},8]
[null,null,"D0144301","Semillas de colza o canola",1,{"$f":"ROW()","v":5210},8]
[null,null,"D0196301","Semillas de flores",1,{"$f":"ROW()","v":5211},8]
[null,null,"D0136001","Semillas de frutas",1,{"$f":"ROW()","v":5212},8]
[null,null,"D0144501","Semillas de girasol",1,{"$f":"ROW()","v":5213},8]
[null,null,"D0144702","Semillas de higuerilla",1,{"$f":"ROW()","v":5214},8]
[null,null,"D0126001","Semillas de hortalizas",1,{"$f":"ROW()","v":5215},8]
[null,null,"D0144101","Semillas de linaza",1,{"$f":"ROW()","v":5216},8]
[null,null,"D0144201","Semillas de mostaza",1,{"$f":"ROW()","v":5217},8]
[null,null,"D0194099","Semillas de plantas forrajeras n.c.p.",1,{"$f":"ROW()","v":5218},8]
[null,null,"D0144701","Semillas de ricino",1,{"$f":"ROW()","v":5219},8]
[null,null,"D0193004","Semillas del árbol de Neem",1,{"$f":"ROW()","v":5220},8]
[null,null,"D4922903","Semirremolques para el transporte de líquidos (cisternas)",1,{"$f":"ROW()","v":5221},8]
[null,null,"D4922902","Semirremolques para transporte de mercancías no líquidas",1,{"$f":"ROW()","v":5222},8]
[null,null,"D2313099","Sémolas de cereales n.c.p.",1,{"$f":"ROW()","v":5223},8]
[null,null,"D4299926","Señales metálicas viales de tránsito",1,{"$f":"ROW()","v":5224},8]
[null,null,"D3699046","Señales viales en material plástico",1,{"$f":"ROW()","v":5225},8]
[null,null,"D3627023","Separadores de caucho para baterías",1,{"$f":"ROW()","v":5226},8]
[null,null,"D4643005","Separadores de PVC para baterías",1,{"$f":"ROW()","v":5227},8]
[null,null,"D3899106","Serpentinas y confetis",1,{"$f":"ROW()","v":5228},8]
[null,null,"D0219502","Serpientes",1,{"$f":"ROW()","v":5229},8]
[null,null,"D4292128","Serruchos de aserrío",1,{"$f":"ROW()","v":5230},8]
[null,null,"D4292113","Serruchos de mano",1,{"$f":"ROW()","v":5231},8]
[null,null,"D8912204","Servicio de barnizado",1,{"$f":"ROW()","v":5232},8]
[null,null,"D8873202","Servicio de corte con láser o agua piezas principalmente metálicas",1,{"$f":"ROW()","v":5233},8]
[null,null,"D8920201","Servicio de corte de artículos de material plástico",1,{"$f":"ROW()","v":5234},8]
[null,null,"D8920101","Servicio de corte de formas básicas de material plástico",1,{"$f":"ROW()","v":5235},8]
[null,null,"D8912196","Servicio de estampación de prendas n.c.p.",1,{"$f":"ROW()","v":5236},8]
[null,null,"D8731003","Servicio de instalación de calderas generadores de vapor, excepto calderas de agua caliente para calefacción central",1,{"$f":"ROW()","v":5237},8]
[null,null,"D8732006","Servicio de instalación de cuartos fríos, neveras, exhibidores, muebles y equipos frigoríficos similares para uso industrial, comercial o de servicio",1,{"$f":"ROW()","v":5238},8]
[null,null,"D8732004","Servicio de instalación de equipo de elevación y manipulación y sus partes y piezas",1,{"$f":"ROW()","v":5239},8]
[null,null,"D8733301","Servicio de instalación de equipo de oficina y de contabilidad, excepto computadores",1,{"$f":"ROW()","v":5240},8]
[null,null,"D8732002","Servicio de instalación de equipos de fuerza hidráulica y de potencia neumática, bombas, compresores y válvulas",1,{"$f":"ROW()","v":5241},8]
[null,null,"D8735001","Servicio de instalación de equipos de irradiación y equipo electrónico de uso médico y terapéutico",1,{"$f":"ROW()","v":5242},8]
[null,null,"D8734001","Servicio de instalación de equipos y aparatos de radio, televisión y comunicaciones",1,{"$f":"ROW()","v":5243},8]
[null,null,"D8732003","Servicio de instalación de hornos, hogares y quemadores industriales",1,{"$f":"ROW()","v":5244},8]
[null,null,"D8732019","Servicio de instalación de instrumentos, equipos y aparatos médicos y odontológicos (incluido mobiliario), excepto equipo de irradiación y electrónico",1,{"$f":"ROW()","v":5245},8]
[null,null,"D8732007","Servicio de instalación de maquinaria y equipo de uso agrícola y forestal        ",1,{"$f":"ROW()","v":5246},8]
[null,null,"D8732009","Servicio de instalación de maquinaria y equipo de uso metalúrgico",1,{"$f":"ROW()","v":5247},8]
[null,null,"D8732008","Servicio de instalación de maquinaria y equipo de uso minero",1,{"$f":"ROW()","v":5248},8]
[null,null,"D8732016","Servicio de instalación de maquinaria y equipo para elaboración de plástico, caucho y productos de plástico y caucho",1,{"$f":"ROW()","v":5249},8]
[null,null,"D8732010","Servicio de instalación de maquinaria y equipo para la elaboración de alimentos, bebidas y tabaco",1,{"$f":"ROW()","v":5250},8]
[null,null,"D8732012","Servicio de instalación de maquinaria y equipo para la elaboración de pasta o pulpa de papel; papel, cartón y de productos de papel y cartón",1,{"$f":"ROW()","v":5251},8]
[null,null,"D8732015","Servicio de instalación de maquinaria y equipo para la elaboración de productos de la refinación del petróleo y la elaboración de productos del petróleo",1,{"$f":"ROW()","v":5252},{"$f":"LEN(C5252)","v":8}]
[null,null,"D8732018","Servicio de instalación de maquinaria y equipo para la elaboración de productos farmacéuticos",1,{"$f":"ROW()","v":5253},8]
[null,null,"D8732017","Servicio de instalación de maquinaria y equipo para la elaboración de sustancias y productos químicos",1,{"$f":"ROW()","v":5254},8]
[null,null,"D8732011","Servicio de instalación de maquinaria y equipo para la elaboración de textiles, cuero, confecciones y calzado",1,{"$f":"ROW()","v":5255},8]
[null,null,"D8732013","Servicio de instalación de maquinaria y equipo para la explotación de la madera y productos de la madera",1,{"$f":"ROW()","v":5256},8]
[null,null,"D8732014","Servicio de instalación de maquinaria y equipo para las actividades de impresión",1,{"$f":"ROW()","v":5257},8]
[null,null,"D8732098","Servicio de instalación de máquinas de uso especial n.c.p.",1,{"$f":"ROW()","v":5258},8]
[null,null,"D8732099","Servicio de instalación de máquinas de uso general n.c.p.",1,{"$f":"ROW()","v":5259},8]
[null,null,"D8732005","Servicio de instalación de maquinas formadoras de metal y de herramientas de mano con motor incorporado",1,{"$f":"ROW()","v":5260},8]
[null,null,"D8732001","Servicio de instalación de motores de combustión interna y turbinas",1,{"$f":"ROW()","v":5261},8]
[null,null,"D8731099","Servicio de instalación de otros productos metálicos elaborados n.c.p.",1,{"$f":"ROW()","v":5262},8]
[null,null,"D8731001","Servicio de instalación de productos metálicos estructurales y sus partes",1,{"$f":"ROW()","v":5263},8]
[null,null,"D8731002","Servicio de instalación de tanques, depósitos, cisternas y recipientes de metal, excepto los utilizados para el envase o transporte de mercancías",1,{"$f":"ROW()","v":5264},8]
[null,null,"D8733101","Servicio de instalación de unidades centrales de computadoras",1,{"$f":"ROW()","v":5265},8]
[null,null,"D8715303","Servicio de mantenimiento de cámaras de televisión y de video de uso comercial",1,{"$f":"ROW()","v":5266},8]
[null,null,"D8714501","Servicio de mantenimiento y reparación de aeronaves sus partes y piezas",1,{"$f":"ROW()","v":5267},8]
[null,null,"D8714599","Servicio de mantenimiento y reparación de aeronaves y naves espaciales n.c.p.",1,{"$f":"ROW()","v":5268},8]
[null,null,"D8715203","Servicio de mantenimiento y reparación de aparatos de distribución y control de la energía eléctrica",1,{"$f":"ROW()","v":5269},8]
[null,null,"D8711004","Servicio de mantenimiento y reparación de armas y municiones",1,{"$f":"ROW()","v":5270},8]
[null,null,"D8715701","Servicio de mantenimiento y reparación de ascensores",1,{"$f":"ROW()","v":5271},8]
[null,null,"D8715204","Servicio de mantenimiento y reparación de baterías y acumuladores eléctricos",1,{"$f":"ROW()","v":5272},8]
[null,null,"D8729001","Servicio de mantenimiento y reparación de bicicletas y otros velocípedos sin motor",1,{"$f":"ROW()","v":5273},8]
[null,null,"D8714499","Servicio de mantenimiento y reparación de buques y de otras embarcaciones n.c.p.",1,{"$f":"ROW()","v":5274},8]
[null,null,"D8711003","Servicio de mantenimiento y reparación de calderas generadoras de vapor de agua, sus partes y piezas, (excepto calderas de agua caliente para calefacción central)",1,{"$f":"ROW()","v":5275},8]
[null,null,"D8715603","Servicio de mantenimiento y reparación de cojinetes, engranajes, trenes de engranaje y elementos de transmisión",1,{"$f":"ROW()","v":5276},8]
[null,null,"D8715621","Servicio de mantenimiento y reparación de cuartos fríos, neveras, exhibidores, muebles y equipos frigoríficos similares para uso industrial, comercial o de servicio",1,{"$f":"ROW()","v":5277},8]
[null,null,"D8711002","Servicio de mantenimiento y reparación de depósitos, cisternas, tanques y recipientes de metal, (excepto los utilizados para el envase o transporte de mercancías)",1,{"$f":"ROW()","v":5278},8]
[null,null,"D8714401","Servicio de mantenimiento y reparación de embarcaciones mayores",1,{"$f":"ROW()","v":5279},8]
[null,null,"D8714402","Servicio de mantenimiento y reparación de embarcaciones menores",1,{"$f":"ROW()","v":5280},8]
[null,null,"D8715605","Servicio de mantenimiento y reparación de equipo de elevación y manipulación y sus partes y piezas",1,{"$f":"ROW()","v":5281},8]
[null,null,"D8715402","Servicio de mantenimiento y reparación de equipo de irradiación y equipo electrónico de uso médico y terapéutico",1,{"$f":"ROW()","v":5282},8]
[null,null,"D8715403","Servicio de mantenimiento y reparación de equipo de medición, prueba, navegación y control",1,{"$f":"ROW()","v":5283},8]
[null,null,"D8712001","Servicio de mantenimiento y reparación de equipo de oficina y contabilidad, (excepto computadores y equipos periféricos)",1,{"$f":"ROW()","v":5284},8]
[null,null,"D8715302","Servicio de mantenimiento y reparación de equipo de transmisión de datos/módems y de comunicaciones (como enrutadores, puentes, etc.)",1,{"$f":"ROW()","v":5285},8]
[null,null,"D8715602","Servicio de mantenimiento y reparación de equipos de fuerza hidráulica y de potencia neumática, bombas, compresores y válvulas",1,{"$f":"ROW()","v":5286},8]
[null,null,"D8715205","Servicio de mantenimiento y reparación de equipos eléctricos de iluminación",1,{"$f":"ROW()","v":5287},8]
[null,null,"D8715604","Servicio de mantenimiento y reparación de hornos, hogares y quemadores industriales",1,{"$f":"ROW()","v":5288},8]
[null,null,"D8715401","Servicio de mantenimiento y reparación de instrumentos ópticos y equipo fotográfico",1,{"$f":"ROW()","v":5289},8]
[null,null,"D8715620","Servicio de mantenimiento y reparación de instrumentos, equipos y aparatos médicos y odontológicos (incluido mobiliario), excepto equipo de irradiación y electrónico",1,{"$f":"ROW()","v":5290},8]
[null,null,"D8714699","Servicio de mantenimiento y reparación de locomotoras para vías férreas y tranvías, y material rodante n.c.p.",1,{"$f":"ROW()","v":5291},8]
[null,null,"D8714601","Servicio de mantenimiento y reparación de locomotoras y equipo ferroviario",1,{"$f":"ROW()","v":5292},8]
[null,null,"D8715607","Servicio de mantenimiento y reparación de maquinaria y equipo de uso agrícola y forestal",1,{"$f":"ROW()","v":5293},8]
[null,null,"D8715609","Servicio de mantenimiento y reparación de maquinaria y equipo de uso metalúrgico",1,{"$f":"ROW()","v":5294},8]
[null,null,"D8715618","Servicio de mantenimiento y reparación de maquinaria y equipo de uso minero",1,{"$f":"ROW()","v":5295},8]
[null,null,"D8715608","Servicio de mantenimiento y reparación de maquinaria y equipo para elaboración de plástico, caucho y productos de plástico y caucho",1,{"$f":"ROW()","v":5296},8]
[null,null,"D8715610","Servicio de mantenimiento y reparación de maquinaria y equipo para la elaboración de alimentos, bebidas y tabaco",1,{"$f":"ROW()","v":5297},8]
[null,null,"D8715612","Servicio de mantenimiento y reparación de maquinaria y equipo para la elaboración de pasta o pulpa de papel; papel, cartón y de productos de papel y cartón",1,{"$f":"ROW()","v":5298},8]
[null,null,"D8715615","Servicio de mantenimiento y reparación de maquinaria y equipo para la elaboración de productos de la refinación del petróleo y la elaboración de productos del petróleo.",1,{"$f":"ROW()","v":5299},8]
[null,null,"D8715617","Servicio de mantenimiento y reparación de maquinaria y equipo para la elaboración de productos farmacéuticos",1,{"$f":"ROW()","v":5300},8]
[null,null,"D8715616","Servicio de mantenimiento y reparación de maquinaria y equipo para la elaboración de sustancias y productos químicos",1,{"$f":"ROW()","v":5301},8]
[null,null,"D8715611","Servicio de mantenimiento y reparación de maquinaria y equipo para la elaboración de textiles, cuero, confecciones y calzado",1,{"$f":"ROW()","v":5302},8]
[null,null,"D8715613","Servicio de mantenimiento y reparación de maquinaria y equipo para la explotación de la madera y productos de la madera",1,{"$f":"ROW()","v":5303},8]
[null,null,"D8715614","Servicio de mantenimiento y reparación de maquinaria y equipo para las actividades de impresión",1,{"$f":"ROW()","v":5304},8]
[null,null,"D8715699","Servicio de mantenimiento y reparación de máquinas de uso general n.c.p.",1,{"$f":"ROW()","v":5305},8]
[null,null,"D8715606","Servicio de mantenimiento y reparación de maquinas formadoras de metal y de herramientas de mano con motor incorporado",1,{"$f":"ROW()","v":5306},8]
[null,null,"D8715202","Servicio de mantenimiento y reparación de motores, transformadores y generadores eléctricos",1,{"$f":"ROW()","v":5307},8]
[null,null,"D8715601","Servicio de mantenimiento y reparación de motores, turbinas y partes para motores de combustión interna",1,{"$f":"ROW()","v":5308},8]
[null,null,"D8714999","Servicio de mantenimiento y reparación de otro equipo de transporte n.c.p., excepto vehículos automotores y motocicletas",1,{"$f":"ROW()","v":5309},8]
[null,null,"D8729099","Servicio de mantenimiento y reparación de otros efectos personales y enseres domésticos n.c.p.",1,{"$f":"ROW()","v":5310},8]
[null,null,"D8715999","Servicio de mantenimiento y reparación de otros equipos n.c.p.",1,{"$f":"ROW()","v":5311},8]
[null,null,"D8711099","Servicio de mantenimiento y reparación de otros productos metálicos elaborados n.c.p.",1,{"$f":"ROW()","v":5312},8]
[null,null,"D8711001","Servicio de mantenimiento y reparación de productos metálicos estructurales y sus partes",1,{"$f":"ROW()","v":5313},8]
[null,null,"D8729002","Servicio de mantenimiento y reparación de sillones de ruedas para personas con discapacidad",1,{"$f":"ROW()","v":5314},8]
[null,null,"D8715301","Servicio de mantenimiento y reparación de teléfonos celulares",1,{"$f":"ROW()","v":5315},8]
[null,null,"D8714199","Servicio de mantenimiento y reparación de vehículos automotores n.c.p.",1,{"$f":"ROW()","v":5316},{"$f":"LEN(C5316)","v":8}]
[null,null,"D8714101","Servicio de mantenimiento y reparación de vehículos automotores para transporte público (autobuses y microbuses)",1,{"$f":"ROW()","v":5317},8]
[null,null,"D8714102","Servicio de mantenimiento y reparación de vehículos automóviles",1,{"$f":"ROW()","v":5318},8]
[null,null,"D8715619","Servicio de mantenimiento y reparación especializado de maquinaria, equipo para la elaboración de plástico, caucho; productos de plástico y caucho",1,{"$f":"ROW()","v":5319},8]
[null,null,"D8715698","Servicio de mantenimiento y reparación especializado de máquinas de uso especial n.c.p.",1,{"$f":"ROW()","v":5320},8]
[null,null,"D8873203","Servicio de marcado o grabado con láser de piezas principalmente metálicas",1,{"$f":"ROW()","v":5321},8]
[null,null,"D8873201","Servicio de mecanizado, fresado y torneado de piezas metálicas",1,{"$f":"ROW()","v":5322},8]
[null,null,"D8912203","Servicio de plastificación y laminación",1,{"$f":"ROW()","v":5323},8]
[null,null,"D8933002","Servicio de prensado, estampado y laminado de metales",1,{"$f":"ROW()","v":5324},8]
[null,null,"D8933003","Servicio de pulvimetalurgia",1,{"$f":"ROW()","v":5325},8]
[null,null,"D8729003","Servicio de reparación de instrumentos musicales",1,{"$f":"ROW()","v":5326},8]
[null,null,"D8933001","Servicio forjado de metales",1,{"$f":"ROW()","v":5327},8]
[null,null,"D8912194","Servicios de estereotipia y análogos n.c.p.",1,{"$f":"ROW()","v":5328},8]
[null,null,"D8931000","Servicios de fundición de hierro y acero ",1,{"$f":"ROW()","v":5329},8]
[null,null,"D8932000","Servicios de fundición de metales no ferrosos",1,{"$f":"ROW()","v":5330},8]
[null,null,"D8912198","Servicios de heliografía n.c.p.",1,{"$f":"ROW()","v":5331},8]
[null,null,"D8912101","Servicios de impresión litográfica en hojalata",1,{"$f":"ROW()","v":5332},8]
[null,null,"D8912102","Servicios de impresión litográfica en plástico",1,{"$f":"ROW()","v":5333},8]
[null,null,"D8912197","Servicios de impresión litográfica n.c.p.",1,{"$f":"ROW()","v":5334},8]
[null,null,"D8715501","Servicios de mantenimiento y reparación de equipos electrónicos de consumo doméstico (receptores de radio y televisión; grabadoras de video [VCR, DVD, etc.], reproductores de CD, DVD, etc., cámaras de video de tipo casero, etc.)",1,{"$f":"ROW()","v":5335},8]
[null,null,"D8715399","Servicios de mantenimiento y reparación de equipos y aparatos de telecomunicaciones n.c.p.",1,{"$f":"ROW()","v":5336},8]
[null,null,"D8912301","Servicios de reproducción de materiales grabados",1,{"$f":"ROW()","v":5337},8]
[null,null,"D8912195","Servicios de serigrafía (Screen) n.c.p.",1,{"$f":"ROW()","v":5338},8]
[null,null,"D8912199","Servicios de tipografía n.c.p.",1,{"$f":"ROW()","v":5339},8]
[null,null,"D3219305","Servilletas de papel",1,{"$f":"ROW()","v":5340},8]
[null,null,"D2712007","Servilletas de tela",1,{"$f":"ROW()","v":5341},8]
[null,null,"D3423121","Sesquisulfuro de fósforo",1,{"$f":"ROW()","v":5342},8]
[null,null,"D2139305","Setas u hongos deshidratados",1,{"$f":"ROW()","v":5343},8]
[null,null,"D2139701","Setas u hongos en conserva",1,{"$f":"ROW()","v":5344},8]
[null,null,"D0429101","Sierra, fresca o refrigerada",1,{"$f":"ROW()","v":5345},8]
[null,null,"D4292207","Sierras circulares",1,{"$f":"ROW()","v":5346},8]
[null,null,"D4292114","Sierras de mano",1,{"$f":"ROW()","v":5347},8]
[null,null,"D4292201","Sierras diamantadas para cortar piedra y mármol",1,{"$f":"ROW()","v":5348},8]
[null,null,"D4422201","Sierras montadas para aserraderos",1,{"$f":"ROW()","v":5349},8]
[null,null,"D4292208","Sierras sinfín",1,{"$f":"ROW()","v":5350},8]
[null,null,"D4912918","Silenciadores para automotores",1,{"$f":"ROW()","v":5351},8]
[null,null,"D3427009","Silicato de circonio",1,{"$f":"ROW()","v":5352},8]
[null,null,"D3427006","Silicato de magnesio, magnesita",1,{"$f":"ROW()","v":5353},8]
[null,null,"D3427005","Silicato de sodio",1,{"$f":"ROW()","v":5354},8]
[null,null,"D3427008","Silicato de sodio líquido",1,{"$f":"ROW()","v":5355},8]
[null,null,"D3427007","Silicatos de potasio",1,{"$f":"ROW()","v":5356},8]
[null,null,"D3427098","Silicatos n.c.p.",1,{"$f":"ROW()","v":5357},8]
[null,null,"D3423113","Silicio metálico",1,{"$f":"ROW()","v":5358},8]
[null,null,"D3479025","Siliconas",1,{"$f":"ROW()","v":5359},8]
[null,null,"D3811218","Sillas - pupitre de madera",1,{"$f":"ROW()","v":5360},8]
[null,null,"D3811904","Sillas acolchonadas para baño",1,{"$f":"ROW()","v":5361},8]
[null,null,"D3811204","Sillas de madera para comedor",1,{"$f":"ROW()","v":5362},8]
[null,null,"D3811202","Sillas de madera para la sala",1,{"$f":"ROW()","v":5363},8]
[null,null,"D3811212","Sillas de madera para oficina",1,{"$f":"ROW()","v":5364},8]
[null,null,"D3811214","Sillas de madera para restaurante y servicios análogos",1,{"$f":"ROW()","v":5365},8]
[null,null,"D3811216","Sillas de madera para teatros",1,{"$f":"ROW()","v":5366},8]
[null,null,"D3811901","Sillas de material plástico",1,{"$f":"ROW()","v":5367},8]
[null,null,"D3811902","Sillas en fibra de vidrio",1,{"$f":"ROW()","v":5368},8]
[null,null,"D3811207","Sillas en mimbre, bambú o similares para comedor",1,{"$f":"ROW()","v":5369},8]
[null,null,"D3811206","Sillas en mimbre, bambú o similares para la sala",1,{"$f":"ROW()","v":5370},8]
[null,null,"D3811213","Sillas giratorias de madera",1,{"$f":"ROW()","v":5371},8]
[null,null,"D3811105","Sillas metálicas fijas para oficina",1,{"$f":"ROW()","v":5372},8]
[null,null,"D3811106","Sillas metálicas giratorias",1,{"$f":"ROW()","v":5373},8]
[null,null,"D3811102","Sillas metálicas para comedor",1,{"$f":"ROW()","v":5374},8]
[null,null,"D3811107","Sillas metálicas para escuelas",1,{"$f":"ROW()","v":5375},8]
[null,null,"D4818002","Sillas metálicas para hospitales",1,{"$f":"ROW()","v":5376},8]
[null,null,"D3811101","Sillas metálicas para la sala",1,{"$f":"ROW()","v":5377},8]
[null,null,"D3811109","Sillas metálicas para restaurantes",1,{"$f":"ROW()","v":5378},8]
[null,null,"D3811111","Sillas metálicas para teatros",1,{"$f":"ROW()","v":5379},8]
[null,null,"D3899205","Sillas portabebés para autos",1,{"$f":"ROW()","v":5380},{"$f":"LEN(C5380)","v":8}]
[null,null,"D2921101","Sillas y galápagos de montar",1,{"$f":"ROW()","v":5381},8]
[null,null,"D3811108","Sillas-pupitre metálicas",1,{"$f":"ROW()","v":5382},8]
[null,null,"D4994207","Sillines para bicicletas y triciclos",1,{"$f":"ROW()","v":5383},8]
[null,null,"D4994106","Sillines y sus partes para motocicletas",1,{"$f":"ROW()","v":5384},8]
[null,null,"D4992201","Sillones de ruedas para discapacitados",1,{"$f":"ROW()","v":5385},8]
[null,null,"D4221001","Silos metálicos",1,{"$f":"ROW()","v":5386},8]
[null,null,"D3712922","Silos reforzados con fibra de vidrio",1,{"$f":"ROW()","v":5387},8]
[null,null,"D4912909","Sincronizadores",1,{"$f":"ROW()","v":5388},8]
[null,null,"D0192907","Sisal, maguey, yaxci",1,{"$f":"ROW()","v":5389},8]
[null,null,"D4826901","Sistemas automáticos de control de velocidad (servo-motor)",1,{"$f":"ROW()","v":5390},8]
[null,null,"D4912948","Sistemas de dirección de vehiculos automotores      ",1,{"$f":"ROW()","v":5391},8]
[null,null,"D4994203","Sistemas de engranaje (cambios) para bicicletas y triciclos",1,{"$f":"ROW()","v":5392},8]
[null,null,"D4912907","Sistemas de frenos –excepto de banda de fibra– para automotores",1,{"$f":"ROW()","v":5393},8]
[null,null,"D4994204","Sistemas de frenos para bicicletas y triciclos",1,{"$f":"ROW()","v":5394},8]
[null,null,"D4994104","Sistemas de frenos y engranajes (cambios) para motocicletas",1,{"$f":"ROW()","v":5395},8]
[null,null,"D4912947","Sistemas de suspensión de vehículos automotores         ",1,{"$f":"ROW()","v":5396},8]
[null,null,"D4356099","Sistemas electromecánicos n.c.p.",1,{"$f":"ROW()","v":5397},8]
[null,null,"D4692906","Sistemas electrónicos de seguridad perimétrica",1,{"$f":"ROW()","v":5398},8]
[null,null,"D2399929","Snacks o pasabocas empacados (excepto papas fritas, patacones o chicharrones)",1,{"$f":"ROW()","v":5399},8]
[null,null,"D2193201","Soap stocks (pasta de neutralización)",1,{"$f":"ROW()","v":5400},8]
[null,null,"D3219202","Sobres de manila",1,{"$f":"ROW()","v":5401},8]
[null,null,"D3215206","Sobres de papel para empaque de alimentos",1,{"$f":"ROW()","v":5402},8]
[null,null,"D3219204","Sobres impresos",1,{"$f":"ROW()","v":5403},8]
[null,null,"D3219201","Sobres sin impresión para escritorio",1,{"$f":"ROW()","v":5404},8]
[null,null,"D3219206","Sobres y envolturas de papel o cartón impresas",1,{"$f":"ROW()","v":5405},8]
[null,null,"D3641005","Sobres y envolturas impresas de polietileno laminados con aluminio",1,{"$f":"ROW()","v":5406},8]
[null,null,"D2823121","Sobretodos de paño para hombre",1,{"$f":"ROW()","v":5407},8]
[null,null,"D2823122","Sobretodos de paño para niño",1,{"$f":"ROW()","v":5408},8]
[null,null,"D3811201","Sofás de madera para la sala",1,{"$f":"ROW()","v":5409},8]
[null,null,"D3811208","Sofás en mimbre, bambú o similares para la sala",1,{"$f":"ROW()","v":5410},8]
[null,null,"D3811104","Sofás metálicos",1,{"$f":"ROW()","v":5411},8]
[null,null,"D3811205","Sofás-camas",1,{"$f":"ROW()","v":5412},8]
[null,null,"D0141201","Soja (soya)",1,{"$f":"ROW()","v":5413},8]
[null,null,"D4424101","Soldadores eléctricos",1,{"$f":"ROW()","v":5414},8]
[null,null,"D4295002","Soldadura autógena",1,{"$f":"ROW()","v":5415},8]
[null,null,"D4153204","Soldadura de aluminio",1,{"$f":"ROW()","v":5416},8]
[null,null,"D4151208","Soldadura de bronce",1,{"$f":"ROW()","v":5417},8]
[null,null,"D4151209","Soldadura de cobre",1,{"$f":"ROW()","v":5418},8]
[null,null,"D4154703","Soldadura de estaño",1,{"$f":"ROW()","v":5419},8]
[null,null,"D4152204","Soldadura de níquel",1,{"$f":"ROW()","v":5420},8]
[null,null,"D4154103","Soldadura de plomo",1,{"$f":"ROW()","v":5421},8]
[null,null,"D4295006","Soldadura eléctrica",1,{"$f":"ROW()","v":5422},8]
[null,null,"D3549913","Soldadura plástica",1,{"$f":"ROW()","v":5423},8]
[null,null,"D4295099","Soldaduras de metales n.c.p.",1,{"$f":"ROW()","v":5424},8]
[null,null,"D4131005","Soldaduras de plata",1,{"$f":"ROW()","v":5425},8]
[null,null,"D3335001","Solventes para insecticida",1,{"$f":"ROW()","v":5426},8]
[null,null,"D2826202","Sombreros de fieltro de lana para hombre",1,{"$f":"ROW()","v":5427},8]
[null,null,"D2826201","Sombreros de fieltro de pelos finos para hombre",1,{"$f":"ROW()","v":5428},8]
[null,null,"D3697201","Sombreros de material plástico",1,{"$f":"ROW()","v":5429},8]
[null,null,"D2826206","Sombreros de paja, fique y otras fibras duras vegetales",1,{"$f":"ROW()","v":5430},8]
[null,null,"D2826203","Sombreros de paño y telas para hombre",1,{"$f":"ROW()","v":5431},8]
[null,null,"D2826205","Sombreros para mujer",1,{"$f":"ROW()","v":5432},8]
[null,null,"D2826204","Sombreros para niño",1,{"$f":"ROW()","v":5433},8]
[null,null,"D3892102","Sombrillas",1,{"$f":"ROW()","v":5434},8]
[null,null,"D3815001","Somieres",1,{"$f":"ROW()","v":5435},8]
[null,null,"D4821102","Sondas marinas",1,{"$f":"ROW()","v":5436},8]
[null,null,"D4815010","Sondas, drenes, cánulas y accesorios similares para medicina y cirugía",1,{"$f":"ROW()","v":5437},8]
[null,null,"D2399202","Sopas de hortalizas envasadas",1,{"$f":"ROW()","v":5438},8]
[null,null,"D2399201","Sopas de legumbres envasadas",1,{"$f":"ROW()","v":5439},8]
[null,null,"D2399203","Sopas de legumbres y hortalizas envasadas",1,{"$f":"ROW()","v":5440},8]
[null,null,"D2399211","Sopas enlatadas de pescado y mariscos",1,{"$f":"ROW()","v":5441},8]
[null,null,"D2399207","Sopas secas de cereales",1,{"$f":"ROW()","v":5442},8]
[null,null,"D2399205","Sopas secas de hortalizas",1,{"$f":"ROW()","v":5443},8]
[null,null,"D2399204","Sopas secas de legumbres",1,{"$f":"ROW()","v":5444},{"$f":"LEN(C5444)","v":8}]
[null,null,"D2399206","Sopas secas de legumbres y hortalizas mezcladas",1,{"$f":"ROW()","v":5445},8]
[null,null,"D4299922","Soportes (rampas y similares) metálicos para mecánica",1,{"$f":"ROW()","v":5446},8]
[null,null,"D4299901","Soportes de hierro delgado",1,{"$f":"ROW()","v":5447},8]
[null,null,"D3699049","Soportes de plástico para fumigadoras y extintores portátiles",1,{"$f":"ROW()","v":5448},8]
[null,null,"D4817116","Soportes medicoquirúrgicos para presoterapia",1,{"$f":"ROW()","v":5449},8]
[null,null,"D4299921","Soportes metálicos para fumigadoras y extinguidores portátiles",1,{"$f":"ROW()","v":5450},8]
[null,null,"D4912926","Soportes para automotores",1,{"$f":"ROW()","v":5451},8]
[null,null,"D3699052","Soportes, sujetadores plásticos para CD",1,{"$f":"ROW()","v":5452},8]
[null,null,"D3414033","Sorbato de potasio",1,{"$f":"ROW()","v":5453},8]
[null,null,"D3413920","Sorbita o sorbitol o D glucitol",1,{"$f":"ROW()","v":5454},8]
[null,null,"D0114201","Sorgo",1,{"$f":"ROW()","v":5455},8]
[null,null,"D2314013","Soya descascarada (extruida)",1,{"$f":"ROW()","v":5456},8]
[null,null,"D4691202","Stops, direccionales y similares para automotores",1,{"$f":"ROW()","v":5457},8]
[null,null,"D3414063","Subgalato de bismuto",1,{"$f":"ROW()","v":5458},8]
[null,null,"D3912007","Subproductos agrícolas de cereales",1,{"$f":"ROW()","v":5459},8]
[null,null,"D2822806","Sudaderas",1,{"$f":"ROW()","v":5460},8]
[null,null,"D2960013","Suelas de caucho",1,{"$f":"ROW()","v":5461},8]
[null,null,"D2960002","Suelas de cuero",1,{"$f":"ROW()","v":5462},8]
[null,null,"D2960018","Suelas de material plástico",1,{"$f":"ROW()","v":5463},8]
[null,null,"D2960011","Suelas de poliuretano",1,{"$f":"ROW()","v":5464},8]
[null,null,"D3527007","Suero antiofídico",1,{"$f":"ROW()","v":5465},8]
[null,null,"D3527010","Suero bovino",1,{"$f":"ROW()","v":5466},8]
[null,null,"D2213001","Suero de leche",1,{"$f":"ROW()","v":5467},8]
[null,null,"D2213002","Suero de leche en polvo",1,{"$f":"ROW()","v":5468},8]
[null,null,"D2822601","Suéteres de algodón",1,{"$f":"ROW()","v":5469},8]
[null,null,"D2822603","Suéteres de fibras artificiales y sintéticas",1,{"$f":"ROW()","v":5470},8]
[null,null,"D2822602","Suéteres de lana",1,{"$f":"ROW()","v":5471},8]
[null,null,"D3523014","Sulfadiazina",1,{"$f":"ROW()","v":5472},8]
[null,null,"D3523013","Sulfaguanidina",1,{"$f":"ROW()","v":5473},8]
[null,null,"D3417003","Sulfaguayacolato de potasio-tiocol",1,{"$f":"ROW()","v":5474},8]
[null,null,"D3523017","Sulfamerazina",1,{"$f":"ROW()","v":5475},8]
[null,null,"D3523015","Sulfametazina",1,{"$f":"ROW()","v":5476},8]
[null,null,"D3523019","Sulfametoxipiridazina",1,{"$f":"ROW()","v":5477},8]
[null,null,"D3523016","Sulfanilamida",1,{"$f":"ROW()","v":5478},8]
[null,null,"D3523099","Sulfas n.c.p.",1,{"$f":"ROW()","v":5479},8]
[null,null,"D3523018","Sulfasuxidina",1,{"$f":"ROW()","v":5480},8]
[null,null,"D3523020","Sulfatiazol",1,{"$f":"ROW()","v":5481},8]
[null,null,"D3424026","Sulfato de aluminio",1,{"$f":"ROW()","v":5482},8]
[null,null,"D3424039","Sulfato de aluminio líquido",1,{"$f":"ROW()","v":5483},8]
[null,null,"D3461201","Sulfato de amonio",1,{"$f":"ROW()","v":5484},8]
[null,null,"D3424038","Sulfato de bario",1,{"$f":"ROW()","v":5485},8]
[null,null,"D1619901","Sulfato de bario natural-baritina",1,{"$f":"ROW()","v":5486},8]
[null,null,"D3424024","Sulfato de calcio",1,{"$f":"ROW()","v":5487},8]
[null,null,"D3741002","Sulfato de calcio seco-yeso",1,{"$f":"ROW()","v":5488},8]
[null,null,"D3424041","Sulfato de cobalto",1,{"$f":"ROW()","v":5489},8]
[null,null,"D3424033","Sulfato de cobre",1,{"$f":"ROW()","v":5490},8]
[null,null,"D3424027","Sulfato de cromo",1,{"$f":"ROW()","v":5491},8]
[null,null,"D3423129","Sulfato de hidroxilamina",1,{"$f":"ROW()","v":5492},8]
[null,null,"D3424031","Sulfato de hierro",1,{"$f":"ROW()","v":5493},8]
[null,null,"D3424025","Sulfato de magnesio",1,{"$f":"ROW()","v":5494},8]
[null,null,"D3424043","Sulfato de manganeso líquido",1,{"$f":"ROW()","v":5495},8]
[null,null,"D3424030","Sulfato de manganeso sólido",1,{"$f":"ROW()","v":5496},8]
[null,null,"D3525076","Sulfato de netilmicina",1,{"$f":"ROW()","v":5497},8]
[null,null,"D3424032","Sulfato de níquel",1,{"$f":"ROW()","v":5498},8]
[null,null,"D3463201","Sulfato de potasio",1,{"$f":"ROW()","v":5499},8]
[null,null,"D3424023","Sulfato de sodio",1,{"$f":"ROW()","v":5500},8]
[null,null,"D3424029","Sulfato de zinc",1,{"$f":"ROW()","v":5501},8]
[null,null,"D3424022","Sulfito, bisulfito y metalsulfito de sodio",1,{"$f":"ROW()","v":5502},8]
[null,null,"D3411029","Sulfonato de sodio",1,{"$f":"ROW()","v":5503},8]
[null,null,"D3411026","Sulfonato de tolueno",1,{"$f":"ROW()","v":5504},8]
[null,null,"D3424040","Sulfuro de cromo",1,{"$f":"ROW()","v":5505},8]
[null,null,"D3424034","Sulfuro de sodio",1,{"$f":"ROW()","v":5506},8]
[null,null,"D3423120","Sulfuro y bisulfuro de carbono",1,{"$f":"ROW()","v":5507},8]
[null,null,"D3425014","Sulfuros de mercurio",1,{"$f":"ROW()","v":5508},{"$f":"LEN(C5508)","v":8}]
[null,null,"D3462101","Superfosfatos",1,{"$f":"ROW()","v":5509},8]
[null,null,"D3541099","Sustancias odoríferas n.c.p.",1,{"$f":"ROW()","v":5510},8]
[null,null,"D3529101","Suturas quirúrgicas",1,{"$f":"ROW()","v":5511},8]
[null,null,"D0197001","Tabaco en rama",1,{"$f":"ROW()","v":5512},8]
[null,null,"D3121203","Tablas de parquet de madera de bambú",1,{"$f":"ROW()","v":5513},8]
[null,null,"D3121103","Tablas de parquet de madera de conifera",1,{"$f":"ROW()","v":5514},8]
[null,null,"D3121903","Tablas de parquet de otra madera",1,{"$f":"ROW()","v":5515},8]
[null,null,"D3844012","Tablero para baloncesto",1,{"$f":"ROW()","v":5516},8]
[null,null,"D3799006","Tableros aislantes de yeso",1,{"$f":"ROW()","v":5517},8]
[null,null,"D4621304","Tableros de conmutadores eléctricos para voltajes inferiores o iguales a 1000 V",1,{"$f":"ROW()","v":5518},8]
[null,null,"D4621403","Tableros de conmutadores eléctricos para voltajes superiores a 1000 V",1,{"$f":"ROW()","v":5519},8]
[null,null,"D4621303","Tableros de distribución eléctrica para voltajes inferiores o iguales a 1000 V",1,{"$f":"ROW()","v":5520},8]
[null,null,"D4621402","Tableros de distribución eléctrica para voltajes superiores a 1000 V",1,{"$f":"ROW()","v":5521},8]
[null,null,"D3144901","Tableros de fibra de madera (excepto MDF)",1,{"$f":"ROW()","v":5522},8]
[null,null,"D3144101","Tableros de fibra de madera (MDF)",1,{"$f":"ROW()","v":5523},8]
[null,null,"D3144102","Tableros de fibra de madera (MDF)",1,{"$f":"ROW()","v":5524},8]
[null,null,"D3143201","Tableros de fibra orientada (OSB) de madera aglomerada",1,{"$f":"ROW()","v":5525},8]
[null,null,"D3143203","Tableros de fibra orientada (OSB) de madera aglomerada",1,{"$f":"ROW()","v":5526},8]
[null,null,"D3814051","Tableros de madera para escuelas",1,{"$f":"ROW()","v":5527},8]
[null,null,"D3160006","Tableros de madera para puerta",1,{"$f":"ROW()","v":5528},8]
[null,null,"D4621302","Tableros de mando para voltajes inferiores o iguales a 1000 V",1,{"$f":"ROW()","v":5529},8]
[null,null,"D4621401","Tableros de mando para voltajes superiores a 1000V",1,{"$f":"ROW()","v":5530},8]
[null,null,"D3143901","Tableros de materiales leñosos de madera aglomerada",1,{"$f":"ROW()","v":5531},8]
[null,null,"D3143903","Tableros de materiales leñosos de madera aglomerada",1,{"$f":"ROW()","v":5532},8]
[null,null,"D3143101","Tableros de particulas de madera aglomerada",1,{"$f":"ROW()","v":5533},8]
[null,null,"D3143103","Tableros de particulas de madera aglomerada",1,{"$f":"ROW()","v":5534},8]
[null,null,"D3192205","Tableros o carteleras de corcho",1,{"$f":"ROW()","v":5535},8]
[null,null,"D3121206","Tablillas de madera de bambú para persianas",1,{"$f":"ROW()","v":5536},8]
[null,null,"D3121106","Tablillas de madera de conifera para persianas",1,{"$f":"ROW()","v":5537},8]
[null,null,"D3121906","Tablillas de otra madera para persianas",1,{"$f":"ROW()","v":5538},8]
[null,null,"D4294409","Tachuelas",1,{"$f":"ROW()","v":5539},8]
[null,null,"D2960014","Tacones de caucho",1,{"$f":"ROW()","v":5540},8]
[null,null,"D2960012","Tacones de madera",1,{"$f":"ROW()","v":5541},8]
[null,null,"D2960019","Tacones de material plástico",1,{"$f":"ROW()","v":5542},8]
[null,null,"D2960008","Tacones en lámina prensada (odena)",1,{"$f":"ROW()","v":5543},8]
[null,null,"D3191413","Tacos de madera",1,{"$f":"ROW()","v":5544},8]
[null,null,"D3859003","Tacos para billar",1,{"$f":"ROW()","v":5545},8]
[null,null,"D3699031","Tacos plásticos",1,{"$f":"ROW()","v":5546},8]
[null,null,"D4291501","Tajalápices de bolsillo",1,{"$f":"ROW()","v":5547},8]
[null,null,"D4516001","Tajalápices de mesa",1,{"$f":"ROW()","v":5548},8]
[null,null,"D4423101","Taladradoras, perforadoras y similares rotativas (incluso de percusión), neumáticas, de uso manual",1,{"$f":"ROW()","v":5549},8]
[null,null,"D4423202","Taladros para minería",1,{"$f":"ROW()","v":5550},8]
[null,null,"D1639906","Talco",1,{"$f":"ROW()","v":5551},8]
[null,null,"D1639101","Talco, incluso pulverizado",1,{"$f":"ROW()","v":5552},8]
[null,null,"D2715002","Talegos y sacos de algodón",1,{"$f":"ROW()","v":5553},8]
[null,null,"D2715003","Talegos y sacos de lona",1,{"$f":"ROW()","v":5554},8]
[null,null,"D8890701","Talla de lentes oftálmicos; incluye los de contacto",1,{"$f":"ROW()","v":5555},8]
[null,null,"D8853101","Talla y decorado de vidrio",1,{"$f":"ROW()","v":5556},8]
[null,null,"D3270105","Talonarios para facturas y similares",1,{"$f":"ROW()","v":5557},8]
[null,null,"D3270106","Talonarios para recibos y similares",1,{"$f":"ROW()","v":5558},8]
[null,null,"D2399702","Tamales y hallacas",1,{"$f":"ROW()","v":5559},8]
[null,null,"D0131909","Tamarindo",1,{"$f":"ROW()","v":5560},8]
[null,null,"D3835005","Tambores",1,{"$f":"ROW()","v":5561},8]
[null,null,"D4293109","Tambores de lámina de hierro o acero",1,{"$f":"ROW()","v":5562},8]
[null,null,"D3649015","Tambores y canecas plásticas",1,{"$f":"ROW()","v":5563},8]
[null,null,"D3215303","Tambores y otros envases de cartón fibra",1,{"$f":"ROW()","v":5564},8]
[null,null,"D3219308","Tampones higienicos",1,{"$f":"ROW()","v":5565},8]
[null,null,"D3757003","Tanques de asbesto-cemento",1,{"$f":"ROW()","v":5566},8]
[null,null,"D3627012","Tanques de caucho para transporte de líquidos",1,{"$f":"ROW()","v":5567},8]
[null,null,"D4221002","Tanques de lámina metálica",1,{"$f":"ROW()","v":5568},8]
[null,null,"D3695001","Tanques de material plástico",1,{"$f":"ROW()","v":5569},8]
[null,null,"D4293112","Tanques metálicos especiales para transporte",1,{"$f":"ROW()","v":5570},8]
[null,null,"D4293111","Tanques metálicos para transporte de combustibles",1,{"$f":"ROW()","v":5571},8]
[null,null,"D4221006","Tanques metálicos sin presión",1,{"$f":"ROW()","v":5572},{"$f":"LEN(C5572)","v":8}]
[null,null,"D4912917","Tanques para combustible de automotores",1,{"$f":"ROW()","v":5573},8]
[null,null,"D4912939","Tanques para combustibles en vehículos",1,{"$f":"ROW()","v":5574},8]
[null,null,"D3721004","Tanques para retrete, cisternas de loza o porcelana",1,{"$f":"ROW()","v":5575},8]
[null,null,"D3712921","Tanques reforzados con fibra de vidrio",1,{"$f":"ROW()","v":5576},8]
[null,null,"D2719004","Tapabocas y otras prendas de ropa médica",1,{"$f":"ROW()","v":5577},8]
[null,null,"D4293201","Tapas corona",1,{"$f":"ROW()","v":5578},8]
[null,null,"D3219921","Tapas de cartón",1,{"$f":"ROW()","v":5579},8]
[null,null,"D4643002","Tapas de caucho para baterías",1,{"$f":"ROW()","v":5580},8]
[null,null,"D2960015","Tapas de caucho para calzado",1,{"$f":"ROW()","v":5581},8]
[null,null,"D3756008","Tapas de concreto",1,{"$f":"ROW()","v":5582},8]
[null,null,"D3719106","Tapas de vidrio",1,{"$f":"ROW()","v":5583},8]
[null,null,"D3649025","Tapas en material plástico para contadores, registros y similares",1,{"$f":"ROW()","v":5584},8]
[null,null,"D4293208","Tapas en papel aluminio impresas",1,{"$f":"ROW()","v":5585},8]
[null,null,"D4293202","Tapas metálicas de seguridad para botellas",1,{"$f":"ROW()","v":5586},8]
[null,null,"D4293299","Tapas metálicas n.c.p. para frascos y botellas",1,{"$f":"ROW()","v":5587},8]
[null,null,"D4293203","Tapas metálicas para inyectables",1,{"$f":"ROW()","v":5588},8]
[null,null,"D3699010","Tapas para agendas, carpetas o similares en vinilo",1,{"$f":"ROW()","v":5589},8]
[null,null,"D4291108","Tapas posformadas cubiertas de acero inoxidable para cocinas integrales",1,{"$f":"ROW()","v":5590},8]
[null,null,"D3699066","Tapas posformadas-cubiertas para cocinas integrales",1,{"$f":"ROW()","v":5591},8]
[null,null,"D4129202","Tapas y cajas de fundición",1,{"$f":"ROW()","v":5592},8]
[null,null,"D3649029","Tapas y cápsulas de seguridad de material plástico para frascos y botellas",1,{"$f":"ROW()","v":5593},8]
[null,null,"D4293205","Tapas y cápsulas de seguridad de papel aluminio para frascos y botellas",1,{"$f":"ROW()","v":5594},8]
[null,null,"D3627010","Tapas y tapones de caucho",1,{"$f":"ROW()","v":5595},8]
[null,null,"D3649007","Tapas y tapones de material plástico",1,{"$f":"ROW()","v":5596},8]
[null,null,"D3627016","Tapetes de caucho",1,{"$f":"ROW()","v":5597},8]
[null,null,"D2721002","Tapetes y alfombras de algodón",1,{"$f":"ROW()","v":5598},8]
[null,null,"D2722002","Tapetes y alfombras de fibras artificiales y/o sintéticas",1,{"$f":"ROW()","v":5599},8]
[null,null,"D2722003","Tapices de fibras artificiales y sintéticas para pisos",1,{"$f":"ROW()","v":5600},8]
[null,null,"D2714001","Tapices de lana",1,{"$f":"ROW()","v":5601},8]
[null,null,"D8890102","Tapizado de muebles",1,{"$f":"ROW()","v":5602},8]
[null,null,"D4923111","Tapizado de vehículos automotores",1,{"$f":"ROW()","v":5603},8]
[null,null,"D3192202","Tapones de corcho",1,{"$f":"ROW()","v":5604},8]
[null,null,"D3649019","Tapones dosificadores para envases de licores",1,{"$f":"ROW()","v":5605},8]
[null,null,"D4791001","Tarjetas con tira magnética incorporada",1,{"$f":"ROW()","v":5606},8]
[null,null,"D3219920","Tarjetas de cartón",1,{"$f":"ROW()","v":5607},8]
[null,null,"D3219916","Tarjetas en blanco",1,{"$f":"ROW()","v":5608},8]
[null,null,"D3253001","Tarjetas en papel impresas",1,{"$f":"ROW()","v":5609},8]
[null,null,"D3219933","Tarjetas para reloj, kárdex y análogos",1,{"$f":"ROW()","v":5610},8]
[null,null,"D3212909","Tarjetas para tabulación",1,{"$f":"ROW()","v":5611},8]
[null,null,"D3269009","Tarjetas plásticas litografiadas",1,{"$f":"ROW()","v":5612},8]
[null,null,"D3219203","Tarjetas postales sin ilustrar",1,{"$f":"ROW()","v":5613},8]
[null,null,"D3414049","Tártaro emético",1,{"$f":"ROW()","v":5614},8]
[null,null,"D3522007","Tartrato de colina",1,{"$f":"ROW()","v":5615},8]
[null,null,"D3432010","Tartrazina",1,{"$f":"ROW()","v":5616},8]
[null,null,"D4826401","Taxímetros",1,{"$f":"ROW()","v":5617},8]
[null,null,"D3721001","Tazas de retrete de loza o porcelana",1,{"$f":"ROW()","v":5618},8]
[null,null,"D0162001","Té (verde, negro) sin elaborar",1,{"$f":"ROW()","v":5619},8]
[null,null,"D2391101","Té elaborado",1,{"$f":"ROW()","v":5620},8]
[null,null,"D2391102","Té instantáneo",1,{"$f":"ROW()","v":5621},8]
[null,null,"D2391201","Té soluble",1,{"$f":"ROW()","v":5622},8]
[null,null,"D4526102","Teclado",1,{"$f":"ROW()","v":5623},8]
[null,null,"D3473005","Teflón (politetrafluoroetileno)",1,{"$f":"ROW()","v":5624},8]
[null,null,"D3735004","Teja de arcilla",1,{"$f":"ROW()","v":5625},8]
[null,null,"D3735005","Teja de gres",1,{"$f":"ROW()","v":5626},8]
[null,null,"D3695004","Teja plástica",1,{"$f":"ROW()","v":5627},8]
[null,null,"D3695010","Tejas acrílicas",1,{"$f":"ROW()","v":5628},8]
[null,null,"D4299949","Tejas de aluminio",1,{"$f":"ROW()","v":5629},8]
[null,null,"D3219912","Tejas de cartón impermeabilizadas",1,{"$f":"ROW()","v":5630},8]
[null,null,"D3754007","Tejas de cemento",1,{"$f":"ROW()","v":5631},8]
[null,null,"D4299911","Tejas de zinc",1,{"$f":"ROW()","v":5632},8]
[null,null,"D4123105","Tejas en acero galvanizado",1,{"$f":"ROW()","v":5633},8]
[null,null,"D3695011","Tejas termoacústicas",1,{"$f":"ROW()","v":5634},8]
[null,null,"D3712901","Tejas y/o cielos rasos en fibra de vidrio",1,{"$f":"ROW()","v":5635},8]
[null,null,"D2671001","Tejido de polipropileno-especiales (mallas) para cirugía",1,{"$f":"ROW()","v":5636},{"$f":"LEN(C5636)","v":8}]
[null,null,"D2819009","Tejidos anchos, elásticos de fibras textiles con hilos de caucho",1,{"$f":"ROW()","v":5637},8]
[null,null,"D2791103","Tejidos angostos de algodón, cintas, galones, hiladillos",1,{"$f":"ROW()","v":5638},8]
[null,null,"D2791104","Tejidos angostos de fibras artificiales y sintéticas, cintas, galones",1,{"$f":"ROW()","v":5639},8]
[null,null,"D2791105","Tejidos angostos de fibras duras vegetales",1,{"$f":"ROW()","v":5640},8]
[null,null,"D2819008","Tejidos angostos, elásticos de fibras con hilos de caucho",1,{"$f":"ROW()","v":5641},8]
[null,null,"D2811001","Tejidos aterciopelados de punto",1,{"$f":"ROW()","v":5642},8]
[null,null,"D2791302","Tejidos bordados de fibras artificiales y sintéticas, anchos",1,{"$f":"ROW()","v":5643},8]
[null,null,"D2791301","Tejidos bordados de fibras artificiales y sintéticas, angostos",1,{"$f":"ROW()","v":5644},8]
[null,null,"D2672003","Tejidos crudos de fibras artificiales o sintéticas, con un contenido de tales filamentos igual o superior al 85% en peso",1,{"$f":"ROW()","v":5645},8]
[null,null,"D2673007","Tejidos crudos de fibras artificiales o sintéticas, con un contenido de tales filamentos inferior al 85% en peso",1,{"$f":"ROW()","v":5646},8]
[null,null,"D2661003","Tejidos de algodón bordados anchos, con un peso inferior o igual a 200 g/m2 y con un contenido de algodón superior o igual al 85% en peso",1,{"$f":"ROW()","v":5647},8]
[null,null,"D2662008","Tejidos de algodón bordados anchos, con un peso superior a 200 g/m2 y con un contenido de algodón superior o igual al 85% en peso",1,{"$f":"ROW()","v":5648},8]
[null,null,"D2661004","Tejidos de algodón bordados angostos, con un peso inferior o igual a 200 g/m2 y con un contenido de algodón superior o igual al 85% en peso",1,{"$f":"ROW()","v":5649},8]
[null,null,"D2662009","Tejidos de algodón bordados angostos, con un peso superior a 200 g/m2 y con un contenido de algodón superior o igual al 85% en peso",1,{"$f":"ROW()","v":5650},8]
[null,null,"D2669001","Tejidos de algodón y cerda-SIDO",1,{"$f":"ROW()","v":5651},8]
[null,null,"D3792003","Tejidos de asbesto",1,{"$f":"ROW()","v":5652},8]
[null,null,"D2799401","Tejidos de brocados",1,{"$f":"ROW()","v":5653},8]
[null,null,"D2661009","Tejidos de damasco y similares de algodón, con un peso inferior o igual a 200 g/m2 y con un contenido de algodón superior o igual al 85% en peso",1,{"$f":"ROW()","v":5654},8]
[null,null,"D2662005","Tejidos de damasco y similares de algodón, con un peso superior a 200 g/m2 y con un contenido de algodón superior o igual al 85% en peso",1,{"$f":"ROW()","v":5655},8]
[null,null,"D2672004","Tejidos de damasco y similares de fibras artificiales y sintéticas, con un contenido de tales filamentos igual o superior al 85% en peso",1,{"$f":"ROW()","v":5656},8]
[null,null,"D2673008","Tejidos de damasco y similares de fibras artificiales y sintéticas, con un contenido de tales filamentos inferior al 85% en peso",1,{"$f":"ROW()","v":5657},8]
[null,null,"D2689001","Tejidos de fibra de vidrio",1,{"$f":"ROW()","v":5658},8]
[null,null,"D2792203","Tejidos de fibras artificiales y sintéticas (desechables)",1,{"$f":"ROW()","v":5659},8]
[null,null,"D2676001","Tejidos de fibras discontinuas mezcladas con algodón",1,{"$f":"ROW()","v":5660},8]
[null,null,"D2677001","Tejidos de fibras discontinuas, mezcladas con lana",1,{"$f":"ROW()","v":5661},8]
[null,null,"D2674001","Tejidos de fibras sintéticas discontinuas para decoración",1,{"$f":"ROW()","v":5662},8]
[null,null,"D2659001","Tejidos de fique",1,{"$f":"ROW()","v":5663},8]
[null,null,"D2686001","Tejidos de gasa de algodón",1,{"$f":"ROW()","v":5664},8]
[null,null,"D2799705","Tejidos de imitación cuero",1,{"$f":"ROW()","v":5665},8]
[null,null,"D2656001","Tejidos de lino",1,{"$f":"ROW()","v":5666},8]
[null,null,"D3633021","Tejidos de polipropileno",1,{"$f":"ROW()","v":5667},8]
[null,null,"D2819001","Tejidos de punto de algodón",1,{"$f":"ROW()","v":5668},8]
[null,null,"D2819012","Tejidos de punto de algodón teñidos o estampados",1,{"$f":"ROW()","v":5669},8]
[null,null,"D2819003","Tejidos de punto de fibras artificiales y/o sintéticas",1,{"$f":"ROW()","v":5670},8]
[null,null,"D2819005","Tejidos de punto de fibras artificiales y/o sintéticas mezclados, teñidos y/o estampados",1,{"$f":"ROW()","v":5671},8]
[null,null,"D2819007","Tejidos de punto de lana",1,{"$f":"ROW()","v":5672},8]
[null,null,"D2819011","Tejidos de punto y algodón mezclados con otras fibras textiles",1,{"$f":"ROW()","v":5673},8]
[null,null,"D2651001","Tejidos de seda",1,{"$f":"ROW()","v":5674},8]
[null,null,"D2657001","Tejidos de yute",1,{"$f":"ROW()","v":5675},8]
[null,null,"D2673004","Tejidos especiales para usos técnicos, con un contenido de tales filamentos inferior al 85% en peso",1,{"$f":"ROW()","v":5676},8]
[null,null,"D2682001","Tejidos planos afelpados de fibras artificiales y sintéticas",1,{"$f":"ROW()","v":5677},8]
[null,null,"D2663002","Tejidos planos crudos de algodón mezclados principal o únicamente con fibras artificiales o sintéticas, con un contenido de algodón inferior al 85%, en peso",1,{"$f":"ROW()","v":5678},8]
[null,null,"D2661005","Tejidos planos de algodón blanqueados y teñidos, con un peso inferior o igual a 200 g/m2 y con un contenido de algodón superior o igual al 85% en peso",1,{"$f":"ROW()","v":5679},8]
[null,null,"D2662001","Tejidos planos de algodón blanqueados y teñidos, con un peso superior a 200 g/m2 y con un contenido de algodón superior o igual al 85% en peso",1,{"$f":"ROW()","v":5680},8]
[null,null,"D2661001","Tejidos planos de algodón crudos, con un peso inferior o igual a 200 g/m2 y con un contenido de algodón superior o igual al 85% en peso",1,{"$f":"ROW()","v":5681},8]
[null,null,"D2662006","Tejidos planos de algodón crudos, con un peso superior a 200 g/m2 y con un contenido de algodón superior o igual al 85% en peso",1,{"$f":"ROW()","v":5682},8]
[null,null,"D2684001","Tejidos planos de algodón esponjosos-toalla",1,{"$f":"ROW()","v":5683},8]
[null,null,"D2661002","Tejidos planos de algodón estampados, con un peso inferior o igual a 200 g/m2 y con un contenido de algodón superior o igual al 85% en peso",1,{"$f":"ROW()","v":5684},8]
[null,null,"D2662007","Tejidos planos de algodón estampados, con un peso superior a 200 g/m2 y con un contenido de algodón superior o igual al 85% en peso",1,{"$f":"ROW()","v":5685},8]
[null,null,"D2663001","Tejidos planos de algodón mezclados principal o únicamente con fibras artificiales o sintéticas, teñidos o estampados, con un contenido de algodón inferior al 85%, en peso",1,{"$f":"ROW()","v":5686},8]
[null,null,"D2681001","Tejidos planos de algodón, afelpados, pana y similares",1,{"$f":"ROW()","v":5687},8]
[null,null,"D2681002","Tejidos planos de algodón, esponjosos o afelpados mezclados",1,{"$f":"ROW()","v":5688},8]
[null,null,"D2673001","Tejidos planos de fibras artificiales mezclados, con un contenido de tales filamentos inferior al 85% en peso",1,{"$f":"ROW()","v":5689},8]
[null,null,"D2672005","Tejidos planos de fibras artificiales o sintéticas tipo raso o satín, con un contenido de tales filamentos igual o superior al 85% en peso",1,{"$f":"ROW()","v":5690},8]
[null,null,"D2673009","Tejidos planos de fibras artificiales o sintéticas tipo raso o satín, con un contenido de tales filamentos inferior al 85% en peso",1,{"$f":"ROW()","v":5691},8]
[null,null,"D2672001","Tejidos planos de fibras artificiales teñidos y estampados, con un contenido de tales filamentos igual o superior al 85% en peso",1,{"$f":"ROW()","v":5692},8]
[null,null,"D2673005","Tejidos planos de fibras artificiales teñidos y estampados, con un contenido de tales filamentos inferior al 85% en peso",1,{"$f":"ROW()","v":5693},8]
[null,null,"D2673003","Tejidos planos de fibras artificiales y/o sintéticas mezclados, teñidos y/o estampados, con un contenido de tales filamentos inferior al 85% en peso",1,{"$f":"ROW()","v":5694},8]
[null,null,"D2673002","Tejidos planos de fibras sintéticas mezclados, con un contenido de tales filamentos inferior al 85% en peso",1,{"$f":"ROW()","v":5695},8]
[null,null,"D2672002","Tejidos planos de fibras sintéticas teñidos y estampados con un contenido de tales filamentos igual o superior al 85% en peso",1,{"$f":"ROW()","v":5696},8]
[null,null,"D2673006","Tejidos planos de fibras sintéticas teñidos y estampados, con un contenido de tales filamentos inferior al 85% en peso",1,{"$f":"ROW()","v":5697},8]
[null,null,"D2653003","Tejidos planos de lana, con un contenido de lana o pelo fino de animal igual o superior al 85% en peso",1,{"$f":"ROW()","v":5698},8]
[null,null,"D2654005","Tejidos planos de lana, con un contenido de lana o pelo fino de animal inferior al 85% en peso",1,{"$f":"ROW()","v":5699},8]
[null,null,"D2819002","Tejidos tubulares de algodón",1,{"$f":"ROW()","v":5700},{"$f":"LEN(C5700)","v":8}]
[null,null,"D2819004","Tejidos tubulares de fibras artificiales y/o sintéticas",1,{"$f":"ROW()","v":5701},8]
[null,null,"D2819006","Tejidos tubulares de lana",1,{"$f":"ROW()","v":5702},8]
[null,null,"D3632010","Tejidos tubulares de polipropileno",1,{"$f":"ROW()","v":5703},8]
[null,null,"D3791003","Tela de esmeril en hojas",1,{"$f":"ROW()","v":5704},8]
[null,null,"D3791002","Tela de esmeril en rollos",1,{"$f":"ROW()","v":5705},8]
[null,null,"D3633019","Tela de material plástico",1,{"$f":"ROW()","v":5706},8]
[null,null,"D4461201","Telares para tejidos de fique y otras fibras duras vegetales",1,{"$f":"ROW()","v":5707},8]
[null,null,"D4461202","Telares para tejidos planos",1,{"$f":"ROW()","v":5708},8]
[null,null,"D2799704","Telas asfálticas",1,{"$f":"ROW()","v":5709},8]
[null,null,"D2799702","Telas de algodón engomadas, reata y similares",1,{"$f":"ROW()","v":5710},8]
[null,null,"D2799703","Telas de algodón impregnadas con materias plásticas",1,{"$f":"ROW()","v":5711},8]
[null,null,"D2792202","Telas de algodón prensadas (desechables)",1,{"$f":"ROW()","v":5712},8]
[null,null,"D3626002","Telas de caucho",1,{"$f":"ROW()","v":5713},8]
[null,null,"D2799710","Telas de fibras artificiales y sintéticas impregnadas con materiales plásticos",1,{"$f":"ROW()","v":5714},8]
[null,null,"D2653002","Telas de lana para tapicería, con un contenido de lana o pelo fino de animal igual o superior al 85% en peso",1,{"$f":"ROW()","v":5715},8]
[null,null,"D2654004","Telas de lana para tapicería, con un contenido de lana o pelo fino de animal inferior al 85% en peso",1,{"$f":"ROW()","v":5716},8]
[null,null,"D2799707","Telas endurecidas especiales para calzado",1,{"$f":"ROW()","v":5717},8]
[null,null,"D4294304","Telas metálicas de alambre de cobre",1,{"$f":"ROW()","v":5718},8]
[null,null,"D4722305","Teléfonos públicos monederos",1,{"$f":"ROW()","v":5719},8]
[null,null,"D4722303","Teléfonos-aparatos",1,{"$f":"ROW()","v":5720},8]
[null,null,"D4731301","Televisores",1,{"$f":"ROW()","v":5721},8]
[null,null,"D3512001","Témperas",1,{"$f":"ROW()","v":5722},8]
[null,null,"D8873105","Temple de metales",1,{"$f":"ROW()","v":5723},8]
[null,null,"D4292118","Tenazas y alicates",1,{"$f":"ROW()","v":5724},8]
[null,null,"D4291245","Tendederos de ropa y productos similares metálicos para el hogar",1,{"$f":"ROW()","v":5725},8]
[null,null,"D3824006","Tenedores de plata",1,{"$f":"ROW()","v":5726},8]
[null,null,"D4291601","Tenedores metálicos",1,{"$f":"ROW()","v":5727},8]
[null,null,"D4299946","Tensores para alambres y cables",1,{"$f":"ROW()","v":5728},8]
[null,null,"D8823101","Teñido y acabado de cueros curtidos",1,{"$f":"ROW()","v":5729},8]
[null,null,"D3525040","Teobromina y sus sales",1,{"$f":"ROW()","v":5730},8]
[null,null,"D4821202","Teodolitos, taquímetros, tacómetros y otros aparatos para medición e ingeniería",1,{"$f":"ROW()","v":5731},8]
[null,null,"D3525053","Teofilina",1,{"$f":"ROW()","v":5732},8]
[null,null,"D3474007","Tereftalato de polietileno, polietilen-tereftalato (PET)",1,{"$f":"ROW()","v":5733},8]
[null,null,"D4825101","Termómetros",1,{"$f":"ROW()","v":5734},8]
[null,null,"D3899913","Termos de material plástico",1,{"$f":"ROW()","v":5735},8]
[null,null,"D4826902","Termostatos",1,{"$f":"ROW()","v":5736},8]
[null,null,"D3411007","Terpenos y politerpenos aromatizantes",1,{"$f":"ROW()","v":5737},8]
[null,null,"D4292203","Terrajas",1,{"$f":"ROW()","v":5738},8]
[null,null,"D3525024","Testosterona",1,{"$f":"ROW()","v":5739},8]
[null,null,"D3694013","Teteros de material plástico",1,{"$f":"ROW()","v":5740},8]
[null,null,"D3416010","Tetrabutil estaño (TBT)",1,{"$f":"ROW()","v":5741},8]
[null,null,"D3525069","Tetraciclina",1,{"$f":"ROW()","v":5742},8]
[null,null,"D3411025","Tetracloroetileno (percloroetileno)",1,{"$f":"ROW()","v":5743},8]
[null,null,"D3411021","Tetracloruro de carbono",1,{"$f":"ROW()","v":5744},8]
[null,null,"D3424018","Tetracloruro de estaño o cloruro estánnico",1,{"$f":"ROW()","v":5745},8]
[null,null,"D3416006","Tetraetilo de plomo",1,{"$f":"ROW()","v":5746},8]
[null,null,"D3416014","Tetrahidrofurano",1,{"$f":"ROW()","v":5747},8]
[null,null,"D3416011","Tetraoctil estaño, tetraoctilo de estaño (TOT)",1,{"$f":"ROW()","v":5748},8]
[null,null,"D8821101","Texturizado de fibras",1,{"$f":"ROW()","v":5749},8]
[null,null,"D3335003","Thiner",1,{"$f":"ROW()","v":5750},8]
[null,null,"D0429110","Tiburones, frescos o refrigerados",1,{"$f":"ROW()","v":5751},8]
[null,null,"D1639103","Tierra de infusorios elaborada",1,{"$f":"ROW()","v":5752},8]
[null,null,"D1639902","Tierras de infusorios sin elaborar",1,{"$f":"ROW()","v":5753},8]
[null,null,"D1639909","Tierras industriales",1,{"$f":"ROW()","v":5754},8]
[null,null,"D1639199","Tierras industriales n.c.p. elaboradas",1,{"$f":"ROW()","v":5755},8]
[null,null,"D1639910","Tierras para porcelana",1,{"$f":"ROW()","v":5756},8]
[null,null,"D4291306","Tijeras de peluquería",1,{"$f":"ROW()","v":5757},8]
[null,null,"D4291305","Tijeras para artes y oficios",1,{"$f":"ROW()","v":5758},8]
[null,null,"D4292110","Tijeras para jardinería y horticultura",1,{"$f":"ROW()","v":5759},8]
[null,null,"D0421211","Tilapia, de cultivo, fresca o refrigerada",1,{"$f":"ROW()","v":5760},8]
[null,null,"D0421202","Tilapia, vivas",1,{"$f":"ROW()","v":5761},8]
[null,null,"D4692903","Timbres eléctricos",1,{"$f":"ROW()","v":5762},8]
[null,null,"D4912923","Timones –cabrillas– para automotores",1,{"$f":"ROW()","v":5763},8]
[null,null,"D3712916","Tina o bañeras en fibra de vidrio",1,{"$f":"ROW()","v":5764},{"$f":"LEN(C5764)","v":8}]
[null,null,"D4291106","Tinas metálicas",1,{"$f":"ROW()","v":5765},8]
[null,null,"D3693006","Tinas y recipientes similares de material plástico",1,{"$f":"ROW()","v":5766},8]
[null,null,"D3514007","Tinta para sellos",1,{"$f":"ROW()","v":5767},8]
[null,null,"D3514004","Tintas especiales para carbonar papel",1,{"$f":"ROW()","v":5768},8]
[null,null,"D3513008","Tintas flexográficas base acetato",1,{"$f":"ROW()","v":5769},8]
[null,null,"D3513003","Tintas flexográficas base agua",1,{"$f":"ROW()","v":5770},8]
[null,null,"D3513004","Tintas flexográficas base alcohol",1,{"$f":"ROW()","v":5771},8]
[null,null,"D3514003","Tintas fugitivas de seguridad",1,{"$f":"ROW()","v":5772},8]
[null,null,"D3513005","Tintas litográficas para hojalata",1,{"$f":"ROW()","v":5773},8]
[null,null,"D3513002","Tintas litográficas para prensas planas",1,{"$f":"ROW()","v":5774},8]
[null,null,"D3514001","Tintas para bolígrafos",1,{"$f":"ROW()","v":5775},8]
[null,null,"D3514002","Tintas para cintas de máquinas",1,{"$f":"ROW()","v":5776},8]
[null,null,"D3514005","Tintas para escribir y dibujar",1,{"$f":"ROW()","v":5777},8]
[null,null,"D3514008","Tintas para teñir cueros y textiles",1,{"$f":"ROW()","v":5778},8]
[null,null,"D3514009","Tintas tampográficas",1,{"$f":"ROW()","v":5779},8]
[null,null,"D3513001","Tintas tipográficas para imprenta",1,{"$f":"ROW()","v":5780},8]
[null,null,"D3513006","Tintas tipográficas para rotativas de periódicos",1,{"$f":"ROW()","v":5781},8]
[null,null,"D3513007","Tintas web offset para rotativas",1,{"$f":"ROW()","v":5782},8]
[null,null,"D3416002","Tioúrea (tiocarbonada)",1,{"$f":"ROW()","v":5783},8]
[null,null,"D3832003","Tiples",1,{"$f":"ROW()","v":5784},8]
[null,null,"D3269005","Tiquetes para transporte aéreo",1,{"$f":"ROW()","v":5785},8]
[null,null,"D3269004","Tiquetes para transporte terrestre",1,{"$f":"ROW()","v":5786},8]
[null,null,"D4823204","Tiralíneas",1,{"$f":"ROW()","v":5787},8]
[null,null,"D2823705","Tirantes",1,{"$f":"ROW()","v":5788},8]
[null,null,"D4153403","Tiras de aluminio",1,{"$f":"ROW()","v":5789},8]
[null,null,"D3544204","Tiras reactivas para análisis de laboratorio",1,{"$f":"ROW()","v":5790},8]
[null,null,"D3633017","Tirillas y accesorios similares de material plástico",1,{"$f":"ROW()","v":5791},8]
[null,null,"D3891114","Tiza",1,{"$f":"ROW()","v":5792},8]
[null,null,"D2712010","Toallas",1,{"$f":"ROW()","v":5793},8]
[null,null,"D3219304","Toallas de papel",1,{"$f":"ROW()","v":5794},8]
[null,null,"D3219306","Toallas de papel para cocina",1,{"$f":"ROW()","v":5795},8]
[null,null,"D3219602","Toallas sanitarias",1,{"$f":"ROW()","v":5796},8]
[null,null,"D3844018","Toboganes para parques infantiles",1,{"$f":"ROW()","v":5797},8]
[null,null,"D3844024","Toboganes y similares en fibra de vidrio",1,{"$f":"ROW()","v":5798},8]
[null,null,"D4732101","Tocadiscos traganíquel",1,{"$f":"ROW()","v":5799},8]
[null,null,"D3814003","Tocadores metálicos",1,{"$f":"ROW()","v":5800},8]
[null,null,"D2118102","Tocineta",1,{"$f":"ROW()","v":5801},8]
[null,null,"D2111302","Tocino",1,{"$f":"ROW()","v":5802},8]
[null,null,"D2716002","Toldas y tiendas de campaña",1,{"$f":"ROW()","v":5803},8]
[null,null,"D3411016","Toluenos",1,{"$f":"ROW()","v":5804},8]
[null,null,"D4452214","Tolvas para molinos, trituradores y pulverizadores industriales",1,{"$f":"ROW()","v":5805},8]
[null,null,"D4621213","Tomacorrientes de material plástico para voltajes inferiores o iguales a 1000 V",1,{"$f":"ROW()","v":5806},8]
[null,null,"D4621211","Tomacorrientes de porcelana para voltajes inferiores o iguales a 1000 V",1,{"$f":"ROW()","v":5807},8]
[null,null,"D0131910","Tomate de árbol",1,{"$f":"ROW()","v":5808},8]
[null,null,"D0123401","Tomates",1,{"$f":"ROW()","v":5809},8]
[null,null,"D4294406","Tornillos de aluminio",1,{"$f":"ROW()","v":5810},8]
[null,null,"D4294414","Tornillos de bronce",1,{"$f":"ROW()","v":5811},8]
[null,null,"D4294404","Tornillos de cobre",1,{"$f":"ROW()","v":5812},8]
[null,null,"D4294401","Tornillos de hierro o acero",1,{"$f":"ROW()","v":5813},8]
[null,null,"D4294498","Tornillos n.c.p.",1,{"$f":"ROW()","v":5814},8]
[null,null,"D4422204","Tornos para madera",1,{"$f":"ROW()","v":5815},8]
[null,null,"D4421301","Tornos para trabajar metales",1,{"$f":"ROW()","v":5816},8]
[null,null,"D4294102","Torones de alambre de hierro o acero",1,{"$f":"ROW()","v":5817},8]
[null,null,"D0132102","Toronjas",1,{"$f":"ROW()","v":5818},8]
[null,null,"D4211002","Torres de conducción eléctrica y análogas",1,{"$f":"ROW()","v":5819},8]
[null,null,"D4391107","Torres de enfriamiento",1,{"$f":"ROW()","v":5820},8]
[null,null,"D3712910","Torres de enfriamiento en fibra de vidrio",1,{"$f":"ROW()","v":5821},8]
[null,null,"D2191006","Torta de ajonjolí",1,{"$f":"ROW()","v":5822},8]
[null,null,"D2191011","Torta de arroz",1,{"$f":"ROW()","v":5823},8]
[null,null,"D2191001","Torta de copra",1,{"$f":"ROW()","v":5824},8]
[null,null,"D2191099","Torta de gérmenes de cereales n.c.p.",1,{"$f":"ROW()","v":5825},8]
[null,null,"D2191012","Torta de girasol",1,{"$f":"ROW()","v":5826},8]
[null,null,"D2191010","Torta de higuerilla",1,{"$f":"ROW()","v":5827},8]
[null,null,"D2191002","Torta de maní",1,{"$f":"ROW()","v":5828},{"$f":"LEN(C5828)","v":8}]
[null,null,"D2191098","Torta de oleaginosas n.c.p.",1,{"$f":"ROW()","v":5829},8]
[null,null,"D2191004","Torta de palmiste",1,{"$f":"ROW()","v":5830},8]
[null,null,"D3927003","Torta de polipropileno",1,{"$f":"ROW()","v":5831},8]
[null,null,"D2191003","Torta de ricino",1,{"$f":"ROW()","v":5832},8]
[null,null,"D2191005","Torta de semillas de algodón",1,{"$f":"ROW()","v":5833},8]
[null,null,"D2191007","Torta de soja",1,{"$f":"ROW()","v":5834},8]
[null,null,"D2349006","Tortillas (pizza) de harina de trigo",1,{"$f":"ROW()","v":5835},8]
[null,null,"D0219504","Tortugas",1,{"$f":"ROW()","v":5836},8]
[null,null,"D4481601","Tostadores eléctricos",1,{"$f":"ROW()","v":5837},8]
[null,null,"D0325004","Totumas secas",1,{"$f":"ROW()","v":5838},8]
[null,null,"D8912201","Trabajos de fotomecánica y análogos",1,{"$f":"ROW()","v":5839},8]
[null,null,"D4911101","Tractores de carreteras para semirremolques",1,{"$f":"ROW()","v":5840},8]
[null,null,"D4414201","Tractores de oruga",1,{"$f":"ROW()","v":5841},8]
[null,null,"D2823608","Trajes para teatro",1,{"$f":"ROW()","v":5842},8]
[null,null,"D3843006","Trampolines",1,{"$f":"ROW()","v":5843},8]
[null,null,"D3842001","Trampolines para piscina",1,{"$f":"ROW()","v":5844},8]
[null,null,"D4612103","Transformadores (de medida [TP- TC]; de frecuencia [50-60Hz]; de uso doméstico [inferiores a 220 V])",1,{"$f":"ROW()","v":5845},8]
[null,null,"D4612102","Transformadores para distribución de energía (voltajes comprendidos entre 440 V hasta 34500 V)",1,{"$f":"ROW()","v":5846},8]
[null,null,"D4612101","Transformadores para transmisión de energía (voltaje superior a 34500 V)",1,{"$f":"ROW()","v":5847},8]
[null,null,"D4692904","Transportadores eléctricos",1,{"$f":"ROW()","v":5848},8]
[null,null,"D4355004","Transportadores mecánicos",1,{"$f":"ROW()","v":5849},8]
[null,null,"D3899314","Trapeadores",1,{"$f":"ROW()","v":5850},8]
[null,null,"D4451601","Trapiches",1,{"$f":"ROW()","v":5851},8]
[null,null,"D3921801","Trapos y desechos textiles",1,{"$f":"ROW()","v":5852},8]
[null,null,"D8890702","Tratamientos especiales a lentes oftalmológicos (antirreflejo-antirrayado, etc.)",1,{"$f":"ROW()","v":5853},8]
[null,null,"D8816101","Tratamientos o procesos asociados con la molienda de cereales",1,{"$f":"ROW()","v":5854},8]
[null,null,"D4923101","Travesaños, paneles, largueros y similares para carrocerías",1,{"$f":"ROW()","v":5855},8]
[null,null,"D3756009","Traviesas pretensadas de concreto",1,{"$f":"ROW()","v":5856},8]
[null,null,"D3440006","Trementina",1,{"$f":"ROW()","v":5857},8]
[null,null,"D4332001","Trenes de engranaje",1,{"$f":"ROW()","v":5858},8]
[null,null,"D3835002","Triángulos",1,{"$f":"ROW()","v":5859},8]
[null,null,"D3851001","Triciclos para niños",1,{"$f":"ROW()","v":5860},8]
[null,null,"D4992103","Triciclos para transporte",1,{"$f":"ROW()","v":5861},8]
[null,null,"D3417005","Triclosan",1,{"$f":"ROW()","v":5862},8]
[null,null,"D3549956","Tricompuestos orgánicos",1,{"$f":"ROW()","v":5863},8]
[null,null,"D3415002","Trietanolamina",1,{"$f":"ROW()","v":5864},8]
[null,null,"D0119901","Trigo amazónico",1,{"$f":"ROW()","v":5865},8]
[null,null,"D0111201","Trigo en grano",1,{"$f":"ROW()","v":5866},8]
[null,null,"D4412902","Trilladoras motorizadas",1,{"$f":"ROW()","v":5867},8]
[null,null,"D4412904","Trilladoras no motorizadas",1,{"$f":"ROW()","v":5868},8]
[null,null,"D3911001","Tripas frescas",1,{"$f":"ROW()","v":5869},8]
[null,null,"D3632004","Tripas plásticas para embutidos",1,{"$f":"ROW()","v":5870},8]
[null,null,"D3911002","Tripas secas",1,{"$f":"ROW()","v":5871},8]
[null,null,"D3424055","Tripolifosfato sódico",1,{"$f":"ROW()","v":5872},8]
[null,null,"D2314007","Triturado de maíz",1,{"$f":"ROW()","v":5873},8]
[null,null,"D3769006","Triturado de mármol",1,{"$f":"ROW()","v":5874},8]
[null,null,"D1532003","Triturado de mármol en estado natural",1,{"$f":"ROW()","v":5875},8]
[null,null,"D1532001","Triturado de piedra",1,{"$f":"ROW()","v":5876},8]
[null,null,"D4444007","Trituradoras y pulverizadoras de minerales.",1,{"$f":"ROW()","v":5877},8]
[null,null,"D4299604","Trofeos",1,{"$f":"ROW()","v":5878},8]
[null,null,"D0312001","Troncos de madera de balso",1,{"$f":"ROW()","v":5879},8]
[null,null,"D4292206","Troqueles para cuero, textiles y papel",1,{"$f":"ROW()","v":5880},8]
[null,null,"D4292204","Troqueles, matrices para conformar metales",1,{"$f":"ROW()","v":5881},8]
[null,null,"D0422402","Trucha, de cultivo, fresca o refrigerada",1,{"$f":"ROW()","v":5882},8]
[null,null,"D0422401","Trucha, vivas",1,{"$f":"ROW()","v":5883},8]
[null,null,"D2139303","Tubérculos deshidratados",1,{"$f":"ROW()","v":5884},8]
[null,null,"D2139901","Tubérculos empacados en sobres herméticos",1,{"$f":"ROW()","v":5885},8]
[null,null,"D2139908","Tubérculos en conserva envasados",1,{"$f":"ROW()","v":5886},8]
[null,null,"D3756003","Tubería de concreto reforzado",1,{"$f":"ROW()","v":5887},8]
[null,null,"D4128701","Tubería de riego de acero aleado",1,{"$f":"ROW()","v":5888},8]
[null,null,"D3632011","Tuberías de poliéster reforzadas con fibra de vidrio (GRP)",1,{"$f":"ROW()","v":5889},8]
[null,null,"D3632002","Tuberías de polietileno",1,{"$f":"ROW()","v":5890},8]
[null,null,"D3632001","Tuberías de polivinilo",1,{"$f":"ROW()","v":5891},8]
[null,null,"D4694003","Tubo conduit flexible",1,{"$f":"ROW()","v":5892},{"$f":"LEN(C5892)","v":8}]
[null,null,"D4694002","Tubo conduit rígido",1,{"$f":"ROW()","v":5893},8]
[null,null,"D3632007","Tubo rígido de material plástico",1,{"$f":"ROW()","v":5894},8]
[null,null,"D4128401","Tubos cromados",1,{"$f":"ROW()","v":5895},8]
[null,null,"D4128304","Tubos de acero inoxidable",1,{"$f":"ROW()","v":5896},8]
[null,null,"D4153601","Tubos de aluminio",1,{"$f":"ROW()","v":5897},8]
[null,null,"D3736001","Tubos de arcilla",1,{"$f":"ROW()","v":5898},8]
[null,null,"D3757005","Tubos de asbesto-cemento",1,{"$f":"ROW()","v":5899},8]
[null,null,"D3219918","Tubos de cartón",1,{"$f":"ROW()","v":5900},8]
[null,null,"D3623002","Tubos de caucho",1,{"$f":"ROW()","v":5901},8]
[null,null,"D4151601","Tubos de cobre",1,{"$f":"ROW()","v":5902},8]
[null,null,"D3756001","Tubos de concreto",1,{"$f":"ROW()","v":5903},8]
[null,null,"D4912919","Tubos de escape para automotores",1,{"$f":"ROW()","v":5904},8]
[null,null,"D4154901","Tubos de estaño",1,{"$f":"ROW()","v":5905},8]
[null,null,"D3736003","Tubos de gres",1,{"$f":"ROW()","v":5906},8]
[null,null,"D4128303","Tubos de hierro o acero galvanizados",1,{"$f":"ROW()","v":5907},8]
[null,null,"D4128301","Tubos de hierro o acero laminado en caliente",1,{"$f":"ROW()","v":5908},8]
[null,null,"D4128302","Tubos de hierro o acero laminado en frío",1,{"$f":"ROW()","v":5909},8]
[null,null,"D4128201","Tubos de hierro o acero sin costura, recubiertos para alta presión",1,{"$f":"ROW()","v":5910},8]
[null,null,"D4151602","Tubos de latón",1,{"$f":"ROW()","v":5911},8]
[null,null,"D4152401","Tubos de níquel",1,{"$f":"ROW()","v":5912},8]
[null,null,"D4154301","Tubos de plomo",1,{"$f":"ROW()","v":5913},8]
[null,null,"D3719201","Tubos de vidrio para alumbrado fluorescente",1,{"$f":"ROW()","v":5914},8]
[null,null,"D3719604","Tubos de vidrio para avisos luminosos",1,{"$f":"ROW()","v":5915},8]
[null,null,"D3719501","Tubos de vidrio para medicamentos",1,{"$f":"ROW()","v":5916},8]
[null,null,"D4154601","Tubos de zinc",1,{"$f":"ROW()","v":5917},8]
[null,null,"D4128101","Tubos del tipo de los utilizados en oleoductos o gasoductos, de hierro o acero",1,{"$f":"ROW()","v":5918},8]
[null,null,"D4474009","Tubos explosivos",1,{"$f":"ROW()","v":5919},8]
[null,null,"D4651006","Tubos fluorescentes",1,{"$f":"ROW()","v":5920},8]
[null,null,"D4129101","Tubos fundidos de hierro o acero",1,{"$f":"ROW()","v":5921},8]
[null,null,"D4293105","Tubos metálicos colapsibles",1,{"$f":"ROW()","v":5922},8]
[null,null,"D4714002","Tubos-pantallas para televisión",1,{"$f":"ROW()","v":5923},8]
[null,null,"D4294407","Tuercas y arandelas de aluminio",1,{"$f":"ROW()","v":5924},8]
[null,null,"D4294405","Tuercas y arandelas de cobre",1,{"$f":"ROW()","v":5925},8]
[null,null,"D4294403","Tuercas y arandelas de hierro o acero",1,{"$f":"ROW()","v":5926},8]
[null,null,"D2922218","Tulas de lona",1,{"$f":"ROW()","v":5927},8]
[null,null,"D2791202","Tules, blondas y tejidos similares de algodón",1,{"$f":"ROW()","v":5928},8]
[null,null,"D2791204","Tules, blondas y tejidos similares de fibras artificiales y/o sintéticas",1,{"$f":"ROW()","v":5929},8]
[null,null,"D1105001","Turba",1,{"$f":"ROW()","v":5930},8]
[null,null,"D4314301","Turbinas de gas",1,{"$f":"ROW()","v":5931},8]
[null,null,"D4314101","Turbinas de vapor con mecanismo de regulación",1,{"$f":"ROW()","v":5932},8]
[null,null,"D4314102","Turbinas de vapor sin mecanismo de regulación",1,{"$f":"ROW()","v":5933},8]
[null,null,"D4314201","Turbinas hidráulicas con mecanismo de regulación",1,{"$f":"ROW()","v":5934},8]
[null,null,"D4314202","Turbinas hidráulicas sin mecanismo de regulación",1,{"$f":"ROW()","v":5935},8]
[null,null,"D4313201","Turborreactores",1,{"$f":"ROW()","v":5936},8]
[null,null,"D3334201","Turbosina jet fuel-J.P.A.",1,{"$f":"ROW()","v":5937},8]
[null,null,"D0131912","Uchuva",1,{"$f":"ROW()","v":5938},8]
[null,null,"D4523001","Unidad central de procesamiento (CPU)",1,{"$f":"ROW()","v":5939},8]
[null,null,"D4912911","Unidades C.K.D. para cajas de velocidad de automóviles",1,{"$f":"ROW()","v":5940},8]
[null,null,"D4994102","Unidades C.K.D. para motocicletas",1,{"$f":"ROW()","v":5941},8]
[null,null,"D4315107","Unidades CKD para motores de vehículos livianos",1,{"$f":"ROW()","v":5942},8]
[null,null,"D4315108","Unidades CKD para motores de vehículos pesados",1,{"$f":"ROW()","v":5943},8]
[null,null,"D4826999","Unidades de control electrónico para vehículos automotores",1,{"$f":"ROW()","v":5944},8]
[null,null,"D4653903","Unidades de emergencia para alumbrado",1,{"$f":"ROW()","v":5945},8]
[null,null,"D4691107","Unidades de potencia eléctrica",1,{"$f":"ROW()","v":5946},8]
[null,null,"D4813002","Unidades odontológicas",1,{"$f":"ROW()","v":5947},8]
[null,null,"D3815007","Unidades resortadas para colchones y similares",1,{"$f":"ROW()","v":5948},8]
[null,null,"D4391309","Unidades selladas de refrigeración",1,{"$f":"ROW()","v":5949},8]
[null,null,"D2823609","Uniformes de trabajo",1,{"$f":"ROW()","v":5950},8]
[null,null,"D4151604","Uniones taconde para tubería",1,{"$f":"ROW()","v":5951},8]
[null,null,"D3461101","Urea",1,{"$f":"ROW()","v":5952},8]
[null,null,"D3899919","Urnas funerarias",1,{"$f":"ROW()","v":5953},8]
[null,null,"D4299932","Utensilios de alpaca para la mesa y cocina",1,{"$f":"ROW()","v":5954},8]
[null,null,"D3722102","Utensilios de loza para mesa y la cocina",1,{"$f":"ROW()","v":5955},8]
[null,null,"D3191299","Utensilios de madera n.c.p.",1,{"$f":"ROW()","v":5956},{"$f":"LEN(C5956)","v":8}]
[null,null,"D3694002","Utensilios de material plástico para la mesa y cocina",1,{"$f":"ROW()","v":5957},8]
[null,null,"D3824007","Utensilios de plata para la mesa",1,{"$f":"ROW()","v":5958},8]
[null,null,"D3722104","Utensilios de porcelana para la mesa y cocina",1,{"$f":"ROW()","v":5959},8]
[null,null,"D3719302","Utensilios de vidrio para la mesa y la cocina",1,{"$f":"ROW()","v":5960},8]
[null,null,"D4291299","Utensilios estampados n.c.p. sin esmaltar para la mesa y la cocina",1,{"$f":"ROW()","v":5961},8]
[null,null,"D3845099","Utensilios n.c.p. para pesca deportiva",1,{"$f":"ROW()","v":5962},8]
[null,null,"D4292131","Utensilios para chimenea",1,{"$f":"ROW()","v":5963},8]
[null,null,"D3729101","Utensilios y aparatos de loza o porcelana para laboratorio y usos técnicos",1,{"$f":"ROW()","v":5964},8]
[null,null,"D3719502","Utensilios y aparatos de vidrio para laboratorio y usos técnicos",1,{"$f":"ROW()","v":5965},8]
[null,null,"D0133001","Uvas frescas",1,{"$f":"ROW()","v":5966},8]
[null,null,"D2141101","Uvas pasas",1,{"$f":"ROW()","v":5967},8]
[null,null,"D4953301","Vagones para carga",1,{"$f":"ROW()","v":5968},8]
[null,null,"D4953201","Vagones para pasajeros",1,{"$f":"ROW()","v":5969},8]
[null,null,"D4953202","Vagones restaurantes",1,{"$f":"ROW()","v":5970},8]
[null,null,"D4952001","Vagonetas",1,{"$f":"ROW()","v":5971},8]
[null,null,"D0165801","Vainilla, sin elaborar",1,{"$f":"ROW()","v":5972},8]
[null,null,"D4474007","Vainillas fulminadas para munición",1,{"$f":"ROW()","v":5973},8]
[null,null,"D4474002","Vainillas y proyectiles para municiones",1,{"$f":"ROW()","v":5974},8]
[null,null,"D3722101","Vajillas de loza-pedernal",1,{"$f":"ROW()","v":5975},8]
[null,null,"D3694001","Vajillas de material plástico",1,{"$f":"ROW()","v":5976},8]
[null,null,"D3722103","Vajillas de porcelana",1,{"$f":"ROW()","v":5977},8]
[null,null,"D3719301","Vajillas de vidrio",1,{"$f":"ROW()","v":5978},8]
[null,null,"D4291227","Vajillas y utensilios de aluminio para la mesa y la cocina",1,{"$f":"ROW()","v":5979},8]
[null,null,"D3722105","Vajillas y utensilios de barro cocido",1,{"$f":"ROW()","v":5980},8]
[null,null,"D4291210","Vajillas y utensilios esmaltados para la mesa y cocina",1,{"$f":"ROW()","v":5981},8]
[null,null,"D3262007","Vallas, avisos y otros similares elaborados en material textil",1,{"$f":"ROW()","v":5982},8]
[null,null,"D4299927","Vallas, avisos y similares",1,{"$f":"ROW()","v":5983},8]
[null,null,"D4324016","Válvulas de bola",1,{"$f":"ROW()","v":5984},8]
[null,null,"D3699057","Válvulas desgasificadoras de material plástico",1,{"$f":"ROW()","v":5985},8]
[null,null,"D4324014","Válvulas dosificadoras para bebederos agrícolas",1,{"$f":"ROW()","v":5986},8]
[null,null,"D4324006","Válvulas hidráulicas",1,{"$f":"ROW()","v":5987},8]
[null,null,"D4324099","Válvulas n.c.p. para fontanería",1,{"$f":"ROW()","v":5988},8]
[null,null,"D4324005","Válvulas neumáticas",1,{"$f":"ROW()","v":5989},8]
[null,null,"D4324003","Válvulas neumáticas de material plástico",1,{"$f":"ROW()","v":5990},8]
[null,null,"D4324013","Válvulas para neumáticos.",1,{"$f":"ROW()","v":5991},8]
[null,null,"D4714001","Válvulas y tubos electrónicos para radio y televisión",1,{"$f":"ROW()","v":5992},8]
[null,null,"D4481613","Vaporizadores",1,{"$f":"ROW()","v":5993},8]
[null,null,"D2912003","Vaqueta",1,{"$f":"ROW()","v":5994},8]
[null,null,"D4299506","Varillas metálicas para fólderes",1,{"$f":"ROW()","v":5995},8]
[null,null,"D4299941","Varillas y aros de alambre para brassieres",1,{"$f":"ROW()","v":5996},8]
[null,null,"D3631001","Varillas y perfiles de material plástico",1,{"$f":"ROW()","v":5997},8]
[null,null,"D3631003","Varillas y perfiles en P.V.C.",1,{"$f":"ROW()","v":5998},8]
[null,null,"D3335002","Varsol",1,{"$f":"ROW()","v":5999},8]
[null,null,"D3335004","Varsol-disolvente núm. 4",1,{"$f":"ROW()","v":6000},8]
[null,null,"D3350004","Vaselina",1,{"$f":"ROW()","v":6001},8]
[null,null,"D3350003","Vaselina blanca",1,{"$f":"ROW()","v":6002},8]
[null,null,"D4291240","Vasos de aluminio para licuadoras",1,{"$f":"ROW()","v":6003},8]
[null,null,"D4291213","Vasos de noche esmaltados",1,{"$f":"ROW()","v":6004},8]
[null,null,"D3219907","Vasos de papel o cartón",1,{"$f":"ROW()","v":6005},8]
[null,null,"D3719304","Vasos de vidrio para licuadoras y similares",1,{"$f":"ROW()","v":6006},8]
[null,null,"D3694003","Vasos y jarros de material plástico",1,{"$f":"ROW()","v":6007},8]
[null,null,"D3719305","Vasos y jarros de vidrio",1,{"$f":"ROW()","v":6008},8]
[null,null,"D3694011","Vasos, vasitos, copas y recipientes similares desechables de material plástico",1,{"$f":"ROW()","v":6009},8]
[null,null,"D2131901","Vegetales congelados",1,{"$f":"ROW()","v":6010},8]
[null,null,"D4911901","Vehículos contra incendio",1,{"$f":"ROW()","v":6011},8]
[null,null,"D4993008","Vehículos de tracción animal",1,{"$f":"ROW()","v":6012},8]
[null,null,"D4953101","Vehículos para inspección de vías férreas",1,{"$f":"ROW()","v":6013},8]
[null,null,"D4911403","Vehículos recolectores de basura",1,{"$f":"ROW()","v":6014},8]
[null,null,"D3899902","Veladoras",1,{"$f":"ROW()","v":6015},8]
[null,null,"D3899901","Velas de estearina o parafina",1,{"$f":"ROW()","v":6016},8]
[null,null,"D4826402","Velocímetros",1,{"$f":"ROW()","v":6017},8]
[null,null,"D4817115","Vendajes ortopédicos",1,{"$f":"ROW()","v":6018},8]
[null,null,"D3527016","Venditas antisépticas",1,{"$f":"ROW()","v":6019},8]
[null,null,"D3527017","Veneno de serpientes",1,{"$f":"ROW()","v":6020},{"$f":"LEN(C6020)","v":8}]
[null,null,"D8363201","Venta de espacios para avisos y propaganda en periódicos y revistas (excepto a comisión)",1,{"$f":"ROW()","v":6021},8]
[null,null,"D4212006","Ventanas de aluminio",1,{"$f":"ROW()","v":6022},8]
[null,null,"D3160004","Ventanas de madera",1,{"$f":"ROW()","v":6023},8]
[null,null,"D3695008","Ventanas en P.V.C",1,{"$f":"ROW()","v":6024},8]
[null,null,"D4212003","Ventanas metálicas",1,{"$f":"ROW()","v":6025},8]
[null,null,"D3712920","Ventanas reforzadas con fibra de vidrio",1,{"$f":"ROW()","v":6026},8]
[null,null,"D4481501","Ventiladores eléctricos de uso doméstico",1,{"$f":"ROW()","v":6027},8]
[null,null,"D4393101","Ventiladores industriales",1,{"$f":"ROW()","v":6028},8]
[null,null,"D4219002","Verjas y portales metálicos",1,{"$f":"ROW()","v":6029},8]
[null,null,"D2822802","Vestidos de baño para hombre",1,{"$f":"ROW()","v":6030},8]
[null,null,"D2822805","Vestidos de baño para mujer",1,{"$f":"ROW()","v":6031},8]
[null,null,"D2822803","Vestidos de baño para niña",1,{"$f":"ROW()","v":6032},8]
[null,null,"D2822804","Vestidos de baño para niño",1,{"$f":"ROW()","v":6033},8]
[null,null,"D2824101","Vestidos de cuero",1,{"$f":"ROW()","v":6034},8]
[null,null,"D2822306","Vestidos de fibras artificiales o sintéticas en tejido de punto, para mujer",1,{"$f":"ROW()","v":6035},8]
[null,null,"D2823129","Vestidos de pana para hombre",1,{"$f":"ROW()","v":6036},8]
[null,null,"D2823101","Vestidos de paño para hombre",1,{"$f":"ROW()","v":6037},8]
[null,null,"D2823301","Vestidos de paño para mujer",1,{"$f":"ROW()","v":6038},8]
[null,null,"D2823302","Vestidos de paño para niña",1,{"$f":"ROW()","v":6039},8]
[null,null,"D2823102","Vestidos de paño para niño",1,{"$f":"ROW()","v":6040},8]
[null,null,"D2823105","Vestidos de tejidos de algodón para hombre",1,{"$f":"ROW()","v":6041},8]
[null,null,"D2823106","Vestidos de tejidos de algodón para niño",1,{"$f":"ROW()","v":6042},8]
[null,null,"D2823305","Vestidos de tejidos de algodón, para mujer",1,{"$f":"ROW()","v":6043},8]
[null,null,"D2823306","Vestidos de tejidos de algodón, para niña",1,{"$f":"ROW()","v":6044},8]
[null,null,"D2823303","Vestidos de tejidos planos de fibras artificiales o sintéticas, para mujer",1,{"$f":"ROW()","v":6045},8]
[null,null,"D2823304","Vestidos de tejidos planos de fibras artificiales o sintéticas, para niña",1,{"$f":"ROW()","v":6046},8]
[null,null,"D2823307","Vestidos de tejidos planos de fibras mezcladas, para mujer",1,{"$f":"ROW()","v":6047},8]
[null,null,"D2823308","Vestidos de tejidos planos de fibras mezcladas, para niña",1,{"$f":"ROW()","v":6048},8]
[null,null,"D2823103","Vestidos de tejidos sintéticos para hombre",1,{"$f":"ROW()","v":6049},8]
[null,null,"D2823104","Vestidos de tejidos sintéticos para niño",1,{"$f":"ROW()","v":6050},8]
[null,null,"D2823107","Vestidos en lino para hombre",1,{"$f":"ROW()","v":6051},8]
[null,null,"D2823108","Vestidos en lino para niño",1,{"$f":"ROW()","v":6052},8]
[null,null,"D2822702","Vestidos para bebé",1,{"$f":"ROW()","v":6053},8]
[null,null,"D2823332","Vestidos-conjuntos de tejidos planos mezclados para niña",1,{"$f":"ROW()","v":6054},8]
[null,null,"D3792008","Vestuario de asbesto",1,{"$f":"ROW()","v":6055},8]
[null,null,"D2824110","Vestuario industrial de cuero",1,{"$f":"ROW()","v":6056},8]
[null,null,"D4753004","Videocasetes sin grabar",1,{"$f":"ROW()","v":6057},8]
[null,null,"D4762001","Videocintas grabadas",1,{"$f":"ROW()","v":6058},8]
[null,null,"D4731401","Videoproyectores",1,{"$f":"ROW()","v":6059},8]
[null,null,"D3711504","Vidrio blindado para automotores",1,{"$f":"ROW()","v":6060},8]
[null,null,"D3711502","Vidrio de seguridad",1,{"$f":"ROW()","v":6061},8]
[null,null,"D3711503","Vidrio de seguridad para automotores, parabrisas y similares",1,{"$f":"ROW()","v":6062},8]
[null,null,"D3711101","Vidrio en tubos",1,{"$f":"ROW()","v":6063},8]
[null,null,"D3711102","Vidrio en varillas",1,{"$f":"ROW()","v":6064},8]
[null,null,"D3711402","Vidrio martillado-ornamental",1,{"$f":"ROW()","v":6065},8]
[null,null,"D3719401","Vidrio óptico",1,{"$f":"ROW()","v":6066},8]
[null,null,"D3711401","Vidrio plano biselado",1,{"$f":"ROW()","v":6067},8]
[null,null,"D3711201","Vidrio plano sin biselar ni azogar",1,{"$f":"ROW()","v":6068},8]
[null,null,"D3711501","Vidrio templado",1,{"$f":"ROW()","v":6069},8]
[null,null,"D3711301","Vidrio templado (flotado), incluso armado con capa absorbente, reflectante o antirreflectante",1,{"$f":"ROW()","v":6070},8]
[null,null,"D3711104","Vidrio triturado o molido",1,{"$f":"ROW()","v":6071},8]
[null,null,"D3719602","Vidrios para linternas y similares",1,{"$f":"ROW()","v":6072},8]
[null,null,"D3719601","Vidrios para reflectores",1,{"$f":"ROW()","v":6073},8]
[null,null,"D3756012","Vigas de concreto",1,{"$f":"ROW()","v":6074},8]
[null,null,"D2399402","Vinagre de frutas",1,{"$f":"ROW()","v":6075},8]
[null,null,"D2399401","Vinagres",1,{"$f":"ROW()","v":6076},8]
[null,null,"D2423002","Vino de frutas",1,{"$f":"ROW()","v":6077},8]
[null,null,"D2421202","Vino de uvas",1,{"$f":"ROW()","v":6078},8]
[null,null,"D2421101","Vinos espumosos",1,{"$f":"ROW()","v":6079},8]
[null,null,"D3832001","Violines",1,{"$f":"ROW()","v":6080},8]
[null,null,"D2960003","Viras para calzado",1,{"$f":"ROW()","v":6081},8]
[null,null,"D4291232","Viruta metálica",1,{"$f":"ROW()","v":6082},8]
[null,null,"D2116001","Vísceras de aves de corral",1,{"$f":"ROW()","v":6083},8]
[null,null,"D2115199","Vísceras de ganado n.c.p.",1,{"$f":"ROW()","v":6084},{"$f":"LEN(C6084)","v":8}]
[null,null,"D3479008","Viscosa",1,{"$f":"ROW()","v":6085},8]
[null,null,"D3525006","Vitamina A",1,{"$f":"ROW()","v":6086},8]
[null,null,"D3525007","Vitamina B1 (tiamina)",1,{"$f":"ROW()","v":6087},8]
[null,null,"D3525010","Vitamina B12 (cianocobalamina-cobalamina)",1,{"$f":"ROW()","v":6088},8]
[null,null,"D3525017","Vitamina B15",1,{"$f":"ROW()","v":6089},8]
[null,null,"D3525008","Vitamina B2 (riboflavina)",1,{"$f":"ROW()","v":6090},8]
[null,null,"D3525016","Vitamina B3 (niacina-niacinamida-nicotina)",1,{"$f":"ROW()","v":6091},8]
[null,null,"D3525004","Vitamina B5 (ácido pantoténico)",1,{"$f":"ROW()","v":6092},8]
[null,null,"D3525009","Vitamina B6 (piridoxina)",1,{"$f":"ROW()","v":6093},8]
[null,null,"D3525019","Vitamina B8 (biotina o vitamina H)",1,{"$f":"ROW()","v":6094},8]
[null,null,"D3525011","Vitamina B9 (ácido fólico)",1,{"$f":"ROW()","v":6095},8]
[null,null,"D3525012","Vitamina C (ácido ascórbico)",1,{"$f":"ROW()","v":6096},8]
[null,null,"D3525013","Vitamina D",1,{"$f":"ROW()","v":6097},8]
[null,null,"D3525014","Vitamina E",1,{"$f":"ROW()","v":6098},8]
[null,null,"D3525015","Vitamina K3 (menadiona)",1,{"$f":"ROW()","v":6099},8]
[null,null,"D3525095","Vitaminas n.c.p.",1,{"$f":"ROW()","v":6100},8]
[null,null,"D3814033","Vitrinas de madera",1,{"$f":"ROW()","v":6101},8]
[null,null,"D3812205","Vitrinas de madera para oficina",1,{"$f":"ROW()","v":6102},8]
[null,null,"D3814056","Vitrinas de material plástico",1,{"$f":"ROW()","v":6103},8]
[null,null,"D4391304","Vitrinas frigoríficas",1,{"$f":"ROW()","v":6104},8]
[null,null,"D3814043","Vitrinas metálicas",1,{"$f":"ROW()","v":6105},8]
[null,null,"D4818004","Vitrinas metálicas para hospitales",1,{"$f":"ROW()","v":6106},8]
[null,null,"D4391307","Vitrinas térmicas",1,{"$f":"ROW()","v":6107},8]
[null,null,"D0429209","Vizcaina, fresca o refrigerada",1,{"$f":"ROW()","v":6108},8]
[null,null,"D2413106","Vodka",1,{"$f":"ROW()","v":6109},8]
[null,null,"D3262004","Volantes publicitarios a una o varias tintas",1,{"$f":"ROW()","v":6110},8]
[null,null,"D4911404","Volquetas",1,{"$f":"ROW()","v":6111},8]
[null,null,"D4442801","Volquetas automotores concebidas para utilizar fuera de la red de carreteras",1,{"$f":"ROW()","v":6112},8]
[null,null,"D3549916","Vulcanizantes",1,{"$f":"ROW()","v":6113},8]
[null,null,"D2413105","Whisky",1,{"$f":"ROW()","v":6114},8]
[null,null,"D3416031","Xantina",1,{"$f":"ROW()","v":6115},8]
[null,null,"D3411014","Xilenos",1,{"$f":"ROW()","v":6116},8]
[null,null,"D3454001","Xilol",1,{"$f":"ROW()","v":6117},8]
[null,null,"D0159907","Yacón",1,{"$f":"ROW()","v":6118},8]
[null,null,"D0421214","Yamú, de cultivo, fresco o refrigerado",1,{"$f":"ROW()","v":6119},8]
[null,null,"D0421110","Yamú, fresco o refrigerado",1,{"$f":"ROW()","v":6120},8]
[null,null,"D0421205","Yamú, vivos",1,{"$f":"ROW()","v":6121},8]
[null,null,"D0429210","Yaque, fresco o refrigerado",1,{"$f":"ROW()","v":6122},8]
[null,null,"D0163001","Yerba mate",1,{"$f":"ROW()","v":6123},8]
[null,null,"D1521001","Yeso",1,{"$f":"ROW()","v":6124},8]
[null,null,"D3741001","Yeso calcinado",1,{"$f":"ROW()","v":6125},8]
[null,null,"D3544101","Yesos especiales para odontología",1,{"$f":"ROW()","v":6126},8]
[null,null,"D2823115","Yines para hombre",1,{"$f":"ROW()","v":6127},8]
[null,null,"D2823321","Yines para mujer",1,{"$f":"ROW()","v":6128},8]
[null,null,"D2823322","Yines para niña",1,{"$f":"ROW()","v":6129},8]
[null,null,"D2823116","Yines para niño",1,{"$f":"ROW()","v":6130},8]
[null,null,"D3424021","Yodato de potasio",1,{"$f":"ROW()","v":6131},8]
[null,null,"D3423108","Yodo",1,{"$f":"ROW()","v":6132},8]
[null,null,"D3416022","Yodoclorooxiquinoleína",1,{"$f":"ROW()","v":6133},8]
[null,null,"D3415010","Yodoformina",1,{"$f":"ROW()","v":6134},8]
[null,null,"D3411020","Yodoformo",1,{"$f":"ROW()","v":6135},8]
[null,null,"D3424012","Yoduro de calcio",1,{"$f":"ROW()","v":6136},8]
[null,null,"D3424011","Yoduro de potasio",1,{"$f":"ROW()","v":6137},8]
[null,null,"D3424010","Yoduro de sodio",1,{"$f":"ROW()","v":6138},8]
[null,null,"D2223002","Yogur",1,{"$f":"ROW()","v":6139},8]
[null,null,"D3525051","Yohimbina",1,{"$f":"ROW()","v":6140},8]
[null,null,"D0152001","Yuca",1,{"$f":"ROW()","v":6141},8]
[null,null,"D4292125","Yunques y bigornias",1,{"$f":"ROW()","v":6142},8]
[null,null,"D0192201","Yute",1,{"$f":"ROW()","v":6143},8]
[null,null,"D4144201","Zamac",1,{"$f":"ROW()","v":6144},8]
[null,null,"D0125101","Zanahorias",1,{"$f":"ROW()","v":6145},8]
[null,null,"D4292107","Zapapicos",1,{"$f":"ROW()","v":6146},8]
[null,null,"D0131916","Zapote",1,{"$f":"ROW()","v":6147},8]
[null,null,"D4294303","Zarandas y similares metálicas",1,{"$f":"ROW()","v":6148},{"$f":"LEN(C6148)","v":8}]
[null,null,"D4144299","Zinc electrolítico en formas n.c.p.",1,{"$f":"ROW()","v":6149},8]
[null,null,"D4144202","Zinc en bloques y lingotes",1,{"$f":"ROW()","v":6150},8]
[null,null,"D4121202","Zuncho metálico laminado en caliente",1,{"$f":"ROW()","v":6151},8]
[null,null,"D4122202","Zuncho metálico laminado en frío",1,{"$f":"ROW()","v":6152},8]
[null,null,"D3649018","Zuncho plástico",1,{"$f":"ROW()","v":6153},8]
[null,null,"D01111","Trigo, semilla",1,{"$f":"ROW()","v":6154},6]
[null,null,"D01121","Maíz, semilla",1,{"$f":"ROW()","v":6155},6]
[null,null,"D01141","Sorgo, semilla",1,{"$f":"ROW()","v":6156},6]
[null,null,"D01151","Cebada, semilla",1,{"$f":"ROW()","v":6157},6]
[null,null,"D01161","Centeno, semilla",1,{"$f":"ROW()","v":6158},6]
[null,null,"D01171","Avena, semilla",1,{"$f":"ROW()","v":6159},6]
[null,null,"D01181","Mijo, semilla",1,{"$f":"ROW()","v":6160},6]
[null,null,"D01191","Triticale",1,{"$f":"ROW()","v":6161},6]
[null,null,"D01192","Alforfón",1,{"$f":"ROW()","v":6162},6]
[null,null,"D01193","Fonio",1,{"$f":"ROW()","v":6163},6]
[null,null,"D01351","Grosellas",1,{"$f":"ROW()","v":6164},6]
[null,null,"D01356","Algarrobas",1,{"$f":"ROW()","v":6165},6]
[null,null,"D01359","Otras frutas n.c.p.",1,{"$f":"ROW()","v":6166},6]
[null,null,"D01373","Castañas, con cáscara",1,{"$f":"ROW()","v":6167},6]
[null,null,"D01374","Avellanas, con cáscara",1,{"$f":"ROW()","v":6168},6]
[null,null,"D01376","Nueces de nogal, con cáscara",1,{"$f":"ROW()","v":6169},6]
[null,null,"D01411","Soja, semilla",1,{"$f":"ROW()","v":6170},6]
[null,null,"D01421","Maní, semilla para siembra",1,{"$f":"ROW()","v":6171},6]
[null,null,"D01431","Semillas de algodón, semilla",1,{"$f":"ROW()","v":6172},6]
[null,null,"D01448","Semillas de amapola",1,{"$f":"ROW()","v":6173},6]
[null,null,"D01550","Taro",1,{"$f":"ROW()","v":6174},6]
[null,null,"D01652","Chiles y pimientos, secos, (Capsicum spp., Pimenta spp), sin elaborar",1,{"$f":"ROW()","v":6175},6]
[null,null,"D01691","Raíces de achicoria",1,{"$f":"ROW()","v":6176},6]
[null,null,"D01699","Otras plantas estimulantes, aromáticas y especias provenientes de cultivos transitorios n.c.p.",1,{"$f":"ROW()","v":6177},6]
[null,null,"D01706","Caupíes, secos",1,{"$f":"ROW()","v":6178},6]
[null,null,"D01707","Guandules, secos",1,{"$f":"ROW()","v":6179},6]
[null,null,"D01708","Frijoles bambara, secos",1,{"$f":"ROW()","v":6180},6]
[null,null,"D01803","Semillas de remolacha azucarera",1,{"$f":"ROW()","v":6181},6]
[null,null,"D01809","Otras plantas utilizadas en la fabricación de azúcar n.c.p.",1,{"$f":"ROW()","v":6182},6]
[null,null,"D01911","Maíz para forraje y ensilaje",1,{"$f":"ROW()","v":6183},6]
[null,null,"D01991","Otras materias vegetales (de cultivos transitorios) sin elaborar n.c.p.",1,{"$f":"ROW()","v":6184},6]
[null,null,"D02119","Otros animales bovinos",1,{"$f":"ROW()","v":6185},6]
[null,null,"D02121","Camellos y camélidos",1,{"$f":"ROW()","v":6186},6]
[null,null,"D02129","Otros rumiantes n.c.p.",1,{"$f":"ROW()","v":6187},6]
[null,null,"D02291","Leche cruda de oveja",1,{"$f":"ROW()","v":6188},6]
[null,null,"D02292","Leche cruda de cabra",1,{"$f":"ROW()","v":6189},6]
[null,null,"D02293","Leche cruda de camella",1,{"$f":"ROW()","v":6190},6]
[null,null,"D02299","Otra leche cruda n.c.p.",1,{"$f":"ROW()","v":6191},6]
[null,null,"D02311","Huevos de gallina con cáscara, frescos, para incubar",1,{"$f":"ROW()","v":6192},6]
[null,null,"D02321","Huevos de otras aves de corral, con cáscara, frescos, para incubar",1,{"$f":"ROW()","v":6193},6]
[null,null,"D02323","Huevos de otras aves, con cáscara, frescos, para incubar",1,{"$f":"ROW()","v":6194},6]
[null,null,"D02412","Semen de ovejas y cabras",1,{"$f":"ROW()","v":6195},6]
[null,null,"D02419","Semen de otros animales n.c.p.",1,{"$f":"ROW()","v":6196},6]
[null,null,"D02421","Embriones de ganado bovino y bufalino",1,{"$f":"ROW()","v":6197},6]
[null,null,"D02422","Embriones de caballos y otros équidos",1,{"$f":"ROW()","v":6198},6]
[null,null,"D02920","Caracoles frescos, refrigerados, congelados, secos, salados o en salmuera (excepto caracoles marinos)",1,{"$f":"ROW()","v":6199},6]
[null,null,"D03131","Leña de madera de coníferas",1,{"$f":"ROW()","v":6200},6]
[null,null,"D03211","Balata, gutapercha, guayule, chicle y gomas naturales similares, en formas primarias o en placas, hojas o tiras",1,{"$f":"ROW()","v":6201},6]
[null,null,"D03230","Otros productos silvestres comestibles",1,{"$f":"ROW()","v":6202},6]
[null,null,"D03241","Árboles de navidad",1,{"$f":"ROW()","v":6203},6]
[null,null,"D03249","Otras partes de plantas, sin flores ni capullos, hierbas, musgos y líquenes, adecuados para fines ornamentales",1,{"$f":"ROW()","v":6204},6]
[null,null,"D04111","Peces ornamentales silvestres, marinos",1,{"$f":"ROW()","v":6205},6]
[null,null,"D04112","Peces ornamentales silvestres, de agua dulce",1,{"$f":"ROW()","v":6206},6]
[null,null,"D04113","Peces ornamentales de cultivo, marinos",1,{"$f":"ROW()","v":6207},6]
[null,null,"D04191","Otros peces silvestres vivos, marinos, no para consumo humano, incluyendo semillas y piensos para la acuicultura",1,{"$f":"ROW()","v":6208},6]
[null,null,"D04192","Otros peces silvestres vivos, de agua dulce, no para consumo humano, incluyendo semillas y piensos para la acuicultura",1,{"$f":"ROW()","v":6209},6]
[null,null,"D04223","Salmónidos de cultivo marinos, vivos, frescos o refrigerados",1,{"$f":"ROW()","v":6210},6]
[null,null,"D04232","Peces planos de cultivo, vivos, frescos o refrigerados",1,{"$f":"ROW()","v":6211},6]
[null,null,"D04242","Peces Gadiformes de cultivo, vivos, frescos o refrigerados",1,{"$f":"ROW()","v":6212},{"$f":"LEN(C6212)","v":6}]
[null,null,"D04252","Atunes, barrilete o bonito (de vientre rayado) de cultivo, vivos, frescos o refrigerados",1,{"$f":"ROW()","v":6213},6]
[null,null,"D04294","Otros peces de cultivo, de agua dulce, vivos, frescos o refrigerados",1,{"$f":"ROW()","v":6214},6]
[null,null,"D04312","Cangrejos silvestres de agua dulce, vivos, frescos o refrigerados",1,{"$f":"ROW()","v":6215},6]
[null,null,"D04313","Cangrejos marinos de cultivo, vivos, frescos o refrigerados",1,{"$f":"ROW()","v":6216},6]
[null,null,"D04314","Cangrejos de cultivo, de agua dulce, vivos, frescos o refrigerados",1,{"$f":"ROW()","v":6217},6]
[null,null,"D04331","Bogavantes (Homarus spp.) silvestres, vivos, frescos o refrigerados",1,{"$f":"ROW()","v":6218},6]
[null,null,"D04332","Bogavantes (Homarus spp.) de cultivo, vivos, frescos o refrigerados",1,{"$f":"ROW()","v":6219},6]
[null,null,"D04341","Cigalas silvestres, vivas, frescas o refrigeradas",1,{"$f":"ROW()","v":6220},6]
[null,null,"D04342","Cigalas de cultivo, vivas, frescas o refrigeradas",1,{"$f":"ROW()","v":6221},6]
[null,null,"D04351","Camarones y gambas (Pandalus spp., Crangon crangon) de agua fría, silvestres, vivos, frescos o refrigerados",1,{"$f":"ROW()","v":6222},6]
[null,null,"D04352","Camarones y gambas (Pandalus spp., Crangon crangon) de agua fría, de cultivo, vivos, frescos o refrigerados",1,{"$f":"ROW()","v":6223},6]
[null,null,"D04362","Otros camarones y gambas, silvestres de agua dulce, vivos, frescos o refrigerados",1,{"$f":"ROW()","v":6224},6]
[null,null,"D04393","Otros crustáceos, marinos de cultivo, vivos, frescos o refrigerados",1,{"$f":"ROW()","v":6225},6]
[null,null,"D04394","Otros crustáceos, de cultivo, de agua dulce, vivos, frescos o refrigerados",1,{"$f":"ROW()","v":6226},6]
[null,null,"D04411","Abulones u orejas de mar, silvestres, vivas, frescas o refrigeradas",1,{"$f":"ROW()","v":6227},6]
[null,null,"D04412","Abulones u orejas de mar, de cultivo, vivas, frescas o refrigeradas",1,{"$f":"ROW()","v":6228},6]
[null,null,"D04431","Mejillones silvestres, vivos, frescos o refrigerados",1,{"$f":"ROW()","v":6229},6]
[null,null,"D04432","Mejillones de cultivo, vivos, frescos o refrigerados",1,{"$f":"ROW()","v":6230},6]
[null,null,"D04441","Vieiras silvestres, vivas, frescas o refrigeradas",1,{"$f":"ROW()","v":6231},6]
[null,null,"D04442","Vieiras de cultivo, vivas, frescas o refrigeradas",1,{"$f":"ROW()","v":6232},6]
[null,null,"D04451","Almejas, berberechos y conchas arca silvestres, vivas, frescas o refrigeradas",1,{"$f":"ROW()","v":6233},6]
[null,null,"D04452","Almejas, berberechos y conchas arca de cultivo, vivas, frescas o refrigeradas",1,{"$f":"ROW()","v":6234},6]
[null,null,"D04461","Sepias y calamares silvestres, vivos, frescos o refrigerados",1,{"$f":"ROW()","v":6235},6]
[null,null,"D04462","Sepias y calamares de cultivo, vivos, frescos o refrigerados",1,{"$f":"ROW()","v":6236},6]
[null,null,"D04471","Pulpos silvestres, vivos, frescos o refrigerados",1,{"$f":"ROW()","v":6237},6]
[null,null,"D04472","Pulpos de cultivo, vivos, frescos o refrigerados",1,{"$f":"ROW()","v":6238},6]
[null,null,"D04493","Otros moluscos marinos, de cultivo, vivos, frescos o refrigerados",1,{"$f":"ROW()","v":6239},6]
[null,null,"D04494","Otros moluscos de agua dulce, de cultivo, vivos, frescos o refrigerados",1,{"$f":"ROW()","v":6240},6]
[null,null,"D04511","Pepinos de mar silvestres, vivos, frescos o refrigerados",1,{"$f":"ROW()","v":6241},6]
[null,null,"D04512","Pepinos de mar de cultivo, vivos, frescos o refrigerados",1,{"$f":"ROW()","v":6242},6]
[null,null,"D04521","Erizos de mar silvestres, vivos, frescos o refrigerados",1,{"$f":"ROW()","v":6243},6]
[null,null,"D04522","Erizos de mar de cultivo, vivos, frescos o refrigerados",1,{"$f":"ROW()","v":6244},6]
[null,null,"D04530","Medusas vivas, frescas o refrigeradas",1,{"$f":"ROW()","v":6245},6]
[null,null,"D04591","Otros invertebrados acuáticos marinos silvestres, vivos, frescos o refrigerados n.c.p.",1,{"$f":"ROW()","v":6246},6]
[null,null,"D04592","Otros invertebrados acuáticos de agua dulce, silvestres, vivos, frescos o refrigerados n.c.p.",1,{"$f":"ROW()","v":6247},6]
[null,null,"D04593","Otros invertebrados acuáticos marinos, de cultivo, vivos, frescos o refrigerados n.c.p.",1,{"$f":"ROW()","v":6248},6]
[null,null,"D04594","Otros invertebrados acuáticos de agua dulce, de cultivo, vivos, frescos o refrigerados n.c.p.",1,{"$f":"ROW()","v":6249},6]
[null,null,"D04911","Coral y productos similares, conchas de moluscos, crustáceos o equinodermos y jibiones, silvestres marinos",1,{"$f":"ROW()","v":6250},6]
[null,null,"D04912","Coral y productos similares, conchas de moluscos, crustáceos o equinodermos y jibiones, silvestres de agua dulce",1,{"$f":"ROW()","v":6251},6]
[null,null,"D04913","Coral y productos similares, conchas de moluscos, crustáceos o equinodermos y jibiones, marinos, de cultivo",1,{"$f":"ROW()","v":6252},6]
[null,null,"D04914","Coral y productos similares, conchas de moluscos, crustáceos o equinodermos y jibiones, de agua dulce, de cultivo",1,{"$f":"ROW()","v":6253},6]
[null,null,"D04915","Plantas y animales acuáticos marinos, silvestres, vivos, para fines ornamentales",1,{"$f":"ROW()","v":6254},6]
[null,null,"D04916","Plantas y animales acuáticos de agua dulce, silvestres, vivos, para fines ornamentales",1,{"$f":"ROW()","v":6255},6]
[null,null,"D04917","Plantas y animales acuáticos marinos de cultivo, vivos para fines ornamentales",1,{"$f":"ROW()","v":6256},6]
[null,null,"D04918","Plantas y animales acuáticos de agua dulce, de cultivo, vivos para fines ornamentales",1,{"$f":"ROW()","v":6257},6]
[null,null,"D04920","Esponjas naturales de origen animal acuático",1,{"$f":"ROW()","v":6258},6]
[null,null,"D04931","Algas marinas silvestres, frescas, congeladas o secas, incluso pulverizadas, aptas para consumo humano",1,{"$f":"ROW()","v":6259},6]
[null,null,"D04932","Algas de agua dulce silvestres, frescas, congeladas o secas, incluso pulverizadas, aptas para consumo humano",1,{"$f":"ROW()","v":6260},6]
[null,null,"D04933","Algas marinas de cultivo, frescas, congeladas o secas, incluso pulverizadas, aptas para consumo humano",1,{"$f":"ROW()","v":6261},6]
[null,null,"D04934","Algas de agua dulce de cultivo, frescas, congeladas o secas, incluso pulverizadas, aptas para consumo humano",1,{"$f":"ROW()","v":6262},6]
[null,null,"D04935","Algas marinas silvestres, frescas, congeladas o secas, incluso pulverizadas, no aptas para consumo humano",1,{"$f":"ROW()","v":6263},6]
[null,null,"D04936","Algas de agua dulce silvestres, frescas, congeladas o secas, incluso pulverizadas, no aptas para consumo humano",1,{"$f":"ROW()","v":6264},6]
[null,null,"D04937","Algas marinas de cultivo, frescas, congeladas o secas, incluso pulverizadas, no aptas para consumo humano",1,{"$f":"ROW()","v":6265},6]
[null,null,"D04938","Algas de agua dulce de cultivo, frescas, congeladas o secas, incluso pulverizadas, no aptas para consumo humano",1,{"$f":"ROW()","v":6266},6]
[null,null,"D17100","Energía eléctrica",1,{"$f":"ROW()","v":6267},6]
[null,null,"D17200","Gas de carbón, gas de agua, gas pobre y otros gases similares (excepto los gases de petróleo y otros hidrocarburos gaseosos)",1,{"$f":"ROW()","v":6268},6]
[null,null,"D17300","Vapor y agua caliente",1,{"$f":"ROW()","v":6269},6]
[null,null,"D17400","Nieve",1,{"$f":"ROW()","v":6270},6]
[null,null,"D21117","Carne de camellos y otros camélidos, fresca o refrigerada",1,{"$f":"ROW()","v":6271},6]
[null,null,"D21119","Otras carnes de mamíferos, frescos o refrigerados",1,{"$f":"ROW()","v":6272},6]
[null,null,"D21123","Carne de ganso, fresca o refrigerada",1,{"$f":"ROW()","v":6273},6]
[null,null,"D21125","Carne de gallina de guinea, fresca o refrigerada",1,{"$f":"ROW()","v":6274},6]
[null,null,"D21137","Carne de camellos y otros camélidos, congelada",1,{"$f":"ROW()","v":6275},6]
[null,null,"D21139","Otras carnes de mamíferos, congeladas",1,{"$f":"ROW()","v":6276},{"$f":"LEN(C6276)","v":6}]
[null,null,"D21143","Carne de ganso, congelada",1,{"$f":"ROW()","v":6277},6]
[null,null,"D21145","Carne de gallina de Guinea, congelada",1,{"$f":"ROW()","v":6278},6]
[null,null,"D21153","Despojos comestibles de ganado porcino, frescos, refrigerados o congelados",1,{"$f":"ROW()","v":6279},6]
[null,null,"D21155","Despojos comestibles de ganado ovino, frescos, refrigerados o congelados",1,{"$f":"ROW()","v":6280},6]
[null,null,"D21156","Despojos comestibles de cabra, frescos, refrigerados o congelados",1,{"$f":"ROW()","v":6281},6]
[null,null,"D21159","Despojos comestibles de mamíferos, frescos, refrigerados o congelados n.c.p.",1,{"$f":"ROW()","v":6282},6]
[null,null,"D21170","Otras carnes y despojos comestibles, frescos, refrigerados o congelados",1,{"$f":"ROW()","v":6283},6]
[null,null,"D21182","Carne de bovino, salada, seca o ahumada",1,{"$f":"ROW()","v":6284},6]
[null,null,"D21185","Extractos y jugos de carne, pescado, crustáceos, moluscos o demás invertebrados acuáticos",1,{"$f":"ROW()","v":6285},6]
[null,null,"D21211","Pescado de agua dulce, congelado",1,{"$f":"ROW()","v":6286},6]
[null,null,"D21212","Salmónidos, congelados",1,{"$f":"ROW()","v":6287},6]
[null,null,"D21213","Peces planos, congelados",1,{"$f":"ROW()","v":6288},6]
[null,null,"D21214","Peces Gadiformes, congelados",1,{"$f":"ROW()","v":6289},6]
[null,null,"D21215","Atunes, barrilete o bonito (de vientre rayado), congelado",1,{"$f":"ROW()","v":6290},6]
[null,null,"D21216","Otros peces pelágicos, congelados",1,{"$f":"ROW()","v":6291},6]
[null,null,"D21224","Filetes de pescado, secos, salados o en salmuera, sin ahumar",1,{"$f":"ROW()","v":6292},6]
[null,null,"D21225","Hígados y huevas de pescado, frescos o refrigerados",1,{"$f":"ROW()","v":6293},6]
[null,null,"D21226","Hígados y huevas de pescado, congelados",1,{"$f":"ROW()","v":6294},6]
[null,null,"D21227","Hígados y huevas de pescado, secos, ahumados, salados o en salmuera",1,{"$f":"ROW()","v":6295},6]
[null,null,"D21241","Platos y comidas preparadas a base de pescado, crustáceos y moluscos",1,{"$f":"ROW()","v":6296},6]
[null,null,"D21243","Caviar y sucedáneos de caviar",1,{"$f":"ROW()","v":6297},6]
[null,null,"D21251","Cangrejos, congelados, secos, salados o en salmuera",1,{"$f":"ROW()","v":6298},6]
[null,null,"D21252","Langostas, congeladas, secas, saladas o en salmuera",1,{"$f":"ROW()","v":6299},6]
[null,null,"D21253","Bogavantes, congelados, secos, salados o en salmuera",1,{"$f":"ROW()","v":6300},6]
[null,null,"D21254","Cigalas, congeladas, secas, saladas o en salmuera",1,{"$f":"ROW()","v":6301},6]
[null,null,"D21255","Camarones y gambas de agua fría, congelados, secos, salados o en salmuera",1,{"$f":"ROW()","v":6302},6]
[null,null,"D21261","Abulones, congelados, ahumados, secos, salados o en salmuera",1,{"$f":"ROW()","v":6303},6]
[null,null,"D21262","Ostras, congeladas, ahumadas, secas, saladas o en salmuera",1,{"$f":"ROW()","v":6304},6]
[null,null,"D21263","Mejillones, congelados, ahumados, secos, salados o en salmuera",1,{"$f":"ROW()","v":6305},6]
[null,null,"D21264","Vieiras, congeladas, ahumadas, secas, saladas o en salmuera",1,{"$f":"ROW()","v":6306},6]
[null,null,"D21265","Almejas, berberechos y arcas, congeladas, ahumadas, secas, saladas o en salmuera",1,{"$f":"ROW()","v":6307},6]
[null,null,"D21266","Sepias y calamares, congeladas, ahumadas, secas, saladas o en salmuera",1,{"$f":"ROW()","v":6308},6]
[null,null,"D21267","Pulpos, congelados, ahumados, secos, salados o en salmuera",1,{"$f":"ROW()","v":6309},6]
[null,null,"D21269","Otros invertebrados acuáticos, congelados, ahumados, secos, salados o en salmuera",1,{"$f":"ROW()","v":6310},6]
[null,null,"D21311","Fríjoles, congelados",1,{"$f":"ROW()","v":6311},6]
[null,null,"D21391","Platos y comidas preparados a base de hortalizas, legumbres, tubérculos y papas",1,{"$f":"ROW()","v":6312},6]
[null,null,"D21392","Harina, sémola, polvo, copos y gránulos de papa",1,{"$f":"ROW()","v":6313},6]
[null,null,"D21394","Papas, preparadas o conservadas de otra forma",1,{"$f":"ROW()","v":6314},6]
[null,null,"D21421","Maní sin cáscara",1,{"$f":"ROW()","v":6315},6]
[null,null,"D21422","Almendras sin cáscara",1,{"$f":"ROW()","v":6316},6]
[null,null,"D21423","Avellanas sin cáscara",1,{"$f":"ROW()","v":6317},6]
[null,null,"D21424","Nueces de marañón, sin cáscara",1,{"$f":"ROW()","v":6318},6]
[null,null,"D21431","Jugo de naranja",1,{"$f":"ROW()","v":6319},6]
[null,null,"D21432","Jugo de pomelo",1,{"$f":"ROW()","v":6320},6]
[null,null,"D21433","Jugo de piña",1,{"$f":"ROW()","v":6321},6]
[null,null,"D21434","Jugo de uva",1,{"$f":"ROW()","v":6322},6]
[null,null,"D21435","Jugo de manzana",1,{"$f":"ROW()","v":6323},6]
[null,null,"D21513","Grasa de búfalo, sin procesar",1,{"$f":"ROW()","v":6324},6]
[null,null,"D21515","Grasa de cabra, sin procesar",1,{"$f":"ROW()","v":6325},6]
[null,null,"D21519","Otras grasas animales, sin procesar n.c.p.",1,{"$f":"ROW()","v":6326},6]
[null,null,"D21521","Grasa de cerdo, procesada",1,{"$f":"ROW()","v":6327},6]
[null,null,"D21524","Aceite de hígado de pescado y sus fracciones",1,{"$f":"ROW()","v":6328},6]
[null,null,"D21673","Aceite de residuos de oliva",1,{"$f":"ROW()","v":6329},6]
[null,null,"D22219","Otras leches y crema (nata) en estado sólido n.c.p.",1,{"$f":"ROW()","v":6330},6]
[null,null,"D22229","Leche y crema (nata), n.c.p.",1,{"$f":"ROW()","v":6331},6]
[null,null,"D22242","Mantequilla y otras grasas y aceites derivados de la leche de búfala",1,{"$f":"ROW()","v":6332},6]
[null,null,"D22249","Mantequillas y otras grasas y aceites derivados de la leche de otros animales",1,{"$f":"ROW()","v":6333},6]
[null,null,"D22253","Queso de leche de oveja, fresco o procesado",1,{"$f":"ROW()","v":6334},6]
[null,null,"D22254","Queso de leche de cabra, fresco o procesado",1,{"$f":"ROW()","v":6335},6]
[null,null,"D22259","Queso, fresco o procesado, n.c.p.",1,{"$f":"ROW()","v":6336},6]
[null,null,"D22300","Huevos con cáscara, conservados o cocidos",1,{"$f":"ROW()","v":6337},6]
[null,null,"D23230","Tapioca y sus sucedáneos preparados con fécula, en forma de copos, grumos, granos, cerniduras o formas similares",1,{"$f":"ROW()","v":6338},6]
[null,null,"D23512","Azúcar de remolacha",1,{"$f":"ROW()","v":6339},6]
[null,null,"D23530","Azúcar refinada de caña o de remolacha, en estado sólido, con adición de aromatizantes y colorantes, azúcar y jarabe de arce",1,{"$f":"ROW()","v":6340},{"$f":"LEN(C6340)","v":6}]
[null,null,"D23722","Platos preparados que contengan pastas rellenas; platos preparados de cuscús",1,{"$f":"ROW()","v":6341},6]
[null,null,"D23822","Sucedáneos del café que contengan café",1,{"$f":"ROW()","v":6342},6]
[null,null,"D23823","Achicoria tostada y demás sucedáneos del café tostado y sus extractos, esencias y concentrados",1,{"$f":"ROW()","v":6343},6]
[null,null,"D23922","Ajíes y pimientos secos (capsicum spp., pimenta), procesados",1,{"$f":"ROW()","v":6344},6]
[null,null,"D23927","Jengibre, procesado",1,{"$f":"ROW()","v":6345},6]
[null,null,"D23928","Vainilla, procesada",1,{"$f":"ROW()","v":6346},6]
[null,null,"D24220","Vermut y otros vinos de uvas frescas preparados con plantas o sustancias aromáticas",1,{"$f":"ROW()","v":6347},6]
[null,null,"D26110","Seda cruda (sin torcer)",1,{"$f":"ROW()","v":6348},6]
[null,null,"D26130","Lana, desgrasada o carbonizada, sin cardar ni peinar",1,{"$f":"ROW()","v":6349},6]
[null,null,"D26140","Borras de lana o de pelos finos de animales",1,{"$f":"ROW()","v":6350},6]
[null,null,"D26310","Hilados de seda e hilados de desperdicios de seda; tripa de gusano de seda",1,{"$f":"ROW()","v":6351},6]
[null,null,"D26421","Hilados de filamentos manufacturados, múltiples o cableados (excepto hilo de coser, hilados de poliamidas de alta resistencia, poliéster o rayón viscosa), no acondicionados para la venta al por menor",1,{"$f":"ROW()","v":6352},6]
[null,null,"D26422","Hilados de filamentos manufacturados (excepto hilo de coser), acondicionados para la venta al por menor",1,{"$f":"ROW()","v":6353},6]
[null,null,"D26550","Tejidos de pelos ordinarios de animal o de crin",1,{"$f":"ROW()","v":6354},6]
[null,null,"D26750","Tejidos de fibras discontinuas artificiales, con un contenido de tales fibras igual o superior al 85% en peso",1,{"$f":"ROW()","v":6355},6]
[null,null,"D26790","Otros tejidos de fibras discontinuas manufacturadas",1,{"$f":"ROW()","v":6356},6]
[null,null,"D26830","Otros tejidos aterciopelados, de chenillas o de felpa (excepto tejidos con bucles del tipo toalla y tejidos estrechos)",1,{"$f":"ROW()","v":6357},6]
[null,null,"D26850","Otros tejidos con bucles del tipo toalla y tejidos con bucles similares de las demás materias textiles (excepto tejidos estrechos)",1,{"$f":"ROW()","v":6358},6]
[null,null,"D26880","Superficies textiles con mechón insertado (excepto las alfombras)",1,{"$f":"ROW()","v":6359},6]
[null,null,"D27170","Paracaídas",1,{"$f":"ROW()","v":6360},6]
[null,null,"D27290","Otras alfombras y recubrimiento textiles para piso (incluyendo las de fieltro)",1,{"$f":"ROW()","v":6361},6]
[null,null,"D28269","Otros tocados (excepto los elaborados en caucho o plástico, cascos de seguridad y otros tocados elaborados de asbesto); bandas para la cabeza, revestimientos, cubiertas o moldes para sombreros, marcos para sombreros, viseras y barboquejos para sombreros y demás tocados",1,{"$f":"ROW()","v":6362},6]
[null,null,"D29410","Botas de esquiar, botas para tabla de esquiar y calzado para esquiar a campo traviesa (cross country)",1,{"$f":"ROW()","v":6363},6]
[null,null,"D29420","Zapatillas de tenis, zapatillas de baloncesto, zapatillas de gimnasia, zapatillas de entrenamiento y zapatillas análogas",1,{"$f":"ROW()","v":6364},6]
[null,null,"D31109","Traviesas (durmientes) de madera para vías de ferrocarril o de tranvía sin impregnar",1,{"$f":"ROW()","v":6365},6]
[null,null,"D31220","Lana de madera; viruta de madera",1,{"$f":"ROW()","v":6366},6]
[null,null,"D31320","Durmientes (traviesas) de madera impregnada para vías de ferrocarril o tranvía",1,{"$f":"ROW()","v":6367},6]
[null,null,"D31450","Madera contrachapada, paneles de madera chapada y madera laminada similar de bambú",1,{"$f":"ROW()","v":6368},6]
[null,null,"D31520","Madera densificada (compactada)",1,{"$f":"ROW()","v":6369},6]
[null,null,"D32122","Papeles y cartones fabricados a mano (hoja a hoja)",1,{"$f":"ROW()","v":6370},6]
[null,null,"D32141","Papeles y cartones mixtos, no revestidos en la superficie ni impregnados",1,{"$f":"ROW()","v":6371},6]
[null,null,"D32195","Revestimientos textiles de paredes",1,{"$f":"ROW()","v":6372},6]
[null,null,"D32198","Bloques, planchas y placas filtrantes, de pasta de papel",1,{"$f":"ROW()","v":6373},6]
[null,null,"D32420","Periódicos, revistas y publicaciones periódicas empresariales, profesionales o académicas impresas, publicados menos de cuatro veces por semana",1,{"$f":"ROW()","v":6374},6]
[null,null,"D32511","Mapas y cartas geográficas, hidrográficas y similares (incluso mapas de pared, planos topográficos y mapas para globos), impresos (excepto en forma de libros)",1,{"$f":"ROW()","v":6375},6]
[null,null,"D32550","Planos y dibujos de arquitectura o ingeniería y otros planos y dibujos para fines industriales, comerciales y topográficos o fines similares, originales trazados a mano; textos manuscritos; reproducciones fotográficas y copias carbónicas de dichos artículos",1,{"$f":"ROW()","v":6376},6]
[null,null,"D33312","Gasolina de aviación",1,{"$f":"ROW()","v":6377},6]
[null,null,"D33421","Etileno, propileno, butileno, butadieno",1,{"$f":"ROW()","v":6378},6]
[null,null,"D33610","Uranio natural y sus componentes, aleaciones, dispersiones, productos cerámicos y mezclas que contengan uranio natural y sus compuestos",1,{"$f":"ROW()","v":6379},6]
[null,null,"D33620","Uranio enriquecido en U235 y sus componentes; plutonio y sus compuestos; aleaciones, dispersiones, productos cerámicos y mezclas que contengan uranio enriquecido en U235, plutonio o sus compuestos",1,{"$f":"ROW()","v":6380},6]
[null,null,"D33630","Uranio empobrecido en U235 y sus componentes; torio y sus compuestos; aleaciones, dispersiones, productos cerámicos y mezclas que contengan uranio empobrecido en U235, torio o sus compuestos",1,{"$f":"ROW()","v":6381},6]
[null,null,"D33690","Otros elementos radiactivos, sus isótopos y compuestos; aleaciones, dispersiones, productos cerámicos y mezclas que contengan estos elementos, isótopos o sus componentes; residuos radiactivos",1,{"$f":"ROW()","v":6382},6]
[null,null,"D33710","Elementos combustibles (cartuchos), no irradiados para reactores nucleares",1,{"$f":"ROW()","v":6383},6]
[null,null,"D33720","Elementos combustibles (cartuchos) agotados para reactores nucleares",1,{"$f":"ROW()","v":6384},6]
[null,null,"D34260","Isótopos n.c.p. y sus compuestos (incluyendo agua pesada)",1,{"$f":"ROW()","v":6385},6]
[null,null,"D34290","Compuestos metálicos de tierras raras, compuestos de itrio o escandio",1,{"$f":"ROW()","v":6386},6]
[null,null,"D34530","Piritas de hierro tostadas",1,{"$f":"ROW()","v":6387},6]
[null,null,"D34560","Piedras preciosas o semipreciosas sintéticas o reconstruidas, no trabajadas",1,{"$f":"ROW()","v":6388},6]
[null,null,"D34614","Sales dobles y mezclas de nitrato de calcio y nitrato de amonio",1,{"$f":"ROW()","v":6389},6]
[null,null,"D34615","Mezclas de nitrato de amonio con carbonato de calcio y otras sustancias inorgánicas no fertilizantes",1,{"$f":"ROW()","v":6390},6]
[null,null,"D34616","Mezclas de urea con nitrato de amonio en disolución acuosa o amoniacal",1,{"$f":"ROW()","v":6391},6]
[null,null,"D34641","Fertilizantes minerales que contienen tres nutrientes: nitrógeno, fósforo y potasio",1,{"$f":"ROW()","v":6392},6]
[null,null,"D34644","Abonos fertilizantes que contienen los nutrientes: nitrógeno y fósforo",1,{"$f":"ROW()","v":6393},6]
[null,null,"D34645","Abonos fertilizantes que contienen dos nutrientes: fósforo y potasio",1,{"$f":"ROW()","v":6394},6]
[null,null,"D34669","Otros insecticidas, fungicidas, herbicidas y desinfectantes",1,{"$f":"ROW()","v":6395},6]
[null,null,"D35240","Azúcares químicamente puros n.c.p., éteres y esteres de azúcares y sus sales n.c.p.",1,{"$f":"ROW()","v":6396},6]
[null,null,"D35470","Elementos compuestos químicos con aditivos para uso en electrónica",1,{"$f":"ROW()","v":6397},6]
[null,null,"D35550","Hilados sencillos de filamentos o fibras continuas artificiales (excepto hilo de coser e hilados múltiples, retorcidos o cableados), no acondicionados para la venta al por menor",1,{"$f":"ROW()","v":6398},6]
[null,null,"D36250","Tejidos encauchados (excepto tejidos de cuerdas de llantas)",1,{"$f":"ROW()","v":6399},6]
[null,null,"D37310","Ladrillos, bloques, baldosas y artículos similares de cerámica refractaria de tierras silíceas",1,{"$f":"ROW()","v":6400},6]
[null,null,"D37520","Tableros, bloques y artículos similares de fibra vegetal, de paja o de desperdicios de madera aglomerados con aglutinantes minerales",1,{"$f":"ROW()","v":6401},6]
[null,null,"D37930","Artículos de asfalto o similares",1,{"$f":"ROW()","v":6402},6]
[null,null,"D38114","Asientos para ferrocarriles",1,{"$f":"ROW()","v":6403},6]
[null,null,"D38115","Asientos para aeronaves",1,{"$f":"ROW()","v":6404},{"$f":"LEN(C6404)","v":6}]
[null,null,"D38211","Perlas finas naturales, sin elaborar",1,{"$f":"ROW()","v":6405},6]
[null,null,"D38212","Perlas finas de cultivo, sin elaborar",1,{"$f":"ROW()","v":6406},6]
[null,null,"D38340","Instrumentos musicales cuyo sonido se produce o debe amplificarse eléctricamente",1,{"$f":"ROW()","v":6407},6]
[null,null,"D38540","Trenes eléctricos de juguete y vías, señales y demás accesorios para estos trenes; maquetas para montar de tamaño reducido «a escala» y otros juegos de construcción y juguetes para armar",1,{"$f":"ROW()","v":6408},6]
[null,null,"D38581","Consolas de videojuegos",1,{"$f":"ROW()","v":6409},6]
[null,null,"D38582","Tarjetas de software para las consolas de videojuegos",1,{"$f":"ROW()","v":6410},6]
[null,null,"D38703","Construcciones prefabricadas de plástico",1,{"$f":"ROW()","v":6411},6]
[null,null,"D38925","Látigos, fustas y artículos similares",1,{"$f":"ROW()","v":6412},6]
[null,null,"D38941","Placas, películas, papeles, cartulinas y tejidos fotográficos, impresionados pero sin revelar",1,{"$f":"ROW()","v":6413},6]
[null,null,"D38942","Placas y películas fotográficas impresionadas y reveladas (excepto películas cinematográficas)",1,{"$f":"ROW()","v":6414},6]
[null,null,"D38950","Películas cinematográficas impresionadas y reveladas, con o sin registro de sonido o que se compongan solo de la pista de sonido",1,{"$f":"ROW()","v":6415},6]
[null,null,"D38962","Sellos de correos o timbres fiscales; matasellos postales, portadas de primer día de impresión, sobres postales con franqueo impreso y similar",1,{"$f":"ROW()","v":6416},6]
[null,null,"D38963","Colecciones de piezas de zoología, botánica, mineralogía, anatomía, historia, etnografía o de interés numismático; antigüedades",1,{"$f":"ROW()","v":6417},6]
[null,null,"D38971","Cabello humano en bruto, esté o no lavado o desgrasado; desperdicios de cabello humano",1,{"$f":"ROW()","v":6418},6]
[null,null,"D38995","Partes y piezas de encendedores de cigarrillos y otros encendedores (excepto piedras y mechas); aleaciones pirofóricas; artículos de materiales combustibles n.c.p.",1,{"$f":"ROW()","v":6419},6]
[null,null,"D38996","Instrumentos, aparatos y modelos diseñados para demostraciones (no aptos para otros usos)",1,{"$f":"ROW()","v":6420},6]
[null,null,"D39130","Residuos de la fabricación de almidón y residuos similares",1,{"$f":"ROW()","v":6421},6]
[null,null,"D39160","Heces y desperdicios de cervecería o destilería",1,{"$f":"ROW()","v":6422},6]
[null,null,"D39170","Heces de vino; tártaro bruto",1,{"$f":"ROW()","v":6423},6]
[null,null,"D39180","Desechos de tabaco",1,{"$f":"ROW()","v":6424},6]
[null,null,"D39211","Desperdicios de seda, sin cardar ni peinar",1,{"$f":"ROW()","v":6425},6]
[null,null,"D39217","Ropa vieja y otros artículos textiles viejos",1,{"$f":"ROW()","v":6426},6]
[null,null,"D39282","Desperdicios de madera aglomerada y desechos en pellets o formas similares",1,{"$f":"ROW()","v":6427},6]
[null,null,"D39283","Desperdicios y desechos de madera no aglomerada",1,{"$f":"ROW()","v":6428},6]
[null,null,"D39331","Limaduras y desechos de oro o de metales revestidos con oro",1,{"$f":"ROW()","v":6429},6]
[null,null,"D39333","Cenizas que contengan metales preciosos o compuestos metálicos",1,{"$f":"ROW()","v":6430},6]
[null,null,"D39350","Lingotes refundidos de hierro o acero",1,{"$f":"ROW()","v":6431},6]
[null,null,"D39362","Desperdicios y desechos de níquel",1,{"$f":"ROW()","v":6432},6]
[null,null,"D39366","Desperdicios y desechos de estaño",1,{"$f":"ROW()","v":6433},6]
[null,null,"D39367","Desperdicios y desechos de tungsteno, molibdeno, tantalio, magnesio, cobalto, cadmio, titanio, circonio, berilio y talio",1,{"$f":"ROW()","v":6434},6]
[null,null,"D39368","Desperdicios y desechos de antimonio y cromo",1,{"$f":"ROW()","v":6435},6]
[null,null,"D39370","Embarcaciones y otras estructuras flotantes destinadas al desguace",1,{"$f":"ROW()","v":6436},6]
[null,null,"D39910","Desechos municipales",1,{"$f":"ROW()","v":6437},6]
[null,null,"D39920","Fangos de alcantarilla",1,{"$f":"ROW()","v":6438},6]
[null,null,"D39931","Desechos farmacéuticos",1,{"$f":"ROW()","v":6439},6]
[null,null,"D39939","Otros desechos clínicos",1,{"$f":"ROW()","v":6440},6]
[null,null,"D39940","Solventes orgánicos de desechos",1,{"$f":"ROW()","v":6441},6]
[null,null,"D39950","Desechos de las industrias químicas u otras industrias conexas",1,{"$f":"ROW()","v":6442},6]
[null,null,"D41224","Productos laminados planos de acero aleado (excepto productos de acero magnético al silicio o de acero de alta velocidad), sin otra elaboración que el laminado en frío, de un ancho inferior a 600 mm",1,{"$f":"ROW()","v":6443},6]
[null,null,"D41232","Productos laminados planos de acero inoxidable, con tratamiento posterior",1,{"$f":"ROW()","v":6444},6]
[null,null,"D41239","Otros productos laminados planos de acero de aleación con tratamiento posterior n.c.p.",1,{"$f":"ROW()","v":6445},6]
[null,null,"D41243","Barras, varillas, alambrones, laminadas en caliente, enrolladas irregularmente, de acero aleado",1,{"$f":"ROW()","v":6446},6]
[null,null,"D41252","Tablestacas de hierro o acero; ángulos, perfiles y secciones soldados, de hierro o acero",1,{"$f":"ROW()","v":6447},6]
[null,null,"D41264","Barras y varillas formadas o acabadas en frío, de acero aleado (excepto barras o varillas de acero de alta velocidad o de acero al silicomanganeso)",1,{"$f":"ROW()","v":6448},6]
[null,null,"D41267","Alambre de aceros aleados",1,{"$f":"ROW()","v":6449},6]
[null,null,"D41271","Barras y varillas de acero de alta velocidad",1,{"$f":"ROW()","v":6450},6]
[null,null,"D41272","Barras y varillas de acero al siliciomanganeso",1,{"$f":"ROW()","v":6451},6]
[null,null,"D41273","Barras y varillas huecas para perforación de acero",1,{"$f":"ROW()","v":6452},6]
[null,null,"D41285","Tubería del tipo utilizado para oleoductos o gasoductos de acero, con costura (soldados), (excepto de fundición)",1,{"$f":"ROW()","v":6453},6]
[null,null,"D41286","Tubería de revestimiento y tubos de perforación del tipo utilizado en la extracción de petróleo o gas de acero, con costura (soldados), (excepto de fundición)",1,{"$f":"ROW()","v":6454},6]
[null,null,"D41288","Tubos y caños de sección no circular en hierro o acero, con costura (soldados), (excepto de fundición)",1,{"$f":"ROW()","v":6455},6]
[null,null,"D41289","Otros tubos, caños y perfiles huecos, tales como, los de costura abierta, remachados, o cerrados (excepto de fundición)",1,{"$f":"ROW()","v":6456},6]
[null,null,"D41340","Metales comunes o plata, revestidos o chapados con oro, sin otra elaboración que el semilabrado",1,{"$f":"ROW()","v":6457},6]
[null,null,"D41350","Metales comunes revestidos en plata, y metales comunes, plata u oro revestido en platino, sin otra elaboración que semilabrados",1,{"$f":"ROW()","v":6458},6]
[null,null,"D41411","Matas de cobre; cobre de cementación",1,{"$f":"ROW()","v":6459},6]
[null,null,"D41412","Cobre sin refinar; ánodos de cobre para la refinación electrolítica",1,{"$f":"ROW()","v":6460},6]
[null,null,"D41421","Matas de níquel, productos sinterizados de óxido de níquel y otros productos intermedios de la metalurgia del níquel",1,{"$f":"ROW()","v":6461},6]
[null,null,"D42310","Reactores nucleares",1,{"$f":"ROW()","v":6462},6]
[null,null,"D42341","Partes y piezas para los productos de la clase 4231",1,{"$f":"ROW()","v":6463},6]
[null,null,"D42998","Hélices para buques y sus palas",1,{"$f":"ROW()","v":6464},6]
[null,null,"D43134","Artefactos de lanzamiento de aeronaves; dispositivos de frenado sobre cubierta o con mecanismos análogos; aparatos de entrenamiento de vuelo en tierra",1,{"$f":"ROW()","v":6465},6]
[null,null,"D43155","Partes y piezas de turborreactores y turbohélices",1,{"$f":"ROW()","v":6466},6]
[null,null,"D43156","Partes y piezas de los productos de la subclase 43143",1,{"$f":"ROW()","v":6467},6]
[null,null,"D43211","Máquinas y motores hidráulicos con movimiento rectilíneo (cilindros); y de potencia neumática",1,{"$f":"ROW()","v":6468},{"$f":"LEN(C6468)","v":6}]
[null,null,"D43422","Hornos de laboratorios dentales",1,{"$f":"ROW()","v":6469},6]
[null,null,"D43933","Calandrias y otras máquinas laminadoras (excepto para metales o vidrio)",1,{"$f":"ROW()","v":6470},6]
[null,null,"D43935","Máquinas lavavajillas (excepto las de tipo doméstico)",1,{"$f":"ROW()","v":6471},6]
[null,null,"D44124","Otras máquinas para henificar",1,{"$f":"ROW()","v":6472},6]
[null,null,"D44125","Prensas o enfarfadoras para paja o forraje, incluidas las prensas recogedoras de paja",1,{"$f":"ROW()","v":6473},6]
[null,null,"D44126","Máquinas para cosechar raíces y tubérculos",1,{"$f":"ROW()","v":6474},6]
[null,null,"D44138","Partes de máquinas para ordeñar n.c.p.",1,{"$f":"ROW()","v":6475},6]
[null,null,"D44139","Partes y piezas de máquinas para la industria lechera n.c.p.",1,{"$f":"ROW()","v":6476},6]
[null,null,"D44160","Remolques y semirremolques de carga y descarga automática para usos agrícolas",1,{"$f":"ROW()","v":6477},6]
[null,null,"D44192","Maquinaria para la preparación de alimentos o piensos para animales",1,{"$f":"ROW()","v":6478},6]
[null,null,"D44211","Máquinas herramientas para el trabajo de materiales por remoción de material mediante rayos láser u otros haces de luz o de fotones, por ultrasonido, electroerosión, procesos electroquímicos, haz de electrones, haz iónico o chorro de plasma",1,{"$f":"ROW()","v":6479},6]
[null,null,"D44215","Máquinas herramientas para roscado interior o exterior por remoción de metal (excepto tornos y máquinas de cabezal del tipo intermedio)",1,{"$f":"ROW()","v":6480},6]
[null,null,"D44253","Partes y piezas para los productos de las subclases 44231 y 44232",1,{"$f":"ROW()","v":6481},6]
[null,null,"D44256","Partes y piezas para los productos de la subclase 44242",1,{"$f":"ROW()","v":6482},6]
[null,null,"D44411","Elevadores y transportadores de acción continua para mercancías o materiales, diseñados especialmente para uso subterráneo",1,{"$f":"ROW()","v":6483},6]
[null,null,"D44421","Topadoras frontales («bulldozers») y topadoras angulares («angledozers»), autopropulsadas",1,{"$f":"ROW()","v":6484},6]
[null,null,"D44422","Conformadoras y niveladoras, autopropulsadas",1,{"$f":"ROW()","v":6485},6]
[null,null,"D44423","Traíllas o raedoras, autopropulsadas",1,{"$f":"ROW()","v":6486},6]
[null,null,"D44424","Máquinas apisonadoras y aplanadoras de caminos (compactadoras), autopropulsadas",1,{"$f":"ROW()","v":6487},6]
[null,null,"D44429","Hojas de topadoras frontales («bulldozers») o de topadoras angulares («angledozers»)",1,{"$f":"ROW()","v":6488},6]
[null,null,"D44614","Maquinaria auxiliar para utilizar con máquinas para la extrusión, la preparación, el hilado o el tejido de fibras textiles, con máquinas para hacer tejido de punto o con máquinas análogas",1,{"$f":"ROW()","v":6489},6]
[null,null,"D44710","Tanques y otros vehículos blindados de combate, motorizados, y sus partes y piezas",1,{"$f":"ROW()","v":6490},6]
[null,null,"D44750","Sables, espadas, bayonetas, lanzas y armas análogas, sus partes y piezas y sus fundas y vainas blancas",1,{"$f":"ROW()","v":6491},6]
[null,null,"D44813","Mantas eléctricas",1,{"$f":"ROW()","v":6492},6]
[null,null,"D44818","Resistencias eléctricas calentadoras (excepto de carbón)",1,{"$f":"ROW()","v":6493},6]
[null,null,"D44823","Radiadores para calefacción central, de calentamiento no eléctrico, de hierro o acero",1,{"$f":"ROW()","v":6494},6]
[null,null,"D44824","Calentadores de aire y distribuidores de aire caliente, de calentamiento no eléctrico, con ventilador o soplador accionado mediante un motor; de hierro o acero",1,{"$f":"ROW()","v":6495},6]
[null,null,"D44833","Partes y piezas de calderas para calefacción central capaces de producir agua caliente o vapor de agua a baja presión",1,{"$f":"ROW()","v":6496},6]
[null,null,"D44918","Máquinas y aparatos utilizados, exclusiva o principalmente para la fabricación de semiconductores en forma de mono cristales periformes u obleas, dispositivos semiconductores, circuitos electrónicos integrados o dispositivos de visualización de pantalla plana",1,{"$f":"ROW()","v":6497},6]
[null,null,"D44923","Partes y piezas de los productos de la subclase 44918",1,{"$f":"ROW()","v":6498},6]
[null,null,"D45150","Máquinas de oficina, impresoras, offset, de alimentación con papel en hojas",1,{"$f":"ROW()","v":6499},6]
[null,null,"D45221","Máquinas portátiles de procesamiento automático de datos que no pesen más de 10 kg, como computadores portátiles (laptop y notebook)",1,{"$f":"ROW()","v":6500},6]
[null,null,"D45222","Asistentes digitales personales (PDA) y computadores de bolsillo similares",1,{"$f":"ROW()","v":6501},6]
[null,null,"D45250","Otras máquinas de procesamiento automático de datos que contengan o no una o dos de las siguientes tipos de unidades: unidades de almacenamiento, unidades de entrada, unidades de salida",1,{"$f":"ROW()","v":6502},6]
[null,null,"D45262","Escáneres (excepto la combinación de impresora, escáner, fotocopiadora y/o fax)",1,{"$f":"ROW()","v":6503},6]
[null,null,"D45263","Impresoras de inyección de tinta para máquinas de procesamiento de datos",1,{"$f":"ROW()","v":6504},6]
[null,null,"D45264","Impresoras láser para máquinas de procesamiento de datos",1,{"$f":"ROW()","v":6505},6]
[null,null,"D45265","Otras impresoras para máquinas procesadoras de datos",1,{"$f":"ROW()","v":6506},6]
[null,null,"D45269","Otros dispositivos periféricos de entrada o salida",1,{"$f":"ROW()","v":6507},6]
[null,null,"D45271","Unidades fijas de almacenamiento",1,{"$f":"ROW()","v":6508},6]
[null,null,"D45272","Unidades removibles de almacenamiento",1,{"$f":"ROW()","v":6509},6]
[null,null,"D45281","Tarjetas de sonido, de video, de red y tarjetas similares para máquinas de procesamiento automático de datos",1,{"$f":"ROW()","v":6510},6]
[null,null,"D45289","Otras máquinas para el procesamiento automático de datos",1,{"$f":"ROW()","v":6511},6]
[null,null,"D46215","Conectores para fibra óptica, haces de fibra óptica o cables",1,{"$f":"ROW()","v":6512},6]
[null,null,"D46310","Hilo aislado para bobinado",1,{"$f":"ROW()","v":6513},6]
[null,null,"D46921","Alarmas antirrobos o contra incendio y aparatos similares",1,{"$f":"ROW()","v":6514},6]
[null,null,"D46962","Partes y piezas de la subclase 46912",1,{"$f":"ROW()","v":6515},6]
[null,null,"D46963","Partes y piezas de la subclase 46921",1,{"$f":"ROW()","v":6516},6]
[null,null,"D47171","Partes y piezas de los productos de la subclase 47111",1,{"$f":"ROW()","v":6517},6]
[null,null,"D47172","Partes y piezas para los productos de la subclase 47121, resistencias eléctricas (excepto resistencias calentadoras)",1,{"$f":"ROW()","v":6518},6]
[null,null,"D47213","Cámaras de televisión",1,{"$f":"ROW()","v":6519},6]
[null,null,"D47214","Cámaras de video",1,{"$f":"ROW()","v":6520},6]
[null,null,"D47215","Cámaras digitales",1,{"$f":"ROW()","v":6521},6]
[null,null,"D47221","Teléfonos de auriculares inalámbricos para líneas fijas",1,{"$f":"ROW()","v":6522},6]
[null,null,"D47222","Teléfonos para redes celulares o para otras redes inalámbricas",1,{"$f":"ROW()","v":6523},6]
[null,null,"D47312","Radiorreceptores que funcionan con una fuente externa de energía, como los utilizados en vehículos automotores",1,{"$f":"ROW()","v":6524},6]
[null,null,"D47405","Partes y piezas para los productos de la subclase 47315",1,{"$f":"ROW()","v":6525},6]
[null,null,"D47406","Partes y piezas para los productos de la subclase 48220",1,{"$f":"ROW()","v":6526},6]
[null,null,"D47550","Dispositivos de almacenamiento permanente de estado sólido",1,{"$f":"ROW()","v":6527},6]
[null,null,"D47590","Otros medios de grabación, incluyendo discos matrices y másters para la producción de discos",1,{"$f":"ROW()","v":6528},6]
[null,null,"D47691","Audiolibros en discos, cintas u otros medios magnéticos físicos",1,{"$f":"ROW()","v":6529},6]
[null,null,"D47692","Textos almacenados en discos, cintas y otros medios magnéticos físicos",1,{"$f":"ROW()","v":6530},6]
[null,null,"D47693","Directorios y listas de correo almacenados en discos, cintas y otros medios magnéticos físicos",1,{"$f":"ROW()","v":6531},6]
[null,null,"D47694","Periódicos, revistas y otras publicaciones periódicas almacenados en discos, cintas y otros medios físicos, incluso (pantalla electrónica, entre otros)",1,{"$f":"ROW()","v":6532},{"$f":"LEN(C6532)","v":6}]
[null,null,"D47699","Otros discos y cintas de audio no musicales",1,{"$f":"ROW()","v":6533},6]
[null,null,"D47811","Paquetes de sistemas operativos",1,{"$f":"ROW()","v":6534},6]
[null,null,"D47812","Paquetes de software de redes",1,{"$f":"ROW()","v":6535},6]
[null,null,"D47813","Paquetes de software de administración de bases de datos",1,{"$f":"ROW()","v":6536},6]
[null,null,"D47814","Paquetes de software de herramientas de desarrollo y lenguajes de programación",1,{"$f":"ROW()","v":6537},6]
[null,null,"D47821","Paquetes de aplicaciones de productividad general de empresas y de uso doméstico",1,{"$f":"ROW()","v":6538},6]
[null,null,"D47822","Paquetes de software para juegos de computador",1,{"$f":"ROW()","v":6539},6]
[null,null,"D47829","Paquetes de software de otras aplicaciones",1,{"$f":"ROW()","v":6540},6]
[null,null,"D47920","Tarjetas inteligentes o tarjetas con chip",1,{"$f":"ROW()","v":6541},6]
[null,null,"D48110","Aparatos basados en el uso de rayos X o radiaciones alfa, beta o gama",1,{"$f":"ROW()","v":6542},6]
[null,null,"D48121","Aparatos de electrodiagnóstico utilizados en medicina, cirugía, odontología o veterinaria",1,{"$f":"ROW()","v":6543},6]
[null,null,"D48122","Aparatos de rayos ultravioleta o infrarrojos utilizados en medicina, cirugía, odontología o veterinaria",1,{"$f":"ROW()","v":6544},6]
[null,null,"D48140","Esterilizadores medicoquirúrgicos o de laboratorio",1,{"$f":"ROW()","v":6545},6]
[null,null,"D48241","Instrumentos y aparatos para medir o detectar radiaciones ionizantes",1,{"$f":"ROW()","v":6546},6]
[null,null,"D48243","Instrumentos y aparatos (excepto osciloscopios y oscilógrafos de rayos catódicos) para medir o verificar voltaje, corriente, resistencia o potencia, sin dispositivo de registro (excepto medidores de suministro o de producción de electricidad)",1,{"$f":"ROW()","v":6547},6]
[null,null,"D48261","Microscopios (excepto microscopios ópticos) y aparatos de difracción",1,{"$f":"ROW()","v":6548},6]
[null,null,"D48285","Partes, piezas y accesorios para los productos de la subclase 48262",1,{"$f":"ROW()","v":6549},6]
[null,null,"D48311","Fibra óptica y manojos de fibra óptica; cables de fibra óptica (excepto los elaborados en fundas de protección individual); hojas y placas de material polarizador; lentes, prismas, espejos y otros elementos ópticos (excepto el vidrio no trabajado ópticamente) con o sin montura (diferentes de los de las cámaras, proyectores o equipo de ampliación o reducción fotográfica)",1,{"$f":"ROW()","v":6550},6]
[null,null,"D48321","Lentes objetivos para cámaras, proyectores o ampliadores o reductores fotográficos",1,{"$f":"ROW()","v":6551},6]
[null,null,"D48330","Lectores de microfilmes, microfichas u otras microformas",1,{"$f":"ROW()","v":6552},6]
[null,null,"D48351","Partes, piezas y accesorios para los productos de la subclase 48314",1,{"$f":"ROW()","v":6553},6]
[null,null,"D49115","Camiones grúas",1,{"$f":"ROW()","v":6554},6]
[null,null,"D49116","Vehículos automotores, para el transporte de personas, diseñados especialmente para transitar sobre nieve; vehículos para campos de golf y otros vehículos análogos",1,{"$f":"ROW()","v":6555},6]
[null,null,"D49222","Remolques y semirremolques para viviendas o para acampar",1,{"$f":"ROW()","v":6556},6]
[null,null,"D49313","Buques refrigerados (excepto buques cisterna)",1,{"$f":"ROW()","v":6557},6]
[null,null,"D49320","Plataformas flotantes o sumergibles de perforación o producción",1,{"$f":"ROW()","v":6558},6]
[null,null,"D49410","Embarcaciones de vela no inflables, con motor auxiliar o sin él",1,{"$f":"ROW()","v":6559},6]
[null,null,"D49512","Locomotoras diésel-eléctricas",1,{"$f":"ROW()","v":6560},6]
[null,null,"D49519","Otras locomotoras de ferrocarril; ténderes",1,{"$f":"ROW()","v":6561},6]
[null,null,"D49610","Globos y dirigibles; planeadores, alas delta y otras aeronaves sin propulsión mecánica",1,{"$f":"ROW()","v":6562},6]
[null,null,"D49623","Aviones y otras aeronaves con propulsión mecánica de más de 2.000 kg de peso propio",1,{"$f":"ROW()","v":6563},6]
[null,null,"D49630","Naves espaciales y vehículos de lanzamiento de naves espaciales",1,{"$f":"ROW()","v":6564},6]
[null,null,"D49911","Motocicletas y velocípedos provistos de motor auxiliar, con motor de émbolo de movimiento alternativo de hasta 50 cm3 de cilindrada",1,{"$f":"ROW()","v":6565},6]
[null,null,"D49913","Motocicletas y velocípedos provistos de motor auxiliar (excepto motocicletas y velocípedos con motor de émbolo de movimiento alternativo); sidecares (motocicletas con vehículos laterales)",1,{"$f":"ROW()","v":6566},6]
[null,null,"D53111","Edificios residenciales de una y dos viviendas",1,{"$f":"ROW()","v":6567},6]
[null,null,"D53112","Edificios de viviendas múltiples",1,{"$f":"ROW()","v":6568},6]
[null,null,"D53121","Edificios industriales",1,{"$f":"ROW()","v":6569},6]
[null,null,"D53122","Edificios comerciales",1,{"$f":"ROW()","v":6570},6]
[null,null,"D53129","Otros edificios no residenciales",1,{"$f":"ROW()","v":6571},6]
[null,null,"D53211","Carreteras (excepto carreteras elevadas); calles",1,{"$f":"ROW()","v":6572},6]
[null,null,"D53212","Ferrocarriles",1,{"$f":"ROW()","v":6573},6]
[null,null,"D53213","Pistas de aterrizaje",1,{"$f":"ROW()","v":6574},6]
[null,null,"D53221","Puentes y carreteras elevadas",1,{"$f":"ROW()","v":6575},6]
[null,null,"D53222","Túneles",1,{"$f":"ROW()","v":6576},6]
[null,null,"D53231","Acueductos y otros conductos de suministro de agua, excepto gasoductos",1,{"$f":"ROW()","v":6577},6]
[null,null,"D53232","Puertos, vías navegables e instalaciones conexas",1,{"$f":"ROW()","v":6578},6]
[null,null,"D53233","Represas",1,{"$f":"ROW()","v":6579},6]
[null,null,"D53234","Sistemas de riego y obras hidráulicas de control de inundaciones",1,{"$f":"ROW()","v":6580},6]
[null,null,"D53241","Tuberías de larga distancia",1,{"$f":"ROW()","v":6581},6]
[null,null,"D53242","Obras para la comunicación de larga distancia y las líneas eléctricas (cables)",1,{"$f":"ROW()","v":6582},6]
[null,null,"D53251","Gasoductos locales",1,{"$f":"ROW()","v":6583},6]
[null,null,"D53252","Cables locales y obras conexas",1,{"$f":"ROW()","v":6584},6]
[null,null,"D53253","Alcantarillado y plantas de tratamiento de agua",1,{"$f":"ROW()","v":6585},6]
[null,null,"D53261","Construcciones en minas",1,{"$f":"ROW()","v":6586},6]
[null,null,"D53262","Centrales eléctricas",1,{"$f":"ROW()","v":6587},6]
[null,null,"D53269","Otras plantas industriales",1,{"$f":"ROW()","v":6588},6]
[null,null,"D54111","Servicios generales de construcción de edificaciones de una y dos viviendas",1,{"$f":"ROW()","v":6589},6]
[null,null,"D54112","Servicios generales de construcción de complejos habitacionales, edificios de viviendas",1,{"$f":"ROW()","v":6590},6]
[null,null,"D54121","Servicios generales de construcción de edificaciones industriales",1,{"$f":"ROW()","v":6591},6]
[null,null,"D54122","Servicios generales de construcción de edificaciones comerciales",1,{"$f":"ROW()","v":6592},6]
[null,null,"D54129","Servicios generales de construcción de otros edificios no residenciales",1,{"$f":"ROW()","v":6593},6]
[null,null,"D54211","Servicios generales de construcción de carreteras (excepto carreteras elevadas), calles",1,{"$f":"ROW()","v":6594},6]
[null,null,"D54212","Servicios generales de construcción de ferrocarriles",1,{"$f":"ROW()","v":6595},6]
[null,null,"D54213","Servicios generales de construcción de pistas de aterrizaje",1,{"$f":"ROW()","v":6596},{"$f":"LEN(C6596)","v":6}]
[null,null,"D54221","Servicios generales de construcción de puentes y carreteras elevadas",1,{"$f":"ROW()","v":6597},6]
[null,null,"D54222","Servicios generales de construcción de túneles",1,{"$f":"ROW()","v":6598},6]
[null,null,"D54231","Servicios generales de construcción de acueductos y otros conductos de suministro de agua, excepto gasoductos",1,{"$f":"ROW()","v":6599},6]
[null,null,"D54232","Servicios generales de construcción de puertos, vías navegables e instalaciones conexas",1,{"$f":"ROW()","v":6600},6]
[null,null,"D54233","Servicios generales de construcción de represas",1,{"$f":"ROW()","v":6601},6]
[null,null,"D54234","Servicios generales de construcción de sistemas de riego y obras hidráulicas de control de inundaciones",1,{"$f":"ROW()","v":6602},6]
[null,null,"D54241","Servicios generales de construcción de tuberías de larga distancia",1,{"$f":"ROW()","v":6603},6]
[null,null,"D54242","Servicios generales de construcción de las obras para la comunicación de larga distancia y las líneas eléctricas (cables)",1,{"$f":"ROW()","v":6604},6]
[null,null,"D54251","Servicios generales de construcción de gasoductos locales",1,{"$f":"ROW()","v":6605},6]
[null,null,"D54252","Servicios generales de construcción de cables locales y obras conexas",1,{"$f":"ROW()","v":6606},6]
[null,null,"D54253","Servicios generales de construcción de alcantarillado y plantas de tratamiento de agua",1,{"$f":"ROW()","v":6607},6]
[null,null,"D54261","Servicios generales de construcción en minas",1,{"$f":"ROW()","v":6608},6]
[null,null,"D54262","Servicios generales de construcción de centrales eléctricas",1,{"$f":"ROW()","v":6609},6]
[null,null,"D54269","Servicios generales de construcción de otras plantas industriales",1,{"$f":"ROW()","v":6610},6]
[null,null,"D54341","Servicios de perforación de pozos de agua",1,{"$f":"ROW()","v":6611},6]
[null,null,"D54342","Servicios de instalación de sistemas sépticos",1,{"$f":"ROW()","v":6612},6]
[null,null,"D54511","Servicios de hincado de pilotes",1,{"$f":"ROW()","v":6613},6]
[null,null,"D54512","Servicios de cimentación",1,{"$f":"ROW()","v":6614},6]
[null,null,"D54521","Servicios de estructuración de edificios",1,{"$f":"ROW()","v":6615},6]
[null,null,"D54522","Servicios de estructuración de techos",1,{"$f":"ROW()","v":6616},6]
[null,null,"D54611","Servicios de instalación de cables y otros dispositivos eléctricos",1,{"$f":"ROW()","v":6617},6]
[null,null,"D54612","Servicios de instalación de alarmas contra incendios",1,{"$f":"ROW()","v":6618},6]
[null,null,"D54613","Servicios de instalación de alarmas antirrobo",1,{"$f":"ROW()","v":6619},6]
[null,null,"D54614","Servicios de instalación de antenas para edificios residenciales",1,{"$f":"ROW()","v":6620},6]
[null,null,"D54619","Otros servicios de instalaciones eléctricas",1,{"$f":"ROW()","v":6621},6]
[null,null,"D54621","Servicios de fontanería y plomería",1,{"$f":"ROW()","v":6622},6]
[null,null,"D54622","Servicios de construcción de drenajes",1,{"$f":"ROW()","v":6623},6]
[null,null,"D54631","Servicios de instalación de calefacción",1,{"$f":"ROW()","v":6624},6]
[null,null,"D54632","Servicios de instalación de ventilación y aire acondicionado",1,{"$f":"ROW()","v":6625},6]
[null,null,"D54691","Servicios de instalación de ascensores y escaleras mecánicas",1,{"$f":"ROW()","v":6626},6]
[null,null,"D54699","Otros servicios de instalación n.c.p.",1,{"$f":"ROW()","v":6627},6]
[null,null,"D61111","Comercio al por mayor (excepto el realizado a cambio de una retribución o por contrata) de cereal (granos), semillas y frutos oleaginosos y forrajes para animales",1,{"$f":"ROW()","v":6628},6]
[null,null,"D61112","Comercio al por mayor (excepto el realizado a cambio de una retribución o por contrata) de flores y plantas",1,{"$f":"ROW()","v":6629},6]
[null,null,"D61113","Comercio al por mayor (excepto el realizado a cambio de una retribución o por contrata) de tabaco sin procesar",1,{"$f":"ROW()","v":6630},6]
[null,null,"D61114","Comercio al por mayor (excepto el realizado a cambio de una retribución o por contrata) de animales vivos, incluidas las mascotas",1,{"$f":"ROW()","v":6631},6]
[null,null,"D61115","Comercio al por mayor (excepto el realizado a cambio de una retribución o por contrata) de pieles y cueros sin curtir",1,{"$f":"ROW()","v":6632},6]
[null,null,"D61119","Comercio al por mayor (excepto el realizado a cambio de una retribución o por contrata) de productos de origen agropecuario n.c.p.",1,{"$f":"ROW()","v":6633},6]
[null,null,"D61121","Comercio al por mayor (excepto el realizado a cambio de una retribución o por contrata) de frutas, legumbres y hortalizas",1,{"$f":"ROW()","v":6634},6]
[null,null,"D61122","Comercio al por mayor (excepto el realizado a cambio de una retribución o por contrata) de productos lácteos, huevos, aceites y grasas comestibles",1,{"$f":"ROW()","v":6635},6]
[null,null,"D61123","Comercio al por mayor (excepto el realizado a cambio de una retribución o por contrata) de carnes, carne de aves y productos de la caza",1,{"$f":"ROW()","v":6636},6]
[null,null,"D61124","Comercio al por mayor (excepto el realizado a cambio de una retribución o por contrata) de pescado y otros productos de mar",1,{"$f":"ROW()","v":6637},6]
[null,null,"D61125","Comercio al por mayor (excepto el realizado a cambio de una retribución o por contrata) de productos de confitería y panadería",1,{"$f":"ROW()","v":6638},6]
[null,null,"D61126","Comercio al por mayor (excepto el realizado a cambio de una retribución o por contrata) de bebidas",1,{"$f":"ROW()","v":6639},6]
[null,null,"D61127","Comercio al por mayor (excepto el realizado a cambio de una retribución o por contrata) de café, té y otras especias",1,{"$f":"ROW()","v":6640},6]
[null,null,"D61128","Comercio al por mayor (excepto el realizado a cambio de una retribución o por contrata) de productos de tabaco",1,{"$f":"ROW()","v":6641},6]
[null,null,"D61129","Comercio al por mayor (excepto el realizado a cambio de una retribución o por contrata) de productos alimenticios n.c.p.",1,{"$f":"ROW()","v":6642},6]
[null,null,"D61131","Comercio al por mayor (excepto el realizado a cambio de una retribución o por contrata) de hilo, telas y tejidos",1,{"$f":"ROW()","v":6643},6]
[null,null,"D61132","Comercio al por mayor (excepto el realizado a cambio de una retribución o por contrata) de lencería, cortinas, visillos y diversos artículos confeccionados con materiales textiles para el hogar",1,{"$f":"ROW()","v":6644},6]
[null,null,"D61133","Comercio al por mayor (excepto el realizado a cambio de una retribución o por contrata) de prendas de vestir, artículos de piel y accesorios de vestir",1,{"$f":"ROW()","v":6645},6]
[null,null,"D61134","Comercio al por mayor (excepto el realizado a cambio de una retribución o por contrata) de calzado",1,{"$f":"ROW()","v":6646},6]
[null,null,"D61141","Comercio al por mayor (excepto el realizado a cambio de una retribución o por contrata) de muebles de uso doméstico",1,{"$f":"ROW()","v":6647},6]
[null,null,"D61142","Comercio al por mayor (excepto el realizado a cambio de una retribución o por contrata) de equipo de radio y televisión, y aparatos para la reproducción o grabado de sonido",1,{"$f":"ROW()","v":6648},6]
[null,null,"D61143","Comercio al por mayor (excepto el realizado a cambio de una retribución o por contrata) de artículos para iluminación",1,{"$f":"ROW()","v":6649},6]
[null,null,"D61144","Comercio al por mayor (excepto el realizado a cambio de una retribución o por contrata) de electrodomésticos (diferentes de televisión, radio y/o de aparatos para la reproducción o grabación de sonido) y gasodomésticos",1,{"$f":"ROW()","v":6650},6]
[null,null,"D61145","Comercio al por mayor (excepto el realizado a cambio de una retribución o por contrata) de utensilios domésticos varios, cubertería, cristalería y vajilla de porcelana y de cerámica",1,{"$f":"ROW()","v":6651},6]
[null,null,"D61146","Comercio al por mayor (excepto el realizado a cambio de una retribución o por contrata) de artículos de mimbre, productos de corcho, tonelería y otros artículos de madera",1,{"$f":"ROW()","v":6652},6]
[null,null,"D61151","Comercio al por mayor (excepto el realizado a cambio de una retribución o por contrata) de libros, periódicos, revistas y artículos de papelería",1,{"$f":"ROW()","v":6653},6]
[null,null,"D61152","Comercio al por mayor (excepto el realizado a cambio de una retribución o por contrata) de equipo fotográfico, óptico y de precisión",1,{"$f":"ROW()","v":6654},6]
[null,null,"D61153","Comercio al por mayor (excepto el realizado a cambio de una retribución o por contrata) de juegos y juguetes",1,{"$f":"ROW()","v":6655},6]
[null,null,"D61154","Comercio al por mayor (excepto el realizado a cambio de una retribución o por contrata) de relojes de pulso, relojes de pared y joyería",1,{"$f":"ROW()","v":6656},6]
[null,null,"D61155","Comercio al por mayor (excepto el realizado a cambio de una retribución o por contrata) de productos deportivos, incluso bicicletas",1,{"$f":"ROW()","v":6657},6]
[null,null,"D61156","Comercio al por mayor (excepto el realizado a cambio de una retribución o por contrata) de productos de cuero y accesorios de viaje",1,{"$f":"ROW()","v":6658},6]
[null,null,"D61159","Comercio al por mayor (excepto el realizado a cambio de una retribución o por contrata) de productos variados de consumo n.c.p.",1,{"$f":"ROW()","v":6659},6]
[null,null,"D61161","Comercio al por mayor (excepto el realizado a cambio de una retribución o por contrata) de materiales de construcción y vidrio plano",1,{"$f":"ROW()","v":6660},{"$f":"LEN(C6660)","v":6}]
[null,null,"D61162","Comercio al por mayor (excepto el realizado a cambio de una retribución o por contrata) de accesorios, artefactos y equipos sanitarios de cerámica",1,{"$f":"ROW()","v":6661},6]
[null,null,"D61163","Comercio al por mayor (excepto el realizado a cambio de una retribución o por contrata) de papel de colgadura y cubierta de pisos",1,{"$f":"ROW()","v":6662},6]
[null,null,"D61164","Comercio al por mayor (excepto el realizado a cambio de una retribución o por contrata) de pinturas, barnices y lacas",1,{"$f":"ROW()","v":6663},6]
[null,null,"D61165","Comercio al por mayor (excepto el realizado a cambio de una retribución o por contrata) de artículos de ferretería y herramientas manuales",1,{"$f":"ROW()","v":6664},6]
[null,null,"D61171","Comercio al por mayor (excepto el realizado a cambio de una retribución o por contrata) de químicos básicos industriales y resinas sintéticas",1,{"$f":"ROW()","v":6665},6]
[null,null,"D61172","Comercio al por mayor (excepto el realizado a cambio de una retribución o por contrata) de abonos y productos químicos agropecuarios",1,{"$f":"ROW()","v":6666},6]
[null,null,"D61173","Comercio al por mayor (excepto el realizado a cambio de una retribución o por contrata) de productos farmacéuticos",1,{"$f":"ROW()","v":6667},6]
[null,null,"D61174","Comercio al por mayor (excepto el realizado a cambio de una retribución o por contrata) de productos médicos y ortopédicos",1,{"$f":"ROW()","v":6668},6]
[null,null,"D61175","Comercio al por mayor (excepto el realizado a cambio de una retribución o por contrata) de artículos de perfumería, artículos cosméticos y jabones de tocador",1,{"$f":"ROW()","v":6669},6]
[null,null,"D61176","Comercio al por mayor (excepto el realizado a cambio de una retribución o por contrata) de materiales de limpieza",1,{"$f":"ROW()","v":6670},6]
[null,null,"D61182","Comercio al por mayor (excepto el realizado a cambio de una retribución o por contrata) de otros equipos de transporte, excepto bicicletas",1,{"$f":"ROW()","v":6671},6]
[null,null,"D61183","Comercio al por mayor (excepto el realizado a cambio de una retribución o por contrata) de maquinaria y equipo de oficina incluyendo los muebles de oficina",1,{"$f":"ROW()","v":6672},6]
[null,null,"D61184","Comercio al por mayor (excepto el realizado a cambio de una retribución o por contrata) de computadores y programas de informática integrados",1,{"$f":"ROW()","v":6673},6]
[null,null,"D61185","Comercio al por mayor (excepto el realizado a cambio de una retribución o por contrata) de equipo electrónico y de telecomunicaciones y sus partes",1,{"$f":"ROW()","v":6674},6]
[null,null,"D61186","Comercio al por mayor (excepto el realizado a cambio de una retribución o por contrata) de maquinaria y equipo agrícola, para césped y jardinería, incluyendo tractores",1,{"$f":"ROW()","v":6675},6]
[null,null,"D61187","Comercio al por mayor (excepto el realizado a cambio de una retribución o por contrata) de maquinaria y equipo para minería, construcción e ingeniería civil",1,{"$f":"ROW()","v":6676},6]
[null,null,"D61188","Comercio al por mayor (excepto el realizado a cambio de una retribución o por contrata) de maquinaria y equipo de otra industria específica y suministros operativos relacionados",1,{"$f":"ROW()","v":6677},6]
[null,null,"D61189","Comercio al por mayor (excepto el realizado a cambio de una retribución o por contrata) de otra maquinaria y equipo n.c.p.",1,{"$f":"ROW()","v":6678},6]
[null,null,"D61191","Comercio al por mayor (excepto el realizado a cambio de una retribución o por contrata) de combustibles sólidos, líquidos y gaseosos y productos relacionados (excepto los combustibles para vehículos automotores y motocicletas y productos relacionados)",1,{"$f":"ROW()","v":6679},6]
[null,null,"D61192","Comercio al por mayor (excepto el realizado a cambio de una retribución o por contrata) de minerales metálicos y metales en sus formas primarias",1,{"$f":"ROW()","v":6680},6]
[null,null,"D61193","Comercio al por mayor (excepto el realizado a cambio de una retribución o por contrata) de madera en bruto",1,{"$f":"ROW()","v":6681},6]
[null,null,"D61194","Comercio al por mayor (excepto el realizado a cambio de una retribución o por contrata) de papel y cartón",1,{"$f":"ROW()","v":6682},6]
[null,null,"D61195","Comercio al por mayor (excepto el realizado a cambio de una retribución o por contrata) de desperdicios, desechos y materiales para reciclaje",1,{"$f":"ROW()","v":6683},6]
[null,null,"D61199","Comercio al por mayor (excepto el realizado a cambio de una retribución o por contrata) de minerales no metálicos y otros productos n.c.p.",1,{"$f":"ROW()","v":6684},6]
[null,null,"D62121","Comercio al por menor de frutas, legumbres y hortalizas, en establecimientos no especializados",1,{"$f":"ROW()","v":6685},6]
[null,null,"D62122","Comercio al por menor de productos lácteos, huevos, aceites y grasas comestibles, en establecimientos no especializados",1,{"$f":"ROW()","v":6686},6]
[null,null,"D62123","Comercio al por menor de carnes, carne de aves y productos de la caza, en establecimientos no especializados",1,{"$f":"ROW()","v":6687},6]
[null,null,"D62124","Comercio al por menor de pescado y otros productos de mar, en establecimientos no especializados",1,{"$f":"ROW()","v":6688},6]
[null,null,"D62125","Comercio al por menor de productos de confitería y panadería, en establecimientos no especializados",1,{"$f":"ROW()","v":6689},6]
[null,null,"D62126","Comercio al por menor de bebidas, en establecimientos no especializados",1,{"$f":"ROW()","v":6690},6]
[null,null,"D62127","Comercio al por menor de café, té y otras especias, en establecimientos no especializados",1,{"$f":"ROW()","v":6691},6]
[null,null,"D62128","Comercio al por menor de productos de tabaco, en establecimientos no especializados",1,{"$f":"ROW()","v":6692},6]
[null,null,"D62129","Comercio al por menor de productos alimenticios n.c.p., en establecimientos no especializados",1,{"$f":"ROW()","v":6693},6]
[null,null,"D62131","Comercio al por menor de hilo, telas y tejidos, en establecimientos no especializados",1,{"$f":"ROW()","v":6694},6]
[null,null,"D62132","Comercio al por menor de lencería, cortinas, visillos y diversos artículos confeccionados con materiales textiles para el hogar, en establecimientos no especializados",1,{"$f":"ROW()","v":6695},6]
[null,null,"D62133","Comercio al por menor de prendas de vestir, artículos de piel y accesorios de vestir, en establecimientos no especializados",1,{"$f":"ROW()","v":6696},6]
[null,null,"D62134","Comercio al por menor de calzado, en establecimientos no especializados",1,{"$f":"ROW()","v":6697},6]
[null,null,"D62141","Comercio al por menor de muebles de uso doméstico, en establecimientos no especializados",1,{"$f":"ROW()","v":6698},6]
[null,null,"D62142","Comercio al por menor de equipo de radio y televisión, aparatos para la reproducción o grabado de sonido, en establecimientos no especializados",1,{"$f":"ROW()","v":6699},6]
[null,null,"D62143","Comercio al por menor de artículos para iluminación, en establecimientos no especializados",1,{"$f":"ROW()","v":6700},6]
[null,null,"D62144","Comercio al por menor de electrodomésticos (diferentes de televisión, radio y/o de aparatos para la reproducción o grabación de sonido) y gasodomésticos, en establecimientos no especializados",1,{"$f":"ROW()","v":6701},6]
[null,null,"D62145","Comercio al por menor de utensilios domésticos varios, cubertería, cristalería y vajilla de porcelana y de cerámica, en establecimientos no especializados",1,{"$f":"ROW()","v":6702},6]
[null,null,"D62146","Comercio al por menor de artículos de mimbre, productos de corcho, tonelería y otros artículos de madera, en establecimientos no especializados",1,{"$f":"ROW()","v":6703},6]
[null,null,"D62151","Comercio al por menor de libros, periódicos, revistas y artículos de papelería, en establecimientos no especializados",1,{"$f":"ROW()","v":6704},6]
[null,null,"D62152","Comercio al por menor de equipo fotográfico, óptico y de precisión, en establecimientos no especializados",1,{"$f":"ROW()","v":6705},6]
[null,null,"D62153","Comercio al por menor de juegos y juguetes, en establecimientos no especializados",1,{"$f":"ROW()","v":6706},6]
[null,null,"D62154","Comercio al por menor de relojes de pulso, relojes de pared y joyería, en establecimientos no especializados",1,{"$f":"ROW()","v":6707},6]
[null,null,"D62155","Comercio al por menor de productos deportivos, incluso bicicletas, en establecimientos no especializados",1,{"$f":"ROW()","v":6708},6]
[null,null,"D62156","Comercio al por menor de productos de cuero y accesorios de viaje, en establecimientos no especializados",1,{"$f":"ROW()","v":6709},6]
[null,null,"D62159","Comercio al por menor de productos variados de consumo n.c.p., en establecimientos no especializados",1,{"$f":"ROW()","v":6710},6]
[null,null,"D62161","Comercio al por menor de materiales de construcción y vidrio plano, en establecimientos no especializados",1,{"$f":"ROW()","v":6711},6]
[null,null,"D62162","Comercio al por menor de accesorios, artefactos y equipos sanitarios de cerámica, en establecimientos no especializados",1,{"$f":"ROW()","v":6712},6]
[null,null,"D62163","Comercio al por menor de papel de colgadura y cubierta de pisos, en establecimientos no especializados",1,{"$f":"ROW()","v":6713},6]
[null,null,"D62164","Comercio al por menor de pinturas, barnices y lacas, en establecimientos no especializados",1,{"$f":"ROW()","v":6714},6]
[null,null,"D62165","Comercio al por menor de artículos de ferretería y herramientas manuales, en establecimientos no especializados",1,{"$f":"ROW()","v":6715},6]
[null,null,"D62173","Comercio al por menor de productos farmacéuticos, en establecimientos no especializados",1,{"$f":"ROW()","v":6716},6]
[null,null,"D62174","Comercio al por menor de productos médicos y ortopédicos, en establecimientos no especializados",1,{"$f":"ROW()","v":6717},6]
[null,null,"D62175","Comercio al por menor de artículos de perfumería, artículos cosméticos y jabones de tocador, en establecimientos no especializados",1,{"$f":"ROW()","v":6718},6]
[null,null,"D62176","Comercio al por menor de materiales de limpieza, en establecimientos no especializados",1,{"$f":"ROW()","v":6719},6]
[null,null,"D62184","Comercio al por menor de computadores y programas de informática integrados, en establecimientos no especializados",1,{"$f":"ROW()","v":6720},6]
[null,null,"D62185","Comercio al por menor de equipo de telecomunicaciones y sus partes, en establecimientos no especializados",1,{"$f":"ROW()","v":6721},6]
[null,null,"D62199","Comercio al por menor de otros productos n.c.p., en establecimientos no especializados",1,{"$f":"ROW()","v":6722},6]
[null,null,"D62221","Comercio al por menor de frutas, legumbres y hortalizas en establecimientos especializados",1,{"$f":"ROW()","v":6723},6]
[null,null,"D62222","Comercio al por menor de productos lácteos, huevos, aceites y grasas comestibles en establecimientos especializados",1,{"$f":"ROW()","v":6724},{"$f":"LEN(C6724)","v":6}]
[null,null,"D62223","Comercio al por menor de carnes, carne de aves y productos de la caza en establecimientos especializados",1,{"$f":"ROW()","v":6725},6]
[null,null,"D62224","Comercio al por menor de pescado y otros productos de mar en establecimientos especializados",1,{"$f":"ROW()","v":6726},6]
[null,null,"D62225","Comercio al por menor de productos de confitería y panadería en establecimientos especializados",1,{"$f":"ROW()","v":6727},6]
[null,null,"D62226","Comercio al por menor de bebidas en establecimientos especializados",1,{"$f":"ROW()","v":6728},6]
[null,null,"D62227","Comercio al por menor de café, té y otras especias en establecimientos especializados",1,{"$f":"ROW()","v":6729},6]
[null,null,"D62228","Comercio al por menor de productos de tabaco en establecimientos especializados",1,{"$f":"ROW()","v":6730},6]
[null,null,"D62229","Comercio al por menor de productos alimenticios n.c.p. en establecimientos especializados",1,{"$f":"ROW()","v":6731},6]
[null,null,"D62231","Comercio al por menor de hilo, telas y tejidos en establecimientos especializados",1,{"$f":"ROW()","v":6732},6]
[null,null,"D62232","Comercio al por menor de lencería, cortinas, visillos y diversos artículos confeccionados con materiales textiles para el hogar en establecimientos especializados",1,{"$f":"ROW()","v":6733},6]
[null,null,"D62233","Comercio al por menor de prendas de vestir, artículos de piel y accesorios de vestir en establecimientos especializados",1,{"$f":"ROW()","v":6734},6]
[null,null,"D62234","Comercio al por menor de calzado, en establecimientos especializados",1,{"$f":"ROW()","v":6735},6]
[null,null,"D62241","Comercio al por menor de muebles de uso doméstico en establecimientos especializados",1,{"$f":"ROW()","v":6736},6]
[null,null,"D62242","Comercio al por menor de equipo de radio y televisión, y aparatos para la reproducción o grabado de sonido en establecimientos especializados",1,{"$f":"ROW()","v":6737},6]
[null,null,"D62243","Comercio al por menor de artículos para iluminación en establecimientos especializados",1,{"$f":"ROW()","v":6738},6]
[null,null,"D62244","Comercio al por menor de electrodomésticos (diferentes de televisión, radio y/o de aparatos para la reproducción o grabación de sonido) y gasodomésticos en establecimientos especializados",1,{"$f":"ROW()","v":6739},6]
[null,null,"D62245","Comercio al por menor de utensilios domésticos varios, cubertería, cristalería y vajilla de porcelana y de cerámica en establecimientos especializados",1,{"$f":"ROW()","v":6740},6]
[null,null,"D62246","Comercio al por menor de artículos de mimbre, productos de corcho, tonelería y otros artículos de madera en establecimientos especializados",1,{"$f":"ROW()","v":6741},6]
[null,null,"D62251","Comercio al por menor de libros, periódicos, revistas y artículos de papelería en establecimientos especializados",1,{"$f":"ROW()","v":6742},6]
[null,null,"D62252","Comercio al por menor de equipo fotográfico, óptico y de precisión en establecimientos especializados",1,{"$f":"ROW()","v":6743},6]
[null,null,"D62253","Comercio al por menor de juegos y juguetes en establecimientos especializados",1,{"$f":"ROW()","v":6744},6]
[null,null,"D62254","Comercio al por menor de relojes de pulso, relojes de pared y joyería en establecimientos especializados",1,{"$f":"ROW()","v":6745},6]
[null,null,"D62255","Comercio al por menor de productos deportivos incluso bicicletas en establecimientos especializados",1,{"$f":"ROW()","v":6746},6]
[null,null,"D62256","Comercio al por menor de productos de cuero y accesorios de viaje en establecimientos especializados",1,{"$f":"ROW()","v":6747},6]
[null,null,"D62259","Comercio al por menor de productos variados de consumo n.c.p. en establecimientos especializados",1,{"$f":"ROW()","v":6748},6]
[null,null,"D62261","Comercio al por menor de materiales de construcción y vidrio plano en establecimientos especializados",1,{"$f":"ROW()","v":6749},6]
[null,null,"D62262","Comercio al por menor de accesorios, artefactos y equipos sanitarios de cerámica en establecimientos especializados",1,{"$f":"ROW()","v":6750},6]
[null,null,"D62263","Comercio al por menor de papel de colgadura y cubierta de pisos en establecimientos especializados",1,{"$f":"ROW()","v":6751},6]
[null,null,"D62264","Comercio al por menor de pinturas, barnices y lacas en establecimientos especializados",1,{"$f":"ROW()","v":6752},6]
[null,null,"D62265","Comercio al por menor de artículos de ferretería y herramientas manuales en establecimientos especializados",1,{"$f":"ROW()","v":6753},6]
[null,null,"D62273","Comercio al por menor de productos farmacéuticos en establecimientos especializados",1,{"$f":"ROW()","v":6754},6]
[null,null,"D62274","Comercio al por menor de productos ortopédicos en establecimientos especializados",1,{"$f":"ROW()","v":6755},6]
[null,null,"D62275","Comercio al por menor de artículos de perfumería, artículos cosméticos y jabones de tocador en establecimientos especializados",1,{"$f":"ROW()","v":6756},6]
[null,null,"D62276","Comercio al por menor de materiales de limpieza en establecimientos especializados",1,{"$f":"ROW()","v":6757},6]
[null,null,"D62281","Servicios de venta al por menor de vehículos automotores, motocicletas, vehículos para nieve y partes y accesorios relacionados en establecimientos especializados",1,{"$f":"ROW()","v":6758},6]
[null,null,"D62283","Comercio al por menor de maquinaria y equipo de oficina incluyendo los muebles de oficina en establecimientos especializados",1,{"$f":"ROW()","v":6759},6]
[null,null,"D62284","Comercio al por menor de computadores y programas de informática integrados en establecimientos especializados",1,{"$f":"ROW()","v":6760},6]
[null,null,"D62285","Comercio al por menor de equipo de telecomunicaciones y sus partes en establecimientos especializados",1,{"$f":"ROW()","v":6761},6]
[null,null,"D62291","Comercio al por menor de combustibles para vehículos automotores,  aceites y grasas  lubricantes y productos relacionados en establecimientos especializados",1,{"$f":"ROW()","v":6762},6]
[null,null,"D62292","Comercio al por menor de combustibles sólidos, líquidos y gaseosos y productos relacionados en establecimientos especializados (excepto para vehículos automotores)",1,{"$f":"ROW()","v":6763},6]
[null,null,"D62299","Comercio al por menor de otros productos n.c.p. en establecimientos especializados",1,{"$f":"ROW()","v":6764},6]
[null,null,"D62321","Comercio al por menor de frutas, legumbres y hortalizas por internet o por correo",1,{"$f":"ROW()","v":6765},6]
[null,null,"D62322","Comercio al por menor de productos lácteos, huevos, aceites y grasas comestibles por internet o por correo",1,{"$f":"ROW()","v":6766},6]
[null,null,"D62323","Comercio al por menor de carnes, carne de aves y productos de la caza por internet o por correo",1,{"$f":"ROW()","v":6767},6]
[null,null,"D62324","Comercio al por menor de pescado y otros productos de mar por internet o por correo",1,{"$f":"ROW()","v":6768},6]
[null,null,"D62325","Comercio al por menor de productos de confitería y panadería por internet o por correo",1,{"$f":"ROW()","v":6769},6]
[null,null,"D62326","Comercio al por menor de bebidas por internet o por correo",1,{"$f":"ROW()","v":6770},6]
[null,null,"D62327","Comercio al por menor de café, té y otras especias por internet o por correo",1,{"$f":"ROW()","v":6771},6]
[null,null,"D62328","Comercio al por menor de productos de tabaco por internet o por correo",1,{"$f":"ROW()","v":6772},6]
[null,null,"D62329","Comercio al por menor de productos alimenticios n.c.p. por internet o por correo",1,{"$f":"ROW()","v":6773},6]
[null,null,"D62331","Comercio al por menor de hilo, telas y tejidos por internet o correo",1,{"$f":"ROW()","v":6774},6]
[null,null,"D62332","Comercio al por menor de lencería, cortinas, visillos y diversos artículos confeccionados con materiales textiles para el hogar por internet o correo",1,{"$f":"ROW()","v":6775},6]
[null,null,"D62333","Comercio al por menor de prendas de vestir, artículos de piel y accesorios de vestir por internet o correo",1,{"$f":"ROW()","v":6776},6]
[null,null,"D62334","Comercio al por menor de calzado por internet o correo",1,{"$f":"ROW()","v":6777},6]
[null,null,"D62341","Comercio al por menor de muebles de uso doméstico por internet o correo",1,{"$f":"ROW()","v":6778},6]
[null,null,"D62342","Comercio al por menor de equipo de radio y televisión, y aparatos para la reproducción o grabado de sonido por internet o correo",1,{"$f":"ROW()","v":6779},6]
[null,null,"D62343","Comercio al por menor de artículos para iluminación por internet o correo",1,{"$f":"ROW()","v":6780},6]
[null,null,"D62344","Comercio al por menor de electrodomésticos (diferentes de televisión, radio y/o de aparatos para la reproducción o grabación de sonido) y gasodomésticos por internet o correo",1,{"$f":"ROW()","v":6781},6]
[null,null,"D62345","Comercio al por menor de utensilios domésticos varios, cubertería, cristalería y vajilla de porcelana y de cerámica por internet o correo",1,{"$f":"ROW()","v":6782},6]
[null,null,"D62346","Comercio al por menor de artículos de mimbre, productos de corcho, tonelería y otros artículos de madera por internet o correo",1,{"$f":"ROW()","v":6783},6]
[null,null,"D62351","Comercio al por menor de libros, periódicos, revistas y artículos de papelería por internet o correo",1,{"$f":"ROW()","v":6784},6]
[null,null,"D62352","Comercio al por menor de equipo fotográfico, óptico y de precisión por internet o correo",1,{"$f":"ROW()","v":6785},6]
[null,null,"D62353","Comercio al por menor de juegos y juguetes por internet o correo",1,{"$f":"ROW()","v":6786},6]
[null,null,"D62354","Comercio al por menor de relojes de pulso, relojes de pared y joyería por internet o correo",1,{"$f":"ROW()","v":6787},6]
[null,null,"D62355","Comercio al por menor de productos deportivos incluso bicicletas por internet o correo",1,{"$f":"ROW()","v":6788},{"$f":"LEN(C6788)","v":6}]
[null,null,"D62356","Comercio al por menor de productos de cuero y accesorios de viaje por internet o correo",1,{"$f":"ROW()","v":6789},6]
[null,null,"D62359","Comercio al por menor por internet o correo de productos variados de consumo n.c.p.",1,{"$f":"ROW()","v":6790},6]
[null,null,"D62361","Comercio al por menor de materiales de construcción y vidrio plano por internet o correo",1,{"$f":"ROW()","v":6791},6]
[null,null,"D62362","Comercio al por menor de accesorios, artefactos y equipos sanitarios de cerámica por internet o correo",1,{"$f":"ROW()","v":6792},6]
[null,null,"D62363","Comercio al por menor de papel de colgadura y cubierta de pisos por internet o correo",1,{"$f":"ROW()","v":6793},6]
[null,null,"D62364","Comercio al por menor de pinturas, barnices y lacas por internet o correo",1,{"$f":"ROW()","v":6794},6]
[null,null,"D62365","Comercio al por menor de artículos de ferretería y herramientas manuales por internet o correo",1,{"$f":"ROW()","v":6795},6]
[null,null,"D62373","Comercio al por menor de productos farmacéuticos por internet o correo",1,{"$f":"ROW()","v":6796},6]
[null,null,"D62374","Comercio al por menor de productos ortopédicos por internet o correo",1,{"$f":"ROW()","v":6797},6]
[null,null,"D62375","Comercio al por menor de artículos de perfumería, artículos cosméticos y jabones de tocador por internet o correo",1,{"$f":"ROW()","v":6798},6]
[null,null,"D62376","Comercio al por menor de materiales de limpieza por internet o correo",1,{"$f":"ROW()","v":6799},6]
[null,null,"D62384","Comercio al por menor de computadores y programas de informática integrados por internet o correo",1,{"$f":"ROW()","v":6800},6]
[null,null,"D62385","Comercio al por menor de equipo electrónico y de telecomunicaciones y sus partes por internet o correo",1,{"$f":"ROW()","v":6801},6]
[null,null,"D62399","Comercio al por menor de otros productos n.c.p. por internet o correo",1,{"$f":"ROW()","v":6802},6]
[null,null,"D62421","Otro comercio al por menor de frutas, legumbres y hortalizas no realizados en establecimientos",1,{"$f":"ROW()","v":6803},6]
[null,null,"D62422","Otro comercio al por menor de productos lácteos, huevos, aceites y grasas comestibles, no realizados en establecimientos",1,{"$f":"ROW()","v":6804},6]
[null,null,"D62423","Otro comercio al por menor de carnes, carne de aves y productos de la caza, no realizados en establecimientos",1,{"$f":"ROW()","v":6805},6]
[null,null,"D62424","Otro comercio al por menor de pescado y otros productos de mar no realizados en establecimientos",1,{"$f":"ROW()","v":6806},6]
[null,null,"D62425","Otro comercio al por menor de productos de confitería y panadería no realizados en establecimientos",1,{"$f":"ROW()","v":6807},6]
[null,null,"D62426","Otro comercio al por menor de bebidas no realizados en establecimientos",1,{"$f":"ROW()","v":6808},6]
[null,null,"D62427","Otro comercio al por menor de café, té y otras especias no realizados en establecimientos",1,{"$f":"ROW()","v":6809},6]
[null,null,"D62428","Otro comercio al por menor de productos de tabaco no realizados en establecimientos",1,{"$f":"ROW()","v":6810},6]
[null,null,"D62429","Otro comercio al por menor de productos alimenticios n.c.p. no realizados en establecimientos",1,{"$f":"ROW()","v":6811},6]
[null,null,"D62431","Otro comercio al por menor de hilo, telas y tejidos no realizados en establecimientos",1,{"$f":"ROW()","v":6812},6]
[null,null,"D62432","Otro comercio al por menor de lencería, cortinas, visillos y diversos artículos confeccionados con materiales textiles para el hogar no realizados en establecimientos",1,{"$f":"ROW()","v":6813},6]
[null,null,"D62433","Otro comercio al por menor de prendas de vestir, artículos de piel y accesorios de vestir no realizados en establecimientos",1,{"$f":"ROW()","v":6814},6]
[null,null,"D62434","Otro comercio al por menor de calzado no realizados en establecimientos",1,{"$f":"ROW()","v":6815},6]
[null,null,"D62441","Otro comercio al por menor de muebles de uso doméstico no realizados en establecimientos",1,{"$f":"ROW()","v":6816},6]
[null,null,"D62442","Otro comercio al por menor de equipo de radio y televisión, y aparatos para la reproducción o grabado de sonido no realizados en establecimientos",1,{"$f":"ROW()","v":6817},6]
[null,null,"D62443","Otro comercio al por menor de artículos para iluminación no realizados en establecimientos",1,{"$f":"ROW()","v":6818},6]
[null,null,"D62445","Otro comercio al por menor de utensilios domésticos varios, cubertería, cristalería y vajilla de porcelana y de cerámica no realizados en establecimientos",1,{"$f":"ROW()","v":6819},6]
[null,null,"D62446","Otro comercio al por menor de artículos de mimbre, productos de corcho, tonelería y otros artículos de madera no realizados en establecimientos",1,{"$f":"ROW()","v":6820},6]
[null,null,"D62451","Otro comercio al por menor de libros, periódicos, revistas y artículos de papelería no realizados en establecimientos",1,{"$f":"ROW()","v":6821},6]
[null,null,"D62453","Otro comercio al por menor de juegos y juguetes no realizados en establecimientos",1,{"$f":"ROW()","v":6822},6]
[null,null,"D62454","Otro comercio al por menor de relojes de pulso, relojes de pared y joyería no realizados en establecimientos",1,{"$f":"ROW()","v":6823},6]
[null,null,"D62455","Otro comercio al por menor de productos deportivos, incluso bicicletas, no realizados en establecimientos",1,{"$f":"ROW()","v":6824},6]
[null,null,"D62456","Otro comercio al por menor de productos de cuero y accesorios de viaje no realizados en establecimientos",1,{"$f":"ROW()","v":6825},6]
[null,null,"D62459","Otro comercio al por menor de productos variados de consumo n.c.p. no realizados en establecimientos",1,{"$f":"ROW()","v":6826},6]
[null,null,"D62475","Otro comercio al por menor de artículos de perfumería, artículos cosméticos y jabones de tocador no realizados en establecimientos",1,{"$f":"ROW()","v":6827},6]
[null,null,"D62476","Otro comercio al por menor de materiales de limpieza no realizados en establecimientos",1,{"$f":"ROW()","v":6828},6]
[null,null,"D62499","Otro comercio al por menor de otros productos n.c.p. no realizados en establecimientos",1,{"$f":"ROW()","v":6829},6]
[null,null,"D63111","Servicios de alojamiento en hoteles",1,{"$f":"ROW()","v":6830},6]
[null,null,"D63112","Servicios de alojamiento en apartahoteles",1,{"$f":"ROW()","v":6831},6]
[null,null,"D63121","Servicios de alojamiento en centros vacacionales",1,{"$f":"ROW()","v":6832},6]
[null,null,"D63122","Servicios de alojamiento en hostales, arrendamiento de alojamientos amoblados y hogares rurales",1,{"$f":"ROW()","v":6833},6]
[null,null,"D63131","Servicios de alojamiento en habitaciones o unidades, en propiedades de tiempo compartido tipo hotel",1,{"$f":"ROW()","v":6834},6]
[null,null,"D63132","Servicios de alojamiento en habitaciones o unidades, en propiedades de tiempo compartido tipo apartahotel",1,{"$f":"ROW()","v":6835},6]
[null,null,"D63311","Servicios de suministro de comidas a la mesa, en restaurantes",1,{"$f":"ROW()","v":6836},6]
[null,null,"D63312","Servicios de suministro de comidas a la mesa, en cafeterías",1,{"$f":"ROW()","v":6837},6]
[null,null,"D63391","Servicios de catering para eventos",1,{"$f":"ROW()","v":6838},6]
[null,null,"D63392","Servicios de comidas contratadas para operadores de transporte",1,{"$f":"ROW()","v":6839},6]
[null,null,"D63393","Otros servicios de comidas contratadas",1,{"$f":"ROW()","v":6840},6]
[null,null,"D63394","Servicio de suministro de comida a domicilio",1,{"$f":"ROW()","v":6841},6]
[null,null,"D63399","Otros servicios de suministro de comidas",1,{"$f":"ROW()","v":6842},6]
[null,null,"D64111","Servicios de transporte férreo local de pasajeros",1,{"$f":"ROW()","v":6843},6]
[null,null,"D64112","Servicios de transporte terrestre local regular de pasajeros",1,{"$f":"ROW()","v":6844},6]
[null,null,"D64113","Servicios de transporte local combinado de pasajeros",1,{"$f":"ROW()","v":6845},6]
[null,null,"D64114","Servicios de transporte terrestre especial local de pasajeros",1,{"$f":"ROW()","v":6846},6]
[null,null,"D64115","Servicios de taxi",1,{"$f":"ROW()","v":6847},6]
[null,null,"D64116","Servicios de alquiler de automóviles con conductor",1,{"$f":"ROW()","v":6848},6]
[null,null,"D64117","Servicio de transporte terrestre de pasajeros en vehículos de tracción humana o animal",1,{"$f":"ROW()","v":6849},6]
[null,null,"D64118","Servicios de transporte terrestre local no regular de pasajeros",1,{"$f":"ROW()","v":6850},6]
[null,null,"D64119","Otros servicios de transporte terrestre local de pasajeros n.c.p.",1,{"$f":"ROW()","v":6851},6]
[null,null,"D64131","Servicios de transporte férreo turístico",1,{"$f":"ROW()","v":6852},{"$f":"LEN(C6852)","v":6}]
[null,null,"D64132","Servicios de transporte terrestre turístico",1,{"$f":"ROW()","v":6853},6]
[null,null,"D64133","Servicios de transporte acuático turístico",1,{"$f":"ROW()","v":6854},6]
[null,null,"D64134","Servicios de transporte aéreo turístico",1,{"$f":"ROW()","v":6855},6]
[null,null,"D64139","Otros servicios de transporte turístico",1,{"$f":"ROW()","v":6856},6]
[null,null,"D64231","Servicios de transporte marítimo internacional y de cabotaje de pasajeros",1,{"$f":"ROW()","v":6857},6]
[null,null,"D64232","Servicios de transporte marítimo internacional y de cabotaje de pasajeros, en cruceros",1,{"$f":"ROW()","v":6858},6]
[null,null,"D64239","Otros servicios de transporte marítimo internacional y de cabotaje de pasajeros",1,{"$f":"ROW()","v":6859},6]
[null,null,"D64241","Servicios de transporte aéreo de pasajeros, excepto los servicios de aerotaxi",1,{"$f":"ROW()","v":6860},6]
[null,null,"D64242","Servicios de aerotaxi",1,{"$f":"ROW()","v":6861},6]
[null,null,"D65111","Servicios de transporte de carga por carretera en vehículos con compartimentos refrigerados",1,{"$f":"ROW()","v":6862},6]
[null,null,"D65112","Servicios de transporte de carga por carretera en camiones cisterna",1,{"$f":"ROW()","v":6863},6]
[null,null,"D65113","Servicios de transporte de carga por carretera en contenedores",1,{"$f":"ROW()","v":6864},6]
[null,null,"D65114","Servicios de transporte de carga por carretera en vehículos de tracción humana o animal",1,{"$f":"ROW()","v":6865},6]
[null,null,"D65115","Servicios de mudanza de muebles domésticos y de oficina y otros menajes",1,{"$f":"ROW()","v":6866},6]
[null,null,"D65116","Servicios de transporte por carretera de correspondencia y paquetes",1,{"$f":"ROW()","v":6867},6]
[null,null,"D65117","Servicios de transporte por carretera de carga solida a granel",1,{"$f":"ROW()","v":6868},6]
[null,null,"D65118","Servicios de transporte por carretera de animales vivos",1,{"$f":"ROW()","v":6869},6]
[null,null,"D65119","Otros servicios de transporte por carretera n.c.p.",1,{"$f":"ROW()","v":6870},6]
[null,null,"D66011","Servicios de alquiler de buses con operario",1,{"$f":"ROW()","v":6871},6]
[null,null,"D66012","Servicios de alquiler de camiones con operario",1,{"$f":"ROW()","v":6872},6]
[null,null,"D66019","Otros servicios de alquiler de vehículos de trasporte con operario n.c.p.",1,{"$f":"ROW()","v":6873},6]
[null,null,"D66021","Servicios de alquiler de embarcaciones de pasajeros para transporte marítimo con tripulación",1,{"$f":"ROW()","v":6874},6]
[null,null,"D66022","Servicios de alquiler de embarcaciones de carga para transporte marítimo con tripulación",1,{"$f":"ROW()","v":6875},6]
[null,null,"D66023","Servicios de alquiler de embarcaciones de pasajeros para transporte fluvial con tripulación",1,{"$f":"ROW()","v":6876},6]
[null,null,"D66024","Servicios de alquiler de embarcaciones de carga para transporte fluvial con tripulación",1,{"$f":"ROW()","v":6877},6]
[null,null,"D66031","Servicios de alquiler de aeronaves para pasajeros con tripulación",1,{"$f":"ROW()","v":6878},6]
[null,null,"D66032","Servicios de alquiler de aeronaves de carga con tripulación",1,{"$f":"ROW()","v":6879},6]
[null,null,"D67511","Servicios de operación de puertos y vías de navegación marítima (excepto manipulación de carga)",1,{"$f":"ROW()","v":6880},6]
[null,null,"D67512","Servicios de operación de puertos y vías de navegación fluvial (excepto manipulación de carga)",1,{"$f":"ROW()","v":6881},6]
[null,null,"D67521","Servicios marítimos de practicaje y atraque",1,{"$f":"ROW()","v":6882},6]
[null,null,"D67522","Servicios fluviales de practicaje y atraque",1,{"$f":"ROW()","v":6883},6]
[null,null,"D67531","Servicios de rescate y reflote de embarcaciones marítimas",1,{"$f":"ROW()","v":6884},6]
[null,null,"D67532","Servicios de rescate y reflote de embarcaciones fluviales",1,{"$f":"ROW()","v":6885},6]
[null,null,"D67911","Servicios de sociedades de intermediación aduanera",1,{"$f":"ROW()","v":6886},6]
[null,null,"D67912","Otros servicios de agencias de transporte de carga",1,{"$f":"ROW()","v":6887},6]
[null,null,"D67913","Servicios de operación de transporte terrestre (pasajeros y mercancía)",1,{"$f":"ROW()","v":6888},6]
[null,null,"D68011","Servicios postales relacionados con sobres, cartas (nacional e internacional)",1,{"$f":"ROW()","v":6889},6]
[null,null,"D68012","Servicios postales relacionados con paquetes",1,{"$f":"ROW()","v":6890},6]
[null,null,"D68013","Servicios de oficinas postales de atención al público",1,{"$f":"ROW()","v":6891},6]
[null,null,"D68014","Servicios de gestión documental",1,{"$f":"ROW()","v":6892},6]
[null,null,"D68019","Otros servicios postales n.c.p.",1,{"$f":"ROW()","v":6893},6]
[null,null,"D68021","Servicios locales de mensajería nacional",1,{"$f":"ROW()","v":6894},6]
[null,null,"D68022","Servicios de mensajería internacional",1,{"$f":"ROW()","v":6895},6]
[null,null,"D69111","Servicio de transmisión de electricidad (por cuenta propia)",1,{"$f":"ROW()","v":6896},6]
[null,null,"D69112","Servicios de distribución de electricidad (por cuenta propia)",1,{"$f":"ROW()","v":6897},6]
[null,null,"D69113","Servicios de comercialización de electricidad (por cuenta propia)",1,{"$f":"ROW()","v":6898},6]
[null,null,"D71121","Servicios de depósito en cuenta corriente",1,{"$f":"ROW()","v":6899},6]
[null,null,"D71122","Servicios de depósito en cuenta de ahorros",1,{"$f":"ROW()","v":6900},6]
[null,null,"D71123","Servicios de certificado de depósito a término (CDT)",1,{"$f":"ROW()","v":6901},6]
[null,null,"D71124","Servicios de certificado de depósito de ahorro a término (CDAT)",1,{"$f":"ROW()","v":6902},6]
[null,null,"D71129","Otros servicios de depósito n.c.p.",1,{"$f":"ROW()","v":6903},6]
[null,null,"D71131","Servicios de créditos hipotecarios residenciales",1,{"$f":"ROW()","v":6904},6]
[null,null,"D71132","Servicios de créditos hipotecarios no residenciales",1,{"$f":"ROW()","v":6905},6]
[null,null,"D71133","Servicios de créditos de consumo",1,{"$f":"ROW()","v":6906},6]
[null,null,"D71134","Servicios de créditos no hipotecarios para fines comerciales",1,{"$f":"ROW()","v":6907},6]
[null,null,"D71135","Servicios de tarjeta de crédito personal",1,{"$f":"ROW()","v":6908},6]
[null,null,"D71136","Servicios de tarjeta de crédito empresarial",1,{"$f":"ROW()","v":6909},6]
[null,null,"D71137","Servicios de microcrédito",1,{"$f":"ROW()","v":6910},6]
[null,null,"D71138","Servicios de créditos comerciales por línea de redescuento",1,{"$f":"ROW()","v":6911},6]
[null,null,"D71139","Otros servicios de concesión de crédito n.c.p.",1,{"$f":"ROW()","v":6912},6]
[null,null,"D71141","Servicios de leasing habitacional",1,{"$f":"ROW()","v":6913},6]
[null,null,"D71142","Servicios de leasing comercial",1,{"$f":"ROW()","v":6914},6]
[null,null,"D71149","Otros servicios de leasing financiero n.c.p.",1,{"$f":"ROW()","v":6915},6]
[null,null,"D71191","Servicios de compra de cartera o factoring",1,{"$f":"ROW()","v":6916},{"$f":"LEN(C6916)","v":6}]
[null,null,"D71192","Servicios de titularización",1,{"$f":"ROW()","v":6917},6]
[null,null,"D71193","Servicios de las sociedades de capitalización",1,{"$f":"ROW()","v":6918},6]
[null,null,"D71199","Otros servicios financieros n.c.p. (excepto los servicios de la banca de inversión, de seguros y de pensiones)",1,{"$f":"ROW()","v":6919},6]
[null,null,"D71201","Servicios de colocación de títulos de participación",1,{"$f":"ROW()","v":6920},6]
[null,null,"D71202","Servicios de colocación de títulos de tesorería (TES)",1,{"$f":"ROW()","v":6921},6]
[null,null,"D71209","Otros servicios de la banca de inversión n.c.p.",1,{"$f":"ROW()","v":6922},6]
[null,null,"D71311","Servicios de seguros de vida individual",1,{"$f":"ROW()","v":6923},6]
[null,null,"D71321","Servicios de seguros sociales de pensiones en el régimen de prima media con prestación definida (RPM)",1,{"$f":"ROW()","v":6924},6]
[null,null,"D71322","Servicios de seguros sociales de pensiones en el régimen de ahorro individual con solidaridad (RAIS)",1,{"$f":"ROW()","v":6925},6]
[null,null,"D71331","Servicios de seguros sociales de salud",1,{"$f":"ROW()","v":6926},6]
[null,null,"D71332","Servicios de seguros sociales de riesgos laborales",1,{"$f":"ROW()","v":6927},6]
[null,null,"D71333","Servicios de seguros sociales de protección a la familia",1,{"$f":"ROW()","v":6928},6]
[null,null,"D71341","Servicios de seguros por accidentes personales",1,{"$f":"ROW()","v":6929},6]
[null,null,"D71342","Servicios de pólizas de salud",1,{"$f":"ROW()","v":6930},6]
[null,null,"D71343","Servicios de planes de medicina prepagada",1,{"$f":"ROW()","v":6931},6]
[null,null,"D71344","Servicios del plan de beneficios (POS)",1,{"$f":"ROW()","v":6932},6]
[null,null,"D71345","Servicios de planes de ambulancia prepagada",1,{"$f":"ROW()","v":6933},6]
[null,null,"D71346","Servicios de planes complementarios de salud",1,{"$f":"ROW()","v":6934},6]
[null,null,"D71347","Servicio de seguro obligatorio de accidentes de tránsito (SOAT)",1,{"$f":"ROW()","v":6935},6]
[null,null,"D71349","Otros servicios de seguros de salud n.c.p.",1,{"$f":"ROW()","v":6936},6]
[null,null,"D71351","Servicios de seguros de vehículos automotores",1,{"$f":"ROW()","v":6937},6]
[null,null,"D71352","Servicios de seguros de transporte marítimo, aéreo y otros medios de transporte",1,{"$f":"ROW()","v":6938},6]
[null,null,"D71353","Servicios de seguros para transporte de carga",1,{"$f":"ROW()","v":6939},6]
[null,null,"D71354","Servicios de seguros contra incendio, terremoto o sustracción",1,{"$f":"ROW()","v":6940},6]
[null,null,"D71355","Servicios de seguros generales de responsabilidad civil",1,{"$f":"ROW()","v":6941},6]
[null,null,"D71356","Servicios de seguros de cumplimiento",1,{"$f":"ROW()","v":6942},6]
[null,null,"D71357","Servicios de seguros de viaje",1,{"$f":"ROW()","v":6943},6]
[null,null,"D71358","Servicios de seguros de vida colectiva",1,{"$f":"ROW()","v":6944},6]
[null,null,"D71359","Otros servicios de seguros distintos de los seguros de vida n.c.p.",1,{"$f":"ROW()","v":6945},6]
[null,null,"D71431","Servicios de reaseguro de vehículos automotores",1,{"$f":"ROW()","v":6946},6]
[null,null,"D71432","Servicios de reaseguro de transporte marítimo, aéreo y otros medios de transporte",1,{"$f":"ROW()","v":6947},6]
[null,null,"D71433","Servicios de reaseguro de carga",1,{"$f":"ROW()","v":6948},6]
[null,null,"D71434","Otros servicios de reaseguro al patrimonio",1,{"$f":"ROW()","v":6949},6]
[null,null,"D71435","Servicios de reaseguro de responsabilidad civil",1,{"$f":"ROW()","v":6950},6]
[null,null,"D71436","Servicios de reaseguro de crédito y fianza",1,{"$f":"ROW()","v":6951},6]
[null,null,"D71439","Otros servicios de reaseguro n.c.p.",1,{"$f":"ROW()","v":6952},6]
[null,null,"D71511","Servicios relacionados con fusiones y adquisiciones",1,{"$f":"ROW()","v":6953},6]
[null,null,"D71512","Servicios relacionados con la financiación empresarial y capital de riesgo",1,{"$f":"ROW()","v":6954},6]
[null,null,"D71519","Otros servicios auxiliares relacionados con la banca de inversión n.c.p.",1,{"$f":"ROW()","v":6955},6]
[null,null,"D71521","Servicios de corretaje de valores",1,{"$f":"ROW()","v":6956},6]
[null,null,"D71522","Servicios de corretaje de productos básicos de la banca",1,{"$f":"ROW()","v":6957},6]
[null,null,"D71523","Servicios de procesamiento y compensación de transacciones de valores",1,{"$f":"ROW()","v":6958},6]
[null,null,"D71541","Servicios fiduciarios",1,{"$f":"ROW()","v":6959},6]
[null,null,"D71542","Servicios de custodia",1,{"$f":"ROW()","v":6960},6]
[null,null,"D71551","Servicios operacionales de los mercados financieros",1,{"$f":"ROW()","v":6961},6]
[null,null,"D71552","Servicios de regulación de los mercados financieros",1,{"$f":"ROW()","v":6962},6]
[null,null,"D71559","Otros servicios de administración de los mercados financieros n.c.p.",1,{"$f":"ROW()","v":6963},6]
[null,null,"D71591","Servicios de consultoría financiera",1,{"$f":"ROW()","v":6964},6]
[null,null,"D71592","Servicios de sociedades de intermediación cambiaria y servicios financieros especiales",1,{"$f":"ROW()","v":6965},6]
[null,null,"D71593","Servicios de profesionales de compra y venta de divisas",1,{"$f":"ROW()","v":6966},6]
[null,null,"D71594","Servicios de procesamiento y compensación de transacciones financieras",1,{"$f":"ROW()","v":6967},6]
[null,null,"D71599","Otros servicios auxiliares a los servicios financieros n.c.p.",1,{"$f":"ROW()","v":6968},6]
[null,null,"D71701","Servicios de mantenimiento del capital de las empresas o sociedades filiales",1,{"$f":"ROW()","v":6969},6]
[null,null,"D71702","Servicios de tenencia de valores y otros activos de los fideicomisos, fondos financieros y entidades financieras similares",1,{"$f":"ROW()","v":6970},6]
[null,null,"D72111","Servicios de alquiler o arrendamiento con o sin opción de compra, relativos a bienes inmuebles residenciales (vivienda) propios o arrendados",1,{"$f":"ROW()","v":6971},6]
[null,null,"D72112","Servicios de alquiler o arrendamiento con o sin opción de compra, relativos a bienes inmuebles no residenciales (diferentes a vivienda), propios o arrendados",1,{"$f":"ROW()","v":6972},6]
[null,null,"D72121","Servicios de venta de bienes inmuebles residenciales (vivienda)",1,{"$f":"ROW()","v":6973},6]
[null,null,"D72122","Servicios de venta de bienes inmuebles no residenciales diferentes a vivienda.",1,{"$f":"ROW()","v":6974},6]
[null,null,"D72123","Servicios de venta de bienes inmuebles destinados a la modalidad de tiempo compartido",1,{"$f":"ROW()","v":6975},6]
[null,null,"D72211","Servicios de administración de bienes inmuebles residenciales (vivienda) a comisión o por contrato, (excepto para propiedades de tiempo compartido)",1,{"$f":"ROW()","v":6976},6]
[null,null,"D72212","Servicios de administración de bienes inmuebles no residenciales (diferentes a vivienda) a comisión o por contrato",1,{"$f":"ROW()","v":6977},6]
[null,null,"D72213","Servicios de administración de propiedades de tiempo compartido, a comisión o por contrato",1,{"$f":"ROW()","v":6978},6]
[null,null,"D72221","Servicios de venta de bienes inmuebles residenciales (vivienda) a comisión o por contrato, con excepción de las propiedades de tiempo compartido",1,{"$f":"ROW()","v":6979},6]
[null,null,"D72222","Servicios de venta de bienes inmuebles no residenciales (diferentes a vivienda) a comisión o por contrato",1,{"$f":"ROW()","v":6980},{"$f":"LEN(C6980)","v":6}]
[null,null,"D72223","Servicios de venta de propiedades de tiempo compartido a comisión o por contrato",1,{"$f":"ROW()","v":6981},6]
[null,null,"D72251","Servicios de arrendamiento de bienes inmuebles residenciales (vivienda) a comisión o por contrato",1,{"$f":"ROW()","v":6982},6]
[null,null,"D72252","Servicios de arrendamiento de bienes inmuebles no residenciales (vivienda) a comisión o por contrato",1,{"$f":"ROW()","v":6983},6]
[null,null,"D73111","Servicios de arrendamiento o alquiler de automóviles y furgonetas sin operario",1,{"$f":"ROW()","v":6984},6]
[null,null,"D73112","Servicios de arrendamiento o alquiler de vehículos automotores para el transporte de mercancías sin operario",1,{"$f":"ROW()","v":6985},6]
[null,null,"D73113","Servicios de arrendamiento o alquiler de vehículos ferroviarios sin operario",1,{"$f":"ROW()","v":6986},6]
[null,null,"D73114","Servicios de alquiler o arrendamiento operativo de otro tipo de equipo de transporte terrestre sin conductor",1,{"$f":"ROW()","v":6987},6]
[null,null,"D73115","Servicios de arrendamiento o alquiler de embarcaciones sin operario",1,{"$f":"ROW()","v":6988},6]
[null,null,"D73116","Servicios de arrendamiento o alquiler de aeronaves sin operario",1,{"$f":"ROW()","v":6989},6]
[null,null,"D73117","Servicios de arrendamiento o alquiler de contenedores",1,{"$f":"ROW()","v":6990},6]
[null,null,"D73121","Servicios de arrendamiento sin opción de compra de maquinaria y equipo agrícola sin operario",1,{"$f":"ROW()","v":6991},6]
[null,null,"D73122","Servicios de arrendamiento o de alquiler de maquinaria y equipo de construcción sin operario",1,{"$f":"ROW()","v":6992},6]
[null,null,"D73123","Servicios de arrendamiento sin opción de compra de maquinaria y equipo de oficina sin operario (excepto computadoras)",1,{"$f":"ROW()","v":6993},6]
[null,null,"D73124","Servicios de arrendamiento sin opción de compra de computadores sin operario",1,{"$f":"ROW()","v":6994},6]
[null,null,"D73125","Servicios de arrendamiento sin opción de compra de equipos de telecomunicaciones sin operario",1,{"$f":"ROW()","v":6995},6]
[null,null,"D73129","Servicios de arrendamiento sin opción de compra de maquinaria y equipo sin operario n.c.p.",1,{"$f":"ROW()","v":6996},6]
[null,null,"D73311","Derechos de uso de programas informáticos",1,{"$f":"ROW()","v":6997},6]
[null,null,"D73312","Derechos de uso de bases de datos",1,{"$f":"ROW()","v":6998},6]
[null,null,"D81111","Servicios de investigación básica en ciencias físicas",1,{"$f":"ROW()","v":6999},6]
[null,null,"D81112","Servicios de investigación básica en química y biología",1,{"$f":"ROW()","v":7000},6]
[null,null,"D81113","Servicios de investigación básica en biotecnología",1,{"$f":"ROW()","v":7001},6]
[null,null,"D81114","Servicios de investigación básica en ingeniería y tecnología",1,{"$f":"ROW()","v":7002},6]
[null,null,"D81115","Servicios de investigación básica en ciencias médicas y farmacia",1,{"$f":"ROW()","v":7003},6]
[null,null,"D81116","Servicios de investigación básica en ciencias agropecuarias",1,{"$f":"ROW()","v":7004},6]
[null,null,"D81119","Servicios de investigación básica en otras ciencias naturales",1,{"$f":"ROW()","v":7005},6]
[null,null,"D81121","Servicios de investigación aplicada en ciencias físicas",1,{"$f":"ROW()","v":7006},6]
[null,null,"D81122","Servicios de investigación aplicada en química y biología",1,{"$f":"ROW()","v":7007},6]
[null,null,"D81123","Servicios de investigación aplicada en biotecnología",1,{"$f":"ROW()","v":7008},6]
[null,null,"D81124","Servicios de investigación aplicada en ingeniería y tecnología",1,{"$f":"ROW()","v":7009},6]
[null,null,"D81125","Servicios de investigación aplicada en ciencias médicas y farmacia",1,{"$f":"ROW()","v":7010},6]
[null,null,"D81126","Servicios de investigación aplicada en ciencias agropecuarias",1,{"$f":"ROW()","v":7011},6]
[null,null,"D81129","Servicios de investigación aplicada en otras ciencias naturales",1,{"$f":"ROW()","v":7012},6]
[null,null,"D81131","Servicios de desarrollo experimental en ciencias físicas",1,{"$f":"ROW()","v":7013},6]
[null,null,"D81132","Servicios de desarrollo experimental en química y biología",1,{"$f":"ROW()","v":7014},6]
[null,null,"D81133","Servicios de desarrollo experimental en biotecnología",1,{"$f":"ROW()","v":7015},6]
[null,null,"D81134","Servicios de desarrollo experimental en ingeniería y tecnología",1,{"$f":"ROW()","v":7016},6]
[null,null,"D81135","Servicios de desarrollo experimental en ciencias médicas y farmacia",1,{"$f":"ROW()","v":7017},6]
[null,null,"D81136","Servicios de desarrollo experimental en ciencias agropecuarias",1,{"$f":"ROW()","v":7018},6]
[null,null,"D81139","Servicios de desarrollo experimental en otras ciencias naturales",1,{"$f":"ROW()","v":7019},6]
[null,null,"D81211","Servicios de investigación básica en psicología",1,{"$f":"ROW()","v":7020},6]
[null,null,"D81212","Servicios de investigación básica en economía",1,{"$f":"ROW()","v":7021},6]
[null,null,"D81213","Servicios de investigación básica en derecho",1,{"$f":"ROW()","v":7022},6]
[null,null,"D81214","Servicios de investigación básica en lenguas y literatura",1,{"$f":"ROW()","v":7023},6]
[null,null,"D81219","Servicios de investigación básica en otras ciencias sociales y humanidades",1,{"$f":"ROW()","v":7024},6]
[null,null,"D81221","Servicios de investigación aplicada en psicología",1,{"$f":"ROW()","v":7025},6]
[null,null,"D81222","Servicios de investigación aplicada en economía",1,{"$f":"ROW()","v":7026},6]
[null,null,"D81223","Servicios de investigación aplicada en derecho",1,{"$f":"ROW()","v":7027},6]
[null,null,"D81224","Servicios de investigación aplicada en lenguas y literatura",1,{"$f":"ROW()","v":7028},6]
[null,null,"D81229","Servicios de investigación aplicada en otras ciencias sociales y humanidades",1,{"$f":"ROW()","v":7029},6]
[null,null,"D81231","Servicios de desarrollo experimental en psicología",1,{"$f":"ROW()","v":7030},6]
[null,null,"D81232","Servicios de desarrollo experimental en economía",1,{"$f":"ROW()","v":7031},6]
[null,null,"D81233","Servicios de desarrollo experimental en derecho",1,{"$f":"ROW()","v":7032},6]
[null,null,"D81234","Servicios de desarrollo experimental en lenguas y literatura",1,{"$f":"ROW()","v":7033},6]
[null,null,"D81239","Servicios de desarrollo experimental en otras ciencias sociales y humanidades",1,{"$f":"ROW()","v":7034},6]
[null,null,"D81301","Servicios interdisciplinarios de investigación básica",1,{"$f":"ROW()","v":7035},6]
[null,null,"D81302","Servicios interdisciplinarios de investigación aplicada",1,{"$f":"ROW()","v":7036},6]
[null,null,"D81303","Servicios interdisciplinarios de desarrollo experimental",1,{"$f":"ROW()","v":7037},6]
[null,null,"D82191","Servicios de arbitraje y conciliación",1,{"$f":"ROW()","v":7038},6]
[null,null,"D82199","Otros servicios jurídicos n.c.p.",1,{"$f":"ROW()","v":7039},6]
[null,null,"D82221","Servicios de contabilidad",1,{"$f":"ROW()","v":7040},6]
[null,null,"D82222","Servicios de teneduría de libros",1,{"$f":"ROW()","v":7041},6]
[null,null,"D82223","Servicios de nómina",1,{"$f":"ROW()","v":7042},6]
[null,null,"D83111","Servicios de consultoría en gestión estratégica",1,{"$f":"ROW()","v":7043},6]
[null,null,"D83112","Servicios de consultoría en gestión financiera",1,{"$f":"ROW()","v":7044},{"$f":"LEN(C7044)","v":6}]
[null,null,"D83113","Servicios de consultoría en administración del recurso humano",1,{"$f":"ROW()","v":7045},6]
[null,null,"D83114","Servicios de consultoría en gestión de marketing",1,{"$f":"ROW()","v":7046},6]
[null,null,"D83115","Servicios de consultoría en gestión administrativa",1,{"$f":"ROW()","v":7047},6]
[null,null,"D83116","Servicios de consultoría en gestión de la cadena de suministro",1,{"$f":"ROW()","v":7048},6]
[null,null,"D83117","Servicios de gestión de desarrollo empresarial",1,{"$f":"ROW()","v":7049},6]
[null,null,"D83118","Servicios de gestión y administración empresarial (oficina central)",1,{"$f":"ROW()","v":7050},6]
[null,null,"D83121","Servicios de relaciones públicas",1,{"$f":"ROW()","v":7051},6]
[null,null,"D83129","Otros servicios de consultoría empresarial",1,{"$f":"ROW()","v":7052},6]
[null,null,"D83131","Servicios de consultoría en tecnologías de la información (TI)",1,{"$f":"ROW()","v":7053},6]
[null,null,"D83132","Servicios de soporte en tecnologías de la información (TI)",1,{"$f":"ROW()","v":7054},6]
[null,null,"D83141","Servicios de diseño y desarrollo de aplicaciones en tecnologías de la información (TI)",1,{"$f":"ROW()","v":7055},6]
[null,null,"D83142","Servicios de diseño y desarrollo de redes y sistemas en tecnologías de la información (TI)",1,{"$f":"ROW()","v":7056},6]
[null,null,"D83143","Software originales",1,{"$f":"ROW()","v":7057},6]
[null,null,"D83151","Servicios de alojamiento de sitios web (hosting)",1,{"$f":"ROW()","v":7058},6]
[null,null,"D83152","Servicios de suministro de aplicaciones",1,{"$f":"ROW()","v":7059},6]
[null,null,"D83159","Otros servicios de alojamiento y suministro de infraestructura en tecnología de la información (TI)",1,{"$f":"ROW()","v":7060},6]
[null,null,"D83161","Servicios de administración de redes",1,{"$f":"ROW()","v":7061},6]
[null,null,"D83162","Servicios de administración de sistemas informáticos",1,{"$f":"ROW()","v":7062},6]
[null,null,"D83211","Servicios de asesoría en arquitectura",1,{"$f":"ROW()","v":7063},6]
[null,null,"D83212","Servicios de arquitectura para proyectos de construcciones residenciales",1,{"$f":"ROW()","v":7064},6]
[null,null,"D83213","Servicios de arquitectura para proyectos de construcciones no residenciales",1,{"$f":"ROW()","v":7065},6]
[null,null,"D83214","Servicios de arquitectura para restauración de construcciones históricas",1,{"$f":"ROW()","v":7066},6]
[null,null,"D83221","Servicios de planeación urbana",1,{"$f":"ROW()","v":7067},6]
[null,null,"D83222","Servicios de planeación rural",1,{"$f":"ROW()","v":7068},6]
[null,null,"D83223","Servicios de planeación de proyectos de construcción territorial",1,{"$f":"ROW()","v":7069},6]
[null,null,"D83231","Servicios de asesoría en arquitectura paisajista",1,{"$f":"ROW()","v":7070},6]
[null,null,"D83232","Servicios de arquitectura paisajista de proyectos de construcción",1,{"$f":"ROW()","v":7071},6]
[null,null,"D83321","Servicios de ingeniería en proyectos de construcción",1,{"$f":"ROW()","v":7072},6]
[null,null,"D83322","Servicios de ingeniería en proyectos industriales y manufactureros",1,{"$f":"ROW()","v":7073},6]
[null,null,"D83323","Servicios de ingeniería en proyectos de transporte",1,{"$f":"ROW()","v":7074},6]
[null,null,"D83324","Servicios de ingeniería en proyectos energéticos",1,{"$f":"ROW()","v":7075},6]
[null,null,"D83325","Servicios de ingeniería en proyectos de telecomunicaciones y radiodifusión",1,{"$f":"ROW()","v":7076},6]
[null,null,"D83326","Servicios de ingeniería en proyectos de gestión de residuos (peligrosos y no peligrosos)",1,{"$f":"ROW()","v":7077},6]
[null,null,"D83327","Servicios de ingeniería en proyectos de tratamiento de agua, drenaje y alcantarillado",1,{"$f":"ROW()","v":7078},6]
[null,null,"D83329","Otros servicios de ingeniería en proyectos n.c.p.",1,{"$f":"ROW()","v":7079},6]
[null,null,"D83411","Servicios de consultoría en geología y geofísica",1,{"$f":"ROW()","v":7080},6]
[null,null,"D83412","Servicios geofísicos",1,{"$f":"ROW()","v":7081},6]
[null,null,"D83413","Servicios de exploración y evaluación minera",1,{"$f":"ROW()","v":7082},6]
[null,null,"D83421","Servicios de topografía del suelo",1,{"$f":"ROW()","v":7083},6]
[null,null,"D83422","Servicios de cartografía",1,{"$f":"ROW()","v":7084},6]
[null,null,"D83441","Servicios de análisis y pruebas de composición y pureza",1,{"$f":"ROW()","v":7085},6]
[null,null,"D83442","Servicios de análisis y ensayo de propiedades físicas",1,{"$f":"ROW()","v":7086},6]
[null,null,"D83443","Servicios de análisis y ensayo de sistemas integrados eléctricos y mecánicos",1,{"$f":"ROW()","v":7087},6]
[null,null,"D83444","Servicios de inspección técnica de vehículos de transporte terrestre",1,{"$f":"ROW()","v":7088},6]
[null,null,"D83449","Otros servicios de ensayos y análisis técnicos",1,{"$f":"ROW()","v":7089},6]
[null,null,"D83611","Servicios integrales de publicidad",1,{"$f":"ROW()","v":7090},6]
[null,null,"D83612","Servicios de marketing directo o publicidad por correo electrónico direccionado",1,{"$f":"ROW()","v":7091},6]
[null,null,"D83619","Otros servicios de publicidad",1,{"$f":"ROW()","v":7092},6]
[null,null,"D83631","Servicios de venta de espacio publicitario en directorios, listas de correo y medios impresos similares (excepto a comisión)",1,{"$f":"ROW()","v":7093},6]
[null,null,"D83633","Servicios de venta de tiempo publicitario en radio (excepto a comisión)",1,{"$f":"ROW()","v":7094},6]
[null,null,"D83634","Servicios de venta de tiempo publicitario en televisión (excepto a comisión)",1,{"$f":"ROW()","v":7095},6]
[null,null,"D83635","Servicios de venta de espacio o tiempo publicitario en Internet (excepto a comisión)",1,{"$f":"ROW()","v":7096},6]
[null,null,"D83639","Otros servicios de venta de espacio o tiempo publicitario (excepto a comisión)",1,{"$f":"ROW()","v":7097},6]
[null,null,"D83811","Servicios fotográficos",1,{"$f":"ROW()","v":7098},6]
[null,null,"D83812","Servicios de fotografía publicitaria",1,{"$f":"ROW()","v":7099},6]
[null,null,"D83813","Servicios de fotografía y videografía para eventos",1,{"$f":"ROW()","v":7100},6]
[null,null,"D83814","Servicios de fotografía especializada",1,{"$f":"ROW()","v":7101},6]
[null,null,"D83815","Servicios de restauración y retocado fotográfico",1,{"$f":"ROW()","v":7102},6]
[null,null,"D83819","Otros servicios de fotografía",1,{"$f":"ROW()","v":7103},6]
[null,null,"D83911","Servicios de diseño de interiores",1,{"$f":"ROW()","v":7104},6]
[null,null,"D83912","Servicios de diseño industrial",1,{"$f":"ROW()","v":7105},6]
[null,null,"D83919","Otros servicios especializados de diseño",1,{"$f":"ROW()","v":7106},6]
[null,null,"D83931","Servicios de consultoría ambiental",1,{"$f":"ROW()","v":7107},6]
[null,null,"D83939","Otros servicios de consultoría científica y técnica n.c.p.",1,{"$f":"ROW()","v":7108},{"$f":"LEN(C7108)","v":6}]
[null,null,"D84131","Servicios móviles de voz",1,{"$f":"ROW()","v":7109},6]
[null,null,"D84132","Servicios móviles de texto",1,{"$f":"ROW()","v":7110},6]
[null,null,"D84133","Servicios móviles de datos, excepto los servicios de texto",1,{"$f":"ROW()","v":7111},6]
[null,null,"D84221","Servicios de acceso a Internet de banda angosta",1,{"$f":"ROW()","v":7112},6]
[null,null,"D84222","Servicios de acceso a Internet de banda ancha",1,{"$f":"ROW()","v":7113},6]
[null,null,"D84311","Servicios de libros en línea (on-line)",1,{"$f":"ROW()","v":7114},6]
[null,null,"D84312","Servicios de periódicos y revistas en línea (on-line)",1,{"$f":"ROW()","v":7115},6]
[null,null,"D84313","Servicios de listas de correo y directorios en línea (on-line)",1,{"$f":"ROW()","v":7116},6]
[null,null,"D84321","Servicios de descargas musicales de audio",1,{"$f":"ROW()","v":7117},6]
[null,null,"D84322","Servicios de transmisión continúa de música y audio por Internet",1,{"$f":"ROW()","v":7118},6]
[null,null,"D84331","Servicios de descargas de películas y otros videos",1,{"$f":"ROW()","v":7119},6]
[null,null,"D84332","Servicios de transmisión de contenidos de video",1,{"$f":"ROW()","v":7120},6]
[null,null,"D84341","Servicios de descarga de software de sistemas",1,{"$f":"ROW()","v":7121},6]
[null,null,"D84342","Servicios de descarga de software de aplicaciones",1,{"$f":"ROW()","v":7122},6]
[null,null,"D84391","Servicios de juegos en línea (on-line)",1,{"$f":"ROW()","v":7123},6]
[null,null,"D84392","Servicios de software en línea (on-line)",1,{"$f":"ROW()","v":7124},6]
[null,null,"D84393","Servicios de contenidos para adultos en línea (on-line)",1,{"$f":"ROW()","v":7125},6]
[null,null,"D84394","Servicios de búsqueda de contenidos en portales web",1,{"$f":"ROW()","v":7126},6]
[null,null,"D84399","Otros servicios de contenidos en línea (on-line) n.c.p.",1,{"$f":"ROW()","v":7127},6]
[null,null,"D84611","Servicios de transmisión de programas de radio",1,{"$f":"ROW()","v":7128},6]
[null,null,"D84612","Servicios de transmisión de programas de televisión",1,{"$f":"ROW()","v":7129},6]
[null,null,"D84621","Servicios de programación de canales de radio",1,{"$f":"ROW()","v":7130},6]
[null,null,"D84622","Servicios de programación para canales de televisión",1,{"$f":"ROW()","v":7131},6]
[null,null,"D84631","Servicios de transmisión",1,{"$f":"ROW()","v":7132},6]
[null,null,"D84632","Servicios de distribución de programas multicanal, en paquete básico de programación",1,{"$f":"ROW()","v":7133},6]
[null,null,"D84633","Servicios de distribución de programas multicanal, en paquete controlado de programación",1,{"$f":"ROW()","v":7134},6]
[null,null,"D84634","Servicios de distribución de programas multicanal, emisión de películas (pago por ver)",1,{"$f":"ROW()","v":7135},6]
[null,null,"D85111","Servicios de selección de altos ejecutivos",1,{"$f":"ROW()","v":7136},6]
[null,null,"D85112","Servicios de reclutamiento y selección de empleados (excepto de altos ejecutivos)",1,{"$f":"ROW()","v":7137},6]
[null,null,"D85113","Servicios de gestión y colocación de empleo",1,{"$f":"ROW()","v":7138},6]
[null,null,"D85114","Servicios del simple intermediario",1,{"$f":"ROW()","v":7139},6]
[null,null,"D85521","Servicios de reserva de alojamiento",1,{"$f":"ROW()","v":7140},6]
[null,null,"D85522","Servicios de intercambio de tiempo compartido",1,{"$f":"ROW()","v":7141},6]
[null,null,"D85523","Servicios de reserva de cruceros",1,{"$f":"ROW()","v":7142},6]
[null,null,"D85524","Servicios de reserva y venta de paquetes turísticos propios",1,{"$f":"ROW()","v":7143},6]
[null,null,"D85525","Servicios de reserva, venta y reventa de paquetes turísticos de terceros (comisión)",1,{"$f":"ROW()","v":7144},6]
[null,null,"D85531","Servicios de reserva, venta y reventa de entradas a centros de convenciones, centros de congresos y salas de exposiciones",1,{"$f":"ROW()","v":7145},6]
[null,null,"D85539","Servicios de reserva, venta y reventa de entradas para eventos, servicios de entretenimiento y esparcimiento y otros servicios de reserva",1,{"$f":"ROW()","v":7146},6]
[null,null,"D85931","Servicios de centros de llamadas telefónicas (call center)",1,{"$f":"ROW()","v":7147},6]
[null,null,"D85939","Otros servicios auxiliares por teléfono",1,{"$f":"ROW()","v":7148},6]
[null,null,"D85951","Servicios de copia y reproducción",1,{"$f":"ROW()","v":7149},6]
[null,null,"D85952","Servicios de compilación de listas para envíos por correo",1,{"$f":"ROW()","v":7150},6]
[null,null,"D85953","Servicios de envío",1,{"$f":"ROW()","v":7151},6]
[null,null,"D85954","Servicios de preparación de documentos y otros servicios especializados de apoyo a oficina",1,{"$f":"ROW()","v":7152},6]
[null,null,"D85961","Servicios de organización y asistencia de convenciones",1,{"$f":"ROW()","v":7153},6]
[null,null,"D85962","Servicios de organización y asistencia de ferias comerciales",1,{"$f":"ROW()","v":7154},6]
[null,null,"D85991","Otros servicios de información",1,{"$f":"ROW()","v":7155},6]
[null,null,"D85999","Otros servicios de apoyo n.c.p.",1,{"$f":"ROW()","v":7156},6]
[null,null,"D86111","Servicios agrícolas posteriores a la cosecha",1,{"$f":"ROW()","v":7157},6]
[null,null,"D86112","Servicios de tratamiento de semillas",1,{"$f":"ROW()","v":7158},6]
[null,null,"D86113","Servicios de producción de cultivos agrícolas transitorios con insumos que son propiedad de otros",1,{"$f":"ROW()","v":7159},6]
[null,null,"D86114","Servicios de producción de cultivos agrícolas permanentes con insumos que son propiedad de otros",1,{"$f":"ROW()","v":7160},6]
[null,null,"D86115","Servicios de propagación de plantas con insumos que son propiedad de otros",1,{"$f":"ROW()","v":7161},6]
[null,null,"D86119","Otros servicios de apoyo a la producción de cultivos",1,{"$f":"ROW()","v":7162},6]
[null,null,"D86121","Servicios de cría de animales de granja con insumos que son propiedad de otros",1,{"$f":"ROW()","v":7163},6]
[null,null,"D86122","Servicios de apoyo a la cría de animales de granja",1,{"$f":"ROW()","v":7164},6]
[null,null,"D86129","Otros servicios de cría de animales",1,{"$f":"ROW()","v":7165},6]
[null,null,"D86131","Servicios de caza con recursos que son propiedad de otros",1,{"$f":"ROW()","v":7166},6]
[null,null,"D86132","Servicios de apoyo a la caza",1,{"$f":"ROW()","v":7167},6]
[null,null,"D86141","Servicios de apoyo a la silvicultura y extracción de madera",1,{"$f":"ROW()","v":7168},6]
[null,null,"D86142","Servicios de silvicultura con insumos que son propiedad de otros",1,{"$f":"ROW()","v":7169},6]
[null,null,"D86143","Servicios de extracción de madera con insumos que son propiedad de otros",1,{"$f":"ROW()","v":7170},6]
[null,null,"D86151","Servicios de pesca marítima con recursos que son propiedad de otros",1,{"$f":"ROW()","v":7171},6]
[null,null,"D86152","Servicios de acuicultura marítima con insumos que son propiedad de otros",1,{"$f":"ROW()","v":7172},{"$f":"LEN(C7172)","v":6}]
[null,null,"D86153","Servicios de apoyo a la pesca marítima",1,{"$f":"ROW()","v":7173},6]
[null,null,"D86154","Servicios de apoyo a la acuicultura marítima",1,{"$f":"ROW()","v":7174},6]
[null,null,"D86155","Servicios de pesca en agua dulce con recursos que son propiedad de otros",1,{"$f":"ROW()","v":7175},6]
[null,null,"D86156","Servicios de acuicultura en agua dulce con insumos que son propiedad de otros",1,{"$f":"ROW()","v":7176},6]
[null,null,"D86157","Servicios de apoyo a la pesca en agua dulce",1,{"$f":"ROW()","v":7177},6]
[null,null,"D86158","Servicios de apoyo a la acuicultura en agua dulce",1,{"$f":"ROW()","v":7178},6]
[null,null,"D86211","Servicios de apoyo a la extracción de petróleo y gas",1,{"$f":"ROW()","v":7179},6]
[null,null,"D86219","Servicios de apoyo a otras minerías",1,{"$f":"ROW()","v":7180},6]
[null,null,"D86221","Servicios de extracción de petróleo con recursos que son propiedad de otros",1,{"$f":"ROW()","v":7181},6]
[null,null,"D86222","Servicios de extracción de gas con recursos que son propiedad de otros",1,{"$f":"ROW()","v":7182},6]
[null,null,"D86231","Servicios de extracción de carbón de piedra con recursos que son propiedad de otros",1,{"$f":"ROW()","v":7183},6]
[null,null,"D86232","Servicios de extracción de carbón lignito con recursos que son propiedad de otros",1,{"$f":"ROW()","v":7184},6]
[null,null,"D86241","Servicios de extracción de minerales de hierro con recursos que son propiedad de otros",1,{"$f":"ROW()","v":7185},6]
[null,null,"D86242","Servicios de extracción de minerales de uranio y torio con recursos que son propiedad de otros",1,{"$f":"ROW()","v":7186},6]
[null,null,"D86243","Servicios de extracción de oro y otros metales preciosos con recursos que son propiedad de otros",1,{"$f":"ROW()","v":7187},6]
[null,null,"D86244","Servicios de extracción de minerales de níquel con recursos que son propiedad de otros",1,{"$f":"ROW()","v":7188},6]
[null,null,"D86249","Servicios de extracción de otros minerales metalíferos n.c.p., con recursos que son propiedad de otros",1,{"$f":"ROW()","v":7189},6]
[null,null,"D86251","Servicios de extracción de piedra, arena, arcillas comunes, yeso y anhidrita con recursos que son propiedad de otros",1,{"$f":"ROW()","v":7190},6]
[null,null,"D86252","Servicios de extracción de arcillas de uso industrial, caliza, caolín y bentonitas con recursos que son propiedad de otros",1,{"$f":"ROW()","v":7191},6]
[null,null,"D86253","Servicios de extracción de esmeraldas, piedras preciosas y semipreciosas con recursos que son propiedad de otros",1,{"$f":"ROW()","v":7192},6]
[null,null,"D86254","Servicios de extracción de minerales para la fabricación de abonos y productos químicos con recursos que son propiedad de otros",1,{"$f":"ROW()","v":7193},6]
[null,null,"D86255","Servicios de extracción de halita (sal) con recursos que son propiedad de otros",1,{"$f":"ROW()","v":7194},6]
[null,null,"D86256","Servicios de extracción de otros minerales no metálicos n.c.p., con recursos que son propiedad de otros",1,{"$f":"ROW()","v":7195},6]
[null,null,"D86311","Servicios de transmisión de electricidad (a comisión o por contrato)",1,{"$f":"ROW()","v":7196},6]
[null,null,"D86312","Servicios de distribución de electricidad (a comisión o por contrato)",1,{"$f":"ROW()","v":7197},6]
[null,null,"D87142","Servicios de mantenimiento y reparación de motocicletas",1,{"$f":"ROW()","v":7198},6]
[null,null,"D87143","Servicios de mantenimiento y reparación de remolques y semirremolques",1,{"$f":"ROW()","v":7199},6]
[null,null,"D87151","Servicios de mantenimiento y reparación de electrodomésticos",1,{"$f":"ROW()","v":7200},6]
[null,null,"D87332","Servicios de instalación de computadores personales y equipo periférico",1,{"$f":"ROW()","v":7201},6]
[null,null,"D88162","Servicios de elaboración de almidones y productos derivados del almidón",1,{"$f":"ROW()","v":7202},6]
[null,null,"D88163","Servicios de elaboración de productos de panadería",1,{"$f":"ROW()","v":7203},6]
[null,null,"D88164","Servicios de elaboración de azúcar y panela",1,{"$f":"ROW()","v":7204},6]
[null,null,"D88165","Servicios de elaboración de cacao, chocolate y productos de confitería",1,{"$f":"ROW()","v":7205},6]
[null,null,"D88166","Servicios de elaboración de macarrones, fideos, alcuzcuz y productos farináceos similares",1,{"$f":"ROW()","v":7206},6]
[null,null,"D88167","Servicios de elaboración de comidas y platos preparados",1,{"$f":"ROW()","v":7207},6]
[null,null,"D88168","Servicios de elaboración de productos de café",1,{"$f":"ROW()","v":7208},6]
[null,null,"D88169","Servicios de elaboración de otros productos alimenticios n.c.p.",1,{"$f":"ROW()","v":7209},6]
[null,null,"D88181","Servicios de destilación, rectificación y mezcla de bebidas alcohólicas",1,{"$f":"ROW()","v":7210},6]
[null,null,"D88182","Servicios de elaboración de bebidas fermentadas no destiladas",1,{"$f":"ROW()","v":7211},6]
[null,null,"D88183","Servicios de producción de malta, elaboración de cervezas y otras bebidas malteadas",1,{"$f":"ROW()","v":7212},6]
[null,null,"D88184","Servicios de elaboración de bebidas no alcohólicas; producción de aguas minerales y de otras aguas embotelladas",1,{"$f":"ROW()","v":7213},6]
[null,null,"D88212","Servicios de tejeduría de productos textiles",1,{"$f":"ROW()","v":7214},6]
[null,null,"D88214","Servicios de fabricación de tejidos de punto y ganchillo",1,{"$f":"ROW()","v":7215},6]
[null,null,"D88215","Servicios de confección de artículos con materiales textiles",1,{"$f":"ROW()","v":7216},6]
[null,null,"D88216","Servicios de fabricación de tapetes y alfombras para pisos",1,{"$f":"ROW()","v":7217},6]
[null,null,"D88217","Servicios de fabricación de cuerdas, cordeles, bramantes y redes",1,{"$f":"ROW()","v":7218},6]
[null,null,"D88219","Servicios de fabricación de otros artículos textiles n.c.p.",1,{"$f":"ROW()","v":7219},6]
[null,null,"D88221","Servicios de fabricación de prendas de vestir (excepto prendas de piel)",1,{"$f":"ROW()","v":7220},6]
[null,null,"D88222","Servicios de fabricación de artículos de piel",1,{"$f":"ROW()","v":7221},6]
[null,null,"D88223","Servicios de fabricación de artículos de punto y ganchillo",1,{"$f":"ROW()","v":7222},6]
[null,null,"D88232","Servicios de fabricación de maletas, bolsos de mano y artículos similares elaborados en cuero",1,{"$f":"ROW()","v":7223},6]
[null,null,"D88312","Servicios de fabricación de hojas de madera para enchapado y paneles de madera",1,{"$f":"ROW()","v":7224},6]
[null,null,"D88313","Servicios de fabricación de partes y piezas de carpintería",1,{"$f":"ROW()","v":7225},6]
[null,null,"D88314","Servicios de fabricación de recipientes de madera",1,{"$f":"ROW()","v":7226},6]
[null,null,"D88319","Otros servicios de fabricación de productos de la madera",1,{"$f":"ROW()","v":7227},6]
[null,null,"D88321","Servicios de fabricación de pulpa, papel y cartón",1,{"$f":"ROW()","v":7228},6]
[null,null,"D88322","Servicios de fabricación de papel y cartón corrugado",1,{"$f":"ROW()","v":7229},6]
[null,null,"D88329","Servicios de fabricación de otros artículos de papel",1,{"$f":"ROW()","v":7230},6]
[null,null,"D88411","Servicios de fabricación de productos de horno de coque",1,{"$f":"ROW()","v":7231},6]
[null,null,"D88412","Servicios de fabricación de productos de la refinación del petróleo",1,{"$f":"ROW()","v":7232},6]
[null,null,"D88413","Servicios de mezcla de combustibles",1,{"$f":"ROW()","v":7233},6]
[null,null,"D88421","Servicios de fabricación de productos químicos básicos",1,{"$f":"ROW()","v":7234},6]
[null,null,"D88422","Servicios de fabricación de abonos y compuestos nitrogenados",1,{"$f":"ROW()","v":7235},6]
[null,null,"D88423","Servicios de fabricación de plásticos en formas primarias",1,{"$f":"ROW()","v":7236},{"$f":"LEN(C7236)","v":6}]
[null,null,"D88424","Servicios de fabricación de caucho sintético en formas primarias",1,{"$f":"ROW()","v":7237},6]
[null,null,"D88425","Servicios de fabricación de plaguicidas y otros productos químicos de uso agropecuario",1,{"$f":"ROW()","v":7238},6]
[null,null,"D88426","Servicios de fabricación de pinturas, barnices y revestimientos similares, tintas para impresión y masillas",1,{"$f":"ROW()","v":7239},6]
[null,null,"D88427","Servicios de fabricación de jabones y detergentes, preparados para limpiar y pulir; perfumes y preparados de tocador",1,{"$f":"ROW()","v":7240},6]
[null,null,"D88428","Servicios de fabricación de otros productos químicos n.c.p.",1,{"$f":"ROW()","v":7241},6]
[null,null,"D88429","Servicios de fabricación de fibras sintéticas y artificiales",1,{"$f":"ROW()","v":7242},6]
[null,null,"D88511","Servicios de fabricación de llantas y neumáticos de caucho",1,{"$f":"ROW()","v":7243},6]
[null,null,"D88512","Servicios de reencauche de llantas usadas",1,{"$f":"ROW()","v":7244},6]
[null,null,"D88513","Servicios de fabricación de formas básicas de caucho y otros productos de caucho n.c.p.",1,{"$f":"ROW()","v":7245},6]
[null,null,"D88521","Servicios de fabricación de formas básicas de plástico",1,{"$f":"ROW()","v":7246},6]
[null,null,"D88522","Servicios de fabricación de artículos de plástico n.c.p.",1,{"$f":"ROW()","v":7247},6]
[null,null,"D88532","Servicios de fabricación de productos refractarios",1,{"$f":"ROW()","v":7248},6]
[null,null,"D88533","Servicios de fabricación de materiales para la construcción, hechos de arcilla",1,{"$f":"ROW()","v":7249},6]
[null,null,"D88535","Servicios de fabricación de cemento, cal y yeso",1,{"$f":"ROW()","v":7250},6]
[null,null,"D88536","Servicios de fabricación de artículos de hormigón, cemento y yeso",1,{"$f":"ROW()","v":7251},6]
[null,null,"D88537","Servicios de corte, tallado y acabado de piedra",1,{"$f":"ROW()","v":7252},6]
[null,null,"D88539","Servicios de fabricación de otros productos minerales no metálicos n.c.p.",1,{"$f":"ROW()","v":7253},6]
[null,null,"D88601","Servicios de fabricación de productos industriales básicos de hierro y acero",1,{"$f":"ROW()","v":7254},6]
[null,null,"D88602","Servicios de fabricación de productos industriales básicos de metales preciosos y otros metales no ferrosos",1,{"$f":"ROW()","v":7255},6]
[null,null,"D88711","Servicios de fabricación de productos metálicos estructurales",1,{"$f":"ROW()","v":7256},6]
[null,null,"D88712","Servicio de fabricación de tanques, depósitos y contenedores de metal",1,{"$f":"ROW()","v":7257},6]
[null,null,"D88713","Servicios de fabricación de generadores de vapor",1,{"$f":"ROW()","v":7258},6]
[null,null,"D88733","Servicios de fabricación de artículos de cuchillería, herramientas de mano y artículos de ferretería",1,{"$f":"ROW()","v":7259},6]
[null,null,"D88739","Servicios de fabricación de otros productos elaborados de metal n.c.p.",1,{"$f":"ROW()","v":7260},6]
[null,null,"D88741","Servicios de fabricación de tarjetas y componentes electrónicos",1,{"$f":"ROW()","v":7261},6]
[null,null,"D88743","Servicios de fabricación de equipos de comunicación",1,{"$f":"ROW()","v":7262},6]
[null,null,"D88744","Servicios de fabricación de productos electrónicos de consumo",1,{"$f":"ROW()","v":7263},6]
[null,null,"D88745","Servicios de fabricación de equipos de medición, prueba, navegación y control",1,{"$f":"ROW()","v":7264},6]
[null,null,"D88746","Servicios de fabricación de relojes y relojes de pulsera",1,{"$f":"ROW()","v":7265},6]
[null,null,"D88747","Servicios de fabricación de equipos de irradiación, electromédicos y electroterapéuticos",1,{"$f":"ROW()","v":7266},6]
[null,null,"D88748","Servicios de fabricación de instrumentos ópticos y equipo fotográfico",1,{"$f":"ROW()","v":7267},6]
[null,null,"D88749","Servicios de fabricación de medios magnéticos y ópticos",1,{"$f":"ROW()","v":7268},6]
[null,null,"D88751","Servicios de fabricación de motores eléctricos, generadores, transformadores y aparatos de distribución y control de la electricidad",1,{"$f":"ROW()","v":7269},6]
[null,null,"D88752","Servicios de fabricación de baterías y acumuladores",1,{"$f":"ROW()","v":7270},6]
[null,null,"D88753","Servicios de fabricación de cable de fibra óptica",1,{"$f":"ROW()","v":7271},6]
[null,null,"D88754","Servicios de fabricación de otros alambres y cables electrónicos y eléctricos",1,{"$f":"ROW()","v":7272},6]
[null,null,"D88755","Servicios de fabricación de dispositivos de cableado",1,{"$f":"ROW()","v":7273},6]
[null,null,"D88756","Servicios de fabricación de equipo de iluminación eléctrica",1,{"$f":"ROW()","v":7274},6]
[null,null,"D88757","Servicios de fabricación de electrodomésticos",1,{"$f":"ROW()","v":7275},6]
[null,null,"D88759","Servicios de fabricación de otros equipos eléctricos",1,{"$f":"ROW()","v":7276},6]
[null,null,"D88762","Servicios de fabricación de equipos de potencia hidráulica y neumática",1,{"$f":"ROW()","v":7277},6]
[null,null,"D88763","Servicios de fabricación de otras bombas, compresores, grifos y válvulas",1,{"$f":"ROW()","v":7278},6]
[null,null,"D88764","Servicios de fabricación de cojinetes, engranajes, trenes de engranaje y piezas de transmisión",1,{"$f":"ROW()","v":7279},6]
[null,null,"D88765","Servicios de fabricación de hornos, hogares y quemadores industriales",1,{"$f":"ROW()","v":7280},6]
[null,null,"D88766","Servicios de fabricación de equipos de elevación y manipulación",1,{"$f":"ROW()","v":7281},6]
[null,null,"D88767","Servicios de fabricación de maquinaria y equipo para oficina (excepto computadores y equipo periférico)",1,{"$f":"ROW()","v":7282},6]
[null,null,"D88768","Servicios de fabricación de herramientas manuales con motor",1,{"$f":"ROW()","v":7283},6]
[null,null,"D88769","Servicios de fabricación de otros tipos de maquinaria y equipo de uso general n.c.p.",1,{"$f":"ROW()","v":7284},6]
[null,null,"D88771","Servicios de fabricación de maquinaria agrícola y forestal",1,{"$f":"ROW()","v":7285},6]
[null,null,"D88773","Servicios de fabricación de maquinaria para la metalurgia",1,{"$f":"ROW()","v":7286},6]
[null,null,"D88774","Servicios de fabricación de maquinaria para la explotación de minas y canteras y para obras de construcción",1,{"$f":"ROW()","v":7287},6]
[null,null,"D88775","Servicios de fabricación de maquinaria para el procesamiento de alimentos, bebidas y tabaco",1,{"$f":"ROW()","v":7288},6]
[null,null,"D88821","Servicios de construcción de barcos y de estructuras flotantes",1,{"$f":"ROW()","v":7289},6]
[null,null,"D88823","Servicios de fabricación de locomotoras y de material rodante para ferrocarriles",1,{"$f":"ROW()","v":7290},6]
[null,null,"D88825","Servicios de fabricación de vehículos militares de combate",1,{"$f":"ROW()","v":7291},6]
[null,null,"D88826","Servicios de fabricación de motocicletas",1,{"$f":"ROW()","v":7292},6]
[null,null,"D88827","Servicios de fabricación de bicicletas y sillas de ruedas para personas con discapacidad",1,{"$f":"ROW()","v":7293},6]
[null,null,"D88829","Servicios de fabricación de otros equipos de transporte n.c.p.",1,{"$f":"ROW()","v":7294},6]
[null,null,"D88902","Servicios de fabricación de joyas",1,{"$f":"ROW()","v":7295},6]
[null,null,"D88903","Servicios de fabricación de bisutería",1,{"$f":"ROW()","v":7296},6]
[null,null,"D88904","Servicios de fabricación de instrumentos musicales",1,{"$f":"ROW()","v":7297},6]
[null,null,"D88905","Servicios de fabricación de artículos y equipo para la práctica del deporte",1,{"$f":"ROW()","v":7298},6]
[null,null,"D88906","Servicios de fabricación de juegos y juguetes",1,{"$f":"ROW()","v":7299},6]
[null,null,"D91111","Servicios legislativos de la administración pública",1,{"$f":"ROW()","v":7300},{"$f":"LEN(C7300)","v":6}]
[null,null,"D91112","Servicios ejecutivos de la administración pública",1,{"$f":"ROW()","v":7301},6]
[null,null,"D91113","Servicios financieros y fiscales de la administración pública",1,{"$f":"ROW()","v":7302},6]
[null,null,"D91114","Servicios de planificación económica, social y estadística de la administración publica",1,{"$f":"ROW()","v":7303},6]
[null,null,"D91115","Servicios gubernamentales de investigación y desarrollo",1,{"$f":"ROW()","v":7304},6]
[null,null,"D91116","Servicios de los órganos de control y otras instituciones ",1,{"$f":"ROW()","v":7305},6]
[null,null,"D91119","Otros servicios de la administración pública n.c.p.",1,{"$f":"ROW()","v":7306},6]
[null,null,"D91121","Servicios de la administración pública relacionados con la educación",1,{"$f":"ROW()","v":7307},6]
[null,null,"D91122","Servicios de la administración pública relacionados con la salud",1,{"$f":"ROW()","v":7308},6]
[null,null,"D91123","Servicios de la administración pública relacionados con la vivienda e infraestructura de servicios públicos",1,{"$f":"ROW()","v":7309},6]
[null,null,"D91124","Servicios de la administración pública relacionados con la recreación, la cultura y la religión",1,{"$f":"ROW()","v":7310},6]
[null,null,"D91131","Servicios de la administración pública relacionados con la agricultura, silvicultura, pesca y caza",1,{"$f":"ROW()","v":7311},6]
[null,null,"D91132","Servicios de la administración pública relacionados con la energía y los combustibles",1,{"$f":"ROW()","v":7312},6]
[null,null,"D91133","Servicios de la administración pública relacionados con la industria, la construcción y los recursos minerales",1,{"$f":"ROW()","v":7313},6]
[null,null,"D91134","Servicios de la administración pública relacionados con el transporte y las comunicaciones",1,{"$f":"ROW()","v":7314},6]
[null,null,"D91135","Servicios de la administración pública relacionados con hoteles, restaurantes, preparación, distribución y comercio de comidas (catering)",1,{"$f":"ROW()","v":7315},6]
[null,null,"D91136","Servicios de la administración pública relacionados con el turismo",1,{"$f":"ROW()","v":7316},6]
[null,null,"D91137","Servicios de la administración pública relacionados con proyectos de desarrollo de uso múltiple",1,{"$f":"ROW()","v":7317},6]
[null,null,"D91138","Servicios de la administración pública relacionados con asuntos económicos, comerciales y laborales",1,{"$f":"ROW()","v":7318},6]
[null,null,"D91191","Servicios administrativos relacionados con los trabajadores estatales",1,{"$f":"ROW()","v":7319},6]
[null,null,"D91199","Otros servicios administrativos del gobierno n.c.p.",1,{"$f":"ROW()","v":7320},6]
[null,null,"D92101","Servicios de educación inicial",1,{"$f":"ROW()","v":7321},6]
[null,null,"D92102","Servicios de educación preescolar",1,{"$f":"ROW()","v":7322},6]
[null,null,"D92511","Servicios de educación superior nivel pregrado técnica profesional y tecnológica",1,{"$f":"ROW()","v":7323},6]
[null,null,"D92512","Servicios de educación superior nivel pregrado universitaria",1,{"$f":"ROW()","v":7324},6]
[null,null,"D92521","Servicios de educación superior nivel posgrado en especialización",1,{"$f":"ROW()","v":7325},6]
[null,null,"D92522","Servicios de educación superior nivel posgrado en maestría",1,{"$f":"ROW()","v":7326},6]
[null,null,"D92523","Servicios de educación superior nivel posgrado en doctorado y posdoctorado",1,{"$f":"ROW()","v":7327},6]
[null,null,"D92911","Servicios de educación artística y cultural",1,{"$f":"ROW()","v":7328},6]
[null,null,"D92912","Servicios de educación deportiva y de recreación",1,{"$f":"ROW()","v":7329},6]
[null,null,"D92913","Servicios de educación para la formación y el trabajo",1,{"$f":"ROW()","v":7330},6]
[null,null,"D92919","Otros tipos de servicios educativos y de formación, n.c.p.",1,{"$f":"ROW()","v":7331},6]
[null,null,"D93111","Servicios quirúrgicos a pacientes hospitalizados",1,{"$f":"ROW()","v":7332},6]
[null,null,"D93112","Servicios de ginecología y obstetricia a pacientes hospitalizados",1,{"$f":"ROW()","v":7333},6]
[null,null,"D93113","Servicios psiquiátricos a pacientes hospitalizados",1,{"$f":"ROW()","v":7334},6]
[null,null,"D93119","Otros servicios para pacientes hospitalizados",1,{"$f":"ROW()","v":7335},6]
[null,null,"D93121","Servicios médicos generales",1,{"$f":"ROW()","v":7336},6]
[null,null,"D93122","Servicios médicos especializados",1,{"$f":"ROW()","v":7337},6]
[null,null,"D93123","Servicios odontológicos",1,{"$f":"ROW()","v":7338},6]
[null,null,"D93191","Servicios de parto y afines",1,{"$f":"ROW()","v":7339},6]
[null,null,"D93192","Servicios de enfermería",1,{"$f":"ROW()","v":7340},6]
[null,null,"D93193","Servicios fisioterapéuticos",1,{"$f":"ROW()","v":7341},6]
[null,null,"D93194","Servicios de ambulancia",1,{"$f":"ROW()","v":7342},6]
[null,null,"D93195","Servicios de laboratorio",1,{"$f":"ROW()","v":7343},6]
[null,null,"D93196","Servicios de diagnóstico de imágenes",1,{"$f":"ROW()","v":7344},6]
[null,null,"D93197","Servicios de bancos de sangre, órganos y esperma",1,{"$f":"ROW()","v":7345},6]
[null,null,"D93199","Otros servicios sanitarios n.c.p.",1,{"$f":"ROW()","v":7346},6]
[null,null,"D93221","Servicios de atención residencial para personas mayores",1,{"$f":"ROW()","v":7347},6]
[null,null,"D93222","Servicios de atención residencial para personas jóvenes con discapacidad",1,{"$f":"ROW()","v":7348},6]
[null,null,"D93223","Servicios de atención residencial para adultos con discapacidad",1,{"$f":"ROW()","v":7349},6]
[null,null,"D93301","Servicios de atención residencial para niños con retraso mental, enfermedad mental o abuso de sustancias psicoactivas",1,{"$f":"ROW()","v":7350},6]
[null,null,"D93302","Otros servicios sociales con alojamiento para niños",1,{"$f":"ROW()","v":7351},6]
[null,null,"D93303","Servicios de atención residencial para adultos con retraso mental, enfermedad mental o abuso de sustancias",1,{"$f":"ROW()","v":7352},6]
[null,null,"D93304","Otros servicios sociales con alojamiento para adultos",1,{"$f":"ROW()","v":7353},6]
[null,null,"D93411","Servicios de rehabilitación profesional para personas con discapacidad",1,{"$f":"ROW()","v":7354},6]
[null,null,"D93412","Servicios de rehabilitación profesional para personas desempleadas",1,{"$f":"ROW()","v":7355},6]
[null,null,"D93491","Otros servicios sociales sin alojamiento para personas mayores",1,{"$f":"ROW()","v":7356},6]
[null,null,"D93492","Otros servicios sociales sin alojamiento para niños con discapacidad",1,{"$f":"ROW()","v":7357},6]
[null,null,"D93493","Otros servicios sociales sin alojamiento para adultos con discapacidad",1,{"$f":"ROW()","v":7358},6]
[null,null,"D94211","Servicios de recolección de desechos hospitalarios y otros desechos biológicos peligrosos",1,{"$f":"ROW()","v":7359},6]
[null,null,"D94212","Servicios de recolección de desechos peligrosos de origen industrial (excepto hospitalarios y otros desechos biológicos peligrosos)",1,{"$f":"ROW()","v":7360},6]
[null,null,"D94219","Servicios de recolección de otros desechos peligrosos",1,{"$f":"ROW()","v":7361},6]
[null,null,"D94221","Servicios de recolección de materiales reciclables no peligrosos, residenciales",1,{"$f":"ROW()","v":7362},6]
[null,null,"D94229","Servicios de recolección de otros materiales reciclables no peligrosos",1,{"$f":"ROW()","v":7363},6]
[null,null,"D94231","Servicios generales de recolección de desechos residenciales",1,{"$f":"ROW()","v":7364},{"$f":"LEN(C7364)","v":6}]
[null,null,"D94239","Servicios generales de recolección de otros desechos",1,{"$f":"ROW()","v":7365},6]
[null,null,"D94311","Servicios de preparación, consolidación y almacenamiento de desechos peligrosos",1,{"$f":"ROW()","v":7366},6]
[null,null,"D94312","Servicios de desguace de buques (restos de naufragios) y otros desmantelamientos",1,{"$f":"ROW()","v":7367},6]
[null,null,"D94313","Servicios de preparación, consolidación y almacenamiento de materiales reciclables no peligrosos",1,{"$f":"ROW()","v":7368},6]
[null,null,"D94319","Servicios de preparación, consolidación y almacenamiento de otros desechos no peligrosos",1,{"$f":"ROW()","v":7369},6]
[null,null,"D94321","Servicios de tratamiento de desechos peligrosos",1,{"$f":"ROW()","v":7370},6]
[null,null,"D94322","Servicios de disposición de desechos peligrosos",1,{"$f":"ROW()","v":7371},6]
[null,null,"D94331","Servicios de rellenos sanitarios para desechos no peligrosos",1,{"$f":"ROW()","v":7372},6]
[null,null,"D94332","Otros servicios de relleno sanitario para desechos no peligrosos",1,{"$f":"ROW()","v":7373},6]
[null,null,"D94333","Incineración de desechos no peligrosos",1,{"$f":"ROW()","v":7374},6]
[null,null,"D94339","Otros servicios de tratamiento y disposición de desechos no peligrosos",1,{"$f":"ROW()","v":7375},6]
[null,null,"D94411","Servicio de descontaminación y limpieza del aire en establecimientos",1,{"$f":"ROW()","v":7376},6]
[null,null,"D94412","Servicio de descontaminación de establecimientos y limpieza de agua superficial",1,{"$f":"ROW()","v":7377},6]
[null,null,"D94413","Servicio de descontaminación de establecimientos y limpieza de suelos y aguas subterráneas",1,{"$f":"ROW()","v":7378},6]
[null,null,"D95991","Servicios proporcionados por organizaciones de derechos humanos",1,{"$f":"ROW()","v":7379},6]
[null,null,"D95992","Servicios proporcionados por grupos defensores ambientalistas",1,{"$f":"ROW()","v":7380},6]
[null,null,"D95993","Otros servicios defensores de grupos especiales",1,{"$f":"ROW()","v":7381},6]
[null,null,"D95994","Otros servicios de apoyo para el mejoramiento del comportamiento cívico y de las infraestructuras comunitarias",1,{"$f":"ROW()","v":7382},6]
[null,null,"D95995","Servicios suministrados por asociaciones juveniles",1,{"$f":"ROW()","v":7383},6]
[null,null,"D95996","Servicios de otorgamiento de apoyo económico no reembolsable (subvenciones)",1,{"$f":"ROW()","v":7384},6]
[null,null,"D95997","Asociaciones culturales y recreativas (excepto las asociaciones deportivas o de juegos)",1,{"$f":"ROW()","v":7385},6]
[null,null,"D95998","Otras organizaciones cívicas y sociales",1,{"$f":"ROW()","v":7386},6]
[null,null,"D95999","Otros servicios suministrados por asociaciones n.c.p.",1,{"$f":"ROW()","v":7387},6]
[null,null,"D96111","Servicios de grabación de sonido, excepto los servicios de grabación en vivo",1,{"$f":"ROW()","v":7388},6]
[null,null,"D96112","Servicios de grabación en vivo",1,{"$f":"ROW()","v":7389},6]
[null,null,"D96113","Servicios de grabación de sonidos originales",1,{"$f":"ROW()","v":7390},6]
[null,null,"D96114","Servicios de diseño, producción y edición de sonido",1,{"$f":"ROW()","v":7391},6]
[null,null,"D96115","Servicios de postproducción sonora y musical",1,{"$f":"ROW()","v":7392},6]
[null,null,"D96116","Servicios de distribución de productos musicales",1,{"$f":"ROW()","v":7393},6]
[null,null,"D96121","Servicios de producción de películas cinematográficas, vídeos y programas de televisión",1,{"$f":"ROW()","v":7394},6]
[null,null,"D96122","Servicios de producción de programas de radio",1,{"$f":"ROW()","v":7395},6]
[null,null,"D96123","Servicios de producciones originales de películas cinematográficas, videos, programas de televisión y radio",1,{"$f":"ROW()","v":7396},6]
[null,null,"D96131","Servicios de edición audiovisual",1,{"$f":"ROW()","v":7397},6]
[null,null,"D96132","Servicios maestros de transferencia y duplicación",1,{"$f":"ROW()","v":7398},6]
[null,null,"D96133","Servicios de restauración digital y corrección de color",1,{"$f":"ROW()","v":7399},6]
[null,null,"D96134","Servicios de efectos visuales",1,{"$f":"ROW()","v":7400},6]
[null,null,"D96135","Servicios de animación",1,{"$f":"ROW()","v":7401},6]
[null,null,"D96136","Servicios de títulos y subtítulos",1,{"$f":"ROW()","v":7402},6]
[null,null,"D96137","Servicios de diseño y edición de sonido",1,{"$f":"ROW()","v":7403},6]
[null,null,"D96139","Otros servicios de post-producción",1,{"$f":"ROW()","v":7404},6]
[null,null,"D96411","Servicios de museos, excepto los servicios de preservación de lugares y edificios históricos",1,{"$f":"ROW()","v":7405},6]
[null,null,"D96412","Servicios de preservación de lugares y edificios históricos",1,{"$f":"ROW()","v":7406},6]
[null,null,"D96421","Servicios de jardines botánicos y zoológicos",1,{"$f":"ROW()","v":7407},6]
[null,null,"D96422","Servicios de reservas naturales, incluidos los servicios de conservación de la fauna silvestre",1,{"$f":"ROW()","v":7408},6]
[null,null,"D96511","Servicios de promoción de eventos deportivos y recreativos",1,{"$f":"ROW()","v":7409},6]
[null,null,"D96512","Servicios de clubes deportivos",1,{"$f":"ROW()","v":7410},6]
[null,null,"D96921","Servicios de juegos de azar en línea (on line)",1,{"$f":"ROW()","v":7411},6]
[null,null,"D96929","Otros servicios de apuestas y juegos de azar",1,{"$f":"ROW()","v":7412},6]

{"sheet":"Hoja3","index":4,"n_rows":7,"n_cols":13,"rows_kept":7,"cut":false,"hidden":true,"merged":[[3,10,3,11],[2,4,2,12],[3,12,4,12],[2,1,4,2],[2,3,4,3],[3,4,3,5],[3,6,3,7],[3,8,3,9]]}
[]
[]
[null,"RUBROS",null,"JUSTIFICACIÓN"," Fuentes (Miles de $)"]
[null,null,null,null,"*UMNG",null,"Nacional",null,"Javeriana",null,"ICESI",null,"Total"]
[null,null,null,null,"Efectivo ","Especie","Efectivo ","Especie","Efectivo ","Especie","Efectivo ","Especie"]
[]
[null,{"$f":"COLUMN()-1","v":1},{"$f":"COLUMN()-1","v":2},3,4,5,6,7,8,9,10,11,12]

{"sheet":"TB","index":5,"n_rows":48,"n_cols":55,"rows_kept":48,"cut":false,"hidden":true,"merged":[[23,1,23,3],[26,1,26,3],[29,1,29,3],[3,24,3,25],[3,26,4,26],[5,1,5,3],[9,1,9,3],[12,1,12,3],[16,1,16,3],[3,12,3,13],[3,14,3,15],[3,16,3,17],[3,18,3,19],[3,20,3,21],[3,22,3,23],[0,3,1,3],[0,4,0,26],[1,4,1,26],[2,1,4,2],[2,3,4,3],[2,4,2,26],[3,4,3,5],[3,6,3,7],[3,8,3,9],[3,10,3,11]]}
[null,null,null,null,"PRESUPUESTO PARA PROYECTO DE INICIACIÓN CIENTÍFICA-PI"]
[null,null,null,null,{"$f":"\"Tabla 1. PRESUPUESTO GLOBAL PROYECTO \"&Presupuesto!D7","v":"Tabla 1. PRESUPUESTO GLOBAL PROYECTO "}]
[null,"RUBROS",null,"JUSTIFICACIÓN"," Fuentes (Miles de $)"]
[null,null,null,null,"*UMNG",null,"Entidad1",null,"Entidad2",null,"Entidad3",null,"Entidad4",null,"Entidad5",null,"Entidad6",null,"Entidad7",null,"Entidad8",null,"Entidad9",null,"Entidad10",null,"Total"]
[null,null,null,null,"Efectivo ","Especie","Efectivo ","Especie","Efectivo ","Especie","Efectivo ","Especie","Efectivo ","Especie","Efectivo ","Especie","Efectivo ","Especie","Efectivo ","Especie","Efectivo ","Especie","Efectivo ","Especie","Efectivo ","Especie"]
[null,"1.1. GASTOS DE PERSONAL (no esta en la lista de rubros)",null,null,{"$f":"SUM(E8:E9)","v":0},{"$f":"SUM(F8:F9)","v":0},0,0,0,0,0,0,0,0,0,0,0,0,0,0,0,0,0,0,0,0,{"$f":"SUM(E6:Z6)","v":0}]
[null,"RUBROS","CÓDIGO","JUSTIFICACIÓN"]
[null,"COMPENSACIÓN ORDINARIA (incluye parafiscales y seguridad social)",0,null,0,0,null,null,null,null,null,null,null,null,null,null,null,null,null,null,null,null,null,null,null,null,{"$f":"SUM(E8:Z8)","v":0}]
[null,"PERSONAL DE OTRAS ENTIDADES",0,null,0,0,null,null,null,null,null,null,null,null,null,null,null,null,null,null,null,null,null,null,null,null,{"$f":"SUM(E9:Z9)","v":0}]
[null,"1.1. PERSONAL CIENTÍFICO Y DE APOYO",null,null,{"$f":"SUM(E12:E12)","v":0},{"$f":"SUM(F12:F12)","v":0},0,0,0,0,0,0,0,0,0,0,0,0,0,0,0,0,0,0,0,0,{"$f":"SUM(E10:Z10)","v":0}]
[null,"RUBROS","CÓDIGO","JUSTIFICACIÓN",null,null,null,null,null,null,null,null,null,null,null,null,null,null,null,null,null,null,null,null,null,null,0,null,null,null,null,null,null,null,null,null,null,null,null,null,null,null,null,null,null,null,null,null,null,null,null,null,"ID Rubro","RUBRO","Fila"]
[611401,"Personal",611401,null,{"$f":"VLOOKUP($A12,Dt_Pres2,3,0)","v":0},{"$f":"VLOOKUP($A12,Dt_Pres2,6,0)","v":0},null,null,null,null,null,null,null,null,null,null,null,null,null,null,null,null,null,null,null,null,0,null,null,null,null,null,null,null,null,null,null,null,null,null,null,null,null,null,null,null,null,null,null,null,null,null,{"$f":"A12","v":611401},{"$f":"B12","v":"Personal"},{"$f":"ROW()","v":12}]
[null,"1.2. ESTIMULO A ESTUDIANTES",null,null,{"$f":"SUM(E15:E16)","v":0},{"$f":"SUM(F15:F16)","v":0},0,0,0,0,0,0,0,0,0,0,0,0,0,0,0,0,0,0,0,0,0,null,null,null,null,null,null,null,null,null,null,null,null,null,null,null,null,null,null,null,null,null,null,null,null,null,{"$f":"A13","v":0},"1.2. ESTIMULO A ESTUDIANTES",{"$f":"ROW()","v":13}]
[null,"RUBROS",null,"JUSTIFICACIÓN",null,null,null,null,null,null,null,null,null,null,null,null,null,null,null,null,null,null,null,null,null,null,0,null,null,null,null,null,null,null,null,null,null,null,null,null,null,null,null,null,null,null,null,null,null,null,null,null,0,"RUBROS",{"$f":"ROW()","v":14}]
[612122,"Estímulo a estudiantes Pregrado",612122,null,{"$f":"VLOOKUP($A15,Dt_Pres2,3,0)","v":0},{"$f":"VLOOKUP($A15,Dt_Pres2,6,0)","v":0},null,null,null,null,null,null,null,null,null,null,null,null,null,null,null,null,null,null,null,null,0,null,null,null,null,null,null,null,null,null,null,null,null,null,null,null,null,null,null,null,null,null,null,null,null,null,612122,"Estímulo a estudiantes Pregrado",{"$f":"ROW()","v":15}]
[612123,"Estímulo a estudiantes Posgrado",612123,null,{"$f":"VLOOKUP($A16,Dt_Pres2,3,0)","v":0},{"$f":"VLOOKUP($A16,Dt_Pres2,6,0)","v":0},null,null,null,null,null,null,null,null,null,null,null,null,null,null,null,null,null,null,null,null,0,null,null,null,null,null,null,null,null,null,null,null,null,null,null,null,null,null,null,null,null,null,null,null,null,null,612123,"Estímulo a estudiantes Posgrado",{"$f":"ROW()","v":16}]
[null,"1.3. EQUIPOS Y SOFTWARE",null,null,{"$f":"SUM(E19:E23)","v":0},{"$f":"SUM(F19:F22)","v":0},0,0,0,0,0,0,0,0,0,0,0,0,0,0,0,0,0,0,0,0,0,null,null,null,null,null,null,null,null,null,null,null,null,null,null,null,null,null,null,null,null,null,null,null,null,null,0,"1.3. EQUIPOS Y SOFTWARE",{"$f":"ROW()","v":17}]
[null,"RUBROS",null,"JUSTIFICACIÓN",null,null,null,null,null,null,null,null,null,null,null,null,null,null,null,null,null,null,null,null,null,null,0,null,null,null,null,null,null,null,null,null,null,null,null,null,null,null,null,null,null,null,null,null,null,null,null,null,0,"RUBROS",{"$f":"ROW()","v":18}]
[632,"Equipos y Mobiliario (Equipos)",632,null,{"$f":"VLOOKUP($A19,Dt_Pres2,3,0)","v":0},{"$f":"VLOOKUP($A19,Dt_Pres2,6,0)","v":0},null,null,null,null,null,null,null,null,null,null,null,null,null,null,null,null,null,null,null,null,0,null,null,null,null,null,null,null,null,null,null,null,null,null,null,null,null,null,null,null,null,null,null,null,null,null,632,"Equipos y Mobiliario (Equipos)",{"$f":"ROW()","v":19}]
[612102,"Software",612102,null,{"$f":"VLOOKUP($A20,Dt_Pres2,3,0)","v":0},{"$f":"VLOOKUP($A20,Dt_Pres2,6,0)","v":0},null,null,null,null,null,null,null,null,null,null,null,null,null,null,null,null,null,null,null,null,0,null,null,null,null,null,null,null,null,null,null,null,null,null,null,null,null,null,null,null,null,null,null,null,null,null,612102,"Software",{"$f":"ROW()","v":20}]
[612101,"Materiales",612101,null,{"$f":"VLOOKUP($A21,Dt_Pres2,3,0)","v":0},{"$f":"VLOOKUP($A21,Dt_Pres2,6,0)","v":0},null,null,null,null,null,null,null,null,null,null,null,null,null,null,null,null,null,null,null,null,0,null,null,null,null,null,null,null,null,null,null,null,null,null,null,null,null,null,null,null,null,null,null,null,null,null,612101,"Materiales",{"$f":"ROW()","v":21}]
["612101-1","Papelería","612101-1",null,{"$f":"Presupuesto!P56","v":0},{"$f":"_xlfn.IFNA(VLOOKUP($A22,Dt_Pres2,6,0),0)","v":0},null,null,null,null,null,null,null,null,null,null,null,null,null,null,null,null,null,null,null,null,0,null,null,null,null,null,null,null,null,null,null,null,null,null,null,null,null,null,null,null,null,null,null,null,null,null,{"$f":"-BA21","v":-612101},"Papelería",{"$f":"ROW()","v":22}]
[636012,"Licenciamiento","PIC005",null,{"$f":"VLOOKUP($A23,Dt_Pres2,3,0)","v":0},{"$f":"VLOOKUP($A23,Dt_Pres2,6,0)","v":0},null,null,null,null,null,null,null,null,null,null,null,null,null,null,null,null,null,null,null,null,{"$f":"SUM(E23:Z23)","v":0},null,null,null,null,null,null,null,null,null,null,null,null,null,null,null,null,null,null,null,null,null,null,null,null,null,636012,"Licenciamiento",{"$f":"ROW()","v":23}]
[null,"1.4. SALIDAS DE CAMPO Y MOVILIDAD",null,null,{"$f":"SUM(E26)","v":0},{"$f":"SUM(F26)","v":0},{"$f":"SUM(G26)","v":0},{"$f":"SUM(H26)","v":0},0,0,0,0,0,0,0,0,0,0,0,0,0,0,0,0,0,0,0,null,null,null,null,null,null,null,null,null,null,null,null,null,null,null,null,null,null,null,null,null,null,null,null,null,0,"1.4. SALIDAS DE CAMPO Y MOVILIDAD",{"$f":"ROW()","v":24}]
[null,"RUBROS",null,"JUSTIFICACIÓN",null,null,null,null,null,null,null,null,null,null,null,null,null,null,null,null,null,null,null,null,null,null,0,null,null,null,null,null,null,null,null,null,null,null,null,null,null,null,null,null,null,null,null,null,null,null,null,null,0,"RUBROS",{"$f":"ROW()","v":25}]
[612104,"Salidas de campo",612104,null,{"$f":"VLOOKUP($A26,Dt_Pres2,3,0)","v":0},{"$f":"VLOOKUP($A26,Dt_Pres2,6,0)","v":0},null,null,null,null,null,null,null,null,null,null,null,null,null,null,null,null,null,null,null,null,{"$f":"SUM(E26:Z26)","v":0},null,null,null,null,null,null,null,null,null,null,null,null,null,null,null,null,null,null,null,null,null,null,null,null,null,612104,"Salidas de campo",{"$f":"ROW()","v":26}]
[null,"1.5. MATERIALES Y SERVICIOS TÉCNICOS",null,null,{"$f":"SUM(E29)","v":0},{"$f":"SUM(F29)","v":0},0,0,0,0,0,0,0,0,0,0,0,0,0,0,0,0,0,0,0,0,0,null,null,null,null,null,null,null,null,null,null,null,null,null,null,null,null,null,null,null,null,null,null,null,null,null,0,"1.5. MATERIALES Y SERVICIOS TÉCNICOS",{"$f":"ROW()","v":27}]
[null,"RUBROS",null,"JUSTIFICACIÓN",null,null,null,null,null,null,null,null,null,null,null,null,null,null,null,null,null,null,null,null,null,null,0,null,null,null,null,null,null,null,null,null,null,null,null,null,null,null,null,null,null,null,null,null,null,null,null,null,0,"RUBROS",{"$f":"ROW()","v":28}]
[612103,"Servicios Técnicos",612103,null,{"$f":"VLOOKUP($A29,Dt_Pres2,3,0)","v":0},{"$f":"VLOOKUP($A29,Dt_Pres2,6,0)","v":0},null,null,null,null,null,null,null,null,null,null,null,null,null,null,null,null,null,null,null,null,{"$f":"SUM(E29:Z29)","v":0},null,null,null,null,null,null,null,null,null,null,null,null,null,null,null,null,null,null,null,null,null,null,null,null,null,612103,"Servicios Técnicos",{"$f":"ROW()","v":29}]
[null,"1.6. PUBLICACIONES Y DIFUSIÓN DE RESULTADOS",null,null,{"$f":"SUM(E32:E33)","v":0},{"$f":"SUM(F32:F33)","v":0},0,0,0,0,0,0,0,0,0,0,0,0,0,0,0,0,0,0,0,0,0,null,null,null,null,null,null,null,null,null,null,null,null,null,null,null,null,null,null,null,null,null,null,null,null,null,0,"1.6. PUBLICACIONES Y DIFUSIÓN DE RESULTADOS",{"$f":"ROW()","v":30}]
[null,"RUBROS",null,"JUSTIFICACIÓN",null,null,null,null,null,null,null,null,null,null,null,null,null,null,null,null,null,null,null,null,null,null,0,null,null,null,null,null,null,null,null,null,null,null,null,null,null,null,null,null,null,null,null,null,null,null,null,null,0,"RUBROS",{"$f":"ROW()","v":31}]
[633,"Recursos bibliográficos",633,null,{"$f":"VLOOKUP($A32,Dt_Pres2,3,0)","v":0},{"$f":"VLOOKUP($A32,Dt_Pres2,6,0)","v":0},null,null,null,null,null,null,null,null,null,null,null,null,null,null,null,null,null,null,null,null,0,null,null,null,null,null,null,null,null,null,null,null,null,null,null,null,null,null,null,null,null,null,null,null,null,null,633,"Recursos bibliográficos",{"$f":"ROW()","v":32}]
[635020,"Movilidad",635020,null,{"$f":"VLOOKUP($A33,Dt_Pres2,3,0)","v":0},{"$f":"VLOOKUP($A33,Dt_Pres2,6,0)","v":0},null,null,null,null,null,null,null,null,null,null,null,null,null,null,null,null,null,null,null,null,{"$f":"SUM(E33:Z33)","v":0},null,null,null,null,null,null,null,null,null,null,null,null,null,null,null,null,null,null,null,null,null,null,null,null,null,{"$f":"A33","v":635020},"Movilidad",{"$f":"ROW()","v":33}]
[null,"TOTAL",null,{"$f":"$AA$34","v":0},{"$f":"SUM(E10,E13,E17,E24,E27,E30)","v":0},{"$f":"F27+F24+F10+F6+F30+F17","v":0},0,0,0,0,0,0,0,0,0,0,0,0,0,0,0,0,0,0,0,0,{"$f":"SUM(E34:Z34)","v":0},null,null,null,null,null,null,null,null,null,null,null,null,null,null,null,null,null,null,null,null,null,null,null,null,null,0,"TOTAL",{"$f":"ROW()","v":34}]
[null,null,null,null,null,null,null,null,null,null,null,null,null,null,null,null,null,null,null,null,null,null,null,null,null,null,null,null,null,null,null,null,null,null,null,null,null,null,null,null,null,null,null,null,null,null,null,null,null,null,null,null,0,0,{"$f":"ROW()","v":35}]
[]
[]
[]
[]
[]
[]
[]
[]
[]
[]
[]
[]
[{"$f":"COLUMN()","v":1},{"$f":"COLUMN()","v":2},{"$f":"COLUMN()","v":3},{"$f":"COLUMN()","v":4},{"$f":"COLUMN()","v":5},{"$f":"COLUMN()","v":6},{"$f":"COLUMN()","v":7},{"$f":"COLUMN()","v":8},{"$f":"COLUMN()","v":9},{"$f":"COLUMN()","v":10},{"$f":"COLUMN()","v":11},{"$f":"COLUMN()","v":12},{"$f":"COLUMN()","v":13},{"$f":"COLUMN()","v":14},{"$f":"COLUMN()","v":15},{"$f":"COLUMN()","v":16},{"$f":"COLUMN()","v":17},{"$f":"COLUMN()","v":18},{"$f":"COLUMN()","v":19},{"$f":"COLUMN()","v":20},{"$f":"COLUMN()","v":21},{"$f":"COLUMN()","v":22},{"$f":"COLUMN()","v":23},{"$f":"COLUMN()","v":24},{"$f":"COLUMN()","v":25},{"$f":"COLUMN()","v":26},{"$f":"COLUMN()","v":27}]

{"sheet":"\"EXPLICACIÓN RUBROS\"","index":6,"n_rows":13,"n_cols":5,"rows_kept":13,"cut":false,"hidden":true,"merged":[[6,4,6,12],[7,4,7,12],[8,1,8,3],[9,1,9,3],[1,1,1,12],[2,1,3,12],[8,4,8,12],[9,4,9,12],[5,1,5,3],[6,1,6,3],[4,1,4,3],[4,4,4,12],[5,4,5,12],[11,1,11,3],[12,1,12,3],[12,4,12,12],[11,4,11,12],[7,1,7,3],[10,1,10,3],[10,4,10,12]]}
[]
[null,"ANEXO 1"]
[null,"Este archivo esta conformado por nueve pestañas que facilitan el diligenciamiento de las tablas de presupuesto del proyecto tal como se relacionan a continuación:"]
[]
[null,"Nombre de la Pestaña",null,null,"Observaciones"]
[null,"Tabla Presupuesto Global",null,null,"* Esta tabla es equivalente al plan contable de la universidad y se diligencia con base en lo registrado en las demás tablas.\n* Cada columna y fila debe  tener su valor en  pesos colombianos y cualquier inconsistencia en el presupuesto, global o detallado, hará que la propuesta sea devuelta.\n* Si se presenta en la columna Total, texto en color rojo, se debe revisar la tabla respectiva para verificar los valores registrados"]
[null,"Tabla 1.1 - Gastos Personal",null,null,"* Está conformado por los investigadores y/o profesionales que hacen parte del equipo de trabajo para llevar a cabo el desarrollo del proyecto.\n*Se cuantifica la participación de profesores vinculados a la Universidad como Tiempo Completo y Medio Tiempo y del personal de otras entidades.\n* Las celdas en verde claro, despliega una lista con las opciones que pueden seleccionar de acuerdo al nivel de formación y rol en el proyecto.\n*Con recursos del CONADI no se financia el pago de personal dedicado a actividades del proyecto (Auxiliares de invetigación, investigadores, asesores, consultores, etc)"]
[null,"Tabla 1.2 - Equipos:",null,null,"* Corresponde a los equipos que se deben adquirir y utlilizar para el desarrollo del proyecto\n*El valor de los equipos a adquirir debe quedar en la columna de CONADI y los de uso propio donde corresponda bien sea en la columna UCC o como aportes de contrapartida."]
[null,"Tabla 1.3 - Software",null,null,"* Software especializado que se requiera adquirir para el  desarrollo del proyecto, cuya licencia quede en propiedad de la Universidad Cooperativa de Colombia en el caso que sea comprada con fondos del CONADI."]
[null,"Tabla 1.4 - Salidas de Campo",null,null,"* Se refiere a: gastos de medios de transporte para el traslado a zonas de muestreo, ejecución de las labores de campo propias de la investigación, costos de combustible, aceite o alquiler de medios de transporte cuando se requiere."]
[null,"Tabla 1.5- Materiales y Suministros",null,null,"* Corresponde a los insumos de oficina o materias primas requeridos para el desarrollo del proyecto.\n* Las celdas en verde claro, despliega una lista con las opciones que pueden seleccionar de acuerdo al nivel de formación y rol en el proyecto."]
[null,"Tabla 1.6 - Servicios Técnicos",null,null,"* Gastos correspondientes a la prestación de servicios para el desarrollo de tareas puntuales en el proyecto."]
[null,"Tabla 1.7 - Bibliogafía",null,null,"* Corresponde a la adquisición de material bibliográfico como debidamente justificada y directamente relacionada con la temática del proyecto en la forma de libros y/o suscripciones a revistas científicas del tema."]